{"text_format":"1","workbook":"xlsx","n_sheets":20,"sheets":["Contents","Summary","Input C","Input S","Financial Model","Transaction","Acquiror Model","Sensitivity Analysis","Valuation Summary","Audit","BESS-Augm","LCOE","Half Year NPV","UDF Example 1","UDF Example 2","UDF Introduction","UDF Inputs","UDF 3 Output","Check","Sheet1"],"not_rendered":{"charts":4,"images":0,"macros":1,"external_links":0,"defined_names":39,"comments":0,"pivot_tables":0},"unopened":[],"bounds":{"document_bytes":16777216,"sheet_cells":100000,"rows_first":2000,"rows_last":500,"rows_between":2000,"halvings":0,"cell_chars":16384,"cell_head_chars":4096},"cells_cut":0,"cells_raw":0,"read":"whole","date_system":"1900"}

{"sheet":"Contents","index":0,"n_rows":59,"n_cols":13,"rows_kept":59,"cut":false,"hidden":false,"merged":[]}
[]
[]
[null,null,"Contents",null,null," Colour Codes ",null,null,null,null," File Name: ",null,{"$f":"IFERROR(File_name(),\"\")","v":"https://d.docs.live.net/f82d64a42721f930/Documents/Exercise for Class 06.09.2025.xlsm"}]
[null,null,null,null,null,null," Colour of Input Cells ",null,1234567890]
[null,null,"Summary",null,null,null,null,null,null,null," Last Save Date ",null,{"$f":"IFERROR(lastsaved(),\"\")","v":"9/22/2025 6:29:23 PM"}]
[null,null,null,null,null,null," Section Titles ",null,"TITLE ROW"]
[null,null,"Input C",null,null,null,"Column Letter of Title",null,"B",null," Last Save By",null,{"$f":"IFERROR(last_save_by(),\"\")","v":"Edward Bodmer"}]
[null,null,null,"Timeline"]
[null,null,null,"Operations",null,null," Colour for Sum Column ",null,1000000000]
[null,null,null,"Cost & Revenue",null,null," Column Letter for Sum ",null,"A"]
[null,null,null,"Tax and Depreciation"]
[null,null,null,"Financing",null,null," True or 1 Colour ",null,true]
[null,null,null,"Constants",null,null," False or 0 Colour ",null,false]
[]
[null,null,"Input S",null,null,null," Links from Other Sheets ",null,999999999]
[null,null,null,"S-Curve",null,null,"Start Column for Link Colour",null,"E"]
[null,null,null,"Inflation"]
[null,null,null,"Seasonal Variation from Technical Analysis"]
[]
[null,null,"Financial Model"]
[null,null,null,"Timeline"]
[null,null,null,"Electricity Generation"]
[null,null,null,"Operating Cashflow"]
[null,null,null,"Depreciation and Operating Taxes"]
[null,null,null,"Debt Sizing"]
[null,null,null,"Financing"]
[null,null,null,"Solver"]
[null,null,null,"Valuation and Project sale"]
[null,null,null,"Cash Flow Statements"]
[null,null,null,"Financial Statements"]
[null,null,null,"Graphs"]
[]
[null,null,"Sensitivity Analysis"]
[]
[null,null,"Value Chart"]
[]
[null,null,"Audit"]
[]
[null,null,"BESS-Augm"]
[null,null,null,"Inputs"]
[null,null,null,"Model"]
[]
[null,null,"LCOE"]
[null,null,null,"Size of Project"]
[null,null,null,"Returns and Adustment"]
[null,null,null,"Adjustments"]
[null,null,null,"Real LCOE "]
[null,null,null,"Nominal LCOE"]
[]
[null,null,"UDF Example"]
[]
[null,null,"UDF Implement"]
[null,null,null,"UDF Inputs"]
[]
[null,null,"UDF Output"]
[null,null,null,"=UDF_1('UDF Implement'!A6:PO17)"]
[]
[null,null,"UDF 2 Output"]
[null,null,null,"=UDF_2('UDF Implement'!A6:PO17)"]

{"sheet":"Summary","index":1,"n_rows":23,"n_cols":17,"rows_kept":23,"cut":false,"hidden":false,"merged":[]}
["          "]
[]
[null,null,"Capacity","MW",{"$f":"'Financial Model'!F14","v":130},null,null,"Pre-tax Project IRR","%",{"$f":"'Financial Model'!F55","v":9.9255862852367871E-2},null,null,null,"Uses of Funds"]
[null,null,"Capacity Factor","%",{"$f":"E5/8760","v":0.26700913242009133},null,null,"Target Project IRR","%",{"$f":"'Financial Model'!F56","v":0.11},null,null,null,null,"Capital Expenditures",{"$f":"'Financial Model'!H33","v":26000}]
[null,null,"Annual Yield","MWH/MWp",{"$f":"'Input C'!F18","v":2339},null,null,"Income Tax Rate","%",{"$f":"'Input C'!F58","v":0.25},null,null,null,null,"IDC",{"$f":"'Financial Model'!H215","v":0}]
[null,null,null,null,null,null,null,"After-tax Project IRR","%",{"$f":"'Financial Model'!F88","v":8.1327882409095761E-2},null,null,null,null,"Fees",{"$f":"'Financial Model'!H216+'Financial Model'!H217","v":156}]
[null,null,"Capex / KW","Rs. In Lakhs/MW",{"$f":"'Financial Model'!F28","v":400},null,null,"Debt IRR","%",{"$f":"'Financial Model'!F206","v":8.086893856525422E-2},null,null,null,null,"Total",{"$f":"SUM(P4:P6)","v":26156}]
[null,null,"O&M / kW","Rs. in Lakhs/Mwy",{"$f":"'Input C'!F32","v":4},null,null,"Equity IRR","%",{"$f":"'Financial Model'!F267","v":0.1194887101650238}]
[null,null,null,null,null,null,null,null,null,null,null,null,null,"Sources of Funds"]
[null,null,"PPA Price","Rs. In Lakhs/MWh",{"$f":"'Input C'!F43","v":1.0529680119726969E-2},null,null,"Minimum DSCR","x",{"$f":"'Financial Model'!F211","v":1.2079633683658757},null,null,null,null,"Debt",{"$f":"'Financial Model'!H183","v":19500},{"$f":"P10/$P$7","v":0.74552683896620275}]
[null,null,"Inflate PPA Price","Flag",{"$f":"'Input C'!F46","v":true},null,null,"Maximum Debt to Capital","%",{"$f":"'Financial Model'!F112","v":0.75},null,null,null,null,"Equity",{"$f":"'Financial Model'!H184","v":6500},{"$f":"P11/$P$7","v":0.2485089463220676}]
[null,null,null,null,null,null,null,null,null,null,null,null,null,null,"Total",{"$f":"SUM(P10:P11)","v":26000},{"$f":"SUM(Q10:Q11)","v":0.99403578528827041}]
[null,null,"Capex / KW","USD/kW",{"$f":"'Input C'!F30","v":465.11627906976747}]
[null,null,"O&M / kWy","USD/kWy",{"$f":"'Input C'!F34","v":4.6511627906976747},null,null,null,null,null,null,null,null,null,{"$f":"'Financial Model'!F131","v":"Debt to Capital Constraint"}]
[]
[null,null,"Inflation Rate","% p.a.",{"$f":"'Input S'!E30","v":5.0000000000000044E-2},null,null,null,null,null,null,null,null,null,{"$f":"Audit!J12","v":" S-Curve Check       "}]
[null,null,"Degradation","% p.a.",{"$f":"'Input C'!F24","v":5.0000000000000001E-3}]
[null,null,"Availability","%",{"$f":"'Input C'!F23","v":0.95}]
[]
[null,null,"LCOE - Nominal","Rs. In Lakhs/MWh",{"$f":"LCOE!E4","v":3.1467256342529101E-2}]
[null,null,"LCOE - Real","Rs. In Lakhs/MWh",{"$f":"LCOE!E47","v":2.0381910654381691E-2}]
[]
[null,null,"PPA Inflate","Flag"]

{"sheet":"Input C","index":2,"n_rows":167,"n_cols":19,"rows_kept":167,"cut":false,"hidden":false,"merged":[]}
["          ",null,null,"Scenerio Number",1,null,null,1,2,3,4,5,6,7,8,9,10,11,12]
[null,null,null,null,null,{"$f":"INDEX(H2:AS2,E1)","v":"Base Case Annual"},null,"Base Case Annual","Longer Life","Improved Perfromance Ratio","Improved Availability/ Degradation","Reduced O&M","Higher Cost","Higher O&M","Worse Availability","Shorter Life","P90","P99","Monthly"]
[null,"Timeline"]
[]
[null,null,"Project Start",null,"Date",{"$f":"INDEX(H5:BY5,$E$1)","v":"2026-01-01"},null,"2026-01-01","2026-01-01","2026-01-01","2026-01-01","2026-01-01","2026-01-01","2026-01-01","2026-01-01","2026-01-01","2026-01-01","2026-01-01","2026-01-01"]
[null,null,"Construction Period",null,"Months",{"$f":"INDEX(H6:BY6,$E$1)","v":12},null,12,12,12,12,12,12,12,12,12,12,12,12]
[null,null,"Commercial Operation Date",null,"Date",{"$f":"INDEX(H7:BY7,$E$1)","v":"2027-01-01"},null,{"$f":"EDATE(H5,H6)","v":"2027-01-01"},{"$f":"EDATE(I5,I6)","v":"2027-01-01"},{"$f":"EDATE(J5,J6)","v":"2027-01-01"},"2027-01-01","2027-01-01",{"$f":"EDATE(M5,M6)","v":"2027-01-01"},{"$f":"EDATE(N5,N6)","v":"2027-01-01"},{"$f":"EDATE(O5,O6)","v":"2027-01-01"},{"$f":"EDATE(P5,P6)","v":"2027-01-01"},"2027-01-01","2027-01-01",{"$f":"EDATE(S5,S6)","v":"2027-01-01"}]
[null,null,"Operating Period",null,"Years",{"$f":"INDEX(H8:BY8,$E$1)","v":25},null,25,35,35,35,35,35,35,25,25,25,25,35]
[null,null,"End of the Life",null,"Date",{"$f":"INDEX(H9:BY9,$E$1)","v":"2052-01-01"},null,{"$f":"EDATE(H7,H8*12)","v":"2052-01-01"},{"$f":"EDATE(I7,I8*12)","v":"2062-01-01"},{"$f":"EDATE(J7,J8*12)","v":"2062-01-01"},"2062-01-01","2062-01-01",{"$f":"EDATE(M7,M8*12)","v":"2062-01-01"},{"$f":"EDATE(N7,N8*12)","v":"2062-01-01"},{"$f":"EDATE(O7,O8*12)","v":"2052-01-01"},{"$f":"EDATE(P7,P8*12)","v":"2052-01-01"},"2052-01-01","2052-01-01",{"$f":"EDATE(S7,S8*12)","v":"2062-01-01"}]
[null,null,"Months in Column - Pre COD",null,"Months",{"$f":"INDEX(H10:BY10,$E$1)","v":12},null,12,12,12,12,12,12,12,12,12,12,12,12]
[null,null,"Months in Column - Post COD",null,"Months",{"$f":"INDEX(H11:BY11,$E$1)","v":12},null,12,12,12,12,12,12,12,12,12,12,12,12]
[]
[null,"Operations"]
[]
[null,null,"Capacity",null,"MWp",{"$f":"INDEX(H15:BY15,$E$1)","v":130},null,{"$f":"H17*H16","v":130},{"$f":"I17*I16","v":130},{"$f":"J17*J16","v":130},130,130,130,130,130,{"$f":"P17*P16","v":130},{"$f":"Q17*Q16","v":130},{"$f":"R17*R16","v":130},130]
[null,null,"AC:DC Ratio",null,"Factor",{"$f":"INDEX(H16:BY16,$E$1)","v":1.3},null,1.3,1.3,1.3,1.3,1.3,1.3,1.3,1.3,1.3,1.3,1.3,1.3]
[null,null,"Capacity",null,"Mwac",{"$f":"INDEX(H17:BY17,$E$1)","v":100},null,100,100,100,100,100,100,100,100,100,100,100,100]
[null,null,"In Plain Radiation Annual",null,"MWh/MWp",{"$f":"INDEX(H18:BY18,$E$1)","v":2339},null,2339,2339,2339,2339,2339,2339,2339,2339,2339,2100,2000,2000]
[null,null,"Performance Ratio",null,"%",{"$f":"INDEX(H19:BY19,$E$1)","v":0.8},null,0.8,0.8,0.82,0.82,0.82,0.8,0.8,0.8,0.8,0.76,0.7,0.7]
[null,null,"Actutal Radiation",null,"MWh/MWp",{"$f":"INDEX(H20:BY20,$E$1)","v":1871.2},null,{"$f":"H18*H19","v":1871.2},{"$f":"I18*I19","v":1871.2},{"$f":"J18*J19","v":1917.9799999999998},1917.9799999999998,1917.9799999999998,1871.2,1871.2,1871.2,{"$f":"P18*P19","v":1871.2},{"$f":"Q18*Q19","v":1596},{"$f":"R18*R19","v":1400},1400]
[null,null,"Capacity Factor DC",null,"%",{"$f":"INDEX(H21:BY21,$E$1)","v":0.21360730593607308},null,{"$f":"H20/8760","v":0.21360730593607308},{"$f":"I20/8760","v":0.21360730593607308},{"$f":"J20/8760","v":0.21894748858447485},0.21894748858447485,0.21894748858447485,0.21360730593607308,0.21360730593607308,0.21360730593607308,{"$f":"P20/8760","v":0.21360730593607308},{"$f":"Q20/8760","v":0.18219178082191781},{"$f":"R20/8760","v":0.15981735159817351},0.15981735159817351]
[null,null,"Capacity Factor AC",null,"%",{"$f":"INDEX(H22:BY22,$E$1)","v":0.277689497716895},null,{"$f":"H21*H16","v":0.277689497716895},{"$f":"I21*I16","v":0.277689497716895},{"$f":"J21*J16","v":0.28463173515981732},0.28463173515981732,0.28463173515981732,0.277689497716895,0.277689497716895,0.277689497716895,{"$f":"P21*P16","v":0.277689497716895},{"$f":"Q21*Q16","v":0.23684931506849316},{"$f":"R21*R16","v":0.20776255707762556},0.20776255707762556]
[null,null,"Availability",null,"%",{"$f":"INDEX(H23:BY23,$E$1)","v":0.95},null,0.95,0.95,0.95,0.97,0.95,0.97,0.97,0.95,0.97,0.97,0.97,0.97]
[null,null,"Degradation",null,"%",{"$f":"INDEX(H24:BY24,$E$1)","v":5.0000000000000001E-3},null,5.0000000000000001E-3,5.0000000000000001E-3,5.0000000000000001E-3,4.0000000000000001E-3,5.0000000000000001E-3,5.0000000000000001E-3,5.0000000000000001E-3,5.0000000000000001E-3,5.0000000000000001E-3,5.0000000000000001E-3,5.0000000000000001E-3,5.0000000000000001E-3]
[]
[null,"Cost & Revenue"]
[]
[null,null,"Capex per MW",null,"Rs. In Lakhs/MW",{"$f":"INDEX(H28:BY28,$E$1)","v":400},null,400,400,400,400,400,400,400,400,400,400,400,400]
[null,null,"Exchange rate",null,"USD/INR",{"$f":"INDEX(H29:BY29,$E$1)","v":86},null,86,86,86,86,86,86,86,86,86,86,86,86]
[null,null,"Capex per MW",null,"USD/KW",{"$f":"INDEX(H30:BY30,$E$1)","v":465.11627906976747},null,{"$f":"H28/H29/10*1000","v":465.11627906976747},{"$f":"I28/I29/10*1000","v":465.11627906976747},{"$f":"J28/J29/10*1000","v":465.11627906976747},465.11627906976747,465.11627906976747,{"$f":"M28/M29/10*1000","v":465.11627906976747},465.11627906976747,465.11627906976747,465.11627906976747,465.11627906976747,465.11627906976747,465.11627906976747]
[]
[null,null,"Annual O&M",null,"Rs. in Lakhs/Mwy",{"$f":"INDEX(H32:BY32,$E$1)","v":4},null,4,4,4,4,3.5,3,4,4,4,4,4,3]
[null,null,"Exchange Rate",null,"USD/INR",{"$f":"INDEX(H33:BY33,$E$1)","v":86},null,{"$f":"H29","v":86},{"$f":"I29","v":86},{"$f":"J29","v":86},86,86,{"$f":"M29","v":86},86,86,86,86,86,86]
[null,null,"O&M",null,"USD/KW",{"$f":"INDEX(H34:BY34,$E$1)","v":4.6511627906976747},null,{"$f":"H32/H33/10*1000","v":4.6511627906976747},{"$f":"I32/I33/10*1000","v":4.6511627906976747},{"$f":"J32/J33/10*1000","v":4.6511627906976747},4.6511627906976747,4.0697674418604652,{"$f":"M32/M33/10*1000","v":3.4883720930232558},4.6511627906976747,4.6511627906976747,4.6511627906976747,4.6511627906976747,4.6511627906976747,3.4883720930232558]
[]
[null,null,"S-Curve Code",null,"Code",{"$f":"INDEX(H36:BY36,$E$1)","v":6},null,6,6,6,6,6,5,5,5,5,5,5,5]
[null,null,"S-Curve Description",null,"Description",{"$f":"INDEX(H37:BY37,$E$1)","v":"Two Yr Annual"},null,{"$f":"INDEX('Input S'!$C$7:$C$12,'Input C'!H36)","v":"Two Yr Annual"},{"$f":"INDEX('Input S'!$C$7:$C$12,'Input C'!I36)","v":"Two Yr Annual"},{"$f":"INDEX('Input S'!$C$7:$C$12,'Input C'!J36)","v":"Two Yr Annual"},{"$f":"INDEX('Input S'!$C$7:$C$12,'Input C'!K36)","v":"Two Yr Annual"},{"$f":"INDEX('Input S'!$C$7:$C$12,'Input C'!L36)","v":"Two Yr Annual"},{"$f":"INDEX('Input S'!$C$7:$C$12,'Input C'!M36)","v":"Annual"},{"$f":"INDEX('Input S'!$C$7:$C$12,'Input C'!N36)","v":"Annual"},{"$f":"INDEX('Input S'!$C$7:$C$12,'Input C'!O36)","v":"Annual"},{"$f":"INDEX('Input S'!$C$7:$C$12,'Input C'!P36)","v":"Annual"},{"$f":"INDEX('Input S'!$C$7:$C$12,'Input C'!Q36)","v":"Annual"},{"$f":"INDEX('Input S'!$C$7:$C$12,'Input C'!R36)","v":"Annual"},{"$f":"INDEX('Input S'!$C$7:$C$12,'Input C'!S36)","v":"Annual"}]
[]
[null,null,"Inflation Rate Code",null,"Code",{"$f":"INDEX(H39:BY39,$E$1)","v":3},null,3,3,3,3,3,3,3,3,3,3,3,3]
[null,null,"Inflation Rate Description",null,"Description",{"$f":"INDEX(H40:BY40,$E$1)","v":"Flat Inflation"},null,{"$f":"INDEX('Input S'!$C$22:$C$25,'Input C'!H39)","v":"Flat Inflation"},{"$f":"INDEX('Input S'!$C$22:$C$25,'Input C'!I39)","v":"Flat Inflation"},{"$f":"INDEX('Input S'!$C$22:$C$25,'Input C'!J39)","v":"Flat Inflation"},{"$f":"INDEX('Input S'!$C$22:$C$25,'Input C'!K39)","v":"Flat Inflation"},{"$f":"INDEX('Input S'!$C$22:$C$25,'Input C'!L39)","v":"Flat Inflation"},{"$f":"INDEX('Input S'!$C$22:$C$25,'Input C'!M39)","v":"Flat Inflation"},{"$f":"INDEX('Input S'!$C$22:$C$25,'Input C'!N39)","v":"Flat Inflation"},{"$f":"INDEX('Input S'!$C$22:$C$25,'Input C'!O39)","v":"Flat Inflation"},{"$f":"INDEX('Input S'!$C$22:$C$25,'Input C'!P39)","v":"Flat Inflation"},{"$f":"INDEX('Input S'!$C$22:$C$25,'Input C'!Q39)","v":"Flat Inflation"},{"$f":"INDEX('Input S'!$C$22:$C$25,'Input C'!R39)","v":"Flat Inflation"},{"$f":"INDEX('Input S'!$C$22:$C$25,'Input C'!S39)","v":"Flat Inflation"}]
[]
[null,null,"Base PPA Price",null,"Rs. In Lakhs/MWh"]
[null,null,"PPA Price",null,"Rs. In Lakhs/MWh",{"$f":"INDEX(H43:BY43,$E$1)","v":1.0529680119726969E-2},null,1.0529680119726969E-2,{"$f":"Price2","v":1.0529680119726969E-2},1.0529680119726969E-2,1.0529680119726969E-2,1.0529680119726969E-2,1.0529680119726969E-2,1.0529680119726969E-2,1.0529680119726969E-2,1.0529680119726969E-2,1.0529680119726969E-2,1.0529680119726969E-2,1.0529680119726969E-2]
[null,null,"Exchange Rate",null,"USD/INR",{"$f":"INDEX(H44:BY44,$E$1)","v":86},null,{"$f":"H33","v":86},{"$f":"I33","v":86},{"$f":"J33","v":86},86,86,{"$f":"M33","v":86},86,86,86,86,86,86]
[null,null,"PPA Price",null,"USD/MWH",{"$f":"INDEX(H45:BY45,$E$1)","v":0.03},null,0.03,0.03,0.03,0.03,0.03,0.03,0.03,0.03,0.03,0.03,0.03,0.03]
[null,null,"Inflate PPA",null,"Flag",{"$f":"INDEX(H46:BY46,$E$1)","v":true},null,true,true,true,true,true,{"$f":"H46","v":true},{"$f":"M46","v":true},true,true,true,true,true]
[null,null,"Flag for Goal Seek",null,"Flag",{"$f":"INDEX(H47:BY47,$E$1)","v":true},null,true,{"$f":"H47","v":true},true,true,true,true,true,true,true,true,true,true]
[]
[null,null,"Target Pre-tax IRR for PPA",null,"% p.a.",{"$f":"INDEX(H49:XFD49,$E$1)","v":0.11},null,0.11,0.11,0.11,0.11,0.11,0.11,0.11,0.11,0.11,0.11,0.11,0.11]
[null,null,"Target Equity IRR for PPA",null,"% p.a.",{"$f":"INDEX(H50:XFD50,$E$1)","v":0.11},null,0.11,0.11,0.11,0.11,0.11,0.11,0.11,0.11,0.11,0.11,0.11,0.11]
[null,null,"Target Equity IRR for Holding Period",null,"% p.a.",{"$f":"INDEX(H51:XFD51,$E$1)","v":0.14000000000000001},null,0.14000000000000001,0.14000000000000001,0.14000000000000001,0.14000000000000001,0.14000000000000001,0.14000000000000001,0.14000000000000001,0.14000000000000001,0.14000000000000001,0.14000000000000001,0.14000000000000001,0.14000000000000001]
[null,null,"Apply Equity IRR",null,"Flag",{"$f":"INDEX(H52:XFD52,$E$1)","v":true},null,true,true,true,true,true,true,true,true,true,true,true,true]
[]
[null,"Tax and Depreciation"]
[]
[null,null,"Tax Life for Depreciation",null,"Years",{"$f":"INDEX(H56:BY56,$E$1)","v":25},null,25,25,25,25,25,25,25,25,25,25,25,25]
[]
[null,null,"Income Tax Rate",null,"%",{"$f":"INDEX(H58:BY58,$E$1)","v":0.25},null,0.25,0.25,0.25,0.25,0.25,0.25,0.25,0.25,0.25,0.25,0.25,0.25]
[null,null,"Maximum Carry Forward Year",null,"Years",{"$f":"INDEX(H59:BY59,$E$1)","v":8},null,8,8,8,8,8,8,8,8,8,8,8,8]
[]
[null,"Financing"]
[]
[null,null,"Maximum Debt to Capital",null,"%",{"$f":"INDEX(H63:BY63,$E$1)","v":0.75},null,0.75,0.75,0.75,0.75,0.75,0.75,0.75,0.75,0.75,0.75,0.75,0.75]
[null,null,"Minimum DSCR",null,"x",{"$f":"INDEX(H64:BY64,$E$1)","v":1.2},null,1.2,1.2,1.2,1.2,1.2,1.2,1.2,1.2,1.2,1.2,1.2,1.2]
[null,null,"P90 Standard Deviation",null,"% of P50",{"$f":"INDEX(H65:BY65,$E$1)","v":0.08},null,0.08,0.08,0.08,0.08,0.08,0.08,0.08,0.08,0.08,0.08,0.08,0.08]
[null,null,"P90 Factor",null,"%",{"$f":"INDEX(H66:BY66,$E$1)","v":0.1},null,0.1,0.1,0.1,0.1,0.1,0.1,0.1,0.1,0.1,0.1,0.1,0.1]
[]
[null,null,"Debt Tenure",null,"Years",{"$f":"INDEX(H68:BY68,$E$1)","v":20},null,20,20,20,20,20,20,20,20,20,20,20,20]
[]
[null,null,"Interest Rate",null,"% p.a.",{"$f":"INDEX(H70:BY70,$E$1)","v":0.08},null,{"$f":"H71+H72","v":0.08},{"$f":"I71+I72","v":0.08},{"$f":"J71+J72","v":0.08},0.08,0.08,{"$f":"M71+M72","v":0.08},0.08,0.08,0.08,0.08,0.08,0.08]
[null,null,"REPO Interest",null,"% p.a.",{"$f":"INDEX(H71:BY71,$E$1)","v":5.5E-2},null,5.5E-2,5.5E-2,5.5E-2,5.5E-2,5.5E-2,5.5E-2,5.5E-2,5.5E-2,5.5E-2,5.5E-2,5.5E-2,5.5E-2]
[null,null,"Margin",null,"% p.a.",{"$f":"INDEX(H72:BY72,$E$1)","v":2.5000000000000001E-2},null,2.5000000000000001E-2,2.5000000000000001E-2,2.5000000000000001E-2,2.5000000000000001E-2,2.5000000000000001E-2,2.5000000000000001E-2,2.5000000000000001E-2,2.5000000000000001E-2,2.5000000000000001E-2,2.5000000000000001E-2,2.5000000000000001E-2,2.5000000000000001E-2]
[]
[null,null,"Pro-Forma Funding",null,"Flag",{"$f":"INDEX(H74:BY74,$E$1)","v":true},null,true,true,true,true,true,true,true,true,true,true,true,true]
[null,null,"Equity Up-Front",null,"Flag",{"$f":"INDEX(H75:BY75,$E$1)","v":false},null,{"$f":"NOT(H74)","v":false},{"$f":"NOT(I74)","v":false},{"$f":"NOT(J74)","v":false},false,false,{"$f":"NOT(M74)","v":false},false,false,false,false,false,false]
[]
[null,null,"Up-front Fee",null,"%",{"$f":"INDEX(H77:BY77,$E$1)","v":5.0000000000000001E-3},null,5.0000000000000001E-3,5.0000000000000001E-3,5.0000000000000001E-3,5.0000000000000001E-3,5.0000000000000001E-3,5.0000000000000001E-3,5.0000000000000001E-3,5.0000000000000001E-3,5.0000000000000001E-3,5.0000000000000001E-3,5.0000000000000001E-3,5.0000000000000001E-3]
[null,null,"Commitment Fee",null,"% p.a.",{"$f":"INDEX(H78:BY78,$E$1)","v":3.0000000000000001E-3},null,3.0000000000000001E-3,3.0000000000000001E-3,3.0000000000000001E-3,3.0000000000000001E-3,3.0000000000000001E-3,3.0000000000000001E-3,3.0000000000000001E-3,3.0000000000000001E-3,3.0000000000000001E-3,3.0000000000000001E-3,3.0000000000000001E-3,3.0000000000000001E-3]
[]
[null,null,"Flag for Applying UDF",null,"Flag",{"$f":"INDEX(H80:BY80,$E$1)","v":true},null,true,true,true,true,true,true,true,true,true,true,true,true]
[]
[null,"Valuation and Re-Financing"]
[]
[null,null,"Holding period from COD",null,"Years",{"$f":"INDEX(H84:BY84,$E$1)","v":4},null,4,3,3,3,3,3,3,3,3,3,3,3]
[null,null,"Transaction Date",null,"Date",{"$f":"INDEX(H85:BY85,$E$1)","v":"2030-12-31"},null,{"$f":"EDATE(H7,H84*Months)-1","v":"2030-12-31"},"2029-12-31","2029-12-31","2029-12-31","2029-12-31","2029-12-31","2029-12-31","2029-12-31","2029-12-31","2029-12-31","2029-12-31","2029-12-31"]
[]
[null,null,"Buyer's Target Pre-tax Project IRR",null,"%",{"$f":"INDEX(H87:BY87,$E$1)","v":0.1},null,0.1,0.1,0.1,0.1,0.1,0.1,0.1,0.1,0.1,0.1,0.1,0.1]
[null,null,"Buyer's Target After-tax Project IRR",null,"%",{"$f":"INDEX(H88:BY88,$E$1)","v":0.08},null,0.08,0.08,0.08,0.08,0.08,0.08,0.08,0.08,0.08,0.08,0.08,0.08]
[null,null,"Buyer's Target Equity IRR",null,"%",{"$f":"INDEX(H89:BY89,$E$1)","v":0.11},null,0.11,0.11,0.11,0.11,0.11,0.11,0.11,0.11,0.11,0.11,0.11,0.11]
[]
[null,null,"Flag for Valuation with Project IRR",null,"Flag",{"$f":"INDEX(H91:BY91,$E$1)","v":true},null,true,true,true,true,true,true,true,true,true,true,true,true]
[null,null,"Flag for Taxable Transaction",null,"Flag",{"$f":"INDEX(H92:BY92,$E$1)","v":false},null,false,false,false,false,false,false,false,false,false,false,false,false]
[]
[null,null,"Flag for Re-finance Existing Debt",null,"Flag",{"$f":"INDEX(H94:BY94,$E$1)","v":true},null,true,true,true,true,true,true,true,true,true,true,true,true]
[null,null,"Flag for New Debt Financing",null,"Flag",{"$f":"INDEX(H95:BY95,$E$1)","v":false},null,false,false,false,false,false,false,false,false,false,false,false,false]
[]
[null,null,"Target Company Fees as % of EV",null,"%",{"$f":"INDEX(H97:BY97,$E$1)","v":0},null,0,7.4999999999999997E-3,7.4999999999999997E-3,7.4999999999999997E-3,7.4999999999999997E-3,7.4999999999999997E-3,7.4999999999999997E-3,7.4999999999999997E-3,7.4999999999999997E-3,7.4999999999999997E-3,7.4999999999999997E-3,7.4999999999999997E-3]
[]
[null,null,"Target DSCR on New Debt",null,"x",{"$f":"INDEX(H99:BY99,$E$1)","v":1.2},null,1.2,1.2,1.2,1.2,1.2,1.2,1.2,1.2,1.2,1.2,1.2,1.2]
[null,null,"Remaining Life on Project",null,"Years",{"$f":"INDEX(H100:BY100,$E$1)","v":21},null,{"$f":"H8-H84","v":21},{"$f":"I8-I84","v":32},32,32,32,32,32,22,22,22,22,32]
[null,null,"Tail on Debt for Re-financing",null,"Years",{"$f":"INDEX(H101:BY101,$E$1)","v":3},null,3,7,7,7,7,3,3,3,3,3,3,3]
[null,null,"Remaining Life on New Debt",null,"Years",{"$f":"INDEX(H102:BY102,$E$1)","v":18},null,{"$f":"H100-H101","v":18},{"$f":"I100-I101","v":25},25,25,25,29,29,19,19,19,19,29]
[null,null,"Interest Rate on New Debt",null,"% p.a.",{"$f":"INDEX(H103:BY103,$E$1)","v":7.2499999999999995E-2},null,7.2499999999999995E-2,7.2499999999999995E-2,7.2499999999999995E-2,7.2499999999999995E-2,7.2499999999999995E-2,7.2499999999999995E-2,7.2499999999999995E-2,7.2499999999999995E-2,7.2499999999999995E-2,7.2499999999999995E-2,7.2499999999999995E-2,7.2499999999999995E-2]
[]
[null,"Constants"]
[null,null,"Months in a Year",null,null,12,"Months"]
[null,null,"Hours in a Day",null,null,24,"Hours"]
[null,null,"one",null,null,1,"one"]
[]
[]
[]
[]
[]
[]
[]
[]
[]
[]
[]
[]
[]
[]
[]
[]
[]
[]
[]
[]
[]
[]
[]
[]
[]
[]
[]
[]
[]
[]
[]
[]
[]
[]
[]
[]
[]
[]
[]
[]
[]
[]
[null,null,null,null,null,null,{"$f":"TRANSPOSE(H2:S2)","v":"Base Case Annual"}]
[null,null,null,null,null,null,"Longer Life"]
[null,null,null,null,null,null,"Improved Perfromance Ratio"]
[null,null,null,null,null,null,"Improved Availability/ Degradation"]
[null,null,null,null,null,null,"Reduced O&M"]
[null,null,null,null,null,null,"Higher Cost"]
[null,null,null,null,null,null,"Higher O&M"]
[null,null,null,null,null,null,"Worse Availability"]
[null,null,null,null,null,null,"Shorter Life"]
[null,null,null,null,null,null,"P90"]
[null,null,null,null,null,null,"P99"]
[null,null,null,null,null,null,"Monthly"]
[null,null,null,null,null,null,{"$error":"#N/A"}]
[null,null,null,null,null,null,{"$error":"#N/A"}]
[null,null,null,null,null,null,{"$error":"#N/A"}]
[null,null,null,null,null,null,{"$error":"#N/A"}]
[null,null,null,null,null,null,{"$error":"#N/A"}]

{"sheet":"Input S","index":3,"n_rows":73,"n_cols":545,"rows_kept":73,"cut":false,"hidden":false,"merged":[]}
["          "]
[null,"S-Curve"]
[null,null,"Code Number",null,{"$f":"'Input C'!F36","v":6}]
[]
[null,null,"Month",null,null,1,2,3,4,5,6,7,8,9,10,11,12,13,14,15,16,17,18,19,20]
[]
[null,null,"Flat case",null,1,{"$f":"1/12","v":8.3333333333333329E-2},{"$f":"1/12","v":8.3333333333333329E-2},8.3333333333333329E-2,8.3333333333333329E-2,8.3333333333333329E-2,8.3333333333333329E-2,8.3333333333333329E-2,8.3333333333333329E-2,8.3333333333333329E-2,8.3333333333333329E-2,8.3333333333333329E-2,8.3333333333333329E-2]
[null,null,"Beginning",null,2,0.3,0.2,0.1,0.05,0.35,0,null,null,null,null,null,0]
[null,null,"Ending",null,3,0.3,null,null,null,null,null,0.2,null,null,null,null,0.5]
[null,null,"Two Year",null,4,{"$f":"1/24","v":4.1666666666666664E-2},{"$f":"1/24","v":4.1666666666666664E-2},4.1666666666666664E-2,4.1666666666666664E-2,4.1666666666666664E-2,4.1666666666666664E-2,4.1666666666666664E-2,4.1666666666666664E-2,4.1666666666666664E-2,4.1666666666666664E-2,4.1666666666666664E-2,4.1666666666666664E-2]
[null,null,"Annual",null,5,1]
[null,null,"Two Yr Annual",null,6,0.5,0.5]
[]
[null,null,{"$f":"INDEX(C7:C11,$E$3)","v":{"$error":"#REF!"}},null,null,{"$f":"INDEX(F7:F13,$E$3)","v":0.5},{"$f":"INDEX(G7:G13,$E$3)","v":0.5},{"$f":"INDEX(H7:H13,$E$3)","v":0},{"$f":"INDEX(I7:I13,$E$3)","v":0},{"$f":"INDEX(J7:J13,$E$3)","v":0},{"$f":"INDEX(K7:K13,$E$3)","v":0},{"$f":"INDEX(L7:L13,$E$3)","v":0},{"$f":"INDEX(M7:M13,$E$3)","v":0},{"$f":"INDEX(N7:N13,$E$3)","v":0},{"$f":"INDEX(O7:O13,$E$3)","v":0},{"$f":"INDEX(P7:P13,$E$3)","v":0},{"$f":"INDEX(Q7:Q13,$E$3)","v":0}]
[]
[]
[null,"Inflation"]
[null,null,"Code Number",null,{"$f":"'Input C'!H39","v":3}]
[]
[null,null,"Year",null,null,2025,2026,2027,2028,2029,2030,2031,2032,2033,2034,2035]
[]
[null,null,"Base Case",null,null,0.05,4.4999999999999998E-2,0.04,0.04,0.04,0.04,0.04,0.04,0.04,0.04,0.04]
[null,null,"High Inflation",null,null,0.05,5.5E-2,0.06,0.06,0.06,0.06,0.06,0.06,0.06,0.06,0.06]
[null,null,"Flat Inflation",null,null,0.05,0.05,0.05,0.05,0.05,0.05,0.05,0.05,0.05,0.05,0.05]
[null,null,"Zero Inflation",null,null,0,0,0,0,0,0,0,0,0,0,0]
[]
[null,null,{"$f":"INDEX(C22:C26,$E$18)","v":"Flat Inflation"},null,null,{"$f":"INDEX(F22:F26,$E$18)","v":0.05},{"$f":"INDEX(G22:G26,$E$18)","v":0.05},{"$f":"INDEX(H22:H26,$E$18)","v":0.05},{"$f":"INDEX(I22:I26,$E$18)","v":0.05},{"$f":"INDEX(J22:J26,$E$18)","v":0.05},{"$f":"INDEX(K22:K26,$E$18)","v":0.05},{"$f":"INDEX(L22:L26,$E$18)","v":0.05},{"$f":"INDEX(M22:M26,$E$18)","v":0.05},{"$f":"INDEX(N22:N26,$E$18)","v":0.05},{"$f":"INDEX(O22:O26,$E$18)","v":0.05},{"$f":"INDEX(P22:P26,$E$18)","v":0.05}]
[]
[null,null,"Inflation Index",null,1,{"$f":"E29*(1+F27)","v":1.05},{"$f":"F29*(1+G27)","v":1.1025},1.1576250000000001,1.2155062500000002,1.2762815625000004,1.3400956406250004,1.4071004226562505,1.477455443789063,1.5513282159785162,1.628894626777442,1.7103393581163142]
[null,null,"Annual Growth",null,{"$f":"(P29/E29)^(1/11)-1","v":5.0000000000000044E-2}]
[]
[null,"Seasonal Variation from Technical Analysis"]
[]
[null,null,null,null,null,null,null,null,null,{"$f":"'Financial Model'!K4","v":1},2,3,4,5,6,7,8,9,10,11,12,13,14,15,16,17,18,19,20,21,22,23,24,25,26,27,28,29,30,31,32,33,34,35,36,37,38,39,40,41,42,43,44,45,46,47,48,49,50,51,52,53,54,55,56,57,58,59,60,61,62,63,64,65,66,67,68,69,70,71,72,73,74,75,76,77,78,79,80,81,82,83,84,85,86,87,88,89,90,91,92,93,94,95,96,97,98,99,100,101,102,103,104,105,106,107,108,109,110,111,112,113,114,115,116,117,118,119,120,121,122,123,124,125,126,127,128,129,130,131,132,133,134,135,136,137,138,139,140,141,142,143,144,145,146,147,148,149,150,151,152,153,154,155,156,157,158,159,160,161,162,163,164,165,166,167,168,169,170,171,172,173,174,175,176,177,178,179,180,181,182,183,184,185,186,187,188,189,190,191,192,193,194,195,196,197,198,199,200,201,202,203,204,205,206,207,208,209,210,211,212,213,214,215,216,217,218,219,220,221,222,223,224,225,226,227,228,229,230,231,232,233,234,235,236,237,238,239,240,241,242,243,244,245,246,247,248,249,250,251,252,253,254,255,256,257,258,259,260,261,262,263,264,265,266,267,268,269,270,271,272,273,274,275,276,277,278,279,280,281,282,283,284,285,286,287,288,289,290,291,292,293,294,295,296,297,298,299,300,301,302,303,304,305,306,307,308,309,310,311,312,313,314,315,316,317,318,319,320,321,322,323,324,325,326,327,328,329,330,331,332,333,334,335,336,337,338,339,340,341,342,343,344,345,346,347,348,349,350,351,352,353,354,355,356,357,358,359,360,361,362,363,364,365,366,367,368,369,370,371,372,373,374,375,376,377,378,379,380,381,382,383,384,385,386,387,388,389,390,391,392,393,394,395,396,397,398,399,400,401,402,403,404,405,406,407,408,409,410,411,412,413,414,415,416,417,418,419,420,421,422,423,423,423,423,423,423,423,423,423,423,423,423,423,423,423,423,423,423,423,423,423,423,423,423,423,423,423,423,423,423,423,423,423,423,423,423,423,423,423,423,423,423,423,423,423,423,423,423,423,423,423,423,423,423,423,423,423,423,423,423,423,423,423,423,423,423,423,423,423,423,423,423,423,423,423,423,423,423,423,423,423,423,423,423,423,423,423,423,423,423,423,423,423,423,423,423,423,423,423,423,423,423,423,423,423,423,423,423,423,423,423,423,423,423]
[null,null,null,null,null,null,null,null,null,{"$f":"'Financial Model'!K8","v":"2026-01-01"},{"$f":"'Financial Model'!L8","v":"2027-01-01"},{"$f":"'Financial Model'!M8","v":"2028-01-01"},{"$f":"'Financial Model'!N8","v":"2029-01-01"},{"$f":"'Financial Model'!O8","v":"2030-01-01"},{"$f":"'Financial Model'!P8","v":"2031-01-01"},{"$f":"'Financial Model'!Q8","v":"2032-01-01"},{"$f":"'Financial Model'!R8","v":"2033-01-01"},{"$f":"'Financial Model'!S8","v":"2034-01-01"},{"$f":"'Financial Model'!T8","v":"2035-01-01"},{"$f":"'Financial Model'!U8","v":"2036-01-01"},{"$f":"'Financial Model'!V8","v":"2037-01-01"},{"$f":"'Financial Model'!W8","v":"2038-01-01"},{"$f":"'Financial Model'!X8","v":"2039-01-01"},{"$f":"'Financial Model'!Y8","v":"2040-01-01"},{"$f":"'Financial Model'!Z8","v":"2041-01-01"},{"$f":"'Financial Model'!AA8","v":"2042-01-01"},{"$f":"'Financial Model'!AB8","v":"2043-01-01"},{"$f":"'Financial Model'!AC8","v":"2044-01-01"},{"$f":"'Financial Model'!AD8","v":"2045-01-01"},{"$f":"'Financial Model'!AE8","v":"2046-01-01"},{"$f":"'Financial Model'!AF8","v":"2047-01-01"},{"$f":"'Financial Model'!AG8","v":"2048-01-01"},{"$f":"'Financial Model'!AH8","v":"2049-01-01"},{"$f":"'Financial Model'!AI8","v":"2050-01-01"},{"$f":"'Financial Model'!AJ8","v":"2051-01-01"},{"$f":"'Financial Model'!AK8","v":"2052-01-01"},{"$f":"'Financial Model'!AL8","v":"2053-01-01"},{"$f":"'Financial Model'!AM8","v":"2054-01-01"},{"$f":"'Financial Model'!AN8","v":"2055-01-01"},{"$f":"'Financial Model'!AO8","v":"2056-01-01"},{"$f":"'Financial Model'!AP8","v":"2057-01-01"},{"$f":"'Financial Model'!AQ8","v":"2058-01-01"},{"$f":"'Financial Model'!AR8","v":"2059-01-01"},{"$f":"'Financial Model'!AS8","v":"2060-01-01"},{"$f":"'Financial Model'!AT8","v":"2061-01-01"},{"$f":"'Financial Model'!AU8","v":"2062-01-01"},{"$f":"'Financial Model'!AV8","v":"2063-01-01"},{"$f":"'Financial Model'!AW8","v":"2064-01-01"},{"$f":"'Financial Model'!AX8","v":"2065-01-01"},{"$f":"'Financial Model'!AY8","v":"2066-01-01"},{"$f":"'Financial Model'!AZ8","v":"2067-01-01"},{"$f":"'Financial Model'!BA8","v":"2068-01-01"},{"$f":"'Financial Model'!BB8","v":"2069-01-01"},{"$f":"'Financial Model'!BC8","v":"2070-01-01"},{"$f":"'Financial Model'!BD8","v":"2071-01-01"},{"$f":"'Financial Model'!BE8","v":"2072-01-01"},{"$f":"'Financial Model'!BF8","v":"2073-01-01"},{"$f":"'Financial Model'!BG8","v":"2074-01-01"},{"$f":"'Financial Model'!BH8","v":"2075-01-01"},{"$f":"'Financial Model'!BI8","v":"2076-01-01"},{"$f":"'Financial Model'!BJ8","v":"2077-01-01"},{"$f":"'Financial Model'!BK8","v":"2078-01-01"},{"$f":"'Financial Model'!BL8","v":"2079-01-01"},{"$f":"'Financial Model'!BM8","v":"2080-01-01"},{"$f":"'Financial Model'!BN8","v":"2081-01-01"},{"$f":"'Financial Model'!BO8","v":"2082-01-01"},{"$f":"'Financial Model'!BP8","v":"2083-01-01"},{"$f":"'Financial Model'!BQ8","v":"2084-01-01"},{"$f":"'Financial Model'!BR8","v":"2085-01-01"},{"$f":"'Financial Model'!BS8","v":"2086-01-01"},{"$f":"'Financial Model'!BT8","v":"2087-01-01"},{"$f":"'Financial Model'!BU8","v":"2088-01-01"},{"$f":"'Financial Model'!BV8","v":"2089-01-01"},{"$f":"'Financial Model'!BW8","v":"2090-01-01"},{"$f":"'Financial Model'!BX8","v":"2091-01-01"},{"$f":"'Financial Model'!BY8","v":"2092-01-01"},{"$f":"'Financial Model'!BZ8","v":"2093-01-01"},{"$f":"'Financial Model'!CA8","v":"2094-01-01"},{"$f":"'Financial Model'!CB8","v":"2095-01-01"},{"$f":"'Financial Model'!CC8","v":"2096-01-01"},{"$f":"'Financial Model'!CD8","v":"2097-01-01"},{"$f":"'Financial Model'!CE8","v":"2098-01-01"},{"$f":"'Financial Model'!CF8","v":"2099-01-01"},{"$f":"'Financial Model'!CG8","v":"2100-01-01"},{"$f":"'Financial Model'!CH8","v":"2101-01-01"},{"$f":"'Financial Model'!CI8","v":"2102-01-01"},{"$f":"'Financial Model'!CJ8","v":"2103-01-01"},{"$f":"'Financial Model'!CK8","v":"2104-01-01"},{"$f":"'Financial Model'!CL8","v":"2105-01-01"},{"$f":"'Financial Model'!CM8","v":"2106-01-01"},{"$f":"'Financial Model'!CN8","v":"2107-01-01"},{"$f":"'Financial Model'!CO8","v":"2108-01-01"},{"$f":"'Financial Model'!CP8","v":"2109-01-01"},{"$f":"'Financial Model'!CQ8","v":"2110-01-01"},{"$f":"'Financial Model'!CR8","v":"2111-01-01"},{"$f":"'Financial Model'!CS8","v":"2112-01-01"},{"$f":"'Financial Model'!CT8","v":"2113-01-01"},{"$f":"'Financial Model'!CU8","v":"2114-01-01"},{"$f":"'Financial Model'!CV8","v":"2115-01-01"},{"$f":"'Financial Model'!CW8","v":"2116-01-01"},{"$f":"'Financial Model'!CX8","v":"2117-01-01"},{"$f":"'Financial Model'!CY8","v":"2118-01-01"},{"$f":"'Financial Model'!CZ8","v":"2119-01-01"},{"$f":"'Financial Model'!DA8","v":"2120-01-01"},{"$f":"'Financial Model'!DB8","v":"2121-01-01"},{"$f":"'Financial Model'!DC8","v":"2122-01-01"},{"$f":"'Financial Model'!DD8","v":"2123-01-01"},{"$f":"'Financial Model'!DE8","v":"2124-01-01"},{"$f":"'Financial Model'!DF8","v":"2125-01-01"},{"$f":"'Financial Model'!DG8","v":"2126-01-01"},{"$f":"'Financial Model'!DH8","v":"2127-01-01"},{"$f":"'Financial Model'!DI8","v":"2128-01-01"},{"$f":"'Financial Model'!DJ8","v":"2129-01-01"},{"$f":"'Financial Model'!DK8","v":"2130-01-01"},{"$f":"'Financial Model'!DL8","v":"2131-01-01"},{"$f":"'Financial Model'!DM8","v":"2132-01-01"},{"$f":"'Financial Model'!DN8","v":"2133-01-01"},{"$f":"'Financial Model'!DO8","v":"2134-01-01"},{"$f":"'Financial Model'!DP8","v":"2135-01-01"},{"$f":"'Financial Model'!DQ8","v":"2136-01-01"},{"$f":"'Financial Model'!DR8","v":"2137-01-01"},{"$f":"'Financial Model'!DS8","v":"2138-01-01"},{"$f":"'Financial Model'!DT8","v":"2139-01-01"},{"$f":"'Financial Model'!DU8","v":"2140-01-01"},{"$f":"'Financial Model'!DV8","v":"2141-01-01"},{"$f":"'Financial Model'!DW8","v":"2142-01-01"},{"$f":"'Financial Model'!DX8","v":"2143-01-01"},{"$f":"'Financial Model'!DY8","v":"2144-01-01"},{"$f":"'Financial Model'!DZ8","v":"2145-01-01"},{"$f":"'Financial Model'!EA8","v":"2146-01-01"},{"$f":"'Financial Model'!EB8","v":"2147-01-01"},{"$f":"'Financial Model'!EC8","v":"2148-01-01"},{"$f":"'Financial Model'!ED8","v":"2149-01-01"},{"$f":"'Financial Model'!EE8","v":"2150-01-01"},{"$f":"'Financial Model'!EF8","v":"2151-01-01"},{"$f":"'Financial Model'!EG8","v":"2152-01-01"},{"$f":"'Financial Model'!EH8","v":"2153-01-01"},{"$f":"'Financial Model'!EI8","v":"2154-01-01"},{"$f":"'Financial Model'!EJ8","v":"2155-01-01"},{"$f":"'Financial Model'!EK8","v":"2156-01-01"},{"$f":"'Financial Model'!EL8","v":"2157-01-01"},{"$f":"'Financial Model'!EM8","v":"2158-01-01"},{"$f":"'Financial Model'!EN8","v":"2159-01-01"},{"$f":"'Financial Model'!EO8","v":"2160-01-01"},{"$f":"'Financial Model'!EP8","v":"2161-01-01"},{"$f":"'Financial Model'!EQ8","v":"2162-01-01"},{"$f":"'Financial Model'!ER8","v":"2163-01-01"},{"$f":"'Financial Model'!ES8","v":"2164-01-01"},{"$f":"'Financial Model'!ET8","v":"2165-01-01"},{"$f":"'Financial Model'!EU8","v":"2166-01-01"},{"$f":"'Financial Model'!EV8","v":"2167-01-01"},{"$f":"'Financial Model'!EW8","v":"2168-01-01"},{"$f":"'Financial Model'!EX8","v":"2169-01-01"},{"$f":"'Financial Model'!EY8","v":"2170-01-01"},{"$f":"'Financial Model'!EZ8","v":"2171-01-01"},{"$f":"'Financial Model'!FA8","v":"2172-01-01"},{"$f":"'Financial Model'!FB8","v":"2173-01-01"},{"$f":"'Financial Model'!FC8","v":"2174-01-01"},{"$f":"'Financial Model'!FD8","v":"2175-01-01"},{"$f":"'Financial Model'!FE8","v":"2176-01-01"},{"$f":"'Financial Model'!FF8","v":"2177-01-01"},{"$f":"'Financial Model'!FG8","v":"2178-01-01"},{"$f":"'Financial Model'!FH8","v":"2179-01-01"},{"$f":"'Financial Model'!FI8","v":"2180-01-01"},{"$f":"'Financial Model'!FJ8","v":"2181-01-01"},{"$f":"'Financial Model'!FK8","v":"2182-01-01"},{"$f":"'Financial Model'!FL8","v":"2183-01-01"},{"$f":"'Financial Model'!FM8","v":"2184-01-01"},{"$f":"'Financial Model'!FN8","v":"2185-01-01"},{"$f":"'Financial Model'!FO8","v":"2186-01-01"},{"$f":"'Financial Model'!FP8","v":"2187-01-01"},{"$f":"'Financial Model'!FQ8","v":"2188-01-01"},{"$f":"'Financial Model'!FR8","v":"2189-01-01"},{"$f":"'Financial Model'!FS8","v":"2190-01-01"},{"$f":"'Financial Model'!FT8","v":"2191-01-01"},{"$f":"'Financial Model'!FU8","v":"2192-01-01"},{"$f":"'Financial Model'!FV8","v":"2193-01-01"},{"$f":"'Financial Model'!FW8","v":"2194-01-01"},{"$f":"'Financial Model'!FX8","v":"2195-01-01"},{"$f":"'Financial Model'!FY8","v":"2196-01-01"},{"$f":"'Financial Model'!FZ8","v":"2197-01-01"},{"$f":"'Financial Model'!GA8","v":"2198-01-01"},{"$f":"'Financial Model'!GB8","v":"2199-01-01"},{"$f":"'Financial Model'!GC8","v":"2200-01-01"},{"$f":"'Financial Model'!GD8","v":"2201-01-01"},{"$f":"'Financial Model'!GE8","v":"2202-01-01"},{"$f":"'Financial Model'!GF8","v":"2203-01-01"},{"$f":"'Financial Model'!GG8","v":"2204-01-01"},{"$f":"'Financial Model'!GH8","v":"2205-01-01"},{"$f":"'Financial Model'!GI8","v":"2206-01-01"},{"$f":"'Financial Model'!GJ8","v":"2207-01-01"},{"$f":"'Financial Model'!GK8","v":"2208-01-01"},{"$f":"'Financial Model'!GL8","v":"2209-01-01"},{"$f":"'Financial Model'!GM8","v":"2210-01-01"},{"$f":"'Financial Model'!GN8","v":"2211-01-01"},{"$f":"'Financial Model'!GO8","v":"2212-01-01"},{"$f":"'Financial Model'!GP8","v":"2213-01-01"},{"$f":"'Financial Model'!GQ8","v":"2214-01-01"},{"$f":"'Financial Model'!GR8","v":"2215-01-01"},{"$f":"'Financial Model'!GS8","v":"2216-01-01"},{"$f":"'Financial Model'!GT8","v":"2217-01-01"},{"$f":"'Financial Model'!GU8","v":"2218-01-01"},{"$f":"'Financial Model'!GV8","v":"2219-01-01"},{"$f":"'Financial Model'!GW8","v":"2220-01-01"},{"$f":"'Financial Model'!GX8","v":"2221-01-01"},{"$f":"'Financial Model'!GY8","v":"2222-01-01"},{"$f":"'Financial Model'!GZ8","v":"2223-01-01"},{"$f":"'Financial Model'!HA8","v":"2224-01-01"},{"$f":"'Financial Model'!HB8","v":"2225-01-01"},{"$f":"'Financial Model'!HC8","v":"2226-01-01"},{"$f":"'Financial Model'!HD8","v":"2227-01-01"},{"$f":"'Financial Model'!HE8","v":"2228-01-01"},{"$f":"'Financial Model'!HF8","v":"2229-01-01"},{"$f":"'Financial Model'!HG8","v":"2230-01-01"},{"$f":"'Financial Model'!HH8","v":"2231-01-01"},{"$f":"'Financial Model'!HI8","v":"2232-01-01"},{"$f":"'Financial Model'!HJ8","v":"2233-01-01"},{"$f":"'Financial Model'!HK8","v":"2234-01-01"},{"$f":"'Financial Model'!HL8","v":"2235-01-01"},{"$f":"'Financial Model'!HM8","v":"2236-01-01"},{"$f":"'Financial Model'!HN8","v":"2237-01-01"},{"$f":"'Financial Model'!HO8","v":"2238-01-01"},{"$f":"'Financial Model'!HP8","v":"2239-01-01"},{"$f":"'Financial Model'!HQ8","v":"2240-01-01"},{"$f":"'Financial Model'!HR8","v":"2241-01-01"},{"$f":"'Financial Model'!HS8","v":"2242-01-01"},{"$f":"'Financial Model'!HT8","v":"2243-01-01"},{"$f":"'Financial Model'!HU8","v":"2244-01-01"},{"$f":"'Financial Model'!HV8","v":"2245-01-01"},{"$f":"'Financial Model'!HW8","v":"2246-01-01"},{"$f":"'Financial Model'!HX8","v":"2247-01-01"},{"$f":"'Financial Model'!HY8","v":"2248-01-01"},{"$f":"'Financial Model'!HZ8","v":"2249-01-01"},{"$f":"'Financial Model'!IA8","v":"2250-01-01"},{"$f":"'Financial Model'!IB8","v":"2251-01-01"},{"$f":"'Financial Model'!IC8","v":"2252-01-01"},{"$f":"'Financial Model'!ID8","v":"2253-01-01"},{"$f":"'Financial Model'!IE8","v":"2254-01-01"},{"$f":"'Financial Model'!IF8","v":"2255-01-01"},{"$f":"'Financial Model'!IG8","v":"2256-01-01"},{"$f":"'Financial Model'!IH8","v":"2257-01-01"},{"$f":"'Financial Model'!II8","v":"2258-01-01"},{"$f":"'Financial Model'!IJ8","v":"2259-01-01"},{"$f":"'Financial Model'!IK8","v":"2260-01-01"},{"$f":"'Financial Model'!IL8","v":"2261-01-01"},{"$f":"'Financial Model'!IM8","v":"2262-01-01"},{"$f":"'Financial Model'!IN8","v":"2263-01-01"},{"$f":"'Financial Model'!IO8","v":"2264-01-01"},{"$f":"'Financial Model'!IP8","v":"2265-01-01"},{"$f":"'Financial Model'!IQ8","v":"2266-01-01"},{"$f":"'Financial Model'!IR8","v":"2267-01-01"},{"$f":"'Financial Model'!IS8","v":"2268-01-01"},{"$f":"'Financial Model'!IT8","v":"2269-01-01"},{"$f":"'Financial Model'!IU8","v":"2270-01-01"},{"$f":"'Financial Model'!IV8","v":"2271-01-01"},{"$f":"'Financial Model'!IW8","v":"2272-01-01"},{"$f":"'Financial Model'!IX8","v":"2273-01-01"},{"$f":"'Financial Model'!IY8","v":"2274-01-01"},{"$f":"'Financial Model'!IZ8","v":"2275-01-01"},{"$f":"'Financial Model'!JA8","v":"2276-01-01"},{"$f":"'Financial Model'!JB8","v":"2277-01-01"},{"$f":"'Financial Model'!JC8","v":"2278-01-01"},{"$f":"'Financial Model'!JD8","v":"2279-01-01"},{"$f":"'Financial Model'!JE8","v":"2280-01-01"},{"$f":"'Financial Model'!JF8","v":"2281-01-01"},{"$f":"'Financial Model'!JG8","v":"2282-01-01"},{"$f":"'Financial Model'!JH8","v":"2283-01-01"},{"$f":"'Financial Model'!JI8","v":"2284-01-01"},{"$f":"'Financial Model'!JJ8","v":"2285-01-01"},{"$f":"'Financial Model'!JK8","v":"2286-01-01"},{"$f":"'Financial Model'!JL8","v":"2287-01-01"},{"$f":"'Financial Model'!JM8","v":"2288-01-01"},{"$f":"'Financial Model'!JN8","v":"2289-01-01"},{"$f":"'Financial Model'!JO8","v":"2290-01-01"},{"$f":"'Financial Model'!JP8","v":"2291-01-01"},{"$f":"'Financial Model'!JQ8","v":"2292-01-01"},{"$f":"'Financial Model'!JR8","v":"2293-01-01"},{"$f":"'Financial Model'!JS8","v":"2294-01-01"},{"$f":"'Financial Model'!JT8","v":"2295-01-01"},{"$f":"'Financial Model'!JU8","v":"2296-01-01"},{"$f":"'Financial Model'!JV8","v":"2297-01-01"},{"$f":"'Financial Model'!JW8","v":"2298-01-01"},{"$f":"'Financial Model'!JX8","v":"2299-01-01"},{"$f":"'Financial Model'!JY8","v":"2300-01-01"},{"$f":"'Financial Model'!JZ8","v":"2301-01-01"},{"$f":"'Financial Model'!KA8","v":"2302-01-01"},{"$f":"'Financial Model'!KB8","v":"2303-01-01"},{"$f":"'Financial Model'!KC8","v":"2304-01-01"},{"$f":"'Financial Model'!KD8","v":"2305-01-01"},{"$f":"'Financial Model'!KE8","v":"2306-01-01"},{"$f":"'Financial Model'!KF8","v":"2307-01-01"},{"$f":"'Financial Model'!KG8","v":"2308-01-01"},{"$f":"'Financial Model'!KH8","v":"2309-01-01"},{"$f":"'Financial Model'!KI8","v":"2310-01-01"},{"$f":"'Financial Model'!KJ8","v":"2311-01-01"},{"$f":"'Financial Model'!KK8","v":"2312-01-01"},{"$f":"'Financial Model'!KL8","v":"2313-01-01"},{"$f":"'Financial Model'!KM8","v":"2314-01-01"},{"$f":"'Financial Model'!KN8","v":"2315-01-01"},{"$f":"'Financial Model'!KO8","v":"2316-01-01"},{"$f":"'Financial Model'!KP8","v":"2317-01-01"},{"$f":"'Financial Model'!KQ8","v":"2318-01-01"},{"$f":"'Financial Model'!KR8","v":"2319-01-01"},{"$f":"'Financial Model'!KS8","v":"2320-01-01"},{"$f":"'Financial Model'!KT8","v":"2321-01-01"},{"$f":"'Financial Model'!KU8","v":"2322-01-01"},{"$f":"'Financial Model'!KV8","v":"2323-01-01"},{"$f":"'Financial Model'!KW8","v":"2324-01-01"},{"$f":"'Financial Model'!KX8","v":"2325-01-01"},{"$f":"'Financial Model'!KY8","v":"2326-01-01"},{"$f":"'Financial Model'!KZ8","v":"2327-01-01"},{"$f":"'Financial Model'!LA8","v":"2328-01-01"},{"$f":"'Financial Model'!LB8","v":"2329-01-01"},{"$f":"'Financial Model'!LC8","v":"2330-01-01"},{"$f":"'Financial Model'!LD8","v":"2331-01-01"},{"$f":"'Financial Model'!LE8","v":"2332-01-01"},{"$f":"'Financial Model'!LF8","v":"2333-01-01"},{"$f":"'Financial Model'!LG8","v":"2334-01-01"},{"$f":"'Financial Model'!LH8","v":"2335-01-01"},{"$f":"'Financial Model'!LI8","v":"2336-01-01"},{"$f":"'Financial Model'!LJ8","v":"2337-01-01"},{"$f":"'Financial Model'!LK8","v":"2338-01-01"},{"$f":"'Financial Model'!LL8","v":"2339-01-01"},{"$f":"'Financial Model'!LM8","v":"2340-01-01"},{"$f":"'Financial Model'!LN8","v":"2341-01-01"},{"$f":"'Financial Model'!LO8","v":"2342-01-01"},{"$f":"'Financial Model'!LP8","v":"2343-01-01"},{"$f":"'Financial Model'!LQ8","v":"2344-01-01"},{"$f":"'Financial Model'!LR8","v":"2345-01-01"},{"$f":"'Financial Model'!LS8","v":"2346-01-01"},{"$f":"'Financial Model'!LT8","v":"2347-01-01"},{"$f":"'Financial Model'!LU8","v":"2348-01-01"},{"$f":"'Financial Model'!LV8","v":"2349-01-01"},{"$f":"'Financial Model'!LW8","v":"2350-01-01"},{"$f":"'Financial Model'!LX8","v":"2351-01-01"},{"$f":"'Financial Model'!LY8","v":"2352-01-01"},{"$f":"'Financial Model'!LZ8","v":"2353-01-01"},{"$f":"'Financial Model'!MA8","v":"2354-01-01"},{"$f":"'Financial Model'!MB8","v":"2355-01-01"},{"$f":"'Financial Model'!MC8","v":"2356-01-01"},{"$f":"'Financial Model'!MD8","v":"2357-01-01"},{"$f":"'Financial Model'!ME8","v":"2358-01-01"},{"$f":"'Financial Model'!MF8","v":"2359-01-01"},{"$f":"'Financial Model'!MG8","v":"2360-01-01"},{"$f":"'Financial Model'!MH8","v":"2361-01-01"},{"$f":"'Financial Model'!MI8","v":"2362-01-01"},{"$f":"'Financial Model'!MJ8","v":"2363-01-01"},{"$f":"'Financial Model'!MK8","v":"2364-01-01"},{"$f":"'Financial Model'!ML8","v":"2365-01-01"},{"$f":"'Financial Model'!MM8","v":"2366-01-01"},{"$f":"'Financial Model'!MN8","v":"2367-01-01"},{"$f":"'Financial Model'!MO8","v":"2368-01-01"},{"$f":"'Financial Model'!MP8","v":"2369-01-01"},{"$f":"'Financial Model'!MQ8","v":"2370-01-01"},{"$f":"'Financial Model'!MR8","v":"2371-01-01"},{"$f":"'Financial Model'!MS8","v":"2372-01-01"},{"$f":"'Financial Model'!MT8","v":"2373-01-01"},{"$f":"'Financial Model'!MU8","v":"2374-01-01"},{"$f":"'Financial Model'!MV8","v":"2375-01-01"},{"$f":"'Financial Model'!MW8","v":"2376-01-01"},{"$f":"'Financial Model'!MX8","v":"2377-01-01"},{"$f":"'Financial Model'!MY8","v":"2378-01-01"},{"$f":"'Financial Model'!MZ8","v":"2379-01-01"},{"$f":"'Financial Model'!NA8","v":"2380-01-01"},{"$f":"'Financial Model'!NB8","v":"2381-01-01"},{"$f":"'Financial Model'!NC8","v":"2382-01-01"},{"$f":"'Financial Model'!ND8","v":"2383-01-01"},{"$f":"'Financial Model'!NE8","v":"2384-01-01"},{"$f":"'Financial Model'!NF8","v":"2385-01-01"},{"$f":"'Financial Model'!NG8","v":"2386-01-01"},{"$f":"'Financial Model'!NH8","v":"2387-01-01"},{"$f":"'Financial Model'!NI8","v":"2388-01-01"},{"$f":"'Financial Model'!NJ8","v":"2389-01-01"},{"$f":"'Financial Model'!NK8","v":"2390-01-01"},{"$f":"'Financial Model'!NL8","v":"2391-01-01"},{"$f":"'Financial Model'!NM8","v":"2392-01-01"},{"$f":"'Financial Model'!NN8","v":"2393-01-01"},{"$f":"'Financial Model'!NO8","v":"2394-01-01"},{"$f":"'Financial Model'!NP8","v":"2395-01-01"},{"$f":"'Financial Model'!NQ8","v":"2396-01-01"},{"$f":"'Financial Model'!NR8","v":"2397-01-01"},{"$f":"'Financial Model'!NS8","v":"2398-01-01"},{"$f":"'Financial Model'!NT8","v":"2399-01-01"},{"$f":"'Financial Model'!NU8","v":"2400-01-01"},{"$f":"'Financial Model'!NV8","v":"2401-01-01"},{"$f":"'Financial Model'!NW8","v":"2402-01-01"},{"$f":"'Financial Model'!NX8","v":"2403-01-01"},{"$f":"'Financial Model'!NY8","v":"2404-01-01"},{"$f":"'Financial Model'!NZ8","v":"2405-01-01"},{"$f":"'Financial Model'!OA8","v":"2406-01-01"},{"$f":"'Financial Model'!OB8","v":"2407-01-01"},{"$f":"'Financial Model'!OC8","v":"2408-01-01"},{"$f":"'Financial Model'!OD8","v":"2409-01-01"},{"$f":"'Financial Model'!OE8","v":"2410-01-01"},{"$f":"'Financial Model'!OF8","v":"2411-01-01"},{"$f":"'Financial Model'!OG8","v":"2412-01-01"},{"$f":"'Financial Model'!OH8","v":"2413-01-01"},{"$f":"'Financial Model'!OI8","v":"2414-01-01"},{"$f":"'Financial Model'!OJ8","v":"2415-01-01"},{"$f":"'Financial Model'!OK8","v":"2416-01-01"},{"$f":"'Financial Model'!OL8","v":"2417-01-01"},{"$f":"'Financial Model'!OM8","v":"2418-01-01"},{"$f":"'Financial Model'!ON8","v":"2419-01-01"},{"$f":"'Financial Model'!OO8","v":"2420-01-01"},{"$f":"'Financial Model'!OP8","v":"2421-01-01"},{"$f":"'Financial Model'!OQ8","v":"2422-01-01"},{"$f":"'Financial Model'!OR8","v":"2423-01-01"},{"$f":"'Financial Model'!OS8","v":"2424-01-01"},{"$f":"'Financial Model'!OT8","v":"2425-01-01"},{"$f":"'Financial Model'!OU8","v":"2426-01-01"},{"$f":"'Financial Model'!OV8","v":"2427-01-01"},{"$f":"'Financial Model'!OW8","v":"2428-01-01"},{"$f":"'Financial Model'!OX8","v":"2429-01-01"},{"$f":"'Financial Model'!OY8","v":"2430-01-01"},{"$f":"'Financial Model'!OZ8","v":"2431-01-01"},{"$f":"'Financial Model'!PA8","v":"2432-01-01"},{"$f":"'Financial Model'!PB8","v":"2433-01-01"},{"$f":"'Financial Model'!PC8","v":"2434-01-01"},{"$f":"'Financial Model'!PD8","v":"2435-01-01"},{"$f":"'Financial Model'!PE8","v":"2436-01-01"},{"$f":"'Financial Model'!PF8","v":"2437-01-01"},{"$f":"'Financial Model'!PG8","v":"2438-01-01"},{"$f":"'Financial Model'!PH8","v":"2439-01-01"},{"$f":"'Financial Model'!PI8","v":"2440-01-01"},{"$f":"'Financial Model'!PJ8","v":"2441-01-01"},{"$f":"'Financial Model'!PK8","v":"2442-01-01"},{"$f":"'Financial Model'!PL8","v":"2443-01-01"},{"$f":"'Financial Model'!PM8","v":"2444-01-01"},{"$f":"'Financial Model'!PN8","v":"2445-01-01"},{"$f":"'Financial Model'!PO8","v":"2446-01-01"},{"$f":"'Financial Model'!PP8","v":"2447-01-01"},{"$f":"'Financial Model'!PQ8","v":"2448-01-01"},{"$f":"'Financial Model'!PR8","v":"2449-01-01"},{"$f":"'Financial Model'!PS8","v":"2450-01-01"},{"$f":"'Financial Model'!PT8","v":"2451-01-01"},{"$f":"'Financial Model'!PU8","v":"2452-01-01"},{"$f":"'Financial Model'!PV8","v":"2453-01-01"},{"$f":"'Financial Model'!PW8","v":"2454-01-01"},{"$f":"'Financial Model'!PX8","v":"2455-01-01"},{"$f":"'Financial Model'!PY8","v":"2456-01-01"},{"$f":"'Financial Model'!PZ8","v":"2457-01-01"},{"$f":"'Financial Model'!QA8","v":"2458-01-01"},{"$f":"'Financial Model'!QB8","v":"2459-01-01"},{"$f":"'Financial Model'!QC8","v":"2460-01-01"},{"$f":"'Financial Model'!QD8","v":"2461-01-01"},{"$f":"'Financial Model'!QE8","v":"2462-01-01"},{"$f":"'Financial Model'!QF8","v":"2463-01-01"},{"$f":"'Financial Model'!QG8","v":"2464-01-01"},{"$f":"'Financial Model'!QH8","v":"2465-01-01"},{"$f":"'Financial Model'!QI8","v":"2466-01-01"},{"$f":"'Financial Model'!QJ8","v":"2467-01-01"},{"$f":"'Financial Model'!QK8","v":"2468-01-01"},{"$f":"'Financial Model'!QL8","v":"2469-01-01"},{"$f":"'Financial Model'!QM8","v":"2470-01-01"},{"$f":"'Financial Model'!QN8","v":"2471-01-01"},{"$f":"'Financial Model'!QO8","v":"2472-01-01"},{"$f":"'Financial Model'!QP8","v":"2473-01-01"},{"$f":"'Financial Model'!QQ8","v":"2474-01-01"},{"$f":"'Financial Model'!QR8","v":"2475-01-01"},{"$f":"'Financial Model'!QS8","v":"2476-01-01"},{"$f":"'Financial Model'!QT8","v":"2477-01-01"},{"$f":"'Financial Model'!QU8","v":"2478-01-01"},{"$f":"'Financial Model'!QV8","v":"2479-01-01"},{"$f":"'Financial Model'!QW8","v":"2480-01-01"},{"$f":"'Financial Model'!QX8","v":"2481-01-01"},{"$f":"'Financial Model'!QY8","v":"2482-01-01"},{"$f":"'Financial Model'!QZ8","v":"2483-01-01"},{"$f":"'Financial Model'!RA8","v":"2484-01-01"},{"$f":"'Financial Model'!RB8","v":"2485-01-01"},{"$f":"'Financial Model'!RC8","v":"2486-01-01"},{"$f":"'Financial Model'!RD8","v":"2487-01-01"},{"$f":"'Financial Model'!RE8","v":"2488-01-01"},{"$f":"'Financial Model'!RF8","v":"2489-01-01"},{"$f":"'Financial Model'!RG8","v":"2490-01-01"},{"$f":"'Financial Model'!RH8","v":"2491-01-01"},{"$f":"'Financial Model'!RI8","v":"2492-01-01"},{"$f":"'Financial Model'!RJ8","v":"2493-01-01"},{"$f":"'Financial Model'!RK8","v":"2494-01-01"},{"$f":"'Financial Model'!RL8","v":"2495-01-01"},{"$f":"'Financial Model'!RM8","v":"2496-01-01"},{"$f":"'Financial Model'!RN8","v":"2497-01-01"},{"$f":"'Financial Model'!RO8","v":"2498-01-01"},{"$f":"'Financial Model'!RP8","v":"2499-01-01"},{"$f":"'Financial Model'!RQ8","v":"2500-01-01"},{"$f":"'Financial Model'!RR8","v":"2501-01-01"},{"$f":"'Financial Model'!RS8","v":"2502-01-01"},{"$f":"'Financial Model'!RT8","v":"2503-01-01"},{"$f":"'Financial Model'!RU8","v":"2504-01-01"},{"$f":"'Financial Model'!RV8","v":"2505-01-01"},{"$f":"'Financial Model'!RW8","v":"2506-01-01"},{"$f":"'Financial Model'!RX8","v":"2507-01-01"},{"$f":"'Financial Model'!RY8","v":"2508-01-01"},{"$f":"'Financial Model'!RZ8","v":"2509-01-01"},{"$f":"'Financial Model'!SA8","v":"2510-01-01"},{"$f":"'Financial Model'!SB8","v":"2511-01-01"},{"$f":"'Financial Model'!SC8","v":"2512-01-01"},{"$f":"'Financial Model'!SD8","v":"00:00:00"},{"$f":"'Financial Model'!SE8","v":"00:00:00"},{"$f":"'Financial Model'!SF8","v":"00:00:00"},{"$f":"'Financial Model'!SG8","v":"00:00:00"},{"$f":"'Financial Model'!SH8","v":"00:00:00"},{"$f":"'Financial Model'!SI8","v":"00:00:00"},{"$f":"'Financial Model'!SJ8","v":"00:00:00"},{"$f":"'Financial Model'!SK8","v":"00:00:00"},{"$f":"'Financial Model'!SL8","v":"00:00:00"},{"$f":"'Financial Model'!SM8","v":"00:00:00"},{"$f":"'Financial Model'!SN8","v":"00:00:00"},{"$f":"'Financial Model'!SO8","v":"00:00:00"},{"$f":"'Financial Model'!SP8","v":"00:00:00"},{"$f":"'Financial Model'!SQ8","v":"00:00:00"},{"$f":"'Financial Model'!SR8","v":"00:00:00"},{"$f":"'Financial Model'!SS8","v":"00:00:00"},{"$f":"'Financial Model'!ST8","v":"00:00:00"},{"$f":"'Financial Model'!SU8","v":"00:00:00"},{"$f":"'Financial Model'!SV8","v":"00:00:00"},{"$f":"'Financial Model'!SW8","v":"00:00:00"},{"$f":"'Financial Model'!SX8","v":"00:00:00"},{"$f":"'Financial Model'!SY8","v":"00:00:00"},{"$f":"'Financial Model'!SZ8","v":"00:00:00"},{"$f":"'Financial Model'!TA8","v":"00:00:00"},{"$f":"'Financial Model'!TB8","v":"00:00:00"},{"$f":"'Financial Model'!TC8","v":"00:00:00"},{"$f":"'Financial Model'!TD8","v":"00:00:00"},{"$f":"'Financial Model'!TE8","v":"00:00:00"},{"$f":"'Financial Model'!TF8","v":"00:00:00"},{"$f":"'Financial Model'!TG8","v":"00:00:00"},{"$f":"'Financial Model'!TH8","v":"00:00:00"},{"$f":"'Financial Model'!TI8","v":"00:00:00"},{"$f":"'Financial Model'!TJ8","v":"00:00:00"},{"$f":"'Financial Model'!TK8","v":"00:00:00"},{"$f":"'Financial Model'!TL8","v":"00:00:00"},{"$f":"'Financial Model'!TM8","v":"00:00:00"},{"$f":"'Financial Model'!TN8","v":"00:00:00"},{"$f":"'Financial Model'!TO8","v":"00:00:00"},{"$f":"'Financial Model'!TP8","v":"00:00:00"},{"$f":"'Financial Model'!TQ8","v":"00:00:00"},{"$f":"'Financial Model'!TR8","v":"00:00:00"},{"$f":"'Financial Model'!TS8","v":"00:00:00"},{"$f":"'Financial Model'!TT8","v":"00:00:00"},{"$f":"'Financial Model'!TU8","v":"00:00:00"},{"$f":"'Financial Model'!TV8","v":"00:00:00"},{"$f":"'Financial Model'!TW8","v":"00:00:00"},{"$f":"'Financial Model'!TX8","v":"00:00:00"},{"$f":"'Financial Model'!TY8","v":"00:00:00"},{"$f":"'Financial Model'!TZ8","v":"00:00:00"}]
[null,null,null,null,null,null,null,null,null,{"$f":"'Financial Model'!K9","v":"2026-12-31"},{"$f":"'Financial Model'!L9","v":"2027-12-31"},{"$f":"'Financial Model'!M9","v":"2028-12-31"},{"$f":"'Financial Model'!N9","v":"2029-12-31"},{"$f":"'Financial Model'!O9","v":"2030-12-31"},{"$f":"'Financial Model'!P9","v":"2031-12-31"},{"$f":"'Financial Model'!Q9","v":"2032-12-31"},{"$f":"'Financial Model'!R9","v":"2033-12-31"},{"$f":"'Financial Model'!S9","v":"2034-12-31"},{"$f":"'Financial Model'!T9","v":"2035-12-31"},{"$f":"'Financial Model'!U9","v":"2036-12-31"},{"$f":"'Financial Model'!V9","v":"2037-12-31"},{"$f":"'Financial Model'!W9","v":"2038-12-31"},{"$f":"'Financial Model'!X9","v":"2039-12-31"},{"$f":"'Financial Model'!Y9","v":"2040-12-31"},{"$f":"'Financial Model'!Z9","v":"2041-12-31"},{"$f":"'Financial Model'!AA9","v":"2042-12-31"},{"$f":"'Financial Model'!AB9","v":"2043-12-31"},{"$f":"'Financial Model'!AC9","v":"2044-12-31"},{"$f":"'Financial Model'!AD9","v":"2045-12-31"},{"$f":"'Financial Model'!AE9","v":"2046-12-31"},{"$f":"'Financial Model'!AF9","v":"2047-12-31"},{"$f":"'Financial Model'!AG9","v":"2048-12-31"},{"$f":"'Financial Model'!AH9","v":"2049-12-31"},{"$f":"'Financial Model'!AI9","v":"2050-12-31"},{"$f":"'Financial Model'!AJ9","v":"2051-12-31"},{"$f":"'Financial Model'!AK9","v":"2052-12-31"},{"$f":"'Financial Model'!AL9","v":"2053-12-31"},{"$f":"'Financial Model'!AM9","v":"2054-12-31"},{"$f":"'Financial Model'!AN9","v":"2055-12-31"},{"$f":"'Financial Model'!AO9","v":"2056-12-31"},{"$f":"'Financial Model'!AP9","v":"2057-12-31"},{"$f":"'Financial Model'!AQ9","v":"2058-12-31"},{"$f":"'Financial Model'!AR9","v":"2059-12-31"},{"$f":"'Financial Model'!AS9","v":"2060-12-31"},{"$f":"'Financial Model'!AT9","v":"2061-12-31"},{"$f":"'Financial Model'!AU9","v":"2062-12-31"},{"$f":"'Financial Model'!AV9","v":"2063-12-31"},{"$f":"'Financial Model'!AW9","v":"2064-12-31"},{"$f":"'Financial Model'!AX9","v":"2065-12-31"},{"$f":"'Financial Model'!AY9","v":"2066-12-31"},{"$f":"'Financial Model'!AZ9","v":"2067-12-31"},{"$f":"'Financial Model'!BA9","v":"2068-12-31"},{"$f":"'Financial Model'!BB9","v":"2069-12-31"},{"$f":"'Financial Model'!BC9","v":"2070-12-31"},{"$f":"'Financial Model'!BD9","v":"2071-12-31"},{"$f":"'Financial Model'!BE9","v":"2072-12-31"},{"$f":"'Financial Model'!BF9","v":"2073-12-31"},{"$f":"'Financial Model'!BG9","v":"2074-12-31"},{"$f":"'Financial Model'!BH9","v":"2075-12-31"},{"$f":"'Financial Model'!BI9","v":"2076-12-31"},{"$f":"'Financial Model'!BJ9","v":"2077-12-31"},{"$f":"'Financial Model'!BK9","v":"2078-12-31"},{"$f":"'Financial Model'!BL9","v":"2079-12-31"},{"$f":"'Financial Model'!BM9","v":"2080-12-31"},{"$f":"'Financial Model'!BN9","v":"2081-12-31"},{"$f":"'Financial Model'!BO9","v":"2082-12-31"},{"$f":"'Financial Model'!BP9","v":"2083-12-31"},{"$f":"'Financial Model'!BQ9","v":"2084-12-31"},{"$f":"'Financial Model'!BR9","v":"2085-12-31"},{"$f":"'Financial Model'!BS9","v":"2086-12-31"},{"$f":"'Financial Model'!BT9","v":"2087-12-31"},{"$f":"'Financial Model'!BU9","v":"2088-12-31"},{"$f":"'Financial Model'!BV9","v":"2089-12-31"},{"$f":"'Financial Model'!BW9","v":"2090-12-31"},{"$f":"'Financial Model'!BX9","v":"2091-12-31"},{"$f":"'Financial Model'!BY9","v":"2092-12-31"},{"$f":"'Financial Model'!BZ9","v":"2093-12-31"},{"$f":"'Financial Model'!CA9","v":"2094-12-31"},{"$f":"'Financial Model'!CB9","v":"2095-12-31"},{"$f":"'Financial Model'!CC9","v":"2096-12-31"},{"$f":"'Financial Model'!CD9","v":"2097-12-31"},{"$f":"'Financial Model'!CE9","v":"2098-12-31"},{"$f":"'Financial Model'!CF9","v":"2099-12-31"},{"$f":"'Financial Model'!CG9","v":"2100-12-31"},{"$f":"'Financial Model'!CH9","v":"2101-12-31"},{"$f":"'Financial Model'!CI9","v":"2102-12-31"},{"$f":"'Financial Model'!CJ9","v":"2103-12-31"},{"$f":"'Financial Model'!CK9","v":"2104-12-31"},{"$f":"'Financial Model'!CL9","v":"2105-12-31"},{"$f":"'Financial Model'!CM9","v":"2106-12-31"},{"$f":"'Financial Model'!CN9","v":"2107-12-31"},{"$f":"'Financial Model'!CO9","v":"2108-12-31"},{"$f":"'Financial Model'!CP9","v":"2109-12-31"},{"$f":"'Financial Model'!CQ9","v":"2110-12-31"},{"$f":"'Financial Model'!CR9","v":"2111-12-31"},{"$f":"'Financial Model'!CS9","v":"2112-12-31"},{"$f":"'Financial Model'!CT9","v":"2113-12-31"},{"$f":"'Financial Model'!CU9","v":"2114-12-31"},{"$f":"'Financial Model'!CV9","v":"2115-12-31"},{"$f":"'Financial Model'!CW9","v":"2116-12-31"},{"$f":"'Financial Model'!CX9","v":"2117-12-31"},{"$f":"'Financial Model'!CY9","v":"2118-12-31"},{"$f":"'Financial Model'!CZ9","v":"2119-12-31"},{"$f":"'Financial Model'!DA9","v":"2120-12-31"},{"$f":"'Financial Model'!DB9","v":"2121-12-31"},{"$f":"'Financial Model'!DC9","v":"2122-12-31"},{"$f":"'Financial Model'!DD9","v":"2123-12-31"},{"$f":"'Financial Model'!DE9","v":"2124-12-31"},{"$f":"'Financial Model'!DF9","v":"2125-12-31"},{"$f":"'Financial Model'!DG9","v":"2126-12-31"},{"$f":"'Financial Model'!DH9","v":"2127-12-31"},{"$f":"'Financial Model'!DI9","v":"2128-12-31"},{"$f":"'Financial Model'!DJ9","v":"2129-12-31"},{"$f":"'Financial Model'!DK9","v":"2130-12-31"},{"$f":"'Financial Model'!DL9","v":"2131-12-31"},{"$f":"'Financial Model'!DM9","v":"2132-12-31"},{"$f":"'Financial Model'!DN9","v":"2133-12-31"},{"$f":"'Financial Model'!DO9","v":"2134-12-31"},{"$f":"'Financial Model'!DP9","v":"2135-12-31"},{"$f":"'Financial Model'!DQ9","v":"2136-12-31"},{"$f":"'Financial Model'!DR9","v":"2137-12-31"},{"$f":"'Financial Model'!DS9","v":"2138-12-31"},{"$f":"'Financial Model'!DT9","v":"2139-12-31"},{"$f":"'Financial Model'!DU9","v":"2140-12-31"},{"$f":"'Financial Model'!DV9","v":"2141-12-31"},{"$f":"'Financial Model'!DW9","v":"2142-12-31"},{"$f":"'Financial Model'!DX9","v":"2143-12-31"},{"$f":"'Financial Model'!DY9","v":"2144-12-31"},{"$f":"'Financial Model'!DZ9","v":"2145-12-31"},{"$f":"'Financial Model'!EA9","v":"2146-12-31"},{"$f":"'Financial Model'!EB9","v":"2147-12-31"},{"$f":"'Financial Model'!EC9","v":"2148-12-31"},{"$f":"'Financial Model'!ED9","v":"2149-12-31"},{"$f":"'Financial Model'!EE9","v":"2150-12-31"},{"$f":"'Financial Model'!EF9","v":"2151-12-31"},{"$f":"'Financial Model'!EG9","v":"2152-12-31"},{"$f":"'Financial Model'!EH9","v":"2153-12-31"},{"$f":"'Financial Model'!EI9","v":"2154-12-31"},{"$f":"'Financial Model'!EJ9","v":"2155-12-31"},{"$f":"'Financial Model'!EK9","v":"2156-12-31"},{"$f":"'Financial Model'!EL9","v":"2157-12-31"},{"$f":"'Financial Model'!EM9","v":"2158-12-31"},{"$f":"'Financial Model'!EN9","v":"2159-12-31"},{"$f":"'Financial Model'!EO9","v":"2160-12-31"},{"$f":"'Financial Model'!EP9","v":"2161-12-31"},{"$f":"'Financial Model'!EQ9","v":"2162-12-31"},{"$f":"'Financial Model'!ER9","v":"2163-12-31"},{"$f":"'Financial Model'!ES9","v":"2164-12-31"},{"$f":"'Financial Model'!ET9","v":"2165-12-31"},{"$f":"'Financial Model'!EU9","v":"2166-12-31"},{"$f":"'Financial Model'!EV9","v":"2167-12-31"},{"$f":"'Financial Model'!EW9","v":"2168-12-31"},{"$f":"'Financial Model'!EX9","v":"2169-12-31"},{"$f":"'Financial Model'!EY9","v":"2170-12-31"},{"$f":"'Financial Model'!EZ9","v":"2171-12-31"},{"$f":"'Financial Model'!FA9","v":"2172-12-31"},{"$f":"'Financial Model'!FB9","v":"2173-12-31"},{"$f":"'Financial Model'!FC9","v":"2174-12-31"},{"$f":"'Financial Model'!FD9","v":"2175-12-31"},{"$f":"'Financial Model'!FE9","v":"2176-12-31"},{"$f":"'Financial Model'!FF9","v":"2177-12-31"},{"$f":"'Financial Model'!FG9","v":"2178-12-31"},{"$f":"'Financial Model'!FH9","v":"2179-12-31"},{"$f":"'Financial Model'!FI9","v":"2180-12-31"},{"$f":"'Financial Model'!FJ9","v":"2181-12-31"},{"$f":"'Financial Model'!FK9","v":"2182-12-31"},{"$f":"'Financial Model'!FL9","v":"2183-12-31"},{"$f":"'Financial Model'!FM9","v":"2184-12-31"},{"$f":"'Financial Model'!FN9","v":"2185-12-31"},{"$f":"'Financial Model'!FO9","v":"2186-12-31"},{"$f":"'Financial Model'!FP9","v":"2187-12-31"},{"$f":"'Financial Model'!FQ9","v":"2188-12-31"},{"$f":"'Financial Model'!FR9","v":"2189-12-31"},{"$f":"'Financial Model'!FS9","v":"2190-12-31"},{"$f":"'Financial Model'!FT9","v":"2191-12-31"},{"$f":"'Financial Model'!FU9","v":"2192-12-31"},{"$f":"'Financial Model'!FV9","v":"2193-12-31"},{"$f":"'Financial Model'!FW9","v":"2194-12-31"},{"$f":"'Financial Model'!FX9","v":"2195-12-31"},{"$f":"'Financial Model'!FY9","v":"2196-12-31"},{"$f":"'Financial Model'!FZ9","v":"2197-12-31"},{"$f":"'Financial Model'!GA9","v":"2198-12-31"},{"$f":"'Financial Model'!GB9","v":"2199-12-31"},{"$f":"'Financial Model'!GC9","v":"2200-12-31"},{"$f":"'Financial Model'!GD9","v":"2201-12-31"},{"$f":"'Financial Model'!GE9","v":"2202-12-31"},{"$f":"'Financial Model'!GF9","v":"2203-12-31"},{"$f":"'Financial Model'!GG9","v":"2204-12-31"},{"$f":"'Financial Model'!GH9","v":"2205-12-31"},{"$f":"'Financial Model'!GI9","v":"2206-12-31"},{"$f":"'Financial Model'!GJ9","v":"2207-12-31"},{"$f":"'Financial Model'!GK9","v":"2208-12-31"},{"$f":"'Financial Model'!GL9","v":"2209-12-31"},{"$f":"'Financial Model'!GM9","v":"2210-12-31"},{"$f":"'Financial Model'!GN9","v":"2211-12-31"},{"$f":"'Financial Model'!GO9","v":"2212-12-31"},{"$f":"'Financial Model'!GP9","v":"2213-12-31"},{"$f":"'Financial Model'!GQ9","v":"2214-12-31"},{"$f":"'Financial Model'!GR9","v":"2215-12-31"},{"$f":"'Financial Model'!GS9","v":"2216-12-31"},{"$f":"'Financial Model'!GT9","v":"2217-12-31"},{"$f":"'Financial Model'!GU9","v":"2218-12-31"},{"$f":"'Financial Model'!GV9","v":"2219-12-31"},{"$f":"'Financial Model'!GW9","v":"2220-12-31"},{"$f":"'Financial Model'!GX9","v":"2221-12-31"},{"$f":"'Financial Model'!GY9","v":"2222-12-31"},{"$f":"'Financial Model'!GZ9","v":"2223-12-31"},{"$f":"'Financial Model'!HA9","v":"2224-12-31"},{"$f":"'Financial Model'!HB9","v":"2225-12-31"},{"$f":"'Financial Model'!HC9","v":"2226-12-31"},{"$f":"'Financial Model'!HD9","v":"2227-12-31"},{"$f":"'Financial Model'!HE9","v":"2228-12-31"},{"$f":"'Financial Model'!HF9","v":"2229-12-31"},{"$f":"'Financial Model'!HG9","v":"2230-12-31"},{"$f":"'Financial Model'!HH9","v":"2231-12-31"},{"$f":"'Financial Model'!HI9","v":"2232-12-31"},{"$f":"'Financial Model'!HJ9","v":"2233-12-31"},{"$f":"'Financial Model'!HK9","v":"2234-12-31"},{"$f":"'Financial Model'!HL9","v":"2235-12-31"},{"$f":"'Financial Model'!HM9","v":"2236-12-31"},{"$f":"'Financial Model'!HN9","v":"2237-12-31"},{"$f":"'Financial Model'!HO9","v":"2238-12-31"},{"$f":"'Financial Model'!HP9","v":"2239-12-31"},{"$f":"'Financial Model'!HQ9","v":"2240-12-31"},{"$f":"'Financial Model'!HR9","v":"2241-12-31"},{"$f":"'Financial Model'!HS9","v":"2242-12-31"},{"$f":"'Financial Model'!HT9","v":"2243-12-31"},{"$f":"'Financial Model'!HU9","v":"2244-12-31"},{"$f":"'Financial Model'!HV9","v":"2245-12-31"},{"$f":"'Financial Model'!HW9","v":"2246-12-31"},{"$f":"'Financial Model'!HX9","v":"2247-12-31"},{"$f":"'Financial Model'!HY9","v":"2248-12-31"},{"$f":"'Financial Model'!HZ9","v":"2249-12-31"},{"$f":"'Financial Model'!IA9","v":"2250-12-31"},{"$f":"'Financial Model'!IB9","v":"2251-12-31"},{"$f":"'Financial Model'!IC9","v":"2252-12-31"},{"$f":"'Financial Model'!ID9","v":"2253-12-31"},{"$f":"'Financial Model'!IE9","v":"2254-12-31"},{"$f":"'Financial Model'!IF9","v":"2255-12-31"},{"$f":"'Financial Model'!IG9","v":"2256-12-31"},{"$f":"'Financial Model'!IH9","v":"2257-12-31"},{"$f":"'Financial Model'!II9","v":"2258-12-31"},{"$f":"'Financial Model'!IJ9","v":"2259-12-31"},{"$f":"'Financial Model'!IK9","v":"2260-12-31"},{"$f":"'Financial Model'!IL9","v":"2261-12-31"},{"$f":"'Financial Model'!IM9","v":"2262-12-31"},{"$f":"'Financial Model'!IN9","v":"2263-12-31"},{"$f":"'Financial Model'!IO9","v":"2264-12-31"},{"$f":"'Financial Model'!IP9","v":"2265-12-31"},{"$f":"'Financial Model'!IQ9","v":"2266-12-31"},{"$f":"'Financial Model'!IR9","v":"2267-12-31"},{"$f":"'Financial Model'!IS9","v":"2268-12-31"},{"$f":"'Financial Model'!IT9","v":"2269-12-31"},{"$f":"'Financial Model'!IU9","v":"2270-12-31"},{"$f":"'Financial Model'!IV9","v":"2271-12-31"},{"$f":"'Financial Model'!IW9","v":"2272-12-31"},{"$f":"'Financial Model'!IX9","v":"2273-12-31"},{"$f":"'Financial Model'!IY9","v":"2274-12-31"},{"$f":"'Financial Model'!IZ9","v":"2275-12-31"},{"$f":"'Financial Model'!JA9","v":"2276-12-31"},{"$f":"'Financial Model'!JB9","v":"2277-12-31"},{"$f":"'Financial Model'!JC9","v":"2278-12-31"},{"$f":"'Financial Model'!JD9","v":"2279-12-31"},{"$f":"'Financial Model'!JE9","v":"2280-12-31"},{"$f":"'Financial Model'!JF9","v":"2281-12-31"},{"$f":"'Financial Model'!JG9","v":"2282-12-31"},{"$f":"'Financial Model'!JH9","v":"2283-12-31"},{"$f":"'Financial Model'!JI9","v":"2284-12-31"},{"$f":"'Financial Model'!JJ9","v":"2285-12-31"},{"$f":"'Financial Model'!JK9","v":"2286-12-31"},{"$f":"'Financial Model'!JL9","v":"2287-12-31"},{"$f":"'Financial Model'!JM9","v":"2288-12-31"},{"$f":"'Financial Model'!JN9","v":"2289-12-31"},{"$f":"'Financial Model'!JO9","v":"2290-12-31"},{"$f":"'Financial Model'!JP9","v":"2291-12-31"},{"$f":"'Financial Model'!JQ9","v":"2292-12-31"},{"$f":"'Financial Model'!JR9","v":"2293-12-31"},{"$f":"'Financial Model'!JS9","v":"2294-12-31"},{"$f":"'Financial Model'!JT9","v":"2295-12-31"},{"$f":"'Financial Model'!JU9","v":"2296-12-31"},{"$f":"'Financial Model'!JV9","v":"2297-12-31"},{"$f":"'Financial Model'!JW9","v":"2298-12-31"},{"$f":"'Financial Model'!JX9","v":"2299-12-31"},{"$f":"'Financial Model'!JY9","v":"2300-12-31"},{"$f":"'Financial Model'!JZ9","v":"2301-12-31"},{"$f":"'Financial Model'!KA9","v":"2302-12-31"},{"$f":"'Financial Model'!KB9","v":"2303-12-31"},{"$f":"'Financial Model'!KC9","v":"2304-12-31"},{"$f":"'Financial Model'!KD9","v":"2305-12-31"},{"$f":"'Financial Model'!KE9","v":"2306-12-31"},{"$f":"'Financial Model'!KF9","v":"2307-12-31"},{"$f":"'Financial Model'!KG9","v":"2308-12-31"},{"$f":"'Financial Model'!KH9","v":"2309-12-31"},{"$f":"'Financial Model'!KI9","v":"2310-12-31"},{"$f":"'Financial Model'!KJ9","v":"2311-12-31"},{"$f":"'Financial Model'!KK9","v":"2312-12-31"},{"$f":"'Financial Model'!KL9","v":"2313-12-31"},{"$f":"'Financial Model'!KM9","v":"2314-12-31"},{"$f":"'Financial Model'!KN9","v":"2315-12-31"},{"$f":"'Financial Model'!KO9","v":"2316-12-31"},{"$f":"'Financial Model'!KP9","v":"2317-12-31"},{"$f":"'Financial Model'!KQ9","v":"2318-12-31"},{"$f":"'Financial Model'!KR9","v":"2319-12-31"},{"$f":"'Financial Model'!KS9","v":"2320-12-31"},{"$f":"'Financial Model'!KT9","v":"2321-12-31"},{"$f":"'Financial Model'!KU9","v":"2322-12-31"},{"$f":"'Financial Model'!KV9","v":"2323-12-31"},{"$f":"'Financial Model'!KW9","v":"2324-12-31"},{"$f":"'Financial Model'!KX9","v":"2325-12-31"},{"$f":"'Financial Model'!KY9","v":"2326-12-31"},{"$f":"'Financial Model'!KZ9","v":"2327-12-31"},{"$f":"'Financial Model'!LA9","v":"2328-12-31"},{"$f":"'Financial Model'!LB9","v":"2329-12-31"},{"$f":"'Financial Model'!LC9","v":"2330-12-31"},{"$f":"'Financial Model'!LD9","v":"2331-12-31"},{"$f":"'Financial Model'!LE9","v":"2332-12-31"},{"$f":"'Financial Model'!LF9","v":"2333-12-31"},{"$f":"'Financial Model'!LG9","v":"2334-12-31"},{"$f":"'Financial Model'!LH9","v":"2335-12-31"},{"$f":"'Financial Model'!LI9","v":"2336-12-31"},{"$f":"'Financial Model'!LJ9","v":"2337-12-31"},{"$f":"'Financial Model'!LK9","v":"2338-12-31"},{"$f":"'Financial Model'!LL9","v":"2339-12-31"},{"$f":"'Financial Model'!LM9","v":"2340-12-31"},{"$f":"'Financial Model'!LN9","v":"2341-12-31"},{"$f":"'Financial Model'!LO9","v":"2342-12-31"},{"$f":"'Financial Model'!LP9","v":"2343-12-31"},{"$f":"'Financial Model'!LQ9","v":"2344-12-31"},{"$f":"'Financial Model'!LR9","v":"2345-12-31"},{"$f":"'Financial Model'!LS9","v":"2346-12-31"},{"$f":"'Financial Model'!LT9","v":"2347-12-31"},{"$f":"'Financial Model'!LU9","v":"2348-12-31"},{"$f":"'Financial Model'!LV9","v":"2349-12-31"},{"$f":"'Financial Model'!LW9","v":"2350-12-31"},{"$f":"'Financial Model'!LX9","v":"2351-12-31"},{"$f":"'Financial Model'!LY9","v":"2352-12-31"},{"$f":"'Financial Model'!LZ9","v":"2353-12-31"},{"$f":"'Financial Model'!MA9","v":"2354-12-31"},{"$f":"'Financial Model'!MB9","v":"2355-12-31"},{"$f":"'Financial Model'!MC9","v":"2356-12-31"},{"$f":"'Financial Model'!MD9","v":"2357-12-31"},{"$f":"'Financial Model'!ME9","v":"2358-12-31"},{"$f":"'Financial Model'!MF9","v":"2359-12-31"},{"$f":"'Financial Model'!MG9","v":"2360-12-31"},{"$f":"'Financial Model'!MH9","v":"2361-12-31"},{"$f":"'Financial Model'!MI9","v":"2362-12-31"},{"$f":"'Financial Model'!MJ9","v":"2363-12-31"},{"$f":"'Financial Model'!MK9","v":"2364-12-31"},{"$f":"'Financial Model'!ML9","v":"2365-12-31"},{"$f":"'Financial Model'!MM9","v":"2366-12-31"},{"$f":"'Financial Model'!MN9","v":"2367-12-31"},{"$f":"'Financial Model'!MO9","v":"2368-12-31"},{"$f":"'Financial Model'!MP9","v":"2369-12-31"},{"$f":"'Financial Model'!MQ9","v":"2370-12-31"},{"$f":"'Financial Model'!MR9","v":"2371-12-31"},{"$f":"'Financial Model'!MS9","v":"2372-12-31"},{"$f":"'Financial Model'!MT9","v":"2373-12-31"},{"$f":"'Financial Model'!MU9","v":"2374-12-31"},{"$f":"'Financial Model'!MV9","v":"2375-12-31"},{"$f":"'Financial Model'!MW9","v":"2376-12-31"},{"$f":"'Financial Model'!MX9","v":"2377-12-31"},{"$f":"'Financial Model'!MY9","v":"2378-12-31"},{"$f":"'Financial Model'!MZ9","v":"2379-12-31"},{"$f":"'Financial Model'!NA9","v":"2380-12-31"},{"$f":"'Financial Model'!NB9","v":"2381-12-31"},{"$f":"'Financial Model'!NC9","v":"2382-12-31"},{"$f":"'Financial Model'!ND9","v":"2383-12-31"},{"$f":"'Financial Model'!NE9","v":"2384-12-31"},{"$f":"'Financial Model'!NF9","v":"2385-12-31"},{"$f":"'Financial Model'!NG9","v":"2386-12-31"},{"$f":"'Financial Model'!NH9","v":"2387-12-31"},{"$f":"'Financial Model'!NI9","v":"2388-12-31"},{"$f":"'Financial Model'!NJ9","v":"2389-12-31"},{"$f":"'Financial Model'!NK9","v":"2390-12-31"},{"$f":"'Financial Model'!NL9","v":"2391-12-31"},{"$f":"'Financial Model'!NM9","v":"2392-12-31"},{"$f":"'Financial Model'!NN9","v":"2393-12-31"},{"$f":"'Financial Model'!NO9","v":"2394-12-31"},{"$f":"'Financial Model'!NP9","v":"2395-12-31"},{"$f":"'Financial Model'!NQ9","v":"2396-12-31"},{"$f":"'Financial Model'!NR9","v":"2397-12-31"},{"$f":"'Financial Model'!NS9","v":"2398-12-31"},{"$f":"'Financial Model'!NT9","v":"2399-12-31"},{"$f":"'Financial Model'!NU9","v":"2400-12-31"},{"$f":"'Financial Model'!NV9","v":"2401-12-31"},{"$f":"'Financial Model'!NW9","v":"2402-12-31"},{"$f":"'Financial Model'!NX9","v":"2403-12-31"},{"$f":"'Financial Model'!NY9","v":"2404-12-31"},{"$f":"'Financial Model'!NZ9","v":"2405-12-31"},{"$f":"'Financial Model'!OA9","v":"2406-12-31"},{"$f":"'Financial Model'!OB9","v":"2407-12-31"},{"$f":"'Financial Model'!OC9","v":"2408-12-31"},{"$f":"'Financial Model'!OD9","v":"2409-12-31"},{"$f":"'Financial Model'!OE9","v":"2410-12-31"},{"$f":"'Financial Model'!OF9","v":"2411-12-31"},{"$f":"'Financial Model'!OG9","v":"2412-12-31"},{"$f":"'Financial Model'!OH9","v":"2413-12-31"},{"$f":"'Financial Model'!OI9","v":"2414-12-31"},{"$f":"'Financial Model'!OJ9","v":"2415-12-31"},{"$f":"'Financial Model'!OK9","v":"2416-12-31"},{"$f":"'Financial Model'!OL9","v":"2417-12-31"},{"$f":"'Financial Model'!OM9","v":"2418-12-31"},{"$f":"'Financial Model'!ON9","v":"2419-12-31"},{"$f":"'Financial Model'!OO9","v":"2420-12-31"},{"$f":"'Financial Model'!OP9","v":"2421-12-31"},{"$f":"'Financial Model'!OQ9","v":"2422-12-31"},{"$f":"'Financial Model'!OR9","v":"2423-12-31"},{"$f":"'Financial Model'!OS9","v":"2424-12-31"},{"$f":"'Financial Model'!OT9","v":"2425-12-31"},{"$f":"'Financial Model'!OU9","v":"2426-12-31"},{"$f":"'Financial Model'!OV9","v":"2427-12-31"},{"$f":"'Financial Model'!OW9","v":"2428-12-31"},{"$f":"'Financial Model'!OX9","v":"2429-12-31"},{"$f":"'Financial Model'!OY9","v":"2430-12-31"},{"$f":"'Financial Model'!OZ9","v":"2431-12-31"},{"$f":"'Financial Model'!PA9","v":"2432-12-31"},{"$f":"'Financial Model'!PB9","v":"2433-12-31"},{"$f":"'Financial Model'!PC9","v":"2434-12-31"},{"$f":"'Financial Model'!PD9","v":"2435-12-31"},{"$f":"'Financial Model'!PE9","v":"2436-12-31"},{"$f":"'Financial Model'!PF9","v":"2437-12-31"},{"$f":"'Financial Model'!PG9","v":"2438-12-31"},{"$f":"'Financial Model'!PH9","v":"2439-12-31"},{"$f":"'Financial Model'!PI9","v":"2440-12-31"},{"$f":"'Financial Model'!PJ9","v":"2441-12-31"},{"$f":"'Financial Model'!PK9","v":"2442-12-31"},{"$f":"'Financial Model'!PL9","v":"2443-12-31"},{"$f":"'Financial Model'!PM9","v":"2444-12-31"},{"$f":"'Financial Model'!PN9","v":"2445-12-31"},{"$f":"'Financial Model'!PO9","v":"2446-12-31"},{"$f":"'Financial Model'!PP9","v":"2447-12-31"},{"$f":"'Financial Model'!PQ9","v":"2448-12-31"},{"$f":"'Financial Model'!PR9","v":"2449-12-31"},{"$f":"'Financial Model'!PS9","v":"2450-12-31"},{"$f":"'Financial Model'!PT9","v":"2451-12-31"},{"$f":"'Financial Model'!PU9","v":"2452-12-31"},{"$f":"'Financial Model'!PV9","v":"2453-12-31"},{"$f":"'Financial Model'!PW9","v":"2454-12-31"},{"$f":"'Financial Model'!PX9","v":"2455-12-31"},{"$f":"'Financial Model'!PY9","v":"2456-12-31"},{"$f":"'Financial Model'!PZ9","v":"2457-12-31"},{"$f":"'Financial Model'!QA9","v":"2458-12-31"},{"$f":"'Financial Model'!QB9","v":"2459-12-31"},{"$f":"'Financial Model'!QC9","v":"2460-12-31"},{"$f":"'Financial Model'!QD9","v":"2461-12-31"},{"$f":"'Financial Model'!QE9","v":"2462-12-31"},{"$f":"'Financial Model'!QF9","v":"2463-12-31"},{"$f":"'Financial Model'!QG9","v":"2464-12-31"},{"$f":"'Financial Model'!QH9","v":"2465-12-31"},{"$f":"'Financial Model'!QI9","v":"2466-12-31"},{"$f":"'Financial Model'!QJ9","v":"2467-12-31"},{"$f":"'Financial Model'!QK9","v":"2468-12-31"},{"$f":"'Financial Model'!QL9","v":"2469-12-31"},{"$f":"'Financial Model'!QM9","v":"2470-12-31"},{"$f":"'Financial Model'!QN9","v":"2471-12-31"},{"$f":"'Financial Model'!QO9","v":"2472-12-31"},{"$f":"'Financial Model'!QP9","v":"2473-12-31"},{"$f":"'Financial Model'!QQ9","v":"2474-12-31"},{"$f":"'Financial Model'!QR9","v":"2475-12-31"},{"$f":"'Financial Model'!QS9","v":"2476-12-31"},{"$f":"'Financial Model'!QT9","v":"2477-12-31"},{"$f":"'Financial Model'!QU9","v":"2478-12-31"},{"$f":"'Financial Model'!QV9","v":"2479-12-31"},{"$f":"'Financial Model'!QW9","v":"2480-12-31"},{"$f":"'Financial Model'!QX9","v":"2481-12-31"},{"$f":"'Financial Model'!QY9","v":"2482-12-31"},{"$f":"'Financial Model'!QZ9","v":"2483-12-31"},{"$f":"'Financial Model'!RA9","v":"2484-12-31"},{"$f":"'Financial Model'!RB9","v":"2485-12-31"},{"$f":"'Financial Model'!RC9","v":"2486-12-31"},{"$f":"'Financial Model'!RD9","v":"2487-12-31"},{"$f":"'Financial Model'!RE9","v":"2488-12-31"},{"$f":"'Financial Model'!RF9","v":"2489-12-31"},{"$f":"'Financial Model'!RG9","v":"2490-12-31"},{"$f":"'Financial Model'!RH9","v":"2491-12-31"},{"$f":"'Financial Model'!RI9","v":"2492-12-31"},{"$f":"'Financial Model'!RJ9","v":"2493-12-31"},{"$f":"'Financial Model'!RK9","v":"2494-12-31"},{"$f":"'Financial Model'!RL9","v":"2495-12-31"},{"$f":"'Financial Model'!RM9","v":"2496-12-31"},{"$f":"'Financial Model'!RN9","v":"2497-12-31"},{"$f":"'Financial Model'!RO9","v":"2498-12-31"},{"$f":"'Financial Model'!RP9","v":"2499-12-31"},{"$f":"'Financial Model'!RQ9","v":"2500-12-31"},{"$f":"'Financial Model'!RR9","v":"2501-12-31"},{"$f":"'Financial Model'!RS9","v":"2502-12-31"},{"$f":"'Financial Model'!RT9","v":"2503-12-31"},{"$f":"'Financial Model'!RU9","v":"2504-12-31"},{"$f":"'Financial Model'!RV9","v":"2505-12-31"},{"$f":"'Financial Model'!RW9","v":"2506-12-31"},{"$f":"'Financial Model'!RX9","v":"2507-12-31"},{"$f":"'Financial Model'!RY9","v":"2508-12-31"},{"$f":"'Financial Model'!RZ9","v":"2509-12-31"},{"$f":"'Financial Model'!SA9","v":"2510-12-31"},{"$f":"'Financial Model'!SB9","v":"2511-12-31"},{"$f":"'Financial Model'!SC9","v":"2512-12-31"},{"$f":"'Financial Model'!SD9","v":"00:00:00"},{"$f":"'Financial Model'!SE9","v":"00:00:00"},{"$f":"'Financial Model'!SF9","v":"00:00:00"},{"$f":"'Financial Model'!SG9","v":"00:00:00"},{"$f":"'Financial Model'!SH9","v":"00:00:00"},{"$f":"'Financial Model'!SI9","v":"00:00:00"},{"$f":"'Financial Model'!SJ9","v":"00:00:00"},{"$f":"'Financial Model'!SK9","v":"00:00:00"},{"$f":"'Financial Model'!SL9","v":"00:00:00"},{"$f":"'Financial Model'!SM9","v":"00:00:00"},{"$f":"'Financial Model'!SN9","v":"00:00:00"},{"$f":"'Financial Model'!SO9","v":"00:00:00"},{"$f":"'Financial Model'!SP9","v":"00:00:00"},{"$f":"'Financial Model'!SQ9","v":"00:00:00"},{"$f":"'Financial Model'!SR9","v":"00:00:00"},{"$f":"'Financial Model'!SS9","v":"00:00:00"},{"$f":"'Financial Model'!ST9","v":"00:00:00"},{"$f":"'Financial Model'!SU9","v":"00:00:00"},{"$f":"'Financial Model'!SV9","v":"00:00:00"},{"$f":"'Financial Model'!SW9","v":"00:00:00"},{"$f":"'Financial Model'!SX9","v":"00:00:00"},{"$f":"'Financial Model'!SY9","v":"00:00:00"},{"$f":"'Financial Model'!SZ9","v":"00:00:00"},{"$f":"'Financial Model'!TA9","v":"00:00:00"},{"$f":"'Financial Model'!TB9","v":"00:00:00"},{"$f":"'Financial Model'!TC9","v":"00:00:00"},{"$f":"'Financial Model'!TD9","v":"00:00:00"},{"$f":"'Financial Model'!TE9","v":"00:00:00"},{"$f":"'Financial Model'!TF9","v":"00:00:00"},{"$f":"'Financial Model'!TG9","v":"00:00:00"},{"$f":"'Financial Model'!TH9","v":"00:00:00"},{"$f":"'Financial Model'!TI9","v":"00:00:00"},{"$f":"'Financial Model'!TJ9","v":"00:00:00"},{"$f":"'Financial Model'!TK9","v":"00:00:00"},{"$f":"'Financial Model'!TL9","v":"00:00:00"},{"$f":"'Financial Model'!TM9","v":"00:00:00"},{"$f":"'Financial Model'!TN9","v":"00:00:00"},{"$f":"'Financial Model'!TO9","v":"00:00:00"},{"$f":"'Financial Model'!TP9","v":"00:00:00"},{"$f":"'Financial Model'!TQ9","v":"00:00:00"},{"$f":"'Financial Model'!TR9","v":"00:00:00"},{"$f":"'Financial Model'!TS9","v":"00:00:00"},{"$f":"'Financial Model'!TT9","v":"00:00:00"},{"$f":"'Financial Model'!TU9","v":"00:00:00"},{"$f":"'Financial Model'!TV9","v":"00:00:00"},{"$f":"'Financial Model'!TW9","v":"00:00:00"},{"$f":"'Financial Model'!TX9","v":"00:00:00"},{"$f":"'Financial Model'!TY9","v":"00:00:00"},{"$f":"'Financial Model'!TZ9","v":"00:00:00"}]
[]
[null,null,null,null,null,"Month","Average","Pct of Yr"]
[null,null,null,null,null,1,269.83737973967112,8.4185738673971666E-2,null,{"$f":"Find_Month(J$35,J$36,$F39)","v":true},{"$f":"Find_Month(K$35,K$36,$F39)","v":true},{"$f":"Find_Month(L$35,L$36,$F39)","v":true},{"$f":"Find_Month(M$35,M$36,$F39)","v":true},{"$f":"Find_Month(N$35,N$36,$F39)","v":true},{"$f":"Find_Month(O$35,O$36,$F39)","v":true},{"$f":"Find_Month(P$35,P$36,$F39)","v":true},{"$f":"Find_Month(Q$35,Q$36,$F39)","v":true},{"$f":"Find_Month(R$35,R$36,$F39)","v":true},{"$f":"Find_Month(S$35,S$36,$F39)","v":true},{"$f":"Find_Month(T$35,T$36,$F39)","v":true},{"$f":"Find_Month(U$35,U$36,$F39)","v":true},{"$f":"Find_Month(V$35,V$36,$F39)","v":true},{"$f":"Find_Month(W$35,W$36,$F39)","v":true},{"$f":"Find_Month(X$35,X$36,$F39)","v":true},{"$f":"Find_Month(Y$35,Y$36,$F39)","v":true},{"$f":"Find_Month(Z$35,Z$36,$F39)","v":true},{"$f":"Find_Month(AA$35,AA$36,$F39)","v":true},{"$f":"Find_Month(AB$35,AB$36,$F39)","v":true},{"$f":"Find_Month(AC$35,AC$36,$F39)","v":true},{"$f":"Find_Month(AD$35,AD$36,$F39)","v":true},{"$f":"Find_Month(AE$35,AE$36,$F39)","v":true},{"$f":"Find_Month(AF$35,AF$36,$F39)","v":true},{"$f":"Find_Month(AG$35,AG$36,$F39)","v":true},{"$f":"Find_Month(AH$35,AH$36,$F39)","v":true},{"$f":"Find_Month(AI$35,AI$36,$F39)","v":true},{"$f":"Find_Month(AJ$35,AJ$36,$F39)","v":true},{"$f":"Find_Month(AK$35,AK$36,$F39)","v":true},{"$f":"Find_Month(AL$35,AL$36,$F39)","v":true},{"$f":"Find_Month(AM$35,AM$36,$F39)","v":true},{"$f":"Find_Month(AN$35,AN$36,$F39)","v":true},{"$f":"Find_Month(AO$35,AO$36,$F39)","v":true},{"$f":"Find_Month(AP$35,AP$36,$F39)","v":true},{"$f":"Find_Month(AQ$35,AQ$36,$F39)","v":true},{"$f":"Find_Month(AR$35,AR$36,$F39)","v":true},{"$f":"Find_Month(AS$35,AS$36,$F39)","v":true},{"$f":"Find_Month(AT$35,AT$36,$F39)","v":true},{"$f":"Find_Month(AU$35,AU$36,$F39)","v":true},{"$f":"Find_Month(AV$35,AV$36,$F39)","v":true},{"$f":"Find_Month(AW$35,AW$36,$F39)","v":true},{"$f":"Find_Month(AX$35,AX$36,$F39)","v":true},{"$f":"Find_Month(AY$35,AY$36,$F39)","v":true},{"$f":"Find_Month(AZ$35,AZ$36,$F39)","v":true},{"$f":"Find_Month(BA$35,BA$36,$F39)","v":true},{"$f":"Find_Month(BB$35,BB$36,$F39)","v":true},{"$f":"Find_Month(BC$35,BC$36,$F39)","v":true},{"$f":"Find_Month(BD$35,BD$36,$F39)","v":true},{"$f":"Find_Month(BE$35,BE$36,$F39)","v":true},{"$f":"Find_Month(BF$35,BF$36,$F39)","v":true},{"$f":"Find_Month(BG$35,BG$36,$F39)","v":true},{"$f":"Find_Month(BH$35,BH$36,$F39)","v":true},{"$f":"Find_Month(BI$35,BI$36,$F39)","v":true},{"$f":"Find_Month(BJ$35,BJ$36,$F39)","v":true},{"$f":"Find_Month(BK$35,BK$36,$F39)","v":true},{"$f":"Find_Month(BL$35,BL$36,$F39)","v":true},{"$f":"Find_Month(BM$35,BM$36,$F39)","v":true},{"$f":"Find_Month(BN$35,BN$36,$F39)","v":true},{"$f":"Find_Month(BO$35,BO$36,$F39)","v":true},{"$f":"Find_Month(BP$35,BP$36,$F39)","v":true},{"$f":"Find_Month(BQ$35,BQ$36,$F39)","v":true},{"$f":"Find_Month(BR$35,BR$36,$F39)","v":true},{"$f":"Find_Month(BS$35,BS$36,$F39)","v":true},{"$f":"Find_Month(BT$35,BT$36,$F39)","v":true},{"$f":"Find_Month(BU$35,BU$36,$F39)","v":true},{"$f":"Find_Month(BV$35,BV$36,$F39)","v":true},{"$f":"Find_Month(BW$35,BW$36,$F39)","v":true},{"$f":"Find_Month(BX$35,BX$36,$F39)","v":true},{"$f":"Find_Month(BY$35,BY$36,$F39)","v":true},{"$f":"Find_Month(BZ$35,BZ$36,$F39)","v":true},{"$f":"Find_Month(CA$35,CA$36,$F39)","v":true},{"$f":"Find_Month(CB$35,CB$36,$F39)","v":true},{"$f":"Find_Month(CC$35,CC$36,$F39)","v":true},{"$f":"Find_Month(CD$35,CD$36,$F39)","v":true},{"$f":"Find_Month(CE$35,CE$36,$F39)","v":true},{"$f":"Find_Month(CF$35,CF$36,$F39)","v":true},{"$f":"Find_Month(CG$35,CG$36,$F39)","v":true},{"$f":"Find_Month(CH$35,CH$36,$F39)","v":true},{"$f":"Find_Month(CI$35,CI$36,$F39)","v":true},{"$f":"Find_Month(CJ$35,CJ$36,$F39)","v":true},{"$f":"Find_Month(CK$35,CK$36,$F39)","v":true},{"$f":"Find_Month(CL$35,CL$36,$F39)","v":true},{"$f":"Find_Month(CM$35,CM$36,$F39)","v":true},{"$f":"Find_Month(CN$35,CN$36,$F39)","v":true},{"$f":"Find_Month(CO$35,CO$36,$F39)","v":true},{"$f":"Find_Month(CP$35,CP$36,$F39)","v":true},{"$f":"Find_Month(CQ$35,CQ$36,$F39)","v":true},{"$f":"Find_Month(CR$35,CR$36,$F39)","v":true},{"$f":"Find_Month(CS$35,CS$36,$F39)","v":true},{"$f":"Find_Month(CT$35,CT$36,$F39)","v":true},{"$f":"Find_Month(CU$35,CU$36,$F39)","v":true},{"$f":"Find_Month(CV$35,CV$36,$F39)","v":true},{"$f":"Find_Month(CW$35,CW$36,$F39)","v":true},{"$f":"Find_Month(CX$35,CX$36,$F39)","v":true},{"$f":"Find_Month(CY$35,CY$36,$F39)","v":true},{"$f":"Find_Month(CZ$35,CZ$36,$F39)","v":true},{"$f":"Find_Month(DA$35,DA$36,$F39)","v":true},{"$f":"Find_Month(DB$35,DB$36,$F39)","v":true},{"$f":"Find_Month(DC$35,DC$36,$F39)","v":true},{"$f":"Find_Month(DD$35,DD$36,$F39)","v":true},{"$f":"Find_Month(DE$35,DE$36,$F39)","v":true},{"$f":"Find_Month(DF$35,DF$36,$F39)","v":true},{"$f":"Find_Month(DG$35,DG$36,$F39)","v":true},{"$f":"Find_Month(DH$35,DH$36,$F39)","v":true},{"$f":"Find_Month(DI$35,DI$36,$F39)","v":true},{"$f":"Find_Month(DJ$35,DJ$36,$F39)","v":true},{"$f":"Find_Month(DK$35,DK$36,$F39)","v":true},{"$f":"Find_Month(DL$35,DL$36,$F39)","v":true},{"$f":"Find_Month(DM$35,DM$36,$F39)","v":true},{"$f":"Find_Month(DN$35,DN$36,$F39)","v":true},{"$f":"Find_Month(DO$35,DO$36,$F39)","v":true},{"$f":"Find_Month(DP$35,DP$36,$F39)","v":true},{"$f":"Find_Month(DQ$35,DQ$36,$F39)","v":true},{"$f":"Find_Month(DR$35,DR$36,$F39)","v":true},{"$f":"Find_Month(DS$35,DS$36,$F39)","v":true},{"$f":"Find_Month(DT$35,DT$36,$F39)","v":true},{"$f":"Find_Month(DU$35,DU$36,$F39)","v":true},{"$f":"Find_Month(DV$35,DV$36,$F39)","v":true},{"$f":"Find_Month(DW$35,DW$36,$F39)","v":true},{"$f":"Find_Month(DX$35,DX$36,$F39)","v":true},{"$f":"Find_Month(DY$35,DY$36,$F39)","v":true},{"$f":"Find_Month(DZ$35,DZ$36,$F39)","v":true},{"$f":"Find_Month(EA$35,EA$36,$F39)","v":true},{"$f":"Find_Month(EB$35,EB$36,$F39)","v":true},{"$f":"Find_Month(EC$35,EC$36,$F39)","v":true},{"$f":"Find_Month(ED$35,ED$36,$F39)","v":true},{"$f":"Find_Month(EE$35,EE$36,$F39)","v":true},{"$f":"Find_Month(EF$35,EF$36,$F39)","v":true},{"$f":"Find_Month(EG$35,EG$36,$F39)","v":true},{"$f":"Find_Month(EH$35,EH$36,$F39)","v":true},{"$f":"Find_Month(EI$35,EI$36,$F39)","v":true},{"$f":"Find_Month(EJ$35,EJ$36,$F39)","v":true},{"$f":"Find_Month(EK$35,EK$36,$F39)","v":true},{"$f":"Find_Month(EL$35,EL$36,$F39)","v":true},{"$f":"Find_Month(EM$35,EM$36,$F39)","v":true},{"$f":"Find_Month(EN$35,EN$36,$F39)","v":true},{"$f":"Find_Month(EO$35,EO$36,$F39)","v":true},{"$f":"Find_Month(EP$35,EP$36,$F39)","v":true},{"$f":"Find_Month(EQ$35,EQ$36,$F39)","v":true},{"$f":"Find_Month(ER$35,ER$36,$F39)","v":true},{"$f":"Find_Month(ES$35,ES$36,$F39)","v":true},{"$f":"Find_Month(ET$35,ET$36,$F39)","v":true},{"$f":"Find_Month(EU$35,EU$36,$F39)","v":true},{"$f":"Find_Month(EV$35,EV$36,$F39)","v":true},{"$f":"Find_Month(EW$35,EW$36,$F39)","v":true},{"$f":"Find_Month(EX$35,EX$36,$F39)","v":true},{"$f":"Find_Month(EY$35,EY$36,$F39)","v":true},{"$f":"Find_Month(EZ$35,EZ$36,$F39)","v":true},{"$f":"Find_Month(FA$35,FA$36,$F39)","v":true},{"$f":"Find_Month(FB$35,FB$36,$F39)","v":true},{"$f":"Find_Month(FC$35,FC$36,$F39)","v":true},{"$f":"Find_Month(FD$35,FD$36,$F39)","v":true},{"$f":"Find_Month(FE$35,FE$36,$F39)","v":true},{"$f":"Find_Month(FF$35,FF$36,$F39)","v":true},{"$f":"Find_Month(FG$35,FG$36,$F39)","v":true},{"$f":"Find_Month(FH$35,FH$36,$F39)","v":true},{"$f":"Find_Month(FI$35,FI$36,$F39)","v":true},{"$f":"Find_Month(FJ$35,FJ$36,$F39)","v":true},{"$f":"Find_Month(FK$35,FK$36,$F39)","v":true},{"$f":"Find_Month(FL$35,FL$36,$F39)","v":true},{"$f":"Find_Month(FM$35,FM$36,$F39)","v":true},{"$f":"Find_Month(FN$35,FN$36,$F39)","v":true},{"$f":"Find_Month(FO$35,FO$36,$F39)","v":true},{"$f":"Find_Month(FP$35,FP$36,$F39)","v":true},{"$f":"Find_Month(FQ$35,FQ$36,$F39)","v":true},{"$f":"Find_Month(FR$35,FR$36,$F39)","v":true},{"$f":"Find_Month(FS$35,FS$36,$F39)","v":true},{"$f":"Find_Month(FT$35,FT$36,$F39)","v":true},{"$f":"Find_Month(FU$35,FU$36,$F39)","v":true},{"$f":"Find_Month(FV$35,FV$36,$F39)","v":true},{"$f":"Find_Month(FW$35,FW$36,$F39)","v":true},{"$f":"Find_Month(FX$35,FX$36,$F39)","v":true},{"$f":"Find_Month(FY$35,FY$36,$F39)","v":true},{"$f":"Find_Month(FZ$35,FZ$36,$F39)","v":true},{"$f":"Find_Month(GA$35,GA$36,$F39)","v":true},{"$f":"Find_Month(GB$35,GB$36,$F39)","v":true},{"$f":"Find_Month(GC$35,GC$36,$F39)","v":true},{"$f":"Find_Month(GD$35,GD$36,$F39)","v":true},{"$f":"Find_Month(GE$35,GE$36,$F39)","v":true},{"$f":"Find_Month(GF$35,GF$36,$F39)","v":true},{"$f":"Find_Month(GG$35,GG$36,$F39)","v":true},{"$f":"Find_Month(GH$35,GH$36,$F39)","v":true},{"$f":"Find_Month(GI$35,GI$36,$F39)","v":true},{"$f":"Find_Month(GJ$35,GJ$36,$F39)","v":true},{"$f":"Find_Month(GK$35,GK$36,$F39)","v":true},{"$f":"Find_Month(GL$35,GL$36,$F39)","v":true},{"$f":"Find_Month(GM$35,GM$36,$F39)","v":true},{"$f":"Find_Month(GN$35,GN$36,$F39)","v":true},{"$f":"Find_Month(GO$35,GO$36,$F39)","v":true},{"$f":"Find_Month(GP$35,GP$36,$F39)","v":true},{"$f":"Find_Month(GQ$35,GQ$36,$F39)","v":true},{"$f":"Find_Month(GR$35,GR$36,$F39)","v":true},{"$f":"Find_Month(GS$35,GS$36,$F39)","v":true},{"$f":"Find_Month(GT$35,GT$36,$F39)","v":true},{"$f":"Find_Month(GU$35,GU$36,$F39)","v":true},{"$f":"Find_Month(GV$35,GV$36,$F39)","v":true},{"$f":"Find_Month(GW$35,GW$36,$F39)","v":true},{"$f":"Find_Month(GX$35,GX$36,$F39)","v":true},{"$f":"Find_Month(GY$35,GY$36,$F39)","v":true},{"$f":"Find_Month(GZ$35,GZ$36,$F39)","v":true},{"$f":"Find_Month(HA$35,HA$36,$F39)","v":true},{"$f":"Find_Month(HB$35,HB$36,$F39)","v":true},{"$f":"Find_Month(HC$35,HC$36,$F39)","v":true},{"$f":"Find_Month(HD$35,HD$36,$F39)","v":true},{"$f":"Find_Month(HE$35,HE$36,$F39)","v":true},{"$f":"Find_Month(HF$35,HF$36,$F39)","v":true},{"$f":"Find_Month(HG$35,HG$36,$F39)","v":true},{"$f":"Find_Month(HH$35,HH$36,$F39)","v":true},{"$f":"Find_Month(HI$35,HI$36,$F39)","v":true},{"$f":"Find_Month(HJ$35,HJ$36,$F39)","v":true},{"$f":"Find_Month(HK$35,HK$36,$F39)","v":true},{"$f":"Find_Month(HL$35,HL$36,$F39)","v":true},{"$f":"Find_Month(HM$35,HM$36,$F39)","v":true},{"$f":"Find_Month(HN$35,HN$36,$F39)","v":true},{"$f":"Find_Month(HO$35,HO$36,$F39)","v":true},{"$f":"Find_Month(HP$35,HP$36,$F39)","v":true},{"$f":"Find_Month(HQ$35,HQ$36,$F39)","v":true},{"$f":"Find_Month(HR$35,HR$36,$F39)","v":true},{"$f":"Find_Month(HS$35,HS$36,$F39)","v":true},{"$f":"Find_Month(HT$35,HT$36,$F39)","v":true},{"$f":"Find_Month(HU$35,HU$36,$F39)","v":true},{"$f":"Find_Month(HV$35,HV$36,$F39)","v":true},{"$f":"Find_Month(HW$35,HW$36,$F39)","v":true},{"$f":"Find_Month(HX$35,HX$36,$F39)","v":true},{"$f":"Find_Month(HY$35,HY$36,$F39)","v":true},{"$f":"Find_Month(HZ$35,HZ$36,$F39)","v":true},{"$f":"Find_Month(IA$35,IA$36,$F39)","v":true},{"$f":"Find_Month(IB$35,IB$36,$F39)","v":true},{"$f":"Find_Month(IC$35,IC$36,$F39)","v":true},{"$f":"Find_Month(ID$35,ID$36,$F39)","v":true},{"$f":"Find_Month(IE$35,IE$36,$F39)","v":true},{"$f":"Find_Month(IF$35,IF$36,$F39)","v":true},{"$f":"Find_Month(IG$35,IG$36,$F39)","v":true},{"$f":"Find_Month(IH$35,IH$36,$F39)","v":true},{"$f":"Find_Month(II$35,II$36,$F39)","v":true},{"$f":"Find_Month(IJ$35,IJ$36,$F39)","v":true},{"$f":"Find_Month(IK$35,IK$36,$F39)","v":true},{"$f":"Find_Month(IL$35,IL$36,$F39)","v":true},{"$f":"Find_Month(IM$35,IM$36,$F39)","v":true},{"$f":"Find_Month(IN$35,IN$36,$F39)","v":true},{"$f":"Find_Month(IO$35,IO$36,$F39)","v":true},{"$f":"Find_Month(IP$35,IP$36,$F39)","v":true},{"$f":"Find_Month(IQ$35,IQ$36,$F39)","v":true},{"$f":"Find_Month(IR$35,IR$36,$F39)","v":true},{"$f":"Find_Month(IS$35,IS$36,$F39)","v":true},{"$f":"Find_Month(IT$35,IT$36,$F39)","v":true},{"$f":"Find_Month(IU$35,IU$36,$F39)","v":true},{"$f":"Find_Month(IV$35,IV$36,$F39)","v":true},{"$f":"Find_Month(IW$35,IW$36,$F39)","v":true},{"$f":"Find_Month(IX$35,IX$36,$F39)","v":true},{"$f":"Find_Month(IY$35,IY$36,$F39)","v":true},{"$f":"Find_Month(IZ$35,IZ$36,$F39)","v":true},{"$f":"Find_Month(JA$35,JA$36,$F39)","v":true},{"$f":"Find_Month(JB$35,JB$36,$F39)","v":true},{"$f":"Find_Month(JC$35,JC$36,$F39)","v":true},{"$f":"Find_Month(JD$35,JD$36,$F39)","v":true},{"$f":"Find_Month(JE$35,JE$36,$F39)","v":true},{"$f":"Find_Month(JF$35,JF$36,$F39)","v":true},{"$f":"Find_Month(JG$35,JG$36,$F39)","v":true},{"$f":"Find_Month(JH$35,JH$36,$F39)","v":true},{"$f":"Find_Month(JI$35,JI$36,$F39)","v":true},{"$f":"Find_Month(JJ$35,JJ$36,$F39)","v":true},{"$f":"Find_Month(JK$35,JK$36,$F39)","v":true},{"$f":"Find_Month(JL$35,JL$36,$F39)","v":true},{"$f":"Find_Month(JM$35,JM$36,$F39)","v":true},{"$f":"Find_Month(JN$35,JN$36,$F39)","v":true},{"$f":"Find_Month(JO$35,JO$36,$F39)","v":true},{"$f":"Find_Month(JP$35,JP$36,$F39)","v":true},{"$f":"Find_Month(JQ$35,JQ$36,$F39)","v":true},{"$f":"Find_Month(JR$35,JR$36,$F39)","v":true},{"$f":"Find_Month(JS$35,JS$36,$F39)","v":true},{"$f":"Find_Month(JT$35,JT$36,$F39)","v":true},{"$f":"Find_Month(JU$35,JU$36,$F39)","v":true},{"$f":"Find_Month(JV$35,JV$36,$F39)","v":true},{"$f":"Find_Month(JW$35,JW$36,$F39)","v":true},{"$f":"Find_Month(JX$35,JX$36,$F39)","v":true},{"$f":"Find_Month(JY$35,JY$36,$F39)","v":true},{"$f":"Find_Month(JZ$35,JZ$36,$F39)","v":true},{"$f":"Find_Month(KA$35,KA$36,$F39)","v":true},{"$f":"Find_Month(KB$35,KB$36,$F39)","v":true},{"$f":"Find_Month(KC$35,KC$36,$F39)","v":true},{"$f":"Find_Month(KD$35,KD$36,$F39)","v":true},{"$f":"Find_Month(KE$35,KE$36,$F39)","v":true},{"$f":"Find_Month(KF$35,KF$36,$F39)","v":true},{"$f":"Find_Month(KG$35,KG$36,$F39)","v":true},{"$f":"Find_Month(KH$35,KH$36,$F39)","v":true},{"$f":"Find_Month(KI$35,KI$36,$F39)","v":true},{"$f":"Find_Month(KJ$35,KJ$36,$F39)","v":true},{"$f":"Find_Month(KK$35,KK$36,$F39)","v":true},{"$f":"Find_Month(KL$35,KL$36,$F39)","v":true},{"$f":"Find_Month(KM$35,KM$36,$F39)","v":true},{"$f":"Find_Month(KN$35,KN$36,$F39)","v":true},{"$f":"Find_Month(KO$35,KO$36,$F39)","v":true},{"$f":"Find_Month(KP$35,KP$36,$F39)","v":true},{"$f":"Find_Month(KQ$35,KQ$36,$F39)","v":true},{"$f":"Find_Month(KR$35,KR$36,$F39)","v":true},{"$f":"Find_Month(KS$35,KS$36,$F39)","v":true},{"$f":"Find_Month(KT$35,KT$36,$F39)","v":true},{"$f":"Find_Month(KU$35,KU$36,$F39)","v":true},{"$f":"Find_Month(KV$35,KV$36,$F39)","v":true},{"$f":"Find_Month(KW$35,KW$36,$F39)","v":true},{"$f":"Find_Month(KX$35,KX$36,$F39)","v":true},{"$f":"Find_Month(KY$35,KY$36,$F39)","v":true},{"$f":"Find_Month(KZ$35,KZ$36,$F39)","v":true},{"$f":"Find_Month(LA$35,LA$36,$F39)","v":true},{"$f":"Find_Month(LB$35,LB$36,$F39)","v":true},{"$f":"Find_Month(LC$35,LC$36,$F39)","v":true},{"$f":"Find_Month(LD$35,LD$36,$F39)","v":true},{"$f":"Find_Month(LE$35,LE$36,$F39)","v":true},{"$f":"Find_Month(LF$35,LF$36,$F39)","v":true},{"$f":"Find_Month(LG$35,LG$36,$F39)","v":true},{"$f":"Find_Month(LH$35,LH$36,$F39)","v":true},{"$f":"Find_Month(LI$35,LI$36,$F39)","v":true},{"$f":"Find_Month(LJ$35,LJ$36,$F39)","v":true},{"$f":"Find_Month(LK$35,LK$36,$F39)","v":true},{"$f":"Find_Month(LL$35,LL$36,$F39)","v":true},{"$f":"Find_Month(LM$35,LM$36,$F39)","v":true},{"$f":"Find_Month(LN$35,LN$36,$F39)","v":true},{"$f":"Find_Month(LO$35,LO$36,$F39)","v":true},{"$f":"Find_Month(LP$35,LP$36,$F39)","v":true},{"$f":"Find_Month(LQ$35,LQ$36,$F39)","v":true},{"$f":"Find_Month(LR$35,LR$36,$F39)","v":true},{"$f":"Find_Month(LS$35,LS$36,$F39)","v":true},{"$f":"Find_Month(LT$35,LT$36,$F39)","v":true},{"$f":"Find_Month(LU$35,LU$36,$F39)","v":true},{"$f":"Find_Month(LV$35,LV$36,$F39)","v":true},{"$f":"Find_Month(LW$35,LW$36,$F39)","v":true},{"$f":"Find_Month(LX$35,LX$36,$F39)","v":true},{"$f":"Find_Month(LY$35,LY$36,$F39)","v":true},{"$f":"Find_Month(LZ$35,LZ$36,$F39)","v":true},{"$f":"Find_Month(MA$35,MA$36,$F39)","v":true},{"$f":"Find_Month(MB$35,MB$36,$F39)","v":true},{"$f":"Find_Month(MC$35,MC$36,$F39)","v":true},{"$f":"Find_Month(MD$35,MD$36,$F39)","v":true},{"$f":"Find_Month(ME$35,ME$36,$F39)","v":true},{"$f":"Find_Month(MF$35,MF$36,$F39)","v":true},{"$f":"Find_Month(MG$35,MG$36,$F39)","v":true},{"$f":"Find_Month(MH$35,MH$36,$F39)","v":true},{"$f":"Find_Month(MI$35,MI$36,$F39)","v":true},{"$f":"Find_Month(MJ$35,MJ$36,$F39)","v":true},{"$f":"Find_Month(MK$35,MK$36,$F39)","v":true},{"$f":"Find_Month(ML$35,ML$36,$F39)","v":true},{"$f":"Find_Month(MM$35,MM$36,$F39)","v":true},{"$f":"Find_Month(MN$35,MN$36,$F39)","v":true},{"$f":"Find_Month(MO$35,MO$36,$F39)","v":true},{"$f":"Find_Month(MP$35,MP$36,$F39)","v":true},{"$f":"Find_Month(MQ$35,MQ$36,$F39)","v":true},{"$f":"Find_Month(MR$35,MR$36,$F39)","v":true},{"$f":"Find_Month(MS$35,MS$36,$F39)","v":true},{"$f":"Find_Month(MT$35,MT$36,$F39)","v":true},{"$f":"Find_Month(MU$35,MU$36,$F39)","v":true},{"$f":"Find_Month(MV$35,MV$36,$F39)","v":true},{"$f":"Find_Month(MW$35,MW$36,$F39)","v":true},{"$f":"Find_Month(MX$35,MX$36,$F39)","v":true},{"$f":"Find_Month(MY$35,MY$36,$F39)","v":true},{"$f":"Find_Month(MZ$35,MZ$36,$F39)","v":true},{"$f":"Find_Month(NA$35,NA$36,$F39)","v":true},{"$f":"Find_Month(NB$35,NB$36,$F39)","v":true},{"$f":"Find_Month(NC$35,NC$36,$F39)","v":true},{"$f":"Find_Month(ND$35,ND$36,$F39)","v":true},{"$f":"Find_Month(NE$35,NE$36,$F39)","v":true},{"$f":"Find_Month(NF$35,NF$36,$F39)","v":true},{"$f":"Find_Month(NG$35,NG$36,$F39)","v":true},{"$f":"Find_Month(NH$35,NH$36,$F39)","v":true},{"$f":"Find_Month(NI$35,NI$36,$F39)","v":true},{"$f":"Find_Month(NJ$35,NJ$36,$F39)","v":true},{"$f":"Find_Month(NK$35,NK$36,$F39)","v":true},{"$f":"Find_Month(NL$35,NL$36,$F39)","v":true},{"$f":"Find_Month(NM$35,NM$36,$F39)","v":true},{"$f":"Find_Month(NN$35,NN$36,$F39)","v":true},{"$f":"Find_Month(NO$35,NO$36,$F39)","v":true},{"$f":"Find_Month(NP$35,NP$36,$F39)","v":true},{"$f":"Find_Month(NQ$35,NQ$36,$F39)","v":true},{"$f":"Find_Month(NR$35,NR$36,$F39)","v":true},{"$f":"Find_Month(NS$35,NS$36,$F39)","v":true},{"$f":"Find_Month(NT$35,NT$36,$F39)","v":true},{"$f":"Find_Month(NU$35,NU$36,$F39)","v":true},{"$f":"Find_Month(NV$35,NV$36,$F39)","v":true},{"$f":"Find_Month(NW$35,NW$36,$F39)","v":true},{"$f":"Find_Month(NX$35,NX$36,$F39)","v":true},{"$f":"Find_Month(NY$35,NY$36,$F39)","v":true},{"$f":"Find_Month(NZ$35,NZ$36,$F39)","v":true},{"$f":"Find_Month(OA$35,OA$36,$F39)","v":true},{"$f":"Find_Month(OB$35,OB$36,$F39)","v":true},{"$f":"Find_Month(OC$35,OC$36,$F39)","v":true},{"$f":"Find_Month(OD$35,OD$36,$F39)","v":true},{"$f":"Find_Month(OE$35,OE$36,$F39)","v":true},{"$f":"Find_Month(OF$35,OF$36,$F39)","v":true},{"$f":"Find_Month(OG$35,OG$36,$F39)","v":true},{"$f":"Find_Month(OH$35,OH$36,$F39)","v":true},{"$f":"Find_Month(OI$35,OI$36,$F39)","v":true},{"$f":"Find_Month(OJ$35,OJ$36,$F39)","v":true},{"$f":"Find_Month(OK$35,OK$36,$F39)","v":true},{"$f":"Find_Month(OL$35,OL$36,$F39)","v":true},{"$f":"Find_Month(OM$35,OM$36,$F39)","v":true},{"$f":"Find_Month(ON$35,ON$36,$F39)","v":true},{"$f":"Find_Month(OO$35,OO$36,$F39)","v":true},{"$f":"Find_Month(OP$35,OP$36,$F39)","v":true},{"$f":"Find_Month(OQ$35,OQ$36,$F39)","v":true},{"$f":"Find_Month(OR$35,OR$36,$F39)","v":true},{"$f":"Find_Month(OS$35,OS$36,$F39)","v":true},{"$f":"Find_Month(OT$35,OT$36,$F39)","v":true},{"$f":"Find_Month(OU$35,OU$36,$F39)","v":true},{"$f":"Find_Month(OV$35,OV$36,$F39)","v":true},{"$f":"Find_Month(OW$35,OW$36,$F39)","v":true},{"$f":"Find_Month(OX$35,OX$36,$F39)","v":true},{"$f":"Find_Month(OY$35,OY$36,$F39)","v":true},{"$f":"Find_Month(OZ$35,OZ$36,$F39)","v":true},{"$f":"Find_Month(PA$35,PA$36,$F39)","v":true},{"$f":"Find_Month(PB$35,PB$36,$F39)","v":true},{"$f":"Find_Month(PC$35,PC$36,$F39)","v":true},{"$f":"Find_Month(PD$35,PD$36,$F39)","v":true},{"$f":"Find_Month(PE$35,PE$36,$F39)","v":true},{"$f":"Find_Month(PF$35,PF$36,$F39)","v":true},{"$f":"Find_Month(PG$35,PG$36,$F39)","v":true},{"$f":"Find_Month(PH$35,PH$36,$F39)","v":true},{"$f":"Find_Month(PI$35,PI$36,$F39)","v":true},{"$f":"Find_Month(PJ$35,PJ$36,$F39)","v":true},{"$f":"Find_Month(PK$35,PK$36,$F39)","v":true},{"$f":"Find_Month(PL$35,PL$36,$F39)","v":true},{"$f":"Find_Month(PM$35,PM$36,$F39)","v":true},{"$f":"Find_Month(PN$35,PN$36,$F39)","v":true},{"$f":"Find_Month(PO$35,PO$36,$F39)","v":true},{"$f":"Find_Month(PP$35,PP$36,$F39)","v":true},{"$f":"Find_Month(PQ$35,PQ$36,$F39)","v":true},{"$f":"Find_Month(PR$35,PR$36,$F39)","v":true},{"$f":"Find_Month(PS$35,PS$36,$F39)","v":true},{"$f":"Find_Month(PT$35,PT$36,$F39)","v":true},{"$f":"Find_Month(PU$35,PU$36,$F39)","v":true},{"$f":"Find_Month(PV$35,PV$36,$F39)","v":true},{"$f":"Find_Month(PW$35,PW$36,$F39)","v":true},{"$f":"Find_Month(PX$35,PX$36,$F39)","v":true},{"$f":"Find_Month(PY$35,PY$36,$F39)","v":true},{"$f":"Find_Month(PZ$35,PZ$36,$F39)","v":true},{"$f":"Find_Month(QA$35,QA$36,$F39)","v":true},{"$f":"Find_Month(QB$35,QB$36,$F39)","v":true},{"$f":"Find_Month(QC$35,QC$36,$F39)","v":true},{"$f":"Find_Month(QD$35,QD$36,$F39)","v":true},{"$f":"Find_Month(QE$35,QE$36,$F39)","v":true},{"$f":"Find_Month(QF$35,QF$36,$F39)","v":true},{"$f":"Find_Month(QG$35,QG$36,$F39)","v":true},{"$f":"Find_Month(QH$35,QH$36,$F39)","v":true},{"$f":"Find_Month(QI$35,QI$36,$F39)","v":true},{"$f":"Find_Month(QJ$35,QJ$36,$F39)","v":true},{"$f":"Find_Month(QK$35,QK$36,$F39)","v":true},{"$f":"Find_Month(QL$35,QL$36,$F39)","v":true},{"$f":"Find_Month(QM$35,QM$36,$F39)","v":true},{"$f":"Find_Month(QN$35,QN$36,$F39)","v":true},{"$f":"Find_Month(QO$35,QO$36,$F39)","v":true},{"$f":"Find_Month(QP$35,QP$36,$F39)","v":true},{"$f":"Find_Month(QQ$35,QQ$36,$F39)","v":true},{"$f":"Find_Month(QR$35,QR$36,$F39)","v":true},{"$f":"Find_Month(QS$35,QS$36,$F39)","v":true},{"$f":"Find_Month(QT$35,QT$36,$F39)","v":true},{"$f":"Find_Month(QU$35,QU$36,$F39)","v":true},{"$f":"Find_Month(QV$35,QV$36,$F39)","v":true},{"$f":"Find_Month(QW$35,QW$36,$F39)","v":true},{"$f":"Find_Month(QX$35,QX$36,$F39)","v":true},{"$f":"Find_Month(QY$35,QY$36,$F39)","v":true},{"$f":"Find_Month(QZ$35,QZ$36,$F39)","v":true},{"$f":"Find_Month(RA$35,RA$36,$F39)","v":true},{"$f":"Find_Month(RB$35,RB$36,$F39)","v":true},{"$f":"Find_Month(RC$35,RC$36,$F39)","v":true},{"$f":"Find_Month(RD$35,RD$36,$F39)","v":true},{"$f":"Find_Month(RE$35,RE$36,$F39)","v":true},{"$f":"Find_Month(RF$35,RF$36,$F39)","v":true},{"$f":"Find_Month(RG$35,RG$36,$F39)","v":true},{"$f":"Find_Month(RH$35,RH$36,$F39)","v":true},{"$f":"Find_Month(RI$35,RI$36,$F39)","v":true},{"$f":"Find_Month(RJ$35,RJ$36,$F39)","v":true},{"$f":"Find_Month(RK$35,RK$36,$F39)","v":true},{"$f":"Find_Month(RL$35,RL$36,$F39)","v":true},{"$f":"Find_Month(RM$35,RM$36,$F39)","v":true},{"$f":"Find_Month(RN$35,RN$36,$F39)","v":true},{"$f":"Find_Month(RO$35,RO$36,$F39)","v":true},{"$f":"Find_Month(RP$35,RP$36,$F39)","v":true},{"$f":"Find_Month(RQ$35,RQ$36,$F39)","v":true},{"$f":"Find_Month(RR$35,RR$36,$F39)","v":true},{"$f":"Find_Month(RS$35,RS$36,$F39)","v":true},{"$f":"Find_Month(RT$35,RT$36,$F39)","v":true},{"$f":"Find_Month(RU$35,RU$36,$F39)","v":true},{"$f":"Find_Month(RV$35,RV$36,$F39)","v":true},{"$f":"Find_Month(RW$35,RW$36,$F39)","v":true},{"$f":"Find_Month(RX$35,RX$36,$F39)","v":true},{"$f":"Find_Month(RY$35,RY$36,$F39)","v":true},{"$f":"Find_Month(RZ$35,RZ$36,$F39)","v":true},{"$f":"Find_Month(SA$35,SA$36,$F39)","v":true},{"$f":"Find_Month(SB$35,SB$36,$F39)","v":true},{"$f":"Find_Month(SC$35,SC$36,$F39)","v":false},{"$f":"Find_Month(SD$35,SD$36,$F39)","v":false},{"$f":"Find_Month(SE$35,SE$36,$F39)","v":false},{"$f":"Find_Month(SF$35,SF$36,$F39)","v":false},{"$f":"Find_Month(SG$35,SG$36,$F39)","v":false},{"$f":"Find_Month(SH$35,SH$36,$F39)","v":false},{"$f":"Find_Month(SI$35,SI$36,$F39)","v":false},{"$f":"Find_Month(SJ$35,SJ$36,$F39)","v":false},{"$f":"Find_Month(SK$35,SK$36,$F39)","v":false},{"$f":"Find_Month(SL$35,SL$36,$F39)","v":false},{"$f":"Find_Month(SM$35,SM$36,$F39)","v":false},{"$f":"Find_Month(SN$35,SN$36,$F39)","v":false},{"$f":"Find_Month(SO$35,SO$36,$F39)","v":false},{"$f":"Find_Month(SP$35,SP$36,$F39)","v":false},{"$f":"Find_Month(SQ$35,SQ$36,$F39)","v":false},{"$f":"Find_Month(SR$35,SR$36,$F39)","v":false},{"$f":"Find_Month(SS$35,SS$36,$F39)","v":false},{"$f":"Find_Month(ST$35,ST$36,$F39)","v":false},{"$f":"Find_Month(SU$35,SU$36,$F39)","v":false},{"$f":"Find_Month(SV$35,SV$36,$F39)","v":false},{"$f":"Find_Month(SW$35,SW$36,$F39)","v":false},{"$f":"Find_Month(SX$35,SX$36,$F39)","v":false},{"$f":"Find_Month(SY$35,SY$36,$F39)","v":false},{"$f":"Find_Month(SZ$35,SZ$36,$F39)","v":false},{"$f":"Find_Month(TA$35,TA$36,$F39)","v":false},{"$f":"Find_Month(TB$35,TB$36,$F39)","v":false},{"$f":"Find_Month(TC$35,TC$36,$F39)","v":false},{"$f":"Find_Month(TD$35,TD$36,$F39)","v":false},{"$f":"Find_Month(TE$35,TE$36,$F39)","v":false},{"$f":"Find_Month(TF$35,TF$36,$F39)","v":false},{"$f":"Find_Month(TG$35,TG$36,$F39)","v":false},{"$f":"Find_Month(TH$35,TH$36,$F39)","v":false},{"$f":"Find_Month(TI$35,TI$36,$F39)","v":false},{"$f":"Find_Month(TJ$35,TJ$36,$F39)","v":false},{"$f":"Find_Month(TK$35,TK$36,$F39)","v":false},{"$f":"Find_Month(TL$35,TL$36,$F39)","v":false},{"$f":"Find_Month(TM$35,TM$36,$F39)","v":false},{"$f":"Find_Month(TN$35,TN$36,$F39)","v":false},{"$f":"Find_Month(TO$35,TO$36,$F39)","v":false},{"$f":"Find_Month(TP$35,TP$36,$F39)","v":false},{"$f":"Find_Month(TQ$35,TQ$36,$F39)","v":false},{"$f":"Find_Month(TR$35,TR$36,$F39)","v":false},{"$f":"Find_Month(TS$35,TS$36,$F39)","v":false},{"$f":"Find_Month(TT$35,TT$36,$F39)","v":false},{"$f":"Find_Month(TU$35,TU$36,$F39)","v":false},{"$f":"Find_Month(TV$35,TV$36,$F39)","v":false},{"$f":"Find_Month(TW$35,TW$36,$F39)","v":false},{"$f":"Find_Month(TX$35,TX$36,$F39)","v":false},{"$f":"Find_Month(TY$35,TY$36,$F39)","v":false}]
[null,null,null,null,null,2,289.83540111940306,9.0424860190400691E-2,null,{"$f":"Find_Month(J$35,J$36,$F40)","v":true},{"$f":"Find_Month(K$35,K$36,$F40)","v":true},{"$f":"Find_Month(L$35,L$36,$F40)","v":true},{"$f":"Find_Month(M$35,M$36,$F40)","v":true},{"$f":"Find_Month(N$35,N$36,$F40)","v":true},{"$f":"Find_Month(O$35,O$36,$F40)","v":true},{"$f":"Find_Month(P$35,P$36,$F40)","v":true},{"$f":"Find_Month(Q$35,Q$36,$F40)","v":true},{"$f":"Find_Month(R$35,R$36,$F40)","v":true},{"$f":"Find_Month(S$35,S$36,$F40)","v":true},{"$f":"Find_Month(T$35,T$36,$F40)","v":true},{"$f":"Find_Month(U$35,U$36,$F40)","v":true},{"$f":"Find_Month(V$35,V$36,$F40)","v":true},{"$f":"Find_Month(W$35,W$36,$F40)","v":true},{"$f":"Find_Month(X$35,X$36,$F40)","v":true},{"$f":"Find_Month(Y$35,Y$36,$F40)","v":true},{"$f":"Find_Month(Z$35,Z$36,$F40)","v":true},{"$f":"Find_Month(AA$35,AA$36,$F40)","v":true},{"$f":"Find_Month(AB$35,AB$36,$F40)","v":true},{"$f":"Find_Month(AC$35,AC$36,$F40)","v":true},{"$f":"Find_Month(AD$35,AD$36,$F40)","v":true},{"$f":"Find_Month(AE$35,AE$36,$F40)","v":true},{"$f":"Find_Month(AF$35,AF$36,$F40)","v":true},{"$f":"Find_Month(AG$35,AG$36,$F40)","v":true},{"$f":"Find_Month(AH$35,AH$36,$F40)","v":true},{"$f":"Find_Month(AI$35,AI$36,$F40)","v":true},{"$f":"Find_Month(AJ$35,AJ$36,$F40)","v":true},{"$f":"Find_Month(AK$35,AK$36,$F40)","v":true},{"$f":"Find_Month(AL$35,AL$36,$F40)","v":true},{"$f":"Find_Month(AM$35,AM$36,$F40)","v":true},{"$f":"Find_Month(AN$35,AN$36,$F40)","v":true},{"$f":"Find_Month(AO$35,AO$36,$F40)","v":true},{"$f":"Find_Month(AP$35,AP$36,$F40)","v":true},{"$f":"Find_Month(AQ$35,AQ$36,$F40)","v":true},{"$f":"Find_Month(AR$35,AR$36,$F40)","v":true},{"$f":"Find_Month(AS$35,AS$36,$F40)","v":true},{"$f":"Find_Month(AT$35,AT$36,$F40)","v":true},{"$f":"Find_Month(AU$35,AU$36,$F40)","v":true},{"$f":"Find_Month(AV$35,AV$36,$F40)","v":true},{"$f":"Find_Month(AW$35,AW$36,$F40)","v":true},{"$f":"Find_Month(AX$35,AX$36,$F40)","v":true},{"$f":"Find_Month(AY$35,AY$36,$F40)","v":true},{"$f":"Find_Month(AZ$35,AZ$36,$F40)","v":true},{"$f":"Find_Month(BA$35,BA$36,$F40)","v":true},{"$f":"Find_Month(BB$35,BB$36,$F40)","v":true},{"$f":"Find_Month(BC$35,BC$36,$F40)","v":true},{"$f":"Find_Month(BD$35,BD$36,$F40)","v":true},{"$f":"Find_Month(BE$35,BE$36,$F40)","v":true},{"$f":"Find_Month(BF$35,BF$36,$F40)","v":true},{"$f":"Find_Month(BG$35,BG$36,$F40)","v":true},{"$f":"Find_Month(BH$35,BH$36,$F40)","v":true},{"$f":"Find_Month(BI$35,BI$36,$F40)","v":true},{"$f":"Find_Month(BJ$35,BJ$36,$F40)","v":true},{"$f":"Find_Month(BK$35,BK$36,$F40)","v":true},{"$f":"Find_Month(BL$35,BL$36,$F40)","v":true},{"$f":"Find_Month(BM$35,BM$36,$F40)","v":true},{"$f":"Find_Month(BN$35,BN$36,$F40)","v":true},{"$f":"Find_Month(BO$35,BO$36,$F40)","v":true},{"$f":"Find_Month(BP$35,BP$36,$F40)","v":true},{"$f":"Find_Month(BQ$35,BQ$36,$F40)","v":true},{"$f":"Find_Month(BR$35,BR$36,$F40)","v":true},{"$f":"Find_Month(BS$35,BS$36,$F40)","v":true},{"$f":"Find_Month(BT$35,BT$36,$F40)","v":true},{"$f":"Find_Month(BU$35,BU$36,$F40)","v":true},{"$f":"Find_Month(BV$35,BV$36,$F40)","v":true},{"$f":"Find_Month(BW$35,BW$36,$F40)","v":true},{"$f":"Find_Month(BX$35,BX$36,$F40)","v":true},{"$f":"Find_Month(BY$35,BY$36,$F40)","v":true},{"$f":"Find_Month(BZ$35,BZ$36,$F40)","v":true},{"$f":"Find_Month(CA$35,CA$36,$F40)","v":true},{"$f":"Find_Month(CB$35,CB$36,$F40)","v":true},{"$f":"Find_Month(CC$35,CC$36,$F40)","v":true},{"$f":"Find_Month(CD$35,CD$36,$F40)","v":true},{"$f":"Find_Month(CE$35,CE$36,$F40)","v":true},{"$f":"Find_Month(CF$35,CF$36,$F40)","v":true},{"$f":"Find_Month(CG$35,CG$36,$F40)","v":true},{"$f":"Find_Month(CH$35,CH$36,$F40)","v":true},{"$f":"Find_Month(CI$35,CI$36,$F40)","v":true},{"$f":"Find_Month(CJ$35,CJ$36,$F40)","v":true},{"$f":"Find_Month(CK$35,CK$36,$F40)","v":true},{"$f":"Find_Month(CL$35,CL$36,$F40)","v":true},{"$f":"Find_Month(CM$35,CM$36,$F40)","v":true},{"$f":"Find_Month(CN$35,CN$36,$F40)","v":true},{"$f":"Find_Month(CO$35,CO$36,$F40)","v":true},{"$f":"Find_Month(CP$35,CP$36,$F40)","v":true},{"$f":"Find_Month(CQ$35,CQ$36,$F40)","v":true},{"$f":"Find_Month(CR$35,CR$36,$F40)","v":true},{"$f":"Find_Month(CS$35,CS$36,$F40)","v":true},{"$f":"Find_Month(CT$35,CT$36,$F40)","v":true},{"$f":"Find_Month(CU$35,CU$36,$F40)","v":true},{"$f":"Find_Month(CV$35,CV$36,$F40)","v":true},{"$f":"Find_Month(CW$35,CW$36,$F40)","v":true},{"$f":"Find_Month(CX$35,CX$36,$F40)","v":true},{"$f":"Find_Month(CY$35,CY$36,$F40)","v":true},{"$f":"Find_Month(CZ$35,CZ$36,$F40)","v":true},{"$f":"Find_Month(DA$35,DA$36,$F40)","v":true},{"$f":"Find_Month(DB$35,DB$36,$F40)","v":true},{"$f":"Find_Month(DC$35,DC$36,$F40)","v":true},{"$f":"Find_Month(DD$35,DD$36,$F40)","v":true},{"$f":"Find_Month(DE$35,DE$36,$F40)","v":true},{"$f":"Find_Month(DF$35,DF$36,$F40)","v":true},{"$f":"Find_Month(DG$35,DG$36,$F40)","v":true},{"$f":"Find_Month(DH$35,DH$36,$F40)","v":true},{"$f":"Find_Month(DI$35,DI$36,$F40)","v":true},{"$f":"Find_Month(DJ$35,DJ$36,$F40)","v":true},{"$f":"Find_Month(DK$35,DK$36,$F40)","v":true},{"$f":"Find_Month(DL$35,DL$36,$F40)","v":true},{"$f":"Find_Month(DM$35,DM$36,$F40)","v":true},{"$f":"Find_Month(DN$35,DN$36,$F40)","v":true},{"$f":"Find_Month(DO$35,DO$36,$F40)","v":true},{"$f":"Find_Month(DP$35,DP$36,$F40)","v":true},{"$f":"Find_Month(DQ$35,DQ$36,$F40)","v":true},{"$f":"Find_Month(DR$35,DR$36,$F40)","v":true},{"$f":"Find_Month(DS$35,DS$36,$F40)","v":true},{"$f":"Find_Month(DT$35,DT$36,$F40)","v":true},{"$f":"Find_Month(DU$35,DU$36,$F40)","v":true},{"$f":"Find_Month(DV$35,DV$36,$F40)","v":true},{"$f":"Find_Month(DW$35,DW$36,$F40)","v":true},{"$f":"Find_Month(DX$35,DX$36,$F40)","v":true},{"$f":"Find_Month(DY$35,DY$36,$F40)","v":true},{"$f":"Find_Month(DZ$35,DZ$36,$F40)","v":true},{"$f":"Find_Month(EA$35,EA$36,$F40)","v":true},{"$f":"Find_Month(EB$35,EB$36,$F40)","v":true},{"$f":"Find_Month(EC$35,EC$36,$F40)","v":true},{"$f":"Find_Month(ED$35,ED$36,$F40)","v":true},{"$f":"Find_Month(EE$35,EE$36,$F40)","v":true},{"$f":"Find_Month(EF$35,EF$36,$F40)","v":true},{"$f":"Find_Month(EG$35,EG$36,$F40)","v":true},{"$f":"Find_Month(EH$35,EH$36,$F40)","v":true},{"$f":"Find_Month(EI$35,EI$36,$F40)","v":true},{"$f":"Find_Month(EJ$35,EJ$36,$F40)","v":true},{"$f":"Find_Month(EK$35,EK$36,$F40)","v":true},{"$f":"Find_Month(EL$35,EL$36,$F40)","v":true},{"$f":"Find_Month(EM$35,EM$36,$F40)","v":true},{"$f":"Find_Month(EN$35,EN$36,$F40)","v":true},{"$f":"Find_Month(EO$35,EO$36,$F40)","v":true},{"$f":"Find_Month(EP$35,EP$36,$F40)","v":true},{"$f":"Find_Month(EQ$35,EQ$36,$F40)","v":true},{"$f":"Find_Month(ER$35,ER$36,$F40)","v":true},{"$f":"Find_Month(ES$35,ES$36,$F40)","v":true},{"$f":"Find_Month(ET$35,ET$36,$F40)","v":true},{"$f":"Find_Month(EU$35,EU$36,$F40)","v":true},{"$f":"Find_Month(EV$35,EV$36,$F40)","v":true},{"$f":"Find_Month(EW$35,EW$36,$F40)","v":true},{"$f":"Find_Month(EX$35,EX$36,$F40)","v":true},{"$f":"Find_Month(EY$35,EY$36,$F40)","v":true},{"$f":"Find_Month(EZ$35,EZ$36,$F40)","v":true},{"$f":"Find_Month(FA$35,FA$36,$F40)","v":true},{"$f":"Find_Month(FB$35,FB$36,$F40)","v":true},{"$f":"Find_Month(FC$35,FC$36,$F40)","v":true},{"$f":"Find_Month(FD$35,FD$36,$F40)","v":true},{"$f":"Find_Month(FE$35,FE$36,$F40)","v":true},{"$f":"Find_Month(FF$35,FF$36,$F40)","v":true},{"$f":"Find_Month(FG$35,FG$36,$F40)","v":true},{"$f":"Find_Month(FH$35,FH$36,$F40)","v":true},{"$f":"Find_Month(FI$35,FI$36,$F40)","v":true},{"$f":"Find_Month(FJ$35,FJ$36,$F40)","v":true},{"$f":"Find_Month(FK$35,FK$36,$F40)","v":true},{"$f":"Find_Month(FL$35,FL$36,$F40)","v":true},{"$f":"Find_Month(FM$35,FM$36,$F40)","v":true},{"$f":"Find_Month(FN$35,FN$36,$F40)","v":true},{"$f":"Find_Month(FO$35,FO$36,$F40)","v":true},{"$f":"Find_Month(FP$35,FP$36,$F40)","v":true},{"$f":"Find_Month(FQ$35,FQ$36,$F40)","v":true},{"$f":"Find_Month(FR$35,FR$36,$F40)","v":true},{"$f":"Find_Month(FS$35,FS$36,$F40)","v":true},{"$f":"Find_Month(FT$35,FT$36,$F40)","v":true},{"$f":"Find_Month(FU$35,FU$36,$F40)","v":true},{"$f":"Find_Month(FV$35,FV$36,$F40)","v":true},{"$f":"Find_Month(FW$35,FW$36,$F40)","v":true},{"$f":"Find_Month(FX$35,FX$36,$F40)","v":true},{"$f":"Find_Month(FY$35,FY$36,$F40)","v":true},{"$f":"Find_Month(FZ$35,FZ$36,$F40)","v":true},{"$f":"Find_Month(GA$35,GA$36,$F40)","v":true},{"$f":"Find_Month(GB$35,GB$36,$F40)","v":true},{"$f":"Find_Month(GC$35,GC$36,$F40)","v":true},{"$f":"Find_Month(GD$35,GD$36,$F40)","v":true},{"$f":"Find_Month(GE$35,GE$36,$F40)","v":true},{"$f":"Find_Month(GF$35,GF$36,$F40)","v":true},{"$f":"Find_Month(GG$35,GG$36,$F40)","v":true},{"$f":"Find_Month(GH$35,GH$36,$F40)","v":true},{"$f":"Find_Month(GI$35,GI$36,$F40)","v":true},{"$f":"Find_Month(GJ$35,GJ$36,$F40)","v":true},{"$f":"Find_Month(GK$35,GK$36,$F40)","v":true},{"$f":"Find_Month(GL$35,GL$36,$F40)","v":true},{"$f":"Find_Month(GM$35,GM$36,$F40)","v":true},{"$f":"Find_Month(GN$35,GN$36,$F40)","v":true},{"$f":"Find_Month(GO$35,GO$36,$F40)","v":true},{"$f":"Find_Month(GP$35,GP$36,$F40)","v":true},{"$f":"Find_Month(GQ$35,GQ$36,$F40)","v":true},{"$f":"Find_Month(GR$35,GR$36,$F40)","v":true},{"$f":"Find_Month(GS$35,GS$36,$F40)","v":true},{"$f":"Find_Month(GT$35,GT$36,$F40)","v":true},{"$f":"Find_Month(GU$35,GU$36,$F40)","v":true},{"$f":"Find_Month(GV$35,GV$36,$F40)","v":true},{"$f":"Find_Month(GW$35,GW$36,$F40)","v":true},{"$f":"Find_Month(GX$35,GX$36,$F40)","v":true},{"$f":"Find_Month(GY$35,GY$36,$F40)","v":true},{"$f":"Find_Month(GZ$35,GZ$36,$F40)","v":true},{"$f":"Find_Month(HA$35,HA$36,$F40)","v":true},{"$f":"Find_Month(HB$35,HB$36,$F40)","v":true},{"$f":"Find_Month(HC$35,HC$36,$F40)","v":true},{"$f":"Find_Month(HD$35,HD$36,$F40)","v":true},{"$f":"Find_Month(HE$35,HE$36,$F40)","v":true},{"$f":"Find_Month(HF$35,HF$36,$F40)","v":true},{"$f":"Find_Month(HG$35,HG$36,$F40)","v":true},{"$f":"Find_Month(HH$35,HH$36,$F40)","v":true},{"$f":"Find_Month(HI$35,HI$36,$F40)","v":true},{"$f":"Find_Month(HJ$35,HJ$36,$F40)","v":true},{"$f":"Find_Month(HK$35,HK$36,$F40)","v":true},{"$f":"Find_Month(HL$35,HL$36,$F40)","v":true},{"$f":"Find_Month(HM$35,HM$36,$F40)","v":true},{"$f":"Find_Month(HN$35,HN$36,$F40)","v":true},{"$f":"Find_Month(HO$35,HO$36,$F40)","v":true},{"$f":"Find_Month(HP$35,HP$36,$F40)","v":true},{"$f":"Find_Month(HQ$35,HQ$36,$F40)","v":true},{"$f":"Find_Month(HR$35,HR$36,$F40)","v":true},{"$f":"Find_Month(HS$35,HS$36,$F40)","v":true},{"$f":"Find_Month(HT$35,HT$36,$F40)","v":true},{"$f":"Find_Month(HU$35,HU$36,$F40)","v":true},{"$f":"Find_Month(HV$35,HV$36,$F40)","v":true},{"$f":"Find_Month(HW$35,HW$36,$F40)","v":true},{"$f":"Find_Month(HX$35,HX$36,$F40)","v":true},{"$f":"Find_Month(HY$35,HY$36,$F40)","v":true},{"$f":"Find_Month(HZ$35,HZ$36,$F40)","v":true},{"$f":"Find_Month(IA$35,IA$36,$F40)","v":true},{"$f":"Find_Month(IB$35,IB$36,$F40)","v":true},{"$f":"Find_Month(IC$35,IC$36,$F40)","v":true},{"$f":"Find_Month(ID$35,ID$36,$F40)","v":true},{"$f":"Find_Month(IE$35,IE$36,$F40)","v":true},{"$f":"Find_Month(IF$35,IF$36,$F40)","v":true},{"$f":"Find_Month(IG$35,IG$36,$F40)","v":true},{"$f":"Find_Month(IH$35,IH$36,$F40)","v":true},{"$f":"Find_Month(II$35,II$36,$F40)","v":true},{"$f":"Find_Month(IJ$35,IJ$36,$F40)","v":true},{"$f":"Find_Month(IK$35,IK$36,$F40)","v":true},{"$f":"Find_Month(IL$35,IL$36,$F40)","v":true},{"$f":"Find_Month(IM$35,IM$36,$F40)","v":true},{"$f":"Find_Month(IN$35,IN$36,$F40)","v":true},{"$f":"Find_Month(IO$35,IO$36,$F40)","v":true},{"$f":"Find_Month(IP$35,IP$36,$F40)","v":true},{"$f":"Find_Month(IQ$35,IQ$36,$F40)","v":true},{"$f":"Find_Month(IR$35,IR$36,$F40)","v":true},{"$f":"Find_Month(IS$35,IS$36,$F40)","v":true},{"$f":"Find_Month(IT$35,IT$36,$F40)","v":true},{"$f":"Find_Month(IU$35,IU$36,$F40)","v":true},{"$f":"Find_Month(IV$35,IV$36,$F40)","v":true},{"$f":"Find_Month(IW$35,IW$36,$F40)","v":true},{"$f":"Find_Month(IX$35,IX$36,$F40)","v":true},{"$f":"Find_Month(IY$35,IY$36,$F40)","v":true},{"$f":"Find_Month(IZ$35,IZ$36,$F40)","v":true},{"$f":"Find_Month(JA$35,JA$36,$F40)","v":true},{"$f":"Find_Month(JB$35,JB$36,$F40)","v":true},{"$f":"Find_Month(JC$35,JC$36,$F40)","v":true},{"$f":"Find_Month(JD$35,JD$36,$F40)","v":true},{"$f":"Find_Month(JE$35,JE$36,$F40)","v":true},{"$f":"Find_Month(JF$35,JF$36,$F40)","v":true},{"$f":"Find_Month(JG$35,JG$36,$F40)","v":true},{"$f":"Find_Month(JH$35,JH$36,$F40)","v":true},{"$f":"Find_Month(JI$35,JI$36,$F40)","v":true},{"$f":"Find_Month(JJ$35,JJ$36,$F40)","v":true},{"$f":"Find_Month(JK$35,JK$36,$F40)","v":true},{"$f":"Find_Month(JL$35,JL$36,$F40)","v":true},{"$f":"Find_Month(JM$35,JM$36,$F40)","v":true},{"$f":"Find_Month(JN$35,JN$36,$F40)","v":true},{"$f":"Find_Month(JO$35,JO$36,$F40)","v":true},{"$f":"Find_Month(JP$35,JP$36,$F40)","v":true},{"$f":"Find_Month(JQ$35,JQ$36,$F40)","v":true},{"$f":"Find_Month(JR$35,JR$36,$F40)","v":true},{"$f":"Find_Month(JS$35,JS$36,$F40)","v":true},{"$f":"Find_Month(JT$35,JT$36,$F40)","v":true},{"$f":"Find_Month(JU$35,JU$36,$F40)","v":true},{"$f":"Find_Month(JV$35,JV$36,$F40)","v":true},{"$f":"Find_Month(JW$35,JW$36,$F40)","v":true},{"$f":"Find_Month(JX$35,JX$36,$F40)","v":true},{"$f":"Find_Month(JY$35,JY$36,$F40)","v":true},{"$f":"Find_Month(JZ$35,JZ$36,$F40)","v":true},{"$f":"Find_Month(KA$35,KA$36,$F40)","v":true},{"$f":"Find_Month(KB$35,KB$36,$F40)","v":true},{"$f":"Find_Month(KC$35,KC$36,$F40)","v":true},{"$f":"Find_Month(KD$35,KD$36,$F40)","v":true},{"$f":"Find_Month(KE$35,KE$36,$F40)","v":true},{"$f":"Find_Month(KF$35,KF$36,$F40)","v":true},{"$f":"Find_Month(KG$35,KG$36,$F40)","v":true},{"$f":"Find_Month(KH$35,KH$36,$F40)","v":true},{"$f":"Find_Month(KI$35,KI$36,$F40)","v":true},{"$f":"Find_Month(KJ$35,KJ$36,$F40)","v":true},{"$f":"Find_Month(KK$35,KK$36,$F40)","v":true},{"$f":"Find_Month(KL$35,KL$36,$F40)","v":true},{"$f":"Find_Month(KM$35,KM$36,$F40)","v":true},{"$f":"Find_Month(KN$35,KN$36,$F40)","v":true},{"$f":"Find_Month(KO$35,KO$36,$F40)","v":true},{"$f":"Find_Month(KP$35,KP$36,$F40)","v":true},{"$f":"Find_Month(KQ$35,KQ$36,$F40)","v":true},{"$f":"Find_Month(KR$35,KR$36,$F40)","v":true},{"$f":"Find_Month(KS$35,KS$36,$F40)","v":true},{"$f":"Find_Month(KT$35,KT$36,$F40)","v":true},{"$f":"Find_Month(KU$35,KU$36,$F40)","v":true},{"$f":"Find_Month(KV$35,KV$36,$F40)","v":true},{"$f":"Find_Month(KW$35,KW$36,$F40)","v":true},{"$f":"Find_Month(KX$35,KX$36,$F40)","v":true},{"$f":"Find_Month(KY$35,KY$36,$F40)","v":true},{"$f":"Find_Month(KZ$35,KZ$36,$F40)","v":true},{"$f":"Find_Month(LA$35,LA$36,$F40)","v":true},{"$f":"Find_Month(LB$35,LB$36,$F40)","v":true},{"$f":"Find_Month(LC$35,LC$36,$F40)","v":true},{"$f":"Find_Month(LD$35,LD$36,$F40)","v":true},{"$f":"Find_Month(LE$35,LE$36,$F40)","v":true},{"$f":"Find_Month(LF$35,LF$36,$F40)","v":true},{"$f":"Find_Month(LG$35,LG$36,$F40)","v":true},{"$f":"Find_Month(LH$35,LH$36,$F40)","v":true},{"$f":"Find_Month(LI$35,LI$36,$F40)","v":true},{"$f":"Find_Month(LJ$35,LJ$36,$F40)","v":true},{"$f":"Find_Month(LK$35,LK$36,$F40)","v":true},{"$f":"Find_Month(LL$35,LL$36,$F40)","v":true},{"$f":"Find_Month(LM$35,LM$36,$F40)","v":true},{"$f":"Find_Month(LN$35,LN$36,$F40)","v":true},{"$f":"Find_Month(LO$35,LO$36,$F40)","v":true},{"$f":"Find_Month(LP$35,LP$36,$F40)","v":true},{"$f":"Find_Month(LQ$35,LQ$36,$F40)","v":true},{"$f":"Find_Month(LR$35,LR$36,$F40)","v":true},{"$f":"Find_Month(LS$35,LS$36,$F40)","v":true},{"$f":"Find_Month(LT$35,LT$36,$F40)","v":true},{"$f":"Find_Month(LU$35,LU$36,$F40)","v":true},{"$f":"Find_Month(LV$35,LV$36,$F40)","v":true},{"$f":"Find_Month(LW$35,LW$36,$F40)","v":true},{"$f":"Find_Month(LX$35,LX$36,$F40)","v":true},{"$f":"Find_Month(LY$35,LY$36,$F40)","v":true},{"$f":"Find_Month(LZ$35,LZ$36,$F40)","v":true},{"$f":"Find_Month(MA$35,MA$36,$F40)","v":true},{"$f":"Find_Month(MB$35,MB$36,$F40)","v":true},{"$f":"Find_Month(MC$35,MC$36,$F40)","v":true},{"$f":"Find_Month(MD$35,MD$36,$F40)","v":true},{"$f":"Find_Month(ME$35,ME$36,$F40)","v":true},{"$f":"Find_Month(MF$35,MF$36,$F40)","v":true},{"$f":"Find_Month(MG$35,MG$36,$F40)","v":true},{"$f":"Find_Month(MH$35,MH$36,$F40)","v":true},{"$f":"Find_Month(MI$35,MI$36,$F40)","v":true},{"$f":"Find_Month(MJ$35,MJ$36,$F40)","v":true},{"$f":"Find_Month(MK$35,MK$36,$F40)","v":true},{"$f":"Find_Month(ML$35,ML$36,$F40)","v":true},{"$f":"Find_Month(MM$35,MM$36,$F40)","v":true},{"$f":"Find_Month(MN$35,MN$36,$F40)","v":true},{"$f":"Find_Month(MO$35,MO$36,$F40)","v":true},{"$f":"Find_Month(MP$35,MP$36,$F40)","v":true},{"$f":"Find_Month(MQ$35,MQ$36,$F40)","v":true},{"$f":"Find_Month(MR$35,MR$36,$F40)","v":true},{"$f":"Find_Month(MS$35,MS$36,$F40)","v":true},{"$f":"Find_Month(MT$35,MT$36,$F40)","v":true},{"$f":"Find_Month(MU$35,MU$36,$F40)","v":true},{"$f":"Find_Month(MV$35,MV$36,$F40)","v":true},{"$f":"Find_Month(MW$35,MW$36,$F40)","v":true},{"$f":"Find_Month(MX$35,MX$36,$F40)","v":true},{"$f":"Find_Month(MY$35,MY$36,$F40)","v":true},{"$f":"Find_Month(MZ$35,MZ$36,$F40)","v":true},{"$f":"Find_Month(NA$35,NA$36,$F40)","v":true},{"$f":"Find_Month(NB$35,NB$36,$F40)","v":true},{"$f":"Find_Month(NC$35,NC$36,$F40)","v":true},{"$f":"Find_Month(ND$35,ND$36,$F40)","v":true},{"$f":"Find_Month(NE$35,NE$36,$F40)","v":true},{"$f":"Find_Month(NF$35,NF$36,$F40)","v":true},{"$f":"Find_Month(NG$35,NG$36,$F40)","v":true},{"$f":"Find_Month(NH$35,NH$36,$F40)","v":true},{"$f":"Find_Month(NI$35,NI$36,$F40)","v":true},{"$f":"Find_Month(NJ$35,NJ$36,$F40)","v":true},{"$f":"Find_Month(NK$35,NK$36,$F40)","v":true},{"$f":"Find_Month(NL$35,NL$36,$F40)","v":true},{"$f":"Find_Month(NM$35,NM$36,$F40)","v":true},{"$f":"Find_Month(NN$35,NN$36,$F40)","v":true},{"$f":"Find_Month(NO$35,NO$36,$F40)","v":true},{"$f":"Find_Month(NP$35,NP$36,$F40)","v":true},{"$f":"Find_Month(NQ$35,NQ$36,$F40)","v":true},{"$f":"Find_Month(NR$35,NR$36,$F40)","v":true},{"$f":"Find_Month(NS$35,NS$36,$F40)","v":true},{"$f":"Find_Month(NT$35,NT$36,$F40)","v":true},{"$f":"Find_Month(NU$35,NU$36,$F40)","v":true},{"$f":"Find_Month(NV$35,NV$36,$F40)","v":true},{"$f":"Find_Month(NW$35,NW$36,$F40)","v":true},{"$f":"Find_Month(NX$35,NX$36,$F40)","v":true},{"$f":"Find_Month(NY$35,NY$36,$F40)","v":true},{"$f":"Find_Month(NZ$35,NZ$36,$F40)","v":true},{"$f":"Find_Month(OA$35,OA$36,$F40)","v":true},{"$f":"Find_Month(OB$35,OB$36,$F40)","v":true},{"$f":"Find_Month(OC$35,OC$36,$F40)","v":true},{"$f":"Find_Month(OD$35,OD$36,$F40)","v":true},{"$f":"Find_Month(OE$35,OE$36,$F40)","v":true},{"$f":"Find_Month(OF$35,OF$36,$F40)","v":true},{"$f":"Find_Month(OG$35,OG$36,$F40)","v":true},{"$f":"Find_Month(OH$35,OH$36,$F40)","v":true},{"$f":"Find_Month(OI$35,OI$36,$F40)","v":true},{"$f":"Find_Month(OJ$35,OJ$36,$F40)","v":true},{"$f":"Find_Month(OK$35,OK$36,$F40)","v":true},{"$f":"Find_Month(OL$35,OL$36,$F40)","v":true},{"$f":"Find_Month(OM$35,OM$36,$F40)","v":true},{"$f":"Find_Month(ON$35,ON$36,$F40)","v":true},{"$f":"Find_Month(OO$35,OO$36,$F40)","v":true},{"$f":"Find_Month(OP$35,OP$36,$F40)","v":true},{"$f":"Find_Month(OQ$35,OQ$36,$F40)","v":true},{"$f":"Find_Month(OR$35,OR$36,$F40)","v":true},{"$f":"Find_Month(OS$35,OS$36,$F40)","v":true},{"$f":"Find_Month(OT$35,OT$36,$F40)","v":true},{"$f":"Find_Month(OU$35,OU$36,$F40)","v":true},{"$f":"Find_Month(OV$35,OV$36,$F40)","v":true},{"$f":"Find_Month(OW$35,OW$36,$F40)","v":true},{"$f":"Find_Month(OX$35,OX$36,$F40)","v":true},{"$f":"Find_Month(OY$35,OY$36,$F40)","v":true},{"$f":"Find_Month(OZ$35,OZ$36,$F40)","v":true},{"$f":"Find_Month(PA$35,PA$36,$F40)","v":true},{"$f":"Find_Month(PB$35,PB$36,$F40)","v":true},{"$f":"Find_Month(PC$35,PC$36,$F40)","v":true},{"$f":"Find_Month(PD$35,PD$36,$F40)","v":true},{"$f":"Find_Month(PE$35,PE$36,$F40)","v":true},{"$f":"Find_Month(PF$35,PF$36,$F40)","v":true},{"$f":"Find_Month(PG$35,PG$36,$F40)","v":true},{"$f":"Find_Month(PH$35,PH$36,$F40)","v":true},{"$f":"Find_Month(PI$35,PI$36,$F40)","v":true},{"$f":"Find_Month(PJ$35,PJ$36,$F40)","v":true},{"$f":"Find_Month(PK$35,PK$36,$F40)","v":true},{"$f":"Find_Month(PL$35,PL$36,$F40)","v":true},{"$f":"Find_Month(PM$35,PM$36,$F40)","v":true},{"$f":"Find_Month(PN$35,PN$36,$F40)","v":true},{"$f":"Find_Month(PO$35,PO$36,$F40)","v":true},{"$f":"Find_Month(PP$35,PP$36,$F40)","v":true},{"$f":"Find_Month(PQ$35,PQ$36,$F40)","v":true},{"$f":"Find_Month(PR$35,PR$36,$F40)","v":true},{"$f":"Find_Month(PS$35,PS$36,$F40)","v":true},{"$f":"Find_Month(PT$35,PT$36,$F40)","v":true},{"$f":"Find_Month(PU$35,PU$36,$F40)","v":true},{"$f":"Find_Month(PV$35,PV$36,$F40)","v":true},{"$f":"Find_Month(PW$35,PW$36,$F40)","v":true},{"$f":"Find_Month(PX$35,PX$36,$F40)","v":true},{"$f":"Find_Month(PY$35,PY$36,$F40)","v":true},{"$f":"Find_Month(PZ$35,PZ$36,$F40)","v":true},{"$f":"Find_Month(QA$35,QA$36,$F40)","v":true},{"$f":"Find_Month(QB$35,QB$36,$F40)","v":true},{"$f":"Find_Month(QC$35,QC$36,$F40)","v":true},{"$f":"Find_Month(QD$35,QD$36,$F40)","v":true},{"$f":"Find_Month(QE$35,QE$36,$F40)","v":true},{"$f":"Find_Month(QF$35,QF$36,$F40)","v":true},{"$f":"Find_Month(QG$35,QG$36,$F40)","v":true},{"$f":"Find_Month(QH$35,QH$36,$F40)","v":true},{"$f":"Find_Month(QI$35,QI$36,$F40)","v":true},{"$f":"Find_Month(QJ$35,QJ$36,$F40)","v":true},{"$f":"Find_Month(QK$35,QK$36,$F40)","v":true},{"$f":"Find_Month(QL$35,QL$36,$F40)","v":true},{"$f":"Find_Month(QM$35,QM$36,$F40)","v":true},{"$f":"Find_Month(QN$35,QN$36,$F40)","v":true},{"$f":"Find_Month(QO$35,QO$36,$F40)","v":true},{"$f":"Find_Month(QP$35,QP$36,$F40)","v":true},{"$f":"Find_Month(QQ$35,QQ$36,$F40)","v":true},{"$f":"Find_Month(QR$35,QR$36,$F40)","v":true},{"$f":"Find_Month(QS$35,QS$36,$F40)","v":true},{"$f":"Find_Month(QT$35,QT$36,$F40)","v":true},{"$f":"Find_Month(QU$35,QU$36,$F40)","v":true},{"$f":"Find_Month(QV$35,QV$36,$F40)","v":true},{"$f":"Find_Month(QW$35,QW$36,$F40)","v":true},{"$f":"Find_Month(QX$35,QX$36,$F40)","v":true},{"$f":"Find_Month(QY$35,QY$36,$F40)","v":true},{"$f":"Find_Month(QZ$35,QZ$36,$F40)","v":true},{"$f":"Find_Month(RA$35,RA$36,$F40)","v":true},{"$f":"Find_Month(RB$35,RB$36,$F40)","v":true},{"$f":"Find_Month(RC$35,RC$36,$F40)","v":true},{"$f":"Find_Month(RD$35,RD$36,$F40)","v":true},{"$f":"Find_Month(RE$35,RE$36,$F40)","v":true},{"$f":"Find_Month(RF$35,RF$36,$F40)","v":true},{"$f":"Find_Month(RG$35,RG$36,$F40)","v":true},{"$f":"Find_Month(RH$35,RH$36,$F40)","v":true},{"$f":"Find_Month(RI$35,RI$36,$F40)","v":true},{"$f":"Find_Month(RJ$35,RJ$36,$F40)","v":true},{"$f":"Find_Month(RK$35,RK$36,$F40)","v":true},{"$f":"Find_Month(RL$35,RL$36,$F40)","v":true},{"$f":"Find_Month(RM$35,RM$36,$F40)","v":true},{"$f":"Find_Month(RN$35,RN$36,$F40)","v":true},{"$f":"Find_Month(RO$35,RO$36,$F40)","v":true},{"$f":"Find_Month(RP$35,RP$36,$F40)","v":true},{"$f":"Find_Month(RQ$35,RQ$36,$F40)","v":true},{"$f":"Find_Month(RR$35,RR$36,$F40)","v":true},{"$f":"Find_Month(RS$35,RS$36,$F40)","v":true},{"$f":"Find_Month(RT$35,RT$36,$F40)","v":true},{"$f":"Find_Month(RU$35,RU$36,$F40)","v":true},{"$f":"Find_Month(RV$35,RV$36,$F40)","v":true},{"$f":"Find_Month(RW$35,RW$36,$F40)","v":true},{"$f":"Find_Month(RX$35,RX$36,$F40)","v":true},{"$f":"Find_Month(RY$35,RY$36,$F40)","v":true},{"$f":"Find_Month(RZ$35,RZ$36,$F40)","v":true},{"$f":"Find_Month(SA$35,SA$36,$F40)","v":true},{"$f":"Find_Month(SB$35,SB$36,$F40)","v":true},{"$f":"Find_Month(SC$35,SC$36,$F40)","v":false},{"$f":"Find_Month(SD$35,SD$36,$F40)","v":false},{"$f":"Find_Month(SE$35,SE$36,$F40)","v":false},{"$f":"Find_Month(SF$35,SF$36,$F40)","v":false},{"$f":"Find_Month(SG$35,SG$36,$F40)","v":false},{"$f":"Find_Month(SH$35,SH$36,$F40)","v":false},{"$f":"Find_Month(SI$35,SI$36,$F40)","v":false},{"$f":"Find_Month(SJ$35,SJ$36,$F40)","v":false},{"$f":"Find_Month(SK$35,SK$36,$F40)","v":false},{"$f":"Find_Month(SL$35,SL$36,$F40)","v":false},{"$f":"Find_Month(SM$35,SM$36,$F40)","v":false},{"$f":"Find_Month(SN$35,SN$36,$F40)","v":false},{"$f":"Find_Month(SO$35,SO$36,$F40)","v":false},{"$f":"Find_Month(SP$35,SP$36,$F40)","v":false},{"$f":"Find_Month(SQ$35,SQ$36,$F40)","v":false},{"$f":"Find_Month(SR$35,SR$36,$F40)","v":false},{"$f":"Find_Month(SS$35,SS$36,$F40)","v":false},{"$f":"Find_Month(ST$35,ST$36,$F40)","v":false},{"$f":"Find_Month(SU$35,SU$36,$F40)","v":false},{"$f":"Find_Month(SV$35,SV$36,$F40)","v":false},{"$f":"Find_Month(SW$35,SW$36,$F40)","v":false},{"$f":"Find_Month(SX$35,SX$36,$F40)","v":false},{"$f":"Find_Month(SY$35,SY$36,$F40)","v":false},{"$f":"Find_Month(SZ$35,SZ$36,$F40)","v":false},{"$f":"Find_Month(TA$35,TA$36,$F40)","v":false},{"$f":"Find_Month(TB$35,TB$36,$F40)","v":false},{"$f":"Find_Month(TC$35,TC$36,$F40)","v":false},{"$f":"Find_Month(TD$35,TD$36,$F40)","v":false},{"$f":"Find_Month(TE$35,TE$36,$F40)","v":false},{"$f":"Find_Month(TF$35,TF$36,$F40)","v":false},{"$f":"Find_Month(TG$35,TG$36,$F40)","v":false},{"$f":"Find_Month(TH$35,TH$36,$F40)","v":false},{"$f":"Find_Month(TI$35,TI$36,$F40)","v":false},{"$f":"Find_Month(TJ$35,TJ$36,$F40)","v":false},{"$f":"Find_Month(TK$35,TK$36,$F40)","v":false},{"$f":"Find_Month(TL$35,TL$36,$F40)","v":false},{"$f":"Find_Month(TM$35,TM$36,$F40)","v":false},{"$f":"Find_Month(TN$35,TN$36,$F40)","v":false},{"$f":"Find_Month(TO$35,TO$36,$F40)","v":false},{"$f":"Find_Month(TP$35,TP$36,$F40)","v":false},{"$f":"Find_Month(TQ$35,TQ$36,$F40)","v":false},{"$f":"Find_Month(TR$35,TR$36,$F40)","v":false},{"$f":"Find_Month(TS$35,TS$36,$F40)","v":false},{"$f":"Find_Month(TT$35,TT$36,$F40)","v":false},{"$f":"Find_Month(TU$35,TU$36,$F40)","v":false},{"$f":"Find_Month(TV$35,TV$36,$F40)","v":false},{"$f":"Find_Month(TW$35,TW$36,$F40)","v":false},{"$f":"Find_Month(TX$35,TX$36,$F40)","v":false},{"$f":"Find_Month(TY$35,TY$36,$F40)","v":false}]
[null,null,null,null,null,3,299.4086771363888,9.3411597290343235E-2,null,{"$f":"Find_Month(J$35,J$36,$F41)","v":true},{"$f":"Find_Month(K$35,K$36,$F41)","v":true},{"$f":"Find_Month(L$35,L$36,$F41)","v":true},{"$f":"Find_Month(M$35,M$36,$F41)","v":true},{"$f":"Find_Month(N$35,N$36,$F41)","v":true},{"$f":"Find_Month(O$35,O$36,$F41)","v":true},{"$f":"Find_Month(P$35,P$36,$F41)","v":true},{"$f":"Find_Month(Q$35,Q$36,$F41)","v":true},{"$f":"Find_Month(R$35,R$36,$F41)","v":true},{"$f":"Find_Month(S$35,S$36,$F41)","v":true},{"$f":"Find_Month(T$35,T$36,$F41)","v":true},{"$f":"Find_Month(U$35,U$36,$F41)","v":true},{"$f":"Find_Month(V$35,V$36,$F41)","v":true},{"$f":"Find_Month(W$35,W$36,$F41)","v":true},{"$f":"Find_Month(X$35,X$36,$F41)","v":true},{"$f":"Find_Month(Y$35,Y$36,$F41)","v":true},{"$f":"Find_Month(Z$35,Z$36,$F41)","v":true},{"$f":"Find_Month(AA$35,AA$36,$F41)","v":true},{"$f":"Find_Month(AB$35,AB$36,$F41)","v":true},{"$f":"Find_Month(AC$35,AC$36,$F41)","v":true},{"$f":"Find_Month(AD$35,AD$36,$F41)","v":true},{"$f":"Find_Month(AE$35,AE$36,$F41)","v":true},{"$f":"Find_Month(AF$35,AF$36,$F41)","v":true},{"$f":"Find_Month(AG$35,AG$36,$F41)","v":true},{"$f":"Find_Month(AH$35,AH$36,$F41)","v":true},{"$f":"Find_Month(AI$35,AI$36,$F41)","v":true},{"$f":"Find_Month(AJ$35,AJ$36,$F41)","v":true},{"$f":"Find_Month(AK$35,AK$36,$F41)","v":true},{"$f":"Find_Month(AL$35,AL$36,$F41)","v":true},{"$f":"Find_Month(AM$35,AM$36,$F41)","v":true},{"$f":"Find_Month(AN$35,AN$36,$F41)","v":true},{"$f":"Find_Month(AO$35,AO$36,$F41)","v":true},{"$f":"Find_Month(AP$35,AP$36,$F41)","v":true},{"$f":"Find_Month(AQ$35,AQ$36,$F41)","v":true},{"$f":"Find_Month(AR$35,AR$36,$F41)","v":true},{"$f":"Find_Month(AS$35,AS$36,$F41)","v":true},{"$f":"Find_Month(AT$35,AT$36,$F41)","v":true},{"$f":"Find_Month(AU$35,AU$36,$F41)","v":true},{"$f":"Find_Month(AV$35,AV$36,$F41)","v":true},{"$f":"Find_Month(AW$35,AW$36,$F41)","v":true},{"$f":"Find_Month(AX$35,AX$36,$F41)","v":true},{"$f":"Find_Month(AY$35,AY$36,$F41)","v":true},{"$f":"Find_Month(AZ$35,AZ$36,$F41)","v":true},{"$f":"Find_Month(BA$35,BA$36,$F41)","v":true},{"$f":"Find_Month(BB$35,BB$36,$F41)","v":true},{"$f":"Find_Month(BC$35,BC$36,$F41)","v":true},{"$f":"Find_Month(BD$35,BD$36,$F41)","v":true},{"$f":"Find_Month(BE$35,BE$36,$F41)","v":true},{"$f":"Find_Month(BF$35,BF$36,$F41)","v":true},{"$f":"Find_Month(BG$35,BG$36,$F41)","v":true},{"$f":"Find_Month(BH$35,BH$36,$F41)","v":true},{"$f":"Find_Month(BI$35,BI$36,$F41)","v":true},{"$f":"Find_Month(BJ$35,BJ$36,$F41)","v":true},{"$f":"Find_Month(BK$35,BK$36,$F41)","v":true},{"$f":"Find_Month(BL$35,BL$36,$F41)","v":true},{"$f":"Find_Month(BM$35,BM$36,$F41)","v":true},{"$f":"Find_Month(BN$35,BN$36,$F41)","v":true},{"$f":"Find_Month(BO$35,BO$36,$F41)","v":true},{"$f":"Find_Month(BP$35,BP$36,$F41)","v":true},{"$f":"Find_Month(BQ$35,BQ$36,$F41)","v":true},{"$f":"Find_Month(BR$35,BR$36,$F41)","v":true},{"$f":"Find_Month(BS$35,BS$36,$F41)","v":true},{"$f":"Find_Month(BT$35,BT$36,$F41)","v":true},{"$f":"Find_Month(BU$35,BU$36,$F41)","v":true},{"$f":"Find_Month(BV$35,BV$36,$F41)","v":true},{"$f":"Find_Month(BW$35,BW$36,$F41)","v":true},{"$f":"Find_Month(BX$35,BX$36,$F41)","v":true},{"$f":"Find_Month(BY$35,BY$36,$F41)","v":true},{"$f":"Find_Month(BZ$35,BZ$36,$F41)","v":true},{"$f":"Find_Month(CA$35,CA$36,$F41)","v":true},{"$f":"Find_Month(CB$35,CB$36,$F41)","v":true},{"$f":"Find_Month(CC$35,CC$36,$F41)","v":true},{"$f":"Find_Month(CD$35,CD$36,$F41)","v":true},{"$f":"Find_Month(CE$35,CE$36,$F41)","v":true},{"$f":"Find_Month(CF$35,CF$36,$F41)","v":true},{"$f":"Find_Month(CG$35,CG$36,$F41)","v":true},{"$f":"Find_Month(CH$35,CH$36,$F41)","v":true},{"$f":"Find_Month(CI$35,CI$36,$F41)","v":true},{"$f":"Find_Month(CJ$35,CJ$36,$F41)","v":true},{"$f":"Find_Month(CK$35,CK$36,$F41)","v":true},{"$f":"Find_Month(CL$35,CL$36,$F41)","v":true},{"$f":"Find_Month(CM$35,CM$36,$F41)","v":true},{"$f":"Find_Month(CN$35,CN$36,$F41)","v":true},{"$f":"Find_Month(CO$35,CO$36,$F41)","v":true},{"$f":"Find_Month(CP$35,CP$36,$F41)","v":true},{"$f":"Find_Month(CQ$35,CQ$36,$F41)","v":true},{"$f":"Find_Month(CR$35,CR$36,$F41)","v":true},{"$f":"Find_Month(CS$35,CS$36,$F41)","v":true},{"$f":"Find_Month(CT$35,CT$36,$F41)","v":true},{"$f":"Find_Month(CU$35,CU$36,$F41)","v":true},{"$f":"Find_Month(CV$35,CV$36,$F41)","v":true},{"$f":"Find_Month(CW$35,CW$36,$F41)","v":true},{"$f":"Find_Month(CX$35,CX$36,$F41)","v":true},{"$f":"Find_Month(CY$35,CY$36,$F41)","v":true},{"$f":"Find_Month(CZ$35,CZ$36,$F41)","v":true},{"$f":"Find_Month(DA$35,DA$36,$F41)","v":true},{"$f":"Find_Month(DB$35,DB$36,$F41)","v":true},{"$f":"Find_Month(DC$35,DC$36,$F41)","v":true},{"$f":"Find_Month(DD$35,DD$36,$F41)","v":true},{"$f":"Find_Month(DE$35,DE$36,$F41)","v":true},{"$f":"Find_Month(DF$35,DF$36,$F41)","v":true},{"$f":"Find_Month(DG$35,DG$36,$F41)","v":true},{"$f":"Find_Month(DH$35,DH$36,$F41)","v":true},{"$f":"Find_Month(DI$35,DI$36,$F41)","v":true},{"$f":"Find_Month(DJ$35,DJ$36,$F41)","v":true},{"$f":"Find_Month(DK$35,DK$36,$F41)","v":true},{"$f":"Find_Month(DL$35,DL$36,$F41)","v":true},{"$f":"Find_Month(DM$35,DM$36,$F41)","v":true},{"$f":"Find_Month(DN$35,DN$36,$F41)","v":true},{"$f":"Find_Month(DO$35,DO$36,$F41)","v":true},{"$f":"Find_Month(DP$35,DP$36,$F41)","v":true},{"$f":"Find_Month(DQ$35,DQ$36,$F41)","v":true},{"$f":"Find_Month(DR$35,DR$36,$F41)","v":true},{"$f":"Find_Month(DS$35,DS$36,$F41)","v":true},{"$f":"Find_Month(DT$35,DT$36,$F41)","v":true},{"$f":"Find_Month(DU$35,DU$36,$F41)","v":true},{"$f":"Find_Month(DV$35,DV$36,$F41)","v":true},{"$f":"Find_Month(DW$35,DW$36,$F41)","v":true},{"$f":"Find_Month(DX$35,DX$36,$F41)","v":true},{"$f":"Find_Month(DY$35,DY$36,$F41)","v":true},{"$f":"Find_Month(DZ$35,DZ$36,$F41)","v":true},{"$f":"Find_Month(EA$35,EA$36,$F41)","v":true},{"$f":"Find_Month(EB$35,EB$36,$F41)","v":true},{"$f":"Find_Month(EC$35,EC$36,$F41)","v":true},{"$f":"Find_Month(ED$35,ED$36,$F41)","v":true},{"$f":"Find_Month(EE$35,EE$36,$F41)","v":true},{"$f":"Find_Month(EF$35,EF$36,$F41)","v":true},{"$f":"Find_Month(EG$35,EG$36,$F41)","v":true},{"$f":"Find_Month(EH$35,EH$36,$F41)","v":true},{"$f":"Find_Month(EI$35,EI$36,$F41)","v":true},{"$f":"Find_Month(EJ$35,EJ$36,$F41)","v":true},{"$f":"Find_Month(EK$35,EK$36,$F41)","v":true},{"$f":"Find_Month(EL$35,EL$36,$F41)","v":true},{"$f":"Find_Month(EM$35,EM$36,$F41)","v":true},{"$f":"Find_Month(EN$35,EN$36,$F41)","v":true},{"$f":"Find_Month(EO$35,EO$36,$F41)","v":true},{"$f":"Find_Month(EP$35,EP$36,$F41)","v":true},{"$f":"Find_Month(EQ$35,EQ$36,$F41)","v":true},{"$f":"Find_Month(ER$35,ER$36,$F41)","v":true},{"$f":"Find_Month(ES$35,ES$36,$F41)","v":true},{"$f":"Find_Month(ET$35,ET$36,$F41)","v":true},{"$f":"Find_Month(EU$35,EU$36,$F41)","v":true},{"$f":"Find_Month(EV$35,EV$36,$F41)","v":true},{"$f":"Find_Month(EW$35,EW$36,$F41)","v":true},{"$f":"Find_Month(EX$35,EX$36,$F41)","v":true},{"$f":"Find_Month(EY$35,EY$36,$F41)","v":true},{"$f":"Find_Month(EZ$35,EZ$36,$F41)","v":true},{"$f":"Find_Month(FA$35,FA$36,$F41)","v":true},{"$f":"Find_Month(FB$35,FB$36,$F41)","v":true},{"$f":"Find_Month(FC$35,FC$36,$F41)","v":true},{"$f":"Find_Month(FD$35,FD$36,$F41)","v":true},{"$f":"Find_Month(FE$35,FE$36,$F41)","v":true},{"$f":"Find_Month(FF$35,FF$36,$F41)","v":true},{"$f":"Find_Month(FG$35,FG$36,$F41)","v":true},{"$f":"Find_Month(FH$35,FH$36,$F41)","v":true},{"$f":"Find_Month(FI$35,FI$36,$F41)","v":true},{"$f":"Find_Month(FJ$35,FJ$36,$F41)","v":true},{"$f":"Find_Month(FK$35,FK$36,$F41)","v":true},{"$f":"Find_Month(FL$35,FL$36,$F41)","v":true},{"$f":"Find_Month(FM$35,FM$36,$F41)","v":true},{"$f":"Find_Month(FN$35,FN$36,$F41)","v":true},{"$f":"Find_Month(FO$35,FO$36,$F41)","v":true},{"$f":"Find_Month(FP$35,FP$36,$F41)","v":true},{"$f":"Find_Month(FQ$35,FQ$36,$F41)","v":true},{"$f":"Find_Month(FR$35,FR$36,$F41)","v":true},{"$f":"Find_Month(FS$35,FS$36,$F41)","v":true},{"$f":"Find_Month(FT$35,FT$36,$F41)","v":true},{"$f":"Find_Month(FU$35,FU$36,$F41)","v":true},{"$f":"Find_Month(FV$35,FV$36,$F41)","v":true},{"$f":"Find_Month(FW$35,FW$36,$F41)","v":true},{"$f":"Find_Month(FX$35,FX$36,$F41)","v":true},{"$f":"Find_Month(FY$35,FY$36,$F41)","v":true},{"$f":"Find_Month(FZ$35,FZ$36,$F41)","v":true},{"$f":"Find_Month(GA$35,GA$36,$F41)","v":true},{"$f":"Find_Month(GB$35,GB$36,$F41)","v":true},{"$f":"Find_Month(GC$35,GC$36,$F41)","v":true},{"$f":"Find_Month(GD$35,GD$36,$F41)","v":true},{"$f":"Find_Month(GE$35,GE$36,$F41)","v":true},{"$f":"Find_Month(GF$35,GF$36,$F41)","v":true},{"$f":"Find_Month(GG$35,GG$36,$F41)","v":true},{"$f":"Find_Month(GH$35,GH$36,$F41)","v":true},{"$f":"Find_Month(GI$35,GI$36,$F41)","v":true},{"$f":"Find_Month(GJ$35,GJ$36,$F41)","v":true},{"$f":"Find_Month(GK$35,GK$36,$F41)","v":true},{"$f":"Find_Month(GL$35,GL$36,$F41)","v":true},{"$f":"Find_Month(GM$35,GM$36,$F41)","v":true},{"$f":"Find_Month(GN$35,GN$36,$F41)","v":true},{"$f":"Find_Month(GO$35,GO$36,$F41)","v":true},{"$f":"Find_Month(GP$35,GP$36,$F41)","v":true},{"$f":"Find_Month(GQ$35,GQ$36,$F41)","v":true},{"$f":"Find_Month(GR$35,GR$36,$F41)","v":true},{"$f":"Find_Month(GS$35,GS$36,$F41)","v":true},{"$f":"Find_Month(GT$35,GT$36,$F41)","v":true},{"$f":"Find_Month(GU$35,GU$36,$F41)","v":true},{"$f":"Find_Month(GV$35,GV$36,$F41)","v":true},{"$f":"Find_Month(GW$35,GW$36,$F41)","v":true},{"$f":"Find_Month(GX$35,GX$36,$F41)","v":true},{"$f":"Find_Month(GY$35,GY$36,$F41)","v":true},{"$f":"Find_Month(GZ$35,GZ$36,$F41)","v":true},{"$f":"Find_Month(HA$35,HA$36,$F41)","v":true},{"$f":"Find_Month(HB$35,HB$36,$F41)","v":true},{"$f":"Find_Month(HC$35,HC$36,$F41)","v":true},{"$f":"Find_Month(HD$35,HD$36,$F41)","v":true},{"$f":"Find_Month(HE$35,HE$36,$F41)","v":true},{"$f":"Find_Month(HF$35,HF$36,$F41)","v":true},{"$f":"Find_Month(HG$35,HG$36,$F41)","v":true},{"$f":"Find_Month(HH$35,HH$36,$F41)","v":true},{"$f":"Find_Month(HI$35,HI$36,$F41)","v":true},{"$f":"Find_Month(HJ$35,HJ$36,$F41)","v":true},{"$f":"Find_Month(HK$35,HK$36,$F41)","v":true},{"$f":"Find_Month(HL$35,HL$36,$F41)","v":true},{"$f":"Find_Month(HM$35,HM$36,$F41)","v":true},{"$f":"Find_Month(HN$35,HN$36,$F41)","v":true},{"$f":"Find_Month(HO$35,HO$36,$F41)","v":true},{"$f":"Find_Month(HP$35,HP$36,$F41)","v":true},{"$f":"Find_Month(HQ$35,HQ$36,$F41)","v":true},{"$f":"Find_Month(HR$35,HR$36,$F41)","v":true},{"$f":"Find_Month(HS$35,HS$36,$F41)","v":true},{"$f":"Find_Month(HT$35,HT$36,$F41)","v":true},{"$f":"Find_Month(HU$35,HU$36,$F41)","v":true},{"$f":"Find_Month(HV$35,HV$36,$F41)","v":true},{"$f":"Find_Month(HW$35,HW$36,$F41)","v":true},{"$f":"Find_Month(HX$35,HX$36,$F41)","v":true},{"$f":"Find_Month(HY$35,HY$36,$F41)","v":true},{"$f":"Find_Month(HZ$35,HZ$36,$F41)","v":true},{"$f":"Find_Month(IA$35,IA$36,$F41)","v":true},{"$f":"Find_Month(IB$35,IB$36,$F41)","v":true},{"$f":"Find_Month(IC$35,IC$36,$F41)","v":true},{"$f":"Find_Month(ID$35,ID$36,$F41)","v":true},{"$f":"Find_Month(IE$35,IE$36,$F41)","v":true},{"$f":"Find_Month(IF$35,IF$36,$F41)","v":true},{"$f":"Find_Month(IG$35,IG$36,$F41)","v":true},{"$f":"Find_Month(IH$35,IH$36,$F41)","v":true},{"$f":"Find_Month(II$35,II$36,$F41)","v":true},{"$f":"Find_Month(IJ$35,IJ$36,$F41)","v":true},{"$f":"Find_Month(IK$35,IK$36,$F41)","v":true},{"$f":"Find_Month(IL$35,IL$36,$F41)","v":true},{"$f":"Find_Month(IM$35,IM$36,$F41)","v":true},{"$f":"Find_Month(IN$35,IN$36,$F41)","v":true},{"$f":"Find_Month(IO$35,IO$36,$F41)","v":true},{"$f":"Find_Month(IP$35,IP$36,$F41)","v":true},{"$f":"Find_Month(IQ$35,IQ$36,$F41)","v":true},{"$f":"Find_Month(IR$35,IR$36,$F41)","v":true},{"$f":"Find_Month(IS$35,IS$36,$F41)","v":true},{"$f":"Find_Month(IT$35,IT$36,$F41)","v":true},{"$f":"Find_Month(IU$35,IU$36,$F41)","v":true},{"$f":"Find_Month(IV$35,IV$36,$F41)","v":true},{"$f":"Find_Month(IW$35,IW$36,$F41)","v":true},{"$f":"Find_Month(IX$35,IX$36,$F41)","v":true},{"$f":"Find_Month(IY$35,IY$36,$F41)","v":true},{"$f":"Find_Month(IZ$35,IZ$36,$F41)","v":true},{"$f":"Find_Month(JA$35,JA$36,$F41)","v":true},{"$f":"Find_Month(JB$35,JB$36,$F41)","v":true},{"$f":"Find_Month(JC$35,JC$36,$F41)","v":true},{"$f":"Find_Month(JD$35,JD$36,$F41)","v":true},{"$f":"Find_Month(JE$35,JE$36,$F41)","v":true},{"$f":"Find_Month(JF$35,JF$36,$F41)","v":true},{"$f":"Find_Month(JG$35,JG$36,$F41)","v":true},{"$f":"Find_Month(JH$35,JH$36,$F41)","v":true},{"$f":"Find_Month(JI$35,JI$36,$F41)","v":true},{"$f":"Find_Month(JJ$35,JJ$36,$F41)","v":true},{"$f":"Find_Month(JK$35,JK$36,$F41)","v":true},{"$f":"Find_Month(JL$35,JL$36,$F41)","v":true},{"$f":"Find_Month(JM$35,JM$36,$F41)","v":true},{"$f":"Find_Month(JN$35,JN$36,$F41)","v":true},{"$f":"Find_Month(JO$35,JO$36,$F41)","v":true},{"$f":"Find_Month(JP$35,JP$36,$F41)","v":true},{"$f":"Find_Month(JQ$35,JQ$36,$F41)","v":true},{"$f":"Find_Month(JR$35,JR$36,$F41)","v":true},{"$f":"Find_Month(JS$35,JS$36,$F41)","v":true},{"$f":"Find_Month(JT$35,JT$36,$F41)","v":true},{"$f":"Find_Month(JU$35,JU$36,$F41)","v":true},{"$f":"Find_Month(JV$35,JV$36,$F41)","v":true},{"$f":"Find_Month(JW$35,JW$36,$F41)","v":true},{"$f":"Find_Month(JX$35,JX$36,$F41)","v":true},{"$f":"Find_Month(JY$35,JY$36,$F41)","v":true},{"$f":"Find_Month(JZ$35,JZ$36,$F41)","v":true},{"$f":"Find_Month(KA$35,KA$36,$F41)","v":true},{"$f":"Find_Month(KB$35,KB$36,$F41)","v":true},{"$f":"Find_Month(KC$35,KC$36,$F41)","v":true},{"$f":"Find_Month(KD$35,KD$36,$F41)","v":true},{"$f":"Find_Month(KE$35,KE$36,$F41)","v":true},{"$f":"Find_Month(KF$35,KF$36,$F41)","v":true},{"$f":"Find_Month(KG$35,KG$36,$F41)","v":true},{"$f":"Find_Month(KH$35,KH$36,$F41)","v":true},{"$f":"Find_Month(KI$35,KI$36,$F41)","v":true},{"$f":"Find_Month(KJ$35,KJ$36,$F41)","v":true},{"$f":"Find_Month(KK$35,KK$36,$F41)","v":true},{"$f":"Find_Month(KL$35,KL$36,$F41)","v":true},{"$f":"Find_Month(KM$35,KM$36,$F41)","v":true},{"$f":"Find_Month(KN$35,KN$36,$F41)","v":true},{"$f":"Find_Month(KO$35,KO$36,$F41)","v":true},{"$f":"Find_Month(KP$35,KP$36,$F41)","v":true},{"$f":"Find_Month(KQ$35,KQ$36,$F41)","v":true},{"$f":"Find_Month(KR$35,KR$36,$F41)","v":true},{"$f":"Find_Month(KS$35,KS$36,$F41)","v":true},{"$f":"Find_Month(KT$35,KT$36,$F41)","v":true},{"$f":"Find_Month(KU$35,KU$36,$F41)","v":true},{"$f":"Find_Month(KV$35,KV$36,$F41)","v":true},{"$f":"Find_Month(KW$35,KW$36,$F41)","v":true},{"$f":"Find_Month(KX$35,KX$36,$F41)","v":true},{"$f":"Find_Month(KY$35,KY$36,$F41)","v":true},{"$f":"Find_Month(KZ$35,KZ$36,$F41)","v":true},{"$f":"Find_Month(LA$35,LA$36,$F41)","v":true},{"$f":"Find_Month(LB$35,LB$36,$F41)","v":true},{"$f":"Find_Month(LC$35,LC$36,$F41)","v":true},{"$f":"Find_Month(LD$35,LD$36,$F41)","v":true},{"$f":"Find_Month(LE$35,LE$36,$F41)","v":true},{"$f":"Find_Month(LF$35,LF$36,$F41)","v":true},{"$f":"Find_Month(LG$35,LG$36,$F41)","v":true},{"$f":"Find_Month(LH$35,LH$36,$F41)","v":true},{"$f":"Find_Month(LI$35,LI$36,$F41)","v":true},{"$f":"Find_Month(LJ$35,LJ$36,$F41)","v":true},{"$f":"Find_Month(LK$35,LK$36,$F41)","v":true},{"$f":"Find_Month(LL$35,LL$36,$F41)","v":true},{"$f":"Find_Month(LM$35,LM$36,$F41)","v":true},{"$f":"Find_Month(LN$35,LN$36,$F41)","v":true},{"$f":"Find_Month(LO$35,LO$36,$F41)","v":true},{"$f":"Find_Month(LP$35,LP$36,$F41)","v":true},{"$f":"Find_Month(LQ$35,LQ$36,$F41)","v":true},{"$f":"Find_Month(LR$35,LR$36,$F41)","v":true},{"$f":"Find_Month(LS$35,LS$36,$F41)","v":true},{"$f":"Find_Month(LT$35,LT$36,$F41)","v":true},{"$f":"Find_Month(LU$35,LU$36,$F41)","v":true},{"$f":"Find_Month(LV$35,LV$36,$F41)","v":true},{"$f":"Find_Month(LW$35,LW$36,$F41)","v":true},{"$f":"Find_Month(LX$35,LX$36,$F41)","v":true},{"$f":"Find_Month(LY$35,LY$36,$F41)","v":true},{"$f":"Find_Month(LZ$35,LZ$36,$F41)","v":true},{"$f":"Find_Month(MA$35,MA$36,$F41)","v":true},{"$f":"Find_Month(MB$35,MB$36,$F41)","v":true},{"$f":"Find_Month(MC$35,MC$36,$F41)","v":true},{"$f":"Find_Month(MD$35,MD$36,$F41)","v":true},{"$f":"Find_Month(ME$35,ME$36,$F41)","v":true},{"$f":"Find_Month(MF$35,MF$36,$F41)","v":true},{"$f":"Find_Month(MG$35,MG$36,$F41)","v":true},{"$f":"Find_Month(MH$35,MH$36,$F41)","v":true},{"$f":"Find_Month(MI$35,MI$36,$F41)","v":true},{"$f":"Find_Month(MJ$35,MJ$36,$F41)","v":true},{"$f":"Find_Month(MK$35,MK$36,$F41)","v":true},{"$f":"Find_Month(ML$35,ML$36,$F41)","v":true},{"$f":"Find_Month(MM$35,MM$36,$F41)","v":true},{"$f":"Find_Month(MN$35,MN$36,$F41)","v":true},{"$f":"Find_Month(MO$35,MO$36,$F41)","v":true},{"$f":"Find_Month(MP$35,MP$36,$F41)","v":true},{"$f":"Find_Month(MQ$35,MQ$36,$F41)","v":true},{"$f":"Find_Month(MR$35,MR$36,$F41)","v":true},{"$f":"Find_Month(MS$35,MS$36,$F41)","v":true},{"$f":"Find_Month(MT$35,MT$36,$F41)","v":true},{"$f":"Find_Month(MU$35,MU$36,$F41)","v":true},{"$f":"Find_Month(MV$35,MV$36,$F41)","v":true},{"$f":"Find_Month(MW$35,MW$36,$F41)","v":true},{"$f":"Find_Month(MX$35,MX$36,$F41)","v":true},{"$f":"Find_Month(MY$35,MY$36,$F41)","v":true},{"$f":"Find_Month(MZ$35,MZ$36,$F41)","v":true},{"$f":"Find_Month(NA$35,NA$36,$F41)","v":true},{"$f":"Find_Month(NB$35,NB$36,$F41)","v":true},{"$f":"Find_Month(NC$35,NC$36,$F41)","v":true},{"$f":"Find_Month(ND$35,ND$36,$F41)","v":true},{"$f":"Find_Month(NE$35,NE$36,$F41)","v":true},{"$f":"Find_Month(NF$35,NF$36,$F41)","v":true},{"$f":"Find_Month(NG$35,NG$36,$F41)","v":true},{"$f":"Find_Month(NH$35,NH$36,$F41)","v":true},{"$f":"Find_Month(NI$35,NI$36,$F41)","v":true},{"$f":"Find_Month(NJ$35,NJ$36,$F41)","v":true},{"$f":"Find_Month(NK$35,NK$36,$F41)","v":true},{"$f":"Find_Month(NL$35,NL$36,$F41)","v":true},{"$f":"Find_Month(NM$35,NM$36,$F41)","v":true},{"$f":"Find_Month(NN$35,NN$36,$F41)","v":true},{"$f":"Find_Month(NO$35,NO$36,$F41)","v":true},{"$f":"Find_Month(NP$35,NP$36,$F41)","v":true},{"$f":"Find_Month(NQ$35,NQ$36,$F41)","v":true},{"$f":"Find_Month(NR$35,NR$36,$F41)","v":true},{"$f":"Find_Month(NS$35,NS$36,$F41)","v":true},{"$f":"Find_Month(NT$35,NT$36,$F41)","v":true},{"$f":"Find_Month(NU$35,NU$36,$F41)","v":true},{"$f":"Find_Month(NV$35,NV$36,$F41)","v":true},{"$f":"Find_Month(NW$35,NW$36,$F41)","v":true},{"$f":"Find_Month(NX$35,NX$36,$F41)","v":true},{"$f":"Find_Month(NY$35,NY$36,$F41)","v":true},{"$f":"Find_Month(NZ$35,NZ$36,$F41)","v":true},{"$f":"Find_Month(OA$35,OA$36,$F41)","v":true},{"$f":"Find_Month(OB$35,OB$36,$F41)","v":true},{"$f":"Find_Month(OC$35,OC$36,$F41)","v":true},{"$f":"Find_Month(OD$35,OD$36,$F41)","v":true},{"$f":"Find_Month(OE$35,OE$36,$F41)","v":true},{"$f":"Find_Month(OF$35,OF$36,$F41)","v":true},{"$f":"Find_Month(OG$35,OG$36,$F41)","v":true},{"$f":"Find_Month(OH$35,OH$36,$F41)","v":true},{"$f":"Find_Month(OI$35,OI$36,$F41)","v":true},{"$f":"Find_Month(OJ$35,OJ$36,$F41)","v":true},{"$f":"Find_Month(OK$35,OK$36,$F41)","v":true},{"$f":"Find_Month(OL$35,OL$36,$F41)","v":true},{"$f":"Find_Month(OM$35,OM$36,$F41)","v":true},{"$f":"Find_Month(ON$35,ON$36,$F41)","v":true},{"$f":"Find_Month(OO$35,OO$36,$F41)","v":true},{"$f":"Find_Month(OP$35,OP$36,$F41)","v":true},{"$f":"Find_Month(OQ$35,OQ$36,$F41)","v":true},{"$f":"Find_Month(OR$35,OR$36,$F41)","v":true},{"$f":"Find_Month(OS$35,OS$36,$F41)","v":true},{"$f":"Find_Month(OT$35,OT$36,$F41)","v":true},{"$f":"Find_Month(OU$35,OU$36,$F41)","v":true},{"$f":"Find_Month(OV$35,OV$36,$F41)","v":true},{"$f":"Find_Month(OW$35,OW$36,$F41)","v":true},{"$f":"Find_Month(OX$35,OX$36,$F41)","v":true},{"$f":"Find_Month(OY$35,OY$36,$F41)","v":true},{"$f":"Find_Month(OZ$35,OZ$36,$F41)","v":true},{"$f":"Find_Month(PA$35,PA$36,$F41)","v":true},{"$f":"Find_Month(PB$35,PB$36,$F41)","v":true},{"$f":"Find_Month(PC$35,PC$36,$F41)","v":true},{"$f":"Find_Month(PD$35,PD$36,$F41)","v":true},{"$f":"Find_Month(PE$35,PE$36,$F41)","v":true},{"$f":"Find_Month(PF$35,PF$36,$F41)","v":true},{"$f":"Find_Month(PG$35,PG$36,$F41)","v":true},{"$f":"Find_Month(PH$35,PH$36,$F41)","v":true},{"$f":"Find_Month(PI$35,PI$36,$F41)","v":true},{"$f":"Find_Month(PJ$35,PJ$36,$F41)","v":true},{"$f":"Find_Month(PK$35,PK$36,$F41)","v":true},{"$f":"Find_Month(PL$35,PL$36,$F41)","v":true},{"$f":"Find_Month(PM$35,PM$36,$F41)","v":true},{"$f":"Find_Month(PN$35,PN$36,$F41)","v":true},{"$f":"Find_Month(PO$35,PO$36,$F41)","v":true},{"$f":"Find_Month(PP$35,PP$36,$F41)","v":true},{"$f":"Find_Month(PQ$35,PQ$36,$F41)","v":true},{"$f":"Find_Month(PR$35,PR$36,$F41)","v":true},{"$f":"Find_Month(PS$35,PS$36,$F41)","v":true},{"$f":"Find_Month(PT$35,PT$36,$F41)","v":true},{"$f":"Find_Month(PU$35,PU$36,$F41)","v":true},{"$f":"Find_Month(PV$35,PV$36,$F41)","v":true},{"$f":"Find_Month(PW$35,PW$36,$F41)","v":true},{"$f":"Find_Month(PX$35,PX$36,$F41)","v":true},{"$f":"Find_Month(PY$35,PY$36,$F41)","v":true},{"$f":"Find_Month(PZ$35,PZ$36,$F41)","v":true},{"$f":"Find_Month(QA$35,QA$36,$F41)","v":true},{"$f":"Find_Month(QB$35,QB$36,$F41)","v":true},{"$f":"Find_Month(QC$35,QC$36,$F41)","v":true},{"$f":"Find_Month(QD$35,QD$36,$F41)","v":true},{"$f":"Find_Month(QE$35,QE$36,$F41)","v":true},{"$f":"Find_Month(QF$35,QF$36,$F41)","v":true},{"$f":"Find_Month(QG$35,QG$36,$F41)","v":true},{"$f":"Find_Month(QH$35,QH$36,$F41)","v":true},{"$f":"Find_Month(QI$35,QI$36,$F41)","v":true},{"$f":"Find_Month(QJ$35,QJ$36,$F41)","v":true},{"$f":"Find_Month(QK$35,QK$36,$F41)","v":true},{"$f":"Find_Month(QL$35,QL$36,$F41)","v":true},{"$f":"Find_Month(QM$35,QM$36,$F41)","v":true},{"$f":"Find_Month(QN$35,QN$36,$F41)","v":true},{"$f":"Find_Month(QO$35,QO$36,$F41)","v":true},{"$f":"Find_Month(QP$35,QP$36,$F41)","v":true},{"$f":"Find_Month(QQ$35,QQ$36,$F41)","v":true},{"$f":"Find_Month(QR$35,QR$36,$F41)","v":true},{"$f":"Find_Month(QS$35,QS$36,$F41)","v":true},{"$f":"Find_Month(QT$35,QT$36,$F41)","v":true},{"$f":"Find_Month(QU$35,QU$36,$F41)","v":true},{"$f":"Find_Month(QV$35,QV$36,$F41)","v":true},{"$f":"Find_Month(QW$35,QW$36,$F41)","v":true},{"$f":"Find_Month(QX$35,QX$36,$F41)","v":true},{"$f":"Find_Month(QY$35,QY$36,$F41)","v":true},{"$f":"Find_Month(QZ$35,QZ$36,$F41)","v":true},{"$f":"Find_Month(RA$35,RA$36,$F41)","v":true},{"$f":"Find_Month(RB$35,RB$36,$F41)","v":true},{"$f":"Find_Month(RC$35,RC$36,$F41)","v":true},{"$f":"Find_Month(RD$35,RD$36,$F41)","v":true},{"$f":"Find_Month(RE$35,RE$36,$F41)","v":true},{"$f":"Find_Month(RF$35,RF$36,$F41)","v":true},{"$f":"Find_Month(RG$35,RG$36,$F41)","v":true},{"$f":"Find_Month(RH$35,RH$36,$F41)","v":true},{"$f":"Find_Month(RI$35,RI$36,$F41)","v":true},{"$f":"Find_Month(RJ$35,RJ$36,$F41)","v":true},{"$f":"Find_Month(RK$35,RK$36,$F41)","v":true},{"$f":"Find_Month(RL$35,RL$36,$F41)","v":true},{"$f":"Find_Month(RM$35,RM$36,$F41)","v":true},{"$f":"Find_Month(RN$35,RN$36,$F41)","v":true},{"$f":"Find_Month(RO$35,RO$36,$F41)","v":true},{"$f":"Find_Month(RP$35,RP$36,$F41)","v":true},{"$f":"Find_Month(RQ$35,RQ$36,$F41)","v":true},{"$f":"Find_Month(RR$35,RR$36,$F41)","v":true},{"$f":"Find_Month(RS$35,RS$36,$F41)","v":true},{"$f":"Find_Month(RT$35,RT$36,$F41)","v":true},{"$f":"Find_Month(RU$35,RU$36,$F41)","v":true},{"$f":"Find_Month(RV$35,RV$36,$F41)","v":true},{"$f":"Find_Month(RW$35,RW$36,$F41)","v":true},{"$f":"Find_Month(RX$35,RX$36,$F41)","v":true},{"$f":"Find_Month(RY$35,RY$36,$F41)","v":true},{"$f":"Find_Month(RZ$35,RZ$36,$F41)","v":true},{"$f":"Find_Month(SA$35,SA$36,$F41)","v":true},{"$f":"Find_Month(SB$35,SB$36,$F41)","v":true},{"$f":"Find_Month(SC$35,SC$36,$F41)","v":false},{"$f":"Find_Month(SD$35,SD$36,$F41)","v":false},{"$f":"Find_Month(SE$35,SE$36,$F41)","v":false},{"$f":"Find_Month(SF$35,SF$36,$F41)","v":false},{"$f":"Find_Month(SG$35,SG$36,$F41)","v":false},{"$f":"Find_Month(SH$35,SH$36,$F41)","v":false},{"$f":"Find_Month(SI$35,SI$36,$F41)","v":false},{"$f":"Find_Month(SJ$35,SJ$36,$F41)","v":false},{"$f":"Find_Month(SK$35,SK$36,$F41)","v":false},{"$f":"Find_Month(SL$35,SL$36,$F41)","v":false},{"$f":"Find_Month(SM$35,SM$36,$F41)","v":false},{"$f":"Find_Month(SN$35,SN$36,$F41)","v":false},{"$f":"Find_Month(SO$35,SO$36,$F41)","v":false},{"$f":"Find_Month(SP$35,SP$36,$F41)","v":false},{"$f":"Find_Month(SQ$35,SQ$36,$F41)","v":false},{"$f":"Find_Month(SR$35,SR$36,$F41)","v":false},{"$f":"Find_Month(SS$35,SS$36,$F41)","v":false},{"$f":"Find_Month(ST$35,ST$36,$F41)","v":false},{"$f":"Find_Month(SU$35,SU$36,$F41)","v":false},{"$f":"Find_Month(SV$35,SV$36,$F41)","v":false},{"$f":"Find_Month(SW$35,SW$36,$F41)","v":false},{"$f":"Find_Month(SX$35,SX$36,$F41)","v":false},{"$f":"Find_Month(SY$35,SY$36,$F41)","v":false},{"$f":"Find_Month(SZ$35,SZ$36,$F41)","v":false},{"$f":"Find_Month(TA$35,TA$36,$F41)","v":false},{"$f":"Find_Month(TB$35,TB$36,$F41)","v":false},{"$f":"Find_Month(TC$35,TC$36,$F41)","v":false},{"$f":"Find_Month(TD$35,TD$36,$F41)","v":false},{"$f":"Find_Month(TE$35,TE$36,$F41)","v":false},{"$f":"Find_Month(TF$35,TF$36,$F41)","v":false},{"$f":"Find_Month(TG$35,TG$36,$F41)","v":false},{"$f":"Find_Month(TH$35,TH$36,$F41)","v":false},{"$f":"Find_Month(TI$35,TI$36,$F41)","v":false},{"$f":"Find_Month(TJ$35,TJ$36,$F41)","v":false},{"$f":"Find_Month(TK$35,TK$36,$F41)","v":false},{"$f":"Find_Month(TL$35,TL$36,$F41)","v":false},{"$f":"Find_Month(TM$35,TM$36,$F41)","v":false},{"$f":"Find_Month(TN$35,TN$36,$F41)","v":false},{"$f":"Find_Month(TO$35,TO$36,$F41)","v":false},{"$f":"Find_Month(TP$35,TP$36,$F41)","v":false},{"$f":"Find_Month(TQ$35,TQ$36,$F41)","v":false},{"$f":"Find_Month(TR$35,TR$36,$F41)","v":false},{"$f":"Find_Month(TS$35,TS$36,$F41)","v":false},{"$f":"Find_Month(TT$35,TT$36,$F41)","v":false},{"$f":"Find_Month(TU$35,TU$36,$F41)","v":false},{"$f":"Find_Month(TV$35,TV$36,$F41)","v":false},{"$f":"Find_Month(TW$35,TW$36,$F41)","v":false},{"$f":"Find_Month(TX$35,TX$36,$F41)","v":false},{"$f":"Find_Month(TY$35,TY$36,$F41)","v":false}]
[null,null,null,null,null,4,301.36298538011715,9.4021315941086259E-2,null,{"$f":"Find_Month(J$35,J$36,$F42)","v":true},{"$f":"Find_Month(K$35,K$36,$F42)","v":true},{"$f":"Find_Month(L$35,L$36,$F42)","v":true},{"$f":"Find_Month(M$35,M$36,$F42)","v":true},{"$f":"Find_Month(N$35,N$36,$F42)","v":true},{"$f":"Find_Month(O$35,O$36,$F42)","v":true},{"$f":"Find_Month(P$35,P$36,$F42)","v":true},{"$f":"Find_Month(Q$35,Q$36,$F42)","v":true},{"$f":"Find_Month(R$35,R$36,$F42)","v":true},{"$f":"Find_Month(S$35,S$36,$F42)","v":true},{"$f":"Find_Month(T$35,T$36,$F42)","v":true},{"$f":"Find_Month(U$35,U$36,$F42)","v":true},{"$f":"Find_Month(V$35,V$36,$F42)","v":true},{"$f":"Find_Month(W$35,W$36,$F42)","v":true},{"$f":"Find_Month(X$35,X$36,$F42)","v":true},{"$f":"Find_Month(Y$35,Y$36,$F42)","v":true},{"$f":"Find_Month(Z$35,Z$36,$F42)","v":true},{"$f":"Find_Month(AA$35,AA$36,$F42)","v":true},{"$f":"Find_Month(AB$35,AB$36,$F42)","v":true},{"$f":"Find_Month(AC$35,AC$36,$F42)","v":true},{"$f":"Find_Month(AD$35,AD$36,$F42)","v":true},{"$f":"Find_Month(AE$35,AE$36,$F42)","v":true},{"$f":"Find_Month(AF$35,AF$36,$F42)","v":true},{"$f":"Find_Month(AG$35,AG$36,$F42)","v":true},{"$f":"Find_Month(AH$35,AH$36,$F42)","v":true},{"$f":"Find_Month(AI$35,AI$36,$F42)","v":true},{"$f":"Find_Month(AJ$35,AJ$36,$F42)","v":true},{"$f":"Find_Month(AK$35,AK$36,$F42)","v":true},{"$f":"Find_Month(AL$35,AL$36,$F42)","v":true},{"$f":"Find_Month(AM$35,AM$36,$F42)","v":true},{"$f":"Find_Month(AN$35,AN$36,$F42)","v":true},{"$f":"Find_Month(AO$35,AO$36,$F42)","v":true},{"$f":"Find_Month(AP$35,AP$36,$F42)","v":true},{"$f":"Find_Month(AQ$35,AQ$36,$F42)","v":true},{"$f":"Find_Month(AR$35,AR$36,$F42)","v":true},{"$f":"Find_Month(AS$35,AS$36,$F42)","v":true},{"$f":"Find_Month(AT$35,AT$36,$F42)","v":true},{"$f":"Find_Month(AU$35,AU$36,$F42)","v":true},{"$f":"Find_Month(AV$35,AV$36,$F42)","v":true},{"$f":"Find_Month(AW$35,AW$36,$F42)","v":true},{"$f":"Find_Month(AX$35,AX$36,$F42)","v":true},{"$f":"Find_Month(AY$35,AY$36,$F42)","v":true},{"$f":"Find_Month(AZ$35,AZ$36,$F42)","v":true},{"$f":"Find_Month(BA$35,BA$36,$F42)","v":true},{"$f":"Find_Month(BB$35,BB$36,$F42)","v":true},{"$f":"Find_Month(BC$35,BC$36,$F42)","v":true},{"$f":"Find_Month(BD$35,BD$36,$F42)","v":true},{"$f":"Find_Month(BE$35,BE$36,$F42)","v":true},{"$f":"Find_Month(BF$35,BF$36,$F42)","v":true},{"$f":"Find_Month(BG$35,BG$36,$F42)","v":true},{"$f":"Find_Month(BH$35,BH$36,$F42)","v":true},{"$f":"Find_Month(BI$35,BI$36,$F42)","v":true},{"$f":"Find_Month(BJ$35,BJ$36,$F42)","v":true},{"$f":"Find_Month(BK$35,BK$36,$F42)","v":true},{"$f":"Find_Month(BL$35,BL$36,$F42)","v":true},{"$f":"Find_Month(BM$35,BM$36,$F42)","v":true},{"$f":"Find_Month(BN$35,BN$36,$F42)","v":true},{"$f":"Find_Month(BO$35,BO$36,$F42)","v":true},{"$f":"Find_Month(BP$35,BP$36,$F42)","v":true},{"$f":"Find_Month(BQ$35,BQ$36,$F42)","v":true},{"$f":"Find_Month(BR$35,BR$36,$F42)","v":true},{"$f":"Find_Month(BS$35,BS$36,$F42)","v":true},{"$f":"Find_Month(BT$35,BT$36,$F42)","v":true},{"$f":"Find_Month(BU$35,BU$36,$F42)","v":true},{"$f":"Find_Month(BV$35,BV$36,$F42)","v":true},{"$f":"Find_Month(BW$35,BW$36,$F42)","v":true},{"$f":"Find_Month(BX$35,BX$36,$F42)","v":true},{"$f":"Find_Month(BY$35,BY$36,$F42)","v":true},{"$f":"Find_Month(BZ$35,BZ$36,$F42)","v":true},{"$f":"Find_Month(CA$35,CA$36,$F42)","v":true},{"$f":"Find_Month(CB$35,CB$36,$F42)","v":true},{"$f":"Find_Month(CC$35,CC$36,$F42)","v":true},{"$f":"Find_Month(CD$35,CD$36,$F42)","v":true},{"$f":"Find_Month(CE$35,CE$36,$F42)","v":true},{"$f":"Find_Month(CF$35,CF$36,$F42)","v":true},{"$f":"Find_Month(CG$35,CG$36,$F42)","v":true},{"$f":"Find_Month(CH$35,CH$36,$F42)","v":true},{"$f":"Find_Month(CI$35,CI$36,$F42)","v":true},{"$f":"Find_Month(CJ$35,CJ$36,$F42)","v":true},{"$f":"Find_Month(CK$35,CK$36,$F42)","v":true},{"$f":"Find_Month(CL$35,CL$36,$F42)","v":true},{"$f":"Find_Month(CM$35,CM$36,$F42)","v":true},{"$f":"Find_Month(CN$35,CN$36,$F42)","v":true},{"$f":"Find_Month(CO$35,CO$36,$F42)","v":true},{"$f":"Find_Month(CP$35,CP$36,$F42)","v":true},{"$f":"Find_Month(CQ$35,CQ$36,$F42)","v":true},{"$f":"Find_Month(CR$35,CR$36,$F42)","v":true},{"$f":"Find_Month(CS$35,CS$36,$F42)","v":true},{"$f":"Find_Month(CT$35,CT$36,$F42)","v":true},{"$f":"Find_Month(CU$35,CU$36,$F42)","v":true},{"$f":"Find_Month(CV$35,CV$36,$F42)","v":true},{"$f":"Find_Month(CW$35,CW$36,$F42)","v":true},{"$f":"Find_Month(CX$35,CX$36,$F42)","v":true},{"$f":"Find_Month(CY$35,CY$36,$F42)","v":true},{"$f":"Find_Month(CZ$35,CZ$36,$F42)","v":true},{"$f":"Find_Month(DA$35,DA$36,$F42)","v":true},{"$f":"Find_Month(DB$35,DB$36,$F42)","v":true},{"$f":"Find_Month(DC$35,DC$36,$F42)","v":true},{"$f":"Find_Month(DD$35,DD$36,$F42)","v":true},{"$f":"Find_Month(DE$35,DE$36,$F42)","v":true},{"$f":"Find_Month(DF$35,DF$36,$F42)","v":true},{"$f":"Find_Month(DG$35,DG$36,$F42)","v":true},{"$f":"Find_Month(DH$35,DH$36,$F42)","v":true},{"$f":"Find_Month(DI$35,DI$36,$F42)","v":true},{"$f":"Find_Month(DJ$35,DJ$36,$F42)","v":true},{"$f":"Find_Month(DK$35,DK$36,$F42)","v":true},{"$f":"Find_Month(DL$35,DL$36,$F42)","v":true},{"$f":"Find_Month(DM$35,DM$36,$F42)","v":true},{"$f":"Find_Month(DN$35,DN$36,$F42)","v":true},{"$f":"Find_Month(DO$35,DO$36,$F42)","v":true},{"$f":"Find_Month(DP$35,DP$36,$F42)","v":true},{"$f":"Find_Month(DQ$35,DQ$36,$F42)","v":true},{"$f":"Find_Month(DR$35,DR$36,$F42)","v":true},{"$f":"Find_Month(DS$35,DS$36,$F42)","v":true},{"$f":"Find_Month(DT$35,DT$36,$F42)","v":true},{"$f":"Find_Month(DU$35,DU$36,$F42)","v":true},{"$f":"Find_Month(DV$35,DV$36,$F42)","v":true},{"$f":"Find_Month(DW$35,DW$36,$F42)","v":true},{"$f":"Find_Month(DX$35,DX$36,$F42)","v":true},{"$f":"Find_Month(DY$35,DY$36,$F42)","v":true},{"$f":"Find_Month(DZ$35,DZ$36,$F42)","v":true},{"$f":"Find_Month(EA$35,EA$36,$F42)","v":true},{"$f":"Find_Month(EB$35,EB$36,$F42)","v":true},{"$f":"Find_Month(EC$35,EC$36,$F42)","v":true},{"$f":"Find_Month(ED$35,ED$36,$F42)","v":true},{"$f":"Find_Month(EE$35,EE$36,$F42)","v":true},{"$f":"Find_Month(EF$35,EF$36,$F42)","v":true},{"$f":"Find_Month(EG$35,EG$36,$F42)","v":true},{"$f":"Find_Month(EH$35,EH$36,$F42)","v":true},{"$f":"Find_Month(EI$35,EI$36,$F42)","v":true},{"$f":"Find_Month(EJ$35,EJ$36,$F42)","v":true},{"$f":"Find_Month(EK$35,EK$36,$F42)","v":true},{"$f":"Find_Month(EL$35,EL$36,$F42)","v":true},{"$f":"Find_Month(EM$35,EM$36,$F42)","v":true},{"$f":"Find_Month(EN$35,EN$36,$F42)","v":true},{"$f":"Find_Month(EO$35,EO$36,$F42)","v":true},{"$f":"Find_Month(EP$35,EP$36,$F42)","v":true},{"$f":"Find_Month(EQ$35,EQ$36,$F42)","v":true},{"$f":"Find_Month(ER$35,ER$36,$F42)","v":true},{"$f":"Find_Month(ES$35,ES$36,$F42)","v":true},{"$f":"Find_Month(ET$35,ET$36,$F42)","v":true},{"$f":"Find_Month(EU$35,EU$36,$F42)","v":true},{"$f":"Find_Month(EV$35,EV$36,$F42)","v":true},{"$f":"Find_Month(EW$35,EW$36,$F42)","v":true},{"$f":"Find_Month(EX$35,EX$36,$F42)","v":true},{"$f":"Find_Month(EY$35,EY$36,$F42)","v":true},{"$f":"Find_Month(EZ$35,EZ$36,$F42)","v":true},{"$f":"Find_Month(FA$35,FA$36,$F42)","v":true},{"$f":"Find_Month(FB$35,FB$36,$F42)","v":true},{"$f":"Find_Month(FC$35,FC$36,$F42)","v":true},{"$f":"Find_Month(FD$35,FD$36,$F42)","v":true},{"$f":"Find_Month(FE$35,FE$36,$F42)","v":true},{"$f":"Find_Month(FF$35,FF$36,$F42)","v":true},{"$f":"Find_Month(FG$35,FG$36,$F42)","v":true},{"$f":"Find_Month(FH$35,FH$36,$F42)","v":true},{"$f":"Find_Month(FI$35,FI$36,$F42)","v":true},{"$f":"Find_Month(FJ$35,FJ$36,$F42)","v":true},{"$f":"Find_Month(FK$35,FK$36,$F42)","v":true},{"$f":"Find_Month(FL$35,FL$36,$F42)","v":true},{"$f":"Find_Month(FM$35,FM$36,$F42)","v":true},{"$f":"Find_Month(FN$35,FN$36,$F42)","v":true},{"$f":"Find_Month(FO$35,FO$36,$F42)","v":true},{"$f":"Find_Month(FP$35,FP$36,$F42)","v":true},{"$f":"Find_Month(FQ$35,FQ$36,$F42)","v":true},{"$f":"Find_Month(FR$35,FR$36,$F42)","v":true},{"$f":"Find_Month(FS$35,FS$36,$F42)","v":true},{"$f":"Find_Month(FT$35,FT$36,$F42)","v":true},{"$f":"Find_Month(FU$35,FU$36,$F42)","v":true},{"$f":"Find_Month(FV$35,FV$36,$F42)","v":true},{"$f":"Find_Month(FW$35,FW$36,$F42)","v":true},{"$f":"Find_Month(FX$35,FX$36,$F42)","v":true},{"$f":"Find_Month(FY$35,FY$36,$F42)","v":true},{"$f":"Find_Month(FZ$35,FZ$36,$F42)","v":true},{"$f":"Find_Month(GA$35,GA$36,$F42)","v":true},{"$f":"Find_Month(GB$35,GB$36,$F42)","v":true},{"$f":"Find_Month(GC$35,GC$36,$F42)","v":true},{"$f":"Find_Month(GD$35,GD$36,$F42)","v":true},{"$f":"Find_Month(GE$35,GE$36,$F42)","v":true},{"$f":"Find_Month(GF$35,GF$36,$F42)","v":true},{"$f":"Find_Month(GG$35,GG$36,$F42)","v":true},{"$f":"Find_Month(GH$35,GH$36,$F42)","v":true},{"$f":"Find_Month(GI$35,GI$36,$F42)","v":true},{"$f":"Find_Month(GJ$35,GJ$36,$F42)","v":true},{"$f":"Find_Month(GK$35,GK$36,$F42)","v":true},{"$f":"Find_Month(GL$35,GL$36,$F42)","v":true},{"$f":"Find_Month(GM$35,GM$36,$F42)","v":true},{"$f":"Find_Month(GN$35,GN$36,$F42)","v":true},{"$f":"Find_Month(GO$35,GO$36,$F42)","v":true},{"$f":"Find_Month(GP$35,GP$36,$F42)","v":true},{"$f":"Find_Month(GQ$35,GQ$36,$F42)","v":true},{"$f":"Find_Month(GR$35,GR$36,$F42)","v":true},{"$f":"Find_Month(GS$35,GS$36,$F42)","v":true},{"$f":"Find_Month(GT$35,GT$36,$F42)","v":true},{"$f":"Find_Month(GU$35,GU$36,$F42)","v":true},{"$f":"Find_Month(GV$35,GV$36,$F42)","v":true},{"$f":"Find_Month(GW$35,GW$36,$F42)","v":true},{"$f":"Find_Month(GX$35,GX$36,$F42)","v":true},{"$f":"Find_Month(GY$35,GY$36,$F42)","v":true},{"$f":"Find_Month(GZ$35,GZ$36,$F42)","v":true},{"$f":"Find_Month(HA$35,HA$36,$F42)","v":true},{"$f":"Find_Month(HB$35,HB$36,$F42)","v":true},{"$f":"Find_Month(HC$35,HC$36,$F42)","v":true},{"$f":"Find_Month(HD$35,HD$36,$F42)","v":true},{"$f":"Find_Month(HE$35,HE$36,$F42)","v":true},{"$f":"Find_Month(HF$35,HF$36,$F42)","v":true},{"$f":"Find_Month(HG$35,HG$36,$F42)","v":true},{"$f":"Find_Month(HH$35,HH$36,$F42)","v":true},{"$f":"Find_Month(HI$35,HI$36,$F42)","v":true},{"$f":"Find_Month(HJ$35,HJ$36,$F42)","v":true},{"$f":"Find_Month(HK$35,HK$36,$F42)","v":true},{"$f":"Find_Month(HL$35,HL$36,$F42)","v":true},{"$f":"Find_Month(HM$35,HM$36,$F42)","v":true},{"$f":"Find_Month(HN$35,HN$36,$F42)","v":true},{"$f":"Find_Month(HO$35,HO$36,$F42)","v":true},{"$f":"Find_Month(HP$35,HP$36,$F42)","v":true},{"$f":"Find_Month(HQ$35,HQ$36,$F42)","v":true},{"$f":"Find_Month(HR$35,HR$36,$F42)","v":true},{"$f":"Find_Month(HS$35,HS$36,$F42)","v":true},{"$f":"Find_Month(HT$35,HT$36,$F42)","v":true},{"$f":"Find_Month(HU$35,HU$36,$F42)","v":true},{"$f":"Find_Month(HV$35,HV$36,$F42)","v":true},{"$f":"Find_Month(HW$35,HW$36,$F42)","v":true},{"$f":"Find_Month(HX$35,HX$36,$F42)","v":true},{"$f":"Find_Month(HY$35,HY$36,$F42)","v":true},{"$f":"Find_Month(HZ$35,HZ$36,$F42)","v":true},{"$f":"Find_Month(IA$35,IA$36,$F42)","v":true},{"$f":"Find_Month(IB$35,IB$36,$F42)","v":true},{"$f":"Find_Month(IC$35,IC$36,$F42)","v":true},{"$f":"Find_Month(ID$35,ID$36,$F42)","v":true},{"$f":"Find_Month(IE$35,IE$36,$F42)","v":true},{"$f":"Find_Month(IF$35,IF$36,$F42)","v":true},{"$f":"Find_Month(IG$35,IG$36,$F42)","v":true},{"$f":"Find_Month(IH$35,IH$36,$F42)","v":true},{"$f":"Find_Month(II$35,II$36,$F42)","v":true},{"$f":"Find_Month(IJ$35,IJ$36,$F42)","v":true},{"$f":"Find_Month(IK$35,IK$36,$F42)","v":true},{"$f":"Find_Month(IL$35,IL$36,$F42)","v":true},{"$f":"Find_Month(IM$35,IM$36,$F42)","v":true},{"$f":"Find_Month(IN$35,IN$36,$F42)","v":true},{"$f":"Find_Month(IO$35,IO$36,$F42)","v":true},{"$f":"Find_Month(IP$35,IP$36,$F42)","v":true},{"$f":"Find_Month(IQ$35,IQ$36,$F42)","v":true},{"$f":"Find_Month(IR$35,IR$36,$F42)","v":true},{"$f":"Find_Month(IS$35,IS$36,$F42)","v":true},{"$f":"Find_Month(IT$35,IT$36,$F42)","v":true},{"$f":"Find_Month(IU$35,IU$36,$F42)","v":true},{"$f":"Find_Month(IV$35,IV$36,$F42)","v":true},{"$f":"Find_Month(IW$35,IW$36,$F42)","v":true},{"$f":"Find_Month(IX$35,IX$36,$F42)","v":true},{"$f":"Find_Month(IY$35,IY$36,$F42)","v":true},{"$f":"Find_Month(IZ$35,IZ$36,$F42)","v":true},{"$f":"Find_Month(JA$35,JA$36,$F42)","v":true},{"$f":"Find_Month(JB$35,JB$36,$F42)","v":true},{"$f":"Find_Month(JC$35,JC$36,$F42)","v":true},{"$f":"Find_Month(JD$35,JD$36,$F42)","v":true},{"$f":"Find_Month(JE$35,JE$36,$F42)","v":true},{"$f":"Find_Month(JF$35,JF$36,$F42)","v":true},{"$f":"Find_Month(JG$35,JG$36,$F42)","v":true},{"$f":"Find_Month(JH$35,JH$36,$F42)","v":true},{"$f":"Find_Month(JI$35,JI$36,$F42)","v":true},{"$f":"Find_Month(JJ$35,JJ$36,$F42)","v":true},{"$f":"Find_Month(JK$35,JK$36,$F42)","v":true},{"$f":"Find_Month(JL$35,JL$36,$F42)","v":true},{"$f":"Find_Month(JM$35,JM$36,$F42)","v":true},{"$f":"Find_Month(JN$35,JN$36,$F42)","v":true},{"$f":"Find_Month(JO$35,JO$36,$F42)","v":true},{"$f":"Find_Month(JP$35,JP$36,$F42)","v":true},{"$f":"Find_Month(JQ$35,JQ$36,$F42)","v":true},{"$f":"Find_Month(JR$35,JR$36,$F42)","v":true},{"$f":"Find_Month(JS$35,JS$36,$F42)","v":true},{"$f":"Find_Month(JT$35,JT$36,$F42)","v":true},{"$f":"Find_Month(JU$35,JU$36,$F42)","v":true},{"$f":"Find_Month(JV$35,JV$36,$F42)","v":true},{"$f":"Find_Month(JW$35,JW$36,$F42)","v":true},{"$f":"Find_Month(JX$35,JX$36,$F42)","v":true},{"$f":"Find_Month(JY$35,JY$36,$F42)","v":true},{"$f":"Find_Month(JZ$35,JZ$36,$F42)","v":true},{"$f":"Find_Month(KA$35,KA$36,$F42)","v":true},{"$f":"Find_Month(KB$35,KB$36,$F42)","v":true},{"$f":"Find_Month(KC$35,KC$36,$F42)","v":true},{"$f":"Find_Month(KD$35,KD$36,$F42)","v":true},{"$f":"Find_Month(KE$35,KE$36,$F42)","v":true},{"$f":"Find_Month(KF$35,KF$36,$F42)","v":true},{"$f":"Find_Month(KG$35,KG$36,$F42)","v":true},{"$f":"Find_Month(KH$35,KH$36,$F42)","v":true},{"$f":"Find_Month(KI$35,KI$36,$F42)","v":true},{"$f":"Find_Month(KJ$35,KJ$36,$F42)","v":true},{"$f":"Find_Month(KK$35,KK$36,$F42)","v":true},{"$f":"Find_Month(KL$35,KL$36,$F42)","v":true},{"$f":"Find_Month(KM$35,KM$36,$F42)","v":true},{"$f":"Find_Month(KN$35,KN$36,$F42)","v":true},{"$f":"Find_Month(KO$35,KO$36,$F42)","v":true},{"$f":"Find_Month(KP$35,KP$36,$F42)","v":true},{"$f":"Find_Month(KQ$35,KQ$36,$F42)","v":true},{"$f":"Find_Month(KR$35,KR$36,$F42)","v":true},{"$f":"Find_Month(KS$35,KS$36,$F42)","v":true},{"$f":"Find_Month(KT$35,KT$36,$F42)","v":true},{"$f":"Find_Month(KU$35,KU$36,$F42)","v":true},{"$f":"Find_Month(KV$35,KV$36,$F42)","v":true},{"$f":"Find_Month(KW$35,KW$36,$F42)","v":true},{"$f":"Find_Month(KX$35,KX$36,$F42)","v":true},{"$f":"Find_Month(KY$35,KY$36,$F42)","v":true},{"$f":"Find_Month(KZ$35,KZ$36,$F42)","v":true},{"$f":"Find_Month(LA$35,LA$36,$F42)","v":true},{"$f":"Find_Month(LB$35,LB$36,$F42)","v":true},{"$f":"Find_Month(LC$35,LC$36,$F42)","v":true},{"$f":"Find_Month(LD$35,LD$36,$F42)","v":true},{"$f":"Find_Month(LE$35,LE$36,$F42)","v":true},{"$f":"Find_Month(LF$35,LF$36,$F42)","v":true},{"$f":"Find_Month(LG$35,LG$36,$F42)","v":true},{"$f":"Find_Month(LH$35,LH$36,$F42)","v":true},{"$f":"Find_Month(LI$35,LI$36,$F42)","v":true},{"$f":"Find_Month(LJ$35,LJ$36,$F42)","v":true},{"$f":"Find_Month(LK$35,LK$36,$F42)","v":true},{"$f":"Find_Month(LL$35,LL$36,$F42)","v":true},{"$f":"Find_Month(LM$35,LM$36,$F42)","v":true},{"$f":"Find_Month(LN$35,LN$36,$F42)","v":true},{"$f":"Find_Month(LO$35,LO$36,$F42)","v":true},{"$f":"Find_Month(LP$35,LP$36,$F42)","v":true},{"$f":"Find_Month(LQ$35,LQ$36,$F42)","v":true},{"$f":"Find_Month(LR$35,LR$36,$F42)","v":true},{"$f":"Find_Month(LS$35,LS$36,$F42)","v":true},{"$f":"Find_Month(LT$35,LT$36,$F42)","v":true},{"$f":"Find_Month(LU$35,LU$36,$F42)","v":true},{"$f":"Find_Month(LV$35,LV$36,$F42)","v":true},{"$f":"Find_Month(LW$35,LW$36,$F42)","v":true},{"$f":"Find_Month(LX$35,LX$36,$F42)","v":true},{"$f":"Find_Month(LY$35,LY$36,$F42)","v":true},{"$f":"Find_Month(LZ$35,LZ$36,$F42)","v":true},{"$f":"Find_Month(MA$35,MA$36,$F42)","v":true},{"$f":"Find_Month(MB$35,MB$36,$F42)","v":true},{"$f":"Find_Month(MC$35,MC$36,$F42)","v":true},{"$f":"Find_Month(MD$35,MD$36,$F42)","v":true},{"$f":"Find_Month(ME$35,ME$36,$F42)","v":true},{"$f":"Find_Month(MF$35,MF$36,$F42)","v":true},{"$f":"Find_Month(MG$35,MG$36,$F42)","v":true},{"$f":"Find_Month(MH$35,MH$36,$F42)","v":true},{"$f":"Find_Month(MI$35,MI$36,$F42)","v":true},{"$f":"Find_Month(MJ$35,MJ$36,$F42)","v":true},{"$f":"Find_Month(MK$35,MK$36,$F42)","v":true},{"$f":"Find_Month(ML$35,ML$36,$F42)","v":true},{"$f":"Find_Month(MM$35,MM$36,$F42)","v":true},{"$f":"Find_Month(MN$35,MN$36,$F42)","v":true},{"$f":"Find_Month(MO$35,MO$36,$F42)","v":true},{"$f":"Find_Month(MP$35,MP$36,$F42)","v":true},{"$f":"Find_Month(MQ$35,MQ$36,$F42)","v":true},{"$f":"Find_Month(MR$35,MR$36,$F42)","v":true},{"$f":"Find_Month(MS$35,MS$36,$F42)","v":true},{"$f":"Find_Month(MT$35,MT$36,$F42)","v":true},{"$f":"Find_Month(MU$35,MU$36,$F42)","v":true},{"$f":"Find_Month(MV$35,MV$36,$F42)","v":true},{"$f":"Find_Month(MW$35,MW$36,$F42)","v":true},{"$f":"Find_Month(MX$35,MX$36,$F42)","v":true},{"$f":"Find_Month(MY$35,MY$36,$F42)","v":true},{"$f":"Find_Month(MZ$35,MZ$36,$F42)","v":true},{"$f":"Find_Month(NA$35,NA$36,$F42)","v":true},{"$f":"Find_Month(NB$35,NB$36,$F42)","v":true},{"$f":"Find_Month(NC$35,NC$36,$F42)","v":true},{"$f":"Find_Month(ND$35,ND$36,$F42)","v":true},{"$f":"Find_Month(NE$35,NE$36,$F42)","v":true},{"$f":"Find_Month(NF$35,NF$36,$F42)","v":true},{"$f":"Find_Month(NG$35,NG$36,$F42)","v":true},{"$f":"Find_Month(NH$35,NH$36,$F42)","v":true},{"$f":"Find_Month(NI$35,NI$36,$F42)","v":true},{"$f":"Find_Month(NJ$35,NJ$36,$F42)","v":true},{"$f":"Find_Month(NK$35,NK$36,$F42)","v":true},{"$f":"Find_Month(NL$35,NL$36,$F42)","v":true},{"$f":"Find_Month(NM$35,NM$36,$F42)","v":true},{"$f":"Find_Month(NN$35,NN$36,$F42)","v":true},{"$f":"Find_Month(NO$35,NO$36,$F42)","v":true},{"$f":"Find_Month(NP$35,NP$36,$F42)","v":true},{"$f":"Find_Month(NQ$35,NQ$36,$F42)","v":true},{"$f":"Find_Month(NR$35,NR$36,$F42)","v":true},{"$f":"Find_Month(NS$35,NS$36,$F42)","v":true},{"$f":"Find_Month(NT$35,NT$36,$F42)","v":true},{"$f":"Find_Month(NU$35,NU$36,$F42)","v":true},{"$f":"Find_Month(NV$35,NV$36,$F42)","v":true},{"$f":"Find_Month(NW$35,NW$36,$F42)","v":true},{"$f":"Find_Month(NX$35,NX$36,$F42)","v":true},{"$f":"Find_Month(NY$35,NY$36,$F42)","v":true},{"$f":"Find_Month(NZ$35,NZ$36,$F42)","v":true},{"$f":"Find_Month(OA$35,OA$36,$F42)","v":true},{"$f":"Find_Month(OB$35,OB$36,$F42)","v":true},{"$f":"Find_Month(OC$35,OC$36,$F42)","v":true},{"$f":"Find_Month(OD$35,OD$36,$F42)","v":true},{"$f":"Find_Month(OE$35,OE$36,$F42)","v":true},{"$f":"Find_Month(OF$35,OF$36,$F42)","v":true},{"$f":"Find_Month(OG$35,OG$36,$F42)","v":true},{"$f":"Find_Month(OH$35,OH$36,$F42)","v":true},{"$f":"Find_Month(OI$35,OI$36,$F42)","v":true},{"$f":"Find_Month(OJ$35,OJ$36,$F42)","v":true},{"$f":"Find_Month(OK$35,OK$36,$F42)","v":true},{"$f":"Find_Month(OL$35,OL$36,$F42)","v":true},{"$f":"Find_Month(OM$35,OM$36,$F42)","v":true},{"$f":"Find_Month(ON$35,ON$36,$F42)","v":true},{"$f":"Find_Month(OO$35,OO$36,$F42)","v":true},{"$f":"Find_Month(OP$35,OP$36,$F42)","v":true},{"$f":"Find_Month(OQ$35,OQ$36,$F42)","v":true},{"$f":"Find_Month(OR$35,OR$36,$F42)","v":true},{"$f":"Find_Month(OS$35,OS$36,$F42)","v":true},{"$f":"Find_Month(OT$35,OT$36,$F42)","v":true},{"$f":"Find_Month(OU$35,OU$36,$F42)","v":true},{"$f":"Find_Month(OV$35,OV$36,$F42)","v":true},{"$f":"Find_Month(OW$35,OW$36,$F42)","v":true},{"$f":"Find_Month(OX$35,OX$36,$F42)","v":true},{"$f":"Find_Month(OY$35,OY$36,$F42)","v":true},{"$f":"Find_Month(OZ$35,OZ$36,$F42)","v":true},{"$f":"Find_Month(PA$35,PA$36,$F42)","v":true},{"$f":"Find_Month(PB$35,PB$36,$F42)","v":true},{"$f":"Find_Month(PC$35,PC$36,$F42)","v":true},{"$f":"Find_Month(PD$35,PD$36,$F42)","v":true},{"$f":"Find_Month(PE$35,PE$36,$F42)","v":true},{"$f":"Find_Month(PF$35,PF$36,$F42)","v":true},{"$f":"Find_Month(PG$35,PG$36,$F42)","v":true},{"$f":"Find_Month(PH$35,PH$36,$F42)","v":true},{"$f":"Find_Month(PI$35,PI$36,$F42)","v":true},{"$f":"Find_Month(PJ$35,PJ$36,$F42)","v":true},{"$f":"Find_Month(PK$35,PK$36,$F42)","v":true},{"$f":"Find_Month(PL$35,PL$36,$F42)","v":true},{"$f":"Find_Month(PM$35,PM$36,$F42)","v":true},{"$f":"Find_Month(PN$35,PN$36,$F42)","v":true},{"$f":"Find_Month(PO$35,PO$36,$F42)","v":true},{"$f":"Find_Month(PP$35,PP$36,$F42)","v":true},{"$f":"Find_Month(PQ$35,PQ$36,$F42)","v":true},{"$f":"Find_Month(PR$35,PR$36,$F42)","v":true},{"$f":"Find_Month(PS$35,PS$36,$F42)","v":true},{"$f":"Find_Month(PT$35,PT$36,$F42)","v":true},{"$f":"Find_Month(PU$35,PU$36,$F42)","v":true},{"$f":"Find_Month(PV$35,PV$36,$F42)","v":true},{"$f":"Find_Month(PW$35,PW$36,$F42)","v":true},{"$f":"Find_Month(PX$35,PX$36,$F42)","v":true},{"$f":"Find_Month(PY$35,PY$36,$F42)","v":true},{"$f":"Find_Month(PZ$35,PZ$36,$F42)","v":true},{"$f":"Find_Month(QA$35,QA$36,$F42)","v":true},{"$f":"Find_Month(QB$35,QB$36,$F42)","v":true},{"$f":"Find_Month(QC$35,QC$36,$F42)","v":true},{"$f":"Find_Month(QD$35,QD$36,$F42)","v":true},{"$f":"Find_Month(QE$35,QE$36,$F42)","v":true},{"$f":"Find_Month(QF$35,QF$36,$F42)","v":true},{"$f":"Find_Month(QG$35,QG$36,$F42)","v":true},{"$f":"Find_Month(QH$35,QH$36,$F42)","v":true},{"$f":"Find_Month(QI$35,QI$36,$F42)","v":true},{"$f":"Find_Month(QJ$35,QJ$36,$F42)","v":true},{"$f":"Find_Month(QK$35,QK$36,$F42)","v":true},{"$f":"Find_Month(QL$35,QL$36,$F42)","v":true},{"$f":"Find_Month(QM$35,QM$36,$F42)","v":true},{"$f":"Find_Month(QN$35,QN$36,$F42)","v":true},{"$f":"Find_Month(QO$35,QO$36,$F42)","v":true},{"$f":"Find_Month(QP$35,QP$36,$F42)","v":true},{"$f":"Find_Month(QQ$35,QQ$36,$F42)","v":true},{"$f":"Find_Month(QR$35,QR$36,$F42)","v":true},{"$f":"Find_Month(QS$35,QS$36,$F42)","v":true},{"$f":"Find_Month(QT$35,QT$36,$F42)","v":true},{"$f":"Find_Month(QU$35,QU$36,$F42)","v":true},{"$f":"Find_Month(QV$35,QV$36,$F42)","v":true},{"$f":"Find_Month(QW$35,QW$36,$F42)","v":true},{"$f":"Find_Month(QX$35,QX$36,$F42)","v":true},{"$f":"Find_Month(QY$35,QY$36,$F42)","v":true},{"$f":"Find_Month(QZ$35,QZ$36,$F42)","v":true},{"$f":"Find_Month(RA$35,RA$36,$F42)","v":true},{"$f":"Find_Month(RB$35,RB$36,$F42)","v":true},{"$f":"Find_Month(RC$35,RC$36,$F42)","v":true},{"$f":"Find_Month(RD$35,RD$36,$F42)","v":true},{"$f":"Find_Month(RE$35,RE$36,$F42)","v":true},{"$f":"Find_Month(RF$35,RF$36,$F42)","v":true},{"$f":"Find_Month(RG$35,RG$36,$F42)","v":true},{"$f":"Find_Month(RH$35,RH$36,$F42)","v":true},{"$f":"Find_Month(RI$35,RI$36,$F42)","v":true},{"$f":"Find_Month(RJ$35,RJ$36,$F42)","v":true},{"$f":"Find_Month(RK$35,RK$36,$F42)","v":true},{"$f":"Find_Month(RL$35,RL$36,$F42)","v":true},{"$f":"Find_Month(RM$35,RM$36,$F42)","v":true},{"$f":"Find_Month(RN$35,RN$36,$F42)","v":true},{"$f":"Find_Month(RO$35,RO$36,$F42)","v":true},{"$f":"Find_Month(RP$35,RP$36,$F42)","v":true},{"$f":"Find_Month(RQ$35,RQ$36,$F42)","v":true},{"$f":"Find_Month(RR$35,RR$36,$F42)","v":true},{"$f":"Find_Month(RS$35,RS$36,$F42)","v":true},{"$f":"Find_Month(RT$35,RT$36,$F42)","v":true},{"$f":"Find_Month(RU$35,RU$36,$F42)","v":true},{"$f":"Find_Month(RV$35,RV$36,$F42)","v":true},{"$f":"Find_Month(RW$35,RW$36,$F42)","v":true},{"$f":"Find_Month(RX$35,RX$36,$F42)","v":true},{"$f":"Find_Month(RY$35,RY$36,$F42)","v":true},{"$f":"Find_Month(RZ$35,RZ$36,$F42)","v":true},{"$f":"Find_Month(SA$35,SA$36,$F42)","v":true},{"$f":"Find_Month(SB$35,SB$36,$F42)","v":true},{"$f":"Find_Month(SC$35,SC$36,$F42)","v":false},{"$f":"Find_Month(SD$35,SD$36,$F42)","v":false},{"$f":"Find_Month(SE$35,SE$36,$F42)","v":false},{"$f":"Find_Month(SF$35,SF$36,$F42)","v":false},{"$f":"Find_Month(SG$35,SG$36,$F42)","v":false},{"$f":"Find_Month(SH$35,SH$36,$F42)","v":false},{"$f":"Find_Month(SI$35,SI$36,$F42)","v":false},{"$f":"Find_Month(SJ$35,SJ$36,$F42)","v":false},{"$f":"Find_Month(SK$35,SK$36,$F42)","v":false},{"$f":"Find_Month(SL$35,SL$36,$F42)","v":false},{"$f":"Find_Month(SM$35,SM$36,$F42)","v":false},{"$f":"Find_Month(SN$35,SN$36,$F42)","v":false},{"$f":"Find_Month(SO$35,SO$36,$F42)","v":false},{"$f":"Find_Month(SP$35,SP$36,$F42)","v":false},{"$f":"Find_Month(SQ$35,SQ$36,$F42)","v":false},{"$f":"Find_Month(SR$35,SR$36,$F42)","v":false},{"$f":"Find_Month(SS$35,SS$36,$F42)","v":false},{"$f":"Find_Month(ST$35,ST$36,$F42)","v":false},{"$f":"Find_Month(SU$35,SU$36,$F42)","v":false},{"$f":"Find_Month(SV$35,SV$36,$F42)","v":false},{"$f":"Find_Month(SW$35,SW$36,$F42)","v":false},{"$f":"Find_Month(SX$35,SX$36,$F42)","v":false},{"$f":"Find_Month(SY$35,SY$36,$F42)","v":false},{"$f":"Find_Month(SZ$35,SZ$36,$F42)","v":false},{"$f":"Find_Month(TA$35,TA$36,$F42)","v":false},{"$f":"Find_Month(TB$35,TB$36,$F42)","v":false},{"$f":"Find_Month(TC$35,TC$36,$F42)","v":false},{"$f":"Find_Month(TD$35,TD$36,$F42)","v":false},{"$f":"Find_Month(TE$35,TE$36,$F42)","v":false},{"$f":"Find_Month(TF$35,TF$36,$F42)","v":false},{"$f":"Find_Month(TG$35,TG$36,$F42)","v":false},{"$f":"Find_Month(TH$35,TH$36,$F42)","v":false},{"$f":"Find_Month(TI$35,TI$36,$F42)","v":false},{"$f":"Find_Month(TJ$35,TJ$36,$F42)","v":false},{"$f":"Find_Month(TK$35,TK$36,$F42)","v":false},{"$f":"Find_Month(TL$35,TL$36,$F42)","v":false},{"$f":"Find_Month(TM$35,TM$36,$F42)","v":false},{"$f":"Find_Month(TN$35,TN$36,$F42)","v":false},{"$f":"Find_Month(TO$35,TO$36,$F42)","v":false},{"$f":"Find_Month(TP$35,TP$36,$F42)","v":false},{"$f":"Find_Month(TQ$35,TQ$36,$F42)","v":false},{"$f":"Find_Month(TR$35,TR$36,$F42)","v":false},{"$f":"Find_Month(TS$35,TS$36,$F42)","v":false},{"$f":"Find_Month(TT$35,TT$36,$F42)","v":false},{"$f":"Find_Month(TU$35,TU$36,$F42)","v":false},{"$f":"Find_Month(TV$35,TV$36,$F42)","v":false},{"$f":"Find_Month(TW$35,TW$36,$F42)","v":false},{"$f":"Find_Month(TX$35,TX$36,$F42)","v":false},{"$f":"Find_Month(TY$35,TY$36,$F42)","v":false}]
[null,null,null,null,null,5,284.79110710243322,8.8851106330512949E-2,null,{"$f":"Find_Month(J$35,J$36,$F43)","v":true},{"$f":"Find_Month(K$35,K$36,$F43)","v":true},{"$f":"Find_Month(L$35,L$36,$F43)","v":true},{"$f":"Find_Month(M$35,M$36,$F43)","v":true},{"$f":"Find_Month(N$35,N$36,$F43)","v":true},{"$f":"Find_Month(O$35,O$36,$F43)","v":true},{"$f":"Find_Month(P$35,P$36,$F43)","v":true},{"$f":"Find_Month(Q$35,Q$36,$F43)","v":true},{"$f":"Find_Month(R$35,R$36,$F43)","v":true},{"$f":"Find_Month(S$35,S$36,$F43)","v":true},{"$f":"Find_Month(T$35,T$36,$F43)","v":true},{"$f":"Find_Month(U$35,U$36,$F43)","v":true},{"$f":"Find_Month(V$35,V$36,$F43)","v":true},{"$f":"Find_Month(W$35,W$36,$F43)","v":true},{"$f":"Find_Month(X$35,X$36,$F43)","v":true},{"$f":"Find_Month(Y$35,Y$36,$F43)","v":true},{"$f":"Find_Month(Z$35,Z$36,$F43)","v":true},{"$f":"Find_Month(AA$35,AA$36,$F43)","v":true},{"$f":"Find_Month(AB$35,AB$36,$F43)","v":true},{"$f":"Find_Month(AC$35,AC$36,$F43)","v":true},{"$f":"Find_Month(AD$35,AD$36,$F43)","v":true},{"$f":"Find_Month(AE$35,AE$36,$F43)","v":true},{"$f":"Find_Month(AF$35,AF$36,$F43)","v":true},{"$f":"Find_Month(AG$35,AG$36,$F43)","v":true},{"$f":"Find_Month(AH$35,AH$36,$F43)","v":true},{"$f":"Find_Month(AI$35,AI$36,$F43)","v":true},{"$f":"Find_Month(AJ$35,AJ$36,$F43)","v":true},{"$f":"Find_Month(AK$35,AK$36,$F43)","v":true},{"$f":"Find_Month(AL$35,AL$36,$F43)","v":true},{"$f":"Find_Month(AM$35,AM$36,$F43)","v":true},{"$f":"Find_Month(AN$35,AN$36,$F43)","v":true},{"$f":"Find_Month(AO$35,AO$36,$F43)","v":true},{"$f":"Find_Month(AP$35,AP$36,$F43)","v":true},{"$f":"Find_Month(AQ$35,AQ$36,$F43)","v":true},{"$f":"Find_Month(AR$35,AR$36,$F43)","v":true},{"$f":"Find_Month(AS$35,AS$36,$F43)","v":true},{"$f":"Find_Month(AT$35,AT$36,$F43)","v":true},{"$f":"Find_Month(AU$35,AU$36,$F43)","v":true},{"$f":"Find_Month(AV$35,AV$36,$F43)","v":true},{"$f":"Find_Month(AW$35,AW$36,$F43)","v":true},{"$f":"Find_Month(AX$35,AX$36,$F43)","v":true},{"$f":"Find_Month(AY$35,AY$36,$F43)","v":true},{"$f":"Find_Month(AZ$35,AZ$36,$F43)","v":true},{"$f":"Find_Month(BA$35,BA$36,$F43)","v":true},{"$f":"Find_Month(BB$35,BB$36,$F43)","v":true},{"$f":"Find_Month(BC$35,BC$36,$F43)","v":true},{"$f":"Find_Month(BD$35,BD$36,$F43)","v":true},{"$f":"Find_Month(BE$35,BE$36,$F43)","v":true},{"$f":"Find_Month(BF$35,BF$36,$F43)","v":true},{"$f":"Find_Month(BG$35,BG$36,$F43)","v":true},{"$f":"Find_Month(BH$35,BH$36,$F43)","v":true},{"$f":"Find_Month(BI$35,BI$36,$F43)","v":true},{"$f":"Find_Month(BJ$35,BJ$36,$F43)","v":true},{"$f":"Find_Month(BK$35,BK$36,$F43)","v":true},{"$f":"Find_Month(BL$35,BL$36,$F43)","v":true},{"$f":"Find_Month(BM$35,BM$36,$F43)","v":true},{"$f":"Find_Month(BN$35,BN$36,$F43)","v":true},{"$f":"Find_Month(BO$35,BO$36,$F43)","v":true},{"$f":"Find_Month(BP$35,BP$36,$F43)","v":true},{"$f":"Find_Month(BQ$35,BQ$36,$F43)","v":true},{"$f":"Find_Month(BR$35,BR$36,$F43)","v":true},{"$f":"Find_Month(BS$35,BS$36,$F43)","v":true},{"$f":"Find_Month(BT$35,BT$36,$F43)","v":true},{"$f":"Find_Month(BU$35,BU$36,$F43)","v":true},{"$f":"Find_Month(BV$35,BV$36,$F43)","v":true},{"$f":"Find_Month(BW$35,BW$36,$F43)","v":true},{"$f":"Find_Month(BX$35,BX$36,$F43)","v":true},{"$f":"Find_Month(BY$35,BY$36,$F43)","v":true},{"$f":"Find_Month(BZ$35,BZ$36,$F43)","v":true},{"$f":"Find_Month(CA$35,CA$36,$F43)","v":true},{"$f":"Find_Month(CB$35,CB$36,$F43)","v":true},{"$f":"Find_Month(CC$35,CC$36,$F43)","v":true},{"$f":"Find_Month(CD$35,CD$36,$F43)","v":true},{"$f":"Find_Month(CE$35,CE$36,$F43)","v":true},{"$f":"Find_Month(CF$35,CF$36,$F43)","v":true},{"$f":"Find_Month(CG$35,CG$36,$F43)","v":true},{"$f":"Find_Month(CH$35,CH$36,$F43)","v":true},{"$f":"Find_Month(CI$35,CI$36,$F43)","v":true},{"$f":"Find_Month(CJ$35,CJ$36,$F43)","v":true},{"$f":"Find_Month(CK$35,CK$36,$F43)","v":true},{"$f":"Find_Month(CL$35,CL$36,$F43)","v":true},{"$f":"Find_Month(CM$35,CM$36,$F43)","v":true},{"$f":"Find_Month(CN$35,CN$36,$F43)","v":true},{"$f":"Find_Month(CO$35,CO$36,$F43)","v":true},{"$f":"Find_Month(CP$35,CP$36,$F43)","v":true},{"$f":"Find_Month(CQ$35,CQ$36,$F43)","v":true},{"$f":"Find_Month(CR$35,CR$36,$F43)","v":true},{"$f":"Find_Month(CS$35,CS$36,$F43)","v":true},{"$f":"Find_Month(CT$35,CT$36,$F43)","v":true},{"$f":"Find_Month(CU$35,CU$36,$F43)","v":true},{"$f":"Find_Month(CV$35,CV$36,$F43)","v":true},{"$f":"Find_Month(CW$35,CW$36,$F43)","v":true},{"$f":"Find_Month(CX$35,CX$36,$F43)","v":true},{"$f":"Find_Month(CY$35,CY$36,$F43)","v":true},{"$f":"Find_Month(CZ$35,CZ$36,$F43)","v":true},{"$f":"Find_Month(DA$35,DA$36,$F43)","v":true},{"$f":"Find_Month(DB$35,DB$36,$F43)","v":true},{"$f":"Find_Month(DC$35,DC$36,$F43)","v":true},{"$f":"Find_Month(DD$35,DD$36,$F43)","v":true},{"$f":"Find_Month(DE$35,DE$36,$F43)","v":true},{"$f":"Find_Month(DF$35,DF$36,$F43)","v":true},{"$f":"Find_Month(DG$35,DG$36,$F43)","v":true},{"$f":"Find_Month(DH$35,DH$36,$F43)","v":true},{"$f":"Find_Month(DI$35,DI$36,$F43)","v":true},{"$f":"Find_Month(DJ$35,DJ$36,$F43)","v":true},{"$f":"Find_Month(DK$35,DK$36,$F43)","v":true},{"$f":"Find_Month(DL$35,DL$36,$F43)","v":true},{"$f":"Find_Month(DM$35,DM$36,$F43)","v":true},{"$f":"Find_Month(DN$35,DN$36,$F43)","v":true},{"$f":"Find_Month(DO$35,DO$36,$F43)","v":true},{"$f":"Find_Month(DP$35,DP$36,$F43)","v":true},{"$f":"Find_Month(DQ$35,DQ$36,$F43)","v":true},{"$f":"Find_Month(DR$35,DR$36,$F43)","v":true},{"$f":"Find_Month(DS$35,DS$36,$F43)","v":true},{"$f":"Find_Month(DT$35,DT$36,$F43)","v":true},{"$f":"Find_Month(DU$35,DU$36,$F43)","v":true},{"$f":"Find_Month(DV$35,DV$36,$F43)","v":true},{"$f":"Find_Month(DW$35,DW$36,$F43)","v":true},{"$f":"Find_Month(DX$35,DX$36,$F43)","v":true},{"$f":"Find_Month(DY$35,DY$36,$F43)","v":true},{"$f":"Find_Month(DZ$35,DZ$36,$F43)","v":true},{"$f":"Find_Month(EA$35,EA$36,$F43)","v":true},{"$f":"Find_Month(EB$35,EB$36,$F43)","v":true},{"$f":"Find_Month(EC$35,EC$36,$F43)","v":true},{"$f":"Find_Month(ED$35,ED$36,$F43)","v":true},{"$f":"Find_Month(EE$35,EE$36,$F43)","v":true},{"$f":"Find_Month(EF$35,EF$36,$F43)","v":true},{"$f":"Find_Month(EG$35,EG$36,$F43)","v":true},{"$f":"Find_Month(EH$35,EH$36,$F43)","v":true},{"$f":"Find_Month(EI$35,EI$36,$F43)","v":true},{"$f":"Find_Month(EJ$35,EJ$36,$F43)","v":true},{"$f":"Find_Month(EK$35,EK$36,$F43)","v":true},{"$f":"Find_Month(EL$35,EL$36,$F43)","v":true},{"$f":"Find_Month(EM$35,EM$36,$F43)","v":true},{"$f":"Find_Month(EN$35,EN$36,$F43)","v":true},{"$f":"Find_Month(EO$35,EO$36,$F43)","v":true},{"$f":"Find_Month(EP$35,EP$36,$F43)","v":true},{"$f":"Find_Month(EQ$35,EQ$36,$F43)","v":true},{"$f":"Find_Month(ER$35,ER$36,$F43)","v":true},{"$f":"Find_Month(ES$35,ES$36,$F43)","v":true},{"$f":"Find_Month(ET$35,ET$36,$F43)","v":true},{"$f":"Find_Month(EU$35,EU$36,$F43)","v":true},{"$f":"Find_Month(EV$35,EV$36,$F43)","v":true},{"$f":"Find_Month(EW$35,EW$36,$F43)","v":true},{"$f":"Find_Month(EX$35,EX$36,$F43)","v":true},{"$f":"Find_Month(EY$35,EY$36,$F43)","v":true},{"$f":"Find_Month(EZ$35,EZ$36,$F43)","v":true},{"$f":"Find_Month(FA$35,FA$36,$F43)","v":true},{"$f":"Find_Month(FB$35,FB$36,$F43)","v":true},{"$f":"Find_Month(FC$35,FC$36,$F43)","v":true},{"$f":"Find_Month(FD$35,FD$36,$F43)","v":true},{"$f":"Find_Month(FE$35,FE$36,$F43)","v":true},{"$f":"Find_Month(FF$35,FF$36,$F43)","v":true},{"$f":"Find_Month(FG$35,FG$36,$F43)","v":true},{"$f":"Find_Month(FH$35,FH$36,$F43)","v":true},{"$f":"Find_Month(FI$35,FI$36,$F43)","v":true},{"$f":"Find_Month(FJ$35,FJ$36,$F43)","v":true},{"$f":"Find_Month(FK$35,FK$36,$F43)","v":true},{"$f":"Find_Month(FL$35,FL$36,$F43)","v":true},{"$f":"Find_Month(FM$35,FM$36,$F43)","v":true},{"$f":"Find_Month(FN$35,FN$36,$F43)","v":true},{"$f":"Find_Month(FO$35,FO$36,$F43)","v":true},{"$f":"Find_Month(FP$35,FP$36,$F43)","v":true},{"$f":"Find_Month(FQ$35,FQ$36,$F43)","v":true},{"$f":"Find_Month(FR$35,FR$36,$F43)","v":true},{"$f":"Find_Month(FS$35,FS$36,$F43)","v":true},{"$f":"Find_Month(FT$35,FT$36,$F43)","v":true},{"$f":"Find_Month(FU$35,FU$36,$F43)","v":true},{"$f":"Find_Month(FV$35,FV$36,$F43)","v":true},{"$f":"Find_Month(FW$35,FW$36,$F43)","v":true},{"$f":"Find_Month(FX$35,FX$36,$F43)","v":true},{"$f":"Find_Month(FY$35,FY$36,$F43)","v":true},{"$f":"Find_Month(FZ$35,FZ$36,$F43)","v":true},{"$f":"Find_Month(GA$35,GA$36,$F43)","v":true},{"$f":"Find_Month(GB$35,GB$36,$F43)","v":true},{"$f":"Find_Month(GC$35,GC$36,$F43)","v":true},{"$f":"Find_Month(GD$35,GD$36,$F43)","v":true},{"$f":"Find_Month(GE$35,GE$36,$F43)","v":true},{"$f":"Find_Month(GF$35,GF$36,$F43)","v":true},{"$f":"Find_Month(GG$35,GG$36,$F43)","v":true},{"$f":"Find_Month(GH$35,GH$36,$F43)","v":true},{"$f":"Find_Month(GI$35,GI$36,$F43)","v":true},{"$f":"Find_Month(GJ$35,GJ$36,$F43)","v":true},{"$f":"Find_Month(GK$35,GK$36,$F43)","v":true},{"$f":"Find_Month(GL$35,GL$36,$F43)","v":true},{"$f":"Find_Month(GM$35,GM$36,$F43)","v":true},{"$f":"Find_Month(GN$35,GN$36,$F43)","v":true},{"$f":"Find_Month(GO$35,GO$36,$F43)","v":true},{"$f":"Find_Month(GP$35,GP$36,$F43)","v":true},{"$f":"Find_Month(GQ$35,GQ$36,$F43)","v":true},{"$f":"Find_Month(GR$35,GR$36,$F43)","v":true},{"$f":"Find_Month(GS$35,GS$36,$F43)","v":true},{"$f":"Find_Month(GT$35,GT$36,$F43)","v":true},{"$f":"Find_Month(GU$35,GU$36,$F43)","v":true},{"$f":"Find_Month(GV$35,GV$36,$F43)","v":true},{"$f":"Find_Month(GW$35,GW$36,$F43)","v":true},{"$f":"Find_Month(GX$35,GX$36,$F43)","v":true},{"$f":"Find_Month(GY$35,GY$36,$F43)","v":true},{"$f":"Find_Month(GZ$35,GZ$36,$F43)","v":true},{"$f":"Find_Month(HA$35,HA$36,$F43)","v":true},{"$f":"Find_Month(HB$35,HB$36,$F43)","v":true},{"$f":"Find_Month(HC$35,HC$36,$F43)","v":true},{"$f":"Find_Month(HD$35,HD$36,$F43)","v":true},{"$f":"Find_Month(HE$35,HE$36,$F43)","v":true},{"$f":"Find_Month(HF$35,HF$36,$F43)","v":true},{"$f":"Find_Month(HG$35,HG$36,$F43)","v":true},{"$f":"Find_Month(HH$35,HH$36,$F43)","v":true},{"$f":"Find_Month(HI$35,HI$36,$F43)","v":true},{"$f":"Find_Month(HJ$35,HJ$36,$F43)","v":true},{"$f":"Find_Month(HK$35,HK$36,$F43)","v":true},{"$f":"Find_Month(HL$35,HL$36,$F43)","v":true},{"$f":"Find_Month(HM$35,HM$36,$F43)","v":true},{"$f":"Find_Month(HN$35,HN$36,$F43)","v":true},{"$f":"Find_Month(HO$35,HO$36,$F43)","v":true},{"$f":"Find_Month(HP$35,HP$36,$F43)","v":true},{"$f":"Find_Month(HQ$35,HQ$36,$F43)","v":true},{"$f":"Find_Month(HR$35,HR$36,$F43)","v":true},{"$f":"Find_Month(HS$35,HS$36,$F43)","v":true},{"$f":"Find_Month(HT$35,HT$36,$F43)","v":true},{"$f":"Find_Month(HU$35,HU$36,$F43)","v":true},{"$f":"Find_Month(HV$35,HV$36,$F43)","v":true},{"$f":"Find_Month(HW$35,HW$36,$F43)","v":true},{"$f":"Find_Month(HX$35,HX$36,$F43)","v":true},{"$f":"Find_Month(HY$35,HY$36,$F43)","v":true},{"$f":"Find_Month(HZ$35,HZ$36,$F43)","v":true},{"$f":"Find_Month(IA$35,IA$36,$F43)","v":true},{"$f":"Find_Month(IB$35,IB$36,$F43)","v":true},{"$f":"Find_Month(IC$35,IC$36,$F43)","v":true},{"$f":"Find_Month(ID$35,ID$36,$F43)","v":true},{"$f":"Find_Month(IE$35,IE$36,$F43)","v":true},{"$f":"Find_Month(IF$35,IF$36,$F43)","v":true},{"$f":"Find_Month(IG$35,IG$36,$F43)","v":true},{"$f":"Find_Month(IH$35,IH$36,$F43)","v":true},{"$f":"Find_Month(II$35,II$36,$F43)","v":true},{"$f":"Find_Month(IJ$35,IJ$36,$F43)","v":true},{"$f":"Find_Month(IK$35,IK$36,$F43)","v":true},{"$f":"Find_Month(IL$35,IL$36,$F43)","v":true},{"$f":"Find_Month(IM$35,IM$36,$F43)","v":true},{"$f":"Find_Month(IN$35,IN$36,$F43)","v":true},{"$f":"Find_Month(IO$35,IO$36,$F43)","v":true},{"$f":"Find_Month(IP$35,IP$36,$F43)","v":true},{"$f":"Find_Month(IQ$35,IQ$36,$F43)","v":true},{"$f":"Find_Month(IR$35,IR$36,$F43)","v":true},{"$f":"Find_Month(IS$35,IS$36,$F43)","v":true},{"$f":"Find_Month(IT$35,IT$36,$F43)","v":true},{"$f":"Find_Month(IU$35,IU$36,$F43)","v":true},{"$f":"Find_Month(IV$35,IV$36,$F43)","v":true},{"$f":"Find_Month(IW$35,IW$36,$F43)","v":true},{"$f":"Find_Month(IX$35,IX$36,$F43)","v":true},{"$f":"Find_Month(IY$35,IY$36,$F43)","v":true},{"$f":"Find_Month(IZ$35,IZ$36,$F43)","v":true},{"$f":"Find_Month(JA$35,JA$36,$F43)","v":true},{"$f":"Find_Month(JB$35,JB$36,$F43)","v":true},{"$f":"Find_Month(JC$35,JC$36,$F43)","v":true},{"$f":"Find_Month(JD$35,JD$36,$F43)","v":true},{"$f":"Find_Month(JE$35,JE$36,$F43)","v":true},{"$f":"Find_Month(JF$35,JF$36,$F43)","v":true},{"$f":"Find_Month(JG$35,JG$36,$F43)","v":true},{"$f":"Find_Month(JH$35,JH$36,$F43)","v":true},{"$f":"Find_Month(JI$35,JI$36,$F43)","v":true},{"$f":"Find_Month(JJ$35,JJ$36,$F43)","v":true},{"$f":"Find_Month(JK$35,JK$36,$F43)","v":true},{"$f":"Find_Month(JL$35,JL$36,$F43)","v":true},{"$f":"Find_Month(JM$35,JM$36,$F43)","v":true},{"$f":"Find_Month(JN$35,JN$36,$F43)","v":true},{"$f":"Find_Month(JO$35,JO$36,$F43)","v":true},{"$f":"Find_Month(JP$35,JP$36,$F43)","v":true},{"$f":"Find_Month(JQ$35,JQ$36,$F43)","v":true},{"$f":"Find_Month(JR$35,JR$36,$F43)","v":true},{"$f":"Find_Month(JS$35,JS$36,$F43)","v":true},{"$f":"Find_Month(JT$35,JT$36,$F43)","v":true},{"$f":"Find_Month(JU$35,JU$36,$F43)","v":true},{"$f":"Find_Month(JV$35,JV$36,$F43)","v":true},{"$f":"Find_Month(JW$35,JW$36,$F43)","v":true},{"$f":"Find_Month(JX$35,JX$36,$F43)","v":true},{"$f":"Find_Month(JY$35,JY$36,$F43)","v":true},{"$f":"Find_Month(JZ$35,JZ$36,$F43)","v":true},{"$f":"Find_Month(KA$35,KA$36,$F43)","v":true},{"$f":"Find_Month(KB$35,KB$36,$F43)","v":true},{"$f":"Find_Month(KC$35,KC$36,$F43)","v":true},{"$f":"Find_Month(KD$35,KD$36,$F43)","v":true},{"$f":"Find_Month(KE$35,KE$36,$F43)","v":true},{"$f":"Find_Month(KF$35,KF$36,$F43)","v":true},{"$f":"Find_Month(KG$35,KG$36,$F43)","v":true},{"$f":"Find_Month(KH$35,KH$36,$F43)","v":true},{"$f":"Find_Month(KI$35,KI$36,$F43)","v":true},{"$f":"Find_Month(KJ$35,KJ$36,$F43)","v":true},{"$f":"Find_Month(KK$35,KK$36,$F43)","v":true},{"$f":"Find_Month(KL$35,KL$36,$F43)","v":true},{"$f":"Find_Month(KM$35,KM$36,$F43)","v":true},{"$f":"Find_Month(KN$35,KN$36,$F43)","v":true},{"$f":"Find_Month(KO$35,KO$36,$F43)","v":true},{"$f":"Find_Month(KP$35,KP$36,$F43)","v":true},{"$f":"Find_Month(KQ$35,KQ$36,$F43)","v":true},{"$f":"Find_Month(KR$35,KR$36,$F43)","v":true},{"$f":"Find_Month(KS$35,KS$36,$F43)","v":true},{"$f":"Find_Month(KT$35,KT$36,$F43)","v":true},{"$f":"Find_Month(KU$35,KU$36,$F43)","v":true},{"$f":"Find_Month(KV$35,KV$36,$F43)","v":true},{"$f":"Find_Month(KW$35,KW$36,$F43)","v":true},{"$f":"Find_Month(KX$35,KX$36,$F43)","v":true},{"$f":"Find_Month(KY$35,KY$36,$F43)","v":true},{"$f":"Find_Month(KZ$35,KZ$36,$F43)","v":true},{"$f":"Find_Month(LA$35,LA$36,$F43)","v":true},{"$f":"Find_Month(LB$35,LB$36,$F43)","v":true},{"$f":"Find_Month(LC$35,LC$36,$F43)","v":true},{"$f":"Find_Month(LD$35,LD$36,$F43)","v":true},{"$f":"Find_Month(LE$35,LE$36,$F43)","v":true},{"$f":"Find_Month(LF$35,LF$36,$F43)","v":true},{"$f":"Find_Month(LG$35,LG$36,$F43)","v":true},{"$f":"Find_Month(LH$35,LH$36,$F43)","v":true},{"$f":"Find_Month(LI$35,LI$36,$F43)","v":true},{"$f":"Find_Month(LJ$35,LJ$36,$F43)","v":true},{"$f":"Find_Month(LK$35,LK$36,$F43)","v":true},{"$f":"Find_Month(LL$35,LL$36,$F43)","v":true},{"$f":"Find_Month(LM$35,LM$36,$F43)","v":true},{"$f":"Find_Month(LN$35,LN$36,$F43)","v":true},{"$f":"Find_Month(LO$35,LO$36,$F43)","v":true},{"$f":"Find_Month(LP$35,LP$36,$F43)","v":true},{"$f":"Find_Month(LQ$35,LQ$36,$F43)","v":true},{"$f":"Find_Month(LR$35,LR$36,$F43)","v":true},{"$f":"Find_Month(LS$35,LS$36,$F43)","v":true},{"$f":"Find_Month(LT$35,LT$36,$F43)","v":true},{"$f":"Find_Month(LU$35,LU$36,$F43)","v":true},{"$f":"Find_Month(LV$35,LV$36,$F43)","v":true},{"$f":"Find_Month(LW$35,LW$36,$F43)","v":true},{"$f":"Find_Month(LX$35,LX$36,$F43)","v":true},{"$f":"Find_Month(LY$35,LY$36,$F43)","v":true},{"$f":"Find_Month(LZ$35,LZ$36,$F43)","v":true},{"$f":"Find_Month(MA$35,MA$36,$F43)","v":true},{"$f":"Find_Month(MB$35,MB$36,$F43)","v":true},{"$f":"Find_Month(MC$35,MC$36,$F43)","v":true},{"$f":"Find_Month(MD$35,MD$36,$F43)","v":true},{"$f":"Find_Month(ME$35,ME$36,$F43)","v":true},{"$f":"Find_Month(MF$35,MF$36,$F43)","v":true},{"$f":"Find_Month(MG$35,MG$36,$F43)","v":true},{"$f":"Find_Month(MH$35,MH$36,$F43)","v":true},{"$f":"Find_Month(MI$35,MI$36,$F43)","v":true},{"$f":"Find_Month(MJ$35,MJ$36,$F43)","v":true},{"$f":"Find_Month(MK$35,MK$36,$F43)","v":true},{"$f":"Find_Month(ML$35,ML$36,$F43)","v":true},{"$f":"Find_Month(MM$35,MM$36,$F43)","v":true},{"$f":"Find_Month(MN$35,MN$36,$F43)","v":true},{"$f":"Find_Month(MO$35,MO$36,$F43)","v":true},{"$f":"Find_Month(MP$35,MP$36,$F43)","v":true},{"$f":"Find_Month(MQ$35,MQ$36,$F43)","v":true},{"$f":"Find_Month(MR$35,MR$36,$F43)","v":true},{"$f":"Find_Month(MS$35,MS$36,$F43)","v":true},{"$f":"Find_Month(MT$35,MT$36,$F43)","v":true},{"$f":"Find_Month(MU$35,MU$36,$F43)","v":true},{"$f":"Find_Month(MV$35,MV$36,$F43)","v":true},{"$f":"Find_Month(MW$35,MW$36,$F43)","v":true},{"$f":"Find_Month(MX$35,MX$36,$F43)","v":true},{"$f":"Find_Month(MY$35,MY$36,$F43)","v":true},{"$f":"Find_Month(MZ$35,MZ$36,$F43)","v":true},{"$f":"Find_Month(NA$35,NA$36,$F43)","v":true},{"$f":"Find_Month(NB$35,NB$36,$F43)","v":true},{"$f":"Find_Month(NC$35,NC$36,$F43)","v":true},{"$f":"Find_Month(ND$35,ND$36,$F43)","v":true},{"$f":"Find_Month(NE$35,NE$36,$F43)","v":true},{"$f":"Find_Month(NF$35,NF$36,$F43)","v":true},{"$f":"Find_Month(NG$35,NG$36,$F43)","v":true},{"$f":"Find_Month(NH$35,NH$36,$F43)","v":true},{"$f":"Find_Month(NI$35,NI$36,$F43)","v":true},{"$f":"Find_Month(NJ$35,NJ$36,$F43)","v":true},{"$f":"Find_Month(NK$35,NK$36,$F43)","v":true},{"$f":"Find_Month(NL$35,NL$36,$F43)","v":true},{"$f":"Find_Month(NM$35,NM$36,$F43)","v":true},{"$f":"Find_Month(NN$35,NN$36,$F43)","v":true},{"$f":"Find_Month(NO$35,NO$36,$F43)","v":true},{"$f":"Find_Month(NP$35,NP$36,$F43)","v":true},{"$f":"Find_Month(NQ$35,NQ$36,$F43)","v":true},{"$f":"Find_Month(NR$35,NR$36,$F43)","v":true},{"$f":"Find_Month(NS$35,NS$36,$F43)","v":true},{"$f":"Find_Month(NT$35,NT$36,$F43)","v":true},{"$f":"Find_Month(NU$35,NU$36,$F43)","v":true},{"$f":"Find_Month(NV$35,NV$36,$F43)","v":true},{"$f":"Find_Month(NW$35,NW$36,$F43)","v":true},{"$f":"Find_Month(NX$35,NX$36,$F43)","v":true},{"$f":"Find_Month(NY$35,NY$36,$F43)","v":true},{"$f":"Find_Month(NZ$35,NZ$36,$F43)","v":true},{"$f":"Find_Month(OA$35,OA$36,$F43)","v":true},{"$f":"Find_Month(OB$35,OB$36,$F43)","v":true},{"$f":"Find_Month(OC$35,OC$36,$F43)","v":true},{"$f":"Find_Month(OD$35,OD$36,$F43)","v":true},{"$f":"Find_Month(OE$35,OE$36,$F43)","v":true},{"$f":"Find_Month(OF$35,OF$36,$F43)","v":true},{"$f":"Find_Month(OG$35,OG$36,$F43)","v":true},{"$f":"Find_Month(OH$35,OH$36,$F43)","v":true},{"$f":"Find_Month(OI$35,OI$36,$F43)","v":true},{"$f":"Find_Month(OJ$35,OJ$36,$F43)","v":true},{"$f":"Find_Month(OK$35,OK$36,$F43)","v":true},{"$f":"Find_Month(OL$35,OL$36,$F43)","v":true},{"$f":"Find_Month(OM$35,OM$36,$F43)","v":true},{"$f":"Find_Month(ON$35,ON$36,$F43)","v":true},{"$f":"Find_Month(OO$35,OO$36,$F43)","v":true},{"$f":"Find_Month(OP$35,OP$36,$F43)","v":true},{"$f":"Find_Month(OQ$35,OQ$36,$F43)","v":true},{"$f":"Find_Month(OR$35,OR$36,$F43)","v":true},{"$f":"Find_Month(OS$35,OS$36,$F43)","v":true},{"$f":"Find_Month(OT$35,OT$36,$F43)","v":true},{"$f":"Find_Month(OU$35,OU$36,$F43)","v":true},{"$f":"Find_Month(OV$35,OV$36,$F43)","v":true},{"$f":"Find_Month(OW$35,OW$36,$F43)","v":true},{"$f":"Find_Month(OX$35,OX$36,$F43)","v":true},{"$f":"Find_Month(OY$35,OY$36,$F43)","v":true},{"$f":"Find_Month(OZ$35,OZ$36,$F43)","v":true},{"$f":"Find_Month(PA$35,PA$36,$F43)","v":true},{"$f":"Find_Month(PB$35,PB$36,$F43)","v":true},{"$f":"Find_Month(PC$35,PC$36,$F43)","v":true},{"$f":"Find_Month(PD$35,PD$36,$F43)","v":true},{"$f":"Find_Month(PE$35,PE$36,$F43)","v":true},{"$f":"Find_Month(PF$35,PF$36,$F43)","v":true},{"$f":"Find_Month(PG$35,PG$36,$F43)","v":true},{"$f":"Find_Month(PH$35,PH$36,$F43)","v":true},{"$f":"Find_Month(PI$35,PI$36,$F43)","v":true},{"$f":"Find_Month(PJ$35,PJ$36,$F43)","v":true},{"$f":"Find_Month(PK$35,PK$36,$F43)","v":true},{"$f":"Find_Month(PL$35,PL$36,$F43)","v":true},{"$f":"Find_Month(PM$35,PM$36,$F43)","v":true},{"$f":"Find_Month(PN$35,PN$36,$F43)","v":true},{"$f":"Find_Month(PO$35,PO$36,$F43)","v":true},{"$f":"Find_Month(PP$35,PP$36,$F43)","v":true},{"$f":"Find_Month(PQ$35,PQ$36,$F43)","v":true},{"$f":"Find_Month(PR$35,PR$36,$F43)","v":true},{"$f":"Find_Month(PS$35,PS$36,$F43)","v":true},{"$f":"Find_Month(PT$35,PT$36,$F43)","v":true},{"$f":"Find_Month(PU$35,PU$36,$F43)","v":true},{"$f":"Find_Month(PV$35,PV$36,$F43)","v":true},{"$f":"Find_Month(PW$35,PW$36,$F43)","v":true},{"$f":"Find_Month(PX$35,PX$36,$F43)","v":true},{"$f":"Find_Month(PY$35,PY$36,$F43)","v":true},{"$f":"Find_Month(PZ$35,PZ$36,$F43)","v":true},{"$f":"Find_Month(QA$35,QA$36,$F43)","v":true},{"$f":"Find_Month(QB$35,QB$36,$F43)","v":true},{"$f":"Find_Month(QC$35,QC$36,$F43)","v":true},{"$f":"Find_Month(QD$35,QD$36,$F43)","v":true},{"$f":"Find_Month(QE$35,QE$36,$F43)","v":true},{"$f":"Find_Month(QF$35,QF$36,$F43)","v":true},{"$f":"Find_Month(QG$35,QG$36,$F43)","v":true},{"$f":"Find_Month(QH$35,QH$36,$F43)","v":true},{"$f":"Find_Month(QI$35,QI$36,$F43)","v":true},{"$f":"Find_Month(QJ$35,QJ$36,$F43)","v":true},{"$f":"Find_Month(QK$35,QK$36,$F43)","v":true},{"$f":"Find_Month(QL$35,QL$36,$F43)","v":true},{"$f":"Find_Month(QM$35,QM$36,$F43)","v":true},{"$f":"Find_Month(QN$35,QN$36,$F43)","v":true},{"$f":"Find_Month(QO$35,QO$36,$F43)","v":true},{"$f":"Find_Month(QP$35,QP$36,$F43)","v":true},{"$f":"Find_Month(QQ$35,QQ$36,$F43)","v":true},{"$f":"Find_Month(QR$35,QR$36,$F43)","v":true},{"$f":"Find_Month(QS$35,QS$36,$F43)","v":true},{"$f":"Find_Month(QT$35,QT$36,$F43)","v":true},{"$f":"Find_Month(QU$35,QU$36,$F43)","v":true},{"$f":"Find_Month(QV$35,QV$36,$F43)","v":true},{"$f":"Find_Month(QW$35,QW$36,$F43)","v":true},{"$f":"Find_Month(QX$35,QX$36,$F43)","v":true},{"$f":"Find_Month(QY$35,QY$36,$F43)","v":true},{"$f":"Find_Month(QZ$35,QZ$36,$F43)","v":true},{"$f":"Find_Month(RA$35,RA$36,$F43)","v":true},{"$f":"Find_Month(RB$35,RB$36,$F43)","v":true},{"$f":"Find_Month(RC$35,RC$36,$F43)","v":true},{"$f":"Find_Month(RD$35,RD$36,$F43)","v":true},{"$f":"Find_Month(RE$35,RE$36,$F43)","v":true},{"$f":"Find_Month(RF$35,RF$36,$F43)","v":true},{"$f":"Find_Month(RG$35,RG$36,$F43)","v":true},{"$f":"Find_Month(RH$35,RH$36,$F43)","v":true},{"$f":"Find_Month(RI$35,RI$36,$F43)","v":true},{"$f":"Find_Month(RJ$35,RJ$36,$F43)","v":true},{"$f":"Find_Month(RK$35,RK$36,$F43)","v":true},{"$f":"Find_Month(RL$35,RL$36,$F43)","v":true},{"$f":"Find_Month(RM$35,RM$36,$F43)","v":true},{"$f":"Find_Month(RN$35,RN$36,$F43)","v":true},{"$f":"Find_Month(RO$35,RO$36,$F43)","v":true},{"$f":"Find_Month(RP$35,RP$36,$F43)","v":true},{"$f":"Find_Month(RQ$35,RQ$36,$F43)","v":true},{"$f":"Find_Month(RR$35,RR$36,$F43)","v":true},{"$f":"Find_Month(RS$35,RS$36,$F43)","v":true},{"$f":"Find_Month(RT$35,RT$36,$F43)","v":true},{"$f":"Find_Month(RU$35,RU$36,$F43)","v":true},{"$f":"Find_Month(RV$35,RV$36,$F43)","v":true},{"$f":"Find_Month(RW$35,RW$36,$F43)","v":true},{"$f":"Find_Month(RX$35,RX$36,$F43)","v":true},{"$f":"Find_Month(RY$35,RY$36,$F43)","v":true},{"$f":"Find_Month(RZ$35,RZ$36,$F43)","v":true},{"$f":"Find_Month(SA$35,SA$36,$F43)","v":true},{"$f":"Find_Month(SB$35,SB$36,$F43)","v":true},{"$f":"Find_Month(SC$35,SC$36,$F43)","v":false},{"$f":"Find_Month(SD$35,SD$36,$F43)","v":false},{"$f":"Find_Month(SE$35,SE$36,$F43)","v":false},{"$f":"Find_Month(SF$35,SF$36,$F43)","v":false},{"$f":"Find_Month(SG$35,SG$36,$F43)","v":false},{"$f":"Find_Month(SH$35,SH$36,$F43)","v":false},{"$f":"Find_Month(SI$35,SI$36,$F43)","v":false},{"$f":"Find_Month(SJ$35,SJ$36,$F43)","v":false},{"$f":"Find_Month(SK$35,SK$36,$F43)","v":false},{"$f":"Find_Month(SL$35,SL$36,$F43)","v":false},{"$f":"Find_Month(SM$35,SM$36,$F43)","v":false},{"$f":"Find_Month(SN$35,SN$36,$F43)","v":false},{"$f":"Find_Month(SO$35,SO$36,$F43)","v":false},{"$f":"Find_Month(SP$35,SP$36,$F43)","v":false},{"$f":"Find_Month(SQ$35,SQ$36,$F43)","v":false},{"$f":"Find_Month(SR$35,SR$36,$F43)","v":false},{"$f":"Find_Month(SS$35,SS$36,$F43)","v":false},{"$f":"Find_Month(ST$35,ST$36,$F43)","v":false},{"$f":"Find_Month(SU$35,SU$36,$F43)","v":false},{"$f":"Find_Month(SV$35,SV$36,$F43)","v":false},{"$f":"Find_Month(SW$35,SW$36,$F43)","v":false},{"$f":"Find_Month(SX$35,SX$36,$F43)","v":false},{"$f":"Find_Month(SY$35,SY$36,$F43)","v":false},{"$f":"Find_Month(SZ$35,SZ$36,$F43)","v":false},{"$f":"Find_Month(TA$35,TA$36,$F43)","v":false},{"$f":"Find_Month(TB$35,TB$36,$F43)","v":false},{"$f":"Find_Month(TC$35,TC$36,$F43)","v":false},{"$f":"Find_Month(TD$35,TD$36,$F43)","v":false},{"$f":"Find_Month(TE$35,TE$36,$F43)","v":false},{"$f":"Find_Month(TF$35,TF$36,$F43)","v":false},{"$f":"Find_Month(TG$35,TG$36,$F43)","v":false},{"$f":"Find_Month(TH$35,TH$36,$F43)","v":false},{"$f":"Find_Month(TI$35,TI$36,$F43)","v":false},{"$f":"Find_Month(TJ$35,TJ$36,$F43)","v":false},{"$f":"Find_Month(TK$35,TK$36,$F43)","v":false},{"$f":"Find_Month(TL$35,TL$36,$F43)","v":false},{"$f":"Find_Month(TM$35,TM$36,$F43)","v":false},{"$f":"Find_Month(TN$35,TN$36,$F43)","v":false},{"$f":"Find_Month(TO$35,TO$36,$F43)","v":false},{"$f":"Find_Month(TP$35,TP$36,$F43)","v":false},{"$f":"Find_Month(TQ$35,TQ$36,$F43)","v":false},{"$f":"Find_Month(TR$35,TR$36,$F43)","v":false},{"$f":"Find_Month(TS$35,TS$36,$F43)","v":false},{"$f":"Find_Month(TT$35,TT$36,$F43)","v":false},{"$f":"Find_Month(TU$35,TU$36,$F43)","v":false},{"$f":"Find_Month(TV$35,TV$36,$F43)","v":false},{"$f":"Find_Month(TW$35,TW$36,$F43)","v":false},{"$f":"Find_Month(TX$35,TX$36,$F43)","v":false},{"$f":"Find_Month(TY$35,TY$36,$F43)","v":false}]
[null,null,null,null,null,6,252.92331725146215,7.8908772058296203E-2,null,{"$f":"Find_Month(J$35,J$36,$F44)","v":true},{"$f":"Find_Month(K$35,K$36,$F44)","v":true},{"$f":"Find_Month(L$35,L$36,$F44)","v":true},{"$f":"Find_Month(M$35,M$36,$F44)","v":true},{"$f":"Find_Month(N$35,N$36,$F44)","v":true},{"$f":"Find_Month(O$35,O$36,$F44)","v":true},{"$f":"Find_Month(P$35,P$36,$F44)","v":true},{"$f":"Find_Month(Q$35,Q$36,$F44)","v":true},{"$f":"Find_Month(R$35,R$36,$F44)","v":true},{"$f":"Find_Month(S$35,S$36,$F44)","v":true},{"$f":"Find_Month(T$35,T$36,$F44)","v":true},{"$f":"Find_Month(U$35,U$36,$F44)","v":true},{"$f":"Find_Month(V$35,V$36,$F44)","v":true},{"$f":"Find_Month(W$35,W$36,$F44)","v":true},{"$f":"Find_Month(X$35,X$36,$F44)","v":true},{"$f":"Find_Month(Y$35,Y$36,$F44)","v":true},{"$f":"Find_Month(Z$35,Z$36,$F44)","v":true},{"$f":"Find_Month(AA$35,AA$36,$F44)","v":true},{"$f":"Find_Month(AB$35,AB$36,$F44)","v":true},{"$f":"Find_Month(AC$35,AC$36,$F44)","v":true},{"$f":"Find_Month(AD$35,AD$36,$F44)","v":true},{"$f":"Find_Month(AE$35,AE$36,$F44)","v":true},{"$f":"Find_Month(AF$35,AF$36,$F44)","v":true},{"$f":"Find_Month(AG$35,AG$36,$F44)","v":true},{"$f":"Find_Month(AH$35,AH$36,$F44)","v":true},{"$f":"Find_Month(AI$35,AI$36,$F44)","v":true},{"$f":"Find_Month(AJ$35,AJ$36,$F44)","v":true},{"$f":"Find_Month(AK$35,AK$36,$F44)","v":true},{"$f":"Find_Month(AL$35,AL$36,$F44)","v":true},{"$f":"Find_Month(AM$35,AM$36,$F44)","v":true},{"$f":"Find_Month(AN$35,AN$36,$F44)","v":true},{"$f":"Find_Month(AO$35,AO$36,$F44)","v":true},{"$f":"Find_Month(AP$35,AP$36,$F44)","v":true},{"$f":"Find_Month(AQ$35,AQ$36,$F44)","v":true},{"$f":"Find_Month(AR$35,AR$36,$F44)","v":true},{"$f":"Find_Month(AS$35,AS$36,$F44)","v":true},{"$f":"Find_Month(AT$35,AT$36,$F44)","v":true},{"$f":"Find_Month(AU$35,AU$36,$F44)","v":true},{"$f":"Find_Month(AV$35,AV$36,$F44)","v":true},{"$f":"Find_Month(AW$35,AW$36,$F44)","v":true},{"$f":"Find_Month(AX$35,AX$36,$F44)","v":true},{"$f":"Find_Month(AY$35,AY$36,$F44)","v":true},{"$f":"Find_Month(AZ$35,AZ$36,$F44)","v":true},{"$f":"Find_Month(BA$35,BA$36,$F44)","v":true},{"$f":"Find_Month(BB$35,BB$36,$F44)","v":true},{"$f":"Find_Month(BC$35,BC$36,$F44)","v":true},{"$f":"Find_Month(BD$35,BD$36,$F44)","v":true},{"$f":"Find_Month(BE$35,BE$36,$F44)","v":true},{"$f":"Find_Month(BF$35,BF$36,$F44)","v":true},{"$f":"Find_Month(BG$35,BG$36,$F44)","v":true},{"$f":"Find_Month(BH$35,BH$36,$F44)","v":true},{"$f":"Find_Month(BI$35,BI$36,$F44)","v":true},{"$f":"Find_Month(BJ$35,BJ$36,$F44)","v":true},{"$f":"Find_Month(BK$35,BK$36,$F44)","v":true},{"$f":"Find_Month(BL$35,BL$36,$F44)","v":true},{"$f":"Find_Month(BM$35,BM$36,$F44)","v":true},{"$f":"Find_Month(BN$35,BN$36,$F44)","v":true},{"$f":"Find_Month(BO$35,BO$36,$F44)","v":true},{"$f":"Find_Month(BP$35,BP$36,$F44)","v":true},{"$f":"Find_Month(BQ$35,BQ$36,$F44)","v":true},{"$f":"Find_Month(BR$35,BR$36,$F44)","v":true},{"$f":"Find_Month(BS$35,BS$36,$F44)","v":true},{"$f":"Find_Month(BT$35,BT$36,$F44)","v":true},{"$f":"Find_Month(BU$35,BU$36,$F44)","v":true},{"$f":"Find_Month(BV$35,BV$36,$F44)","v":true},{"$f":"Find_Month(BW$35,BW$36,$F44)","v":true},{"$f":"Find_Month(BX$35,BX$36,$F44)","v":true},{"$f":"Find_Month(BY$35,BY$36,$F44)","v":true},{"$f":"Find_Month(BZ$35,BZ$36,$F44)","v":true},{"$f":"Find_Month(CA$35,CA$36,$F44)","v":true},{"$f":"Find_Month(CB$35,CB$36,$F44)","v":true},{"$f":"Find_Month(CC$35,CC$36,$F44)","v":true},{"$f":"Find_Month(CD$35,CD$36,$F44)","v":true},{"$f":"Find_Month(CE$35,CE$36,$F44)","v":true},{"$f":"Find_Month(CF$35,CF$36,$F44)","v":true},{"$f":"Find_Month(CG$35,CG$36,$F44)","v":true},{"$f":"Find_Month(CH$35,CH$36,$F44)","v":true},{"$f":"Find_Month(CI$35,CI$36,$F44)","v":true},{"$f":"Find_Month(CJ$35,CJ$36,$F44)","v":true},{"$f":"Find_Month(CK$35,CK$36,$F44)","v":true},{"$f":"Find_Month(CL$35,CL$36,$F44)","v":true},{"$f":"Find_Month(CM$35,CM$36,$F44)","v":true},{"$f":"Find_Month(CN$35,CN$36,$F44)","v":true},{"$f":"Find_Month(CO$35,CO$36,$F44)","v":true},{"$f":"Find_Month(CP$35,CP$36,$F44)","v":true},{"$f":"Find_Month(CQ$35,CQ$36,$F44)","v":true},{"$f":"Find_Month(CR$35,CR$36,$F44)","v":true},{"$f":"Find_Month(CS$35,CS$36,$F44)","v":true},{"$f":"Find_Month(CT$35,CT$36,$F44)","v":true},{"$f":"Find_Month(CU$35,CU$36,$F44)","v":true},{"$f":"Find_Month(CV$35,CV$36,$F44)","v":true},{"$f":"Find_Month(CW$35,CW$36,$F44)","v":true},{"$f":"Find_Month(CX$35,CX$36,$F44)","v":true},{"$f":"Find_Month(CY$35,CY$36,$F44)","v":true},{"$f":"Find_Month(CZ$35,CZ$36,$F44)","v":true},{"$f":"Find_Month(DA$35,DA$36,$F44)","v":true},{"$f":"Find_Month(DB$35,DB$36,$F44)","v":true},{"$f":"Find_Month(DC$35,DC$36,$F44)","v":true},{"$f":"Find_Month(DD$35,DD$36,$F44)","v":true},{"$f":"Find_Month(DE$35,DE$36,$F44)","v":true},{"$f":"Find_Month(DF$35,DF$36,$F44)","v":true},{"$f":"Find_Month(DG$35,DG$36,$F44)","v":true},{"$f":"Find_Month(DH$35,DH$36,$F44)","v":true},{"$f":"Find_Month(DI$35,DI$36,$F44)","v":true},{"$f":"Find_Month(DJ$35,DJ$36,$F44)","v":true},{"$f":"Find_Month(DK$35,DK$36,$F44)","v":true},{"$f":"Find_Month(DL$35,DL$36,$F44)","v":true},{"$f":"Find_Month(DM$35,DM$36,$F44)","v":true},{"$f":"Find_Month(DN$35,DN$36,$F44)","v":true},{"$f":"Find_Month(DO$35,DO$36,$F44)","v":true},{"$f":"Find_Month(DP$35,DP$36,$F44)","v":true},{"$f":"Find_Month(DQ$35,DQ$36,$F44)","v":true},{"$f":"Find_Month(DR$35,DR$36,$F44)","v":true},{"$f":"Find_Month(DS$35,DS$36,$F44)","v":true},{"$f":"Find_Month(DT$35,DT$36,$F44)","v":true},{"$f":"Find_Month(DU$35,DU$36,$F44)","v":true},{"$f":"Find_Month(DV$35,DV$36,$F44)","v":true},{"$f":"Find_Month(DW$35,DW$36,$F44)","v":true},{"$f":"Find_Month(DX$35,DX$36,$F44)","v":true},{"$f":"Find_Month(DY$35,DY$36,$F44)","v":true},{"$f":"Find_Month(DZ$35,DZ$36,$F44)","v":true},{"$f":"Find_Month(EA$35,EA$36,$F44)","v":true},{"$f":"Find_Month(EB$35,EB$36,$F44)","v":true},{"$f":"Find_Month(EC$35,EC$36,$F44)","v":true},{"$f":"Find_Month(ED$35,ED$36,$F44)","v":true},{"$f":"Find_Month(EE$35,EE$36,$F44)","v":true},{"$f":"Find_Month(EF$35,EF$36,$F44)","v":true},{"$f":"Find_Month(EG$35,EG$36,$F44)","v":true},{"$f":"Find_Month(EH$35,EH$36,$F44)","v":true},{"$f":"Find_Month(EI$35,EI$36,$F44)","v":true},{"$f":"Find_Month(EJ$35,EJ$36,$F44)","v":true},{"$f":"Find_Month(EK$35,EK$36,$F44)","v":true},{"$f":"Find_Month(EL$35,EL$36,$F44)","v":true},{"$f":"Find_Month(EM$35,EM$36,$F44)","v":true},{"$f":"Find_Month(EN$35,EN$36,$F44)","v":true},{"$f":"Find_Month(EO$35,EO$36,$F44)","v":true},{"$f":"Find_Month(EP$35,EP$36,$F44)","v":true},{"$f":"Find_Month(EQ$35,EQ$36,$F44)","v":true},{"$f":"Find_Month(ER$35,ER$36,$F44)","v":true},{"$f":"Find_Month(ES$35,ES$36,$F44)","v":true},{"$f":"Find_Month(ET$35,ET$36,$F44)","v":true},{"$f":"Find_Month(EU$35,EU$36,$F44)","v":true},{"$f":"Find_Month(EV$35,EV$36,$F44)","v":true},{"$f":"Find_Month(EW$35,EW$36,$F44)","v":true},{"$f":"Find_Month(EX$35,EX$36,$F44)","v":true},{"$f":"Find_Month(EY$35,EY$36,$F44)","v":true},{"$f":"Find_Month(EZ$35,EZ$36,$F44)","v":true},{"$f":"Find_Month(FA$35,FA$36,$F44)","v":true},{"$f":"Find_Month(FB$35,FB$36,$F44)","v":true},{"$f":"Find_Month(FC$35,FC$36,$F44)","v":true},{"$f":"Find_Month(FD$35,FD$36,$F44)","v":true},{"$f":"Find_Month(FE$35,FE$36,$F44)","v":true},{"$f":"Find_Month(FF$35,FF$36,$F44)","v":true},{"$f":"Find_Month(FG$35,FG$36,$F44)","v":true},{"$f":"Find_Month(FH$35,FH$36,$F44)","v":true},{"$f":"Find_Month(FI$35,FI$36,$F44)","v":true},{"$f":"Find_Month(FJ$35,FJ$36,$F44)","v":true},{"$f":"Find_Month(FK$35,FK$36,$F44)","v":true},{"$f":"Find_Month(FL$35,FL$36,$F44)","v":true},{"$f":"Find_Month(FM$35,FM$36,$F44)","v":true},{"$f":"Find_Month(FN$35,FN$36,$F44)","v":true},{"$f":"Find_Month(FO$35,FO$36,$F44)","v":true},{"$f":"Find_Month(FP$35,FP$36,$F44)","v":true},{"$f":"Find_Month(FQ$35,FQ$36,$F44)","v":true},{"$f":"Find_Month(FR$35,FR$36,$F44)","v":true},{"$f":"Find_Month(FS$35,FS$36,$F44)","v":true},{"$f":"Find_Month(FT$35,FT$36,$F44)","v":true},{"$f":"Find_Month(FU$35,FU$36,$F44)","v":true},{"$f":"Find_Month(FV$35,FV$36,$F44)","v":true},{"$f":"Find_Month(FW$35,FW$36,$F44)","v":true},{"$f":"Find_Month(FX$35,FX$36,$F44)","v":true},{"$f":"Find_Month(FY$35,FY$36,$F44)","v":true},{"$f":"Find_Month(FZ$35,FZ$36,$F44)","v":true},{"$f":"Find_Month(GA$35,GA$36,$F44)","v":true},{"$f":"Find_Month(GB$35,GB$36,$F44)","v":true},{"$f":"Find_Month(GC$35,GC$36,$F44)","v":true},{"$f":"Find_Month(GD$35,GD$36,$F44)","v":true},{"$f":"Find_Month(GE$35,GE$36,$F44)","v":true},{"$f":"Find_Month(GF$35,GF$36,$F44)","v":true},{"$f":"Find_Month(GG$35,GG$36,$F44)","v":true},{"$f":"Find_Month(GH$35,GH$36,$F44)","v":true},{"$f":"Find_Month(GI$35,GI$36,$F44)","v":true},{"$f":"Find_Month(GJ$35,GJ$36,$F44)","v":true},{"$f":"Find_Month(GK$35,GK$36,$F44)","v":true},{"$f":"Find_Month(GL$35,GL$36,$F44)","v":true},{"$f":"Find_Month(GM$35,GM$36,$F44)","v":true},{"$f":"Find_Month(GN$35,GN$36,$F44)","v":true},{"$f":"Find_Month(GO$35,GO$36,$F44)","v":true},{"$f":"Find_Month(GP$35,GP$36,$F44)","v":true},{"$f":"Find_Month(GQ$35,GQ$36,$F44)","v":true},{"$f":"Find_Month(GR$35,GR$36,$F44)","v":true},{"$f":"Find_Month(GS$35,GS$36,$F44)","v":true},{"$f":"Find_Month(GT$35,GT$36,$F44)","v":true},{"$f":"Find_Month(GU$35,GU$36,$F44)","v":true},{"$f":"Find_Month(GV$35,GV$36,$F44)","v":true},{"$f":"Find_Month(GW$35,GW$36,$F44)","v":true},{"$f":"Find_Month(GX$35,GX$36,$F44)","v":true},{"$f":"Find_Month(GY$35,GY$36,$F44)","v":true},{"$f":"Find_Month(GZ$35,GZ$36,$F44)","v":true},{"$f":"Find_Month(HA$35,HA$36,$F44)","v":true},{"$f":"Find_Month(HB$35,HB$36,$F44)","v":true},{"$f":"Find_Month(HC$35,HC$36,$F44)","v":true},{"$f":"Find_Month(HD$35,HD$36,$F44)","v":true},{"$f":"Find_Month(HE$35,HE$36,$F44)","v":true},{"$f":"Find_Month(HF$35,HF$36,$F44)","v":true},{"$f":"Find_Month(HG$35,HG$36,$F44)","v":true},{"$f":"Find_Month(HH$35,HH$36,$F44)","v":true},{"$f":"Find_Month(HI$35,HI$36,$F44)","v":true},{"$f":"Find_Month(HJ$35,HJ$36,$F44)","v":true},{"$f":"Find_Month(HK$35,HK$36,$F44)","v":true},{"$f":"Find_Month(HL$35,HL$36,$F44)","v":true},{"$f":"Find_Month(HM$35,HM$36,$F44)","v":true},{"$f":"Find_Month(HN$35,HN$36,$F44)","v":true},{"$f":"Find_Month(HO$35,HO$36,$F44)","v":true},{"$f":"Find_Month(HP$35,HP$36,$F44)","v":true},{"$f":"Find_Month(HQ$35,HQ$36,$F44)","v":true},{"$f":"Find_Month(HR$35,HR$36,$F44)","v":true},{"$f":"Find_Month(HS$35,HS$36,$F44)","v":true},{"$f":"Find_Month(HT$35,HT$36,$F44)","v":true},{"$f":"Find_Month(HU$35,HU$36,$F44)","v":true},{"$f":"Find_Month(HV$35,HV$36,$F44)","v":true},{"$f":"Find_Month(HW$35,HW$36,$F44)","v":true},{"$f":"Find_Month(HX$35,HX$36,$F44)","v":true},{"$f":"Find_Month(HY$35,HY$36,$F44)","v":true},{"$f":"Find_Month(HZ$35,HZ$36,$F44)","v":true},{"$f":"Find_Month(IA$35,IA$36,$F44)","v":true},{"$f":"Find_Month(IB$35,IB$36,$F44)","v":true},{"$f":"Find_Month(IC$35,IC$36,$F44)","v":true},{"$f":"Find_Month(ID$35,ID$36,$F44)","v":true},{"$f":"Find_Month(IE$35,IE$36,$F44)","v":true},{"$f":"Find_Month(IF$35,IF$36,$F44)","v":true},{"$f":"Find_Month(IG$35,IG$36,$F44)","v":true},{"$f":"Find_Month(IH$35,IH$36,$F44)","v":true},{"$f":"Find_Month(II$35,II$36,$F44)","v":true},{"$f":"Find_Month(IJ$35,IJ$36,$F44)","v":true},{"$f":"Find_Month(IK$35,IK$36,$F44)","v":true},{"$f":"Find_Month(IL$35,IL$36,$F44)","v":true},{"$f":"Find_Month(IM$35,IM$36,$F44)","v":true},{"$f":"Find_Month(IN$35,IN$36,$F44)","v":true},{"$f":"Find_Month(IO$35,IO$36,$F44)","v":true},{"$f":"Find_Month(IP$35,IP$36,$F44)","v":true},{"$f":"Find_Month(IQ$35,IQ$36,$F44)","v":true},{"$f":"Find_Month(IR$35,IR$36,$F44)","v":true},{"$f":"Find_Month(IS$35,IS$36,$F44)","v":true},{"$f":"Find_Month(IT$35,IT$36,$F44)","v":true},{"$f":"Find_Month(IU$35,IU$36,$F44)","v":true},{"$f":"Find_Month(IV$35,IV$36,$F44)","v":true},{"$f":"Find_Month(IW$35,IW$36,$F44)","v":true},{"$f":"Find_Month(IX$35,IX$36,$F44)","v":true},{"$f":"Find_Month(IY$35,IY$36,$F44)","v":true},{"$f":"Find_Month(IZ$35,IZ$36,$F44)","v":true},{"$f":"Find_Month(JA$35,JA$36,$F44)","v":true},{"$f":"Find_Month(JB$35,JB$36,$F44)","v":true},{"$f":"Find_Month(JC$35,JC$36,$F44)","v":true},{"$f":"Find_Month(JD$35,JD$36,$F44)","v":true},{"$f":"Find_Month(JE$35,JE$36,$F44)","v":true},{"$f":"Find_Month(JF$35,JF$36,$F44)","v":true},{"$f":"Find_Month(JG$35,JG$36,$F44)","v":true},{"$f":"Find_Month(JH$35,JH$36,$F44)","v":true},{"$f":"Find_Month(JI$35,JI$36,$F44)","v":true},{"$f":"Find_Month(JJ$35,JJ$36,$F44)","v":true},{"$f":"Find_Month(JK$35,JK$36,$F44)","v":true},{"$f":"Find_Month(JL$35,JL$36,$F44)","v":true},{"$f":"Find_Month(JM$35,JM$36,$F44)","v":true},{"$f":"Find_Month(JN$35,JN$36,$F44)","v":true},{"$f":"Find_Month(JO$35,JO$36,$F44)","v":true},{"$f":"Find_Month(JP$35,JP$36,$F44)","v":true},{"$f":"Find_Month(JQ$35,JQ$36,$F44)","v":true},{"$f":"Find_Month(JR$35,JR$36,$F44)","v":true},{"$f":"Find_Month(JS$35,JS$36,$F44)","v":true},{"$f":"Find_Month(JT$35,JT$36,$F44)","v":true},{"$f":"Find_Month(JU$35,JU$36,$F44)","v":true},{"$f":"Find_Month(JV$35,JV$36,$F44)","v":true},{"$f":"Find_Month(JW$35,JW$36,$F44)","v":true},{"$f":"Find_Month(JX$35,JX$36,$F44)","v":true},{"$f":"Find_Month(JY$35,JY$36,$F44)","v":true},{"$f":"Find_Month(JZ$35,JZ$36,$F44)","v":true},{"$f":"Find_Month(KA$35,KA$36,$F44)","v":true},{"$f":"Find_Month(KB$35,KB$36,$F44)","v":true},{"$f":"Find_Month(KC$35,KC$36,$F44)","v":true},{"$f":"Find_Month(KD$35,KD$36,$F44)","v":true},{"$f":"Find_Month(KE$35,KE$36,$F44)","v":true},{"$f":"Find_Month(KF$35,KF$36,$F44)","v":true},{"$f":"Find_Month(KG$35,KG$36,$F44)","v":true},{"$f":"Find_Month(KH$35,KH$36,$F44)","v":true},{"$f":"Find_Month(KI$35,KI$36,$F44)","v":true},{"$f":"Find_Month(KJ$35,KJ$36,$F44)","v":true},{"$f":"Find_Month(KK$35,KK$36,$F44)","v":true},{"$f":"Find_Month(KL$35,KL$36,$F44)","v":true},{"$f":"Find_Month(KM$35,KM$36,$F44)","v":true},{"$f":"Find_Month(KN$35,KN$36,$F44)","v":true},{"$f":"Find_Month(KO$35,KO$36,$F44)","v":true},{"$f":"Find_Month(KP$35,KP$36,$F44)","v":true},{"$f":"Find_Month(KQ$35,KQ$36,$F44)","v":true},{"$f":"Find_Month(KR$35,KR$36,$F44)","v":true},{"$f":"Find_Month(KS$35,KS$36,$F44)","v":true},{"$f":"Find_Month(KT$35,KT$36,$F44)","v":true},{"$f":"Find_Month(KU$35,KU$36,$F44)","v":true},{"$f":"Find_Month(KV$35,KV$36,$F44)","v":true},{"$f":"Find_Month(KW$35,KW$36,$F44)","v":true},{"$f":"Find_Month(KX$35,KX$36,$F44)","v":true},{"$f":"Find_Month(KY$35,KY$36,$F44)","v":true},{"$f":"Find_Month(KZ$35,KZ$36,$F44)","v":true},{"$f":"Find_Month(LA$35,LA$36,$F44)","v":true},{"$f":"Find_Month(LB$35,LB$36,$F44)","v":true},{"$f":"Find_Month(LC$35,LC$36,$F44)","v":true},{"$f":"Find_Month(LD$35,LD$36,$F44)","v":true},{"$f":"Find_Month(LE$35,LE$36,$F44)","v":true},{"$f":"Find_Month(LF$35,LF$36,$F44)","v":true},{"$f":"Find_Month(LG$35,LG$36,$F44)","v":true},{"$f":"Find_Month(LH$35,LH$36,$F44)","v":true},{"$f":"Find_Month(LI$35,LI$36,$F44)","v":true},{"$f":"Find_Month(LJ$35,LJ$36,$F44)","v":true},{"$f":"Find_Month(LK$35,LK$36,$F44)","v":true},{"$f":"Find_Month(LL$35,LL$36,$F44)","v":true},{"$f":"Find_Month(LM$35,LM$36,$F44)","v":true},{"$f":"Find_Month(LN$35,LN$36,$F44)","v":true},{"$f":"Find_Month(LO$35,LO$36,$F44)","v":true},{"$f":"Find_Month(LP$35,LP$36,$F44)","v":true},{"$f":"Find_Month(LQ$35,LQ$36,$F44)","v":true},{"$f":"Find_Month(LR$35,LR$36,$F44)","v":true},{"$f":"Find_Month(LS$35,LS$36,$F44)","v":true},{"$f":"Find_Month(LT$35,LT$36,$F44)","v":true},{"$f":"Find_Month(LU$35,LU$36,$F44)","v":true},{"$f":"Find_Month(LV$35,LV$36,$F44)","v":true},{"$f":"Find_Month(LW$35,LW$36,$F44)","v":true},{"$f":"Find_Month(LX$35,LX$36,$F44)","v":true},{"$f":"Find_Month(LY$35,LY$36,$F44)","v":true},{"$f":"Find_Month(LZ$35,LZ$36,$F44)","v":true},{"$f":"Find_Month(MA$35,MA$36,$F44)","v":true},{"$f":"Find_Month(MB$35,MB$36,$F44)","v":true},{"$f":"Find_Month(MC$35,MC$36,$F44)","v":true},{"$f":"Find_Month(MD$35,MD$36,$F44)","v":true},{"$f":"Find_Month(ME$35,ME$36,$F44)","v":true},{"$f":"Find_Month(MF$35,MF$36,$F44)","v":true},{"$f":"Find_Month(MG$35,MG$36,$F44)","v":true},{"$f":"Find_Month(MH$35,MH$36,$F44)","v":true},{"$f":"Find_Month(MI$35,MI$36,$F44)","v":true},{"$f":"Find_Month(MJ$35,MJ$36,$F44)","v":true},{"$f":"Find_Month(MK$35,MK$36,$F44)","v":true},{"$f":"Find_Month(ML$35,ML$36,$F44)","v":true},{"$f":"Find_Month(MM$35,MM$36,$F44)","v":true},{"$f":"Find_Month(MN$35,MN$36,$F44)","v":true},{"$f":"Find_Month(MO$35,MO$36,$F44)","v":true},{"$f":"Find_Month(MP$35,MP$36,$F44)","v":true},{"$f":"Find_Month(MQ$35,MQ$36,$F44)","v":true},{"$f":"Find_Month(MR$35,MR$36,$F44)","v":true},{"$f":"Find_Month(MS$35,MS$36,$F44)","v":true},{"$f":"Find_Month(MT$35,MT$36,$F44)","v":true},{"$f":"Find_Month(MU$35,MU$36,$F44)","v":true},{"$f":"Find_Month(MV$35,MV$36,$F44)","v":true},{"$f":"Find_Month(MW$35,MW$36,$F44)","v":true},{"$f":"Find_Month(MX$35,MX$36,$F44)","v":true},{"$f":"Find_Month(MY$35,MY$36,$F44)","v":true},{"$f":"Find_Month(MZ$35,MZ$36,$F44)","v":true},{"$f":"Find_Month(NA$35,NA$36,$F44)","v":true},{"$f":"Find_Month(NB$35,NB$36,$F44)","v":true},{"$f":"Find_Month(NC$35,NC$36,$F44)","v":true},{"$f":"Find_Month(ND$35,ND$36,$F44)","v":true},{"$f":"Find_Month(NE$35,NE$36,$F44)","v":true},{"$f":"Find_Month(NF$35,NF$36,$F44)","v":true},{"$f":"Find_Month(NG$35,NG$36,$F44)","v":true},{"$f":"Find_Month(NH$35,NH$36,$F44)","v":true},{"$f":"Find_Month(NI$35,NI$36,$F44)","v":true},{"$f":"Find_Month(NJ$35,NJ$36,$F44)","v":true},{"$f":"Find_Month(NK$35,NK$36,$F44)","v":true},{"$f":"Find_Month(NL$35,NL$36,$F44)","v":true},{"$f":"Find_Month(NM$35,NM$36,$F44)","v":true},{"$f":"Find_Month(NN$35,NN$36,$F44)","v":true},{"$f":"Find_Month(NO$35,NO$36,$F44)","v":true},{"$f":"Find_Month(NP$35,NP$36,$F44)","v":true},{"$f":"Find_Month(NQ$35,NQ$36,$F44)","v":true},{"$f":"Find_Month(NR$35,NR$36,$F44)","v":true},{"$f":"Find_Month(NS$35,NS$36,$F44)","v":true},{"$f":"Find_Month(NT$35,NT$36,$F44)","v":true},{"$f":"Find_Month(NU$35,NU$36,$F44)","v":true},{"$f":"Find_Month(NV$35,NV$36,$F44)","v":true},{"$f":"Find_Month(NW$35,NW$36,$F44)","v":true},{"$f":"Find_Month(NX$35,NX$36,$F44)","v":true},{"$f":"Find_Month(NY$35,NY$36,$F44)","v":true},{"$f":"Find_Month(NZ$35,NZ$36,$F44)","v":true},{"$f":"Find_Month(OA$35,OA$36,$F44)","v":true},{"$f":"Find_Month(OB$35,OB$36,$F44)","v":true},{"$f":"Find_Month(OC$35,OC$36,$F44)","v":true},{"$f":"Find_Month(OD$35,OD$36,$F44)","v":true},{"$f":"Find_Month(OE$35,OE$36,$F44)","v":true},{"$f":"Find_Month(OF$35,OF$36,$F44)","v":true},{"$f":"Find_Month(OG$35,OG$36,$F44)","v":true},{"$f":"Find_Month(OH$35,OH$36,$F44)","v":true},{"$f":"Find_Month(OI$35,OI$36,$F44)","v":true},{"$f":"Find_Month(OJ$35,OJ$36,$F44)","v":true},{"$f":"Find_Month(OK$35,OK$36,$F44)","v":true},{"$f":"Find_Month(OL$35,OL$36,$F44)","v":true},{"$f":"Find_Month(OM$35,OM$36,$F44)","v":true},{"$f":"Find_Month(ON$35,ON$36,$F44)","v":true},{"$f":"Find_Month(OO$35,OO$36,$F44)","v":true},{"$f":"Find_Month(OP$35,OP$36,$F44)","v":true},{"$f":"Find_Month(OQ$35,OQ$36,$F44)","v":true},{"$f":"Find_Month(OR$35,OR$36,$F44)","v":true},{"$f":"Find_Month(OS$35,OS$36,$F44)","v":true},{"$f":"Find_Month(OT$35,OT$36,$F44)","v":true},{"$f":"Find_Month(OU$35,OU$36,$F44)","v":true},{"$f":"Find_Month(OV$35,OV$36,$F44)","v":true},{"$f":"Find_Month(OW$35,OW$36,$F44)","v":true},{"$f":"Find_Month(OX$35,OX$36,$F44)","v":true},{"$f":"Find_Month(OY$35,OY$36,$F44)","v":true},{"$f":"Find_Month(OZ$35,OZ$36,$F44)","v":true},{"$f":"Find_Month(PA$35,PA$36,$F44)","v":true},{"$f":"Find_Month(PB$35,PB$36,$F44)","v":true},{"$f":"Find_Month(PC$35,PC$36,$F44)","v":true},{"$f":"Find_Month(PD$35,PD$36,$F44)","v":true},{"$f":"Find_Month(PE$35,PE$36,$F44)","v":true},{"$f":"Find_Month(PF$35,PF$36,$F44)","v":true},{"$f":"Find_Month(PG$35,PG$36,$F44)","v":true},{"$f":"Find_Month(PH$35,PH$36,$F44)","v":true},{"$f":"Find_Month(PI$35,PI$36,$F44)","v":true},{"$f":"Find_Month(PJ$35,PJ$36,$F44)","v":true},{"$f":"Find_Month(PK$35,PK$36,$F44)","v":true},{"$f":"Find_Month(PL$35,PL$36,$F44)","v":true},{"$f":"Find_Month(PM$35,PM$36,$F44)","v":true},{"$f":"Find_Month(PN$35,PN$36,$F44)","v":true},{"$f":"Find_Month(PO$35,PO$36,$F44)","v":true},{"$f":"Find_Month(PP$35,PP$36,$F44)","v":true},{"$f":"Find_Month(PQ$35,PQ$36,$F44)","v":true},{"$f":"Find_Month(PR$35,PR$36,$F44)","v":true},{"$f":"Find_Month(PS$35,PS$36,$F44)","v":true},{"$f":"Find_Month(PT$35,PT$36,$F44)","v":true},{"$f":"Find_Month(PU$35,PU$36,$F44)","v":true},{"$f":"Find_Month(PV$35,PV$36,$F44)","v":true},{"$f":"Find_Month(PW$35,PW$36,$F44)","v":true},{"$f":"Find_Month(PX$35,PX$36,$F44)","v":true},{"$f":"Find_Month(PY$35,PY$36,$F44)","v":true},{"$f":"Find_Month(PZ$35,PZ$36,$F44)","v":true},{"$f":"Find_Month(QA$35,QA$36,$F44)","v":true},{"$f":"Find_Month(QB$35,QB$36,$F44)","v":true},{"$f":"Find_Month(QC$35,QC$36,$F44)","v":true},{"$f":"Find_Month(QD$35,QD$36,$F44)","v":true},{"$f":"Find_Month(QE$35,QE$36,$F44)","v":true},{"$f":"Find_Month(QF$35,QF$36,$F44)","v":true},{"$f":"Find_Month(QG$35,QG$36,$F44)","v":true},{"$f":"Find_Month(QH$35,QH$36,$F44)","v":true},{"$f":"Find_Month(QI$35,QI$36,$F44)","v":true},{"$f":"Find_Month(QJ$35,QJ$36,$F44)","v":true},{"$f":"Find_Month(QK$35,QK$36,$F44)","v":true},{"$f":"Find_Month(QL$35,QL$36,$F44)","v":true},{"$f":"Find_Month(QM$35,QM$36,$F44)","v":true},{"$f":"Find_Month(QN$35,QN$36,$F44)","v":true},{"$f":"Find_Month(QO$35,QO$36,$F44)","v":true},{"$f":"Find_Month(QP$35,QP$36,$F44)","v":true},{"$f":"Find_Month(QQ$35,QQ$36,$F44)","v":true},{"$f":"Find_Month(QR$35,QR$36,$F44)","v":true},{"$f":"Find_Month(QS$35,QS$36,$F44)","v":true},{"$f":"Find_Month(QT$35,QT$36,$F44)","v":true},{"$f":"Find_Month(QU$35,QU$36,$F44)","v":true},{"$f":"Find_Month(QV$35,QV$36,$F44)","v":true},{"$f":"Find_Month(QW$35,QW$36,$F44)","v":true},{"$f":"Find_Month(QX$35,QX$36,$F44)","v":true},{"$f":"Find_Month(QY$35,QY$36,$F44)","v":true},{"$f":"Find_Month(QZ$35,QZ$36,$F44)","v":true},{"$f":"Find_Month(RA$35,RA$36,$F44)","v":true},{"$f":"Find_Month(RB$35,RB$36,$F44)","v":true},{"$f":"Find_Month(RC$35,RC$36,$F44)","v":true},{"$f":"Find_Month(RD$35,RD$36,$F44)","v":true},{"$f":"Find_Month(RE$35,RE$36,$F44)","v":true},{"$f":"Find_Month(RF$35,RF$36,$F44)","v":true},{"$f":"Find_Month(RG$35,RG$36,$F44)","v":true},{"$f":"Find_Month(RH$35,RH$36,$F44)","v":true},{"$f":"Find_Month(RI$35,RI$36,$F44)","v":true},{"$f":"Find_Month(RJ$35,RJ$36,$F44)","v":true},{"$f":"Find_Month(RK$35,RK$36,$F44)","v":true},{"$f":"Find_Month(RL$35,RL$36,$F44)","v":true},{"$f":"Find_Month(RM$35,RM$36,$F44)","v":true},{"$f":"Find_Month(RN$35,RN$36,$F44)","v":true},{"$f":"Find_Month(RO$35,RO$36,$F44)","v":true},{"$f":"Find_Month(RP$35,RP$36,$F44)","v":true},{"$f":"Find_Month(RQ$35,RQ$36,$F44)","v":true},{"$f":"Find_Month(RR$35,RR$36,$F44)","v":true},{"$f":"Find_Month(RS$35,RS$36,$F44)","v":true},{"$f":"Find_Month(RT$35,RT$36,$F44)","v":true},{"$f":"Find_Month(RU$35,RU$36,$F44)","v":true},{"$f":"Find_Month(RV$35,RV$36,$F44)","v":true},{"$f":"Find_Month(RW$35,RW$36,$F44)","v":true},{"$f":"Find_Month(RX$35,RX$36,$F44)","v":true},{"$f":"Find_Month(RY$35,RY$36,$F44)","v":true},{"$f":"Find_Month(RZ$35,RZ$36,$F44)","v":true},{"$f":"Find_Month(SA$35,SA$36,$F44)","v":true},{"$f":"Find_Month(SB$35,SB$36,$F44)","v":true},{"$f":"Find_Month(SC$35,SC$36,$F44)","v":false},{"$f":"Find_Month(SD$35,SD$36,$F44)","v":false},{"$f":"Find_Month(SE$35,SE$36,$F44)","v":false},{"$f":"Find_Month(SF$35,SF$36,$F44)","v":false},{"$f":"Find_Month(SG$35,SG$36,$F44)","v":false},{"$f":"Find_Month(SH$35,SH$36,$F44)","v":false},{"$f":"Find_Month(SI$35,SI$36,$F44)","v":false},{"$f":"Find_Month(SJ$35,SJ$36,$F44)","v":false},{"$f":"Find_Month(SK$35,SK$36,$F44)","v":false},{"$f":"Find_Month(SL$35,SL$36,$F44)","v":false},{"$f":"Find_Month(SM$35,SM$36,$F44)","v":false},{"$f":"Find_Month(SN$35,SN$36,$F44)","v":false},{"$f":"Find_Month(SO$35,SO$36,$F44)","v":false},{"$f":"Find_Month(SP$35,SP$36,$F44)","v":false},{"$f":"Find_Month(SQ$35,SQ$36,$F44)","v":false},{"$f":"Find_Month(SR$35,SR$36,$F44)","v":false},{"$f":"Find_Month(SS$35,SS$36,$F44)","v":false},{"$f":"Find_Month(ST$35,ST$36,$F44)","v":false},{"$f":"Find_Month(SU$35,SU$36,$F44)","v":false},{"$f":"Find_Month(SV$35,SV$36,$F44)","v":false},{"$f":"Find_Month(SW$35,SW$36,$F44)","v":false},{"$f":"Find_Month(SX$35,SX$36,$F44)","v":false},{"$f":"Find_Month(SY$35,SY$36,$F44)","v":false},{"$f":"Find_Month(SZ$35,SZ$36,$F44)","v":false},{"$f":"Find_Month(TA$35,TA$36,$F44)","v":false},{"$f":"Find_Month(TB$35,TB$36,$F44)","v":false},{"$f":"Find_Month(TC$35,TC$36,$F44)","v":false},{"$f":"Find_Month(TD$35,TD$36,$F44)","v":false},{"$f":"Find_Month(TE$35,TE$36,$F44)","v":false},{"$f":"Find_Month(TF$35,TF$36,$F44)","v":false},{"$f":"Find_Month(TG$35,TG$36,$F44)","v":false},{"$f":"Find_Month(TH$35,TH$36,$F44)","v":false},{"$f":"Find_Month(TI$35,TI$36,$F44)","v":false},{"$f":"Find_Month(TJ$35,TJ$36,$F44)","v":false},{"$f":"Find_Month(TK$35,TK$36,$F44)","v":false},{"$f":"Find_Month(TL$35,TL$36,$F44)","v":false},{"$f":"Find_Month(TM$35,TM$36,$F44)","v":false},{"$f":"Find_Month(TN$35,TN$36,$F44)","v":false},{"$f":"Find_Month(TO$35,TO$36,$F44)","v":false},{"$f":"Find_Month(TP$35,TP$36,$F44)","v":false},{"$f":"Find_Month(TQ$35,TQ$36,$F44)","v":false},{"$f":"Find_Month(TR$35,TR$36,$F44)","v":false},{"$f":"Find_Month(TS$35,TS$36,$F44)","v":false},{"$f":"Find_Month(TT$35,TT$36,$F44)","v":false},{"$f":"Find_Month(TU$35,TU$36,$F44)","v":false},{"$f":"Find_Month(TV$35,TV$36,$F44)","v":false},{"$f":"Find_Month(TW$35,TW$36,$F44)","v":false},{"$f":"Find_Month(TX$35,TX$36,$F44)","v":false},{"$f":"Find_Month(TY$35,TY$36,$F44)","v":false}]
[null,null,null,null,null,7,219.70493704018099,6.8545071231014526E-2,null,{"$f":"Find_Month(J$35,J$36,$F45)","v":true},{"$f":"Find_Month(K$35,K$36,$F45)","v":true},{"$f":"Find_Month(L$35,L$36,$F45)","v":true},{"$f":"Find_Month(M$35,M$36,$F45)","v":true},{"$f":"Find_Month(N$35,N$36,$F45)","v":true},{"$f":"Find_Month(O$35,O$36,$F45)","v":true},{"$f":"Find_Month(P$35,P$36,$F45)","v":true},{"$f":"Find_Month(Q$35,Q$36,$F45)","v":true},{"$f":"Find_Month(R$35,R$36,$F45)","v":true},{"$f":"Find_Month(S$35,S$36,$F45)","v":true},{"$f":"Find_Month(T$35,T$36,$F45)","v":true},{"$f":"Find_Month(U$35,U$36,$F45)","v":true},{"$f":"Find_Month(V$35,V$36,$F45)","v":true},{"$f":"Find_Month(W$35,W$36,$F45)","v":true},{"$f":"Find_Month(X$35,X$36,$F45)","v":true},{"$f":"Find_Month(Y$35,Y$36,$F45)","v":true},{"$f":"Find_Month(Z$35,Z$36,$F45)","v":true},{"$f":"Find_Month(AA$35,AA$36,$F45)","v":true},{"$f":"Find_Month(AB$35,AB$36,$F45)","v":true},{"$f":"Find_Month(AC$35,AC$36,$F45)","v":true},{"$f":"Find_Month(AD$35,AD$36,$F45)","v":true},{"$f":"Find_Month(AE$35,AE$36,$F45)","v":true},{"$f":"Find_Month(AF$35,AF$36,$F45)","v":true},{"$f":"Find_Month(AG$35,AG$36,$F45)","v":true},{"$f":"Find_Month(AH$35,AH$36,$F45)","v":true},{"$f":"Find_Month(AI$35,AI$36,$F45)","v":true},{"$f":"Find_Month(AJ$35,AJ$36,$F45)","v":true},{"$f":"Find_Month(AK$35,AK$36,$F45)","v":true},{"$f":"Find_Month(AL$35,AL$36,$F45)","v":true},{"$f":"Find_Month(AM$35,AM$36,$F45)","v":true},{"$f":"Find_Month(AN$35,AN$36,$F45)","v":true},{"$f":"Find_Month(AO$35,AO$36,$F45)","v":true},{"$f":"Find_Month(AP$35,AP$36,$F45)","v":true},{"$f":"Find_Month(AQ$35,AQ$36,$F45)","v":true},{"$f":"Find_Month(AR$35,AR$36,$F45)","v":true},{"$f":"Find_Month(AS$35,AS$36,$F45)","v":true},{"$f":"Find_Month(AT$35,AT$36,$F45)","v":true},{"$f":"Find_Month(AU$35,AU$36,$F45)","v":true},{"$f":"Find_Month(AV$35,AV$36,$F45)","v":true},{"$f":"Find_Month(AW$35,AW$36,$F45)","v":true},{"$f":"Find_Month(AX$35,AX$36,$F45)","v":true},{"$f":"Find_Month(AY$35,AY$36,$F45)","v":true},{"$f":"Find_Month(AZ$35,AZ$36,$F45)","v":true},{"$f":"Find_Month(BA$35,BA$36,$F45)","v":true},{"$f":"Find_Month(BB$35,BB$36,$F45)","v":true},{"$f":"Find_Month(BC$35,BC$36,$F45)","v":true},{"$f":"Find_Month(BD$35,BD$36,$F45)","v":true},{"$f":"Find_Month(BE$35,BE$36,$F45)","v":true},{"$f":"Find_Month(BF$35,BF$36,$F45)","v":true},{"$f":"Find_Month(BG$35,BG$36,$F45)","v":true},{"$f":"Find_Month(BH$35,BH$36,$F45)","v":true},{"$f":"Find_Month(BI$35,BI$36,$F45)","v":true},{"$f":"Find_Month(BJ$35,BJ$36,$F45)","v":true},{"$f":"Find_Month(BK$35,BK$36,$F45)","v":true},{"$f":"Find_Month(BL$35,BL$36,$F45)","v":true},{"$f":"Find_Month(BM$35,BM$36,$F45)","v":true},{"$f":"Find_Month(BN$35,BN$36,$F45)","v":true},{"$f":"Find_Month(BO$35,BO$36,$F45)","v":true},{"$f":"Find_Month(BP$35,BP$36,$F45)","v":true},{"$f":"Find_Month(BQ$35,BQ$36,$F45)","v":true},{"$f":"Find_Month(BR$35,BR$36,$F45)","v":true},{"$f":"Find_Month(BS$35,BS$36,$F45)","v":true},{"$f":"Find_Month(BT$35,BT$36,$F45)","v":true},{"$f":"Find_Month(BU$35,BU$36,$F45)","v":true},{"$f":"Find_Month(BV$35,BV$36,$F45)","v":true},{"$f":"Find_Month(BW$35,BW$36,$F45)","v":true},{"$f":"Find_Month(BX$35,BX$36,$F45)","v":true},{"$f":"Find_Month(BY$35,BY$36,$F45)","v":true},{"$f":"Find_Month(BZ$35,BZ$36,$F45)","v":true},{"$f":"Find_Month(CA$35,CA$36,$F45)","v":true},{"$f":"Find_Month(CB$35,CB$36,$F45)","v":true},{"$f":"Find_Month(CC$35,CC$36,$F45)","v":true},{"$f":"Find_Month(CD$35,CD$36,$F45)","v":true},{"$f":"Find_Month(CE$35,CE$36,$F45)","v":true},{"$f":"Find_Month(CF$35,CF$36,$F45)","v":true},{"$f":"Find_Month(CG$35,CG$36,$F45)","v":true},{"$f":"Find_Month(CH$35,CH$36,$F45)","v":true},{"$f":"Find_Month(CI$35,CI$36,$F45)","v":true},{"$f":"Find_Month(CJ$35,CJ$36,$F45)","v":true},{"$f":"Find_Month(CK$35,CK$36,$F45)","v":true},{"$f":"Find_Month(CL$35,CL$36,$F45)","v":true},{"$f":"Find_Month(CM$35,CM$36,$F45)","v":true},{"$f":"Find_Month(CN$35,CN$36,$F45)","v":true},{"$f":"Find_Month(CO$35,CO$36,$F45)","v":true},{"$f":"Find_Month(CP$35,CP$36,$F45)","v":true},{"$f":"Find_Month(CQ$35,CQ$36,$F45)","v":true},{"$f":"Find_Month(CR$35,CR$36,$F45)","v":true},{"$f":"Find_Month(CS$35,CS$36,$F45)","v":true},{"$f":"Find_Month(CT$35,CT$36,$F45)","v":true},{"$f":"Find_Month(CU$35,CU$36,$F45)","v":true},{"$f":"Find_Month(CV$35,CV$36,$F45)","v":true},{"$f":"Find_Month(CW$35,CW$36,$F45)","v":true},{"$f":"Find_Month(CX$35,CX$36,$F45)","v":true},{"$f":"Find_Month(CY$35,CY$36,$F45)","v":true},{"$f":"Find_Month(CZ$35,CZ$36,$F45)","v":true},{"$f":"Find_Month(DA$35,DA$36,$F45)","v":true},{"$f":"Find_Month(DB$35,DB$36,$F45)","v":true},{"$f":"Find_Month(DC$35,DC$36,$F45)","v":true},{"$f":"Find_Month(DD$35,DD$36,$F45)","v":true},{"$f":"Find_Month(DE$35,DE$36,$F45)","v":true},{"$f":"Find_Month(DF$35,DF$36,$F45)","v":true},{"$f":"Find_Month(DG$35,DG$36,$F45)","v":true},{"$f":"Find_Month(DH$35,DH$36,$F45)","v":true},{"$f":"Find_Month(DI$35,DI$36,$F45)","v":true},{"$f":"Find_Month(DJ$35,DJ$36,$F45)","v":true},{"$f":"Find_Month(DK$35,DK$36,$F45)","v":true},{"$f":"Find_Month(DL$35,DL$36,$F45)","v":true},{"$f":"Find_Month(DM$35,DM$36,$F45)","v":true},{"$f":"Find_Month(DN$35,DN$36,$F45)","v":true},{"$f":"Find_Month(DO$35,DO$36,$F45)","v":true},{"$f":"Find_Month(DP$35,DP$36,$F45)","v":true},{"$f":"Find_Month(DQ$35,DQ$36,$F45)","v":true},{"$f":"Find_Month(DR$35,DR$36,$F45)","v":true},{"$f":"Find_Month(DS$35,DS$36,$F45)","v":true},{"$f":"Find_Month(DT$35,DT$36,$F45)","v":true},{"$f":"Find_Month(DU$35,DU$36,$F45)","v":true},{"$f":"Find_Month(DV$35,DV$36,$F45)","v":true},{"$f":"Find_Month(DW$35,DW$36,$F45)","v":true},{"$f":"Find_Month(DX$35,DX$36,$F45)","v":true},{"$f":"Find_Month(DY$35,DY$36,$F45)","v":true},{"$f":"Find_Month(DZ$35,DZ$36,$F45)","v":true},{"$f":"Find_Month(EA$35,EA$36,$F45)","v":true},{"$f":"Find_Month(EB$35,EB$36,$F45)","v":true},{"$f":"Find_Month(EC$35,EC$36,$F45)","v":true},{"$f":"Find_Month(ED$35,ED$36,$F45)","v":true},{"$f":"Find_Month(EE$35,EE$36,$F45)","v":true},{"$f":"Find_Month(EF$35,EF$36,$F45)","v":true},{"$f":"Find_Month(EG$35,EG$36,$F45)","v":true},{"$f":"Find_Month(EH$35,EH$36,$F45)","v":true},{"$f":"Find_Month(EI$35,EI$36,$F45)","v":true},{"$f":"Find_Month(EJ$35,EJ$36,$F45)","v":true},{"$f":"Find_Month(EK$35,EK$36,$F45)","v":true},{"$f":"Find_Month(EL$35,EL$36,$F45)","v":true},{"$f":"Find_Month(EM$35,EM$36,$F45)","v":true},{"$f":"Find_Month(EN$35,EN$36,$F45)","v":true},{"$f":"Find_Month(EO$35,EO$36,$F45)","v":true},{"$f":"Find_Month(EP$35,EP$36,$F45)","v":true},{"$f":"Find_Month(EQ$35,EQ$36,$F45)","v":true},{"$f":"Find_Month(ER$35,ER$36,$F45)","v":true},{"$f":"Find_Month(ES$35,ES$36,$F45)","v":true},{"$f":"Find_Month(ET$35,ET$36,$F45)","v":true},{"$f":"Find_Month(EU$35,EU$36,$F45)","v":true},{"$f":"Find_Month(EV$35,EV$36,$F45)","v":true},{"$f":"Find_Month(EW$35,EW$36,$F45)","v":true},{"$f":"Find_Month(EX$35,EX$36,$F45)","v":true},{"$f":"Find_Month(EY$35,EY$36,$F45)","v":true},{"$f":"Find_Month(EZ$35,EZ$36,$F45)","v":true},{"$f":"Find_Month(FA$35,FA$36,$F45)","v":true},{"$f":"Find_Month(FB$35,FB$36,$F45)","v":true},{"$f":"Find_Month(FC$35,FC$36,$F45)","v":true},{"$f":"Find_Month(FD$35,FD$36,$F45)","v":true},{"$f":"Find_Month(FE$35,FE$36,$F45)","v":true},{"$f":"Find_Month(FF$35,FF$36,$F45)","v":true},{"$f":"Find_Month(FG$35,FG$36,$F45)","v":true},{"$f":"Find_Month(FH$35,FH$36,$F45)","v":true},{"$f":"Find_Month(FI$35,FI$36,$F45)","v":true},{"$f":"Find_Month(FJ$35,FJ$36,$F45)","v":true},{"$f":"Find_Month(FK$35,FK$36,$F45)","v":true},{"$f":"Find_Month(FL$35,FL$36,$F45)","v":true},{"$f":"Find_Month(FM$35,FM$36,$F45)","v":true},{"$f":"Find_Month(FN$35,FN$36,$F45)","v":true},{"$f":"Find_Month(FO$35,FO$36,$F45)","v":true},{"$f":"Find_Month(FP$35,FP$36,$F45)","v":true},{"$f":"Find_Month(FQ$35,FQ$36,$F45)","v":true},{"$f":"Find_Month(FR$35,FR$36,$F45)","v":true},{"$f":"Find_Month(FS$35,FS$36,$F45)","v":true},{"$f":"Find_Month(FT$35,FT$36,$F45)","v":true},{"$f":"Find_Month(FU$35,FU$36,$F45)","v":true},{"$f":"Find_Month(FV$35,FV$36,$F45)","v":true},{"$f":"Find_Month(FW$35,FW$36,$F45)","v":true},{"$f":"Find_Month(FX$35,FX$36,$F45)","v":true},{"$f":"Find_Month(FY$35,FY$36,$F45)","v":true},{"$f":"Find_Month(FZ$35,FZ$36,$F45)","v":true},{"$f":"Find_Month(GA$35,GA$36,$F45)","v":true},{"$f":"Find_Month(GB$35,GB$36,$F45)","v":true},{"$f":"Find_Month(GC$35,GC$36,$F45)","v":true},{"$f":"Find_Month(GD$35,GD$36,$F45)","v":true},{"$f":"Find_Month(GE$35,GE$36,$F45)","v":true},{"$f":"Find_Month(GF$35,GF$36,$F45)","v":true},{"$f":"Find_Month(GG$35,GG$36,$F45)","v":true},{"$f":"Find_Month(GH$35,GH$36,$F45)","v":true},{"$f":"Find_Month(GI$35,GI$36,$F45)","v":true},{"$f":"Find_Month(GJ$35,GJ$36,$F45)","v":true},{"$f":"Find_Month(GK$35,GK$36,$F45)","v":true},{"$f":"Find_Month(GL$35,GL$36,$F45)","v":true},{"$f":"Find_Month(GM$35,GM$36,$F45)","v":true},{"$f":"Find_Month(GN$35,GN$36,$F45)","v":true},{"$f":"Find_Month(GO$35,GO$36,$F45)","v":true},{"$f":"Find_Month(GP$35,GP$36,$F45)","v":true},{"$f":"Find_Month(GQ$35,GQ$36,$F45)","v":true},{"$f":"Find_Month(GR$35,GR$36,$F45)","v":true},{"$f":"Find_Month(GS$35,GS$36,$F45)","v":true},{"$f":"Find_Month(GT$35,GT$36,$F45)","v":true},{"$f":"Find_Month(GU$35,GU$36,$F45)","v":true},{"$f":"Find_Month(GV$35,GV$36,$F45)","v":true},{"$f":"Find_Month(GW$35,GW$36,$F45)","v":true},{"$f":"Find_Month(GX$35,GX$36,$F45)","v":true},{"$f":"Find_Month(GY$35,GY$36,$F45)","v":true},{"$f":"Find_Month(GZ$35,GZ$36,$F45)","v":true},{"$f":"Find_Month(HA$35,HA$36,$F45)","v":true},{"$f":"Find_Month(HB$35,HB$36,$F45)","v":true},{"$f":"Find_Month(HC$35,HC$36,$F45)","v":true},{"$f":"Find_Month(HD$35,HD$36,$F45)","v":true},{"$f":"Find_Month(HE$35,HE$36,$F45)","v":true},{"$f":"Find_Month(HF$35,HF$36,$F45)","v":true},{"$f":"Find_Month(HG$35,HG$36,$F45)","v":true},{"$f":"Find_Month(HH$35,HH$36,$F45)","v":true},{"$f":"Find_Month(HI$35,HI$36,$F45)","v":true},{"$f":"Find_Month(HJ$35,HJ$36,$F45)","v":true},{"$f":"Find_Month(HK$35,HK$36,$F45)","v":true},{"$f":"Find_Month(HL$35,HL$36,$F45)","v":true},{"$f":"Find_Month(HM$35,HM$36,$F45)","v":true},{"$f":"Find_Month(HN$35,HN$36,$F45)","v":true},{"$f":"Find_Month(HO$35,HO$36,$F45)","v":true},{"$f":"Find_Month(HP$35,HP$36,$F45)","v":true},{"$f":"Find_Month(HQ$35,HQ$36,$F45)","v":true},{"$f":"Find_Month(HR$35,HR$36,$F45)","v":true},{"$f":"Find_Month(HS$35,HS$36,$F45)","v":true},{"$f":"Find_Month(HT$35,HT$36,$F45)","v":true},{"$f":"Find_Month(HU$35,HU$36,$F45)","v":true},{"$f":"Find_Month(HV$35,HV$36,$F45)","v":true},{"$f":"Find_Month(HW$35,HW$36,$F45)","v":true},{"$f":"Find_Month(HX$35,HX$36,$F45)","v":true},{"$f":"Find_Month(HY$35,HY$36,$F45)","v":true},{"$f":"Find_Month(HZ$35,HZ$36,$F45)","v":true},{"$f":"Find_Month(IA$35,IA$36,$F45)","v":true},{"$f":"Find_Month(IB$35,IB$36,$F45)","v":true},{"$f":"Find_Month(IC$35,IC$36,$F45)","v":true},{"$f":"Find_Month(ID$35,ID$36,$F45)","v":true},{"$f":"Find_Month(IE$35,IE$36,$F45)","v":true},{"$f":"Find_Month(IF$35,IF$36,$F45)","v":true},{"$f":"Find_Month(IG$35,IG$36,$F45)","v":true},{"$f":"Find_Month(IH$35,IH$36,$F45)","v":true},{"$f":"Find_Month(II$35,II$36,$F45)","v":true},{"$f":"Find_Month(IJ$35,IJ$36,$F45)","v":true},{"$f":"Find_Month(IK$35,IK$36,$F45)","v":true},{"$f":"Find_Month(IL$35,IL$36,$F45)","v":true},{"$f":"Find_Month(IM$35,IM$36,$F45)","v":true},{"$f":"Find_Month(IN$35,IN$36,$F45)","v":true},{"$f":"Find_Month(IO$35,IO$36,$F45)","v":true},{"$f":"Find_Month(IP$35,IP$36,$F45)","v":true},{"$f":"Find_Month(IQ$35,IQ$36,$F45)","v":true},{"$f":"Find_Month(IR$35,IR$36,$F45)","v":true},{"$f":"Find_Month(IS$35,IS$36,$F45)","v":true},{"$f":"Find_Month(IT$35,IT$36,$F45)","v":true},{"$f":"Find_Month(IU$35,IU$36,$F45)","v":true},{"$f":"Find_Month(IV$35,IV$36,$F45)","v":true},{"$f":"Find_Month(IW$35,IW$36,$F45)","v":true},{"$f":"Find_Month(IX$35,IX$36,$F45)","v":true},{"$f":"Find_Month(IY$35,IY$36,$F45)","v":true},{"$f":"Find_Month(IZ$35,IZ$36,$F45)","v":true},{"$f":"Find_Month(JA$35,JA$36,$F45)","v":true},{"$f":"Find_Month(JB$35,JB$36,$F45)","v":true},{"$f":"Find_Month(JC$35,JC$36,$F45)","v":true},{"$f":"Find_Month(JD$35,JD$36,$F45)","v":true},{"$f":"Find_Month(JE$35,JE$36,$F45)","v":true},{"$f":"Find_Month(JF$35,JF$36,$F45)","v":true},{"$f":"Find_Month(JG$35,JG$36,$F45)","v":true},{"$f":"Find_Month(JH$35,JH$36,$F45)","v":true},{"$f":"Find_Month(JI$35,JI$36,$F45)","v":true},{"$f":"Find_Month(JJ$35,JJ$36,$F45)","v":true},{"$f":"Find_Month(JK$35,JK$36,$F45)","v":true},{"$f":"Find_Month(JL$35,JL$36,$F45)","v":true},{"$f":"Find_Month(JM$35,JM$36,$F45)","v":true},{"$f":"Find_Month(JN$35,JN$36,$F45)","v":true},{"$f":"Find_Month(JO$35,JO$36,$F45)","v":true},{"$f":"Find_Month(JP$35,JP$36,$F45)","v":true},{"$f":"Find_Month(JQ$35,JQ$36,$F45)","v":true},{"$f":"Find_Month(JR$35,JR$36,$F45)","v":true},{"$f":"Find_Month(JS$35,JS$36,$F45)","v":true},{"$f":"Find_Month(JT$35,JT$36,$F45)","v":true},{"$f":"Find_Month(JU$35,JU$36,$F45)","v":true},{"$f":"Find_Month(JV$35,JV$36,$F45)","v":true},{"$f":"Find_Month(JW$35,JW$36,$F45)","v":true},{"$f":"Find_Month(JX$35,JX$36,$F45)","v":true},{"$f":"Find_Month(JY$35,JY$36,$F45)","v":true},{"$f":"Find_Month(JZ$35,JZ$36,$F45)","v":true},{"$f":"Find_Month(KA$35,KA$36,$F45)","v":true},{"$f":"Find_Month(KB$35,KB$36,$F45)","v":true},{"$f":"Find_Month(KC$35,KC$36,$F45)","v":true},{"$f":"Find_Month(KD$35,KD$36,$F45)","v":true},{"$f":"Find_Month(KE$35,KE$36,$F45)","v":true},{"$f":"Find_Month(KF$35,KF$36,$F45)","v":true},{"$f":"Find_Month(KG$35,KG$36,$F45)","v":true},{"$f":"Find_Month(KH$35,KH$36,$F45)","v":true},{"$f":"Find_Month(KI$35,KI$36,$F45)","v":true},{"$f":"Find_Month(KJ$35,KJ$36,$F45)","v":true},{"$f":"Find_Month(KK$35,KK$36,$F45)","v":true},{"$f":"Find_Month(KL$35,KL$36,$F45)","v":true},{"$f":"Find_Month(KM$35,KM$36,$F45)","v":true},{"$f":"Find_Month(KN$35,KN$36,$F45)","v":true},{"$f":"Find_Month(KO$35,KO$36,$F45)","v":true},{"$f":"Find_Month(KP$35,KP$36,$F45)","v":true},{"$f":"Find_Month(KQ$35,KQ$36,$F45)","v":true},{"$f":"Find_Month(KR$35,KR$36,$F45)","v":true},{"$f":"Find_Month(KS$35,KS$36,$F45)","v":true},{"$f":"Find_Month(KT$35,KT$36,$F45)","v":true},{"$f":"Find_Month(KU$35,KU$36,$F45)","v":true},{"$f":"Find_Month(KV$35,KV$36,$F45)","v":true},{"$f":"Find_Month(KW$35,KW$36,$F45)","v":true},{"$f":"Find_Month(KX$35,KX$36,$F45)","v":true},{"$f":"Find_Month(KY$35,KY$36,$F45)","v":true},{"$f":"Find_Month(KZ$35,KZ$36,$F45)","v":true},{"$f":"Find_Month(LA$35,LA$36,$F45)","v":true},{"$f":"Find_Month(LB$35,LB$36,$F45)","v":true},{"$f":"Find_Month(LC$35,LC$36,$F45)","v":true},{"$f":"Find_Month(LD$35,LD$36,$F45)","v":true},{"$f":"Find_Month(LE$35,LE$36,$F45)","v":true},{"$f":"Find_Month(LF$35,LF$36,$F45)","v":true},{"$f":"Find_Month(LG$35,LG$36,$F45)","v":true},{"$f":"Find_Month(LH$35,LH$36,$F45)","v":true},{"$f":"Find_Month(LI$35,LI$36,$F45)","v":true},{"$f":"Find_Month(LJ$35,LJ$36,$F45)","v":true},{"$f":"Find_Month(LK$35,LK$36,$F45)","v":true},{"$f":"Find_Month(LL$35,LL$36,$F45)","v":true},{"$f":"Find_Month(LM$35,LM$36,$F45)","v":true},{"$f":"Find_Month(LN$35,LN$36,$F45)","v":true},{"$f":"Find_Month(LO$35,LO$36,$F45)","v":true},{"$f":"Find_Month(LP$35,LP$36,$F45)","v":true},{"$f":"Find_Month(LQ$35,LQ$36,$F45)","v":true},{"$f":"Find_Month(LR$35,LR$36,$F45)","v":true},{"$f":"Find_Month(LS$35,LS$36,$F45)","v":true},{"$f":"Find_Month(LT$35,LT$36,$F45)","v":true},{"$f":"Find_Month(LU$35,LU$36,$F45)","v":true},{"$f":"Find_Month(LV$35,LV$36,$F45)","v":true},{"$f":"Find_Month(LW$35,LW$36,$F45)","v":true},{"$f":"Find_Month(LX$35,LX$36,$F45)","v":true},{"$f":"Find_Month(LY$35,LY$36,$F45)","v":true},{"$f":"Find_Month(LZ$35,LZ$36,$F45)","v":true},{"$f":"Find_Month(MA$35,MA$36,$F45)","v":true},{"$f":"Find_Month(MB$35,MB$36,$F45)","v":true},{"$f":"Find_Month(MC$35,MC$36,$F45)","v":true},{"$f":"Find_Month(MD$35,MD$36,$F45)","v":true},{"$f":"Find_Month(ME$35,ME$36,$F45)","v":true},{"$f":"Find_Month(MF$35,MF$36,$F45)","v":true},{"$f":"Find_Month(MG$35,MG$36,$F45)","v":true},{"$f":"Find_Month(MH$35,MH$36,$F45)","v":true},{"$f":"Find_Month(MI$35,MI$36,$F45)","v":true},{"$f":"Find_Month(MJ$35,MJ$36,$F45)","v":true},{"$f":"Find_Month(MK$35,MK$36,$F45)","v":true},{"$f":"Find_Month(ML$35,ML$36,$F45)","v":true},{"$f":"Find_Month(MM$35,MM$36,$F45)","v":true},{"$f":"Find_Month(MN$35,MN$36,$F45)","v":true},{"$f":"Find_Month(MO$35,MO$36,$F45)","v":true},{"$f":"Find_Month(MP$35,MP$36,$F45)","v":true},{"$f":"Find_Month(MQ$35,MQ$36,$F45)","v":true},{"$f":"Find_Month(MR$35,MR$36,$F45)","v":true},{"$f":"Find_Month(MS$35,MS$36,$F45)","v":true},{"$f":"Find_Month(MT$35,MT$36,$F45)","v":true},{"$f":"Find_Month(MU$35,MU$36,$F45)","v":true},{"$f":"Find_Month(MV$35,MV$36,$F45)","v":true},{"$f":"Find_Month(MW$35,MW$36,$F45)","v":true},{"$f":"Find_Month(MX$35,MX$36,$F45)","v":true},{"$f":"Find_Month(MY$35,MY$36,$F45)","v":true},{"$f":"Find_Month(MZ$35,MZ$36,$F45)","v":true},{"$f":"Find_Month(NA$35,NA$36,$F45)","v":true},{"$f":"Find_Month(NB$35,NB$36,$F45)","v":true},{"$f":"Find_Month(NC$35,NC$36,$F45)","v":true},{"$f":"Find_Month(ND$35,ND$36,$F45)","v":true},{"$f":"Find_Month(NE$35,NE$36,$F45)","v":true},{"$f":"Find_Month(NF$35,NF$36,$F45)","v":true},{"$f":"Find_Month(NG$35,NG$36,$F45)","v":true},{"$f":"Find_Month(NH$35,NH$36,$F45)","v":true},{"$f":"Find_Month(NI$35,NI$36,$F45)","v":true},{"$f":"Find_Month(NJ$35,NJ$36,$F45)","v":true},{"$f":"Find_Month(NK$35,NK$36,$F45)","v":true},{"$f":"Find_Month(NL$35,NL$36,$F45)","v":true},{"$f":"Find_Month(NM$35,NM$36,$F45)","v":true},{"$f":"Find_Month(NN$35,NN$36,$F45)","v":true},{"$f":"Find_Month(NO$35,NO$36,$F45)","v":true},{"$f":"Find_Month(NP$35,NP$36,$F45)","v":true},{"$f":"Find_Month(NQ$35,NQ$36,$F45)","v":true},{"$f":"Find_Month(NR$35,NR$36,$F45)","v":true},{"$f":"Find_Month(NS$35,NS$36,$F45)","v":true},{"$f":"Find_Month(NT$35,NT$36,$F45)","v":true},{"$f":"Find_Month(NU$35,NU$36,$F45)","v":true},{"$f":"Find_Month(NV$35,NV$36,$F45)","v":true},{"$f":"Find_Month(NW$35,NW$36,$F45)","v":true},{"$f":"Find_Month(NX$35,NX$36,$F45)","v":true},{"$f":"Find_Month(NY$35,NY$36,$F45)","v":true},{"$f":"Find_Month(NZ$35,NZ$36,$F45)","v":true},{"$f":"Find_Month(OA$35,OA$36,$F45)","v":true},{"$f":"Find_Month(OB$35,OB$36,$F45)","v":true},{"$f":"Find_Month(OC$35,OC$36,$F45)","v":true},{"$f":"Find_Month(OD$35,OD$36,$F45)","v":true},{"$f":"Find_Month(OE$35,OE$36,$F45)","v":true},{"$f":"Find_Month(OF$35,OF$36,$F45)","v":true},{"$f":"Find_Month(OG$35,OG$36,$F45)","v":true},{"$f":"Find_Month(OH$35,OH$36,$F45)","v":true},{"$f":"Find_Month(OI$35,OI$36,$F45)","v":true},{"$f":"Find_Month(OJ$35,OJ$36,$F45)","v":true},{"$f":"Find_Month(OK$35,OK$36,$F45)","v":true},{"$f":"Find_Month(OL$35,OL$36,$F45)","v":true},{"$f":"Find_Month(OM$35,OM$36,$F45)","v":true},{"$f":"Find_Month(ON$35,ON$36,$F45)","v":true},{"$f":"Find_Month(OO$35,OO$36,$F45)","v":true},{"$f":"Find_Month(OP$35,OP$36,$F45)","v":true},{"$f":"Find_Month(OQ$35,OQ$36,$F45)","v":true},{"$f":"Find_Month(OR$35,OR$36,$F45)","v":true},{"$f":"Find_Month(OS$35,OS$36,$F45)","v":true},{"$f":"Find_Month(OT$35,OT$36,$F45)","v":true},{"$f":"Find_Month(OU$35,OU$36,$F45)","v":true},{"$f":"Find_Month(OV$35,OV$36,$F45)","v":true},{"$f":"Find_Month(OW$35,OW$36,$F45)","v":true},{"$f":"Find_Month(OX$35,OX$36,$F45)","v":true},{"$f":"Find_Month(OY$35,OY$36,$F45)","v":true},{"$f":"Find_Month(OZ$35,OZ$36,$F45)","v":true},{"$f":"Find_Month(PA$35,PA$36,$F45)","v":true},{"$f":"Find_Month(PB$35,PB$36,$F45)","v":true},{"$f":"Find_Month(PC$35,PC$36,$F45)","v":true},{"$f":"Find_Month(PD$35,PD$36,$F45)","v":true},{"$f":"Find_Month(PE$35,PE$36,$F45)","v":true},{"$f":"Find_Month(PF$35,PF$36,$F45)","v":true},{"$f":"Find_Month(PG$35,PG$36,$F45)","v":true},{"$f":"Find_Month(PH$35,PH$36,$F45)","v":true},{"$f":"Find_Month(PI$35,PI$36,$F45)","v":true},{"$f":"Find_Month(PJ$35,PJ$36,$F45)","v":true},{"$f":"Find_Month(PK$35,PK$36,$F45)","v":true},{"$f":"Find_Month(PL$35,PL$36,$F45)","v":true},{"$f":"Find_Month(PM$35,PM$36,$F45)","v":true},{"$f":"Find_Month(PN$35,PN$36,$F45)","v":true},{"$f":"Find_Month(PO$35,PO$36,$F45)","v":true},{"$f":"Find_Month(PP$35,PP$36,$F45)","v":true},{"$f":"Find_Month(PQ$35,PQ$36,$F45)","v":true},{"$f":"Find_Month(PR$35,PR$36,$F45)","v":true},{"$f":"Find_Month(PS$35,PS$36,$F45)","v":true},{"$f":"Find_Month(PT$35,PT$36,$F45)","v":true},{"$f":"Find_Month(PU$35,PU$36,$F45)","v":true},{"$f":"Find_Month(PV$35,PV$36,$F45)","v":true},{"$f":"Find_Month(PW$35,PW$36,$F45)","v":true},{"$f":"Find_Month(PX$35,PX$36,$F45)","v":true},{"$f":"Find_Month(PY$35,PY$36,$F45)","v":true},{"$f":"Find_Month(PZ$35,PZ$36,$F45)","v":true},{"$f":"Find_Month(QA$35,QA$36,$F45)","v":true},{"$f":"Find_Month(QB$35,QB$36,$F45)","v":true},{"$f":"Find_Month(QC$35,QC$36,$F45)","v":true},{"$f":"Find_Month(QD$35,QD$36,$F45)","v":true},{"$f":"Find_Month(QE$35,QE$36,$F45)","v":true},{"$f":"Find_Month(QF$35,QF$36,$F45)","v":true},{"$f":"Find_Month(QG$35,QG$36,$F45)","v":true},{"$f":"Find_Month(QH$35,QH$36,$F45)","v":true},{"$f":"Find_Month(QI$35,QI$36,$F45)","v":true},{"$f":"Find_Month(QJ$35,QJ$36,$F45)","v":true},{"$f":"Find_Month(QK$35,QK$36,$F45)","v":true},{"$f":"Find_Month(QL$35,QL$36,$F45)","v":true},{"$f":"Find_Month(QM$35,QM$36,$F45)","v":true},{"$f":"Find_Month(QN$35,QN$36,$F45)","v":true},{"$f":"Find_Month(QO$35,QO$36,$F45)","v":true},{"$f":"Find_Month(QP$35,QP$36,$F45)","v":true},{"$f":"Find_Month(QQ$35,QQ$36,$F45)","v":true},{"$f":"Find_Month(QR$35,QR$36,$F45)","v":true},{"$f":"Find_Month(QS$35,QS$36,$F45)","v":true},{"$f":"Find_Month(QT$35,QT$36,$F45)","v":true},{"$f":"Find_Month(QU$35,QU$36,$F45)","v":true},{"$f":"Find_Month(QV$35,QV$36,$F45)","v":true},{"$f":"Find_Month(QW$35,QW$36,$F45)","v":true},{"$f":"Find_Month(QX$35,QX$36,$F45)","v":true},{"$f":"Find_Month(QY$35,QY$36,$F45)","v":true},{"$f":"Find_Month(QZ$35,QZ$36,$F45)","v":true},{"$f":"Find_Month(RA$35,RA$36,$F45)","v":true},{"$f":"Find_Month(RB$35,RB$36,$F45)","v":true},{"$f":"Find_Month(RC$35,RC$36,$F45)","v":true},{"$f":"Find_Month(RD$35,RD$36,$F45)","v":true},{"$f":"Find_Month(RE$35,RE$36,$F45)","v":true},{"$f":"Find_Month(RF$35,RF$36,$F45)","v":true},{"$f":"Find_Month(RG$35,RG$36,$F45)","v":true},{"$f":"Find_Month(RH$35,RH$36,$F45)","v":true},{"$f":"Find_Month(RI$35,RI$36,$F45)","v":true},{"$f":"Find_Month(RJ$35,RJ$36,$F45)","v":true},{"$f":"Find_Month(RK$35,RK$36,$F45)","v":true},{"$f":"Find_Month(RL$35,RL$36,$F45)","v":true},{"$f":"Find_Month(RM$35,RM$36,$F45)","v":true},{"$f":"Find_Month(RN$35,RN$36,$F45)","v":true},{"$f":"Find_Month(RO$35,RO$36,$F45)","v":true},{"$f":"Find_Month(RP$35,RP$36,$F45)","v":true},{"$f":"Find_Month(RQ$35,RQ$36,$F45)","v":true},{"$f":"Find_Month(RR$35,RR$36,$F45)","v":true},{"$f":"Find_Month(RS$35,RS$36,$F45)","v":true},{"$f":"Find_Month(RT$35,RT$36,$F45)","v":true},{"$f":"Find_Month(RU$35,RU$36,$F45)","v":true},{"$f":"Find_Month(RV$35,RV$36,$F45)","v":true},{"$f":"Find_Month(RW$35,RW$36,$F45)","v":true},{"$f":"Find_Month(RX$35,RX$36,$F45)","v":true},{"$f":"Find_Month(RY$35,RY$36,$F45)","v":true},{"$f":"Find_Month(RZ$35,RZ$36,$F45)","v":true},{"$f":"Find_Month(SA$35,SA$36,$F45)","v":true},{"$f":"Find_Month(SB$35,SB$36,$F45)","v":true},{"$f":"Find_Month(SC$35,SC$36,$F45)","v":false},{"$f":"Find_Month(SD$35,SD$36,$F45)","v":false},{"$f":"Find_Month(SE$35,SE$36,$F45)","v":false},{"$f":"Find_Month(SF$35,SF$36,$F45)","v":false},{"$f":"Find_Month(SG$35,SG$36,$F45)","v":false},{"$f":"Find_Month(SH$35,SH$36,$F45)","v":false},{"$f":"Find_Month(SI$35,SI$36,$F45)","v":false},{"$f":"Find_Month(SJ$35,SJ$36,$F45)","v":false},{"$f":"Find_Month(SK$35,SK$36,$F45)","v":false},{"$f":"Find_Month(SL$35,SL$36,$F45)","v":false},{"$f":"Find_Month(SM$35,SM$36,$F45)","v":false},{"$f":"Find_Month(SN$35,SN$36,$F45)","v":false},{"$f":"Find_Month(SO$35,SO$36,$F45)","v":false},{"$f":"Find_Month(SP$35,SP$36,$F45)","v":false},{"$f":"Find_Month(SQ$35,SQ$36,$F45)","v":false},{"$f":"Find_Month(SR$35,SR$36,$F45)","v":false},{"$f":"Find_Month(SS$35,SS$36,$F45)","v":false},{"$f":"Find_Month(ST$35,ST$36,$F45)","v":false},{"$f":"Find_Month(SU$35,SU$36,$F45)","v":false},{"$f":"Find_Month(SV$35,SV$36,$F45)","v":false},{"$f":"Find_Month(SW$35,SW$36,$F45)","v":false},{"$f":"Find_Month(SX$35,SX$36,$F45)","v":false},{"$f":"Find_Month(SY$35,SY$36,$F45)","v":false},{"$f":"Find_Month(SZ$35,SZ$36,$F45)","v":false},{"$f":"Find_Month(TA$35,TA$36,$F45)","v":false},{"$f":"Find_Month(TB$35,TB$36,$F45)","v":false},{"$f":"Find_Month(TC$35,TC$36,$F45)","v":false},{"$f":"Find_Month(TD$35,TD$36,$F45)","v":false},{"$f":"Find_Month(TE$35,TE$36,$F45)","v":false},{"$f":"Find_Month(TF$35,TF$36,$F45)","v":false},{"$f":"Find_Month(TG$35,TG$36,$F45)","v":false},{"$f":"Find_Month(TH$35,TH$36,$F45)","v":false},{"$f":"Find_Month(TI$35,TI$36,$F45)","v":false},{"$f":"Find_Month(TJ$35,TJ$36,$F45)","v":false},{"$f":"Find_Month(TK$35,TK$36,$F45)","v":false},{"$f":"Find_Month(TL$35,TL$36,$F45)","v":false},{"$f":"Find_Month(TM$35,TM$36,$F45)","v":false},{"$f":"Find_Month(TN$35,TN$36,$F45)","v":false},{"$f":"Find_Month(TO$35,TO$36,$F45)","v":false},{"$f":"Find_Month(TP$35,TP$36,$F45)","v":false},{"$f":"Find_Month(TQ$35,TQ$36,$F45)","v":false},{"$f":"Find_Month(TR$35,TR$36,$F45)","v":false},{"$f":"Find_Month(TS$35,TS$36,$F45)","v":false},{"$f":"Find_Month(TT$35,TT$36,$F45)","v":false},{"$f":"Find_Month(TU$35,TU$36,$F45)","v":false},{"$f":"Find_Month(TV$35,TV$36,$F45)","v":false},{"$f":"Find_Month(TW$35,TW$36,$F45)","v":false},{"$f":"Find_Month(TX$35,TX$36,$F45)","v":false},{"$f":"Find_Month(TY$35,TY$36,$F45)","v":false}]
[null,null,null,null,null,8,217.672243208829,6.7910897300569886E-2,null,{"$f":"Find_Month(J$35,J$36,$F46)","v":true},{"$f":"Find_Month(K$35,K$36,$F46)","v":true},{"$f":"Find_Month(L$35,L$36,$F46)","v":true},{"$f":"Find_Month(M$35,M$36,$F46)","v":true},{"$f":"Find_Month(N$35,N$36,$F46)","v":true},{"$f":"Find_Month(O$35,O$36,$F46)","v":true},{"$f":"Find_Month(P$35,P$36,$F46)","v":true},{"$f":"Find_Month(Q$35,Q$36,$F46)","v":true},{"$f":"Find_Month(R$35,R$36,$F46)","v":true},{"$f":"Find_Month(S$35,S$36,$F46)","v":true},{"$f":"Find_Month(T$35,T$36,$F46)","v":true},{"$f":"Find_Month(U$35,U$36,$F46)","v":true},{"$f":"Find_Month(V$35,V$36,$F46)","v":true},{"$f":"Find_Month(W$35,W$36,$F46)","v":true},{"$f":"Find_Month(X$35,X$36,$F46)","v":true},{"$f":"Find_Month(Y$35,Y$36,$F46)","v":true},{"$f":"Find_Month(Z$35,Z$36,$F46)","v":true},{"$f":"Find_Month(AA$35,AA$36,$F46)","v":true},{"$f":"Find_Month(AB$35,AB$36,$F46)","v":true},{"$f":"Find_Month(AC$35,AC$36,$F46)","v":true},{"$f":"Find_Month(AD$35,AD$36,$F46)","v":true},{"$f":"Find_Month(AE$35,AE$36,$F46)","v":true},{"$f":"Find_Month(AF$35,AF$36,$F46)","v":true},{"$f":"Find_Month(AG$35,AG$36,$F46)","v":true},{"$f":"Find_Month(AH$35,AH$36,$F46)","v":true},{"$f":"Find_Month(AI$35,AI$36,$F46)","v":true},{"$f":"Find_Month(AJ$35,AJ$36,$F46)","v":true},{"$f":"Find_Month(AK$35,AK$36,$F46)","v":true},{"$f":"Find_Month(AL$35,AL$36,$F46)","v":true},{"$f":"Find_Month(AM$35,AM$36,$F46)","v":true},{"$f":"Find_Month(AN$35,AN$36,$F46)","v":true},{"$f":"Find_Month(AO$35,AO$36,$F46)","v":true},{"$f":"Find_Month(AP$35,AP$36,$F46)","v":true},{"$f":"Find_Month(AQ$35,AQ$36,$F46)","v":true},{"$f":"Find_Month(AR$35,AR$36,$F46)","v":true},{"$f":"Find_Month(AS$35,AS$36,$F46)","v":true},{"$f":"Find_Month(AT$35,AT$36,$F46)","v":true},{"$f":"Find_Month(AU$35,AU$36,$F46)","v":true},{"$f":"Find_Month(AV$35,AV$36,$F46)","v":true},{"$f":"Find_Month(AW$35,AW$36,$F46)","v":true},{"$f":"Find_Month(AX$35,AX$36,$F46)","v":true},{"$f":"Find_Month(AY$35,AY$36,$F46)","v":true},{"$f":"Find_Month(AZ$35,AZ$36,$F46)","v":true},{"$f":"Find_Month(BA$35,BA$36,$F46)","v":true},{"$f":"Find_Month(BB$35,BB$36,$F46)","v":true},{"$f":"Find_Month(BC$35,BC$36,$F46)","v":true},{"$f":"Find_Month(BD$35,BD$36,$F46)","v":true},{"$f":"Find_Month(BE$35,BE$36,$F46)","v":true},{"$f":"Find_Month(BF$35,BF$36,$F46)","v":true},{"$f":"Find_Month(BG$35,BG$36,$F46)","v":true},{"$f":"Find_Month(BH$35,BH$36,$F46)","v":true},{"$f":"Find_Month(BI$35,BI$36,$F46)","v":true},{"$f":"Find_Month(BJ$35,BJ$36,$F46)","v":true},{"$f":"Find_Month(BK$35,BK$36,$F46)","v":true},{"$f":"Find_Month(BL$35,BL$36,$F46)","v":true},{"$f":"Find_Month(BM$35,BM$36,$F46)","v":true},{"$f":"Find_Month(BN$35,BN$36,$F46)","v":true},{"$f":"Find_Month(BO$35,BO$36,$F46)","v":true},{"$f":"Find_Month(BP$35,BP$36,$F46)","v":true},{"$f":"Find_Month(BQ$35,BQ$36,$F46)","v":true},{"$f":"Find_Month(BR$35,BR$36,$F46)","v":true},{"$f":"Find_Month(BS$35,BS$36,$F46)","v":true},{"$f":"Find_Month(BT$35,BT$36,$F46)","v":true},{"$f":"Find_Month(BU$35,BU$36,$F46)","v":true},{"$f":"Find_Month(BV$35,BV$36,$F46)","v":true},{"$f":"Find_Month(BW$35,BW$36,$F46)","v":true},{"$f":"Find_Month(BX$35,BX$36,$F46)","v":true},{"$f":"Find_Month(BY$35,BY$36,$F46)","v":true},{"$f":"Find_Month(BZ$35,BZ$36,$F46)","v":true},{"$f":"Find_Month(CA$35,CA$36,$F46)","v":true},{"$f":"Find_Month(CB$35,CB$36,$F46)","v":true},{"$f":"Find_Month(CC$35,CC$36,$F46)","v":true},{"$f":"Find_Month(CD$35,CD$36,$F46)","v":true},{"$f":"Find_Month(CE$35,CE$36,$F46)","v":true},{"$f":"Find_Month(CF$35,CF$36,$F46)","v":true},{"$f":"Find_Month(CG$35,CG$36,$F46)","v":true},{"$f":"Find_Month(CH$35,CH$36,$F46)","v":true},{"$f":"Find_Month(CI$35,CI$36,$F46)","v":true},{"$f":"Find_Month(CJ$35,CJ$36,$F46)","v":true},{"$f":"Find_Month(CK$35,CK$36,$F46)","v":true},{"$f":"Find_Month(CL$35,CL$36,$F46)","v":true},{"$f":"Find_Month(CM$35,CM$36,$F46)","v":true},{"$f":"Find_Month(CN$35,CN$36,$F46)","v":true},{"$f":"Find_Month(CO$35,CO$36,$F46)","v":true},{"$f":"Find_Month(CP$35,CP$36,$F46)","v":true},{"$f":"Find_Month(CQ$35,CQ$36,$F46)","v":true},{"$f":"Find_Month(CR$35,CR$36,$F46)","v":true},{"$f":"Find_Month(CS$35,CS$36,$F46)","v":true},{"$f":"Find_Month(CT$35,CT$36,$F46)","v":true},{"$f":"Find_Month(CU$35,CU$36,$F46)","v":true},{"$f":"Find_Month(CV$35,CV$36,$F46)","v":true},{"$f":"Find_Month(CW$35,CW$36,$F46)","v":true},{"$f":"Find_Month(CX$35,CX$36,$F46)","v":true},{"$f":"Find_Month(CY$35,CY$36,$F46)","v":true},{"$f":"Find_Month(CZ$35,CZ$36,$F46)","v":true},{"$f":"Find_Month(DA$35,DA$36,$F46)","v":true},{"$f":"Find_Month(DB$35,DB$36,$F46)","v":true},{"$f":"Find_Month(DC$35,DC$36,$F46)","v":true},{"$f":"Find_Month(DD$35,DD$36,$F46)","v":true},{"$f":"Find_Month(DE$35,DE$36,$F46)","v":true},{"$f":"Find_Month(DF$35,DF$36,$F46)","v":true},{"$f":"Find_Month(DG$35,DG$36,$F46)","v":true},{"$f":"Find_Month(DH$35,DH$36,$F46)","v":true},{"$f":"Find_Month(DI$35,DI$36,$F46)","v":true},{"$f":"Find_Month(DJ$35,DJ$36,$F46)","v":true},{"$f":"Find_Month(DK$35,DK$36,$F46)","v":true},{"$f":"Find_Month(DL$35,DL$36,$F46)","v":true},{"$f":"Find_Month(DM$35,DM$36,$F46)","v":true},{"$f":"Find_Month(DN$35,DN$36,$F46)","v":true},{"$f":"Find_Month(DO$35,DO$36,$F46)","v":true},{"$f":"Find_Month(DP$35,DP$36,$F46)","v":true},{"$f":"Find_Month(DQ$35,DQ$36,$F46)","v":true},{"$f":"Find_Month(DR$35,DR$36,$F46)","v":true},{"$f":"Find_Month(DS$35,DS$36,$F46)","v":true},{"$f":"Find_Month(DT$35,DT$36,$F46)","v":true},{"$f":"Find_Month(DU$35,DU$36,$F46)","v":true},{"$f":"Find_Month(DV$35,DV$36,$F46)","v":true},{"$f":"Find_Month(DW$35,DW$36,$F46)","v":true},{"$f":"Find_Month(DX$35,DX$36,$F46)","v":true},{"$f":"Find_Month(DY$35,DY$36,$F46)","v":true},{"$f":"Find_Month(DZ$35,DZ$36,$F46)","v":true},{"$f":"Find_Month(EA$35,EA$36,$F46)","v":true},{"$f":"Find_Month(EB$35,EB$36,$F46)","v":true},{"$f":"Find_Month(EC$35,EC$36,$F46)","v":true},{"$f":"Find_Month(ED$35,ED$36,$F46)","v":true},{"$f":"Find_Month(EE$35,EE$36,$F46)","v":true},{"$f":"Find_Month(EF$35,EF$36,$F46)","v":true},{"$f":"Find_Month(EG$35,EG$36,$F46)","v":true},{"$f":"Find_Month(EH$35,EH$36,$F46)","v":true},{"$f":"Find_Month(EI$35,EI$36,$F46)","v":true},{"$f":"Find_Month(EJ$35,EJ$36,$F46)","v":true},{"$f":"Find_Month(EK$35,EK$36,$F46)","v":true},{"$f":"Find_Month(EL$35,EL$36,$F46)","v":true},{"$f":"Find_Month(EM$35,EM$36,$F46)","v":true},{"$f":"Find_Month(EN$35,EN$36,$F46)","v":true},{"$f":"Find_Month(EO$35,EO$36,$F46)","v":true},{"$f":"Find_Month(EP$35,EP$36,$F46)","v":true},{"$f":"Find_Month(EQ$35,EQ$36,$F46)","v":true},{"$f":"Find_Month(ER$35,ER$36,$F46)","v":true},{"$f":"Find_Month(ES$35,ES$36,$F46)","v":true},{"$f":"Find_Month(ET$35,ET$36,$F46)","v":true},{"$f":"Find_Month(EU$35,EU$36,$F46)","v":true},{"$f":"Find_Month(EV$35,EV$36,$F46)","v":true},{"$f":"Find_Month(EW$35,EW$36,$F46)","v":true},{"$f":"Find_Month(EX$35,EX$36,$F46)","v":true},{"$f":"Find_Month(EY$35,EY$36,$F46)","v":true},{"$f":"Find_Month(EZ$35,EZ$36,$F46)","v":true},{"$f":"Find_Month(FA$35,FA$36,$F46)","v":true},{"$f":"Find_Month(FB$35,FB$36,$F46)","v":true},{"$f":"Find_Month(FC$35,FC$36,$F46)","v":true},{"$f":"Find_Month(FD$35,FD$36,$F46)","v":true},{"$f":"Find_Month(FE$35,FE$36,$F46)","v":true},{"$f":"Find_Month(FF$35,FF$36,$F46)","v":true},{"$f":"Find_Month(FG$35,FG$36,$F46)","v":true},{"$f":"Find_Month(FH$35,FH$36,$F46)","v":true},{"$f":"Find_Month(FI$35,FI$36,$F46)","v":true},{"$f":"Find_Month(FJ$35,FJ$36,$F46)","v":true},{"$f":"Find_Month(FK$35,FK$36,$F46)","v":true},{"$f":"Find_Month(FL$35,FL$36,$F46)","v":true},{"$f":"Find_Month(FM$35,FM$36,$F46)","v":true},{"$f":"Find_Month(FN$35,FN$36,$F46)","v":true},{"$f":"Find_Month(FO$35,FO$36,$F46)","v":true},{"$f":"Find_Month(FP$35,FP$36,$F46)","v":true},{"$f":"Find_Month(FQ$35,FQ$36,$F46)","v":true},{"$f":"Find_Month(FR$35,FR$36,$F46)","v":true},{"$f":"Find_Month(FS$35,FS$36,$F46)","v":true},{"$f":"Find_Month(FT$35,FT$36,$F46)","v":true},{"$f":"Find_Month(FU$35,FU$36,$F46)","v":true},{"$f":"Find_Month(FV$35,FV$36,$F46)","v":true},{"$f":"Find_Month(FW$35,FW$36,$F46)","v":true},{"$f":"Find_Month(FX$35,FX$36,$F46)","v":true},{"$f":"Find_Month(FY$35,FY$36,$F46)","v":true},{"$f":"Find_Month(FZ$35,FZ$36,$F46)","v":true},{"$f":"Find_Month(GA$35,GA$36,$F46)","v":true},{"$f":"Find_Month(GB$35,GB$36,$F46)","v":true},{"$f":"Find_Month(GC$35,GC$36,$F46)","v":true},{"$f":"Find_Month(GD$35,GD$36,$F46)","v":true},{"$f":"Find_Month(GE$35,GE$36,$F46)","v":true},{"$f":"Find_Month(GF$35,GF$36,$F46)","v":true},{"$f":"Find_Month(GG$35,GG$36,$F46)","v":true},{"$f":"Find_Month(GH$35,GH$36,$F46)","v":true},{"$f":"Find_Month(GI$35,GI$36,$F46)","v":true},{"$f":"Find_Month(GJ$35,GJ$36,$F46)","v":true},{"$f":"Find_Month(GK$35,GK$36,$F46)","v":true},{"$f":"Find_Month(GL$35,GL$36,$F46)","v":true},{"$f":"Find_Month(GM$35,GM$36,$F46)","v":true},{"$f":"Find_Month(GN$35,GN$36,$F46)","v":true},{"$f":"Find_Month(GO$35,GO$36,$F46)","v":true},{"$f":"Find_Month(GP$35,GP$36,$F46)","v":true},{"$f":"Find_Month(GQ$35,GQ$36,$F46)","v":true},{"$f":"Find_Month(GR$35,GR$36,$F46)","v":true},{"$f":"Find_Month(GS$35,GS$36,$F46)","v":true},{"$f":"Find_Month(GT$35,GT$36,$F46)","v":true},{"$f":"Find_Month(GU$35,GU$36,$F46)","v":true},{"$f":"Find_Month(GV$35,GV$36,$F46)","v":true},{"$f":"Find_Month(GW$35,GW$36,$F46)","v":true},{"$f":"Find_Month(GX$35,GX$36,$F46)","v":true},{"$f":"Find_Month(GY$35,GY$36,$F46)","v":true},{"$f":"Find_Month(GZ$35,GZ$36,$F46)","v":true},{"$f":"Find_Month(HA$35,HA$36,$F46)","v":true},{"$f":"Find_Month(HB$35,HB$36,$F46)","v":true},{"$f":"Find_Month(HC$35,HC$36,$F46)","v":true},{"$f":"Find_Month(HD$35,HD$36,$F46)","v":true},{"$f":"Find_Month(HE$35,HE$36,$F46)","v":true},{"$f":"Find_Month(HF$35,HF$36,$F46)","v":true},{"$f":"Find_Month(HG$35,HG$36,$F46)","v":true},{"$f":"Find_Month(HH$35,HH$36,$F46)","v":true},{"$f":"Find_Month(HI$35,HI$36,$F46)","v":true},{"$f":"Find_Month(HJ$35,HJ$36,$F46)","v":true},{"$f":"Find_Month(HK$35,HK$36,$F46)","v":true},{"$f":"Find_Month(HL$35,HL$36,$F46)","v":true},{"$f":"Find_Month(HM$35,HM$36,$F46)","v":true},{"$f":"Find_Month(HN$35,HN$36,$F46)","v":true},{"$f":"Find_Month(HO$35,HO$36,$F46)","v":true},{"$f":"Find_Month(HP$35,HP$36,$F46)","v":true},{"$f":"Find_Month(HQ$35,HQ$36,$F46)","v":true},{"$f":"Find_Month(HR$35,HR$36,$F46)","v":true},{"$f":"Find_Month(HS$35,HS$36,$F46)","v":true},{"$f":"Find_Month(HT$35,HT$36,$F46)","v":true},{"$f":"Find_Month(HU$35,HU$36,$F46)","v":true},{"$f":"Find_Month(HV$35,HV$36,$F46)","v":true},{"$f":"Find_Month(HW$35,HW$36,$F46)","v":true},{"$f":"Find_Month(HX$35,HX$36,$F46)","v":true},{"$f":"Find_Month(HY$35,HY$36,$F46)","v":true},{"$f":"Find_Month(HZ$35,HZ$36,$F46)","v":true},{"$f":"Find_Month(IA$35,IA$36,$F46)","v":true},{"$f":"Find_Month(IB$35,IB$36,$F46)","v":true},{"$f":"Find_Month(IC$35,IC$36,$F46)","v":true},{"$f":"Find_Month(ID$35,ID$36,$F46)","v":true},{"$f":"Find_Month(IE$35,IE$36,$F46)","v":true},{"$f":"Find_Month(IF$35,IF$36,$F46)","v":true},{"$f":"Find_Month(IG$35,IG$36,$F46)","v":true},{"$f":"Find_Month(IH$35,IH$36,$F46)","v":true},{"$f":"Find_Month(II$35,II$36,$F46)","v":true},{"$f":"Find_Month(IJ$35,IJ$36,$F46)","v":true},{"$f":"Find_Month(IK$35,IK$36,$F46)","v":true},{"$f":"Find_Month(IL$35,IL$36,$F46)","v":true},{"$f":"Find_Month(IM$35,IM$36,$F46)","v":true},{"$f":"Find_Month(IN$35,IN$36,$F46)","v":true},{"$f":"Find_Month(IO$35,IO$36,$F46)","v":true},{"$f":"Find_Month(IP$35,IP$36,$F46)","v":true},{"$f":"Find_Month(IQ$35,IQ$36,$F46)","v":true},{"$f":"Find_Month(IR$35,IR$36,$F46)","v":true},{"$f":"Find_Month(IS$35,IS$36,$F46)","v":true},{"$f":"Find_Month(IT$35,IT$36,$F46)","v":true},{"$f":"Find_Month(IU$35,IU$36,$F46)","v":true},{"$f":"Find_Month(IV$35,IV$36,$F46)","v":true},{"$f":"Find_Month(IW$35,IW$36,$F46)","v":true},{"$f":"Find_Month(IX$35,IX$36,$F46)","v":true},{"$f":"Find_Month(IY$35,IY$36,$F46)","v":true},{"$f":"Find_Month(IZ$35,IZ$36,$F46)","v":true},{"$f":"Find_Month(JA$35,JA$36,$F46)","v":true},{"$f":"Find_Month(JB$35,JB$36,$F46)","v":true},{"$f":"Find_Month(JC$35,JC$36,$F46)","v":true},{"$f":"Find_Month(JD$35,JD$36,$F46)","v":true},{"$f":"Find_Month(JE$35,JE$36,$F46)","v":true},{"$f":"Find_Month(JF$35,JF$36,$F46)","v":true},{"$f":"Find_Month(JG$35,JG$36,$F46)","v":true},{"$f":"Find_Month(JH$35,JH$36,$F46)","v":true},{"$f":"Find_Month(JI$35,JI$36,$F46)","v":true},{"$f":"Find_Month(JJ$35,JJ$36,$F46)","v":true},{"$f":"Find_Month(JK$35,JK$36,$F46)","v":true},{"$f":"Find_Month(JL$35,JL$36,$F46)","v":true},{"$f":"Find_Month(JM$35,JM$36,$F46)","v":true},{"$f":"Find_Month(JN$35,JN$36,$F46)","v":true},{"$f":"Find_Month(JO$35,JO$36,$F46)","v":true},{"$f":"Find_Month(JP$35,JP$36,$F46)","v":true},{"$f":"Find_Month(JQ$35,JQ$36,$F46)","v":true},{"$f":"Find_Month(JR$35,JR$36,$F46)","v":true},{"$f":"Find_Month(JS$35,JS$36,$F46)","v":true},{"$f":"Find_Month(JT$35,JT$36,$F46)","v":true},{"$f":"Find_Month(JU$35,JU$36,$F46)","v":true},{"$f":"Find_Month(JV$35,JV$36,$F46)","v":true},{"$f":"Find_Month(JW$35,JW$36,$F46)","v":true},{"$f":"Find_Month(JX$35,JX$36,$F46)","v":true},{"$f":"Find_Month(JY$35,JY$36,$F46)","v":true},{"$f":"Find_Month(JZ$35,JZ$36,$F46)","v":true},{"$f":"Find_Month(KA$35,KA$36,$F46)","v":true},{"$f":"Find_Month(KB$35,KB$36,$F46)","v":true},{"$f":"Find_Month(KC$35,KC$36,$F46)","v":true},{"$f":"Find_Month(KD$35,KD$36,$F46)","v":true},{"$f":"Find_Month(KE$35,KE$36,$F46)","v":true},{"$f":"Find_Month(KF$35,KF$36,$F46)","v":true},{"$f":"Find_Month(KG$35,KG$36,$F46)","v":true},{"$f":"Find_Month(KH$35,KH$36,$F46)","v":true},{"$f":"Find_Month(KI$35,KI$36,$F46)","v":true},{"$f":"Find_Month(KJ$35,KJ$36,$F46)","v":true},{"$f":"Find_Month(KK$35,KK$36,$F46)","v":true},{"$f":"Find_Month(KL$35,KL$36,$F46)","v":true},{"$f":"Find_Month(KM$35,KM$36,$F46)","v":true},{"$f":"Find_Month(KN$35,KN$36,$F46)","v":true},{"$f":"Find_Month(KO$35,KO$36,$F46)","v":true},{"$f":"Find_Month(KP$35,KP$36,$F46)","v":true},{"$f":"Find_Month(KQ$35,KQ$36,$F46)","v":true},{"$f":"Find_Month(KR$35,KR$36,$F46)","v":true},{"$f":"Find_Month(KS$35,KS$36,$F46)","v":true},{"$f":"Find_Month(KT$35,KT$36,$F46)","v":true},{"$f":"Find_Month(KU$35,KU$36,$F46)","v":true},{"$f":"Find_Month(KV$35,KV$36,$F46)","v":true},{"$f":"Find_Month(KW$35,KW$36,$F46)","v":true},{"$f":"Find_Month(KX$35,KX$36,$F46)","v":true},{"$f":"Find_Month(KY$35,KY$36,$F46)","v":true},{"$f":"Find_Month(KZ$35,KZ$36,$F46)","v":true},{"$f":"Find_Month(LA$35,LA$36,$F46)","v":true},{"$f":"Find_Month(LB$35,LB$36,$F46)","v":true},{"$f":"Find_Month(LC$35,LC$36,$F46)","v":true},{"$f":"Find_Month(LD$35,LD$36,$F46)","v":true},{"$f":"Find_Month(LE$35,LE$36,$F46)","v":true},{"$f":"Find_Month(LF$35,LF$36,$F46)","v":true},{"$f":"Find_Month(LG$35,LG$36,$F46)","v":true},{"$f":"Find_Month(LH$35,LH$36,$F46)","v":true},{"$f":"Find_Month(LI$35,LI$36,$F46)","v":true},{"$f":"Find_Month(LJ$35,LJ$36,$F46)","v":true},{"$f":"Find_Month(LK$35,LK$36,$F46)","v":true},{"$f":"Find_Month(LL$35,LL$36,$F46)","v":true},{"$f":"Find_Month(LM$35,LM$36,$F46)","v":true},{"$f":"Find_Month(LN$35,LN$36,$F46)","v":true},{"$f":"Find_Month(LO$35,LO$36,$F46)","v":true},{"$f":"Find_Month(LP$35,LP$36,$F46)","v":true},{"$f":"Find_Month(LQ$35,LQ$36,$F46)","v":true},{"$f":"Find_Month(LR$35,LR$36,$F46)","v":true},{"$f":"Find_Month(LS$35,LS$36,$F46)","v":true},{"$f":"Find_Month(LT$35,LT$36,$F46)","v":true},{"$f":"Find_Month(LU$35,LU$36,$F46)","v":true},{"$f":"Find_Month(LV$35,LV$36,$F46)","v":true},{"$f":"Find_Month(LW$35,LW$36,$F46)","v":true},{"$f":"Find_Month(LX$35,LX$36,$F46)","v":true},{"$f":"Find_Month(LY$35,LY$36,$F46)","v":true},{"$f":"Find_Month(LZ$35,LZ$36,$F46)","v":true},{"$f":"Find_Month(MA$35,MA$36,$F46)","v":true},{"$f":"Find_Month(MB$35,MB$36,$F46)","v":true},{"$f":"Find_Month(MC$35,MC$36,$F46)","v":true},{"$f":"Find_Month(MD$35,MD$36,$F46)","v":true},{"$f":"Find_Month(ME$35,ME$36,$F46)","v":true},{"$f":"Find_Month(MF$35,MF$36,$F46)","v":true},{"$f":"Find_Month(MG$35,MG$36,$F46)","v":true},{"$f":"Find_Month(MH$35,MH$36,$F46)","v":true},{"$f":"Find_Month(MI$35,MI$36,$F46)","v":true},{"$f":"Find_Month(MJ$35,MJ$36,$F46)","v":true},{"$f":"Find_Month(MK$35,MK$36,$F46)","v":true},{"$f":"Find_Month(ML$35,ML$36,$F46)","v":true},{"$f":"Find_Month(MM$35,MM$36,$F46)","v":true},{"$f":"Find_Month(MN$35,MN$36,$F46)","v":true},{"$f":"Find_Month(MO$35,MO$36,$F46)","v":true},{"$f":"Find_Month(MP$35,MP$36,$F46)","v":true},{"$f":"Find_Month(MQ$35,MQ$36,$F46)","v":true},{"$f":"Find_Month(MR$35,MR$36,$F46)","v":true},{"$f":"Find_Month(MS$35,MS$36,$F46)","v":true},{"$f":"Find_Month(MT$35,MT$36,$F46)","v":true},{"$f":"Find_Month(MU$35,MU$36,$F46)","v":true},{"$f":"Find_Month(MV$35,MV$36,$F46)","v":true},{"$f":"Find_Month(MW$35,MW$36,$F46)","v":true},{"$f":"Find_Month(MX$35,MX$36,$F46)","v":true},{"$f":"Find_Month(MY$35,MY$36,$F46)","v":true},{"$f":"Find_Month(MZ$35,MZ$36,$F46)","v":true},{"$f":"Find_Month(NA$35,NA$36,$F46)","v":true},{"$f":"Find_Month(NB$35,NB$36,$F46)","v":true},{"$f":"Find_Month(NC$35,NC$36,$F46)","v":true},{"$f":"Find_Month(ND$35,ND$36,$F46)","v":true},{"$f":"Find_Month(NE$35,NE$36,$F46)","v":true},{"$f":"Find_Month(NF$35,NF$36,$F46)","v":true},{"$f":"Find_Month(NG$35,NG$36,$F46)","v":true},{"$f":"Find_Month(NH$35,NH$36,$F46)","v":true},{"$f":"Find_Month(NI$35,NI$36,$F46)","v":true},{"$f":"Find_Month(NJ$35,NJ$36,$F46)","v":true},{"$f":"Find_Month(NK$35,NK$36,$F46)","v":true},{"$f":"Find_Month(NL$35,NL$36,$F46)","v":true},{"$f":"Find_Month(NM$35,NM$36,$F46)","v":true},{"$f":"Find_Month(NN$35,NN$36,$F46)","v":true},{"$f":"Find_Month(NO$35,NO$36,$F46)","v":true},{"$f":"Find_Month(NP$35,NP$36,$F46)","v":true},{"$f":"Find_Month(NQ$35,NQ$36,$F46)","v":true},{"$f":"Find_Month(NR$35,NR$36,$F46)","v":true},{"$f":"Find_Month(NS$35,NS$36,$F46)","v":true},{"$f":"Find_Month(NT$35,NT$36,$F46)","v":true},{"$f":"Find_Month(NU$35,NU$36,$F46)","v":true},{"$f":"Find_Month(NV$35,NV$36,$F46)","v":true},{"$f":"Find_Month(NW$35,NW$36,$F46)","v":true},{"$f":"Find_Month(NX$35,NX$36,$F46)","v":true},{"$f":"Find_Month(NY$35,NY$36,$F46)","v":true},{"$f":"Find_Month(NZ$35,NZ$36,$F46)","v":true},{"$f":"Find_Month(OA$35,OA$36,$F46)","v":true},{"$f":"Find_Month(OB$35,OB$36,$F46)","v":true},{"$f":"Find_Month(OC$35,OC$36,$F46)","v":true},{"$f":"Find_Month(OD$35,OD$36,$F46)","v":true},{"$f":"Find_Month(OE$35,OE$36,$F46)","v":true},{"$f":"Find_Month(OF$35,OF$36,$F46)","v":true},{"$f":"Find_Month(OG$35,OG$36,$F46)","v":true},{"$f":"Find_Month(OH$35,OH$36,$F46)","v":true},{"$f":"Find_Month(OI$35,OI$36,$F46)","v":true},{"$f":"Find_Month(OJ$35,OJ$36,$F46)","v":true},{"$f":"Find_Month(OK$35,OK$36,$F46)","v":true},{"$f":"Find_Month(OL$35,OL$36,$F46)","v":true},{"$f":"Find_Month(OM$35,OM$36,$F46)","v":true},{"$f":"Find_Month(ON$35,ON$36,$F46)","v":true},{"$f":"Find_Month(OO$35,OO$36,$F46)","v":true},{"$f":"Find_Month(OP$35,OP$36,$F46)","v":true},{"$f":"Find_Month(OQ$35,OQ$36,$F46)","v":true},{"$f":"Find_Month(OR$35,OR$36,$F46)","v":true},{"$f":"Find_Month(OS$35,OS$36,$F46)","v":true},{"$f":"Find_Month(OT$35,OT$36,$F46)","v":true},{"$f":"Find_Month(OU$35,OU$36,$F46)","v":true},{"$f":"Find_Month(OV$35,OV$36,$F46)","v":true},{"$f":"Find_Month(OW$35,OW$36,$F46)","v":true},{"$f":"Find_Month(OX$35,OX$36,$F46)","v":true},{"$f":"Find_Month(OY$35,OY$36,$F46)","v":true},{"$f":"Find_Month(OZ$35,OZ$36,$F46)","v":true},{"$f":"Find_Month(PA$35,PA$36,$F46)","v":true},{"$f":"Find_Month(PB$35,PB$36,$F46)","v":true},{"$f":"Find_Month(PC$35,PC$36,$F46)","v":true},{"$f":"Find_Month(PD$35,PD$36,$F46)","v":true},{"$f":"Find_Month(PE$35,PE$36,$F46)","v":true},{"$f":"Find_Month(PF$35,PF$36,$F46)","v":true},{"$f":"Find_Month(PG$35,PG$36,$F46)","v":true},{"$f":"Find_Month(PH$35,PH$36,$F46)","v":true},{"$f":"Find_Month(PI$35,PI$36,$F46)","v":true},{"$f":"Find_Month(PJ$35,PJ$36,$F46)","v":true},{"$f":"Find_Month(PK$35,PK$36,$F46)","v":true},{"$f":"Find_Month(PL$35,PL$36,$F46)","v":true},{"$f":"Find_Month(PM$35,PM$36,$F46)","v":true},{"$f":"Find_Month(PN$35,PN$36,$F46)","v":true},{"$f":"Find_Month(PO$35,PO$36,$F46)","v":true},{"$f":"Find_Month(PP$35,PP$36,$F46)","v":true},{"$f":"Find_Month(PQ$35,PQ$36,$F46)","v":true},{"$f":"Find_Month(PR$35,PR$36,$F46)","v":true},{"$f":"Find_Month(PS$35,PS$36,$F46)","v":true},{"$f":"Find_Month(PT$35,PT$36,$F46)","v":true},{"$f":"Find_Month(PU$35,PU$36,$F46)","v":true},{"$f":"Find_Month(PV$35,PV$36,$F46)","v":true},{"$f":"Find_Month(PW$35,PW$36,$F46)","v":true},{"$f":"Find_Month(PX$35,PX$36,$F46)","v":true},{"$f":"Find_Month(PY$35,PY$36,$F46)","v":true},{"$f":"Find_Month(PZ$35,PZ$36,$F46)","v":true},{"$f":"Find_Month(QA$35,QA$36,$F46)","v":true},{"$f":"Find_Month(QB$35,QB$36,$F46)","v":true},{"$f":"Find_Month(QC$35,QC$36,$F46)","v":true},{"$f":"Find_Month(QD$35,QD$36,$F46)","v":true},{"$f":"Find_Month(QE$35,QE$36,$F46)","v":true},{"$f":"Find_Month(QF$35,QF$36,$F46)","v":true},{"$f":"Find_Month(QG$35,QG$36,$F46)","v":true},{"$f":"Find_Month(QH$35,QH$36,$F46)","v":true},{"$f":"Find_Month(QI$35,QI$36,$F46)","v":true},{"$f":"Find_Month(QJ$35,QJ$36,$F46)","v":true},{"$f":"Find_Month(QK$35,QK$36,$F46)","v":true},{"$f":"Find_Month(QL$35,QL$36,$F46)","v":true},{"$f":"Find_Month(QM$35,QM$36,$F46)","v":true},{"$f":"Find_Month(QN$35,QN$36,$F46)","v":true},{"$f":"Find_Month(QO$35,QO$36,$F46)","v":true},{"$f":"Find_Month(QP$35,QP$36,$F46)","v":true},{"$f":"Find_Month(QQ$35,QQ$36,$F46)","v":true},{"$f":"Find_Month(QR$35,QR$36,$F46)","v":true},{"$f":"Find_Month(QS$35,QS$36,$F46)","v":true},{"$f":"Find_Month(QT$35,QT$36,$F46)","v":true},{"$f":"Find_Month(QU$35,QU$36,$F46)","v":true},{"$f":"Find_Month(QV$35,QV$36,$F46)","v":true},{"$f":"Find_Month(QW$35,QW$36,$F46)","v":true},{"$f":"Find_Month(QX$35,QX$36,$F46)","v":true},{"$f":"Find_Month(QY$35,QY$36,$F46)","v":true},{"$f":"Find_Month(QZ$35,QZ$36,$F46)","v":true},{"$f":"Find_Month(RA$35,RA$36,$F46)","v":true},{"$f":"Find_Month(RB$35,RB$36,$F46)","v":true},{"$f":"Find_Month(RC$35,RC$36,$F46)","v":true},{"$f":"Find_Month(RD$35,RD$36,$F46)","v":true},{"$f":"Find_Month(RE$35,RE$36,$F46)","v":true},{"$f":"Find_Month(RF$35,RF$36,$F46)","v":true},{"$f":"Find_Month(RG$35,RG$36,$F46)","v":true},{"$f":"Find_Month(RH$35,RH$36,$F46)","v":true},{"$f":"Find_Month(RI$35,RI$36,$F46)","v":true},{"$f":"Find_Month(RJ$35,RJ$36,$F46)","v":true},{"$f":"Find_Month(RK$35,RK$36,$F46)","v":true},{"$f":"Find_Month(RL$35,RL$36,$F46)","v":true},{"$f":"Find_Month(RM$35,RM$36,$F46)","v":true},{"$f":"Find_Month(RN$35,RN$36,$F46)","v":true},{"$f":"Find_Month(RO$35,RO$36,$F46)","v":true},{"$f":"Find_Month(RP$35,RP$36,$F46)","v":true},{"$f":"Find_Month(RQ$35,RQ$36,$F46)","v":true},{"$f":"Find_Month(RR$35,RR$36,$F46)","v":true},{"$f":"Find_Month(RS$35,RS$36,$F46)","v":true},{"$f":"Find_Month(RT$35,RT$36,$F46)","v":true},{"$f":"Find_Month(RU$35,RU$36,$F46)","v":true},{"$f":"Find_Month(RV$35,RV$36,$F46)","v":true},{"$f":"Find_Month(RW$35,RW$36,$F46)","v":true},{"$f":"Find_Month(RX$35,RX$36,$F46)","v":true},{"$f":"Find_Month(RY$35,RY$36,$F46)","v":true},{"$f":"Find_Month(RZ$35,RZ$36,$F46)","v":true},{"$f":"Find_Month(SA$35,SA$36,$F46)","v":true},{"$f":"Find_Month(SB$35,SB$36,$F46)","v":true},{"$f":"Find_Month(SC$35,SC$36,$F46)","v":false},{"$f":"Find_Month(SD$35,SD$36,$F46)","v":false},{"$f":"Find_Month(SE$35,SE$36,$F46)","v":false},{"$f":"Find_Month(SF$35,SF$36,$F46)","v":false},{"$f":"Find_Month(SG$35,SG$36,$F46)","v":false},{"$f":"Find_Month(SH$35,SH$36,$F46)","v":false},{"$f":"Find_Month(SI$35,SI$36,$F46)","v":false},{"$f":"Find_Month(SJ$35,SJ$36,$F46)","v":false},{"$f":"Find_Month(SK$35,SK$36,$F46)","v":false},{"$f":"Find_Month(SL$35,SL$36,$F46)","v":false},{"$f":"Find_Month(SM$35,SM$36,$F46)","v":false},{"$f":"Find_Month(SN$35,SN$36,$F46)","v":false},{"$f":"Find_Month(SO$35,SO$36,$F46)","v":false},{"$f":"Find_Month(SP$35,SP$36,$F46)","v":false},{"$f":"Find_Month(SQ$35,SQ$36,$F46)","v":false},{"$f":"Find_Month(SR$35,SR$36,$F46)","v":false},{"$f":"Find_Month(SS$35,SS$36,$F46)","v":false},{"$f":"Find_Month(ST$35,ST$36,$F46)","v":false},{"$f":"Find_Month(SU$35,SU$36,$F46)","v":false},{"$f":"Find_Month(SV$35,SV$36,$F46)","v":false},{"$f":"Find_Month(SW$35,SW$36,$F46)","v":false},{"$f":"Find_Month(SX$35,SX$36,$F46)","v":false},{"$f":"Find_Month(SY$35,SY$36,$F46)","v":false},{"$f":"Find_Month(SZ$35,SZ$36,$F46)","v":false},{"$f":"Find_Month(TA$35,TA$36,$F46)","v":false},{"$f":"Find_Month(TB$35,TB$36,$F46)","v":false},{"$f":"Find_Month(TC$35,TC$36,$F46)","v":false},{"$f":"Find_Month(TD$35,TD$36,$F46)","v":false},{"$f":"Find_Month(TE$35,TE$36,$F46)","v":false},{"$f":"Find_Month(TF$35,TF$36,$F46)","v":false},{"$f":"Find_Month(TG$35,TG$36,$F46)","v":false},{"$f":"Find_Month(TH$35,TH$36,$F46)","v":false},{"$f":"Find_Month(TI$35,TI$36,$F46)","v":false},{"$f":"Find_Month(TJ$35,TJ$36,$F46)","v":false},{"$f":"Find_Month(TK$35,TK$36,$F46)","v":false},{"$f":"Find_Month(TL$35,TL$36,$F46)","v":false},{"$f":"Find_Month(TM$35,TM$36,$F46)","v":false},{"$f":"Find_Month(TN$35,TN$36,$F46)","v":false},{"$f":"Find_Month(TO$35,TO$36,$F46)","v":false},{"$f":"Find_Month(TP$35,TP$36,$F46)","v":false},{"$f":"Find_Month(TQ$35,TQ$36,$F46)","v":false},{"$f":"Find_Month(TR$35,TR$36,$F46)","v":false},{"$f":"Find_Month(TS$35,TS$36,$F46)","v":false},{"$f":"Find_Month(TT$35,TT$36,$F46)","v":false},{"$f":"Find_Month(TU$35,TU$36,$F46)","v":false},{"$f":"Find_Month(TV$35,TV$36,$F46)","v":false},{"$f":"Find_Month(TW$35,TW$36,$F46)","v":false},{"$f":"Find_Month(TX$35,TX$36,$F46)","v":false},{"$f":"Find_Month(TY$35,TY$36,$F46)","v":false}]
[null,null,null,null,null,9,249.12879824561375,7.7724931681073597E-2,null,{"$f":"Find_Month(J$35,J$36,$F47)","v":true},{"$f":"Find_Month(K$35,K$36,$F47)","v":true},{"$f":"Find_Month(L$35,L$36,$F47)","v":true},{"$f":"Find_Month(M$35,M$36,$F47)","v":true},{"$f":"Find_Month(N$35,N$36,$F47)","v":true},{"$f":"Find_Month(O$35,O$36,$F47)","v":true},{"$f":"Find_Month(P$35,P$36,$F47)","v":true},{"$f":"Find_Month(Q$35,Q$36,$F47)","v":true},{"$f":"Find_Month(R$35,R$36,$F47)","v":true},{"$f":"Find_Month(S$35,S$36,$F47)","v":true},{"$f":"Find_Month(T$35,T$36,$F47)","v":true},{"$f":"Find_Month(U$35,U$36,$F47)","v":true},{"$f":"Find_Month(V$35,V$36,$F47)","v":true},{"$f":"Find_Month(W$35,W$36,$F47)","v":true},{"$f":"Find_Month(X$35,X$36,$F47)","v":true},{"$f":"Find_Month(Y$35,Y$36,$F47)","v":true},{"$f":"Find_Month(Z$35,Z$36,$F47)","v":true},{"$f":"Find_Month(AA$35,AA$36,$F47)","v":true},{"$f":"Find_Month(AB$35,AB$36,$F47)","v":true},{"$f":"Find_Month(AC$35,AC$36,$F47)","v":true},{"$f":"Find_Month(AD$35,AD$36,$F47)","v":true},{"$f":"Find_Month(AE$35,AE$36,$F47)","v":true},{"$f":"Find_Month(AF$35,AF$36,$F47)","v":true},{"$f":"Find_Month(AG$35,AG$36,$F47)","v":true},{"$f":"Find_Month(AH$35,AH$36,$F47)","v":true},{"$f":"Find_Month(AI$35,AI$36,$F47)","v":true},{"$f":"Find_Month(AJ$35,AJ$36,$F47)","v":true},{"$f":"Find_Month(AK$35,AK$36,$F47)","v":true},{"$f":"Find_Month(AL$35,AL$36,$F47)","v":true},{"$f":"Find_Month(AM$35,AM$36,$F47)","v":true},{"$f":"Find_Month(AN$35,AN$36,$F47)","v":true},{"$f":"Find_Month(AO$35,AO$36,$F47)","v":true},{"$f":"Find_Month(AP$35,AP$36,$F47)","v":true},{"$f":"Find_Month(AQ$35,AQ$36,$F47)","v":true},{"$f":"Find_Month(AR$35,AR$36,$F47)","v":true},{"$f":"Find_Month(AS$35,AS$36,$F47)","v":true},{"$f":"Find_Month(AT$35,AT$36,$F47)","v":true},{"$f":"Find_Month(AU$35,AU$36,$F47)","v":true},{"$f":"Find_Month(AV$35,AV$36,$F47)","v":true},{"$f":"Find_Month(AW$35,AW$36,$F47)","v":true},{"$f":"Find_Month(AX$35,AX$36,$F47)","v":true},{"$f":"Find_Month(AY$35,AY$36,$F47)","v":true},{"$f":"Find_Month(AZ$35,AZ$36,$F47)","v":true},{"$f":"Find_Month(BA$35,BA$36,$F47)","v":true},{"$f":"Find_Month(BB$35,BB$36,$F47)","v":true},{"$f":"Find_Month(BC$35,BC$36,$F47)","v":true},{"$f":"Find_Month(BD$35,BD$36,$F47)","v":true},{"$f":"Find_Month(BE$35,BE$36,$F47)","v":true},{"$f":"Find_Month(BF$35,BF$36,$F47)","v":true},{"$f":"Find_Month(BG$35,BG$36,$F47)","v":true},{"$f":"Find_Month(BH$35,BH$36,$F47)","v":true},{"$f":"Find_Month(BI$35,BI$36,$F47)","v":true},{"$f":"Find_Month(BJ$35,BJ$36,$F47)","v":true},{"$f":"Find_Month(BK$35,BK$36,$F47)","v":true},{"$f":"Find_Month(BL$35,BL$36,$F47)","v":true},{"$f":"Find_Month(BM$35,BM$36,$F47)","v":true},{"$f":"Find_Month(BN$35,BN$36,$F47)","v":true},{"$f":"Find_Month(BO$35,BO$36,$F47)","v":true},{"$f":"Find_Month(BP$35,BP$36,$F47)","v":true},{"$f":"Find_Month(BQ$35,BQ$36,$F47)","v":true},{"$f":"Find_Month(BR$35,BR$36,$F47)","v":true},{"$f":"Find_Month(BS$35,BS$36,$F47)","v":true},{"$f":"Find_Month(BT$35,BT$36,$F47)","v":true},{"$f":"Find_Month(BU$35,BU$36,$F47)","v":true},{"$f":"Find_Month(BV$35,BV$36,$F47)","v":true},{"$f":"Find_Month(BW$35,BW$36,$F47)","v":true},{"$f":"Find_Month(BX$35,BX$36,$F47)","v":true},{"$f":"Find_Month(BY$35,BY$36,$F47)","v":true},{"$f":"Find_Month(BZ$35,BZ$36,$F47)","v":true},{"$f":"Find_Month(CA$35,CA$36,$F47)","v":true},{"$f":"Find_Month(CB$35,CB$36,$F47)","v":true},{"$f":"Find_Month(CC$35,CC$36,$F47)","v":true},{"$f":"Find_Month(CD$35,CD$36,$F47)","v":true},{"$f":"Find_Month(CE$35,CE$36,$F47)","v":true},{"$f":"Find_Month(CF$35,CF$36,$F47)","v":true},{"$f":"Find_Month(CG$35,CG$36,$F47)","v":true},{"$f":"Find_Month(CH$35,CH$36,$F47)","v":true},{"$f":"Find_Month(CI$35,CI$36,$F47)","v":true},{"$f":"Find_Month(CJ$35,CJ$36,$F47)","v":true},{"$f":"Find_Month(CK$35,CK$36,$F47)","v":true},{"$f":"Find_Month(CL$35,CL$36,$F47)","v":true},{"$f":"Find_Month(CM$35,CM$36,$F47)","v":true},{"$f":"Find_Month(CN$35,CN$36,$F47)","v":true},{"$f":"Find_Month(CO$35,CO$36,$F47)","v":true},{"$f":"Find_Month(CP$35,CP$36,$F47)","v":true},{"$f":"Find_Month(CQ$35,CQ$36,$F47)","v":true},{"$f":"Find_Month(CR$35,CR$36,$F47)","v":true},{"$f":"Find_Month(CS$35,CS$36,$F47)","v":true},{"$f":"Find_Month(CT$35,CT$36,$F47)","v":true},{"$f":"Find_Month(CU$35,CU$36,$F47)","v":true},{"$f":"Find_Month(CV$35,CV$36,$F47)","v":true},{"$f":"Find_Month(CW$35,CW$36,$F47)","v":true},{"$f":"Find_Month(CX$35,CX$36,$F47)","v":true},{"$f":"Find_Month(CY$35,CY$36,$F47)","v":true},{"$f":"Find_Month(CZ$35,CZ$36,$F47)","v":true},{"$f":"Find_Month(DA$35,DA$36,$F47)","v":true},{"$f":"Find_Month(DB$35,DB$36,$F47)","v":true},{"$f":"Find_Month(DC$35,DC$36,$F47)","v":true},{"$f":"Find_Month(DD$35,DD$36,$F47)","v":true},{"$f":"Find_Month(DE$35,DE$36,$F47)","v":true},{"$f":"Find_Month(DF$35,DF$36,$F47)","v":true},{"$f":"Find_Month(DG$35,DG$36,$F47)","v":true},{"$f":"Find_Month(DH$35,DH$36,$F47)","v":true},{"$f":"Find_Month(DI$35,DI$36,$F47)","v":true},{"$f":"Find_Month(DJ$35,DJ$36,$F47)","v":true},{"$f":"Find_Month(DK$35,DK$36,$F47)","v":true},{"$f":"Find_Month(DL$35,DL$36,$F47)","v":true},{"$f":"Find_Month(DM$35,DM$36,$F47)","v":true},{"$f":"Find_Month(DN$35,DN$36,$F47)","v":true},{"$f":"Find_Month(DO$35,DO$36,$F47)","v":true},{"$f":"Find_Month(DP$35,DP$36,$F47)","v":true},{"$f":"Find_Month(DQ$35,DQ$36,$F47)","v":true},{"$f":"Find_Month(DR$35,DR$36,$F47)","v":true},{"$f":"Find_Month(DS$35,DS$36,$F47)","v":true},{"$f":"Find_Month(DT$35,DT$36,$F47)","v":true},{"$f":"Find_Month(DU$35,DU$36,$F47)","v":true},{"$f":"Find_Month(DV$35,DV$36,$F47)","v":true},{"$f":"Find_Month(DW$35,DW$36,$F47)","v":true},{"$f":"Find_Month(DX$35,DX$36,$F47)","v":true},{"$f":"Find_Month(DY$35,DY$36,$F47)","v":true},{"$f":"Find_Month(DZ$35,DZ$36,$F47)","v":true},{"$f":"Find_Month(EA$35,EA$36,$F47)","v":true},{"$f":"Find_Month(EB$35,EB$36,$F47)","v":true},{"$f":"Find_Month(EC$35,EC$36,$F47)","v":true},{"$f":"Find_Month(ED$35,ED$36,$F47)","v":true},{"$f":"Find_Month(EE$35,EE$36,$F47)","v":true},{"$f":"Find_Month(EF$35,EF$36,$F47)","v":true},{"$f":"Find_Month(EG$35,EG$36,$F47)","v":true},{"$f":"Find_Month(EH$35,EH$36,$F47)","v":true},{"$f":"Find_Month(EI$35,EI$36,$F47)","v":true},{"$f":"Find_Month(EJ$35,EJ$36,$F47)","v":true},{"$f":"Find_Month(EK$35,EK$36,$F47)","v":true},{"$f":"Find_Month(EL$35,EL$36,$F47)","v":true},{"$f":"Find_Month(EM$35,EM$36,$F47)","v":true},{"$f":"Find_Month(EN$35,EN$36,$F47)","v":true},{"$f":"Find_Month(EO$35,EO$36,$F47)","v":true},{"$f":"Find_Month(EP$35,EP$36,$F47)","v":true},{"$f":"Find_Month(EQ$35,EQ$36,$F47)","v":true},{"$f":"Find_Month(ER$35,ER$36,$F47)","v":true},{"$f":"Find_Month(ES$35,ES$36,$F47)","v":true},{"$f":"Find_Month(ET$35,ET$36,$F47)","v":true},{"$f":"Find_Month(EU$35,EU$36,$F47)","v":true},{"$f":"Find_Month(EV$35,EV$36,$F47)","v":true},{"$f":"Find_Month(EW$35,EW$36,$F47)","v":true},{"$f":"Find_Month(EX$35,EX$36,$F47)","v":true},{"$f":"Find_Month(EY$35,EY$36,$F47)","v":true},{"$f":"Find_Month(EZ$35,EZ$36,$F47)","v":true},{"$f":"Find_Month(FA$35,FA$36,$F47)","v":true},{"$f":"Find_Month(FB$35,FB$36,$F47)","v":true},{"$f":"Find_Month(FC$35,FC$36,$F47)","v":true},{"$f":"Find_Month(FD$35,FD$36,$F47)","v":true},{"$f":"Find_Month(FE$35,FE$36,$F47)","v":true},{"$f":"Find_Month(FF$35,FF$36,$F47)","v":true},{"$f":"Find_Month(FG$35,FG$36,$F47)","v":true},{"$f":"Find_Month(FH$35,FH$36,$F47)","v":true},{"$f":"Find_Month(FI$35,FI$36,$F47)","v":true},{"$f":"Find_Month(FJ$35,FJ$36,$F47)","v":true},{"$f":"Find_Month(FK$35,FK$36,$F47)","v":true},{"$f":"Find_Month(FL$35,FL$36,$F47)","v":true},{"$f":"Find_Month(FM$35,FM$36,$F47)","v":true},{"$f":"Find_Month(FN$35,FN$36,$F47)","v":true},{"$f":"Find_Month(FO$35,FO$36,$F47)","v":true},{"$f":"Find_Month(FP$35,FP$36,$F47)","v":true},{"$f":"Find_Month(FQ$35,FQ$36,$F47)","v":true},{"$f":"Find_Month(FR$35,FR$36,$F47)","v":true},{"$f":"Find_Month(FS$35,FS$36,$F47)","v":true},{"$f":"Find_Month(FT$35,FT$36,$F47)","v":true},{"$f":"Find_Month(FU$35,FU$36,$F47)","v":true},{"$f":"Find_Month(FV$35,FV$36,$F47)","v":true},{"$f":"Find_Month(FW$35,FW$36,$F47)","v":true},{"$f":"Find_Month(FX$35,FX$36,$F47)","v":true},{"$f":"Find_Month(FY$35,FY$36,$F47)","v":true},{"$f":"Find_Month(FZ$35,FZ$36,$F47)","v":true},{"$f":"Find_Month(GA$35,GA$36,$F47)","v":true},{"$f":"Find_Month(GB$35,GB$36,$F47)","v":true},{"$f":"Find_Month(GC$35,GC$36,$F47)","v":true},{"$f":"Find_Month(GD$35,GD$36,$F47)","v":true},{"$f":"Find_Month(GE$35,GE$36,$F47)","v":true},{"$f":"Find_Month(GF$35,GF$36,$F47)","v":true},{"$f":"Find_Month(GG$35,GG$36,$F47)","v":true},{"$f":"Find_Month(GH$35,GH$36,$F47)","v":true},{"$f":"Find_Month(GI$35,GI$36,$F47)","v":true},{"$f":"Find_Month(GJ$35,GJ$36,$F47)","v":true},{"$f":"Find_Month(GK$35,GK$36,$F47)","v":true},{"$f":"Find_Month(GL$35,GL$36,$F47)","v":true},{"$f":"Find_Month(GM$35,GM$36,$F47)","v":true},{"$f":"Find_Month(GN$35,GN$36,$F47)","v":true},{"$f":"Find_Month(GO$35,GO$36,$F47)","v":true},{"$f":"Find_Month(GP$35,GP$36,$F47)","v":true},{"$f":"Find_Month(GQ$35,GQ$36,$F47)","v":true},{"$f":"Find_Month(GR$35,GR$36,$F47)","v":true},{"$f":"Find_Month(GS$35,GS$36,$F47)","v":true},{"$f":"Find_Month(GT$35,GT$36,$F47)","v":true},{"$f":"Find_Month(GU$35,GU$36,$F47)","v":true},{"$f":"Find_Month(GV$35,GV$36,$F47)","v":true},{"$f":"Find_Month(GW$35,GW$36,$F47)","v":true},{"$f":"Find_Month(GX$35,GX$36,$F47)","v":true},{"$f":"Find_Month(GY$35,GY$36,$F47)","v":true},{"$f":"Find_Month(GZ$35,GZ$36,$F47)","v":true},{"$f":"Find_Month(HA$35,HA$36,$F47)","v":true},{"$f":"Find_Month(HB$35,HB$36,$F47)","v":true},{"$f":"Find_Month(HC$35,HC$36,$F47)","v":true},{"$f":"Find_Month(HD$35,HD$36,$F47)","v":true},{"$f":"Find_Month(HE$35,HE$36,$F47)","v":true},{"$f":"Find_Month(HF$35,HF$36,$F47)","v":true},{"$f":"Find_Month(HG$35,HG$36,$F47)","v":true},{"$f":"Find_Month(HH$35,HH$36,$F47)","v":true},{"$f":"Find_Month(HI$35,HI$36,$F47)","v":true},{"$f":"Find_Month(HJ$35,HJ$36,$F47)","v":true},{"$f":"Find_Month(HK$35,HK$36,$F47)","v":true},{"$f":"Find_Month(HL$35,HL$36,$F47)","v":true},{"$f":"Find_Month(HM$35,HM$36,$F47)","v":true},{"$f":"Find_Month(HN$35,HN$36,$F47)","v":true},{"$f":"Find_Month(HO$35,HO$36,$F47)","v":true},{"$f":"Find_Month(HP$35,HP$36,$F47)","v":true},{"$f":"Find_Month(HQ$35,HQ$36,$F47)","v":true},{"$f":"Find_Month(HR$35,HR$36,$F47)","v":true},{"$f":"Find_Month(HS$35,HS$36,$F47)","v":true},{"$f":"Find_Month(HT$35,HT$36,$F47)","v":true},{"$f":"Find_Month(HU$35,HU$36,$F47)","v":true},{"$f":"Find_Month(HV$35,HV$36,$F47)","v":true},{"$f":"Find_Month(HW$35,HW$36,$F47)","v":true},{"$f":"Find_Month(HX$35,HX$36,$F47)","v":true},{"$f":"Find_Month(HY$35,HY$36,$F47)","v":true},{"$f":"Find_Month(HZ$35,HZ$36,$F47)","v":true},{"$f":"Find_Month(IA$35,IA$36,$F47)","v":true},{"$f":"Find_Month(IB$35,IB$36,$F47)","v":true},{"$f":"Find_Month(IC$35,IC$36,$F47)","v":true},{"$f":"Find_Month(ID$35,ID$36,$F47)","v":true},{"$f":"Find_Month(IE$35,IE$36,$F47)","v":true},{"$f":"Find_Month(IF$35,IF$36,$F47)","v":true},{"$f":"Find_Month(IG$35,IG$36,$F47)","v":true},{"$f":"Find_Month(IH$35,IH$36,$F47)","v":true},{"$f":"Find_Month(II$35,II$36,$F47)","v":true},{"$f":"Find_Month(IJ$35,IJ$36,$F47)","v":true},{"$f":"Find_Month(IK$35,IK$36,$F47)","v":true},{"$f":"Find_Month(IL$35,IL$36,$F47)","v":true},{"$f":"Find_Month(IM$35,IM$36,$F47)","v":true},{"$f":"Find_Month(IN$35,IN$36,$F47)","v":true},{"$f":"Find_Month(IO$35,IO$36,$F47)","v":true},{"$f":"Find_Month(IP$35,IP$36,$F47)","v":true},{"$f":"Find_Month(IQ$35,IQ$36,$F47)","v":true},{"$f":"Find_Month(IR$35,IR$36,$F47)","v":true},{"$f":"Find_Month(IS$35,IS$36,$F47)","v":true},{"$f":"Find_Month(IT$35,IT$36,$F47)","v":true},{"$f":"Find_Month(IU$35,IU$36,$F47)","v":true},{"$f":"Find_Month(IV$35,IV$36,$F47)","v":true},{"$f":"Find_Month(IW$35,IW$36,$F47)","v":true},{"$f":"Find_Month(IX$35,IX$36,$F47)","v":true},{"$f":"Find_Month(IY$35,IY$36,$F47)","v":true},{"$f":"Find_Month(IZ$35,IZ$36,$F47)","v":true},{"$f":"Find_Month(JA$35,JA$36,$F47)","v":true},{"$f":"Find_Month(JB$35,JB$36,$F47)","v":true},{"$f":"Find_Month(JC$35,JC$36,$F47)","v":true},{"$f":"Find_Month(JD$35,JD$36,$F47)","v":true},{"$f":"Find_Month(JE$35,JE$36,$F47)","v":true},{"$f":"Find_Month(JF$35,JF$36,$F47)","v":true},{"$f":"Find_Month(JG$35,JG$36,$F47)","v":true},{"$f":"Find_Month(JH$35,JH$36,$F47)","v":true},{"$f":"Find_Month(JI$35,JI$36,$F47)","v":true},{"$f":"Find_Month(JJ$35,JJ$36,$F47)","v":true},{"$f":"Find_Month(JK$35,JK$36,$F47)","v":true},{"$f":"Find_Month(JL$35,JL$36,$F47)","v":true},{"$f":"Find_Month(JM$35,JM$36,$F47)","v":true},{"$f":"Find_Month(JN$35,JN$36,$F47)","v":true},{"$f":"Find_Month(JO$35,JO$36,$F47)","v":true},{"$f":"Find_Month(JP$35,JP$36,$F47)","v":true},{"$f":"Find_Month(JQ$35,JQ$36,$F47)","v":true},{"$f":"Find_Month(JR$35,JR$36,$F47)","v":true},{"$f":"Find_Month(JS$35,JS$36,$F47)","v":true},{"$f":"Find_Month(JT$35,JT$36,$F47)","v":true},{"$f":"Find_Month(JU$35,JU$36,$F47)","v":true},{"$f":"Find_Month(JV$35,JV$36,$F47)","v":true},{"$f":"Find_Month(JW$35,JW$36,$F47)","v":true},{"$f":"Find_Month(JX$35,JX$36,$F47)","v":true},{"$f":"Find_Month(JY$35,JY$36,$F47)","v":true},{"$f":"Find_Month(JZ$35,JZ$36,$F47)","v":true},{"$f":"Find_Month(KA$35,KA$36,$F47)","v":true},{"$f":"Find_Month(KB$35,KB$36,$F47)","v":true},{"$f":"Find_Month(KC$35,KC$36,$F47)","v":true},{"$f":"Find_Month(KD$35,KD$36,$F47)","v":true},{"$f":"Find_Month(KE$35,KE$36,$F47)","v":true},{"$f":"Find_Month(KF$35,KF$36,$F47)","v":true},{"$f":"Find_Month(KG$35,KG$36,$F47)","v":true},{"$f":"Find_Month(KH$35,KH$36,$F47)","v":true},{"$f":"Find_Month(KI$35,KI$36,$F47)","v":true},{"$f":"Find_Month(KJ$35,KJ$36,$F47)","v":true},{"$f":"Find_Month(KK$35,KK$36,$F47)","v":true},{"$f":"Find_Month(KL$35,KL$36,$F47)","v":true},{"$f":"Find_Month(KM$35,KM$36,$F47)","v":true},{"$f":"Find_Month(KN$35,KN$36,$F47)","v":true},{"$f":"Find_Month(KO$35,KO$36,$F47)","v":true},{"$f":"Find_Month(KP$35,KP$36,$F47)","v":true},{"$f":"Find_Month(KQ$35,KQ$36,$F47)","v":true},{"$f":"Find_Month(KR$35,KR$36,$F47)","v":true},{"$f":"Find_Month(KS$35,KS$36,$F47)","v":true},{"$f":"Find_Month(KT$35,KT$36,$F47)","v":true},{"$f":"Find_Month(KU$35,KU$36,$F47)","v":true},{"$f":"Find_Month(KV$35,KV$36,$F47)","v":true},{"$f":"Find_Month(KW$35,KW$36,$F47)","v":true},{"$f":"Find_Month(KX$35,KX$36,$F47)","v":true},{"$f":"Find_Month(KY$35,KY$36,$F47)","v":true},{"$f":"Find_Month(KZ$35,KZ$36,$F47)","v":true},{"$f":"Find_Month(LA$35,LA$36,$F47)","v":true},{"$f":"Find_Month(LB$35,LB$36,$F47)","v":true},{"$f":"Find_Month(LC$35,LC$36,$F47)","v":true},{"$f":"Find_Month(LD$35,LD$36,$F47)","v":true},{"$f":"Find_Month(LE$35,LE$36,$F47)","v":true},{"$f":"Find_Month(LF$35,LF$36,$F47)","v":true},{"$f":"Find_Month(LG$35,LG$36,$F47)","v":true},{"$f":"Find_Month(LH$35,LH$36,$F47)","v":true},{"$f":"Find_Month(LI$35,LI$36,$F47)","v":true},{"$f":"Find_Month(LJ$35,LJ$36,$F47)","v":true},{"$f":"Find_Month(LK$35,LK$36,$F47)","v":true},{"$f":"Find_Month(LL$35,LL$36,$F47)","v":true},{"$f":"Find_Month(LM$35,LM$36,$F47)","v":true},{"$f":"Find_Month(LN$35,LN$36,$F47)","v":true},{"$f":"Find_Month(LO$35,LO$36,$F47)","v":true},{"$f":"Find_Month(LP$35,LP$36,$F47)","v":true},{"$f":"Find_Month(LQ$35,LQ$36,$F47)","v":true},{"$f":"Find_Month(LR$35,LR$36,$F47)","v":true},{"$f":"Find_Month(LS$35,LS$36,$F47)","v":true},{"$f":"Find_Month(LT$35,LT$36,$F47)","v":true},{"$f":"Find_Month(LU$35,LU$36,$F47)","v":true},{"$f":"Find_Month(LV$35,LV$36,$F47)","v":true},{"$f":"Find_Month(LW$35,LW$36,$F47)","v":true},{"$f":"Find_Month(LX$35,LX$36,$F47)","v":true},{"$f":"Find_Month(LY$35,LY$36,$F47)","v":true},{"$f":"Find_Month(LZ$35,LZ$36,$F47)","v":true},{"$f":"Find_Month(MA$35,MA$36,$F47)","v":true},{"$f":"Find_Month(MB$35,MB$36,$F47)","v":true},{"$f":"Find_Month(MC$35,MC$36,$F47)","v":true},{"$f":"Find_Month(MD$35,MD$36,$F47)","v":true},{"$f":"Find_Month(ME$35,ME$36,$F47)","v":true},{"$f":"Find_Month(MF$35,MF$36,$F47)","v":true},{"$f":"Find_Month(MG$35,MG$36,$F47)","v":true},{"$f":"Find_Month(MH$35,MH$36,$F47)","v":true},{"$f":"Find_Month(MI$35,MI$36,$F47)","v":true},{"$f":"Find_Month(MJ$35,MJ$36,$F47)","v":true},{"$f":"Find_Month(MK$35,MK$36,$F47)","v":true},{"$f":"Find_Month(ML$35,ML$36,$F47)","v":true},{"$f":"Find_Month(MM$35,MM$36,$F47)","v":true},{"$f":"Find_Month(MN$35,MN$36,$F47)","v":true},{"$f":"Find_Month(MO$35,MO$36,$F47)","v":true},{"$f":"Find_Month(MP$35,MP$36,$F47)","v":true},{"$f":"Find_Month(MQ$35,MQ$36,$F47)","v":true},{"$f":"Find_Month(MR$35,MR$36,$F47)","v":true},{"$f":"Find_Month(MS$35,MS$36,$F47)","v":true},{"$f":"Find_Month(MT$35,MT$36,$F47)","v":true},{"$f":"Find_Month(MU$35,MU$36,$F47)","v":true},{"$f":"Find_Month(MV$35,MV$36,$F47)","v":true},{"$f":"Find_Month(MW$35,MW$36,$F47)","v":true},{"$f":"Find_Month(MX$35,MX$36,$F47)","v":true},{"$f":"Find_Month(MY$35,MY$36,$F47)","v":true},{"$f":"Find_Month(MZ$35,MZ$36,$F47)","v":true},{"$f":"Find_Month(NA$35,NA$36,$F47)","v":true},{"$f":"Find_Month(NB$35,NB$36,$F47)","v":true},{"$f":"Find_Month(NC$35,NC$36,$F47)","v":true},{"$f":"Find_Month(ND$35,ND$36,$F47)","v":true},{"$f":"Find_Month(NE$35,NE$36,$F47)","v":true},{"$f":"Find_Month(NF$35,NF$36,$F47)","v":true},{"$f":"Find_Month(NG$35,NG$36,$F47)","v":true},{"$f":"Find_Month(NH$35,NH$36,$F47)","v":true},{"$f":"Find_Month(NI$35,NI$36,$F47)","v":true},{"$f":"Find_Month(NJ$35,NJ$36,$F47)","v":true},{"$f":"Find_Month(NK$35,NK$36,$F47)","v":true},{"$f":"Find_Month(NL$35,NL$36,$F47)","v":true},{"$f":"Find_Month(NM$35,NM$36,$F47)","v":true},{"$f":"Find_Month(NN$35,NN$36,$F47)","v":true},{"$f":"Find_Month(NO$35,NO$36,$F47)","v":true},{"$f":"Find_Month(NP$35,NP$36,$F47)","v":true},{"$f":"Find_Month(NQ$35,NQ$36,$F47)","v":true},{"$f":"Find_Month(NR$35,NR$36,$F47)","v":true},{"$f":"Find_Month(NS$35,NS$36,$F47)","v":true},{"$f":"Find_Month(NT$35,NT$36,$F47)","v":true},{"$f":"Find_Month(NU$35,NU$36,$F47)","v":true},{"$f":"Find_Month(NV$35,NV$36,$F47)","v":true},{"$f":"Find_Month(NW$35,NW$36,$F47)","v":true},{"$f":"Find_Month(NX$35,NX$36,$F47)","v":true},{"$f":"Find_Month(NY$35,NY$36,$F47)","v":true},{"$f":"Find_Month(NZ$35,NZ$36,$F47)","v":true},{"$f":"Find_Month(OA$35,OA$36,$F47)","v":true},{"$f":"Find_Month(OB$35,OB$36,$F47)","v":true},{"$f":"Find_Month(OC$35,OC$36,$F47)","v":true},{"$f":"Find_Month(OD$35,OD$36,$F47)","v":true},{"$f":"Find_Month(OE$35,OE$36,$F47)","v":true},{"$f":"Find_Month(OF$35,OF$36,$F47)","v":true},{"$f":"Find_Month(OG$35,OG$36,$F47)","v":true},{"$f":"Find_Month(OH$35,OH$36,$F47)","v":true},{"$f":"Find_Month(OI$35,OI$36,$F47)","v":true},{"$f":"Find_Month(OJ$35,OJ$36,$F47)","v":true},{"$f":"Find_Month(OK$35,OK$36,$F47)","v":true},{"$f":"Find_Month(OL$35,OL$36,$F47)","v":true},{"$f":"Find_Month(OM$35,OM$36,$F47)","v":true},{"$f":"Find_Month(ON$35,ON$36,$F47)","v":true},{"$f":"Find_Month(OO$35,OO$36,$F47)","v":true},{"$f":"Find_Month(OP$35,OP$36,$F47)","v":true},{"$f":"Find_Month(OQ$35,OQ$36,$F47)","v":true},{"$f":"Find_Month(OR$35,OR$36,$F47)","v":true},{"$f":"Find_Month(OS$35,OS$36,$F47)","v":true},{"$f":"Find_Month(OT$35,OT$36,$F47)","v":true},{"$f":"Find_Month(OU$35,OU$36,$F47)","v":true},{"$f":"Find_Month(OV$35,OV$36,$F47)","v":true},{"$f":"Find_Month(OW$35,OW$36,$F47)","v":true},{"$f":"Find_Month(OX$35,OX$36,$F47)","v":true},{"$f":"Find_Month(OY$35,OY$36,$F47)","v":true},{"$f":"Find_Month(OZ$35,OZ$36,$F47)","v":true},{"$f":"Find_Month(PA$35,PA$36,$F47)","v":true},{"$f":"Find_Month(PB$35,PB$36,$F47)","v":true},{"$f":"Find_Month(PC$35,PC$36,$F47)","v":true},{"$f":"Find_Month(PD$35,PD$36,$F47)","v":true},{"$f":"Find_Month(PE$35,PE$36,$F47)","v":true},{"$f":"Find_Month(PF$35,PF$36,$F47)","v":true},{"$f":"Find_Month(PG$35,PG$36,$F47)","v":true},{"$f":"Find_Month(PH$35,PH$36,$F47)","v":true},{"$f":"Find_Month(PI$35,PI$36,$F47)","v":true},{"$f":"Find_Month(PJ$35,PJ$36,$F47)","v":true},{"$f":"Find_Month(PK$35,PK$36,$F47)","v":true},{"$f":"Find_Month(PL$35,PL$36,$F47)","v":true},{"$f":"Find_Month(PM$35,PM$36,$F47)","v":true},{"$f":"Find_Month(PN$35,PN$36,$F47)","v":true},{"$f":"Find_Month(PO$35,PO$36,$F47)","v":true},{"$f":"Find_Month(PP$35,PP$36,$F47)","v":true},{"$f":"Find_Month(PQ$35,PQ$36,$F47)","v":true},{"$f":"Find_Month(PR$35,PR$36,$F47)","v":true},{"$f":"Find_Month(PS$35,PS$36,$F47)","v":true},{"$f":"Find_Month(PT$35,PT$36,$F47)","v":true},{"$f":"Find_Month(PU$35,PU$36,$F47)","v":true},{"$f":"Find_Month(PV$35,PV$36,$F47)","v":true},{"$f":"Find_Month(PW$35,PW$36,$F47)","v":true},{"$f":"Find_Month(PX$35,PX$36,$F47)","v":true},{"$f":"Find_Month(PY$35,PY$36,$F47)","v":true},{"$f":"Find_Month(PZ$35,PZ$36,$F47)","v":true},{"$f":"Find_Month(QA$35,QA$36,$F47)","v":true},{"$f":"Find_Month(QB$35,QB$36,$F47)","v":true},{"$f":"Find_Month(QC$35,QC$36,$F47)","v":true},{"$f":"Find_Month(QD$35,QD$36,$F47)","v":true},{"$f":"Find_Month(QE$35,QE$36,$F47)","v":true},{"$f":"Find_Month(QF$35,QF$36,$F47)","v":true},{"$f":"Find_Month(QG$35,QG$36,$F47)","v":true},{"$f":"Find_Month(QH$35,QH$36,$F47)","v":true},{"$f":"Find_Month(QI$35,QI$36,$F47)","v":true},{"$f":"Find_Month(QJ$35,QJ$36,$F47)","v":true},{"$f":"Find_Month(QK$35,QK$36,$F47)","v":true},{"$f":"Find_Month(QL$35,QL$36,$F47)","v":true},{"$f":"Find_Month(QM$35,QM$36,$F47)","v":true},{"$f":"Find_Month(QN$35,QN$36,$F47)","v":true},{"$f":"Find_Month(QO$35,QO$36,$F47)","v":true},{"$f":"Find_Month(QP$35,QP$36,$F47)","v":true},{"$f":"Find_Month(QQ$35,QQ$36,$F47)","v":true},{"$f":"Find_Month(QR$35,QR$36,$F47)","v":true},{"$f":"Find_Month(QS$35,QS$36,$F47)","v":true},{"$f":"Find_Month(QT$35,QT$36,$F47)","v":true},{"$f":"Find_Month(QU$35,QU$36,$F47)","v":true},{"$f":"Find_Month(QV$35,QV$36,$F47)","v":true},{"$f":"Find_Month(QW$35,QW$36,$F47)","v":true},{"$f":"Find_Month(QX$35,QX$36,$F47)","v":true},{"$f":"Find_Month(QY$35,QY$36,$F47)","v":true},{"$f":"Find_Month(QZ$35,QZ$36,$F47)","v":true},{"$f":"Find_Month(RA$35,RA$36,$F47)","v":true},{"$f":"Find_Month(RB$35,RB$36,$F47)","v":true},{"$f":"Find_Month(RC$35,RC$36,$F47)","v":true},{"$f":"Find_Month(RD$35,RD$36,$F47)","v":true},{"$f":"Find_Month(RE$35,RE$36,$F47)","v":true},{"$f":"Find_Month(RF$35,RF$36,$F47)","v":true},{"$f":"Find_Month(RG$35,RG$36,$F47)","v":true},{"$f":"Find_Month(RH$35,RH$36,$F47)","v":true},{"$f":"Find_Month(RI$35,RI$36,$F47)","v":true},{"$f":"Find_Month(RJ$35,RJ$36,$F47)","v":true},{"$f":"Find_Month(RK$35,RK$36,$F47)","v":true},{"$f":"Find_Month(RL$35,RL$36,$F47)","v":true},{"$f":"Find_Month(RM$35,RM$36,$F47)","v":true},{"$f":"Find_Month(RN$35,RN$36,$F47)","v":true},{"$f":"Find_Month(RO$35,RO$36,$F47)","v":true},{"$f":"Find_Month(RP$35,RP$36,$F47)","v":true},{"$f":"Find_Month(RQ$35,RQ$36,$F47)","v":true},{"$f":"Find_Month(RR$35,RR$36,$F47)","v":true},{"$f":"Find_Month(RS$35,RS$36,$F47)","v":true},{"$f":"Find_Month(RT$35,RT$36,$F47)","v":true},{"$f":"Find_Month(RU$35,RU$36,$F47)","v":true},{"$f":"Find_Month(RV$35,RV$36,$F47)","v":true},{"$f":"Find_Month(RW$35,RW$36,$F47)","v":true},{"$f":"Find_Month(RX$35,RX$36,$F47)","v":true},{"$f":"Find_Month(RY$35,RY$36,$F47)","v":true},{"$f":"Find_Month(RZ$35,RZ$36,$F47)","v":true},{"$f":"Find_Month(SA$35,SA$36,$F47)","v":true},{"$f":"Find_Month(SB$35,SB$36,$F47)","v":true},{"$f":"Find_Month(SC$35,SC$36,$F47)","v":false},{"$f":"Find_Month(SD$35,SD$36,$F47)","v":false},{"$f":"Find_Month(SE$35,SE$36,$F47)","v":false},{"$f":"Find_Month(SF$35,SF$36,$F47)","v":false},{"$f":"Find_Month(SG$35,SG$36,$F47)","v":false},{"$f":"Find_Month(SH$35,SH$36,$F47)","v":false},{"$f":"Find_Month(SI$35,SI$36,$F47)","v":false},{"$f":"Find_Month(SJ$35,SJ$36,$F47)","v":false},{"$f":"Find_Month(SK$35,SK$36,$F47)","v":false},{"$f":"Find_Month(SL$35,SL$36,$F47)","v":false},{"$f":"Find_Month(SM$35,SM$36,$F47)","v":false},{"$f":"Find_Month(SN$35,SN$36,$F47)","v":false},{"$f":"Find_Month(SO$35,SO$36,$F47)","v":false},{"$f":"Find_Month(SP$35,SP$36,$F47)","v":false},{"$f":"Find_Month(SQ$35,SQ$36,$F47)","v":false},{"$f":"Find_Month(SR$35,SR$36,$F47)","v":false},{"$f":"Find_Month(SS$35,SS$36,$F47)","v":false},{"$f":"Find_Month(ST$35,ST$36,$F47)","v":false},{"$f":"Find_Month(SU$35,SU$36,$F47)","v":false},{"$f":"Find_Month(SV$35,SV$36,$F47)","v":false},{"$f":"Find_Month(SW$35,SW$36,$F47)","v":false},{"$f":"Find_Month(SX$35,SX$36,$F47)","v":false},{"$f":"Find_Month(SY$35,SY$36,$F47)","v":false},{"$f":"Find_Month(SZ$35,SZ$36,$F47)","v":false},{"$f":"Find_Month(TA$35,TA$36,$F47)","v":false},{"$f":"Find_Month(TB$35,TB$36,$F47)","v":false},{"$f":"Find_Month(TC$35,TC$36,$F47)","v":false},{"$f":"Find_Month(TD$35,TD$36,$F47)","v":false},{"$f":"Find_Month(TE$35,TE$36,$F47)","v":false},{"$f":"Find_Month(TF$35,TF$36,$F47)","v":false},{"$f":"Find_Month(TG$35,TG$36,$F47)","v":false},{"$f":"Find_Month(TH$35,TH$36,$F47)","v":false},{"$f":"Find_Month(TI$35,TI$36,$F47)","v":false},{"$f":"Find_Month(TJ$35,TJ$36,$F47)","v":false},{"$f":"Find_Month(TK$35,TK$36,$F47)","v":false},{"$f":"Find_Month(TL$35,TL$36,$F47)","v":false},{"$f":"Find_Month(TM$35,TM$36,$F47)","v":false},{"$f":"Find_Month(TN$35,TN$36,$F47)","v":false},{"$f":"Find_Month(TO$35,TO$36,$F47)","v":false},{"$f":"Find_Month(TP$35,TP$36,$F47)","v":false},{"$f":"Find_Month(TQ$35,TQ$36,$F47)","v":false},{"$f":"Find_Month(TR$35,TR$36,$F47)","v":false},{"$f":"Find_Month(TS$35,TS$36,$F47)","v":false},{"$f":"Find_Month(TT$35,TT$36,$F47)","v":false},{"$f":"Find_Month(TU$35,TU$36,$F47)","v":false},{"$f":"Find_Month(TV$35,TV$36,$F47)","v":false},{"$f":"Find_Month(TW$35,TW$36,$F47)","v":false},{"$f":"Find_Month(TX$35,TX$36,$F47)","v":false},{"$f":"Find_Month(TY$35,TY$36,$F47)","v":false}]
[null,null,null,null,null,10,282.6408786078091,8.8180263120011884E-2,null,{"$f":"Find_Month(J$35,J$36,$F48)","v":true},{"$f":"Find_Month(K$35,K$36,$F48)","v":true},{"$f":"Find_Month(L$35,L$36,$F48)","v":true},{"$f":"Find_Month(M$35,M$36,$F48)","v":true},{"$f":"Find_Month(N$35,N$36,$F48)","v":true},{"$f":"Find_Month(O$35,O$36,$F48)","v":true},{"$f":"Find_Month(P$35,P$36,$F48)","v":true},{"$f":"Find_Month(Q$35,Q$36,$F48)","v":true},{"$f":"Find_Month(R$35,R$36,$F48)","v":true},{"$f":"Find_Month(S$35,S$36,$F48)","v":true},{"$f":"Find_Month(T$35,T$36,$F48)","v":true},{"$f":"Find_Month(U$35,U$36,$F48)","v":true},{"$f":"Find_Month(V$35,V$36,$F48)","v":true},{"$f":"Find_Month(W$35,W$36,$F48)","v":true},{"$f":"Find_Month(X$35,X$36,$F48)","v":true},{"$f":"Find_Month(Y$35,Y$36,$F48)","v":true},{"$f":"Find_Month(Z$35,Z$36,$F48)","v":true},{"$f":"Find_Month(AA$35,AA$36,$F48)","v":true},{"$f":"Find_Month(AB$35,AB$36,$F48)","v":true},{"$f":"Find_Month(AC$35,AC$36,$F48)","v":true},{"$f":"Find_Month(AD$35,AD$36,$F48)","v":true},{"$f":"Find_Month(AE$35,AE$36,$F48)","v":true},{"$f":"Find_Month(AF$35,AF$36,$F48)","v":true},{"$f":"Find_Month(AG$35,AG$36,$F48)","v":true},{"$f":"Find_Month(AH$35,AH$36,$F48)","v":true},{"$f":"Find_Month(AI$35,AI$36,$F48)","v":true},{"$f":"Find_Month(AJ$35,AJ$36,$F48)","v":true},{"$f":"Find_Month(AK$35,AK$36,$F48)","v":true},{"$f":"Find_Month(AL$35,AL$36,$F48)","v":true},{"$f":"Find_Month(AM$35,AM$36,$F48)","v":true},{"$f":"Find_Month(AN$35,AN$36,$F48)","v":true},{"$f":"Find_Month(AO$35,AO$36,$F48)","v":true},{"$f":"Find_Month(AP$35,AP$36,$F48)","v":true},{"$f":"Find_Month(AQ$35,AQ$36,$F48)","v":true},{"$f":"Find_Month(AR$35,AR$36,$F48)","v":true},{"$f":"Find_Month(AS$35,AS$36,$F48)","v":true},{"$f":"Find_Month(AT$35,AT$36,$F48)","v":true},{"$f":"Find_Month(AU$35,AU$36,$F48)","v":true},{"$f":"Find_Month(AV$35,AV$36,$F48)","v":true},{"$f":"Find_Month(AW$35,AW$36,$F48)","v":true},{"$f":"Find_Month(AX$35,AX$36,$F48)","v":true},{"$f":"Find_Month(AY$35,AY$36,$F48)","v":true},{"$f":"Find_Month(AZ$35,AZ$36,$F48)","v":true},{"$f":"Find_Month(BA$35,BA$36,$F48)","v":true},{"$f":"Find_Month(BB$35,BB$36,$F48)","v":true},{"$f":"Find_Month(BC$35,BC$36,$F48)","v":true},{"$f":"Find_Month(BD$35,BD$36,$F48)","v":true},{"$f":"Find_Month(BE$35,BE$36,$F48)","v":true},{"$f":"Find_Month(BF$35,BF$36,$F48)","v":true},{"$f":"Find_Month(BG$35,BG$36,$F48)","v":true},{"$f":"Find_Month(BH$35,BH$36,$F48)","v":true},{"$f":"Find_Month(BI$35,BI$36,$F48)","v":true},{"$f":"Find_Month(BJ$35,BJ$36,$F48)","v":true},{"$f":"Find_Month(BK$35,BK$36,$F48)","v":true},{"$f":"Find_Month(BL$35,BL$36,$F48)","v":true},{"$f":"Find_Month(BM$35,BM$36,$F48)","v":true},{"$f":"Find_Month(BN$35,BN$36,$F48)","v":true},{"$f":"Find_Month(BO$35,BO$36,$F48)","v":true},{"$f":"Find_Month(BP$35,BP$36,$F48)","v":true},{"$f":"Find_Month(BQ$35,BQ$36,$F48)","v":true},{"$f":"Find_Month(BR$35,BR$36,$F48)","v":true},{"$f":"Find_Month(BS$35,BS$36,$F48)","v":true},{"$f":"Find_Month(BT$35,BT$36,$F48)","v":true},{"$f":"Find_Month(BU$35,BU$36,$F48)","v":true},{"$f":"Find_Month(BV$35,BV$36,$F48)","v":true},{"$f":"Find_Month(BW$35,BW$36,$F48)","v":true},{"$f":"Find_Month(BX$35,BX$36,$F48)","v":true},{"$f":"Find_Month(BY$35,BY$36,$F48)","v":true},{"$f":"Find_Month(BZ$35,BZ$36,$F48)","v":true},{"$f":"Find_Month(CA$35,CA$36,$F48)","v":true},{"$f":"Find_Month(CB$35,CB$36,$F48)","v":true},{"$f":"Find_Month(CC$35,CC$36,$F48)","v":true},{"$f":"Find_Month(CD$35,CD$36,$F48)","v":true},{"$f":"Find_Month(CE$35,CE$36,$F48)","v":true},{"$f":"Find_Month(CF$35,CF$36,$F48)","v":true},{"$f":"Find_Month(CG$35,CG$36,$F48)","v":true},{"$f":"Find_Month(CH$35,CH$36,$F48)","v":true},{"$f":"Find_Month(CI$35,CI$36,$F48)","v":true},{"$f":"Find_Month(CJ$35,CJ$36,$F48)","v":true},{"$f":"Find_Month(CK$35,CK$36,$F48)","v":true},{"$f":"Find_Month(CL$35,CL$36,$F48)","v":true},{"$f":"Find_Month(CM$35,CM$36,$F48)","v":true},{"$f":"Find_Month(CN$35,CN$36,$F48)","v":true},{"$f":"Find_Month(CO$35,CO$36,$F48)","v":true},{"$f":"Find_Month(CP$35,CP$36,$F48)","v":true},{"$f":"Find_Month(CQ$35,CQ$36,$F48)","v":true},{"$f":"Find_Month(CR$35,CR$36,$F48)","v":true},{"$f":"Find_Month(CS$35,CS$36,$F48)","v":true},{"$f":"Find_Month(CT$35,CT$36,$F48)","v":true},{"$f":"Find_Month(CU$35,CU$36,$F48)","v":true},{"$f":"Find_Month(CV$35,CV$36,$F48)","v":true},{"$f":"Find_Month(CW$35,CW$36,$F48)","v":true},{"$f":"Find_Month(CX$35,CX$36,$F48)","v":true},{"$f":"Find_Month(CY$35,CY$36,$F48)","v":true},{"$f":"Find_Month(CZ$35,CZ$36,$F48)","v":true},{"$f":"Find_Month(DA$35,DA$36,$F48)","v":true},{"$f":"Find_Month(DB$35,DB$36,$F48)","v":true},{"$f":"Find_Month(DC$35,DC$36,$F48)","v":true},{"$f":"Find_Month(DD$35,DD$36,$F48)","v":true},{"$f":"Find_Month(DE$35,DE$36,$F48)","v":true},{"$f":"Find_Month(DF$35,DF$36,$F48)","v":true},{"$f":"Find_Month(DG$35,DG$36,$F48)","v":true},{"$f":"Find_Month(DH$35,DH$36,$F48)","v":true},{"$f":"Find_Month(DI$35,DI$36,$F48)","v":true},{"$f":"Find_Month(DJ$35,DJ$36,$F48)","v":true},{"$f":"Find_Month(DK$35,DK$36,$F48)","v":true},{"$f":"Find_Month(DL$35,DL$36,$F48)","v":true},{"$f":"Find_Month(DM$35,DM$36,$F48)","v":true},{"$f":"Find_Month(DN$35,DN$36,$F48)","v":true},{"$f":"Find_Month(DO$35,DO$36,$F48)","v":true},{"$f":"Find_Month(DP$35,DP$36,$F48)","v":true},{"$f":"Find_Month(DQ$35,DQ$36,$F48)","v":true},{"$f":"Find_Month(DR$35,DR$36,$F48)","v":true},{"$f":"Find_Month(DS$35,DS$36,$F48)","v":true},{"$f":"Find_Month(DT$35,DT$36,$F48)","v":true},{"$f":"Find_Month(DU$35,DU$36,$F48)","v":true},{"$f":"Find_Month(DV$35,DV$36,$F48)","v":true},{"$f":"Find_Month(DW$35,DW$36,$F48)","v":true},{"$f":"Find_Month(DX$35,DX$36,$F48)","v":true},{"$f":"Find_Month(DY$35,DY$36,$F48)","v":true},{"$f":"Find_Month(DZ$35,DZ$36,$F48)","v":true},{"$f":"Find_Month(EA$35,EA$36,$F48)","v":true},{"$f":"Find_Month(EB$35,EB$36,$F48)","v":true},{"$f":"Find_Month(EC$35,EC$36,$F48)","v":true},{"$f":"Find_Month(ED$35,ED$36,$F48)","v":true},{"$f":"Find_Month(EE$35,EE$36,$F48)","v":true},{"$f":"Find_Month(EF$35,EF$36,$F48)","v":true},{"$f":"Find_Month(EG$35,EG$36,$F48)","v":true},{"$f":"Find_Month(EH$35,EH$36,$F48)","v":true},{"$f":"Find_Month(EI$35,EI$36,$F48)","v":true},{"$f":"Find_Month(EJ$35,EJ$36,$F48)","v":true},{"$f":"Find_Month(EK$35,EK$36,$F48)","v":true},{"$f":"Find_Month(EL$35,EL$36,$F48)","v":true},{"$f":"Find_Month(EM$35,EM$36,$F48)","v":true},{"$f":"Find_Month(EN$35,EN$36,$F48)","v":true},{"$f":"Find_Month(EO$35,EO$36,$F48)","v":true},{"$f":"Find_Month(EP$35,EP$36,$F48)","v":true},{"$f":"Find_Month(EQ$35,EQ$36,$F48)","v":true},{"$f":"Find_Month(ER$35,ER$36,$F48)","v":true},{"$f":"Find_Month(ES$35,ES$36,$F48)","v":true},{"$f":"Find_Month(ET$35,ET$36,$F48)","v":true},{"$f":"Find_Month(EU$35,EU$36,$F48)","v":true},{"$f":"Find_Month(EV$35,EV$36,$F48)","v":true},{"$f":"Find_Month(EW$35,EW$36,$F48)","v":true},{"$f":"Find_Month(EX$35,EX$36,$F48)","v":true},{"$f":"Find_Month(EY$35,EY$36,$F48)","v":true},{"$f":"Find_Month(EZ$35,EZ$36,$F48)","v":true},{"$f":"Find_Month(FA$35,FA$36,$F48)","v":true},{"$f":"Find_Month(FB$35,FB$36,$F48)","v":true},{"$f":"Find_Month(FC$35,FC$36,$F48)","v":true},{"$f":"Find_Month(FD$35,FD$36,$F48)","v":true},{"$f":"Find_Month(FE$35,FE$36,$F48)","v":true},{"$f":"Find_Month(FF$35,FF$36,$F48)","v":true},{"$f":"Find_Month(FG$35,FG$36,$F48)","v":true},{"$f":"Find_Month(FH$35,FH$36,$F48)","v":true},{"$f":"Find_Month(FI$35,FI$36,$F48)","v":true},{"$f":"Find_Month(FJ$35,FJ$36,$F48)","v":true},{"$f":"Find_Month(FK$35,FK$36,$F48)","v":true},{"$f":"Find_Month(FL$35,FL$36,$F48)","v":true},{"$f":"Find_Month(FM$35,FM$36,$F48)","v":true},{"$f":"Find_Month(FN$35,FN$36,$F48)","v":true},{"$f":"Find_Month(FO$35,FO$36,$F48)","v":true},{"$f":"Find_Month(FP$35,FP$36,$F48)","v":true},{"$f":"Find_Month(FQ$35,FQ$36,$F48)","v":true},{"$f":"Find_Month(FR$35,FR$36,$F48)","v":true},{"$f":"Find_Month(FS$35,FS$36,$F48)","v":true},{"$f":"Find_Month(FT$35,FT$36,$F48)","v":true},{"$f":"Find_Month(FU$35,FU$36,$F48)","v":true},{"$f":"Find_Month(FV$35,FV$36,$F48)","v":true},{"$f":"Find_Month(FW$35,FW$36,$F48)","v":true},{"$f":"Find_Month(FX$35,FX$36,$F48)","v":true},{"$f":"Find_Month(FY$35,FY$36,$F48)","v":true},{"$f":"Find_Month(FZ$35,FZ$36,$F48)","v":true},{"$f":"Find_Month(GA$35,GA$36,$F48)","v":true},{"$f":"Find_Month(GB$35,GB$36,$F48)","v":true},{"$f":"Find_Month(GC$35,GC$36,$F48)","v":true},{"$f":"Find_Month(GD$35,GD$36,$F48)","v":true},{"$f":"Find_Month(GE$35,GE$36,$F48)","v":true},{"$f":"Find_Month(GF$35,GF$36,$F48)","v":true},{"$f":"Find_Month(GG$35,GG$36,$F48)","v":true},{"$f":"Find_Month(GH$35,GH$36,$F48)","v":true},{"$f":"Find_Month(GI$35,GI$36,$F48)","v":true},{"$f":"Find_Month(GJ$35,GJ$36,$F48)","v":true},{"$f":"Find_Month(GK$35,GK$36,$F48)","v":true},{"$f":"Find_Month(GL$35,GL$36,$F48)","v":true},{"$f":"Find_Month(GM$35,GM$36,$F48)","v":true},{"$f":"Find_Month(GN$35,GN$36,$F48)","v":true},{"$f":"Find_Month(GO$35,GO$36,$F48)","v":true},{"$f":"Find_Month(GP$35,GP$36,$F48)","v":true},{"$f":"Find_Month(GQ$35,GQ$36,$F48)","v":true},{"$f":"Find_Month(GR$35,GR$36,$F48)","v":true},{"$f":"Find_Month(GS$35,GS$36,$F48)","v":true},{"$f":"Find_Month(GT$35,GT$36,$F48)","v":true},{"$f":"Find_Month(GU$35,GU$36,$F48)","v":true},{"$f":"Find_Month(GV$35,GV$36,$F48)","v":true},{"$f":"Find_Month(GW$35,GW$36,$F48)","v":true},{"$f":"Find_Month(GX$35,GX$36,$F48)","v":true},{"$f":"Find_Month(GY$35,GY$36,$F48)","v":true},{"$f":"Find_Month(GZ$35,GZ$36,$F48)","v":true},{"$f":"Find_Month(HA$35,HA$36,$F48)","v":true},{"$f":"Find_Month(HB$35,HB$36,$F48)","v":true},{"$f":"Find_Month(HC$35,HC$36,$F48)","v":true},{"$f":"Find_Month(HD$35,HD$36,$F48)","v":true},{"$f":"Find_Month(HE$35,HE$36,$F48)","v":true},{"$f":"Find_Month(HF$35,HF$36,$F48)","v":true},{"$f":"Find_Month(HG$35,HG$36,$F48)","v":true},{"$f":"Find_Month(HH$35,HH$36,$F48)","v":true},{"$f":"Find_Month(HI$35,HI$36,$F48)","v":true},{"$f":"Find_Month(HJ$35,HJ$36,$F48)","v":true},{"$f":"Find_Month(HK$35,HK$36,$F48)","v":true},{"$f":"Find_Month(HL$35,HL$36,$F48)","v":true},{"$f":"Find_Month(HM$35,HM$36,$F48)","v":true},{"$f":"Find_Month(HN$35,HN$36,$F48)","v":true},{"$f":"Find_Month(HO$35,HO$36,$F48)","v":true},{"$f":"Find_Month(HP$35,HP$36,$F48)","v":true},{"$f":"Find_Month(HQ$35,HQ$36,$F48)","v":true},{"$f":"Find_Month(HR$35,HR$36,$F48)","v":true},{"$f":"Find_Month(HS$35,HS$36,$F48)","v":true},{"$f":"Find_Month(HT$35,HT$36,$F48)","v":true},{"$f":"Find_Month(HU$35,HU$36,$F48)","v":true},{"$f":"Find_Month(HV$35,HV$36,$F48)","v":true},{"$f":"Find_Month(HW$35,HW$36,$F48)","v":true},{"$f":"Find_Month(HX$35,HX$36,$F48)","v":true},{"$f":"Find_Month(HY$35,HY$36,$F48)","v":true},{"$f":"Find_Month(HZ$35,HZ$36,$F48)","v":true},{"$f":"Find_Month(IA$35,IA$36,$F48)","v":true},{"$f":"Find_Month(IB$35,IB$36,$F48)","v":true},{"$f":"Find_Month(IC$35,IC$36,$F48)","v":true},{"$f":"Find_Month(ID$35,ID$36,$F48)","v":true},{"$f":"Find_Month(IE$35,IE$36,$F48)","v":true},{"$f":"Find_Month(IF$35,IF$36,$F48)","v":true},{"$f":"Find_Month(IG$35,IG$36,$F48)","v":true},{"$f":"Find_Month(IH$35,IH$36,$F48)","v":true},{"$f":"Find_Month(II$35,II$36,$F48)","v":true},{"$f":"Find_Month(IJ$35,IJ$36,$F48)","v":true},{"$f":"Find_Month(IK$35,IK$36,$F48)","v":true},{"$f":"Find_Month(IL$35,IL$36,$F48)","v":true},{"$f":"Find_Month(IM$35,IM$36,$F48)","v":true},{"$f":"Find_Month(IN$35,IN$36,$F48)","v":true},{"$f":"Find_Month(IO$35,IO$36,$F48)","v":true},{"$f":"Find_Month(IP$35,IP$36,$F48)","v":true},{"$f":"Find_Month(IQ$35,IQ$36,$F48)","v":true},{"$f":"Find_Month(IR$35,IR$36,$F48)","v":true},{"$f":"Find_Month(IS$35,IS$36,$F48)","v":true},{"$f":"Find_Month(IT$35,IT$36,$F48)","v":true},{"$f":"Find_Month(IU$35,IU$36,$F48)","v":true},{"$f":"Find_Month(IV$35,IV$36,$F48)","v":true},{"$f":"Find_Month(IW$35,IW$36,$F48)","v":true},{"$f":"Find_Month(IX$35,IX$36,$F48)","v":true},{"$f":"Find_Month(IY$35,IY$36,$F48)","v":true},{"$f":"Find_Month(IZ$35,IZ$36,$F48)","v":true},{"$f":"Find_Month(JA$35,JA$36,$F48)","v":true},{"$f":"Find_Month(JB$35,JB$36,$F48)","v":true},{"$f":"Find_Month(JC$35,JC$36,$F48)","v":true},{"$f":"Find_Month(JD$35,JD$36,$F48)","v":true},{"$f":"Find_Month(JE$35,JE$36,$F48)","v":true},{"$f":"Find_Month(JF$35,JF$36,$F48)","v":true},{"$f":"Find_Month(JG$35,JG$36,$F48)","v":true},{"$f":"Find_Month(JH$35,JH$36,$F48)","v":true},{"$f":"Find_Month(JI$35,JI$36,$F48)","v":true},{"$f":"Find_Month(JJ$35,JJ$36,$F48)","v":true},{"$f":"Find_Month(JK$35,JK$36,$F48)","v":true},{"$f":"Find_Month(JL$35,JL$36,$F48)","v":true},{"$f":"Find_Month(JM$35,JM$36,$F48)","v":true},{"$f":"Find_Month(JN$35,JN$36,$F48)","v":true},{"$f":"Find_Month(JO$35,JO$36,$F48)","v":true},{"$f":"Find_Month(JP$35,JP$36,$F48)","v":true},{"$f":"Find_Month(JQ$35,JQ$36,$F48)","v":true},{"$f":"Find_Month(JR$35,JR$36,$F48)","v":true},{"$f":"Find_Month(JS$35,JS$36,$F48)","v":true},{"$f":"Find_Month(JT$35,JT$36,$F48)","v":true},{"$f":"Find_Month(JU$35,JU$36,$F48)","v":true},{"$f":"Find_Month(JV$35,JV$36,$F48)","v":true},{"$f":"Find_Month(JW$35,JW$36,$F48)","v":true},{"$f":"Find_Month(JX$35,JX$36,$F48)","v":true},{"$f":"Find_Month(JY$35,JY$36,$F48)","v":true},{"$f":"Find_Month(JZ$35,JZ$36,$F48)","v":true},{"$f":"Find_Month(KA$35,KA$36,$F48)","v":true},{"$f":"Find_Month(KB$35,KB$36,$F48)","v":true},{"$f":"Find_Month(KC$35,KC$36,$F48)","v":true},{"$f":"Find_Month(KD$35,KD$36,$F48)","v":true},{"$f":"Find_Month(KE$35,KE$36,$F48)","v":true},{"$f":"Find_Month(KF$35,KF$36,$F48)","v":true},{"$f":"Find_Month(KG$35,KG$36,$F48)","v":true},{"$f":"Find_Month(KH$35,KH$36,$F48)","v":true},{"$f":"Find_Month(KI$35,KI$36,$F48)","v":true},{"$f":"Find_Month(KJ$35,KJ$36,$F48)","v":true},{"$f":"Find_Month(KK$35,KK$36,$F48)","v":true},{"$f":"Find_Month(KL$35,KL$36,$F48)","v":true},{"$f":"Find_Month(KM$35,KM$36,$F48)","v":true},{"$f":"Find_Month(KN$35,KN$36,$F48)","v":true},{"$f":"Find_Month(KO$35,KO$36,$F48)","v":true},{"$f":"Find_Month(KP$35,KP$36,$F48)","v":true},{"$f":"Find_Month(KQ$35,KQ$36,$F48)","v":true},{"$f":"Find_Month(KR$35,KR$36,$F48)","v":true},{"$f":"Find_Month(KS$35,KS$36,$F48)","v":true},{"$f":"Find_Month(KT$35,KT$36,$F48)","v":true},{"$f":"Find_Month(KU$35,KU$36,$F48)","v":true},{"$f":"Find_Month(KV$35,KV$36,$F48)","v":true},{"$f":"Find_Month(KW$35,KW$36,$F48)","v":true},{"$f":"Find_Month(KX$35,KX$36,$F48)","v":true},{"$f":"Find_Month(KY$35,KY$36,$F48)","v":true},{"$f":"Find_Month(KZ$35,KZ$36,$F48)","v":true},{"$f":"Find_Month(LA$35,LA$36,$F48)","v":true},{"$f":"Find_Month(LB$35,LB$36,$F48)","v":true},{"$f":"Find_Month(LC$35,LC$36,$F48)","v":true},{"$f":"Find_Month(LD$35,LD$36,$F48)","v":true},{"$f":"Find_Month(LE$35,LE$36,$F48)","v":true},{"$f":"Find_Month(LF$35,LF$36,$F48)","v":true},{"$f":"Find_Month(LG$35,LG$36,$F48)","v":true},{"$f":"Find_Month(LH$35,LH$36,$F48)","v":true},{"$f":"Find_Month(LI$35,LI$36,$F48)","v":true},{"$f":"Find_Month(LJ$35,LJ$36,$F48)","v":true},{"$f":"Find_Month(LK$35,LK$36,$F48)","v":true},{"$f":"Find_Month(LL$35,LL$36,$F48)","v":true},{"$f":"Find_Month(LM$35,LM$36,$F48)","v":true},{"$f":"Find_Month(LN$35,LN$36,$F48)","v":true},{"$f":"Find_Month(LO$35,LO$36,$F48)","v":true},{"$f":"Find_Month(LP$35,LP$36,$F48)","v":true},{"$f":"Find_Month(LQ$35,LQ$36,$F48)","v":true},{"$f":"Find_Month(LR$35,LR$36,$F48)","v":true},{"$f":"Find_Month(LS$35,LS$36,$F48)","v":true},{"$f":"Find_Month(LT$35,LT$36,$F48)","v":true},{"$f":"Find_Month(LU$35,LU$36,$F48)","v":true},{"$f":"Find_Month(LV$35,LV$36,$F48)","v":true},{"$f":"Find_Month(LW$35,LW$36,$F48)","v":true},{"$f":"Find_Month(LX$35,LX$36,$F48)","v":true},{"$f":"Find_Month(LY$35,LY$36,$F48)","v":true},{"$f":"Find_Month(LZ$35,LZ$36,$F48)","v":true},{"$f":"Find_Month(MA$35,MA$36,$F48)","v":true},{"$f":"Find_Month(MB$35,MB$36,$F48)","v":true},{"$f":"Find_Month(MC$35,MC$36,$F48)","v":true},{"$f":"Find_Month(MD$35,MD$36,$F48)","v":true},{"$f":"Find_Month(ME$35,ME$36,$F48)","v":true},{"$f":"Find_Month(MF$35,MF$36,$F48)","v":true},{"$f":"Find_Month(MG$35,MG$36,$F48)","v":true},{"$f":"Find_Month(MH$35,MH$36,$F48)","v":true},{"$f":"Find_Month(MI$35,MI$36,$F48)","v":true},{"$f":"Find_Month(MJ$35,MJ$36,$F48)","v":true},{"$f":"Find_Month(MK$35,MK$36,$F48)","v":true},{"$f":"Find_Month(ML$35,ML$36,$F48)","v":true},{"$f":"Find_Month(MM$35,MM$36,$F48)","v":true},{"$f":"Find_Month(MN$35,MN$36,$F48)","v":true},{"$f":"Find_Month(MO$35,MO$36,$F48)","v":true},{"$f":"Find_Month(MP$35,MP$36,$F48)","v":true},{"$f":"Find_Month(MQ$35,MQ$36,$F48)","v":true},{"$f":"Find_Month(MR$35,MR$36,$F48)","v":true},{"$f":"Find_Month(MS$35,MS$36,$F48)","v":true},{"$f":"Find_Month(MT$35,MT$36,$F48)","v":true},{"$f":"Find_Month(MU$35,MU$36,$F48)","v":true},{"$f":"Find_Month(MV$35,MV$36,$F48)","v":true},{"$f":"Find_Month(MW$35,MW$36,$F48)","v":true},{"$f":"Find_Month(MX$35,MX$36,$F48)","v":true},{"$f":"Find_Month(MY$35,MY$36,$F48)","v":true},{"$f":"Find_Month(MZ$35,MZ$36,$F48)","v":true},{"$f":"Find_Month(NA$35,NA$36,$F48)","v":true},{"$f":"Find_Month(NB$35,NB$36,$F48)","v":true},{"$f":"Find_Month(NC$35,NC$36,$F48)","v":true},{"$f":"Find_Month(ND$35,ND$36,$F48)","v":true},{"$f":"Find_Month(NE$35,NE$36,$F48)","v":true},{"$f":"Find_Month(NF$35,NF$36,$F48)","v":true},{"$f":"Find_Month(NG$35,NG$36,$F48)","v":true},{"$f":"Find_Month(NH$35,NH$36,$F48)","v":true},{"$f":"Find_Month(NI$35,NI$36,$F48)","v":true},{"$f":"Find_Month(NJ$35,NJ$36,$F48)","v":true},{"$f":"Find_Month(NK$35,NK$36,$F48)","v":true},{"$f":"Find_Month(NL$35,NL$36,$F48)","v":true},{"$f":"Find_Month(NM$35,NM$36,$F48)","v":true},{"$f":"Find_Month(NN$35,NN$36,$F48)","v":true},{"$f":"Find_Month(NO$35,NO$36,$F48)","v":true},{"$f":"Find_Month(NP$35,NP$36,$F48)","v":true},{"$f":"Find_Month(NQ$35,NQ$36,$F48)","v":true},{"$f":"Find_Month(NR$35,NR$36,$F48)","v":true},{"$f":"Find_Month(NS$35,NS$36,$F48)","v":true},{"$f":"Find_Month(NT$35,NT$36,$F48)","v":true},{"$f":"Find_Month(NU$35,NU$36,$F48)","v":true},{"$f":"Find_Month(NV$35,NV$36,$F48)","v":true},{"$f":"Find_Month(NW$35,NW$36,$F48)","v":true},{"$f":"Find_Month(NX$35,NX$36,$F48)","v":true},{"$f":"Find_Month(NY$35,NY$36,$F48)","v":true},{"$f":"Find_Month(NZ$35,NZ$36,$F48)","v":true},{"$f":"Find_Month(OA$35,OA$36,$F48)","v":true},{"$f":"Find_Month(OB$35,OB$36,$F48)","v":true},{"$f":"Find_Month(OC$35,OC$36,$F48)","v":true},{"$f":"Find_Month(OD$35,OD$36,$F48)","v":true},{"$f":"Find_Month(OE$35,OE$36,$F48)","v":true},{"$f":"Find_Month(OF$35,OF$36,$F48)","v":true},{"$f":"Find_Month(OG$35,OG$36,$F48)","v":true},{"$f":"Find_Month(OH$35,OH$36,$F48)","v":true},{"$f":"Find_Month(OI$35,OI$36,$F48)","v":true},{"$f":"Find_Month(OJ$35,OJ$36,$F48)","v":true},{"$f":"Find_Month(OK$35,OK$36,$F48)","v":true},{"$f":"Find_Month(OL$35,OL$36,$F48)","v":true},{"$f":"Find_Month(OM$35,OM$36,$F48)","v":true},{"$f":"Find_Month(ON$35,ON$36,$F48)","v":true},{"$f":"Find_Month(OO$35,OO$36,$F48)","v":true},{"$f":"Find_Month(OP$35,OP$36,$F48)","v":true},{"$f":"Find_Month(OQ$35,OQ$36,$F48)","v":true},{"$f":"Find_Month(OR$35,OR$36,$F48)","v":true},{"$f":"Find_Month(OS$35,OS$36,$F48)","v":true},{"$f":"Find_Month(OT$35,OT$36,$F48)","v":true},{"$f":"Find_Month(OU$35,OU$36,$F48)","v":true},{"$f":"Find_Month(OV$35,OV$36,$F48)","v":true},{"$f":"Find_Month(OW$35,OW$36,$F48)","v":true},{"$f":"Find_Month(OX$35,OX$36,$F48)","v":true},{"$f":"Find_Month(OY$35,OY$36,$F48)","v":true},{"$f":"Find_Month(OZ$35,OZ$36,$F48)","v":true},{"$f":"Find_Month(PA$35,PA$36,$F48)","v":true},{"$f":"Find_Month(PB$35,PB$36,$F48)","v":true},{"$f":"Find_Month(PC$35,PC$36,$F48)","v":true},{"$f":"Find_Month(PD$35,PD$36,$F48)","v":true},{"$f":"Find_Month(PE$35,PE$36,$F48)","v":true},{"$f":"Find_Month(PF$35,PF$36,$F48)","v":true},{"$f":"Find_Month(PG$35,PG$36,$F48)","v":true},{"$f":"Find_Month(PH$35,PH$36,$F48)","v":true},{"$f":"Find_Month(PI$35,PI$36,$F48)","v":true},{"$f":"Find_Month(PJ$35,PJ$36,$F48)","v":true},{"$f":"Find_Month(PK$35,PK$36,$F48)","v":true},{"$f":"Find_Month(PL$35,PL$36,$F48)","v":true},{"$f":"Find_Month(PM$35,PM$36,$F48)","v":true},{"$f":"Find_Month(PN$35,PN$36,$F48)","v":true},{"$f":"Find_Month(PO$35,PO$36,$F48)","v":true},{"$f":"Find_Month(PP$35,PP$36,$F48)","v":true},{"$f":"Find_Month(PQ$35,PQ$36,$F48)","v":true},{"$f":"Find_Month(PR$35,PR$36,$F48)","v":true},{"$f":"Find_Month(PS$35,PS$36,$F48)","v":true},{"$f":"Find_Month(PT$35,PT$36,$F48)","v":true},{"$f":"Find_Month(PU$35,PU$36,$F48)","v":true},{"$f":"Find_Month(PV$35,PV$36,$F48)","v":true},{"$f":"Find_Month(PW$35,PW$36,$F48)","v":true},{"$f":"Find_Month(PX$35,PX$36,$F48)","v":true},{"$f":"Find_Month(PY$35,PY$36,$F48)","v":true},{"$f":"Find_Month(PZ$35,PZ$36,$F48)","v":true},{"$f":"Find_Month(QA$35,QA$36,$F48)","v":true},{"$f":"Find_Month(QB$35,QB$36,$F48)","v":true},{"$f":"Find_Month(QC$35,QC$36,$F48)","v":true},{"$f":"Find_Month(QD$35,QD$36,$F48)","v":true},{"$f":"Find_Month(QE$35,QE$36,$F48)","v":true},{"$f":"Find_Month(QF$35,QF$36,$F48)","v":true},{"$f":"Find_Month(QG$35,QG$36,$F48)","v":true},{"$f":"Find_Month(QH$35,QH$36,$F48)","v":true},{"$f":"Find_Month(QI$35,QI$36,$F48)","v":true},{"$f":"Find_Month(QJ$35,QJ$36,$F48)","v":true},{"$f":"Find_Month(QK$35,QK$36,$F48)","v":true},{"$f":"Find_Month(QL$35,QL$36,$F48)","v":true},{"$f":"Find_Month(QM$35,QM$36,$F48)","v":true},{"$f":"Find_Month(QN$35,QN$36,$F48)","v":true},{"$f":"Find_Month(QO$35,QO$36,$F48)","v":true},{"$f":"Find_Month(QP$35,QP$36,$F48)","v":true},{"$f":"Find_Month(QQ$35,QQ$36,$F48)","v":true},{"$f":"Find_Month(QR$35,QR$36,$F48)","v":true},{"$f":"Find_Month(QS$35,QS$36,$F48)","v":true},{"$f":"Find_Month(QT$35,QT$36,$F48)","v":true},{"$f":"Find_Month(QU$35,QU$36,$F48)","v":true},{"$f":"Find_Month(QV$35,QV$36,$F48)","v":true},{"$f":"Find_Month(QW$35,QW$36,$F48)","v":true},{"$f":"Find_Month(QX$35,QX$36,$F48)","v":true},{"$f":"Find_Month(QY$35,QY$36,$F48)","v":true},{"$f":"Find_Month(QZ$35,QZ$36,$F48)","v":true},{"$f":"Find_Month(RA$35,RA$36,$F48)","v":true},{"$f":"Find_Month(RB$35,RB$36,$F48)","v":true},{"$f":"Find_Month(RC$35,RC$36,$F48)","v":true},{"$f":"Find_Month(RD$35,RD$36,$F48)","v":true},{"$f":"Find_Month(RE$35,RE$36,$F48)","v":true},{"$f":"Find_Month(RF$35,RF$36,$F48)","v":true},{"$f":"Find_Month(RG$35,RG$36,$F48)","v":true},{"$f":"Find_Month(RH$35,RH$36,$F48)","v":true},{"$f":"Find_Month(RI$35,RI$36,$F48)","v":true},{"$f":"Find_Month(RJ$35,RJ$36,$F48)","v":true},{"$f":"Find_Month(RK$35,RK$36,$F48)","v":true},{"$f":"Find_Month(RL$35,RL$36,$F48)","v":true},{"$f":"Find_Month(RM$35,RM$36,$F48)","v":true},{"$f":"Find_Month(RN$35,RN$36,$F48)","v":true},{"$f":"Find_Month(RO$35,RO$36,$F48)","v":true},{"$f":"Find_Month(RP$35,RP$36,$F48)","v":true},{"$f":"Find_Month(RQ$35,RQ$36,$F48)","v":true},{"$f":"Find_Month(RR$35,RR$36,$F48)","v":true},{"$f":"Find_Month(RS$35,RS$36,$F48)","v":true},{"$f":"Find_Month(RT$35,RT$36,$F48)","v":true},{"$f":"Find_Month(RU$35,RU$36,$F48)","v":true},{"$f":"Find_Month(RV$35,RV$36,$F48)","v":true},{"$f":"Find_Month(RW$35,RW$36,$F48)","v":true},{"$f":"Find_Month(RX$35,RX$36,$F48)","v":true},{"$f":"Find_Month(RY$35,RY$36,$F48)","v":true},{"$f":"Find_Month(RZ$35,RZ$36,$F48)","v":true},{"$f":"Find_Month(SA$35,SA$36,$F48)","v":true},{"$f":"Find_Month(SB$35,SB$36,$F48)","v":true},{"$f":"Find_Month(SC$35,SC$36,$F48)","v":false},{"$f":"Find_Month(SD$35,SD$36,$F48)","v":false},{"$f":"Find_Month(SE$35,SE$36,$F48)","v":false},{"$f":"Find_Month(SF$35,SF$36,$F48)","v":false},{"$f":"Find_Month(SG$35,SG$36,$F48)","v":false},{"$f":"Find_Month(SH$35,SH$36,$F48)","v":false},{"$f":"Find_Month(SI$35,SI$36,$F48)","v":false},{"$f":"Find_Month(SJ$35,SJ$36,$F48)","v":false},{"$f":"Find_Month(SK$35,SK$36,$F48)","v":false},{"$f":"Find_Month(SL$35,SL$36,$F48)","v":false},{"$f":"Find_Month(SM$35,SM$36,$F48)","v":false},{"$f":"Find_Month(SN$35,SN$36,$F48)","v":false},{"$f":"Find_Month(SO$35,SO$36,$F48)","v":false},{"$f":"Find_Month(SP$35,SP$36,$F48)","v":false},{"$f":"Find_Month(SQ$35,SQ$36,$F48)","v":false},{"$f":"Find_Month(SR$35,SR$36,$F48)","v":false},{"$f":"Find_Month(SS$35,SS$36,$F48)","v":false},{"$f":"Find_Month(ST$35,ST$36,$F48)","v":false},{"$f":"Find_Month(SU$35,SU$36,$F48)","v":false},{"$f":"Find_Month(SV$35,SV$36,$F48)","v":false},{"$f":"Find_Month(SW$35,SW$36,$F48)","v":false},{"$f":"Find_Month(SX$35,SX$36,$F48)","v":false},{"$f":"Find_Month(SY$35,SY$36,$F48)","v":false},{"$f":"Find_Month(SZ$35,SZ$36,$F48)","v":false},{"$f":"Find_Month(TA$35,TA$36,$F48)","v":false},{"$f":"Find_Month(TB$35,TB$36,$F48)","v":false},{"$f":"Find_Month(TC$35,TC$36,$F48)","v":false},{"$f":"Find_Month(TD$35,TD$36,$F48)","v":false},{"$f":"Find_Month(TE$35,TE$36,$F48)","v":false},{"$f":"Find_Month(TF$35,TF$36,$F48)","v":false},{"$f":"Find_Month(TG$35,TG$36,$F48)","v":false},{"$f":"Find_Month(TH$35,TH$36,$F48)","v":false},{"$f":"Find_Month(TI$35,TI$36,$F48)","v":false},{"$f":"Find_Month(TJ$35,TJ$36,$F48)","v":false},{"$f":"Find_Month(TK$35,TK$36,$F48)","v":false},{"$f":"Find_Month(TL$35,TL$36,$F48)","v":false},{"$f":"Find_Month(TM$35,TM$36,$F48)","v":false},{"$f":"Find_Month(TN$35,TN$36,$F48)","v":false},{"$f":"Find_Month(TO$35,TO$36,$F48)","v":false},{"$f":"Find_Month(TP$35,TP$36,$F48)","v":false},{"$f":"Find_Month(TQ$35,TQ$36,$F48)","v":false},{"$f":"Find_Month(TR$35,TR$36,$F48)","v":false},{"$f":"Find_Month(TS$35,TS$36,$F48)","v":false},{"$f":"Find_Month(TT$35,TT$36,$F48)","v":false},{"$f":"Find_Month(TU$35,TU$36,$F48)","v":false},{"$f":"Find_Month(TV$35,TV$36,$F48)","v":false},{"$f":"Find_Month(TW$35,TW$36,$F48)","v":false},{"$f":"Find_Month(TX$35,TX$36,$F48)","v":false},{"$f":"Find_Month(TY$35,TY$36,$F48)","v":false}]
[null,null,null,null,null,11,271.12067616959018,8.4586110401545636E-2,null,{"$f":"Find_Month(J$35,J$36,$F49)","v":true},{"$f":"Find_Month(K$35,K$36,$F49)","v":true},{"$f":"Find_Month(L$35,L$36,$F49)","v":true},{"$f":"Find_Month(M$35,M$36,$F49)","v":true},{"$f":"Find_Month(N$35,N$36,$F49)","v":true},{"$f":"Find_Month(O$35,O$36,$F49)","v":true},{"$f":"Find_Month(P$35,P$36,$F49)","v":true},{"$f":"Find_Month(Q$35,Q$36,$F49)","v":true},{"$f":"Find_Month(R$35,R$36,$F49)","v":true},{"$f":"Find_Month(S$35,S$36,$F49)","v":true},{"$f":"Find_Month(T$35,T$36,$F49)","v":true},{"$f":"Find_Month(U$35,U$36,$F49)","v":true},{"$f":"Find_Month(V$35,V$36,$F49)","v":true},{"$f":"Find_Month(W$35,W$36,$F49)","v":true},{"$f":"Find_Month(X$35,X$36,$F49)","v":true},{"$f":"Find_Month(Y$35,Y$36,$F49)","v":true},{"$f":"Find_Month(Z$35,Z$36,$F49)","v":true},{"$f":"Find_Month(AA$35,AA$36,$F49)","v":true},{"$f":"Find_Month(AB$35,AB$36,$F49)","v":true},{"$f":"Find_Month(AC$35,AC$36,$F49)","v":true},{"$f":"Find_Month(AD$35,AD$36,$F49)","v":true},{"$f":"Find_Month(AE$35,AE$36,$F49)","v":true},{"$f":"Find_Month(AF$35,AF$36,$F49)","v":true},{"$f":"Find_Month(AG$35,AG$36,$F49)","v":true},{"$f":"Find_Month(AH$35,AH$36,$F49)","v":true},{"$f":"Find_Month(AI$35,AI$36,$F49)","v":true},{"$f":"Find_Month(AJ$35,AJ$36,$F49)","v":true},{"$f":"Find_Month(AK$35,AK$36,$F49)","v":true},{"$f":"Find_Month(AL$35,AL$36,$F49)","v":true},{"$f":"Find_Month(AM$35,AM$36,$F49)","v":true},{"$f":"Find_Month(AN$35,AN$36,$F49)","v":true},{"$f":"Find_Month(AO$35,AO$36,$F49)","v":true},{"$f":"Find_Month(AP$35,AP$36,$F49)","v":true},{"$f":"Find_Month(AQ$35,AQ$36,$F49)","v":true},{"$f":"Find_Month(AR$35,AR$36,$F49)","v":true},{"$f":"Find_Month(AS$35,AS$36,$F49)","v":true},{"$f":"Find_Month(AT$35,AT$36,$F49)","v":true},{"$f":"Find_Month(AU$35,AU$36,$F49)","v":true},{"$f":"Find_Month(AV$35,AV$36,$F49)","v":true},{"$f":"Find_Month(AW$35,AW$36,$F49)","v":true},{"$f":"Find_Month(AX$35,AX$36,$F49)","v":true},{"$f":"Find_Month(AY$35,AY$36,$F49)","v":true},{"$f":"Find_Month(AZ$35,AZ$36,$F49)","v":true},{"$f":"Find_Month(BA$35,BA$36,$F49)","v":true},{"$f":"Find_Month(BB$35,BB$36,$F49)","v":true},{"$f":"Find_Month(BC$35,BC$36,$F49)","v":true},{"$f":"Find_Month(BD$35,BD$36,$F49)","v":true},{"$f":"Find_Month(BE$35,BE$36,$F49)","v":true},{"$f":"Find_Month(BF$35,BF$36,$F49)","v":true},{"$f":"Find_Month(BG$35,BG$36,$F49)","v":true},{"$f":"Find_Month(BH$35,BH$36,$F49)","v":true},{"$f":"Find_Month(BI$35,BI$36,$F49)","v":true},{"$f":"Find_Month(BJ$35,BJ$36,$F49)","v":true},{"$f":"Find_Month(BK$35,BK$36,$F49)","v":true},{"$f":"Find_Month(BL$35,BL$36,$F49)","v":true},{"$f":"Find_Month(BM$35,BM$36,$F49)","v":true},{"$f":"Find_Month(BN$35,BN$36,$F49)","v":true},{"$f":"Find_Month(BO$35,BO$36,$F49)","v":true},{"$f":"Find_Month(BP$35,BP$36,$F49)","v":true},{"$f":"Find_Month(BQ$35,BQ$36,$F49)","v":true},{"$f":"Find_Month(BR$35,BR$36,$F49)","v":true},{"$f":"Find_Month(BS$35,BS$36,$F49)","v":true},{"$f":"Find_Month(BT$35,BT$36,$F49)","v":true},{"$f":"Find_Month(BU$35,BU$36,$F49)","v":true},{"$f":"Find_Month(BV$35,BV$36,$F49)","v":true},{"$f":"Find_Month(BW$35,BW$36,$F49)","v":true},{"$f":"Find_Month(BX$35,BX$36,$F49)","v":true},{"$f":"Find_Month(BY$35,BY$36,$F49)","v":true},{"$f":"Find_Month(BZ$35,BZ$36,$F49)","v":true},{"$f":"Find_Month(CA$35,CA$36,$F49)","v":true},{"$f":"Find_Month(CB$35,CB$36,$F49)","v":true},{"$f":"Find_Month(CC$35,CC$36,$F49)","v":true},{"$f":"Find_Month(CD$35,CD$36,$F49)","v":true},{"$f":"Find_Month(CE$35,CE$36,$F49)","v":true},{"$f":"Find_Month(CF$35,CF$36,$F49)","v":true},{"$f":"Find_Month(CG$35,CG$36,$F49)","v":true},{"$f":"Find_Month(CH$35,CH$36,$F49)","v":true},{"$f":"Find_Month(CI$35,CI$36,$F49)","v":true},{"$f":"Find_Month(CJ$35,CJ$36,$F49)","v":true},{"$f":"Find_Month(CK$35,CK$36,$F49)","v":true},{"$f":"Find_Month(CL$35,CL$36,$F49)","v":true},{"$f":"Find_Month(CM$35,CM$36,$F49)","v":true},{"$f":"Find_Month(CN$35,CN$36,$F49)","v":true},{"$f":"Find_Month(CO$35,CO$36,$F49)","v":true},{"$f":"Find_Month(CP$35,CP$36,$F49)","v":true},{"$f":"Find_Month(CQ$35,CQ$36,$F49)","v":true},{"$f":"Find_Month(CR$35,CR$36,$F49)","v":true},{"$f":"Find_Month(CS$35,CS$36,$F49)","v":true},{"$f":"Find_Month(CT$35,CT$36,$F49)","v":true},{"$f":"Find_Month(CU$35,CU$36,$F49)","v":true},{"$f":"Find_Month(CV$35,CV$36,$F49)","v":true},{"$f":"Find_Month(CW$35,CW$36,$F49)","v":true},{"$f":"Find_Month(CX$35,CX$36,$F49)","v":true},{"$f":"Find_Month(CY$35,CY$36,$F49)","v":true},{"$f":"Find_Month(CZ$35,CZ$36,$F49)","v":true},{"$f":"Find_Month(DA$35,DA$36,$F49)","v":true},{"$f":"Find_Month(DB$35,DB$36,$F49)","v":true},{"$f":"Find_Month(DC$35,DC$36,$F49)","v":true},{"$f":"Find_Month(DD$35,DD$36,$F49)","v":true},{"$f":"Find_Month(DE$35,DE$36,$F49)","v":true},{"$f":"Find_Month(DF$35,DF$36,$F49)","v":true},{"$f":"Find_Month(DG$35,DG$36,$F49)","v":true},{"$f":"Find_Month(DH$35,DH$36,$F49)","v":true},{"$f":"Find_Month(DI$35,DI$36,$F49)","v":true},{"$f":"Find_Month(DJ$35,DJ$36,$F49)","v":true},{"$f":"Find_Month(DK$35,DK$36,$F49)","v":true},{"$f":"Find_Month(DL$35,DL$36,$F49)","v":true},{"$f":"Find_Month(DM$35,DM$36,$F49)","v":true},{"$f":"Find_Month(DN$35,DN$36,$F49)","v":true},{"$f":"Find_Month(DO$35,DO$36,$F49)","v":true},{"$f":"Find_Month(DP$35,DP$36,$F49)","v":true},{"$f":"Find_Month(DQ$35,DQ$36,$F49)","v":true},{"$f":"Find_Month(DR$35,DR$36,$F49)","v":true},{"$f":"Find_Month(DS$35,DS$36,$F49)","v":true},{"$f":"Find_Month(DT$35,DT$36,$F49)","v":true},{"$f":"Find_Month(DU$35,DU$36,$F49)","v":true},{"$f":"Find_Month(DV$35,DV$36,$F49)","v":true},{"$f":"Find_Month(DW$35,DW$36,$F49)","v":true},{"$f":"Find_Month(DX$35,DX$36,$F49)","v":true},{"$f":"Find_Month(DY$35,DY$36,$F49)","v":true},{"$f":"Find_Month(DZ$35,DZ$36,$F49)","v":true},{"$f":"Find_Month(EA$35,EA$36,$F49)","v":true},{"$f":"Find_Month(EB$35,EB$36,$F49)","v":true},{"$f":"Find_Month(EC$35,EC$36,$F49)","v":true},{"$f":"Find_Month(ED$35,ED$36,$F49)","v":true},{"$f":"Find_Month(EE$35,EE$36,$F49)","v":true},{"$f":"Find_Month(EF$35,EF$36,$F49)","v":true},{"$f":"Find_Month(EG$35,EG$36,$F49)","v":true},{"$f":"Find_Month(EH$35,EH$36,$F49)","v":true},{"$f":"Find_Month(EI$35,EI$36,$F49)","v":true},{"$f":"Find_Month(EJ$35,EJ$36,$F49)","v":true},{"$f":"Find_Month(EK$35,EK$36,$F49)","v":true},{"$f":"Find_Month(EL$35,EL$36,$F49)","v":true},{"$f":"Find_Month(EM$35,EM$36,$F49)","v":true},{"$f":"Find_Month(EN$35,EN$36,$F49)","v":true},{"$f":"Find_Month(EO$35,EO$36,$F49)","v":true},{"$f":"Find_Month(EP$35,EP$36,$F49)","v":true},{"$f":"Find_Month(EQ$35,EQ$36,$F49)","v":true},{"$f":"Find_Month(ER$35,ER$36,$F49)","v":true},{"$f":"Find_Month(ES$35,ES$36,$F49)","v":true},{"$f":"Find_Month(ET$35,ET$36,$F49)","v":true},{"$f":"Find_Month(EU$35,EU$36,$F49)","v":true},{"$f":"Find_Month(EV$35,EV$36,$F49)","v":true},{"$f":"Find_Month(EW$35,EW$36,$F49)","v":true},{"$f":"Find_Month(EX$35,EX$36,$F49)","v":true},{"$f":"Find_Month(EY$35,EY$36,$F49)","v":true},{"$f":"Find_Month(EZ$35,EZ$36,$F49)","v":true},{"$f":"Find_Month(FA$35,FA$36,$F49)","v":true},{"$f":"Find_Month(FB$35,FB$36,$F49)","v":true},{"$f":"Find_Month(FC$35,FC$36,$F49)","v":true},{"$f":"Find_Month(FD$35,FD$36,$F49)","v":true},{"$f":"Find_Month(FE$35,FE$36,$F49)","v":true},{"$f":"Find_Month(FF$35,FF$36,$F49)","v":true},{"$f":"Find_Month(FG$35,FG$36,$F49)","v":true},{"$f":"Find_Month(FH$35,FH$36,$F49)","v":true},{"$f":"Find_Month(FI$35,FI$36,$F49)","v":true},{"$f":"Find_Month(FJ$35,FJ$36,$F49)","v":true},{"$f":"Find_Month(FK$35,FK$36,$F49)","v":true},{"$f":"Find_Month(FL$35,FL$36,$F49)","v":true},{"$f":"Find_Month(FM$35,FM$36,$F49)","v":true},{"$f":"Find_Month(FN$35,FN$36,$F49)","v":true},{"$f":"Find_Month(FO$35,FO$36,$F49)","v":true},{"$f":"Find_Month(FP$35,FP$36,$F49)","v":true},{"$f":"Find_Month(FQ$35,FQ$36,$F49)","v":true},{"$f":"Find_Month(FR$35,FR$36,$F49)","v":true},{"$f":"Find_Month(FS$35,FS$36,$F49)","v":true},{"$f":"Find_Month(FT$35,FT$36,$F49)","v":true},{"$f":"Find_Month(FU$35,FU$36,$F49)","v":true},{"$f":"Find_Month(FV$35,FV$36,$F49)","v":true},{"$f":"Find_Month(FW$35,FW$36,$F49)","v":true},{"$f":"Find_Month(FX$35,FX$36,$F49)","v":true},{"$f":"Find_Month(FY$35,FY$36,$F49)","v":true},{"$f":"Find_Month(FZ$35,FZ$36,$F49)","v":true},{"$f":"Find_Month(GA$35,GA$36,$F49)","v":true},{"$f":"Find_Month(GB$35,GB$36,$F49)","v":true},{"$f":"Find_Month(GC$35,GC$36,$F49)","v":true},{"$f":"Find_Month(GD$35,GD$36,$F49)","v":true},{"$f":"Find_Month(GE$35,GE$36,$F49)","v":true},{"$f":"Find_Month(GF$35,GF$36,$F49)","v":true},{"$f":"Find_Month(GG$35,GG$36,$F49)","v":true},{"$f":"Find_Month(GH$35,GH$36,$F49)","v":true},{"$f":"Find_Month(GI$35,GI$36,$F49)","v":true},{"$f":"Find_Month(GJ$35,GJ$36,$F49)","v":true},{"$f":"Find_Month(GK$35,GK$36,$F49)","v":true},{"$f":"Find_Month(GL$35,GL$36,$F49)","v":true},{"$f":"Find_Month(GM$35,GM$36,$F49)","v":true},{"$f":"Find_Month(GN$35,GN$36,$F49)","v":true},{"$f":"Find_Month(GO$35,GO$36,$F49)","v":true},{"$f":"Find_Month(GP$35,GP$36,$F49)","v":true},{"$f":"Find_Month(GQ$35,GQ$36,$F49)","v":true},{"$f":"Find_Month(GR$35,GR$36,$F49)","v":true},{"$f":"Find_Month(GS$35,GS$36,$F49)","v":true},{"$f":"Find_Month(GT$35,GT$36,$F49)","v":true},{"$f":"Find_Month(GU$35,GU$36,$F49)","v":true},{"$f":"Find_Month(GV$35,GV$36,$F49)","v":true},{"$f":"Find_Month(GW$35,GW$36,$F49)","v":true},{"$f":"Find_Month(GX$35,GX$36,$F49)","v":true},{"$f":"Find_Month(GY$35,GY$36,$F49)","v":true},{"$f":"Find_Month(GZ$35,GZ$36,$F49)","v":true},{"$f":"Find_Month(HA$35,HA$36,$F49)","v":true},{"$f":"Find_Month(HB$35,HB$36,$F49)","v":true},{"$f":"Find_Month(HC$35,HC$36,$F49)","v":true},{"$f":"Find_Month(HD$35,HD$36,$F49)","v":true},{"$f":"Find_Month(HE$35,HE$36,$F49)","v":true},{"$f":"Find_Month(HF$35,HF$36,$F49)","v":true},{"$f":"Find_Month(HG$35,HG$36,$F49)","v":true},{"$f":"Find_Month(HH$35,HH$36,$F49)","v":true},{"$f":"Find_Month(HI$35,HI$36,$F49)","v":true},{"$f":"Find_Month(HJ$35,HJ$36,$F49)","v":true},{"$f":"Find_Month(HK$35,HK$36,$F49)","v":true},{"$f":"Find_Month(HL$35,HL$36,$F49)","v":true},{"$f":"Find_Month(HM$35,HM$36,$F49)","v":true},{"$f":"Find_Month(HN$35,HN$36,$F49)","v":true},{"$f":"Find_Month(HO$35,HO$36,$F49)","v":true},{"$f":"Find_Month(HP$35,HP$36,$F49)","v":true},{"$f":"Find_Month(HQ$35,HQ$36,$F49)","v":true},{"$f":"Find_Month(HR$35,HR$36,$F49)","v":true},{"$f":"Find_Month(HS$35,HS$36,$F49)","v":true},{"$f":"Find_Month(HT$35,HT$36,$F49)","v":true},{"$f":"Find_Month(HU$35,HU$36,$F49)","v":true},{"$f":"Find_Month(HV$35,HV$36,$F49)","v":true},{"$f":"Find_Month(HW$35,HW$36,$F49)","v":true},{"$f":"Find_Month(HX$35,HX$36,$F49)","v":true},{"$f":"Find_Month(HY$35,HY$36,$F49)","v":true},{"$f":"Find_Month(HZ$35,HZ$36,$F49)","v":true},{"$f":"Find_Month(IA$35,IA$36,$F49)","v":true},{"$f":"Find_Month(IB$35,IB$36,$F49)","v":true},{"$f":"Find_Month(IC$35,IC$36,$F49)","v":true},{"$f":"Find_Month(ID$35,ID$36,$F49)","v":true},{"$f":"Find_Month(IE$35,IE$36,$F49)","v":true},{"$f":"Find_Month(IF$35,IF$36,$F49)","v":true},{"$f":"Find_Month(IG$35,IG$36,$F49)","v":true},{"$f":"Find_Month(IH$35,IH$36,$F49)","v":true},{"$f":"Find_Month(II$35,II$36,$F49)","v":true},{"$f":"Find_Month(IJ$35,IJ$36,$F49)","v":true},{"$f":"Find_Month(IK$35,IK$36,$F49)","v":true},{"$f":"Find_Month(IL$35,IL$36,$F49)","v":true},{"$f":"Find_Month(IM$35,IM$36,$F49)","v":true},{"$f":"Find_Month(IN$35,IN$36,$F49)","v":true},{"$f":"Find_Month(IO$35,IO$36,$F49)","v":true},{"$f":"Find_Month(IP$35,IP$36,$F49)","v":true},{"$f":"Find_Month(IQ$35,IQ$36,$F49)","v":true},{"$f":"Find_Month(IR$35,IR$36,$F49)","v":true},{"$f":"Find_Month(IS$35,IS$36,$F49)","v":true},{"$f":"Find_Month(IT$35,IT$36,$F49)","v":true},{"$f":"Find_Month(IU$35,IU$36,$F49)","v":true},{"$f":"Find_Month(IV$35,IV$36,$F49)","v":true},{"$f":"Find_Month(IW$35,IW$36,$F49)","v":true},{"$f":"Find_Month(IX$35,IX$36,$F49)","v":true},{"$f":"Find_Month(IY$35,IY$36,$F49)","v":true},{"$f":"Find_Month(IZ$35,IZ$36,$F49)","v":true},{"$f":"Find_Month(JA$35,JA$36,$F49)","v":true},{"$f":"Find_Month(JB$35,JB$36,$F49)","v":true},{"$f":"Find_Month(JC$35,JC$36,$F49)","v":true},{"$f":"Find_Month(JD$35,JD$36,$F49)","v":true},{"$f":"Find_Month(JE$35,JE$36,$F49)","v":true},{"$f":"Find_Month(JF$35,JF$36,$F49)","v":true},{"$f":"Find_Month(JG$35,JG$36,$F49)","v":true},{"$f":"Find_Month(JH$35,JH$36,$F49)","v":true},{"$f":"Find_Month(JI$35,JI$36,$F49)","v":true},{"$f":"Find_Month(JJ$35,JJ$36,$F49)","v":true},{"$f":"Find_Month(JK$35,JK$36,$F49)","v":true},{"$f":"Find_Month(JL$35,JL$36,$F49)","v":true},{"$f":"Find_Month(JM$35,JM$36,$F49)","v":true},{"$f":"Find_Month(JN$35,JN$36,$F49)","v":true},{"$f":"Find_Month(JO$35,JO$36,$F49)","v":true},{"$f":"Find_Month(JP$35,JP$36,$F49)","v":true},{"$f":"Find_Month(JQ$35,JQ$36,$F49)","v":true},{"$f":"Find_Month(JR$35,JR$36,$F49)","v":true},{"$f":"Find_Month(JS$35,JS$36,$F49)","v":true},{"$f":"Find_Month(JT$35,JT$36,$F49)","v":true},{"$f":"Find_Month(JU$35,JU$36,$F49)","v":true},{"$f":"Find_Month(JV$35,JV$36,$F49)","v":true},{"$f":"Find_Month(JW$35,JW$36,$F49)","v":true},{"$f":"Find_Month(JX$35,JX$36,$F49)","v":true},{"$f":"Find_Month(JY$35,JY$36,$F49)","v":true},{"$f":"Find_Month(JZ$35,JZ$36,$F49)","v":true},{"$f":"Find_Month(KA$35,KA$36,$F49)","v":true},{"$f":"Find_Month(KB$35,KB$36,$F49)","v":true},{"$f":"Find_Month(KC$35,KC$36,$F49)","v":true},{"$f":"Find_Month(KD$35,KD$36,$F49)","v":true},{"$f":"Find_Month(KE$35,KE$36,$F49)","v":true},{"$f":"Find_Month(KF$35,KF$36,$F49)","v":true},{"$f":"Find_Month(KG$35,KG$36,$F49)","v":true},{"$f":"Find_Month(KH$35,KH$36,$F49)","v":true},{"$f":"Find_Month(KI$35,KI$36,$F49)","v":true},{"$f":"Find_Month(KJ$35,KJ$36,$F49)","v":true},{"$f":"Find_Month(KK$35,KK$36,$F49)","v":true},{"$f":"Find_Month(KL$35,KL$36,$F49)","v":true},{"$f":"Find_Month(KM$35,KM$36,$F49)","v":true},{"$f":"Find_Month(KN$35,KN$36,$F49)","v":true},{"$f":"Find_Month(KO$35,KO$36,$F49)","v":true},{"$f":"Find_Month(KP$35,KP$36,$F49)","v":true},{"$f":"Find_Month(KQ$35,KQ$36,$F49)","v":true},{"$f":"Find_Month(KR$35,KR$36,$F49)","v":true},{"$f":"Find_Month(KS$35,KS$36,$F49)","v":true},{"$f":"Find_Month(KT$35,KT$36,$F49)","v":true},{"$f":"Find_Month(KU$35,KU$36,$F49)","v":true},{"$f":"Find_Month(KV$35,KV$36,$F49)","v":true},{"$f":"Find_Month(KW$35,KW$36,$F49)","v":true},{"$f":"Find_Month(KX$35,KX$36,$F49)","v":true},{"$f":"Find_Month(KY$35,KY$36,$F49)","v":true},{"$f":"Find_Month(KZ$35,KZ$36,$F49)","v":true},{"$f":"Find_Month(LA$35,LA$36,$F49)","v":true},{"$f":"Find_Month(LB$35,LB$36,$F49)","v":true},{"$f":"Find_Month(LC$35,LC$36,$F49)","v":true},{"$f":"Find_Month(LD$35,LD$36,$F49)","v":true},{"$f":"Find_Month(LE$35,LE$36,$F49)","v":true},{"$f":"Find_Month(LF$35,LF$36,$F49)","v":true},{"$f":"Find_Month(LG$35,LG$36,$F49)","v":true},{"$f":"Find_Month(LH$35,LH$36,$F49)","v":true},{"$f":"Find_Month(LI$35,LI$36,$F49)","v":true},{"$f":"Find_Month(LJ$35,LJ$36,$F49)","v":true},{"$f":"Find_Month(LK$35,LK$36,$F49)","v":true},{"$f":"Find_Month(LL$35,LL$36,$F49)","v":true},{"$f":"Find_Month(LM$35,LM$36,$F49)","v":true},{"$f":"Find_Month(LN$35,LN$36,$F49)","v":true},{"$f":"Find_Month(LO$35,LO$36,$F49)","v":true},{"$f":"Find_Month(LP$35,LP$36,$F49)","v":true},{"$f":"Find_Month(LQ$35,LQ$36,$F49)","v":true},{"$f":"Find_Month(LR$35,LR$36,$F49)","v":true},{"$f":"Find_Month(LS$35,LS$36,$F49)","v":true},{"$f":"Find_Month(LT$35,LT$36,$F49)","v":true},{"$f":"Find_Month(LU$35,LU$36,$F49)","v":true},{"$f":"Find_Month(LV$35,LV$36,$F49)","v":true},{"$f":"Find_Month(LW$35,LW$36,$F49)","v":true},{"$f":"Find_Month(LX$35,LX$36,$F49)","v":true},{"$f":"Find_Month(LY$35,LY$36,$F49)","v":true},{"$f":"Find_Month(LZ$35,LZ$36,$F49)","v":true},{"$f":"Find_Month(MA$35,MA$36,$F49)","v":true},{"$f":"Find_Month(MB$35,MB$36,$F49)","v":true},{"$f":"Find_Month(MC$35,MC$36,$F49)","v":true},{"$f":"Find_Month(MD$35,MD$36,$F49)","v":true},{"$f":"Find_Month(ME$35,ME$36,$F49)","v":true},{"$f":"Find_Month(MF$35,MF$36,$F49)","v":true},{"$f":"Find_Month(MG$35,MG$36,$F49)","v":true},{"$f":"Find_Month(MH$35,MH$36,$F49)","v":true},{"$f":"Find_Month(MI$35,MI$36,$F49)","v":true},{"$f":"Find_Month(MJ$35,MJ$36,$F49)","v":true},{"$f":"Find_Month(MK$35,MK$36,$F49)","v":true},{"$f":"Find_Month(ML$35,ML$36,$F49)","v":true},{"$f":"Find_Month(MM$35,MM$36,$F49)","v":true},{"$f":"Find_Month(MN$35,MN$36,$F49)","v":true},{"$f":"Find_Month(MO$35,MO$36,$F49)","v":true},{"$f":"Find_Month(MP$35,MP$36,$F49)","v":true},{"$f":"Find_Month(MQ$35,MQ$36,$F49)","v":true},{"$f":"Find_Month(MR$35,MR$36,$F49)","v":true},{"$f":"Find_Month(MS$35,MS$36,$F49)","v":true},{"$f":"Find_Month(MT$35,MT$36,$F49)","v":true},{"$f":"Find_Month(MU$35,MU$36,$F49)","v":true},{"$f":"Find_Month(MV$35,MV$36,$F49)","v":true},{"$f":"Find_Month(MW$35,MW$36,$F49)","v":true},{"$f":"Find_Month(MX$35,MX$36,$F49)","v":true},{"$f":"Find_Month(MY$35,MY$36,$F49)","v":true},{"$f":"Find_Month(MZ$35,MZ$36,$F49)","v":true},{"$f":"Find_Month(NA$35,NA$36,$F49)","v":true},{"$f":"Find_Month(NB$35,NB$36,$F49)","v":true},{"$f":"Find_Month(NC$35,NC$36,$F49)","v":true},{"$f":"Find_Month(ND$35,ND$36,$F49)","v":true},{"$f":"Find_Month(NE$35,NE$36,$F49)","v":true},{"$f":"Find_Month(NF$35,NF$36,$F49)","v":true},{"$f":"Find_Month(NG$35,NG$36,$F49)","v":true},{"$f":"Find_Month(NH$35,NH$36,$F49)","v":true},{"$f":"Find_Month(NI$35,NI$36,$F49)","v":true},{"$f":"Find_Month(NJ$35,NJ$36,$F49)","v":true},{"$f":"Find_Month(NK$35,NK$36,$F49)","v":true},{"$f":"Find_Month(NL$35,NL$36,$F49)","v":true},{"$f":"Find_Month(NM$35,NM$36,$F49)","v":true},{"$f":"Find_Month(NN$35,NN$36,$F49)","v":true},{"$f":"Find_Month(NO$35,NO$36,$F49)","v":true},{"$f":"Find_Month(NP$35,NP$36,$F49)","v":true},{"$f":"Find_Month(NQ$35,NQ$36,$F49)","v":true},{"$f":"Find_Month(NR$35,NR$36,$F49)","v":true},{"$f":"Find_Month(NS$35,NS$36,$F49)","v":true},{"$f":"Find_Month(NT$35,NT$36,$F49)","v":true},{"$f":"Find_Month(NU$35,NU$36,$F49)","v":true},{"$f":"Find_Month(NV$35,NV$36,$F49)","v":true},{"$f":"Find_Month(NW$35,NW$36,$F49)","v":true},{"$f":"Find_Month(NX$35,NX$36,$F49)","v":true},{"$f":"Find_Month(NY$35,NY$36,$F49)","v":true},{"$f":"Find_Month(NZ$35,NZ$36,$F49)","v":true},{"$f":"Find_Month(OA$35,OA$36,$F49)","v":true},{"$f":"Find_Month(OB$35,OB$36,$F49)","v":true},{"$f":"Find_Month(OC$35,OC$36,$F49)","v":true},{"$f":"Find_Month(OD$35,OD$36,$F49)","v":true},{"$f":"Find_Month(OE$35,OE$36,$F49)","v":true},{"$f":"Find_Month(OF$35,OF$36,$F49)","v":true},{"$f":"Find_Month(OG$35,OG$36,$F49)","v":true},{"$f":"Find_Month(OH$35,OH$36,$F49)","v":true},{"$f":"Find_Month(OI$35,OI$36,$F49)","v":true},{"$f":"Find_Month(OJ$35,OJ$36,$F49)","v":true},{"$f":"Find_Month(OK$35,OK$36,$F49)","v":true},{"$f":"Find_Month(OL$35,OL$36,$F49)","v":true},{"$f":"Find_Month(OM$35,OM$36,$F49)","v":true},{"$f":"Find_Month(ON$35,ON$36,$F49)","v":true},{"$f":"Find_Month(OO$35,OO$36,$F49)","v":true},{"$f":"Find_Month(OP$35,OP$36,$F49)","v":true},{"$f":"Find_Month(OQ$35,OQ$36,$F49)","v":true},{"$f":"Find_Month(OR$35,OR$36,$F49)","v":true},{"$f":"Find_Month(OS$35,OS$36,$F49)","v":true},{"$f":"Find_Month(OT$35,OT$36,$F49)","v":true},{"$f":"Find_Month(OU$35,OU$36,$F49)","v":true},{"$f":"Find_Month(OV$35,OV$36,$F49)","v":true},{"$f":"Find_Month(OW$35,OW$36,$F49)","v":true},{"$f":"Find_Month(OX$35,OX$36,$F49)","v":true},{"$f":"Find_Month(OY$35,OY$36,$F49)","v":true},{"$f":"Find_Month(OZ$35,OZ$36,$F49)","v":true},{"$f":"Find_Month(PA$35,PA$36,$F49)","v":true},{"$f":"Find_Month(PB$35,PB$36,$F49)","v":true},{"$f":"Find_Month(PC$35,PC$36,$F49)","v":true},{"$f":"Find_Month(PD$35,PD$36,$F49)","v":true},{"$f":"Find_Month(PE$35,PE$36,$F49)","v":true},{"$f":"Find_Month(PF$35,PF$36,$F49)","v":true},{"$f":"Find_Month(PG$35,PG$36,$F49)","v":true},{"$f":"Find_Month(PH$35,PH$36,$F49)","v":true},{"$f":"Find_Month(PI$35,PI$36,$F49)","v":true},{"$f":"Find_Month(PJ$35,PJ$36,$F49)","v":true},{"$f":"Find_Month(PK$35,PK$36,$F49)","v":true},{"$f":"Find_Month(PL$35,PL$36,$F49)","v":true},{"$f":"Find_Month(PM$35,PM$36,$F49)","v":true},{"$f":"Find_Month(PN$35,PN$36,$F49)","v":true},{"$f":"Find_Month(PO$35,PO$36,$F49)","v":true},{"$f":"Find_Month(PP$35,PP$36,$F49)","v":true},{"$f":"Find_Month(PQ$35,PQ$36,$F49)","v":true},{"$f":"Find_Month(PR$35,PR$36,$F49)","v":true},{"$f":"Find_Month(PS$35,PS$36,$F49)","v":true},{"$f":"Find_Month(PT$35,PT$36,$F49)","v":true},{"$f":"Find_Month(PU$35,PU$36,$F49)","v":true},{"$f":"Find_Month(PV$35,PV$36,$F49)","v":true},{"$f":"Find_Month(PW$35,PW$36,$F49)","v":true},{"$f":"Find_Month(PX$35,PX$36,$F49)","v":true},{"$f":"Find_Month(PY$35,PY$36,$F49)","v":true},{"$f":"Find_Month(PZ$35,PZ$36,$F49)","v":true},{"$f":"Find_Month(QA$35,QA$36,$F49)","v":true},{"$f":"Find_Month(QB$35,QB$36,$F49)","v":true},{"$f":"Find_Month(QC$35,QC$36,$F49)","v":true},{"$f":"Find_Month(QD$35,QD$36,$F49)","v":true},{"$f":"Find_Month(QE$35,QE$36,$F49)","v":true},{"$f":"Find_Month(QF$35,QF$36,$F49)","v":true},{"$f":"Find_Month(QG$35,QG$36,$F49)","v":true},{"$f":"Find_Month(QH$35,QH$36,$F49)","v":true},{"$f":"Find_Month(QI$35,QI$36,$F49)","v":true},{"$f":"Find_Month(QJ$35,QJ$36,$F49)","v":true},{"$f":"Find_Month(QK$35,QK$36,$F49)","v":true},{"$f":"Find_Month(QL$35,QL$36,$F49)","v":true},{"$f":"Find_Month(QM$35,QM$36,$F49)","v":true},{"$f":"Find_Month(QN$35,QN$36,$F49)","v":true},{"$f":"Find_Month(QO$35,QO$36,$F49)","v":true},{"$f":"Find_Month(QP$35,QP$36,$F49)","v":true},{"$f":"Find_Month(QQ$35,QQ$36,$F49)","v":true},{"$f":"Find_Month(QR$35,QR$36,$F49)","v":true},{"$f":"Find_Month(QS$35,QS$36,$F49)","v":true},{"$f":"Find_Month(QT$35,QT$36,$F49)","v":true},{"$f":"Find_Month(QU$35,QU$36,$F49)","v":true},{"$f":"Find_Month(QV$35,QV$36,$F49)","v":true},{"$f":"Find_Month(QW$35,QW$36,$F49)","v":true},{"$f":"Find_Month(QX$35,QX$36,$F49)","v":true},{"$f":"Find_Month(QY$35,QY$36,$F49)","v":true},{"$f":"Find_Month(QZ$35,QZ$36,$F49)","v":true},{"$f":"Find_Month(RA$35,RA$36,$F49)","v":true},{"$f":"Find_Month(RB$35,RB$36,$F49)","v":true},{"$f":"Find_Month(RC$35,RC$36,$F49)","v":true},{"$f":"Find_Month(RD$35,RD$36,$F49)","v":true},{"$f":"Find_Month(RE$35,RE$36,$F49)","v":true},{"$f":"Find_Month(RF$35,RF$36,$F49)","v":true},{"$f":"Find_Month(RG$35,RG$36,$F49)","v":true},{"$f":"Find_Month(RH$35,RH$36,$F49)","v":true},{"$f":"Find_Month(RI$35,RI$36,$F49)","v":true},{"$f":"Find_Month(RJ$35,RJ$36,$F49)","v":true},{"$f":"Find_Month(RK$35,RK$36,$F49)","v":true},{"$f":"Find_Month(RL$35,RL$36,$F49)","v":true},{"$f":"Find_Month(RM$35,RM$36,$F49)","v":true},{"$f":"Find_Month(RN$35,RN$36,$F49)","v":true},{"$f":"Find_Month(RO$35,RO$36,$F49)","v":true},{"$f":"Find_Month(RP$35,RP$36,$F49)","v":true},{"$f":"Find_Month(RQ$35,RQ$36,$F49)","v":true},{"$f":"Find_Month(RR$35,RR$36,$F49)","v":true},{"$f":"Find_Month(RS$35,RS$36,$F49)","v":true},{"$f":"Find_Month(RT$35,RT$36,$F49)","v":true},{"$f":"Find_Month(RU$35,RU$36,$F49)","v":true},{"$f":"Find_Month(RV$35,RV$36,$F49)","v":true},{"$f":"Find_Month(RW$35,RW$36,$F49)","v":true},{"$f":"Find_Month(RX$35,RX$36,$F49)","v":true},{"$f":"Find_Month(RY$35,RY$36,$F49)","v":true},{"$f":"Find_Month(RZ$35,RZ$36,$F49)","v":true},{"$f":"Find_Month(SA$35,SA$36,$F49)","v":true},{"$f":"Find_Month(SB$35,SB$36,$F49)","v":true},{"$f":"Find_Month(SC$35,SC$36,$F49)","v":false},{"$f":"Find_Month(SD$35,SD$36,$F49)","v":false},{"$f":"Find_Month(SE$35,SE$36,$F49)","v":false},{"$f":"Find_Month(SF$35,SF$36,$F49)","v":false},{"$f":"Find_Month(SG$35,SG$36,$F49)","v":false},{"$f":"Find_Month(SH$35,SH$36,$F49)","v":false},{"$f":"Find_Month(SI$35,SI$36,$F49)","v":false},{"$f":"Find_Month(SJ$35,SJ$36,$F49)","v":false},{"$f":"Find_Month(SK$35,SK$36,$F49)","v":false},{"$f":"Find_Month(SL$35,SL$36,$F49)","v":false},{"$f":"Find_Month(SM$35,SM$36,$F49)","v":false},{"$f":"Find_Month(SN$35,SN$36,$F49)","v":false},{"$f":"Find_Month(SO$35,SO$36,$F49)","v":false},{"$f":"Find_Month(SP$35,SP$36,$F49)","v":false},{"$f":"Find_Month(SQ$35,SQ$36,$F49)","v":false},{"$f":"Find_Month(SR$35,SR$36,$F49)","v":false},{"$f":"Find_Month(SS$35,SS$36,$F49)","v":false},{"$f":"Find_Month(ST$35,ST$36,$F49)","v":false},{"$f":"Find_Month(SU$35,SU$36,$F49)","v":false},{"$f":"Find_Month(SV$35,SV$36,$F49)","v":false},{"$f":"Find_Month(SW$35,SW$36,$F49)","v":false},{"$f":"Find_Month(SX$35,SX$36,$F49)","v":false},{"$f":"Find_Month(SY$35,SY$36,$F49)","v":false},{"$f":"Find_Month(SZ$35,SZ$36,$F49)","v":false},{"$f":"Find_Month(TA$35,TA$36,$F49)","v":false},{"$f":"Find_Month(TB$35,TB$36,$F49)","v":false},{"$f":"Find_Month(TC$35,TC$36,$F49)","v":false},{"$f":"Find_Month(TD$35,TD$36,$F49)","v":false},{"$f":"Find_Month(TE$35,TE$36,$F49)","v":false},{"$f":"Find_Month(TF$35,TF$36,$F49)","v":false},{"$f":"Find_Month(TG$35,TG$36,$F49)","v":false},{"$f":"Find_Month(TH$35,TH$36,$F49)","v":false},{"$f":"Find_Month(TI$35,TI$36,$F49)","v":false},{"$f":"Find_Month(TJ$35,TJ$36,$F49)","v":false},{"$f":"Find_Month(TK$35,TK$36,$F49)","v":false},{"$f":"Find_Month(TL$35,TL$36,$F49)","v":false},{"$f":"Find_Month(TM$35,TM$36,$F49)","v":false},{"$f":"Find_Month(TN$35,TN$36,$F49)","v":false},{"$f":"Find_Month(TO$35,TO$36,$F49)","v":false},{"$f":"Find_Month(TP$35,TP$36,$F49)","v":false},{"$f":"Find_Month(TQ$35,TQ$36,$F49)","v":false},{"$f":"Find_Month(TR$35,TR$36,$F49)","v":false},{"$f":"Find_Month(TS$35,TS$36,$F49)","v":false},{"$f":"Find_Month(TT$35,TT$36,$F49)","v":false},{"$f":"Find_Month(TU$35,TU$36,$F49)","v":false},{"$f":"Find_Month(TV$35,TV$36,$F49)","v":false},{"$f":"Find_Month(TW$35,TW$36,$F49)","v":false},{"$f":"Find_Month(TX$35,TX$36,$F49)","v":false},{"$f":"Find_Month(TY$35,TY$36,$F49)","v":false}]
[null,null,null,null,null,12,266.83596279003933,8.3249335781173397E-2,null,{"$f":"Find_Month(J$35,J$36,$F50)","v":true},{"$f":"Find_Month(K$35,K$36,$F50)","v":true},{"$f":"Find_Month(L$35,L$36,$F50)","v":true},{"$f":"Find_Month(M$35,M$36,$F50)","v":true},{"$f":"Find_Month(N$35,N$36,$F50)","v":true},{"$f":"Find_Month(O$35,O$36,$F50)","v":true},{"$f":"Find_Month(P$35,P$36,$F50)","v":true},{"$f":"Find_Month(Q$35,Q$36,$F50)","v":true},{"$f":"Find_Month(R$35,R$36,$F50)","v":true},{"$f":"Find_Month(S$35,S$36,$F50)","v":true},{"$f":"Find_Month(T$35,T$36,$F50)","v":true},{"$f":"Find_Month(U$35,U$36,$F50)","v":true},{"$f":"Find_Month(V$35,V$36,$F50)","v":true},{"$f":"Find_Month(W$35,W$36,$F50)","v":true},{"$f":"Find_Month(X$35,X$36,$F50)","v":true},{"$f":"Find_Month(Y$35,Y$36,$F50)","v":true},{"$f":"Find_Month(Z$35,Z$36,$F50)","v":true},{"$f":"Find_Month(AA$35,AA$36,$F50)","v":true},{"$f":"Find_Month(AB$35,AB$36,$F50)","v":true},{"$f":"Find_Month(AC$35,AC$36,$F50)","v":true},{"$f":"Find_Month(AD$35,AD$36,$F50)","v":true},{"$f":"Find_Month(AE$35,AE$36,$F50)","v":true},{"$f":"Find_Month(AF$35,AF$36,$F50)","v":true},{"$f":"Find_Month(AG$35,AG$36,$F50)","v":true},{"$f":"Find_Month(AH$35,AH$36,$F50)","v":true},{"$f":"Find_Month(AI$35,AI$36,$F50)","v":true},{"$f":"Find_Month(AJ$35,AJ$36,$F50)","v":true},{"$f":"Find_Month(AK$35,AK$36,$F50)","v":true},{"$f":"Find_Month(AL$35,AL$36,$F50)","v":true},{"$f":"Find_Month(AM$35,AM$36,$F50)","v":true},{"$f":"Find_Month(AN$35,AN$36,$F50)","v":true},{"$f":"Find_Month(AO$35,AO$36,$F50)","v":true},{"$f":"Find_Month(AP$35,AP$36,$F50)","v":true},{"$f":"Find_Month(AQ$35,AQ$36,$F50)","v":true},{"$f":"Find_Month(AR$35,AR$36,$F50)","v":true},{"$f":"Find_Month(AS$35,AS$36,$F50)","v":true},{"$f":"Find_Month(AT$35,AT$36,$F50)","v":true},{"$f":"Find_Month(AU$35,AU$36,$F50)","v":true},{"$f":"Find_Month(AV$35,AV$36,$F50)","v":true},{"$f":"Find_Month(AW$35,AW$36,$F50)","v":true},{"$f":"Find_Month(AX$35,AX$36,$F50)","v":true},{"$f":"Find_Month(AY$35,AY$36,$F50)","v":true},{"$f":"Find_Month(AZ$35,AZ$36,$F50)","v":true},{"$f":"Find_Month(BA$35,BA$36,$F50)","v":true},{"$f":"Find_Month(BB$35,BB$36,$F50)","v":true},{"$f":"Find_Month(BC$35,BC$36,$F50)","v":true},{"$f":"Find_Month(BD$35,BD$36,$F50)","v":true},{"$f":"Find_Month(BE$35,BE$36,$F50)","v":true},{"$f":"Find_Month(BF$35,BF$36,$F50)","v":true},{"$f":"Find_Month(BG$35,BG$36,$F50)","v":true},{"$f":"Find_Month(BH$35,BH$36,$F50)","v":true},{"$f":"Find_Month(BI$35,BI$36,$F50)","v":true},{"$f":"Find_Month(BJ$35,BJ$36,$F50)","v":true},{"$f":"Find_Month(BK$35,BK$36,$F50)","v":true},{"$f":"Find_Month(BL$35,BL$36,$F50)","v":true},{"$f":"Find_Month(BM$35,BM$36,$F50)","v":true},{"$f":"Find_Month(BN$35,BN$36,$F50)","v":true},{"$f":"Find_Month(BO$35,BO$36,$F50)","v":true},{"$f":"Find_Month(BP$35,BP$36,$F50)","v":true},{"$f":"Find_Month(BQ$35,BQ$36,$F50)","v":true},{"$f":"Find_Month(BR$35,BR$36,$F50)","v":true},{"$f":"Find_Month(BS$35,BS$36,$F50)","v":true},{"$f":"Find_Month(BT$35,BT$36,$F50)","v":true},{"$f":"Find_Month(BU$35,BU$36,$F50)","v":true},{"$f":"Find_Month(BV$35,BV$36,$F50)","v":true},{"$f":"Find_Month(BW$35,BW$36,$F50)","v":true},{"$f":"Find_Month(BX$35,BX$36,$F50)","v":true},{"$f":"Find_Month(BY$35,BY$36,$F50)","v":true},{"$f":"Find_Month(BZ$35,BZ$36,$F50)","v":true},{"$f":"Find_Month(CA$35,CA$36,$F50)","v":true},{"$f":"Find_Month(CB$35,CB$36,$F50)","v":true},{"$f":"Find_Month(CC$35,CC$36,$F50)","v":true},{"$f":"Find_Month(CD$35,CD$36,$F50)","v":true},{"$f":"Find_Month(CE$35,CE$36,$F50)","v":true},{"$f":"Find_Month(CF$35,CF$36,$F50)","v":true},{"$f":"Find_Month(CG$35,CG$36,$F50)","v":true},{"$f":"Find_Month(CH$35,CH$36,$F50)","v":true},{"$f":"Find_Month(CI$35,CI$36,$F50)","v":true},{"$f":"Find_Month(CJ$35,CJ$36,$F50)","v":true},{"$f":"Find_Month(CK$35,CK$36,$F50)","v":true},{"$f":"Find_Month(CL$35,CL$36,$F50)","v":true},{"$f":"Find_Month(CM$35,CM$36,$F50)","v":true},{"$f":"Find_Month(CN$35,CN$36,$F50)","v":true},{"$f":"Find_Month(CO$35,CO$36,$F50)","v":true},{"$f":"Find_Month(CP$35,CP$36,$F50)","v":true},{"$f":"Find_Month(CQ$35,CQ$36,$F50)","v":true},{"$f":"Find_Month(CR$35,CR$36,$F50)","v":true},{"$f":"Find_Month(CS$35,CS$36,$F50)","v":true},{"$f":"Find_Month(CT$35,CT$36,$F50)","v":true},{"$f":"Find_Month(CU$35,CU$36,$F50)","v":true},{"$f":"Find_Month(CV$35,CV$36,$F50)","v":true},{"$f":"Find_Month(CW$35,CW$36,$F50)","v":true},{"$f":"Find_Month(CX$35,CX$36,$F50)","v":true},{"$f":"Find_Month(CY$35,CY$36,$F50)","v":true},{"$f":"Find_Month(CZ$35,CZ$36,$F50)","v":true},{"$f":"Find_Month(DA$35,DA$36,$F50)","v":true},{"$f":"Find_Month(DB$35,DB$36,$F50)","v":true},{"$f":"Find_Month(DC$35,DC$36,$F50)","v":true},{"$f":"Find_Month(DD$35,DD$36,$F50)","v":true},{"$f":"Find_Month(DE$35,DE$36,$F50)","v":true},{"$f":"Find_Month(DF$35,DF$36,$F50)","v":true},{"$f":"Find_Month(DG$35,DG$36,$F50)","v":true},{"$f":"Find_Month(DH$35,DH$36,$F50)","v":true},{"$f":"Find_Month(DI$35,DI$36,$F50)","v":true},{"$f":"Find_Month(DJ$35,DJ$36,$F50)","v":true},{"$f":"Find_Month(DK$35,DK$36,$F50)","v":true},{"$f":"Find_Month(DL$35,DL$36,$F50)","v":true},{"$f":"Find_Month(DM$35,DM$36,$F50)","v":true},{"$f":"Find_Month(DN$35,DN$36,$F50)","v":true},{"$f":"Find_Month(DO$35,DO$36,$F50)","v":true},{"$f":"Find_Month(DP$35,DP$36,$F50)","v":true},{"$f":"Find_Month(DQ$35,DQ$36,$F50)","v":true},{"$f":"Find_Month(DR$35,DR$36,$F50)","v":true},{"$f":"Find_Month(DS$35,DS$36,$F50)","v":true},{"$f":"Find_Month(DT$35,DT$36,$F50)","v":true},{"$f":"Find_Month(DU$35,DU$36,$F50)","v":true},{"$f":"Find_Month(DV$35,DV$36,$F50)","v":true},{"$f":"Find_Month(DW$35,DW$36,$F50)","v":true},{"$f":"Find_Month(DX$35,DX$36,$F50)","v":true},{"$f":"Find_Month(DY$35,DY$36,$F50)","v":true},{"$f":"Find_Month(DZ$35,DZ$36,$F50)","v":true},{"$f":"Find_Month(EA$35,EA$36,$F50)","v":true},{"$f":"Find_Month(EB$35,EB$36,$F50)","v":true},{"$f":"Find_Month(EC$35,EC$36,$F50)","v":true},{"$f":"Find_Month(ED$35,ED$36,$F50)","v":true},{"$f":"Find_Month(EE$35,EE$36,$F50)","v":true},{"$f":"Find_Month(EF$35,EF$36,$F50)","v":true},{"$f":"Find_Month(EG$35,EG$36,$F50)","v":true},{"$f":"Find_Month(EH$35,EH$36,$F50)","v":true},{"$f":"Find_Month(EI$35,EI$36,$F50)","v":true},{"$f":"Find_Month(EJ$35,EJ$36,$F50)","v":true},{"$f":"Find_Month(EK$35,EK$36,$F50)","v":true},{"$f":"Find_Month(EL$35,EL$36,$F50)","v":true},{"$f":"Find_Month(EM$35,EM$36,$F50)","v":true},{"$f":"Find_Month(EN$35,EN$36,$F50)","v":true},{"$f":"Find_Month(EO$35,EO$36,$F50)","v":true},{"$f":"Find_Month(EP$35,EP$36,$F50)","v":true},{"$f":"Find_Month(EQ$35,EQ$36,$F50)","v":true},{"$f":"Find_Month(ER$35,ER$36,$F50)","v":true},{"$f":"Find_Month(ES$35,ES$36,$F50)","v":true},{"$f":"Find_Month(ET$35,ET$36,$F50)","v":true},{"$f":"Find_Month(EU$35,EU$36,$F50)","v":true},{"$f":"Find_Month(EV$35,EV$36,$F50)","v":true},{"$f":"Find_Month(EW$35,EW$36,$F50)","v":true},{"$f":"Find_Month(EX$35,EX$36,$F50)","v":true},{"$f":"Find_Month(EY$35,EY$36,$F50)","v":true},{"$f":"Find_Month(EZ$35,EZ$36,$F50)","v":true},{"$f":"Find_Month(FA$35,FA$36,$F50)","v":true},{"$f":"Find_Month(FB$35,FB$36,$F50)","v":true},{"$f":"Find_Month(FC$35,FC$36,$F50)","v":true},{"$f":"Find_Month(FD$35,FD$36,$F50)","v":true},{"$f":"Find_Month(FE$35,FE$36,$F50)","v":true},{"$f":"Find_Month(FF$35,FF$36,$F50)","v":true},{"$f":"Find_Month(FG$35,FG$36,$F50)","v":true},{"$f":"Find_Month(FH$35,FH$36,$F50)","v":true},{"$f":"Find_Month(FI$35,FI$36,$F50)","v":true},{"$f":"Find_Month(FJ$35,FJ$36,$F50)","v":true},{"$f":"Find_Month(FK$35,FK$36,$F50)","v":true},{"$f":"Find_Month(FL$35,FL$36,$F50)","v":true},{"$f":"Find_Month(FM$35,FM$36,$F50)","v":true},{"$f":"Find_Month(FN$35,FN$36,$F50)","v":true},{"$f":"Find_Month(FO$35,FO$36,$F50)","v":true},{"$f":"Find_Month(FP$35,FP$36,$F50)","v":true},{"$f":"Find_Month(FQ$35,FQ$36,$F50)","v":true},{"$f":"Find_Month(FR$35,FR$36,$F50)","v":true},{"$f":"Find_Month(FS$35,FS$36,$F50)","v":true},{"$f":"Find_Month(FT$35,FT$36,$F50)","v":true},{"$f":"Find_Month(FU$35,FU$36,$F50)","v":true},{"$f":"Find_Month(FV$35,FV$36,$F50)","v":true},{"$f":"Find_Month(FW$35,FW$36,$F50)","v":true},{"$f":"Find_Month(FX$35,FX$36,$F50)","v":true},{"$f":"Find_Month(FY$35,FY$36,$F50)","v":true},{"$f":"Find_Month(FZ$35,FZ$36,$F50)","v":true},{"$f":"Find_Month(GA$35,GA$36,$F50)","v":true},{"$f":"Find_Month(GB$35,GB$36,$F50)","v":true},{"$f":"Find_Month(GC$35,GC$36,$F50)","v":true},{"$f":"Find_Month(GD$35,GD$36,$F50)","v":true},{"$f":"Find_Month(GE$35,GE$36,$F50)","v":true},{"$f":"Find_Month(GF$35,GF$36,$F50)","v":true},{"$f":"Find_Month(GG$35,GG$36,$F50)","v":true},{"$f":"Find_Month(GH$35,GH$36,$F50)","v":true},{"$f":"Find_Month(GI$35,GI$36,$F50)","v":true},{"$f":"Find_Month(GJ$35,GJ$36,$F50)","v":true},{"$f":"Find_Month(GK$35,GK$36,$F50)","v":true},{"$f":"Find_Month(GL$35,GL$36,$F50)","v":true},{"$f":"Find_Month(GM$35,GM$36,$F50)","v":true},{"$f":"Find_Month(GN$35,GN$36,$F50)","v":true},{"$f":"Find_Month(GO$35,GO$36,$F50)","v":true},{"$f":"Find_Month(GP$35,GP$36,$F50)","v":true},{"$f":"Find_Month(GQ$35,GQ$36,$F50)","v":true},{"$f":"Find_Month(GR$35,GR$36,$F50)","v":true},{"$f":"Find_Month(GS$35,GS$36,$F50)","v":true},{"$f":"Find_Month(GT$35,GT$36,$F50)","v":true},{"$f":"Find_Month(GU$35,GU$36,$F50)","v":true},{"$f":"Find_Month(GV$35,GV$36,$F50)","v":true},{"$f":"Find_Month(GW$35,GW$36,$F50)","v":true},{"$f":"Find_Month(GX$35,GX$36,$F50)","v":true},{"$f":"Find_Month(GY$35,GY$36,$F50)","v":true},{"$f":"Find_Month(GZ$35,GZ$36,$F50)","v":true},{"$f":"Find_Month(HA$35,HA$36,$F50)","v":true},{"$f":"Find_Month(HB$35,HB$36,$F50)","v":true},{"$f":"Find_Month(HC$35,HC$36,$F50)","v":true},{"$f":"Find_Month(HD$35,HD$36,$F50)","v":true},{"$f":"Find_Month(HE$35,HE$36,$F50)","v":true},{"$f":"Find_Month(HF$35,HF$36,$F50)","v":true},{"$f":"Find_Month(HG$35,HG$36,$F50)","v":true},{"$f":"Find_Month(HH$35,HH$36,$F50)","v":true},{"$f":"Find_Month(HI$35,HI$36,$F50)","v":true},{"$f":"Find_Month(HJ$35,HJ$36,$F50)","v":true},{"$f":"Find_Month(HK$35,HK$36,$F50)","v":true},{"$f":"Find_Month(HL$35,HL$36,$F50)","v":true},{"$f":"Find_Month(HM$35,HM$36,$F50)","v":true},{"$f":"Find_Month(HN$35,HN$36,$F50)","v":true},{"$f":"Find_Month(HO$35,HO$36,$F50)","v":true},{"$f":"Find_Month(HP$35,HP$36,$F50)","v":true},{"$f":"Find_Month(HQ$35,HQ$36,$F50)","v":true},{"$f":"Find_Month(HR$35,HR$36,$F50)","v":true},{"$f":"Find_Month(HS$35,HS$36,$F50)","v":true},{"$f":"Find_Month(HT$35,HT$36,$F50)","v":true},{"$f":"Find_Month(HU$35,HU$36,$F50)","v":true},{"$f":"Find_Month(HV$35,HV$36,$F50)","v":true},{"$f":"Find_Month(HW$35,HW$36,$F50)","v":true},{"$f":"Find_Month(HX$35,HX$36,$F50)","v":true},{"$f":"Find_Month(HY$35,HY$36,$F50)","v":true},{"$f":"Find_Month(HZ$35,HZ$36,$F50)","v":true},{"$f":"Find_Month(IA$35,IA$36,$F50)","v":true},{"$f":"Find_Month(IB$35,IB$36,$F50)","v":true},{"$f":"Find_Month(IC$35,IC$36,$F50)","v":true},{"$f":"Find_Month(ID$35,ID$36,$F50)","v":true},{"$f":"Find_Month(IE$35,IE$36,$F50)","v":true},{"$f":"Find_Month(IF$35,IF$36,$F50)","v":true},{"$f":"Find_Month(IG$35,IG$36,$F50)","v":true},{"$f":"Find_Month(IH$35,IH$36,$F50)","v":true},{"$f":"Find_Month(II$35,II$36,$F50)","v":true},{"$f":"Find_Month(IJ$35,IJ$36,$F50)","v":true},{"$f":"Find_Month(IK$35,IK$36,$F50)","v":true},{"$f":"Find_Month(IL$35,IL$36,$F50)","v":true},{"$f":"Find_Month(IM$35,IM$36,$F50)","v":true},{"$f":"Find_Month(IN$35,IN$36,$F50)","v":true},{"$f":"Find_Month(IO$35,IO$36,$F50)","v":true},{"$f":"Find_Month(IP$35,IP$36,$F50)","v":true},{"$f":"Find_Month(IQ$35,IQ$36,$F50)","v":true},{"$f":"Find_Month(IR$35,IR$36,$F50)","v":true},{"$f":"Find_Month(IS$35,IS$36,$F50)","v":true},{"$f":"Find_Month(IT$35,IT$36,$F50)","v":true},{"$f":"Find_Month(IU$35,IU$36,$F50)","v":true},{"$f":"Find_Month(IV$35,IV$36,$F50)","v":true},{"$f":"Find_Month(IW$35,IW$36,$F50)","v":true},{"$f":"Find_Month(IX$35,IX$36,$F50)","v":true},{"$f":"Find_Month(IY$35,IY$36,$F50)","v":true},{"$f":"Find_Month(IZ$35,IZ$36,$F50)","v":true},{"$f":"Find_Month(JA$35,JA$36,$F50)","v":true},{"$f":"Find_Month(JB$35,JB$36,$F50)","v":true},{"$f":"Find_Month(JC$35,JC$36,$F50)","v":true},{"$f":"Find_Month(JD$35,JD$36,$F50)","v":true},{"$f":"Find_Month(JE$35,JE$36,$F50)","v":true},{"$f":"Find_Month(JF$35,JF$36,$F50)","v":true},{"$f":"Find_Month(JG$35,JG$36,$F50)","v":true},{"$f":"Find_Month(JH$35,JH$36,$F50)","v":true},{"$f":"Find_Month(JI$35,JI$36,$F50)","v":true},{"$f":"Find_Month(JJ$35,JJ$36,$F50)","v":true},{"$f":"Find_Month(JK$35,JK$36,$F50)","v":true},{"$f":"Find_Month(JL$35,JL$36,$F50)","v":true},{"$f":"Find_Month(JM$35,JM$36,$F50)","v":true},{"$f":"Find_Month(JN$35,JN$36,$F50)","v":true},{"$f":"Find_Month(JO$35,JO$36,$F50)","v":true},{"$f":"Find_Month(JP$35,JP$36,$F50)","v":true},{"$f":"Find_Month(JQ$35,JQ$36,$F50)","v":true},{"$f":"Find_Month(JR$35,JR$36,$F50)","v":true},{"$f":"Find_Month(JS$35,JS$36,$F50)","v":true},{"$f":"Find_Month(JT$35,JT$36,$F50)","v":true},{"$f":"Find_Month(JU$35,JU$36,$F50)","v":true},{"$f":"Find_Month(JV$35,JV$36,$F50)","v":true},{"$f":"Find_Month(JW$35,JW$36,$F50)","v":true},{"$f":"Find_Month(JX$35,JX$36,$F50)","v":true},{"$f":"Find_Month(JY$35,JY$36,$F50)","v":true},{"$f":"Find_Month(JZ$35,JZ$36,$F50)","v":true},{"$f":"Find_Month(KA$35,KA$36,$F50)","v":true},{"$f":"Find_Month(KB$35,KB$36,$F50)","v":true},{"$f":"Find_Month(KC$35,KC$36,$F50)","v":true},{"$f":"Find_Month(KD$35,KD$36,$F50)","v":true},{"$f":"Find_Month(KE$35,KE$36,$F50)","v":true},{"$f":"Find_Month(KF$35,KF$36,$F50)","v":true},{"$f":"Find_Month(KG$35,KG$36,$F50)","v":true},{"$f":"Find_Month(KH$35,KH$36,$F50)","v":true},{"$f":"Find_Month(KI$35,KI$36,$F50)","v":true},{"$f":"Find_Month(KJ$35,KJ$36,$F50)","v":true},{"$f":"Find_Month(KK$35,KK$36,$F50)","v":true},{"$f":"Find_Month(KL$35,KL$36,$F50)","v":true},{"$f":"Find_Month(KM$35,KM$36,$F50)","v":true},{"$f":"Find_Month(KN$35,KN$36,$F50)","v":true},{"$f":"Find_Month(KO$35,KO$36,$F50)","v":true},{"$f":"Find_Month(KP$35,KP$36,$F50)","v":true},{"$f":"Find_Month(KQ$35,KQ$36,$F50)","v":true},{"$f":"Find_Month(KR$35,KR$36,$F50)","v":true},{"$f":"Find_Month(KS$35,KS$36,$F50)","v":true},{"$f":"Find_Month(KT$35,KT$36,$F50)","v":true},{"$f":"Find_Month(KU$35,KU$36,$F50)","v":true},{"$f":"Find_Month(KV$35,KV$36,$F50)","v":true},{"$f":"Find_Month(KW$35,KW$36,$F50)","v":true},{"$f":"Find_Month(KX$35,KX$36,$F50)","v":true},{"$f":"Find_Month(KY$35,KY$36,$F50)","v":true},{"$f":"Find_Month(KZ$35,KZ$36,$F50)","v":true},{"$f":"Find_Month(LA$35,LA$36,$F50)","v":true},{"$f":"Find_Month(LB$35,LB$36,$F50)","v":true},{"$f":"Find_Month(LC$35,LC$36,$F50)","v":true},{"$f":"Find_Month(LD$35,LD$36,$F50)","v":true},{"$f":"Find_Month(LE$35,LE$36,$F50)","v":true},{"$f":"Find_Month(LF$35,LF$36,$F50)","v":true},{"$f":"Find_Month(LG$35,LG$36,$F50)","v":true},{"$f":"Find_Month(LH$35,LH$36,$F50)","v":true},{"$f":"Find_Month(LI$35,LI$36,$F50)","v":true},{"$f":"Find_Month(LJ$35,LJ$36,$F50)","v":true},{"$f":"Find_Month(LK$35,LK$36,$F50)","v":true},{"$f":"Find_Month(LL$35,LL$36,$F50)","v":true},{"$f":"Find_Month(LM$35,LM$36,$F50)","v":true},{"$f":"Find_Month(LN$35,LN$36,$F50)","v":true},{"$f":"Find_Month(LO$35,LO$36,$F50)","v":true},{"$f":"Find_Month(LP$35,LP$36,$F50)","v":true},{"$f":"Find_Month(LQ$35,LQ$36,$F50)","v":true},{"$f":"Find_Month(LR$35,LR$36,$F50)","v":true},{"$f":"Find_Month(LS$35,LS$36,$F50)","v":true},{"$f":"Find_Month(LT$35,LT$36,$F50)","v":true},{"$f":"Find_Month(LU$35,LU$36,$F50)","v":true},{"$f":"Find_Month(LV$35,LV$36,$F50)","v":true},{"$f":"Find_Month(LW$35,LW$36,$F50)","v":true},{"$f":"Find_Month(LX$35,LX$36,$F50)","v":true},{"$f":"Find_Month(LY$35,LY$36,$F50)","v":true},{"$f":"Find_Month(LZ$35,LZ$36,$F50)","v":true},{"$f":"Find_Month(MA$35,MA$36,$F50)","v":true},{"$f":"Find_Month(MB$35,MB$36,$F50)","v":true},{"$f":"Find_Month(MC$35,MC$36,$F50)","v":true},{"$f":"Find_Month(MD$35,MD$36,$F50)","v":true},{"$f":"Find_Month(ME$35,ME$36,$F50)","v":true},{"$f":"Find_Month(MF$35,MF$36,$F50)","v":true},{"$f":"Find_Month(MG$35,MG$36,$F50)","v":true},{"$f":"Find_Month(MH$35,MH$36,$F50)","v":true},{"$f":"Find_Month(MI$35,MI$36,$F50)","v":true},{"$f":"Find_Month(MJ$35,MJ$36,$F50)","v":true},{"$f":"Find_Month(MK$35,MK$36,$F50)","v":true},{"$f":"Find_Month(ML$35,ML$36,$F50)","v":true},{"$f":"Find_Month(MM$35,MM$36,$F50)","v":true},{"$f":"Find_Month(MN$35,MN$36,$F50)","v":true},{"$f":"Find_Month(MO$35,MO$36,$F50)","v":true},{"$f":"Find_Month(MP$35,MP$36,$F50)","v":true},{"$f":"Find_Month(MQ$35,MQ$36,$F50)","v":true},{"$f":"Find_Month(MR$35,MR$36,$F50)","v":true},{"$f":"Find_Month(MS$35,MS$36,$F50)","v":true},{"$f":"Find_Month(MT$35,MT$36,$F50)","v":true},{"$f":"Find_Month(MU$35,MU$36,$F50)","v":true},{"$f":"Find_Month(MV$35,MV$36,$F50)","v":true},{"$f":"Find_Month(MW$35,MW$36,$F50)","v":true},{"$f":"Find_Month(MX$35,MX$36,$F50)","v":true},{"$f":"Find_Month(MY$35,MY$36,$F50)","v":true},{"$f":"Find_Month(MZ$35,MZ$36,$F50)","v":true},{"$f":"Find_Month(NA$35,NA$36,$F50)","v":true},{"$f":"Find_Month(NB$35,NB$36,$F50)","v":true},{"$f":"Find_Month(NC$35,NC$36,$F50)","v":true},{"$f":"Find_Month(ND$35,ND$36,$F50)","v":true},{"$f":"Find_Month(NE$35,NE$36,$F50)","v":true},{"$f":"Find_Month(NF$35,NF$36,$F50)","v":true},{"$f":"Find_Month(NG$35,NG$36,$F50)","v":true},{"$f":"Find_Month(NH$35,NH$36,$F50)","v":true},{"$f":"Find_Month(NI$35,NI$36,$F50)","v":true},{"$f":"Find_Month(NJ$35,NJ$36,$F50)","v":true},{"$f":"Find_Month(NK$35,NK$36,$F50)","v":true},{"$f":"Find_Month(NL$35,NL$36,$F50)","v":true},{"$f":"Find_Month(NM$35,NM$36,$F50)","v":true},{"$f":"Find_Month(NN$35,NN$36,$F50)","v":true},{"$f":"Find_Month(NO$35,NO$36,$F50)","v":true},{"$f":"Find_Month(NP$35,NP$36,$F50)","v":true},{"$f":"Find_Month(NQ$35,NQ$36,$F50)","v":true},{"$f":"Find_Month(NR$35,NR$36,$F50)","v":true},{"$f":"Find_Month(NS$35,NS$36,$F50)","v":true},{"$f":"Find_Month(NT$35,NT$36,$F50)","v":true},{"$f":"Find_Month(NU$35,NU$36,$F50)","v":true},{"$f":"Find_Month(NV$35,NV$36,$F50)","v":true},{"$f":"Find_Month(NW$35,NW$36,$F50)","v":true},{"$f":"Find_Month(NX$35,NX$36,$F50)","v":true},{"$f":"Find_Month(NY$35,NY$36,$F50)","v":true},{"$f":"Find_Month(NZ$35,NZ$36,$F50)","v":true},{"$f":"Find_Month(OA$35,OA$36,$F50)","v":true},{"$f":"Find_Month(OB$35,OB$36,$F50)","v":true},{"$f":"Find_Month(OC$35,OC$36,$F50)","v":true},{"$f":"Find_Month(OD$35,OD$36,$F50)","v":true},{"$f":"Find_Month(OE$35,OE$36,$F50)","v":true},{"$f":"Find_Month(OF$35,OF$36,$F50)","v":true},{"$f":"Find_Month(OG$35,OG$36,$F50)","v":true},{"$f":"Find_Month(OH$35,OH$36,$F50)","v":true},{"$f":"Find_Month(OI$35,OI$36,$F50)","v":true},{"$f":"Find_Month(OJ$35,OJ$36,$F50)","v":true},{"$f":"Find_Month(OK$35,OK$36,$F50)","v":true},{"$f":"Find_Month(OL$35,OL$36,$F50)","v":true},{"$f":"Find_Month(OM$35,OM$36,$F50)","v":true},{"$f":"Find_Month(ON$35,ON$36,$F50)","v":true},{"$f":"Find_Month(OO$35,OO$36,$F50)","v":true},{"$f":"Find_Month(OP$35,OP$36,$F50)","v":true},{"$f":"Find_Month(OQ$35,OQ$36,$F50)","v":true},{"$f":"Find_Month(OR$35,OR$36,$F50)","v":true},{"$f":"Find_Month(OS$35,OS$36,$F50)","v":true},{"$f":"Find_Month(OT$35,OT$36,$F50)","v":true},{"$f":"Find_Month(OU$35,OU$36,$F50)","v":true},{"$f":"Find_Month(OV$35,OV$36,$F50)","v":true},{"$f":"Find_Month(OW$35,OW$36,$F50)","v":true},{"$f":"Find_Month(OX$35,OX$36,$F50)","v":true},{"$f":"Find_Month(OY$35,OY$36,$F50)","v":true},{"$f":"Find_Month(OZ$35,OZ$36,$F50)","v":true},{"$f":"Find_Month(PA$35,PA$36,$F50)","v":true},{"$f":"Find_Month(PB$35,PB$36,$F50)","v":true},{"$f":"Find_Month(PC$35,PC$36,$F50)","v":true},{"$f":"Find_Month(PD$35,PD$36,$F50)","v":true},{"$f":"Find_Month(PE$35,PE$36,$F50)","v":true},{"$f":"Find_Month(PF$35,PF$36,$F50)","v":true},{"$f":"Find_Month(PG$35,PG$36,$F50)","v":true},{"$f":"Find_Month(PH$35,PH$36,$F50)","v":true},{"$f":"Find_Month(PI$35,PI$36,$F50)","v":true},{"$f":"Find_Month(PJ$35,PJ$36,$F50)","v":true},{"$f":"Find_Month(PK$35,PK$36,$F50)","v":true},{"$f":"Find_Month(PL$35,PL$36,$F50)","v":true},{"$f":"Find_Month(PM$35,PM$36,$F50)","v":true},{"$f":"Find_Month(PN$35,PN$36,$F50)","v":true},{"$f":"Find_Month(PO$35,PO$36,$F50)","v":true},{"$f":"Find_Month(PP$35,PP$36,$F50)","v":true},{"$f":"Find_Month(PQ$35,PQ$36,$F50)","v":true},{"$f":"Find_Month(PR$35,PR$36,$F50)","v":true},{"$f":"Find_Month(PS$35,PS$36,$F50)","v":true},{"$f":"Find_Month(PT$35,PT$36,$F50)","v":true},{"$f":"Find_Month(PU$35,PU$36,$F50)","v":true},{"$f":"Find_Month(PV$35,PV$36,$F50)","v":true},{"$f":"Find_Month(PW$35,PW$36,$F50)","v":true},{"$f":"Find_Month(PX$35,PX$36,$F50)","v":true},{"$f":"Find_Month(PY$35,PY$36,$F50)","v":true},{"$f":"Find_Month(PZ$35,PZ$36,$F50)","v":true},{"$f":"Find_Month(QA$35,QA$36,$F50)","v":true},{"$f":"Find_Month(QB$35,QB$36,$F50)","v":true},{"$f":"Find_Month(QC$35,QC$36,$F50)","v":true},{"$f":"Find_Month(QD$35,QD$36,$F50)","v":true},{"$f":"Find_Month(QE$35,QE$36,$F50)","v":true},{"$f":"Find_Month(QF$35,QF$36,$F50)","v":true},{"$f":"Find_Month(QG$35,QG$36,$F50)","v":true},{"$f":"Find_Month(QH$35,QH$36,$F50)","v":true},{"$f":"Find_Month(QI$35,QI$36,$F50)","v":true},{"$f":"Find_Month(QJ$35,QJ$36,$F50)","v":true},{"$f":"Find_Month(QK$35,QK$36,$F50)","v":true},{"$f":"Find_Month(QL$35,QL$36,$F50)","v":true},{"$f":"Find_Month(QM$35,QM$36,$F50)","v":true},{"$f":"Find_Month(QN$35,QN$36,$F50)","v":true},{"$f":"Find_Month(QO$35,QO$36,$F50)","v":true},{"$f":"Find_Month(QP$35,QP$36,$F50)","v":true},{"$f":"Find_Month(QQ$35,QQ$36,$F50)","v":true},{"$f":"Find_Month(QR$35,QR$36,$F50)","v":true},{"$f":"Find_Month(QS$35,QS$36,$F50)","v":true},{"$f":"Find_Month(QT$35,QT$36,$F50)","v":true},{"$f":"Find_Month(QU$35,QU$36,$F50)","v":true},{"$f":"Find_Month(QV$35,QV$36,$F50)","v":true},{"$f":"Find_Month(QW$35,QW$36,$F50)","v":true},{"$f":"Find_Month(QX$35,QX$36,$F50)","v":true},{"$f":"Find_Month(QY$35,QY$36,$F50)","v":true},{"$f":"Find_Month(QZ$35,QZ$36,$F50)","v":true},{"$f":"Find_Month(RA$35,RA$36,$F50)","v":true},{"$f":"Find_Month(RB$35,RB$36,$F50)","v":true},{"$f":"Find_Month(RC$35,RC$36,$F50)","v":true},{"$f":"Find_Month(RD$35,RD$36,$F50)","v":true},{"$f":"Find_Month(RE$35,RE$36,$F50)","v":true},{"$f":"Find_Month(RF$35,RF$36,$F50)","v":true},{"$f":"Find_Month(RG$35,RG$36,$F50)","v":true},{"$f":"Find_Month(RH$35,RH$36,$F50)","v":true},{"$f":"Find_Month(RI$35,RI$36,$F50)","v":true},{"$f":"Find_Month(RJ$35,RJ$36,$F50)","v":true},{"$f":"Find_Month(RK$35,RK$36,$F50)","v":true},{"$f":"Find_Month(RL$35,RL$36,$F50)","v":true},{"$f":"Find_Month(RM$35,RM$36,$F50)","v":true},{"$f":"Find_Month(RN$35,RN$36,$F50)","v":true},{"$f":"Find_Month(RO$35,RO$36,$F50)","v":true},{"$f":"Find_Month(RP$35,RP$36,$F50)","v":true},{"$f":"Find_Month(RQ$35,RQ$36,$F50)","v":true},{"$f":"Find_Month(RR$35,RR$36,$F50)","v":true},{"$f":"Find_Month(RS$35,RS$36,$F50)","v":true},{"$f":"Find_Month(RT$35,RT$36,$F50)","v":true},{"$f":"Find_Month(RU$35,RU$36,$F50)","v":true},{"$f":"Find_Month(RV$35,RV$36,$F50)","v":true},{"$f":"Find_Month(RW$35,RW$36,$F50)","v":true},{"$f":"Find_Month(RX$35,RX$36,$F50)","v":true},{"$f":"Find_Month(RY$35,RY$36,$F50)","v":true},{"$f":"Find_Month(RZ$35,RZ$36,$F50)","v":true},{"$f":"Find_Month(SA$35,SA$36,$F50)","v":true},{"$f":"Find_Month(SB$35,SB$36,$F50)","v":true},{"$f":"Find_Month(SC$35,SC$36,$F50)","v":true},{"$f":"Find_Month(SD$35,SD$36,$F50)","v":true},{"$f":"Find_Month(SE$35,SE$36,$F50)","v":true},{"$f":"Find_Month(SF$35,SF$36,$F50)","v":true},{"$f":"Find_Month(SG$35,SG$36,$F50)","v":true},{"$f":"Find_Month(SH$35,SH$36,$F50)","v":true},{"$f":"Find_Month(SI$35,SI$36,$F50)","v":true},{"$f":"Find_Month(SJ$35,SJ$36,$F50)","v":true},{"$f":"Find_Month(SK$35,SK$36,$F50)","v":true},{"$f":"Find_Month(SL$35,SL$36,$F50)","v":true},{"$f":"Find_Month(SM$35,SM$36,$F50)","v":true},{"$f":"Find_Month(SN$35,SN$36,$F50)","v":true},{"$f":"Find_Month(SO$35,SO$36,$F50)","v":true},{"$f":"Find_Month(SP$35,SP$36,$F50)","v":true},{"$f":"Find_Month(SQ$35,SQ$36,$F50)","v":true},{"$f":"Find_Month(SR$35,SR$36,$F50)","v":true},{"$f":"Find_Month(SS$35,SS$36,$F50)","v":true},{"$f":"Find_Month(ST$35,ST$36,$F50)","v":true},{"$f":"Find_Month(SU$35,SU$36,$F50)","v":true},{"$f":"Find_Month(SV$35,SV$36,$F50)","v":true},{"$f":"Find_Month(SW$35,SW$36,$F50)","v":true},{"$f":"Find_Month(SX$35,SX$36,$F50)","v":true},{"$f":"Find_Month(SY$35,SY$36,$F50)","v":true},{"$f":"Find_Month(SZ$35,SZ$36,$F50)","v":true},{"$f":"Find_Month(TA$35,TA$36,$F50)","v":true},{"$f":"Find_Month(TB$35,TB$36,$F50)","v":true},{"$f":"Find_Month(TC$35,TC$36,$F50)","v":true},{"$f":"Find_Month(TD$35,TD$36,$F50)","v":true},{"$f":"Find_Month(TE$35,TE$36,$F50)","v":true},{"$f":"Find_Month(TF$35,TF$36,$F50)","v":true},{"$f":"Find_Month(TG$35,TG$36,$F50)","v":true},{"$f":"Find_Month(TH$35,TH$36,$F50)","v":true},{"$f":"Find_Month(TI$35,TI$36,$F50)","v":true},{"$f":"Find_Month(TJ$35,TJ$36,$F50)","v":true},{"$f":"Find_Month(TK$35,TK$36,$F50)","v":true},{"$f":"Find_Month(TL$35,TL$36,$F50)","v":true},{"$f":"Find_Month(TM$35,TM$36,$F50)","v":true},{"$f":"Find_Month(TN$35,TN$36,$F50)","v":true},{"$f":"Find_Month(TO$35,TO$36,$F50)","v":true},{"$f":"Find_Month(TP$35,TP$36,$F50)","v":true},{"$f":"Find_Month(TQ$35,TQ$36,$F50)","v":true},{"$f":"Find_Month(TR$35,TR$36,$F50)","v":true},{"$f":"Find_Month(TS$35,TS$36,$F50)","v":true},{"$f":"Find_Month(TT$35,TT$36,$F50)","v":true},{"$f":"Find_Month(TU$35,TU$36,$F50)","v":true},{"$f":"Find_Month(TV$35,TV$36,$F50)","v":true},{"$f":"Find_Month(TW$35,TW$36,$F50)","v":true},{"$f":"Find_Month(TX$35,TX$36,$F50)","v":true},{"$f":"Find_Month(TY$35,TY$36,$F50)","v":true}]
[]
[null,null,null,null,null,null,null,null,null,{"$f":"COUNTIF(J39:J50,TRUE)","v":12},{"$f":"COUNTIF(K39:K50,TRUE)","v":12},12,12,12,12,12,12,12,12,12,12,12,12,12,12,12,12,12,12,12,12,12,12,12,12,12,12,12,12,12,12,12,12,12,12,12,12,12,12,12,12,12,12,12,12,12,12,12,12,12,12,12,12,12,12,12,12,12,12,12,12,12,12,12,{"$f":"COUNTIF(BW39:BW50,TRUE)","v":12},12,12,12,12,12,12,12,12,12,12,12,12,12,12,12,12,12,12,12,12,12,12,12,12,12,12,12,12,12,12,12,12,12,12,12,12,12,12,12,12,12,12,12,12,12,12,12,12,12,12,12,12,12,12,12,12,12,12,12,12,12,12,12,{"$f":"COUNTIF(EI39:EI50,TRUE)","v":12},12,12,12,12,12,12,12,12,12,12,12,12,12,12,12,12,12,12,12,12,{"$f":"COUNTIF(FD39:FD50,TRUE)","v":12},12,12,12,12,12,12,12,12,12,12,12,12,12,12,12,12,12,12,12,12,12,12,12,12,12,12,12,12,12,12,12,12,12,12,12,12,12,12,12,12,12,12,12,12,12,12,12,12,12,12,12,12,12,12,12,12,12,12,12,12,12,12,12,{"$f":"COUNTIF(HP39:HP50,TRUE)","v":12},12,12,12,12,12,12,12,12,12,12,12,12,12,12,12,12,12,12,12,12,12,12,12,12,12,12,12,12,12,12,12,12,12,12,12,12,12,12,12,12,12,12,12,12,12,12,12,12,12,12,12,12,12,12,12,12,12,12,12,12,12,12,12,{"$f":"COUNTIF(KB39:KB50,TRUE)","v":12},12,12,12,12,12,12,12,12,12,12,12,12,12,12,12,12,12,12,12,12,12,12,12,12,12,12,12,12,12,12,12,12,12,12,12,12,12,12,12,12,12,12,12,12,12,12,12,12,12,12,12,12,12,{"$f":"COUNTIF(MD39:MD50,TRUE)","v":12},12,12,12,12,12,12,12,12,12,12,12,12,12,12,12,12,12,12,12,12,12,12,12,12,12,12,12,12,12,12,12,12,12,12,12,12,12,12,12,12,12,12,12,12,12,12,12,12,12,12,12,12,12,12,12,12,12,12,12,12,12,12,12,{"$f":"COUNTIF(OP39:OP50,TRUE)","v":12},12,12,12,12,12,12,12,12,12,12,12,12,12,12,12,12,12,12,12,12,12,12,12,12,12,12,{"$f":"COUNTIF(PQ39:PQ50,TRUE)","v":12},12,12,12,12,12,12,12,12,12,12,12,12,12,12,12,12,12,12,12,12,12,12,12,12,12,12,12,12,12,12,12,12,12,12,12,12,12,12,12,12,12,12,12,12,12,12,12,12,12,12,12,12,12,12,12,12,12,12,12,12,12,12,12,{"$f":"COUNTIF(SC39:SC50,TRUE)","v":1},1,1,1,1,1,1,1,1,1,1,1,1,1,1,1,1,1,1,1,1,1,1,1,1,1,1,1,1,1,1,1,1,1,1,1,1,1,1,1,1,1,1,1,1,1,1,1,1]
[null,null,null,null,null,"Total",3205.2623637915381]
[null,null,null,null,null,null,null,null,null,{"$f":"J35","v":"2026-01-01"},{"$f":"K35","v":"2027-01-01"},"2028-01-01","2029-01-01","2030-01-01","2031-01-01","2032-01-01","2033-01-01","2034-01-01","2035-01-01","2036-01-01","2037-01-01","2038-01-01","2039-01-01","2040-01-01","2041-01-01","2042-01-01","2043-01-01","2044-01-01","2045-01-01","2046-01-01","2047-01-01","2048-01-01","2049-01-01","2050-01-01","2051-01-01","2052-01-01","2053-01-01","2054-01-01","2055-01-01","2056-01-01","2057-01-01","2058-01-01","2059-01-01","2060-01-01","2061-01-01","2062-01-01","2063-01-01","2064-01-01","2065-01-01","2066-01-01","2067-01-01","2068-01-01","2069-01-01","2070-01-01","2071-01-01","2072-01-01","2073-01-01","2074-01-01","2075-01-01","2076-01-01","2077-01-01","2078-01-01","2079-01-01","2080-01-01","2081-01-01","2082-01-01","2083-01-01","2084-01-01","2085-01-01","2086-01-01","2087-01-01","2088-01-01","2089-01-01","2090-01-01",{"$f":"BW35","v":"2091-01-01"},"2092-01-01","2093-01-01","2094-01-01","2095-01-01","2096-01-01","2097-01-01","2098-01-01","2099-01-01","2100-01-01","2101-01-01","2102-01-01","2103-01-01","2104-01-01","2105-01-01","2106-01-01","2107-01-01","2108-01-01","2109-01-01","2110-01-01","2111-01-01","2112-01-01","2113-01-01","2114-01-01","2115-01-01","2116-01-01","2117-01-01","2118-01-01","2119-01-01","2120-01-01","2121-01-01","2122-01-01","2123-01-01","2124-01-01","2125-01-01","2126-01-01","2127-01-01","2128-01-01","2129-01-01","2130-01-01","2131-01-01","2132-01-01","2133-01-01","2134-01-01","2135-01-01","2136-01-01","2137-01-01","2138-01-01","2139-01-01","2140-01-01","2141-01-01","2142-01-01","2143-01-01","2144-01-01","2145-01-01","2146-01-01","2147-01-01","2148-01-01","2149-01-01","2150-01-01","2151-01-01","2152-01-01","2153-01-01","2154-01-01",{"$f":"EI35","v":"2155-01-01"},"2156-01-01","2157-01-01","2158-01-01","2159-01-01","2160-01-01","2161-01-01","2162-01-01","2163-01-01","2164-01-01","2165-01-01","2166-01-01","2167-01-01","2168-01-01","2169-01-01","2170-01-01","2171-01-01","2172-01-01","2173-01-01","2174-01-01","2175-01-01",{"$f":"FD35","v":"2176-01-01"},"2177-01-01","2178-01-01","2179-01-01","2180-01-01","2181-01-01","2182-01-01","2183-01-01","2184-01-01","2185-01-01","2186-01-01","2187-01-01","2188-01-01","2189-01-01","2190-01-01","2191-01-01","2192-01-01","2193-01-01","2194-01-01","2195-01-01","2196-01-01","2197-01-01","2198-01-01","2199-01-01","2200-01-01","2201-01-01","2202-01-01","2203-01-01","2204-01-01","2205-01-01","2206-01-01","2207-01-01","2208-01-01","2209-01-01","2210-01-01","2211-01-01","2212-01-01","2213-01-01","2214-01-01","2215-01-01","2216-01-01","2217-01-01","2218-01-01","2219-01-01","2220-01-01","2221-01-01","2222-01-01","2223-01-01","2224-01-01","2225-01-01","2226-01-01","2227-01-01","2228-01-01","2229-01-01","2230-01-01","2231-01-01","2232-01-01","2233-01-01","2234-01-01","2235-01-01","2236-01-01","2237-01-01","2238-01-01","2239-01-01",{"$f":"HP35","v":"2240-01-01"},"2241-01-01","2242-01-01","2243-01-01","2244-01-01","2245-01-01","2246-01-01","2247-01-01","2248-01-01","2249-01-01","2250-01-01","2251-01-01","2252-01-01","2253-01-01","2254-01-01","2255-01-01","2256-01-01","2257-01-01","2258-01-01","2259-01-01","2260-01-01","2261-01-01","2262-01-01","2263-01-01","2264-01-01","2265-01-01","2266-01-01","2267-01-01","2268-01-01","2269-01-01","2270-01-01","2271-01-01","2272-01-01","2273-01-01","2274-01-01","2275-01-01","2276-01-01","2277-01-01","2278-01-01","2279-01-01","2280-01-01","2281-01-01","2282-01-01","2283-01-01","2284-01-01","2285-01-01","2286-01-01","2287-01-01","2288-01-01","2289-01-01","2290-01-01","2291-01-01","2292-01-01","2293-01-01","2294-01-01","2295-01-01","2296-01-01","2297-01-01","2298-01-01","2299-01-01","2300-01-01","2301-01-01","2302-01-01","2303-01-01",{"$f":"KB35","v":"2304-01-01"},"2305-01-01","2306-01-01","2307-01-01","2308-01-01","2309-01-01","2310-01-01","2311-01-01","2312-01-01","2313-01-01","2314-01-01","2315-01-01","2316-01-01","2317-01-01","2318-01-01","2319-01-01","2320-01-01","2321-01-01","2322-01-01","2323-01-01","2324-01-01","2325-01-01","2326-01-01","2327-01-01","2328-01-01","2329-01-01","2330-01-01","2331-01-01","2332-01-01","2333-01-01","2334-01-01","2335-01-01","2336-01-01","2337-01-01","2338-01-01","2339-01-01","2340-01-01","2341-01-01","2342-01-01","2343-01-01","2344-01-01","2345-01-01","2346-01-01","2347-01-01","2348-01-01","2349-01-01","2350-01-01","2351-01-01","2352-01-01","2353-01-01","2354-01-01","2355-01-01","2356-01-01","2357-01-01",{"$f":"MD35","v":"2358-01-01"},"2359-01-01","2360-01-01","2361-01-01","2362-01-01","2363-01-01","2364-01-01","2365-01-01","2366-01-01","2367-01-01","2368-01-01","2369-01-01","2370-01-01","2371-01-01","2372-01-01","2373-01-01","2374-01-01","2375-01-01","2376-01-01","2377-01-01","2378-01-01","2379-01-01","2380-01-01","2381-01-01","2382-01-01","2383-01-01","2384-01-01","2385-01-01","2386-01-01","2387-01-01","2388-01-01","2389-01-01","2390-01-01","2391-01-01","2392-01-01","2393-01-01","2394-01-01","2395-01-01","2396-01-01","2397-01-01","2398-01-01","2399-01-01","2400-01-01","2401-01-01","2402-01-01","2403-01-01","2404-01-01","2405-01-01","2406-01-01","2407-01-01","2408-01-01","2409-01-01","2410-01-01","2411-01-01","2412-01-01","2413-01-01","2414-01-01","2415-01-01","2416-01-01","2417-01-01","2418-01-01","2419-01-01","2420-01-01","2421-01-01",{"$f":"OP35","v":"2422-01-01"},"2423-01-01","2424-01-01","2425-01-01","2426-01-01","2427-01-01","2428-01-01","2429-01-01","2430-01-01","2431-01-01","2432-01-01","2433-01-01","2434-01-01","2435-01-01","2436-01-01","2437-01-01","2438-01-01","2439-01-01","2440-01-01","2441-01-01","2442-01-01","2443-01-01","2444-01-01","2445-01-01","2446-01-01","2447-01-01","2448-01-01",{"$f":"PQ35","v":"2449-01-01"},"2450-01-01","2451-01-01","2452-01-01","2453-01-01","2454-01-01","2455-01-01","2456-01-01","2457-01-01","2458-01-01","2459-01-01","2460-01-01","2461-01-01","2462-01-01","2463-01-01","2464-01-01","2465-01-01","2466-01-01","2467-01-01","2468-01-01","2469-01-01","2470-01-01","2471-01-01","2472-01-01","2473-01-01","2474-01-01","2475-01-01","2476-01-01","2477-01-01","2478-01-01","2479-01-01","2480-01-01","2481-01-01","2482-01-01","2483-01-01","2484-01-01","2485-01-01","2486-01-01","2487-01-01","2488-01-01","2489-01-01","2490-01-01","2491-01-01","2492-01-01","2493-01-01","2494-01-01","2495-01-01","2496-01-01","2497-01-01","2498-01-01","2499-01-01","2500-01-01","2501-01-01","2502-01-01","2503-01-01","2504-01-01","2505-01-01","2506-01-01","2507-01-01","2508-01-01","2509-01-01","2510-01-01","2511-01-01","2512-01-01",{"$f":"SC35","v":"00:00:00"},"00:00:00","00:00:00","00:00:00","00:00:00","00:00:00","00:00:00","00:00:00","00:00:00","00:00:00","00:00:00","00:00:00","00:00:00","00:00:00","00:00:00","00:00:00","00:00:00","00:00:00","00:00:00","00:00:00","00:00:00","00:00:00","00:00:00","00:00:00","00:00:00","00:00:00","00:00:00","00:00:00","00:00:00","00:00:00","00:00:00","00:00:00","00:00:00","00:00:00","00:00:00","00:00:00","00:00:00","00:00:00","00:00:00","00:00:00","00:00:00","00:00:00","00:00:00","00:00:00","00:00:00","00:00:00","00:00:00","00:00:00","00:00:00"]
[null,null,null,null,null,null,null,null,null,{"$f":"J36","v":"2026-12-31"},{"$f":"K36","v":"2027-12-31"},"2028-12-31","2029-12-31","2030-12-31","2031-12-31","2032-12-31","2033-12-31","2034-12-31","2035-12-31","2036-12-31","2037-12-31","2038-12-31","2039-12-31","2040-12-31","2041-12-31","2042-12-31","2043-12-31","2044-12-31","2045-12-31","2046-12-31","2047-12-31","2048-12-31","2049-12-31","2050-12-31","2051-12-31","2052-12-31","2053-12-31","2054-12-31","2055-12-31","2056-12-31","2057-12-31","2058-12-31","2059-12-31","2060-12-31","2061-12-31","2062-12-31","2063-12-31","2064-12-31","2065-12-31","2066-12-31","2067-12-31","2068-12-31","2069-12-31","2070-12-31","2071-12-31","2072-12-31","2073-12-31","2074-12-31","2075-12-31","2076-12-31","2077-12-31","2078-12-31","2079-12-31","2080-12-31","2081-12-31","2082-12-31","2083-12-31","2084-12-31","2085-12-31","2086-12-31","2087-12-31","2088-12-31","2089-12-31","2090-12-31",{"$f":"BW36","v":"2091-12-31"},"2092-12-31","2093-12-31","2094-12-31","2095-12-31","2096-12-31","2097-12-31","2098-12-31","2099-12-31","2100-12-31","2101-12-31","2102-12-31","2103-12-31","2104-12-31","2105-12-31","2106-12-31","2107-12-31","2108-12-31","2109-12-31","2110-12-31","2111-12-31","2112-12-31","2113-12-31","2114-12-31","2115-12-31","2116-12-31","2117-12-31","2118-12-31","2119-12-31","2120-12-31","2121-12-31","2122-12-31","2123-12-31","2124-12-31","2125-12-31","2126-12-31","2127-12-31","2128-12-31","2129-12-31","2130-12-31","2131-12-31","2132-12-31","2133-12-31","2134-12-31","2135-12-31","2136-12-31","2137-12-31","2138-12-31","2139-12-31","2140-12-31","2141-12-31","2142-12-31","2143-12-31","2144-12-31","2145-12-31","2146-12-31","2147-12-31","2148-12-31","2149-12-31","2150-12-31","2151-12-31","2152-12-31","2153-12-31","2154-12-31",{"$f":"EI36","v":"2155-12-31"},"2156-12-31","2157-12-31","2158-12-31","2159-12-31","2160-12-31","2161-12-31","2162-12-31","2163-12-31","2164-12-31","2165-12-31","2166-12-31","2167-12-31","2168-12-31","2169-12-31","2170-12-31","2171-12-31","2172-12-31","2173-12-31","2174-12-31","2175-12-31",{"$f":"FD36","v":"2176-12-31"},"2177-12-31","2178-12-31","2179-12-31","2180-12-31","2181-12-31","2182-12-31","2183-12-31","2184-12-31","2185-12-31","2186-12-31","2187-12-31","2188-12-31","2189-12-31","2190-12-31","2191-12-31","2192-12-31","2193-12-31","2194-12-31","2195-12-31","2196-12-31","2197-12-31","2198-12-31","2199-12-31","2200-12-31","2201-12-31","2202-12-31","2203-12-31","2204-12-31","2205-12-31","2206-12-31","2207-12-31","2208-12-31","2209-12-31","2210-12-31","2211-12-31","2212-12-31","2213-12-31","2214-12-31","2215-12-31","2216-12-31","2217-12-31","2218-12-31","2219-12-31","2220-12-31","2221-12-31","2222-12-31","2223-12-31","2224-12-31","2225-12-31","2226-12-31","2227-12-31","2228-12-31","2229-12-31","2230-12-31","2231-12-31","2232-12-31","2233-12-31","2234-12-31","2235-12-31","2236-12-31","2237-12-31","2238-12-31","2239-12-31",{"$f":"HP36","v":"2240-12-31"},"2241-12-31","2242-12-31","2243-12-31","2244-12-31","2245-12-31","2246-12-31","2247-12-31","2248-12-31","2249-12-31","2250-12-31","2251-12-31","2252-12-31","2253-12-31","2254-12-31","2255-12-31","2256-12-31","2257-12-31","2258-12-31","2259-12-31","2260-12-31","2261-12-31","2262-12-31","2263-12-31","2264-12-31","2265-12-31","2266-12-31","2267-12-31","2268-12-31","2269-12-31","2270-12-31","2271-12-31","2272-12-31","2273-12-31","2274-12-31","2275-12-31","2276-12-31","2277-12-31","2278-12-31","2279-12-31","2280-12-31","2281-12-31","2282-12-31","2283-12-31","2284-12-31","2285-12-31","2286-12-31","2287-12-31","2288-12-31","2289-12-31","2290-12-31","2291-12-31","2292-12-31","2293-12-31","2294-12-31","2295-12-31","2296-12-31","2297-12-31","2298-12-31","2299-12-31","2300-12-31","2301-12-31","2302-12-31","2303-12-31",{"$f":"KB36","v":"2304-12-31"},"2305-12-31","2306-12-31","2307-12-31","2308-12-31","2309-12-31","2310-12-31","2311-12-31","2312-12-31","2313-12-31","2314-12-31","2315-12-31","2316-12-31","2317-12-31","2318-12-31","2319-12-31","2320-12-31","2321-12-31","2322-12-31","2323-12-31","2324-12-31","2325-12-31","2326-12-31","2327-12-31","2328-12-31","2329-12-31","2330-12-31","2331-12-31","2332-12-31","2333-12-31","2334-12-31","2335-12-31","2336-12-31","2337-12-31","2338-12-31","2339-12-31","2340-12-31","2341-12-31","2342-12-31","2343-12-31","2344-12-31","2345-12-31","2346-12-31","2347-12-31","2348-12-31","2349-12-31","2350-12-31","2351-12-31","2352-12-31","2353-12-31","2354-12-31","2355-12-31","2356-12-31","2357-12-31",{"$f":"MD36","v":"2358-12-31"},"2359-12-31","2360-12-31","2361-12-31","2362-12-31","2363-12-31","2364-12-31","2365-12-31","2366-12-31","2367-12-31","2368-12-31","2369-12-31","2370-12-31","2371-12-31","2372-12-31","2373-12-31","2374-12-31","2375-12-31","2376-12-31","2377-12-31","2378-12-31","2379-12-31","2380-12-31","2381-12-31","2382-12-31","2383-12-31","2384-12-31","2385-12-31","2386-12-31","2387-12-31","2388-12-31","2389-12-31","2390-12-31","2391-12-31","2392-12-31","2393-12-31","2394-12-31","2395-12-31","2396-12-31","2397-12-31","2398-12-31","2399-12-31","2400-12-31","2401-12-31","2402-12-31","2403-12-31","2404-12-31","2405-12-31","2406-12-31","2407-12-31","2408-12-31","2409-12-31","2410-12-31","2411-12-31","2412-12-31","2413-12-31","2414-12-31","2415-12-31","2416-12-31","2417-12-31","2418-12-31","2419-12-31","2420-12-31","2421-12-31",{"$f":"OP36","v":"2422-12-31"},"2423-12-31","2424-12-31","2425-12-31","2426-12-31","2427-12-31","2428-12-31","2429-12-31","2430-12-31","2431-12-31","2432-12-31","2433-12-31","2434-12-31","2435-12-31","2436-12-31","2437-12-31","2438-12-31","2439-12-31","2440-12-31","2441-12-31","2442-12-31","2443-12-31","2444-12-31","2445-12-31","2446-12-31","2447-12-31","2448-12-31",{"$f":"PQ36","v":"2449-12-31"},"2450-12-31","2451-12-31","2452-12-31","2453-12-31","2454-12-31","2455-12-31","2456-12-31","2457-12-31","2458-12-31","2459-12-31","2460-12-31","2461-12-31","2462-12-31","2463-12-31","2464-12-31","2465-12-31","2466-12-31","2467-12-31","2468-12-31","2469-12-31","2470-12-31","2471-12-31","2472-12-31","2473-12-31","2474-12-31","2475-12-31","2476-12-31","2477-12-31","2478-12-31","2479-12-31","2480-12-31","2481-12-31","2482-12-31","2483-12-31","2484-12-31","2485-12-31","2486-12-31","2487-12-31","2488-12-31","2489-12-31","2490-12-31","2491-12-31","2492-12-31","2493-12-31","2494-12-31","2495-12-31","2496-12-31","2497-12-31","2498-12-31","2499-12-31","2500-12-31","2501-12-31","2502-12-31","2503-12-31","2504-12-31","2505-12-31","2506-12-31","2507-12-31","2508-12-31","2509-12-31","2510-12-31","2511-12-31","2512-12-31",{"$f":"SC36","v":"00:00:00"},"00:00:00","00:00:00","00:00:00","00:00:00","00:00:00","00:00:00","00:00:00","00:00:00","00:00:00","00:00:00","00:00:00","00:00:00","00:00:00","00:00:00","00:00:00","00:00:00","00:00:00","00:00:00","00:00:00","00:00:00","00:00:00","00:00:00","00:00:00","00:00:00","00:00:00","00:00:00","00:00:00","00:00:00","00:00:00","00:00:00","00:00:00","00:00:00","00:00:00","00:00:00","00:00:00","00:00:00","00:00:00","00:00:00","00:00:00","00:00:00","00:00:00","00:00:00","00:00:00","00:00:00","00:00:00","00:00:00","00:00:00","00:00:00"]
[]
[null,null,null,null,null,"Month","Average","Pct of Yr"]
[null,null,null,null,null,1,269.83737973967112,8.4185738673971666E-2,null,{"$f":"J39*$H58","v":8.4185738673971666E-2},8.4185738673971666E-2,8.4185738673971666E-2,8.4185738673971666E-2,8.4185738673971666E-2,8.4185738673971666E-2,8.4185738673971666E-2,8.4185738673971666E-2,8.4185738673971666E-2,8.4185738673971666E-2,8.4185738673971666E-2,8.4185738673971666E-2,8.4185738673971666E-2,8.4185738673971666E-2,8.4185738673971666E-2,8.4185738673971666E-2,8.4185738673971666E-2,8.4185738673971666E-2,8.4185738673971666E-2,8.4185738673971666E-2,8.4185738673971666E-2,8.4185738673971666E-2,8.4185738673971666E-2,8.4185738673971666E-2,8.4185738673971666E-2,8.4185738673971666E-2,8.4185738673971666E-2,8.4185738673971666E-2,8.4185738673971666E-2,8.4185738673971666E-2,8.4185738673971666E-2,8.4185738673971666E-2,{"$f":"AP39*$H58","v":8.4185738673971666E-2},8.4185738673971666E-2,8.4185738673971666E-2,8.4185738673971666E-2,8.4185738673971666E-2,8.4185738673971666E-2,8.4185738673971666E-2,8.4185738673971666E-2,8.4185738673971666E-2,8.4185738673971666E-2,8.4185738673971666E-2,8.4185738673971666E-2,8.4185738673971666E-2,8.4185738673971666E-2,8.4185738673971666E-2,8.4185738673971666E-2,8.4185738673971666E-2,8.4185738673971666E-2,8.4185738673971666E-2,8.4185738673971666E-2,8.4185738673971666E-2,8.4185738673971666E-2,8.4185738673971666E-2,8.4185738673971666E-2,8.4185738673971666E-2,8.4185738673971666E-2,8.4185738673971666E-2,8.4185738673971666E-2,8.4185738673971666E-2,8.4185738673971666E-2,8.4185738673971666E-2,8.4185738673971666E-2,{"$f":"BV39*$H58","v":8.4185738673971666E-2},8.4185738673971666E-2,8.4185738673971666E-2,8.4185738673971666E-2,8.4185738673971666E-2,8.4185738673971666E-2,8.4185738673971666E-2,8.4185738673971666E-2,8.4185738673971666E-2,8.4185738673971666E-2,8.4185738673971666E-2,8.4185738673971666E-2,8.4185738673971666E-2,8.4185738673971666E-2,8.4185738673971666E-2,8.4185738673971666E-2,8.4185738673971666E-2,8.4185738673971666E-2,8.4185738673971666E-2,8.4185738673971666E-2,8.4185738673971666E-2,8.4185738673971666E-2,8.4185738673971666E-2,8.4185738673971666E-2,8.4185738673971666E-2,8.4185738673971666E-2,8.4185738673971666E-2,8.4185738673971666E-2,8.4185738673971666E-2,8.4185738673971666E-2,8.4185738673971666E-2,8.4185738673971666E-2,{"$f":"DB39*$H58","v":8.4185738673971666E-2},8.4185738673971666E-2,8.4185738673971666E-2,8.4185738673971666E-2,8.4185738673971666E-2,8.4185738673971666E-2,8.4185738673971666E-2,8.4185738673971666E-2,8.4185738673971666E-2,8.4185738673971666E-2,8.4185738673971666E-2,8.4185738673971666E-2,8.4185738673971666E-2,8.4185738673971666E-2,8.4185738673971666E-2,8.4185738673971666E-2,8.4185738673971666E-2,8.4185738673971666E-2,8.4185738673971666E-2,8.4185738673971666E-2,8.4185738673971666E-2,8.4185738673971666E-2,8.4185738673971666E-2,8.4185738673971666E-2,8.4185738673971666E-2,8.4185738673971666E-2,8.4185738673971666E-2,8.4185738673971666E-2,8.4185738673971666E-2,8.4185738673971666E-2,8.4185738673971666E-2,8.4185738673971666E-2,{"$f":"EH39*$H58","v":8.4185738673971666E-2},8.4185738673971666E-2,8.4185738673971666E-2,8.4185738673971666E-2,8.4185738673971666E-2,8.4185738673971666E-2,8.4185738673971666E-2,8.4185738673971666E-2,8.4185738673971666E-2,8.4185738673971666E-2,8.4185738673971666E-2,8.4185738673971666E-2,8.4185738673971666E-2,8.4185738673971666E-2,8.4185738673971666E-2,8.4185738673971666E-2,8.4185738673971666E-2,8.4185738673971666E-2,8.4185738673971666E-2,8.4185738673971666E-2,8.4185738673971666E-2,8.4185738673971666E-2,{"$f":"FD39*$H58","v":8.4185738673971666E-2},8.4185738673971666E-2,8.4185738673971666E-2,8.4185738673971666E-2,8.4185738673971666E-2,8.4185738673971666E-2,8.4185738673971666E-2,8.4185738673971666E-2,8.4185738673971666E-2,8.4185738673971666E-2,8.4185738673971666E-2,8.4185738673971666E-2,8.4185738673971666E-2,8.4185738673971666E-2,8.4185738673971666E-2,8.4185738673971666E-2,8.4185738673971666E-2,8.4185738673971666E-2,8.4185738673971666E-2,8.4185738673971666E-2,8.4185738673971666E-2,8.4185738673971666E-2,8.4185738673971666E-2,8.4185738673971666E-2,8.4185738673971666E-2,8.4185738673971666E-2,8.4185738673971666E-2,8.4185738673971666E-2,8.4185738673971666E-2,8.4185738673971666E-2,8.4185738673971666E-2,8.4185738673971666E-2,8.4185738673971666E-2,8.4185738673971666E-2,8.4185738673971666E-2,8.4185738673971666E-2,8.4185738673971666E-2,8.4185738673971666E-2,8.4185738673971666E-2,8.4185738673971666E-2,8.4185738673971666E-2,8.4185738673971666E-2,8.4185738673971666E-2,8.4185738673971666E-2,8.4185738673971666E-2,8.4185738673971666E-2,8.4185738673971666E-2,8.4185738673971666E-2,8.4185738673971666E-2,8.4185738673971666E-2,8.4185738673971666E-2,8.4185738673971666E-2,8.4185738673971666E-2,8.4185738673971666E-2,8.4185738673971666E-2,8.4185738673971666E-2,8.4185738673971666E-2,8.4185738673971666E-2,8.4185738673971666E-2,8.4185738673971666E-2,8.4185738673971666E-2,8.4185738673971666E-2,8.4185738673971666E-2,8.4185738673971666E-2,{"$f":"HP39*$H58","v":8.4185738673971666E-2},8.4185738673971666E-2,8.4185738673971666E-2,8.4185738673971666E-2,8.4185738673971666E-2,8.4185738673971666E-2,8.4185738673971666E-2,8.4185738673971666E-2,8.4185738673971666E-2,8.4185738673971666E-2,8.4185738673971666E-2,8.4185738673971666E-2,8.4185738673971666E-2,8.4185738673971666E-2,8.4185738673971666E-2,8.4185738673971666E-2,8.4185738673971666E-2,8.4185738673971666E-2,8.4185738673971666E-2,8.4185738673971666E-2,8.4185738673971666E-2,8.4185738673971666E-2,8.4185738673971666E-2,8.4185738673971666E-2,8.4185738673971666E-2,8.4185738673971666E-2,8.4185738673971666E-2,8.4185738673971666E-2,8.4185738673971666E-2,8.4185738673971666E-2,8.4185738673971666E-2,8.4185738673971666E-2,8.4185738673971666E-2,8.4185738673971666E-2,8.4185738673971666E-2,8.4185738673971666E-2,8.4185738673971666E-2,8.4185738673971666E-2,8.4185738673971666E-2,8.4185738673971666E-2,8.4185738673971666E-2,8.4185738673971666E-2,8.4185738673971666E-2,8.4185738673971666E-2,8.4185738673971666E-2,8.4185738673971666E-2,8.4185738673971666E-2,8.4185738673971666E-2,8.4185738673971666E-2,8.4185738673971666E-2,8.4185738673971666E-2,8.4185738673971666E-2,8.4185738673971666E-2,8.4185738673971666E-2,8.4185738673971666E-2,8.4185738673971666E-2,8.4185738673971666E-2,8.4185738673971666E-2,8.4185738673971666E-2,8.4185738673971666E-2,8.4185738673971666E-2,8.4185738673971666E-2,8.4185738673971666E-2,8.4185738673971666E-2,{"$f":"KB39*$H58","v":8.4185738673971666E-2},8.4185738673971666E-2,8.4185738673971666E-2,8.4185738673971666E-2,8.4185738673971666E-2,8.4185738673971666E-2,8.4185738673971666E-2,8.4185738673971666E-2,8.4185738673971666E-2,8.4185738673971666E-2,8.4185738673971666E-2,8.4185738673971666E-2,8.4185738673971666E-2,8.4185738673971666E-2,8.4185738673971666E-2,8.4185738673971666E-2,8.4185738673971666E-2,8.4185738673971666E-2,8.4185738673971666E-2,8.4185738673971666E-2,8.4185738673971666E-2,8.4185738673971666E-2,8.4185738673971666E-2,8.4185738673971666E-2,8.4185738673971666E-2,8.4185738673971666E-2,8.4185738673971666E-2,8.4185738673971666E-2,8.4185738673971666E-2,8.4185738673971666E-2,8.4185738673971666E-2,8.4185738673971666E-2,8.4185738673971666E-2,8.4185738673971666E-2,8.4185738673971666E-2,8.4185738673971666E-2,8.4185738673971666E-2,8.4185738673971666E-2,8.4185738673971666E-2,8.4185738673971666E-2,8.4185738673971666E-2,8.4185738673971666E-2,8.4185738673971666E-2,8.4185738673971666E-2,8.4185738673971666E-2,8.4185738673971666E-2,8.4185738673971666E-2,8.4185738673971666E-2,8.4185738673971666E-2,8.4185738673971666E-2,8.4185738673971666E-2,8.4185738673971666E-2,8.4185738673971666E-2,8.4185738673971666E-2,{"$f":"MD39*$H58","v":8.4185738673971666E-2},8.4185738673971666E-2,8.4185738673971666E-2,8.4185738673971666E-2,8.4185738673971666E-2,8.4185738673971666E-2,8.4185738673971666E-2,8.4185738673971666E-2,8.4185738673971666E-2,8.4185738673971666E-2,8.4185738673971666E-2,8.4185738673971666E-2,8.4185738673971666E-2,8.4185738673971666E-2,8.4185738673971666E-2,8.4185738673971666E-2,8.4185738673971666E-2,8.4185738673971666E-2,8.4185738673971666E-2,8.4185738673971666E-2,8.4185738673971666E-2,8.4185738673971666E-2,8.4185738673971666E-2,8.4185738673971666E-2,8.4185738673971666E-2,8.4185738673971666E-2,8.4185738673971666E-2,8.4185738673971666E-2,8.4185738673971666E-2,8.4185738673971666E-2,8.4185738673971666E-2,8.4185738673971666E-2,8.4185738673971666E-2,8.4185738673971666E-2,8.4185738673971666E-2,8.4185738673971666E-2,8.4185738673971666E-2,8.4185738673971666E-2,8.4185738673971666E-2,8.4185738673971666E-2,8.4185738673971666E-2,8.4185738673971666E-2,8.4185738673971666E-2,8.4185738673971666E-2,8.4185738673971666E-2,8.4185738673971666E-2,8.4185738673971666E-2,8.4185738673971666E-2,8.4185738673971666E-2,8.4185738673971666E-2,8.4185738673971666E-2,8.4185738673971666E-2,8.4185738673971666E-2,8.4185738673971666E-2,8.4185738673971666E-2,8.4185738673971666E-2,8.4185738673971666E-2,8.4185738673971666E-2,8.4185738673971666E-2,8.4185738673971666E-2,8.4185738673971666E-2,8.4185738673971666E-2,8.4185738673971666E-2,8.4185738673971666E-2,{"$f":"OP39*$H58","v":8.4185738673971666E-2},8.4185738673971666E-2,8.4185738673971666E-2,8.4185738673971666E-2,8.4185738673971666E-2,8.4185738673971666E-2,8.4185738673971666E-2,8.4185738673971666E-2,8.4185738673971666E-2,8.4185738673971666E-2,8.4185738673971666E-2,8.4185738673971666E-2,8.4185738673971666E-2,8.4185738673971666E-2,8.4185738673971666E-2,8.4185738673971666E-2,8.4185738673971666E-2,8.4185738673971666E-2,8.4185738673971666E-2,8.4185738673971666E-2,8.4185738673971666E-2,8.4185738673971666E-2,8.4185738673971666E-2,8.4185738673971666E-2,8.4185738673971666E-2,8.4185738673971666E-2,8.4185738673971666E-2,{"$f":"PQ39*$H58","v":8.4185738673971666E-2},8.4185738673971666E-2,8.4185738673971666E-2,8.4185738673971666E-2,8.4185738673971666E-2,8.4185738673971666E-2,8.4185738673971666E-2,8.4185738673971666E-2,8.4185738673971666E-2,8.4185738673971666E-2,8.4185738673971666E-2,8.4185738673971666E-2,8.4185738673971666E-2,8.4185738673971666E-2,8.4185738673971666E-2,8.4185738673971666E-2,8.4185738673971666E-2,8.4185738673971666E-2,8.4185738673971666E-2,8.4185738673971666E-2,8.4185738673971666E-2,8.4185738673971666E-2,8.4185738673971666E-2,8.4185738673971666E-2,8.4185738673971666E-2,8.4185738673971666E-2,8.4185738673971666E-2,8.4185738673971666E-2,8.4185738673971666E-2,8.4185738673971666E-2,8.4185738673971666E-2,8.4185738673971666E-2,8.4185738673971666E-2,8.4185738673971666E-2,8.4185738673971666E-2,8.4185738673971666E-2,8.4185738673971666E-2,8.4185738673971666E-2,8.4185738673971666E-2,8.4185738673971666E-2,8.4185738673971666E-2,8.4185738673971666E-2,8.4185738673971666E-2,8.4185738673971666E-2,8.4185738673971666E-2,8.4185738673971666E-2,8.4185738673971666E-2,8.4185738673971666E-2,8.4185738673971666E-2,8.4185738673971666E-2,8.4185738673971666E-2,8.4185738673971666E-2,8.4185738673971666E-2,8.4185738673971666E-2,8.4185738673971666E-2,8.4185738673971666E-2,8.4185738673971666E-2,8.4185738673971666E-2,8.4185738673971666E-2,8.4185738673971666E-2,8.4185738673971666E-2,8.4185738673971666E-2,8.4185738673971666E-2,8.4185738673971666E-2,{"$f":"SC39*$H58","v":0},0,0,0,0,0,0,0,0,0,0,0,0,0,0,0,0,0,0,0,0,0,0,0,0,0,0,0,0,0,0,0,0,0,0,0,0,0,0,0,0,0,0,0,0,0,0,0,0]
[null,null,null,null,null,2,289.83540111940306,9.0424860190400691E-2,null,{"$f":"J40*$H59","v":9.0424860190400691E-2},9.0424860190400691E-2,9.0424860190400691E-2,9.0424860190400691E-2,9.0424860190400691E-2,9.0424860190400691E-2,9.0424860190400691E-2,9.0424860190400691E-2,9.0424860190400691E-2,9.0424860190400691E-2,9.0424860190400691E-2,9.0424860190400691E-2,9.0424860190400691E-2,9.0424860190400691E-2,9.0424860190400691E-2,9.0424860190400691E-2,9.0424860190400691E-2,9.0424860190400691E-2,9.0424860190400691E-2,9.0424860190400691E-2,9.0424860190400691E-2,9.0424860190400691E-2,9.0424860190400691E-2,9.0424860190400691E-2,9.0424860190400691E-2,9.0424860190400691E-2,9.0424860190400691E-2,9.0424860190400691E-2,9.0424860190400691E-2,9.0424860190400691E-2,9.0424860190400691E-2,9.0424860190400691E-2,{"$f":"AP40*$H59","v":9.0424860190400691E-2},9.0424860190400691E-2,9.0424860190400691E-2,9.0424860190400691E-2,9.0424860190400691E-2,9.0424860190400691E-2,9.0424860190400691E-2,9.0424860190400691E-2,9.0424860190400691E-2,9.0424860190400691E-2,9.0424860190400691E-2,9.0424860190400691E-2,9.0424860190400691E-2,9.0424860190400691E-2,9.0424860190400691E-2,9.0424860190400691E-2,9.0424860190400691E-2,9.0424860190400691E-2,9.0424860190400691E-2,9.0424860190400691E-2,9.0424860190400691E-2,9.0424860190400691E-2,9.0424860190400691E-2,9.0424860190400691E-2,9.0424860190400691E-2,9.0424860190400691E-2,9.0424860190400691E-2,9.0424860190400691E-2,9.0424860190400691E-2,9.0424860190400691E-2,9.0424860190400691E-2,9.0424860190400691E-2,{"$f":"BV40*$H59","v":9.0424860190400691E-2},9.0424860190400691E-2,9.0424860190400691E-2,9.0424860190400691E-2,9.0424860190400691E-2,9.0424860190400691E-2,9.0424860190400691E-2,9.0424860190400691E-2,9.0424860190400691E-2,9.0424860190400691E-2,9.0424860190400691E-2,9.0424860190400691E-2,9.0424860190400691E-2,9.0424860190400691E-2,9.0424860190400691E-2,9.0424860190400691E-2,9.0424860190400691E-2,9.0424860190400691E-2,9.0424860190400691E-2,9.0424860190400691E-2,9.0424860190400691E-2,9.0424860190400691E-2,9.0424860190400691E-2,9.0424860190400691E-2,9.0424860190400691E-2,9.0424860190400691E-2,9.0424860190400691E-2,9.0424860190400691E-2,9.0424860190400691E-2,9.0424860190400691E-2,9.0424860190400691E-2,9.0424860190400691E-2,{"$f":"DB40*$H59","v":9.0424860190400691E-2},9.0424860190400691E-2,9.0424860190400691E-2,9.0424860190400691E-2,9.0424860190400691E-2,9.0424860190400691E-2,9.0424860190400691E-2,9.0424860190400691E-2,9.0424860190400691E-2,9.0424860190400691E-2,9.0424860190400691E-2,9.0424860190400691E-2,9.0424860190400691E-2,9.0424860190400691E-2,9.0424860190400691E-2,9.0424860190400691E-2,9.0424860190400691E-2,9.0424860190400691E-2,9.0424860190400691E-2,9.0424860190400691E-2,9.0424860190400691E-2,9.0424860190400691E-2,9.0424860190400691E-2,9.0424860190400691E-2,9.0424860190400691E-2,9.0424860190400691E-2,9.0424860190400691E-2,9.0424860190400691E-2,9.0424860190400691E-2,9.0424860190400691E-2,9.0424860190400691E-2,9.0424860190400691E-2,{"$f":"EH40*$H59","v":9.0424860190400691E-2},9.0424860190400691E-2,9.0424860190400691E-2,9.0424860190400691E-2,9.0424860190400691E-2,9.0424860190400691E-2,9.0424860190400691E-2,9.0424860190400691E-2,9.0424860190400691E-2,9.0424860190400691E-2,9.0424860190400691E-2,9.0424860190400691E-2,9.0424860190400691E-2,9.0424860190400691E-2,9.0424860190400691E-2,9.0424860190400691E-2,9.0424860190400691E-2,9.0424860190400691E-2,9.0424860190400691E-2,9.0424860190400691E-2,9.0424860190400691E-2,9.0424860190400691E-2,{"$f":"FD40*$H59","v":9.0424860190400691E-2},9.0424860190400691E-2,9.0424860190400691E-2,9.0424860190400691E-2,9.0424860190400691E-2,9.0424860190400691E-2,9.0424860190400691E-2,9.0424860190400691E-2,9.0424860190400691E-2,9.0424860190400691E-2,9.0424860190400691E-2,9.0424860190400691E-2,9.0424860190400691E-2,9.0424860190400691E-2,9.0424860190400691E-2,9.0424860190400691E-2,9.0424860190400691E-2,9.0424860190400691E-2,9.0424860190400691E-2,9.0424860190400691E-2,9.0424860190400691E-2,9.0424860190400691E-2,9.0424860190400691E-2,9.0424860190400691E-2,9.0424860190400691E-2,9.0424860190400691E-2,9.0424860190400691E-2,9.0424860190400691E-2,9.0424860190400691E-2,9.0424860190400691E-2,9.0424860190400691E-2,9.0424860190400691E-2,9.0424860190400691E-2,9.0424860190400691E-2,9.0424860190400691E-2,9.0424860190400691E-2,9.0424860190400691E-2,9.0424860190400691E-2,9.0424860190400691E-2,9.0424860190400691E-2,9.0424860190400691E-2,9.0424860190400691E-2,9.0424860190400691E-2,9.0424860190400691E-2,9.0424860190400691E-2,9.0424860190400691E-2,9.0424860190400691E-2,9.0424860190400691E-2,9.0424860190400691E-2,9.0424860190400691E-2,9.0424860190400691E-2,9.0424860190400691E-2,9.0424860190400691E-2,9.0424860190400691E-2,9.0424860190400691E-2,9.0424860190400691E-2,9.0424860190400691E-2,9.0424860190400691E-2,9.0424860190400691E-2,9.0424860190400691E-2,9.0424860190400691E-2,9.0424860190400691E-2,9.0424860190400691E-2,9.0424860190400691E-2,{"$f":"HP40*$H59","v":9.0424860190400691E-2},9.0424860190400691E-2,9.0424860190400691E-2,9.0424860190400691E-2,9.0424860190400691E-2,9.0424860190400691E-2,9.0424860190400691E-2,9.0424860190400691E-2,9.0424860190400691E-2,9.0424860190400691E-2,9.0424860190400691E-2,9.0424860190400691E-2,9.0424860190400691E-2,9.0424860190400691E-2,9.0424860190400691E-2,9.0424860190400691E-2,9.0424860190400691E-2,9.0424860190400691E-2,9.0424860190400691E-2,9.0424860190400691E-2,9.0424860190400691E-2,9.0424860190400691E-2,9.0424860190400691E-2,9.0424860190400691E-2,9.0424860190400691E-2,9.0424860190400691E-2,9.0424860190400691E-2,9.0424860190400691E-2,9.0424860190400691E-2,9.0424860190400691E-2,9.0424860190400691E-2,9.0424860190400691E-2,9.0424860190400691E-2,9.0424860190400691E-2,9.0424860190400691E-2,9.0424860190400691E-2,9.0424860190400691E-2,9.0424860190400691E-2,9.0424860190400691E-2,9.0424860190400691E-2,9.0424860190400691E-2,9.0424860190400691E-2,9.0424860190400691E-2,9.0424860190400691E-2,9.0424860190400691E-2,9.0424860190400691E-2,9.0424860190400691E-2,9.0424860190400691E-2,9.0424860190400691E-2,9.0424860190400691E-2,9.0424860190400691E-2,9.0424860190400691E-2,9.0424860190400691E-2,9.0424860190400691E-2,9.0424860190400691E-2,9.0424860190400691E-2,9.0424860190400691E-2,9.0424860190400691E-2,9.0424860190400691E-2,9.0424860190400691E-2,9.0424860190400691E-2,9.0424860190400691E-2,9.0424860190400691E-2,9.0424860190400691E-2,{"$f":"KB40*$H59","v":9.0424860190400691E-2},9.0424860190400691E-2,9.0424860190400691E-2,9.0424860190400691E-2,9.0424860190400691E-2,9.0424860190400691E-2,9.0424860190400691E-2,9.0424860190400691E-2,9.0424860190400691E-2,9.0424860190400691E-2,9.0424860190400691E-2,9.0424860190400691E-2,9.0424860190400691E-2,9.0424860190400691E-2,9.0424860190400691E-2,9.0424860190400691E-2,9.0424860190400691E-2,9.0424860190400691E-2,9.0424860190400691E-2,9.0424860190400691E-2,9.0424860190400691E-2,9.0424860190400691E-2,9.0424860190400691E-2,9.0424860190400691E-2,9.0424860190400691E-2,9.0424860190400691E-2,9.0424860190400691E-2,9.0424860190400691E-2,9.0424860190400691E-2,9.0424860190400691E-2,9.0424860190400691E-2,9.0424860190400691E-2,9.0424860190400691E-2,9.0424860190400691E-2,9.0424860190400691E-2,9.0424860190400691E-2,9.0424860190400691E-2,9.0424860190400691E-2,9.0424860190400691E-2,9.0424860190400691E-2,9.0424860190400691E-2,9.0424860190400691E-2,9.0424860190400691E-2,9.0424860190400691E-2,9.0424860190400691E-2,9.0424860190400691E-2,9.0424860190400691E-2,9.0424860190400691E-2,9.0424860190400691E-2,9.0424860190400691E-2,9.0424860190400691E-2,9.0424860190400691E-2,9.0424860190400691E-2,9.0424860190400691E-2,{"$f":"MD40*$H59","v":9.0424860190400691E-2},9.0424860190400691E-2,9.0424860190400691E-2,9.0424860190400691E-2,9.0424860190400691E-2,9.0424860190400691E-2,9.0424860190400691E-2,9.0424860190400691E-2,9.0424860190400691E-2,9.0424860190400691E-2,9.0424860190400691E-2,9.0424860190400691E-2,9.0424860190400691E-2,9.0424860190400691E-2,9.0424860190400691E-2,9.0424860190400691E-2,9.0424860190400691E-2,9.0424860190400691E-2,9.0424860190400691E-2,9.0424860190400691E-2,9.0424860190400691E-2,9.0424860190400691E-2,9.0424860190400691E-2,9.0424860190400691E-2,9.0424860190400691E-2,9.0424860190400691E-2,9.0424860190400691E-2,9.0424860190400691E-2,9.0424860190400691E-2,9.0424860190400691E-2,9.0424860190400691E-2,9.0424860190400691E-2,9.0424860190400691E-2,9.0424860190400691E-2,9.0424860190400691E-2,9.0424860190400691E-2,9.0424860190400691E-2,9.0424860190400691E-2,9.0424860190400691E-2,9.0424860190400691E-2,9.0424860190400691E-2,9.0424860190400691E-2,9.0424860190400691E-2,9.0424860190400691E-2,9.0424860190400691E-2,9.0424860190400691E-2,9.0424860190400691E-2,9.0424860190400691E-2,9.0424860190400691E-2,9.0424860190400691E-2,9.0424860190400691E-2,9.0424860190400691E-2,9.0424860190400691E-2,9.0424860190400691E-2,9.0424860190400691E-2,9.0424860190400691E-2,9.0424860190400691E-2,9.0424860190400691E-2,9.0424860190400691E-2,9.0424860190400691E-2,9.0424860190400691E-2,9.0424860190400691E-2,9.0424860190400691E-2,9.0424860190400691E-2,{"$f":"OP40*$H59","v":9.0424860190400691E-2},9.0424860190400691E-2,9.0424860190400691E-2,9.0424860190400691E-2,9.0424860190400691E-2,9.0424860190400691E-2,9.0424860190400691E-2,9.0424860190400691E-2,9.0424860190400691E-2,9.0424860190400691E-2,9.0424860190400691E-2,9.0424860190400691E-2,9.0424860190400691E-2,9.0424860190400691E-2,9.0424860190400691E-2,9.0424860190400691E-2,9.0424860190400691E-2,9.0424860190400691E-2,9.0424860190400691E-2,9.0424860190400691E-2,9.0424860190400691E-2,9.0424860190400691E-2,9.0424860190400691E-2,9.0424860190400691E-2,9.0424860190400691E-2,9.0424860190400691E-2,9.0424860190400691E-2,{"$f":"PQ40*$H59","v":9.0424860190400691E-2},9.0424860190400691E-2,9.0424860190400691E-2,9.0424860190400691E-2,9.0424860190400691E-2,9.0424860190400691E-2,9.0424860190400691E-2,9.0424860190400691E-2,9.0424860190400691E-2,9.0424860190400691E-2,9.0424860190400691E-2,9.0424860190400691E-2,9.0424860190400691E-2,9.0424860190400691E-2,9.0424860190400691E-2,9.0424860190400691E-2,9.0424860190400691E-2,9.0424860190400691E-2,9.0424860190400691E-2,9.0424860190400691E-2,9.0424860190400691E-2,9.0424860190400691E-2,9.0424860190400691E-2,9.0424860190400691E-2,9.0424860190400691E-2,9.0424860190400691E-2,9.0424860190400691E-2,9.0424860190400691E-2,9.0424860190400691E-2,9.0424860190400691E-2,9.0424860190400691E-2,9.0424860190400691E-2,9.0424860190400691E-2,9.0424860190400691E-2,9.0424860190400691E-2,9.0424860190400691E-2,9.0424860190400691E-2,9.0424860190400691E-2,9.0424860190400691E-2,9.0424860190400691E-2,9.0424860190400691E-2,9.0424860190400691E-2,9.0424860190400691E-2,9.0424860190400691E-2,9.0424860190400691E-2,9.0424860190400691E-2,9.0424860190400691E-2,9.0424860190400691E-2,9.0424860190400691E-2,9.0424860190400691E-2,9.0424860190400691E-2,9.0424860190400691E-2,9.0424860190400691E-2,9.0424860190400691E-2,9.0424860190400691E-2,9.0424860190400691E-2,9.0424860190400691E-2,9.0424860190400691E-2,9.0424860190400691E-2,9.0424860190400691E-2,9.0424860190400691E-2,9.0424860190400691E-2,9.0424860190400691E-2,9.0424860190400691E-2,{"$f":"SC40*$H59","v":0},0,0,0,0,0,0,0,0,0,0,0,0,0,0,0,0,0,0,0,0,0,0,0,0,0,0,0,0,0,0,0,0,0,0,0,0,0,0,0,0,0,0,0,0,0,0,0,0]
[null,null,null,null,null,3,299.4086771363888,9.3411597290343235E-2,null,{"$f":"J41*$H60","v":9.3411597290343235E-2},9.3411597290343235E-2,9.3411597290343235E-2,9.3411597290343235E-2,9.3411597290343235E-2,9.3411597290343235E-2,9.3411597290343235E-2,9.3411597290343235E-2,9.3411597290343235E-2,9.3411597290343235E-2,9.3411597290343235E-2,9.3411597290343235E-2,9.3411597290343235E-2,9.3411597290343235E-2,9.3411597290343235E-2,9.3411597290343235E-2,9.3411597290343235E-2,9.3411597290343235E-2,9.3411597290343235E-2,9.3411597290343235E-2,9.3411597290343235E-2,9.3411597290343235E-2,9.3411597290343235E-2,9.3411597290343235E-2,9.3411597290343235E-2,9.3411597290343235E-2,9.3411597290343235E-2,9.3411597290343235E-2,9.3411597290343235E-2,9.3411597290343235E-2,9.3411597290343235E-2,9.3411597290343235E-2,{"$f":"AP41*$H60","v":9.3411597290343235E-2},9.3411597290343235E-2,9.3411597290343235E-2,9.3411597290343235E-2,9.3411597290343235E-2,9.3411597290343235E-2,9.3411597290343235E-2,9.3411597290343235E-2,9.3411597290343235E-2,9.3411597290343235E-2,9.3411597290343235E-2,9.3411597290343235E-2,9.3411597290343235E-2,9.3411597290343235E-2,9.3411597290343235E-2,9.3411597290343235E-2,9.3411597290343235E-2,9.3411597290343235E-2,9.3411597290343235E-2,9.3411597290343235E-2,9.3411597290343235E-2,9.3411597290343235E-2,9.3411597290343235E-2,9.3411597290343235E-2,9.3411597290343235E-2,9.3411597290343235E-2,9.3411597290343235E-2,9.3411597290343235E-2,9.3411597290343235E-2,9.3411597290343235E-2,9.3411597290343235E-2,9.3411597290343235E-2,{"$f":"BV41*$H60","v":9.3411597290343235E-2},9.3411597290343235E-2,9.3411597290343235E-2,9.3411597290343235E-2,9.3411597290343235E-2,9.3411597290343235E-2,9.3411597290343235E-2,9.3411597290343235E-2,9.3411597290343235E-2,9.3411597290343235E-2,9.3411597290343235E-2,9.3411597290343235E-2,9.3411597290343235E-2,{"$f":"CI41*$H60","v":9.3411597290343235E-2},9.3411597290343235E-2,9.3411597290343235E-2,9.3411597290343235E-2,9.3411597290343235E-2,9.3411597290343235E-2,9.3411597290343235E-2,9.3411597290343235E-2,9.3411597290343235E-2,9.3411597290343235E-2,9.3411597290343235E-2,9.3411597290343235E-2,9.3411597290343235E-2,9.3411597290343235E-2,9.3411597290343235E-2,9.3411597290343235E-2,9.3411597290343235E-2,9.3411597290343235E-2,9.3411597290343235E-2,{"$f":"DB41*$H60","v":9.3411597290343235E-2},9.3411597290343235E-2,9.3411597290343235E-2,9.3411597290343235E-2,9.3411597290343235E-2,9.3411597290343235E-2,9.3411597290343235E-2,9.3411597290343235E-2,9.3411597290343235E-2,9.3411597290343235E-2,9.3411597290343235E-2,9.3411597290343235E-2,9.3411597290343235E-2,9.3411597290343235E-2,9.3411597290343235E-2,9.3411597290343235E-2,9.3411597290343235E-2,9.3411597290343235E-2,9.3411597290343235E-2,9.3411597290343235E-2,9.3411597290343235E-2,9.3411597290343235E-2,9.3411597290343235E-2,9.3411597290343235E-2,9.3411597290343235E-2,9.3411597290343235E-2,9.3411597290343235E-2,9.3411597290343235E-2,9.3411597290343235E-2,9.3411597290343235E-2,9.3411597290343235E-2,9.3411597290343235E-2,{"$f":"EH41*$H60","v":9.3411597290343235E-2},9.3411597290343235E-2,9.3411597290343235E-2,9.3411597290343235E-2,9.3411597290343235E-2,9.3411597290343235E-2,9.3411597290343235E-2,9.3411597290343235E-2,9.3411597290343235E-2,9.3411597290343235E-2,9.3411597290343235E-2,9.3411597290343235E-2,9.3411597290343235E-2,9.3411597290343235E-2,9.3411597290343235E-2,9.3411597290343235E-2,9.3411597290343235E-2,9.3411597290343235E-2,9.3411597290343235E-2,9.3411597290343235E-2,9.3411597290343235E-2,9.3411597290343235E-2,{"$f":"FD41*$H60","v":9.3411597290343235E-2},9.3411597290343235E-2,9.3411597290343235E-2,9.3411597290343235E-2,9.3411597290343235E-2,9.3411597290343235E-2,9.3411597290343235E-2,9.3411597290343235E-2,9.3411597290343235E-2,9.3411597290343235E-2,9.3411597290343235E-2,9.3411597290343235E-2,9.3411597290343235E-2,9.3411597290343235E-2,9.3411597290343235E-2,9.3411597290343235E-2,9.3411597290343235E-2,9.3411597290343235E-2,9.3411597290343235E-2,9.3411597290343235E-2,9.3411597290343235E-2,9.3411597290343235E-2,9.3411597290343235E-2,9.3411597290343235E-2,9.3411597290343235E-2,9.3411597290343235E-2,9.3411597290343235E-2,9.3411597290343235E-2,9.3411597290343235E-2,9.3411597290343235E-2,9.3411597290343235E-2,9.3411597290343235E-2,9.3411597290343235E-2,9.3411597290343235E-2,9.3411597290343235E-2,9.3411597290343235E-2,9.3411597290343235E-2,9.3411597290343235E-2,9.3411597290343235E-2,9.3411597290343235E-2,9.3411597290343235E-2,9.3411597290343235E-2,9.3411597290343235E-2,9.3411597290343235E-2,9.3411597290343235E-2,9.3411597290343235E-2,9.3411597290343235E-2,9.3411597290343235E-2,9.3411597290343235E-2,9.3411597290343235E-2,9.3411597290343235E-2,9.3411597290343235E-2,9.3411597290343235E-2,9.3411597290343235E-2,9.3411597290343235E-2,9.3411597290343235E-2,9.3411597290343235E-2,9.3411597290343235E-2,9.3411597290343235E-2,9.3411597290343235E-2,9.3411597290343235E-2,9.3411597290343235E-2,9.3411597290343235E-2,9.3411597290343235E-2,{"$f":"HP41*$H60","v":9.3411597290343235E-2},9.3411597290343235E-2,9.3411597290343235E-2,9.3411597290343235E-2,9.3411597290343235E-2,9.3411597290343235E-2,9.3411597290343235E-2,9.3411597290343235E-2,9.3411597290343235E-2,9.3411597290343235E-2,9.3411597290343235E-2,9.3411597290343235E-2,9.3411597290343235E-2,9.3411597290343235E-2,9.3411597290343235E-2,9.3411597290343235E-2,9.3411597290343235E-2,9.3411597290343235E-2,9.3411597290343235E-2,9.3411597290343235E-2,9.3411597290343235E-2,9.3411597290343235E-2,9.3411597290343235E-2,9.3411597290343235E-2,9.3411597290343235E-2,9.3411597290343235E-2,9.3411597290343235E-2,9.3411597290343235E-2,9.3411597290343235E-2,9.3411597290343235E-2,9.3411597290343235E-2,9.3411597290343235E-2,9.3411597290343235E-2,9.3411597290343235E-2,9.3411597290343235E-2,9.3411597290343235E-2,9.3411597290343235E-2,9.3411597290343235E-2,9.3411597290343235E-2,9.3411597290343235E-2,9.3411597290343235E-2,9.3411597290343235E-2,9.3411597290343235E-2,9.3411597290343235E-2,9.3411597290343235E-2,9.3411597290343235E-2,9.3411597290343235E-2,9.3411597290343235E-2,9.3411597290343235E-2,9.3411597290343235E-2,9.3411597290343235E-2,9.3411597290343235E-2,9.3411597290343235E-2,9.3411597290343235E-2,9.3411597290343235E-2,9.3411597290343235E-2,9.3411597290343235E-2,9.3411597290343235E-2,9.3411597290343235E-2,9.3411597290343235E-2,9.3411597290343235E-2,9.3411597290343235E-2,9.3411597290343235E-2,9.3411597290343235E-2,{"$f":"KB41*$H60","v":9.3411597290343235E-2},9.3411597290343235E-2,9.3411597290343235E-2,9.3411597290343235E-2,9.3411597290343235E-2,9.3411597290343235E-2,9.3411597290343235E-2,9.3411597290343235E-2,9.3411597290343235E-2,9.3411597290343235E-2,9.3411597290343235E-2,9.3411597290343235E-2,9.3411597290343235E-2,9.3411597290343235E-2,9.3411597290343235E-2,9.3411597290343235E-2,9.3411597290343235E-2,9.3411597290343235E-2,9.3411597290343235E-2,9.3411597290343235E-2,9.3411597290343235E-2,9.3411597290343235E-2,9.3411597290343235E-2,9.3411597290343235E-2,9.3411597290343235E-2,9.3411597290343235E-2,9.3411597290343235E-2,9.3411597290343235E-2,9.3411597290343235E-2,9.3411597290343235E-2,9.3411597290343235E-2,9.3411597290343235E-2,9.3411597290343235E-2,9.3411597290343235E-2,9.3411597290343235E-2,9.3411597290343235E-2,9.3411597290343235E-2,9.3411597290343235E-2,9.3411597290343235E-2,9.3411597290343235E-2,9.3411597290343235E-2,9.3411597290343235E-2,9.3411597290343235E-2,9.3411597290343235E-2,9.3411597290343235E-2,9.3411597290343235E-2,9.3411597290343235E-2,9.3411597290343235E-2,9.3411597290343235E-2,9.3411597290343235E-2,9.3411597290343235E-2,9.3411597290343235E-2,9.3411597290343235E-2,9.3411597290343235E-2,{"$f":"MD41*$H60","v":9.3411597290343235E-2},9.3411597290343235E-2,9.3411597290343235E-2,9.3411597290343235E-2,9.3411597290343235E-2,9.3411597290343235E-2,9.3411597290343235E-2,9.3411597290343235E-2,9.3411597290343235E-2,9.3411597290343235E-2,9.3411597290343235E-2,9.3411597290343235E-2,9.3411597290343235E-2,9.3411597290343235E-2,9.3411597290343235E-2,9.3411597290343235E-2,9.3411597290343235E-2,9.3411597290343235E-2,9.3411597290343235E-2,9.3411597290343235E-2,9.3411597290343235E-2,9.3411597290343235E-2,9.3411597290343235E-2,9.3411597290343235E-2,9.3411597290343235E-2,9.3411597290343235E-2,9.3411597290343235E-2,9.3411597290343235E-2,9.3411597290343235E-2,9.3411597290343235E-2,9.3411597290343235E-2,9.3411597290343235E-2,9.3411597290343235E-2,9.3411597290343235E-2,9.3411597290343235E-2,9.3411597290343235E-2,9.3411597290343235E-2,9.3411597290343235E-2,9.3411597290343235E-2,9.3411597290343235E-2,9.3411597290343235E-2,9.3411597290343235E-2,9.3411597290343235E-2,9.3411597290343235E-2,9.3411597290343235E-2,9.3411597290343235E-2,9.3411597290343235E-2,9.3411597290343235E-2,9.3411597290343235E-2,9.3411597290343235E-2,9.3411597290343235E-2,9.3411597290343235E-2,9.3411597290343235E-2,9.3411597290343235E-2,9.3411597290343235E-2,9.3411597290343235E-2,9.3411597290343235E-2,9.3411597290343235E-2,9.3411597290343235E-2,9.3411597290343235E-2,9.3411597290343235E-2,9.3411597290343235E-2,9.3411597290343235E-2,9.3411597290343235E-2,{"$f":"OP41*$H60","v":9.3411597290343235E-2},9.3411597290343235E-2,9.3411597290343235E-2,9.3411597290343235E-2,9.3411597290343235E-2,9.3411597290343235E-2,9.3411597290343235E-2,9.3411597290343235E-2,9.3411597290343235E-2,9.3411597290343235E-2,9.3411597290343235E-2,9.3411597290343235E-2,9.3411597290343235E-2,9.3411597290343235E-2,9.3411597290343235E-2,9.3411597290343235E-2,9.3411597290343235E-2,9.3411597290343235E-2,9.3411597290343235E-2,9.3411597290343235E-2,9.3411597290343235E-2,9.3411597290343235E-2,9.3411597290343235E-2,9.3411597290343235E-2,9.3411597290343235E-2,9.3411597290343235E-2,9.3411597290343235E-2,{"$f":"PQ41*$H60","v":9.3411597290343235E-2},9.3411597290343235E-2,9.3411597290343235E-2,9.3411597290343235E-2,9.3411597290343235E-2,9.3411597290343235E-2,9.3411597290343235E-2,9.3411597290343235E-2,9.3411597290343235E-2,9.3411597290343235E-2,9.3411597290343235E-2,9.3411597290343235E-2,9.3411597290343235E-2,9.3411597290343235E-2,9.3411597290343235E-2,9.3411597290343235E-2,9.3411597290343235E-2,9.3411597290343235E-2,9.3411597290343235E-2,9.3411597290343235E-2,9.3411597290343235E-2,9.3411597290343235E-2,9.3411597290343235E-2,9.3411597290343235E-2,9.3411597290343235E-2,9.3411597290343235E-2,9.3411597290343235E-2,9.3411597290343235E-2,9.3411597290343235E-2,9.3411597290343235E-2,9.3411597290343235E-2,9.3411597290343235E-2,9.3411597290343235E-2,9.3411597290343235E-2,9.3411597290343235E-2,9.3411597290343235E-2,9.3411597290343235E-2,9.3411597290343235E-2,9.3411597290343235E-2,9.3411597290343235E-2,9.3411597290343235E-2,9.3411597290343235E-2,9.3411597290343235E-2,9.3411597290343235E-2,9.3411597290343235E-2,9.3411597290343235E-2,9.3411597290343235E-2,9.3411597290343235E-2,9.3411597290343235E-2,9.3411597290343235E-2,9.3411597290343235E-2,9.3411597290343235E-2,9.3411597290343235E-2,9.3411597290343235E-2,9.3411597290343235E-2,9.3411597290343235E-2,9.3411597290343235E-2,9.3411597290343235E-2,9.3411597290343235E-2,9.3411597290343235E-2,9.3411597290343235E-2,9.3411597290343235E-2,9.3411597290343235E-2,9.3411597290343235E-2,{"$f":"SC41*$H60","v":0},0,0,0,0,0,0,0,0,0,0,0,0,0,0,0,0,0,0,0,0,0,0,0,0,0,0,0,0,0,0,0,0,0,0,0,0,0,0,0,0,0,0,0,0,0,0,0,0]
[null,null,null,null,null,4,301.36298538011715,9.4021315941086259E-2,null,{"$f":"J42*$H61","v":9.4021315941086259E-2},9.4021315941086259E-2,9.4021315941086259E-2,9.4021315941086259E-2,9.4021315941086259E-2,9.4021315941086259E-2,9.4021315941086259E-2,9.4021315941086259E-2,9.4021315941086259E-2,9.4021315941086259E-2,9.4021315941086259E-2,9.4021315941086259E-2,9.4021315941086259E-2,9.4021315941086259E-2,9.4021315941086259E-2,9.4021315941086259E-2,9.4021315941086259E-2,9.4021315941086259E-2,9.4021315941086259E-2,9.4021315941086259E-2,9.4021315941086259E-2,9.4021315941086259E-2,9.4021315941086259E-2,9.4021315941086259E-2,9.4021315941086259E-2,9.4021315941086259E-2,9.4021315941086259E-2,9.4021315941086259E-2,9.4021315941086259E-2,9.4021315941086259E-2,9.4021315941086259E-2,9.4021315941086259E-2,{"$f":"AP42*$H61","v":9.4021315941086259E-2},9.4021315941086259E-2,9.4021315941086259E-2,9.4021315941086259E-2,9.4021315941086259E-2,9.4021315941086259E-2,9.4021315941086259E-2,9.4021315941086259E-2,9.4021315941086259E-2,9.4021315941086259E-2,9.4021315941086259E-2,9.4021315941086259E-2,9.4021315941086259E-2,9.4021315941086259E-2,9.4021315941086259E-2,9.4021315941086259E-2,9.4021315941086259E-2,9.4021315941086259E-2,9.4021315941086259E-2,9.4021315941086259E-2,9.4021315941086259E-2,9.4021315941086259E-2,9.4021315941086259E-2,9.4021315941086259E-2,9.4021315941086259E-2,9.4021315941086259E-2,9.4021315941086259E-2,9.4021315941086259E-2,9.4021315941086259E-2,9.4021315941086259E-2,9.4021315941086259E-2,9.4021315941086259E-2,{"$f":"BV42*$H61","v":9.4021315941086259E-2},9.4021315941086259E-2,9.4021315941086259E-2,9.4021315941086259E-2,9.4021315941086259E-2,9.4021315941086259E-2,9.4021315941086259E-2,9.4021315941086259E-2,9.4021315941086259E-2,9.4021315941086259E-2,9.4021315941086259E-2,9.4021315941086259E-2,9.4021315941086259E-2,9.4021315941086259E-2,9.4021315941086259E-2,9.4021315941086259E-2,9.4021315941086259E-2,9.4021315941086259E-2,9.4021315941086259E-2,9.4021315941086259E-2,9.4021315941086259E-2,9.4021315941086259E-2,9.4021315941086259E-2,9.4021315941086259E-2,9.4021315941086259E-2,9.4021315941086259E-2,9.4021315941086259E-2,9.4021315941086259E-2,9.4021315941086259E-2,9.4021315941086259E-2,9.4021315941086259E-2,9.4021315941086259E-2,{"$f":"DB42*$H61","v":9.4021315941086259E-2},9.4021315941086259E-2,9.4021315941086259E-2,9.4021315941086259E-2,9.4021315941086259E-2,9.4021315941086259E-2,9.4021315941086259E-2,9.4021315941086259E-2,9.4021315941086259E-2,9.4021315941086259E-2,9.4021315941086259E-2,9.4021315941086259E-2,9.4021315941086259E-2,9.4021315941086259E-2,9.4021315941086259E-2,9.4021315941086259E-2,9.4021315941086259E-2,9.4021315941086259E-2,9.4021315941086259E-2,9.4021315941086259E-2,9.4021315941086259E-2,9.4021315941086259E-2,9.4021315941086259E-2,9.4021315941086259E-2,9.4021315941086259E-2,9.4021315941086259E-2,9.4021315941086259E-2,9.4021315941086259E-2,9.4021315941086259E-2,9.4021315941086259E-2,9.4021315941086259E-2,9.4021315941086259E-2,{"$f":"EH42*$H61","v":9.4021315941086259E-2},9.4021315941086259E-2,9.4021315941086259E-2,9.4021315941086259E-2,9.4021315941086259E-2,9.4021315941086259E-2,9.4021315941086259E-2,9.4021315941086259E-2,9.4021315941086259E-2,9.4021315941086259E-2,9.4021315941086259E-2,9.4021315941086259E-2,9.4021315941086259E-2,9.4021315941086259E-2,9.4021315941086259E-2,9.4021315941086259E-2,9.4021315941086259E-2,9.4021315941086259E-2,9.4021315941086259E-2,9.4021315941086259E-2,9.4021315941086259E-2,9.4021315941086259E-2,{"$f":"FD42*$H61","v":9.4021315941086259E-2},9.4021315941086259E-2,9.4021315941086259E-2,9.4021315941086259E-2,9.4021315941086259E-2,9.4021315941086259E-2,9.4021315941086259E-2,9.4021315941086259E-2,9.4021315941086259E-2,9.4021315941086259E-2,9.4021315941086259E-2,9.4021315941086259E-2,9.4021315941086259E-2,9.4021315941086259E-2,9.4021315941086259E-2,9.4021315941086259E-2,9.4021315941086259E-2,9.4021315941086259E-2,9.4021315941086259E-2,9.4021315941086259E-2,9.4021315941086259E-2,9.4021315941086259E-2,9.4021315941086259E-2,9.4021315941086259E-2,9.4021315941086259E-2,9.4021315941086259E-2,9.4021315941086259E-2,9.4021315941086259E-2,9.4021315941086259E-2,9.4021315941086259E-2,9.4021315941086259E-2,9.4021315941086259E-2,9.4021315941086259E-2,9.4021315941086259E-2,9.4021315941086259E-2,9.4021315941086259E-2,9.4021315941086259E-2,9.4021315941086259E-2,9.4021315941086259E-2,9.4021315941086259E-2,9.4021315941086259E-2,9.4021315941086259E-2,9.4021315941086259E-2,9.4021315941086259E-2,9.4021315941086259E-2,9.4021315941086259E-2,9.4021315941086259E-2,9.4021315941086259E-2,9.4021315941086259E-2,9.4021315941086259E-2,9.4021315941086259E-2,9.4021315941086259E-2,9.4021315941086259E-2,9.4021315941086259E-2,9.4021315941086259E-2,9.4021315941086259E-2,9.4021315941086259E-2,9.4021315941086259E-2,9.4021315941086259E-2,9.4021315941086259E-2,9.4021315941086259E-2,9.4021315941086259E-2,9.4021315941086259E-2,9.4021315941086259E-2,{"$f":"HP42*$H61","v":9.4021315941086259E-2},9.4021315941086259E-2,9.4021315941086259E-2,9.4021315941086259E-2,9.4021315941086259E-2,9.4021315941086259E-2,9.4021315941086259E-2,9.4021315941086259E-2,9.4021315941086259E-2,9.4021315941086259E-2,9.4021315941086259E-2,9.4021315941086259E-2,9.4021315941086259E-2,9.4021315941086259E-2,9.4021315941086259E-2,9.4021315941086259E-2,9.4021315941086259E-2,9.4021315941086259E-2,9.4021315941086259E-2,9.4021315941086259E-2,9.4021315941086259E-2,9.4021315941086259E-2,9.4021315941086259E-2,9.4021315941086259E-2,9.4021315941086259E-2,9.4021315941086259E-2,9.4021315941086259E-2,9.4021315941086259E-2,9.4021315941086259E-2,9.4021315941086259E-2,9.4021315941086259E-2,9.4021315941086259E-2,9.4021315941086259E-2,9.4021315941086259E-2,9.4021315941086259E-2,9.4021315941086259E-2,9.4021315941086259E-2,9.4021315941086259E-2,9.4021315941086259E-2,9.4021315941086259E-2,9.4021315941086259E-2,9.4021315941086259E-2,9.4021315941086259E-2,9.4021315941086259E-2,9.4021315941086259E-2,9.4021315941086259E-2,9.4021315941086259E-2,9.4021315941086259E-2,9.4021315941086259E-2,9.4021315941086259E-2,9.4021315941086259E-2,9.4021315941086259E-2,9.4021315941086259E-2,9.4021315941086259E-2,9.4021315941086259E-2,9.4021315941086259E-2,9.4021315941086259E-2,9.4021315941086259E-2,9.4021315941086259E-2,9.4021315941086259E-2,9.4021315941086259E-2,9.4021315941086259E-2,9.4021315941086259E-2,9.4021315941086259E-2,{"$f":"KB42*$H61","v":9.4021315941086259E-2},9.4021315941086259E-2,9.4021315941086259E-2,9.4021315941086259E-2,9.4021315941086259E-2,9.4021315941086259E-2,9.4021315941086259E-2,9.4021315941086259E-2,9.4021315941086259E-2,9.4021315941086259E-2,9.4021315941086259E-2,9.4021315941086259E-2,9.4021315941086259E-2,9.4021315941086259E-2,9.4021315941086259E-2,9.4021315941086259E-2,9.4021315941086259E-2,9.4021315941086259E-2,9.4021315941086259E-2,9.4021315941086259E-2,9.4021315941086259E-2,9.4021315941086259E-2,9.4021315941086259E-2,9.4021315941086259E-2,9.4021315941086259E-2,9.4021315941086259E-2,9.4021315941086259E-2,9.4021315941086259E-2,9.4021315941086259E-2,9.4021315941086259E-2,9.4021315941086259E-2,9.4021315941086259E-2,9.4021315941086259E-2,9.4021315941086259E-2,9.4021315941086259E-2,9.4021315941086259E-2,9.4021315941086259E-2,9.4021315941086259E-2,9.4021315941086259E-2,9.4021315941086259E-2,9.4021315941086259E-2,9.4021315941086259E-2,9.4021315941086259E-2,9.4021315941086259E-2,9.4021315941086259E-2,9.4021315941086259E-2,9.4021315941086259E-2,9.4021315941086259E-2,9.4021315941086259E-2,9.4021315941086259E-2,9.4021315941086259E-2,9.4021315941086259E-2,9.4021315941086259E-2,9.4021315941086259E-2,{"$f":"MD42*$H61","v":9.4021315941086259E-2},9.4021315941086259E-2,9.4021315941086259E-2,9.4021315941086259E-2,9.4021315941086259E-2,9.4021315941086259E-2,9.4021315941086259E-2,9.4021315941086259E-2,9.4021315941086259E-2,9.4021315941086259E-2,9.4021315941086259E-2,9.4021315941086259E-2,9.4021315941086259E-2,9.4021315941086259E-2,9.4021315941086259E-2,9.4021315941086259E-2,9.4021315941086259E-2,9.4021315941086259E-2,9.4021315941086259E-2,9.4021315941086259E-2,9.4021315941086259E-2,9.4021315941086259E-2,9.4021315941086259E-2,9.4021315941086259E-2,9.4021315941086259E-2,9.4021315941086259E-2,9.4021315941086259E-2,9.4021315941086259E-2,9.4021315941086259E-2,9.4021315941086259E-2,9.4021315941086259E-2,9.4021315941086259E-2,9.4021315941086259E-2,9.4021315941086259E-2,9.4021315941086259E-2,9.4021315941086259E-2,9.4021315941086259E-2,9.4021315941086259E-2,9.4021315941086259E-2,9.4021315941086259E-2,9.4021315941086259E-2,9.4021315941086259E-2,9.4021315941086259E-2,9.4021315941086259E-2,9.4021315941086259E-2,9.4021315941086259E-2,9.4021315941086259E-2,9.4021315941086259E-2,9.4021315941086259E-2,9.4021315941086259E-2,9.4021315941086259E-2,9.4021315941086259E-2,9.4021315941086259E-2,9.4021315941086259E-2,9.4021315941086259E-2,9.4021315941086259E-2,9.4021315941086259E-2,9.4021315941086259E-2,9.4021315941086259E-2,9.4021315941086259E-2,9.4021315941086259E-2,9.4021315941086259E-2,9.4021315941086259E-2,9.4021315941086259E-2,{"$f":"OP42*$H61","v":9.4021315941086259E-2},9.4021315941086259E-2,9.4021315941086259E-2,9.4021315941086259E-2,9.4021315941086259E-2,9.4021315941086259E-2,9.4021315941086259E-2,9.4021315941086259E-2,9.4021315941086259E-2,9.4021315941086259E-2,9.4021315941086259E-2,9.4021315941086259E-2,9.4021315941086259E-2,9.4021315941086259E-2,9.4021315941086259E-2,9.4021315941086259E-2,9.4021315941086259E-2,9.4021315941086259E-2,9.4021315941086259E-2,9.4021315941086259E-2,9.4021315941086259E-2,9.4021315941086259E-2,9.4021315941086259E-2,9.4021315941086259E-2,9.4021315941086259E-2,9.4021315941086259E-2,9.4021315941086259E-2,{"$f":"PQ42*$H61","v":9.4021315941086259E-2},9.4021315941086259E-2,9.4021315941086259E-2,9.4021315941086259E-2,9.4021315941086259E-2,9.4021315941086259E-2,9.4021315941086259E-2,9.4021315941086259E-2,9.4021315941086259E-2,9.4021315941086259E-2,9.4021315941086259E-2,9.4021315941086259E-2,9.4021315941086259E-2,9.4021315941086259E-2,9.4021315941086259E-2,9.4021315941086259E-2,9.4021315941086259E-2,9.4021315941086259E-2,9.4021315941086259E-2,9.4021315941086259E-2,9.4021315941086259E-2,9.4021315941086259E-2,9.4021315941086259E-2,9.4021315941086259E-2,9.4021315941086259E-2,9.4021315941086259E-2,9.4021315941086259E-2,9.4021315941086259E-2,9.4021315941086259E-2,9.4021315941086259E-2,9.4021315941086259E-2,9.4021315941086259E-2,9.4021315941086259E-2,9.4021315941086259E-2,9.4021315941086259E-2,9.4021315941086259E-2,9.4021315941086259E-2,9.4021315941086259E-2,9.4021315941086259E-2,9.4021315941086259E-2,9.4021315941086259E-2,9.4021315941086259E-2,9.4021315941086259E-2,9.4021315941086259E-2,9.4021315941086259E-2,9.4021315941086259E-2,9.4021315941086259E-2,9.4021315941086259E-2,9.4021315941086259E-2,9.4021315941086259E-2,9.4021315941086259E-2,9.4021315941086259E-2,9.4021315941086259E-2,9.4021315941086259E-2,9.4021315941086259E-2,9.4021315941086259E-2,9.4021315941086259E-2,9.4021315941086259E-2,9.4021315941086259E-2,9.4021315941086259E-2,9.4021315941086259E-2,9.4021315941086259E-2,9.4021315941086259E-2,9.4021315941086259E-2,{"$f":"SC42*$H61","v":0},0,0,0,0,0,0,0,0,0,0,0,0,0,0,0,0,0,0,0,0,0,0,0,0,0,0,0,0,0,0,0,0,0,0,0,0,0,0,0,0,0,0,0,0,0,0,0,0]
[null,null,null,null,null,5,284.79110710243322,8.8851106330512949E-2,null,{"$f":"J43*$H62","v":8.8851106330512949E-2},8.8851106330512949E-2,8.8851106330512949E-2,8.8851106330512949E-2,8.8851106330512949E-2,8.8851106330512949E-2,8.8851106330512949E-2,8.8851106330512949E-2,8.8851106330512949E-2,8.8851106330512949E-2,8.8851106330512949E-2,8.8851106330512949E-2,8.8851106330512949E-2,8.8851106330512949E-2,8.8851106330512949E-2,8.8851106330512949E-2,8.8851106330512949E-2,8.8851106330512949E-2,8.8851106330512949E-2,8.8851106330512949E-2,8.8851106330512949E-2,8.8851106330512949E-2,8.8851106330512949E-2,8.8851106330512949E-2,8.8851106330512949E-2,8.8851106330512949E-2,8.8851106330512949E-2,8.8851106330512949E-2,8.8851106330512949E-2,8.8851106330512949E-2,8.8851106330512949E-2,8.8851106330512949E-2,{"$f":"AP43*$H62","v":8.8851106330512949E-2},8.8851106330512949E-2,8.8851106330512949E-2,8.8851106330512949E-2,8.8851106330512949E-2,8.8851106330512949E-2,8.8851106330512949E-2,8.8851106330512949E-2,8.8851106330512949E-2,8.8851106330512949E-2,8.8851106330512949E-2,8.8851106330512949E-2,8.8851106330512949E-2,8.8851106330512949E-2,8.8851106330512949E-2,8.8851106330512949E-2,8.8851106330512949E-2,8.8851106330512949E-2,8.8851106330512949E-2,8.8851106330512949E-2,8.8851106330512949E-2,8.8851106330512949E-2,8.8851106330512949E-2,8.8851106330512949E-2,8.8851106330512949E-2,8.8851106330512949E-2,8.8851106330512949E-2,8.8851106330512949E-2,8.8851106330512949E-2,8.8851106330512949E-2,8.8851106330512949E-2,8.8851106330512949E-2,{"$f":"BV43*$H62","v":8.8851106330512949E-2},8.8851106330512949E-2,8.8851106330512949E-2,8.8851106330512949E-2,8.8851106330512949E-2,8.8851106330512949E-2,8.8851106330512949E-2,8.8851106330512949E-2,8.8851106330512949E-2,8.8851106330512949E-2,8.8851106330512949E-2,8.8851106330512949E-2,8.8851106330512949E-2,8.8851106330512949E-2,8.8851106330512949E-2,8.8851106330512949E-2,8.8851106330512949E-2,8.8851106330512949E-2,8.8851106330512949E-2,8.8851106330512949E-2,8.8851106330512949E-2,8.8851106330512949E-2,8.8851106330512949E-2,8.8851106330512949E-2,8.8851106330512949E-2,8.8851106330512949E-2,8.8851106330512949E-2,8.8851106330512949E-2,8.8851106330512949E-2,8.8851106330512949E-2,8.8851106330512949E-2,8.8851106330512949E-2,{"$f":"DB43*$H62","v":8.8851106330512949E-2},8.8851106330512949E-2,8.8851106330512949E-2,8.8851106330512949E-2,8.8851106330512949E-2,8.8851106330512949E-2,8.8851106330512949E-2,8.8851106330512949E-2,8.8851106330512949E-2,8.8851106330512949E-2,8.8851106330512949E-2,8.8851106330512949E-2,8.8851106330512949E-2,8.8851106330512949E-2,8.8851106330512949E-2,8.8851106330512949E-2,8.8851106330512949E-2,8.8851106330512949E-2,8.8851106330512949E-2,8.8851106330512949E-2,8.8851106330512949E-2,8.8851106330512949E-2,8.8851106330512949E-2,8.8851106330512949E-2,8.8851106330512949E-2,8.8851106330512949E-2,8.8851106330512949E-2,8.8851106330512949E-2,8.8851106330512949E-2,8.8851106330512949E-2,8.8851106330512949E-2,8.8851106330512949E-2,{"$f":"EH43*$H62","v":8.8851106330512949E-2},8.8851106330512949E-2,8.8851106330512949E-2,8.8851106330512949E-2,8.8851106330512949E-2,8.8851106330512949E-2,8.8851106330512949E-2,8.8851106330512949E-2,8.8851106330512949E-2,8.8851106330512949E-2,8.8851106330512949E-2,8.8851106330512949E-2,8.8851106330512949E-2,8.8851106330512949E-2,8.8851106330512949E-2,8.8851106330512949E-2,8.8851106330512949E-2,8.8851106330512949E-2,8.8851106330512949E-2,8.8851106330512949E-2,8.8851106330512949E-2,8.8851106330512949E-2,{"$f":"FD43*$H62","v":8.8851106330512949E-2},8.8851106330512949E-2,8.8851106330512949E-2,8.8851106330512949E-2,8.8851106330512949E-2,8.8851106330512949E-2,8.8851106330512949E-2,8.8851106330512949E-2,8.8851106330512949E-2,8.8851106330512949E-2,8.8851106330512949E-2,8.8851106330512949E-2,8.8851106330512949E-2,8.8851106330512949E-2,8.8851106330512949E-2,8.8851106330512949E-2,8.8851106330512949E-2,8.8851106330512949E-2,8.8851106330512949E-2,8.8851106330512949E-2,8.8851106330512949E-2,8.8851106330512949E-2,8.8851106330512949E-2,8.8851106330512949E-2,8.8851106330512949E-2,8.8851106330512949E-2,8.8851106330512949E-2,8.8851106330512949E-2,8.8851106330512949E-2,8.8851106330512949E-2,8.8851106330512949E-2,8.8851106330512949E-2,8.8851106330512949E-2,8.8851106330512949E-2,8.8851106330512949E-2,8.8851106330512949E-2,8.8851106330512949E-2,8.8851106330512949E-2,8.8851106330512949E-2,8.8851106330512949E-2,8.8851106330512949E-2,8.8851106330512949E-2,8.8851106330512949E-2,8.8851106330512949E-2,8.8851106330512949E-2,8.8851106330512949E-2,8.8851106330512949E-2,8.8851106330512949E-2,8.8851106330512949E-2,8.8851106330512949E-2,8.8851106330512949E-2,8.8851106330512949E-2,8.8851106330512949E-2,8.8851106330512949E-2,8.8851106330512949E-2,8.8851106330512949E-2,8.8851106330512949E-2,8.8851106330512949E-2,8.8851106330512949E-2,8.8851106330512949E-2,8.8851106330512949E-2,8.8851106330512949E-2,8.8851106330512949E-2,8.8851106330512949E-2,{"$f":"HP43*$H62","v":8.8851106330512949E-2},8.8851106330512949E-2,8.8851106330512949E-2,8.8851106330512949E-2,8.8851106330512949E-2,8.8851106330512949E-2,8.8851106330512949E-2,8.8851106330512949E-2,8.8851106330512949E-2,8.8851106330512949E-2,8.8851106330512949E-2,8.8851106330512949E-2,8.8851106330512949E-2,8.8851106330512949E-2,8.8851106330512949E-2,8.8851106330512949E-2,8.8851106330512949E-2,8.8851106330512949E-2,8.8851106330512949E-2,8.8851106330512949E-2,8.8851106330512949E-2,8.8851106330512949E-2,8.8851106330512949E-2,8.8851106330512949E-2,8.8851106330512949E-2,8.8851106330512949E-2,8.8851106330512949E-2,8.8851106330512949E-2,8.8851106330512949E-2,8.8851106330512949E-2,8.8851106330512949E-2,8.8851106330512949E-2,8.8851106330512949E-2,8.8851106330512949E-2,8.8851106330512949E-2,8.8851106330512949E-2,8.8851106330512949E-2,8.8851106330512949E-2,8.8851106330512949E-2,8.8851106330512949E-2,8.8851106330512949E-2,8.8851106330512949E-2,8.8851106330512949E-2,8.8851106330512949E-2,8.8851106330512949E-2,8.8851106330512949E-2,8.8851106330512949E-2,8.8851106330512949E-2,8.8851106330512949E-2,8.8851106330512949E-2,8.8851106330512949E-2,8.8851106330512949E-2,8.8851106330512949E-2,8.8851106330512949E-2,8.8851106330512949E-2,8.8851106330512949E-2,8.8851106330512949E-2,8.8851106330512949E-2,8.8851106330512949E-2,8.8851106330512949E-2,8.8851106330512949E-2,8.8851106330512949E-2,8.8851106330512949E-2,8.8851106330512949E-2,{"$f":"KB43*$H62","v":8.8851106330512949E-2},8.8851106330512949E-2,8.8851106330512949E-2,8.8851106330512949E-2,8.8851106330512949E-2,8.8851106330512949E-2,8.8851106330512949E-2,8.8851106330512949E-2,8.8851106330512949E-2,8.8851106330512949E-2,8.8851106330512949E-2,8.8851106330512949E-2,8.8851106330512949E-2,8.8851106330512949E-2,8.8851106330512949E-2,8.8851106330512949E-2,8.8851106330512949E-2,8.8851106330512949E-2,8.8851106330512949E-2,8.8851106330512949E-2,8.8851106330512949E-2,8.8851106330512949E-2,8.8851106330512949E-2,8.8851106330512949E-2,8.8851106330512949E-2,8.8851106330512949E-2,8.8851106330512949E-2,8.8851106330512949E-2,8.8851106330512949E-2,8.8851106330512949E-2,8.8851106330512949E-2,8.8851106330512949E-2,8.8851106330512949E-2,8.8851106330512949E-2,8.8851106330512949E-2,8.8851106330512949E-2,8.8851106330512949E-2,8.8851106330512949E-2,8.8851106330512949E-2,8.8851106330512949E-2,8.8851106330512949E-2,8.8851106330512949E-2,8.8851106330512949E-2,8.8851106330512949E-2,8.8851106330512949E-2,8.8851106330512949E-2,8.8851106330512949E-2,8.8851106330512949E-2,8.8851106330512949E-2,8.8851106330512949E-2,8.8851106330512949E-2,8.8851106330512949E-2,8.8851106330512949E-2,8.8851106330512949E-2,{"$f":"MD43*$H62","v":8.8851106330512949E-2},8.8851106330512949E-2,8.8851106330512949E-2,8.8851106330512949E-2,8.8851106330512949E-2,8.8851106330512949E-2,8.8851106330512949E-2,8.8851106330512949E-2,8.8851106330512949E-2,8.8851106330512949E-2,8.8851106330512949E-2,8.8851106330512949E-2,8.8851106330512949E-2,8.8851106330512949E-2,8.8851106330512949E-2,8.8851106330512949E-2,8.8851106330512949E-2,8.8851106330512949E-2,8.8851106330512949E-2,8.8851106330512949E-2,8.8851106330512949E-2,8.8851106330512949E-2,8.8851106330512949E-2,8.8851106330512949E-2,8.8851106330512949E-2,8.8851106330512949E-2,8.8851106330512949E-2,8.8851106330512949E-2,8.8851106330512949E-2,8.8851106330512949E-2,8.8851106330512949E-2,8.8851106330512949E-2,8.8851106330512949E-2,8.8851106330512949E-2,8.8851106330512949E-2,8.8851106330512949E-2,8.8851106330512949E-2,8.8851106330512949E-2,8.8851106330512949E-2,8.8851106330512949E-2,8.8851106330512949E-2,8.8851106330512949E-2,8.8851106330512949E-2,8.8851106330512949E-2,8.8851106330512949E-2,8.8851106330512949E-2,8.8851106330512949E-2,8.8851106330512949E-2,8.8851106330512949E-2,8.8851106330512949E-2,8.8851106330512949E-2,8.8851106330512949E-2,8.8851106330512949E-2,8.8851106330512949E-2,8.8851106330512949E-2,8.8851106330512949E-2,8.8851106330512949E-2,8.8851106330512949E-2,8.8851106330512949E-2,8.8851106330512949E-2,8.8851106330512949E-2,8.8851106330512949E-2,8.8851106330512949E-2,8.8851106330512949E-2,{"$f":"OP43*$H62","v":8.8851106330512949E-2},8.8851106330512949E-2,8.8851106330512949E-2,8.8851106330512949E-2,8.8851106330512949E-2,8.8851106330512949E-2,8.8851106330512949E-2,8.8851106330512949E-2,8.8851106330512949E-2,8.8851106330512949E-2,8.8851106330512949E-2,8.8851106330512949E-2,8.8851106330512949E-2,8.8851106330512949E-2,8.8851106330512949E-2,8.8851106330512949E-2,8.8851106330512949E-2,8.8851106330512949E-2,8.8851106330512949E-2,8.8851106330512949E-2,8.8851106330512949E-2,8.8851106330512949E-2,8.8851106330512949E-2,8.8851106330512949E-2,8.8851106330512949E-2,8.8851106330512949E-2,8.8851106330512949E-2,{"$f":"PQ43*$H62","v":8.8851106330512949E-2},8.8851106330512949E-2,8.8851106330512949E-2,8.8851106330512949E-2,8.8851106330512949E-2,8.8851106330512949E-2,8.8851106330512949E-2,8.8851106330512949E-2,8.8851106330512949E-2,8.8851106330512949E-2,8.8851106330512949E-2,8.8851106330512949E-2,8.8851106330512949E-2,8.8851106330512949E-2,8.8851106330512949E-2,8.8851106330512949E-2,8.8851106330512949E-2,8.8851106330512949E-2,8.8851106330512949E-2,8.8851106330512949E-2,8.8851106330512949E-2,8.8851106330512949E-2,8.8851106330512949E-2,8.8851106330512949E-2,8.8851106330512949E-2,8.8851106330512949E-2,8.8851106330512949E-2,8.8851106330512949E-2,8.8851106330512949E-2,8.8851106330512949E-2,8.8851106330512949E-2,8.8851106330512949E-2,8.8851106330512949E-2,8.8851106330512949E-2,8.8851106330512949E-2,8.8851106330512949E-2,8.8851106330512949E-2,8.8851106330512949E-2,8.8851106330512949E-2,8.8851106330512949E-2,8.8851106330512949E-2,8.8851106330512949E-2,8.8851106330512949E-2,8.8851106330512949E-2,8.8851106330512949E-2,8.8851106330512949E-2,8.8851106330512949E-2,8.8851106330512949E-2,8.8851106330512949E-2,8.8851106330512949E-2,8.8851106330512949E-2,8.8851106330512949E-2,8.8851106330512949E-2,8.8851106330512949E-2,8.8851106330512949E-2,8.8851106330512949E-2,8.8851106330512949E-2,8.8851106330512949E-2,8.8851106330512949E-2,8.8851106330512949E-2,8.8851106330512949E-2,8.8851106330512949E-2,8.8851106330512949E-2,8.8851106330512949E-2,{"$f":"SC43*$H62","v":0},0,0,0,0,0,0,0,0,0,0,0,0,0,0,0,0,0,0,0,0,0,0,0,0,0,0,0,0,0,0,0,0,0,0,0,0,0,0,0,0,0,0,0,0,0,0,0,0]
[null,null,null,null,null,6,252.92331725146215,7.8908772058296203E-2,null,{"$f":"J44*$H63","v":7.8908772058296203E-2},7.8908772058296203E-2,7.8908772058296203E-2,7.8908772058296203E-2,7.8908772058296203E-2,7.8908772058296203E-2,7.8908772058296203E-2,7.8908772058296203E-2,7.8908772058296203E-2,7.8908772058296203E-2,7.8908772058296203E-2,7.8908772058296203E-2,7.8908772058296203E-2,7.8908772058296203E-2,7.8908772058296203E-2,7.8908772058296203E-2,7.8908772058296203E-2,7.8908772058296203E-2,7.8908772058296203E-2,7.8908772058296203E-2,7.8908772058296203E-2,7.8908772058296203E-2,7.8908772058296203E-2,7.8908772058296203E-2,7.8908772058296203E-2,7.8908772058296203E-2,7.8908772058296203E-2,7.8908772058296203E-2,7.8908772058296203E-2,7.8908772058296203E-2,7.8908772058296203E-2,7.8908772058296203E-2,{"$f":"AP44*$H63","v":7.8908772058296203E-2},7.8908772058296203E-2,7.8908772058296203E-2,7.8908772058296203E-2,7.8908772058296203E-2,7.8908772058296203E-2,7.8908772058296203E-2,7.8908772058296203E-2,7.8908772058296203E-2,7.8908772058296203E-2,7.8908772058296203E-2,7.8908772058296203E-2,7.8908772058296203E-2,7.8908772058296203E-2,7.8908772058296203E-2,7.8908772058296203E-2,7.8908772058296203E-2,7.8908772058296203E-2,7.8908772058296203E-2,7.8908772058296203E-2,7.8908772058296203E-2,7.8908772058296203E-2,7.8908772058296203E-2,7.8908772058296203E-2,7.8908772058296203E-2,7.8908772058296203E-2,7.8908772058296203E-2,7.8908772058296203E-2,7.8908772058296203E-2,7.8908772058296203E-2,7.8908772058296203E-2,7.8908772058296203E-2,{"$f":"BV44*$H63","v":7.8908772058296203E-2},7.8908772058296203E-2,7.8908772058296203E-2,7.8908772058296203E-2,7.8908772058296203E-2,7.8908772058296203E-2,7.8908772058296203E-2,7.8908772058296203E-2,7.8908772058296203E-2,7.8908772058296203E-2,7.8908772058296203E-2,7.8908772058296203E-2,7.8908772058296203E-2,7.8908772058296203E-2,7.8908772058296203E-2,7.8908772058296203E-2,7.8908772058296203E-2,7.8908772058296203E-2,7.8908772058296203E-2,7.8908772058296203E-2,7.8908772058296203E-2,7.8908772058296203E-2,7.8908772058296203E-2,7.8908772058296203E-2,7.8908772058296203E-2,7.8908772058296203E-2,7.8908772058296203E-2,7.8908772058296203E-2,7.8908772058296203E-2,7.8908772058296203E-2,7.8908772058296203E-2,7.8908772058296203E-2,{"$f":"DB44*$H63","v":7.8908772058296203E-2},7.8908772058296203E-2,7.8908772058296203E-2,7.8908772058296203E-2,7.8908772058296203E-2,7.8908772058296203E-2,7.8908772058296203E-2,7.8908772058296203E-2,7.8908772058296203E-2,7.8908772058296203E-2,7.8908772058296203E-2,7.8908772058296203E-2,7.8908772058296203E-2,7.8908772058296203E-2,7.8908772058296203E-2,7.8908772058296203E-2,7.8908772058296203E-2,7.8908772058296203E-2,7.8908772058296203E-2,7.8908772058296203E-2,7.8908772058296203E-2,7.8908772058296203E-2,7.8908772058296203E-2,7.8908772058296203E-2,7.8908772058296203E-2,7.8908772058296203E-2,7.8908772058296203E-2,7.8908772058296203E-2,7.8908772058296203E-2,7.8908772058296203E-2,7.8908772058296203E-2,7.8908772058296203E-2,{"$f":"EH44*$H63","v":7.8908772058296203E-2},7.8908772058296203E-2,7.8908772058296203E-2,7.8908772058296203E-2,7.8908772058296203E-2,7.8908772058296203E-2,7.8908772058296203E-2,7.8908772058296203E-2,7.8908772058296203E-2,7.8908772058296203E-2,7.8908772058296203E-2,7.8908772058296203E-2,7.8908772058296203E-2,7.8908772058296203E-2,7.8908772058296203E-2,7.8908772058296203E-2,7.8908772058296203E-2,7.8908772058296203E-2,7.8908772058296203E-2,7.8908772058296203E-2,7.8908772058296203E-2,7.8908772058296203E-2,{"$f":"FD44*$H63","v":7.8908772058296203E-2},7.8908772058296203E-2,7.8908772058296203E-2,7.8908772058296203E-2,7.8908772058296203E-2,7.8908772058296203E-2,7.8908772058296203E-2,7.8908772058296203E-2,7.8908772058296203E-2,7.8908772058296203E-2,7.8908772058296203E-2,7.8908772058296203E-2,7.8908772058296203E-2,7.8908772058296203E-2,7.8908772058296203E-2,7.8908772058296203E-2,7.8908772058296203E-2,7.8908772058296203E-2,7.8908772058296203E-2,7.8908772058296203E-2,7.8908772058296203E-2,7.8908772058296203E-2,7.8908772058296203E-2,7.8908772058296203E-2,7.8908772058296203E-2,7.8908772058296203E-2,7.8908772058296203E-2,7.8908772058296203E-2,7.8908772058296203E-2,7.8908772058296203E-2,7.8908772058296203E-2,7.8908772058296203E-2,7.8908772058296203E-2,7.8908772058296203E-2,7.8908772058296203E-2,7.8908772058296203E-2,7.8908772058296203E-2,7.8908772058296203E-2,7.8908772058296203E-2,7.8908772058296203E-2,7.8908772058296203E-2,7.8908772058296203E-2,7.8908772058296203E-2,7.8908772058296203E-2,7.8908772058296203E-2,7.8908772058296203E-2,7.8908772058296203E-2,7.8908772058296203E-2,7.8908772058296203E-2,7.8908772058296203E-2,7.8908772058296203E-2,7.8908772058296203E-2,7.8908772058296203E-2,7.8908772058296203E-2,7.8908772058296203E-2,7.8908772058296203E-2,7.8908772058296203E-2,7.8908772058296203E-2,7.8908772058296203E-2,7.8908772058296203E-2,7.8908772058296203E-2,7.8908772058296203E-2,7.8908772058296203E-2,7.8908772058296203E-2,{"$f":"HP44*$H63","v":7.8908772058296203E-2},7.8908772058296203E-2,7.8908772058296203E-2,7.8908772058296203E-2,7.8908772058296203E-2,7.8908772058296203E-2,7.8908772058296203E-2,7.8908772058296203E-2,7.8908772058296203E-2,7.8908772058296203E-2,7.8908772058296203E-2,7.8908772058296203E-2,7.8908772058296203E-2,7.8908772058296203E-2,7.8908772058296203E-2,7.8908772058296203E-2,7.8908772058296203E-2,7.8908772058296203E-2,7.8908772058296203E-2,7.8908772058296203E-2,7.8908772058296203E-2,7.8908772058296203E-2,7.8908772058296203E-2,7.8908772058296203E-2,7.8908772058296203E-2,7.8908772058296203E-2,7.8908772058296203E-2,7.8908772058296203E-2,7.8908772058296203E-2,7.8908772058296203E-2,7.8908772058296203E-2,7.8908772058296203E-2,7.8908772058296203E-2,7.8908772058296203E-2,7.8908772058296203E-2,7.8908772058296203E-2,7.8908772058296203E-2,7.8908772058296203E-2,7.8908772058296203E-2,7.8908772058296203E-2,7.8908772058296203E-2,7.8908772058296203E-2,7.8908772058296203E-2,7.8908772058296203E-2,7.8908772058296203E-2,7.8908772058296203E-2,7.8908772058296203E-2,7.8908772058296203E-2,7.8908772058296203E-2,7.8908772058296203E-2,7.8908772058296203E-2,7.8908772058296203E-2,7.8908772058296203E-2,7.8908772058296203E-2,7.8908772058296203E-2,7.8908772058296203E-2,7.8908772058296203E-2,7.8908772058296203E-2,7.8908772058296203E-2,7.8908772058296203E-2,7.8908772058296203E-2,7.8908772058296203E-2,7.8908772058296203E-2,7.8908772058296203E-2,{"$f":"KB44*$H63","v":7.8908772058296203E-2},7.8908772058296203E-2,7.8908772058296203E-2,7.8908772058296203E-2,7.8908772058296203E-2,7.8908772058296203E-2,7.8908772058296203E-2,7.8908772058296203E-2,7.8908772058296203E-2,7.8908772058296203E-2,7.8908772058296203E-2,7.8908772058296203E-2,7.8908772058296203E-2,7.8908772058296203E-2,7.8908772058296203E-2,7.8908772058296203E-2,7.8908772058296203E-2,7.8908772058296203E-2,7.8908772058296203E-2,7.8908772058296203E-2,7.8908772058296203E-2,7.8908772058296203E-2,7.8908772058296203E-2,7.8908772058296203E-2,7.8908772058296203E-2,7.8908772058296203E-2,7.8908772058296203E-2,7.8908772058296203E-2,7.8908772058296203E-2,7.8908772058296203E-2,7.8908772058296203E-2,7.8908772058296203E-2,7.8908772058296203E-2,7.8908772058296203E-2,7.8908772058296203E-2,7.8908772058296203E-2,7.8908772058296203E-2,7.8908772058296203E-2,7.8908772058296203E-2,7.8908772058296203E-2,7.8908772058296203E-2,7.8908772058296203E-2,7.8908772058296203E-2,7.8908772058296203E-2,7.8908772058296203E-2,7.8908772058296203E-2,7.8908772058296203E-2,7.8908772058296203E-2,7.8908772058296203E-2,7.8908772058296203E-2,7.8908772058296203E-2,7.8908772058296203E-2,7.8908772058296203E-2,7.8908772058296203E-2,{"$f":"MD44*$H63","v":7.8908772058296203E-2},7.8908772058296203E-2,7.8908772058296203E-2,7.8908772058296203E-2,7.8908772058296203E-2,7.8908772058296203E-2,7.8908772058296203E-2,7.8908772058296203E-2,7.8908772058296203E-2,7.8908772058296203E-2,7.8908772058296203E-2,7.8908772058296203E-2,7.8908772058296203E-2,7.8908772058296203E-2,7.8908772058296203E-2,7.8908772058296203E-2,7.8908772058296203E-2,7.8908772058296203E-2,7.8908772058296203E-2,7.8908772058296203E-2,7.8908772058296203E-2,7.8908772058296203E-2,7.8908772058296203E-2,7.8908772058296203E-2,7.8908772058296203E-2,7.8908772058296203E-2,7.8908772058296203E-2,7.8908772058296203E-2,7.8908772058296203E-2,7.8908772058296203E-2,7.8908772058296203E-2,7.8908772058296203E-2,7.8908772058296203E-2,7.8908772058296203E-2,7.8908772058296203E-2,7.8908772058296203E-2,7.8908772058296203E-2,7.8908772058296203E-2,7.8908772058296203E-2,7.8908772058296203E-2,7.8908772058296203E-2,7.8908772058296203E-2,7.8908772058296203E-2,7.8908772058296203E-2,7.8908772058296203E-2,7.8908772058296203E-2,7.8908772058296203E-2,7.8908772058296203E-2,7.8908772058296203E-2,7.8908772058296203E-2,7.8908772058296203E-2,7.8908772058296203E-2,7.8908772058296203E-2,7.8908772058296203E-2,7.8908772058296203E-2,7.8908772058296203E-2,7.8908772058296203E-2,7.8908772058296203E-2,7.8908772058296203E-2,7.8908772058296203E-2,7.8908772058296203E-2,7.8908772058296203E-2,7.8908772058296203E-2,7.8908772058296203E-2,{"$f":"OP44*$H63","v":7.8908772058296203E-2},7.8908772058296203E-2,7.8908772058296203E-2,7.8908772058296203E-2,7.8908772058296203E-2,7.8908772058296203E-2,7.8908772058296203E-2,7.8908772058296203E-2,7.8908772058296203E-2,7.8908772058296203E-2,7.8908772058296203E-2,7.8908772058296203E-2,7.8908772058296203E-2,7.8908772058296203E-2,7.8908772058296203E-2,7.8908772058296203E-2,7.8908772058296203E-2,7.8908772058296203E-2,7.8908772058296203E-2,7.8908772058296203E-2,7.8908772058296203E-2,7.8908772058296203E-2,7.8908772058296203E-2,7.8908772058296203E-2,7.8908772058296203E-2,7.8908772058296203E-2,7.8908772058296203E-2,{"$f":"PQ44*$H63","v":7.8908772058296203E-2},7.8908772058296203E-2,7.8908772058296203E-2,7.8908772058296203E-2,7.8908772058296203E-2,7.8908772058296203E-2,7.8908772058296203E-2,7.8908772058296203E-2,7.8908772058296203E-2,7.8908772058296203E-2,7.8908772058296203E-2,7.8908772058296203E-2,7.8908772058296203E-2,7.8908772058296203E-2,7.8908772058296203E-2,7.8908772058296203E-2,7.8908772058296203E-2,7.8908772058296203E-2,7.8908772058296203E-2,7.8908772058296203E-2,7.8908772058296203E-2,7.8908772058296203E-2,7.8908772058296203E-2,7.8908772058296203E-2,7.8908772058296203E-2,7.8908772058296203E-2,7.8908772058296203E-2,7.8908772058296203E-2,7.8908772058296203E-2,7.8908772058296203E-2,7.8908772058296203E-2,7.8908772058296203E-2,7.8908772058296203E-2,7.8908772058296203E-2,7.8908772058296203E-2,7.8908772058296203E-2,7.8908772058296203E-2,7.8908772058296203E-2,7.8908772058296203E-2,7.8908772058296203E-2,7.8908772058296203E-2,7.8908772058296203E-2,7.8908772058296203E-2,7.8908772058296203E-2,7.8908772058296203E-2,7.8908772058296203E-2,7.8908772058296203E-2,7.8908772058296203E-2,7.8908772058296203E-2,7.8908772058296203E-2,7.8908772058296203E-2,7.8908772058296203E-2,7.8908772058296203E-2,7.8908772058296203E-2,7.8908772058296203E-2,7.8908772058296203E-2,7.8908772058296203E-2,7.8908772058296203E-2,7.8908772058296203E-2,7.8908772058296203E-2,7.8908772058296203E-2,7.8908772058296203E-2,7.8908772058296203E-2,7.8908772058296203E-2,{"$f":"SC44*$H63","v":0},0,0,0,0,0,0,0,0,0,0,0,0,0,0,0,0,0,0,0,0,0,0,0,0,0,0,0,0,0,0,0,0,0,0,0,0,0,0,0,0,0,0,0,0,0,0,0,0]
[null,null,null,null,null,7,219.70493704018099,6.8545071231014526E-2,null,{"$f":"J45*$H64","v":6.8545071231014526E-2},6.8545071231014526E-2,6.8545071231014526E-2,6.8545071231014526E-2,6.8545071231014526E-2,6.8545071231014526E-2,6.8545071231014526E-2,6.8545071231014526E-2,6.8545071231014526E-2,6.8545071231014526E-2,6.8545071231014526E-2,6.8545071231014526E-2,6.8545071231014526E-2,6.8545071231014526E-2,6.8545071231014526E-2,6.8545071231014526E-2,6.8545071231014526E-2,6.8545071231014526E-2,6.8545071231014526E-2,6.8545071231014526E-2,6.8545071231014526E-2,6.8545071231014526E-2,6.8545071231014526E-2,6.8545071231014526E-2,6.8545071231014526E-2,6.8545071231014526E-2,6.8545071231014526E-2,6.8545071231014526E-2,6.8545071231014526E-2,6.8545071231014526E-2,6.8545071231014526E-2,6.8545071231014526E-2,{"$f":"AP45*$H64","v":6.8545071231014526E-2},6.8545071231014526E-2,6.8545071231014526E-2,6.8545071231014526E-2,6.8545071231014526E-2,6.8545071231014526E-2,6.8545071231014526E-2,6.8545071231014526E-2,6.8545071231014526E-2,6.8545071231014526E-2,6.8545071231014526E-2,6.8545071231014526E-2,6.8545071231014526E-2,6.8545071231014526E-2,6.8545071231014526E-2,6.8545071231014526E-2,6.8545071231014526E-2,6.8545071231014526E-2,6.8545071231014526E-2,6.8545071231014526E-2,6.8545071231014526E-2,6.8545071231014526E-2,6.8545071231014526E-2,6.8545071231014526E-2,6.8545071231014526E-2,6.8545071231014526E-2,6.8545071231014526E-2,6.8545071231014526E-2,6.8545071231014526E-2,6.8545071231014526E-2,6.8545071231014526E-2,6.8545071231014526E-2,{"$f":"BV45*$H64","v":6.8545071231014526E-2},6.8545071231014526E-2,6.8545071231014526E-2,6.8545071231014526E-2,6.8545071231014526E-2,6.8545071231014526E-2,6.8545071231014526E-2,6.8545071231014526E-2,6.8545071231014526E-2,6.8545071231014526E-2,6.8545071231014526E-2,6.8545071231014526E-2,6.8545071231014526E-2,6.8545071231014526E-2,6.8545071231014526E-2,6.8545071231014526E-2,6.8545071231014526E-2,6.8545071231014526E-2,6.8545071231014526E-2,6.8545071231014526E-2,6.8545071231014526E-2,6.8545071231014526E-2,6.8545071231014526E-2,6.8545071231014526E-2,6.8545071231014526E-2,6.8545071231014526E-2,6.8545071231014526E-2,6.8545071231014526E-2,6.8545071231014526E-2,6.8545071231014526E-2,6.8545071231014526E-2,6.8545071231014526E-2,{"$f":"DB45*$H64","v":6.8545071231014526E-2},6.8545071231014526E-2,6.8545071231014526E-2,6.8545071231014526E-2,6.8545071231014526E-2,6.8545071231014526E-2,6.8545071231014526E-2,6.8545071231014526E-2,6.8545071231014526E-2,6.8545071231014526E-2,6.8545071231014526E-2,6.8545071231014526E-2,6.8545071231014526E-2,6.8545071231014526E-2,6.8545071231014526E-2,6.8545071231014526E-2,6.8545071231014526E-2,6.8545071231014526E-2,6.8545071231014526E-2,6.8545071231014526E-2,6.8545071231014526E-2,6.8545071231014526E-2,6.8545071231014526E-2,6.8545071231014526E-2,6.8545071231014526E-2,6.8545071231014526E-2,6.8545071231014526E-2,6.8545071231014526E-2,6.8545071231014526E-2,6.8545071231014526E-2,6.8545071231014526E-2,6.8545071231014526E-2,{"$f":"EH45*$H64","v":6.8545071231014526E-2},6.8545071231014526E-2,6.8545071231014526E-2,6.8545071231014526E-2,6.8545071231014526E-2,6.8545071231014526E-2,6.8545071231014526E-2,6.8545071231014526E-2,6.8545071231014526E-2,6.8545071231014526E-2,6.8545071231014526E-2,6.8545071231014526E-2,6.8545071231014526E-2,6.8545071231014526E-2,6.8545071231014526E-2,6.8545071231014526E-2,6.8545071231014526E-2,6.8545071231014526E-2,6.8545071231014526E-2,6.8545071231014526E-2,6.8545071231014526E-2,6.8545071231014526E-2,{"$f":"FD45*$H64","v":6.8545071231014526E-2},6.8545071231014526E-2,6.8545071231014526E-2,6.8545071231014526E-2,6.8545071231014526E-2,6.8545071231014526E-2,6.8545071231014526E-2,6.8545071231014526E-2,6.8545071231014526E-2,6.8545071231014526E-2,6.8545071231014526E-2,6.8545071231014526E-2,6.8545071231014526E-2,6.8545071231014526E-2,6.8545071231014526E-2,6.8545071231014526E-2,6.8545071231014526E-2,6.8545071231014526E-2,6.8545071231014526E-2,6.8545071231014526E-2,6.8545071231014526E-2,6.8545071231014526E-2,6.8545071231014526E-2,6.8545071231014526E-2,6.8545071231014526E-2,6.8545071231014526E-2,6.8545071231014526E-2,6.8545071231014526E-2,6.8545071231014526E-2,6.8545071231014526E-2,6.8545071231014526E-2,6.8545071231014526E-2,6.8545071231014526E-2,6.8545071231014526E-2,6.8545071231014526E-2,6.8545071231014526E-2,6.8545071231014526E-2,6.8545071231014526E-2,6.8545071231014526E-2,6.8545071231014526E-2,6.8545071231014526E-2,6.8545071231014526E-2,6.8545071231014526E-2,6.8545071231014526E-2,6.8545071231014526E-2,6.8545071231014526E-2,6.8545071231014526E-2,6.8545071231014526E-2,6.8545071231014526E-2,6.8545071231014526E-2,6.8545071231014526E-2,6.8545071231014526E-2,6.8545071231014526E-2,6.8545071231014526E-2,6.8545071231014526E-2,6.8545071231014526E-2,6.8545071231014526E-2,6.8545071231014526E-2,6.8545071231014526E-2,6.8545071231014526E-2,6.8545071231014526E-2,6.8545071231014526E-2,6.8545071231014526E-2,6.8545071231014526E-2,{"$f":"HP45*$H64","v":6.8545071231014526E-2},6.8545071231014526E-2,6.8545071231014526E-2,6.8545071231014526E-2,6.8545071231014526E-2,6.8545071231014526E-2,6.8545071231014526E-2,6.8545071231014526E-2,6.8545071231014526E-2,6.8545071231014526E-2,6.8545071231014526E-2,6.8545071231014526E-2,6.8545071231014526E-2,6.8545071231014526E-2,6.8545071231014526E-2,6.8545071231014526E-2,6.8545071231014526E-2,6.8545071231014526E-2,6.8545071231014526E-2,6.8545071231014526E-2,6.8545071231014526E-2,6.8545071231014526E-2,6.8545071231014526E-2,6.8545071231014526E-2,6.8545071231014526E-2,6.8545071231014526E-2,6.8545071231014526E-2,6.8545071231014526E-2,6.8545071231014526E-2,6.8545071231014526E-2,6.8545071231014526E-2,6.8545071231014526E-2,6.8545071231014526E-2,6.8545071231014526E-2,6.8545071231014526E-2,6.8545071231014526E-2,6.8545071231014526E-2,6.8545071231014526E-2,6.8545071231014526E-2,6.8545071231014526E-2,6.8545071231014526E-2,6.8545071231014526E-2,6.8545071231014526E-2,6.8545071231014526E-2,6.8545071231014526E-2,6.8545071231014526E-2,6.8545071231014526E-2,6.8545071231014526E-2,6.8545071231014526E-2,6.8545071231014526E-2,6.8545071231014526E-2,6.8545071231014526E-2,6.8545071231014526E-2,6.8545071231014526E-2,6.8545071231014526E-2,6.8545071231014526E-2,6.8545071231014526E-2,6.8545071231014526E-2,6.8545071231014526E-2,6.8545071231014526E-2,6.8545071231014526E-2,6.8545071231014526E-2,6.8545071231014526E-2,6.8545071231014526E-2,{"$f":"KB45*$H64","v":6.8545071231014526E-2},6.8545071231014526E-2,6.8545071231014526E-2,6.8545071231014526E-2,6.8545071231014526E-2,6.8545071231014526E-2,6.8545071231014526E-2,6.8545071231014526E-2,6.8545071231014526E-2,6.8545071231014526E-2,6.8545071231014526E-2,6.8545071231014526E-2,6.8545071231014526E-2,6.8545071231014526E-2,6.8545071231014526E-2,6.8545071231014526E-2,6.8545071231014526E-2,6.8545071231014526E-2,6.8545071231014526E-2,6.8545071231014526E-2,6.8545071231014526E-2,6.8545071231014526E-2,6.8545071231014526E-2,6.8545071231014526E-2,6.8545071231014526E-2,6.8545071231014526E-2,6.8545071231014526E-2,6.8545071231014526E-2,6.8545071231014526E-2,6.8545071231014526E-2,6.8545071231014526E-2,6.8545071231014526E-2,6.8545071231014526E-2,6.8545071231014526E-2,6.8545071231014526E-2,6.8545071231014526E-2,6.8545071231014526E-2,6.8545071231014526E-2,6.8545071231014526E-2,6.8545071231014526E-2,6.8545071231014526E-2,6.8545071231014526E-2,6.8545071231014526E-2,6.8545071231014526E-2,6.8545071231014526E-2,6.8545071231014526E-2,6.8545071231014526E-2,6.8545071231014526E-2,6.8545071231014526E-2,6.8545071231014526E-2,6.8545071231014526E-2,6.8545071231014526E-2,6.8545071231014526E-2,6.8545071231014526E-2,{"$f":"MD45*$H64","v":6.8545071231014526E-2},6.8545071231014526E-2,6.8545071231014526E-2,6.8545071231014526E-2,6.8545071231014526E-2,6.8545071231014526E-2,6.8545071231014526E-2,6.8545071231014526E-2,6.8545071231014526E-2,6.8545071231014526E-2,6.8545071231014526E-2,6.8545071231014526E-2,6.8545071231014526E-2,6.8545071231014526E-2,6.8545071231014526E-2,6.8545071231014526E-2,6.8545071231014526E-2,6.8545071231014526E-2,6.8545071231014526E-2,6.8545071231014526E-2,6.8545071231014526E-2,6.8545071231014526E-2,6.8545071231014526E-2,6.8545071231014526E-2,6.8545071231014526E-2,6.8545071231014526E-2,6.8545071231014526E-2,6.8545071231014526E-2,6.8545071231014526E-2,6.8545071231014526E-2,6.8545071231014526E-2,6.8545071231014526E-2,6.8545071231014526E-2,6.8545071231014526E-2,6.8545071231014526E-2,6.8545071231014526E-2,6.8545071231014526E-2,6.8545071231014526E-2,6.8545071231014526E-2,6.8545071231014526E-2,6.8545071231014526E-2,6.8545071231014526E-2,6.8545071231014526E-2,6.8545071231014526E-2,6.8545071231014526E-2,6.8545071231014526E-2,6.8545071231014526E-2,6.8545071231014526E-2,6.8545071231014526E-2,6.8545071231014526E-2,6.8545071231014526E-2,6.8545071231014526E-2,6.8545071231014526E-2,6.8545071231014526E-2,6.8545071231014526E-2,6.8545071231014526E-2,6.8545071231014526E-2,6.8545071231014526E-2,6.8545071231014526E-2,6.8545071231014526E-2,6.8545071231014526E-2,6.8545071231014526E-2,6.8545071231014526E-2,6.8545071231014526E-2,{"$f":"OP45*$H64","v":6.8545071231014526E-2},6.8545071231014526E-2,6.8545071231014526E-2,6.8545071231014526E-2,6.8545071231014526E-2,6.8545071231014526E-2,6.8545071231014526E-2,6.8545071231014526E-2,6.8545071231014526E-2,6.8545071231014526E-2,6.8545071231014526E-2,6.8545071231014526E-2,6.8545071231014526E-2,6.8545071231014526E-2,6.8545071231014526E-2,6.8545071231014526E-2,6.8545071231014526E-2,6.8545071231014526E-2,6.8545071231014526E-2,6.8545071231014526E-2,6.8545071231014526E-2,6.8545071231014526E-2,6.8545071231014526E-2,6.8545071231014526E-2,6.8545071231014526E-2,6.8545071231014526E-2,6.8545071231014526E-2,{"$f":"PQ45*$H64","v":6.8545071231014526E-2},6.8545071231014526E-2,6.8545071231014526E-2,6.8545071231014526E-2,6.8545071231014526E-2,6.8545071231014526E-2,6.8545071231014526E-2,6.8545071231014526E-2,6.8545071231014526E-2,6.8545071231014526E-2,6.8545071231014526E-2,6.8545071231014526E-2,6.8545071231014526E-2,6.8545071231014526E-2,6.8545071231014526E-2,6.8545071231014526E-2,6.8545071231014526E-2,6.8545071231014526E-2,6.8545071231014526E-2,6.8545071231014526E-2,6.8545071231014526E-2,6.8545071231014526E-2,6.8545071231014526E-2,6.8545071231014526E-2,6.8545071231014526E-2,6.8545071231014526E-2,6.8545071231014526E-2,6.8545071231014526E-2,6.8545071231014526E-2,6.8545071231014526E-2,6.8545071231014526E-2,6.8545071231014526E-2,6.8545071231014526E-2,6.8545071231014526E-2,6.8545071231014526E-2,6.8545071231014526E-2,6.8545071231014526E-2,6.8545071231014526E-2,6.8545071231014526E-2,6.8545071231014526E-2,6.8545071231014526E-2,6.8545071231014526E-2,6.8545071231014526E-2,6.8545071231014526E-2,6.8545071231014526E-2,6.8545071231014526E-2,6.8545071231014526E-2,6.8545071231014526E-2,6.8545071231014526E-2,6.8545071231014526E-2,6.8545071231014526E-2,6.8545071231014526E-2,6.8545071231014526E-2,6.8545071231014526E-2,6.8545071231014526E-2,6.8545071231014526E-2,6.8545071231014526E-2,6.8545071231014526E-2,6.8545071231014526E-2,6.8545071231014526E-2,6.8545071231014526E-2,6.8545071231014526E-2,6.8545071231014526E-2,6.8545071231014526E-2,{"$f":"SC45*$H64","v":0},0,0,0,0,0,0,0,0,0,0,0,0,0,0,0,0,0,0,0,0,0,0,0,0,0,0,0,0,0,0,0,0,0,0,0,0,0,0,0,0,0,0,0,0,0,0,0,0]
[null,null,null,null,null,8,217.672243208829,6.7910897300569886E-2,null,{"$f":"J46*$H65","v":6.7910897300569886E-2},6.7910897300569886E-2,6.7910897300569886E-2,6.7910897300569886E-2,6.7910897300569886E-2,6.7910897300569886E-2,6.7910897300569886E-2,6.7910897300569886E-2,6.7910897300569886E-2,6.7910897300569886E-2,6.7910897300569886E-2,6.7910897300569886E-2,6.7910897300569886E-2,6.7910897300569886E-2,6.7910897300569886E-2,6.7910897300569886E-2,6.7910897300569886E-2,6.7910897300569886E-2,6.7910897300569886E-2,6.7910897300569886E-2,6.7910897300569886E-2,6.7910897300569886E-2,6.7910897300569886E-2,6.7910897300569886E-2,6.7910897300569886E-2,6.7910897300569886E-2,6.7910897300569886E-2,6.7910897300569886E-2,6.7910897300569886E-2,6.7910897300569886E-2,6.7910897300569886E-2,6.7910897300569886E-2,{"$f":"AP46*$H65","v":6.7910897300569886E-2},6.7910897300569886E-2,6.7910897300569886E-2,6.7910897300569886E-2,6.7910897300569886E-2,6.7910897300569886E-2,6.7910897300569886E-2,6.7910897300569886E-2,6.7910897300569886E-2,6.7910897300569886E-2,6.7910897300569886E-2,6.7910897300569886E-2,6.7910897300569886E-2,6.7910897300569886E-2,6.7910897300569886E-2,6.7910897300569886E-2,6.7910897300569886E-2,6.7910897300569886E-2,6.7910897300569886E-2,6.7910897300569886E-2,6.7910897300569886E-2,6.7910897300569886E-2,6.7910897300569886E-2,6.7910897300569886E-2,6.7910897300569886E-2,6.7910897300569886E-2,6.7910897300569886E-2,6.7910897300569886E-2,6.7910897300569886E-2,6.7910897300569886E-2,6.7910897300569886E-2,6.7910897300569886E-2,{"$f":"BV46*$H65","v":6.7910897300569886E-2},6.7910897300569886E-2,6.7910897300569886E-2,6.7910897300569886E-2,6.7910897300569886E-2,6.7910897300569886E-2,6.7910897300569886E-2,6.7910897300569886E-2,6.7910897300569886E-2,6.7910897300569886E-2,6.7910897300569886E-2,6.7910897300569886E-2,6.7910897300569886E-2,6.7910897300569886E-2,6.7910897300569886E-2,6.7910897300569886E-2,6.7910897300569886E-2,6.7910897300569886E-2,6.7910897300569886E-2,6.7910897300569886E-2,6.7910897300569886E-2,6.7910897300569886E-2,6.7910897300569886E-2,6.7910897300569886E-2,6.7910897300569886E-2,6.7910897300569886E-2,6.7910897300569886E-2,6.7910897300569886E-2,6.7910897300569886E-2,6.7910897300569886E-2,6.7910897300569886E-2,6.7910897300569886E-2,{"$f":"DB46*$H65","v":6.7910897300569886E-2},6.7910897300569886E-2,6.7910897300569886E-2,6.7910897300569886E-2,6.7910897300569886E-2,6.7910897300569886E-2,6.7910897300569886E-2,6.7910897300569886E-2,6.7910897300569886E-2,6.7910897300569886E-2,6.7910897300569886E-2,6.7910897300569886E-2,6.7910897300569886E-2,6.7910897300569886E-2,6.7910897300569886E-2,6.7910897300569886E-2,6.7910897300569886E-2,6.7910897300569886E-2,6.7910897300569886E-2,6.7910897300569886E-2,6.7910897300569886E-2,6.7910897300569886E-2,6.7910897300569886E-2,6.7910897300569886E-2,6.7910897300569886E-2,6.7910897300569886E-2,6.7910897300569886E-2,6.7910897300569886E-2,6.7910897300569886E-2,6.7910897300569886E-2,6.7910897300569886E-2,6.7910897300569886E-2,{"$f":"EH46*$H65","v":6.7910897300569886E-2},6.7910897300569886E-2,6.7910897300569886E-2,6.7910897300569886E-2,6.7910897300569886E-2,6.7910897300569886E-2,6.7910897300569886E-2,6.7910897300569886E-2,6.7910897300569886E-2,6.7910897300569886E-2,6.7910897300569886E-2,6.7910897300569886E-2,6.7910897300569886E-2,6.7910897300569886E-2,6.7910897300569886E-2,6.7910897300569886E-2,6.7910897300569886E-2,6.7910897300569886E-2,6.7910897300569886E-2,6.7910897300569886E-2,6.7910897300569886E-2,6.7910897300569886E-2,{"$f":"FD46*$H65","v":6.7910897300569886E-2},6.7910897300569886E-2,6.7910897300569886E-2,6.7910897300569886E-2,6.7910897300569886E-2,6.7910897300569886E-2,6.7910897300569886E-2,6.7910897300569886E-2,6.7910897300569886E-2,6.7910897300569886E-2,6.7910897300569886E-2,6.7910897300569886E-2,6.7910897300569886E-2,6.7910897300569886E-2,6.7910897300569886E-2,6.7910897300569886E-2,6.7910897300569886E-2,6.7910897300569886E-2,6.7910897300569886E-2,6.7910897300569886E-2,6.7910897300569886E-2,6.7910897300569886E-2,6.7910897300569886E-2,6.7910897300569886E-2,6.7910897300569886E-2,6.7910897300569886E-2,6.7910897300569886E-2,6.7910897300569886E-2,6.7910897300569886E-2,6.7910897300569886E-2,6.7910897300569886E-2,6.7910897300569886E-2,6.7910897300569886E-2,6.7910897300569886E-2,6.7910897300569886E-2,6.7910897300569886E-2,6.7910897300569886E-2,6.7910897300569886E-2,6.7910897300569886E-2,6.7910897300569886E-2,6.7910897300569886E-2,6.7910897300569886E-2,6.7910897300569886E-2,6.7910897300569886E-2,6.7910897300569886E-2,6.7910897300569886E-2,6.7910897300569886E-2,6.7910897300569886E-2,6.7910897300569886E-2,6.7910897300569886E-2,6.7910897300569886E-2,6.7910897300569886E-2,6.7910897300569886E-2,6.7910897300569886E-2,6.7910897300569886E-2,6.7910897300569886E-2,6.7910897300569886E-2,6.7910897300569886E-2,6.7910897300569886E-2,6.7910897300569886E-2,6.7910897300569886E-2,6.7910897300569886E-2,6.7910897300569886E-2,6.7910897300569886E-2,{"$f":"HP46*$H65","v":6.7910897300569886E-2},6.7910897300569886E-2,6.7910897300569886E-2,6.7910897300569886E-2,6.7910897300569886E-2,6.7910897300569886E-2,6.7910897300569886E-2,6.7910897300569886E-2,6.7910897300569886E-2,6.7910897300569886E-2,6.7910897300569886E-2,6.7910897300569886E-2,6.7910897300569886E-2,6.7910897300569886E-2,6.7910897300569886E-2,6.7910897300569886E-2,6.7910897300569886E-2,6.7910897300569886E-2,6.7910897300569886E-2,6.7910897300569886E-2,6.7910897300569886E-2,6.7910897300569886E-2,6.7910897300569886E-2,6.7910897300569886E-2,6.7910897300569886E-2,6.7910897300569886E-2,6.7910897300569886E-2,6.7910897300569886E-2,6.7910897300569886E-2,6.7910897300569886E-2,6.7910897300569886E-2,6.7910897300569886E-2,6.7910897300569886E-2,6.7910897300569886E-2,6.7910897300569886E-2,6.7910897300569886E-2,6.7910897300569886E-2,6.7910897300569886E-2,6.7910897300569886E-2,6.7910897300569886E-2,6.7910897300569886E-2,6.7910897300569886E-2,6.7910897300569886E-2,6.7910897300569886E-2,6.7910897300569886E-2,6.7910897300569886E-2,6.7910897300569886E-2,6.7910897300569886E-2,6.7910897300569886E-2,6.7910897300569886E-2,6.7910897300569886E-2,6.7910897300569886E-2,6.7910897300569886E-2,6.7910897300569886E-2,6.7910897300569886E-2,6.7910897300569886E-2,6.7910897300569886E-2,6.7910897300569886E-2,6.7910897300569886E-2,6.7910897300569886E-2,6.7910897300569886E-2,6.7910897300569886E-2,6.7910897300569886E-2,6.7910897300569886E-2,{"$f":"KB46*$H65","v":6.7910897300569886E-2},6.7910897300569886E-2,6.7910897300569886E-2,6.7910897300569886E-2,6.7910897300569886E-2,6.7910897300569886E-2,6.7910897300569886E-2,6.7910897300569886E-2,6.7910897300569886E-2,6.7910897300569886E-2,6.7910897300569886E-2,6.7910897300569886E-2,6.7910897300569886E-2,6.7910897300569886E-2,6.7910897300569886E-2,6.7910897300569886E-2,6.7910897300569886E-2,6.7910897300569886E-2,6.7910897300569886E-2,6.7910897300569886E-2,6.7910897300569886E-2,6.7910897300569886E-2,6.7910897300569886E-2,6.7910897300569886E-2,6.7910897300569886E-2,6.7910897300569886E-2,6.7910897300569886E-2,6.7910897300569886E-2,6.7910897300569886E-2,6.7910897300569886E-2,6.7910897300569886E-2,6.7910897300569886E-2,6.7910897300569886E-2,6.7910897300569886E-2,6.7910897300569886E-2,6.7910897300569886E-2,6.7910897300569886E-2,6.7910897300569886E-2,6.7910897300569886E-2,6.7910897300569886E-2,6.7910897300569886E-2,6.7910897300569886E-2,6.7910897300569886E-2,6.7910897300569886E-2,6.7910897300569886E-2,6.7910897300569886E-2,6.7910897300569886E-2,6.7910897300569886E-2,6.7910897300569886E-2,6.7910897300569886E-2,6.7910897300569886E-2,6.7910897300569886E-2,6.7910897300569886E-2,6.7910897300569886E-2,{"$f":"MD46*$H65","v":6.7910897300569886E-2},6.7910897300569886E-2,6.7910897300569886E-2,6.7910897300569886E-2,6.7910897300569886E-2,6.7910897300569886E-2,6.7910897300569886E-2,6.7910897300569886E-2,6.7910897300569886E-2,6.7910897300569886E-2,6.7910897300569886E-2,6.7910897300569886E-2,6.7910897300569886E-2,6.7910897300569886E-2,6.7910897300569886E-2,6.7910897300569886E-2,6.7910897300569886E-2,6.7910897300569886E-2,6.7910897300569886E-2,6.7910897300569886E-2,6.7910897300569886E-2,6.7910897300569886E-2,6.7910897300569886E-2,6.7910897300569886E-2,6.7910897300569886E-2,6.7910897300569886E-2,6.7910897300569886E-2,6.7910897300569886E-2,6.7910897300569886E-2,6.7910897300569886E-2,6.7910897300569886E-2,6.7910897300569886E-2,6.7910897300569886E-2,6.7910897300569886E-2,6.7910897300569886E-2,6.7910897300569886E-2,6.7910897300569886E-2,6.7910897300569886E-2,6.7910897300569886E-2,6.7910897300569886E-2,6.7910897300569886E-2,6.7910897300569886E-2,6.7910897300569886E-2,6.7910897300569886E-2,6.7910897300569886E-2,6.7910897300569886E-2,6.7910897300569886E-2,6.7910897300569886E-2,6.7910897300569886E-2,6.7910897300569886E-2,6.7910897300569886E-2,6.7910897300569886E-2,6.7910897300569886E-2,6.7910897300569886E-2,6.7910897300569886E-2,6.7910897300569886E-2,6.7910897300569886E-2,6.7910897300569886E-2,6.7910897300569886E-2,6.7910897300569886E-2,6.7910897300569886E-2,6.7910897300569886E-2,6.7910897300569886E-2,6.7910897300569886E-2,{"$f":"OP46*$H65","v":6.7910897300569886E-2},6.7910897300569886E-2,6.7910897300569886E-2,6.7910897300569886E-2,6.7910897300569886E-2,6.7910897300569886E-2,6.7910897300569886E-2,6.7910897300569886E-2,6.7910897300569886E-2,6.7910897300569886E-2,6.7910897300569886E-2,6.7910897300569886E-2,6.7910897300569886E-2,6.7910897300569886E-2,6.7910897300569886E-2,6.7910897300569886E-2,6.7910897300569886E-2,6.7910897300569886E-2,6.7910897300569886E-2,6.7910897300569886E-2,6.7910897300569886E-2,6.7910897300569886E-2,6.7910897300569886E-2,6.7910897300569886E-2,6.7910897300569886E-2,6.7910897300569886E-2,6.7910897300569886E-2,{"$f":"PQ46*$H65","v":6.7910897300569886E-2},6.7910897300569886E-2,6.7910897300569886E-2,6.7910897300569886E-2,6.7910897300569886E-2,6.7910897300569886E-2,6.7910897300569886E-2,6.7910897300569886E-2,6.7910897300569886E-2,6.7910897300569886E-2,6.7910897300569886E-2,6.7910897300569886E-2,6.7910897300569886E-2,6.7910897300569886E-2,6.7910897300569886E-2,6.7910897300569886E-2,6.7910897300569886E-2,6.7910897300569886E-2,6.7910897300569886E-2,6.7910897300569886E-2,6.7910897300569886E-2,6.7910897300569886E-2,6.7910897300569886E-2,6.7910897300569886E-2,6.7910897300569886E-2,6.7910897300569886E-2,6.7910897300569886E-2,6.7910897300569886E-2,6.7910897300569886E-2,6.7910897300569886E-2,6.7910897300569886E-2,6.7910897300569886E-2,6.7910897300569886E-2,6.7910897300569886E-2,6.7910897300569886E-2,6.7910897300569886E-2,6.7910897300569886E-2,6.7910897300569886E-2,6.7910897300569886E-2,6.7910897300569886E-2,6.7910897300569886E-2,6.7910897300569886E-2,6.7910897300569886E-2,6.7910897300569886E-2,6.7910897300569886E-2,6.7910897300569886E-2,6.7910897300569886E-2,6.7910897300569886E-2,6.7910897300569886E-2,6.7910897300569886E-2,6.7910897300569886E-2,6.7910897300569886E-2,6.7910897300569886E-2,6.7910897300569886E-2,6.7910897300569886E-2,6.7910897300569886E-2,6.7910897300569886E-2,6.7910897300569886E-2,6.7910897300569886E-2,6.7910897300569886E-2,6.7910897300569886E-2,6.7910897300569886E-2,6.7910897300569886E-2,6.7910897300569886E-2,{"$f":"SC46*$H65","v":0},0,0,0,0,0,0,0,0,0,0,0,0,0,0,0,0,0,0,0,0,0,0,0,0,0,0,0,0,0,0,0,0,0,0,0,0,0,0,0,0,0,0,0,0,0,0,0,0]
[null,null,null,null,null,9,249.12879824561375,7.7724931681073597E-2,null,{"$f":"J47*$H66","v":7.7724931681073597E-2},7.7724931681073597E-2,7.7724931681073597E-2,7.7724931681073597E-2,7.7724931681073597E-2,7.7724931681073597E-2,7.7724931681073597E-2,7.7724931681073597E-2,7.7724931681073597E-2,7.7724931681073597E-2,7.7724931681073597E-2,7.7724931681073597E-2,7.7724931681073597E-2,7.7724931681073597E-2,7.7724931681073597E-2,7.7724931681073597E-2,7.7724931681073597E-2,7.7724931681073597E-2,7.7724931681073597E-2,7.7724931681073597E-2,7.7724931681073597E-2,7.7724931681073597E-2,7.7724931681073597E-2,7.7724931681073597E-2,7.7724931681073597E-2,7.7724931681073597E-2,7.7724931681073597E-2,7.7724931681073597E-2,7.7724931681073597E-2,7.7724931681073597E-2,7.7724931681073597E-2,7.7724931681073597E-2,{"$f":"AP47*$H66","v":7.7724931681073597E-2},7.7724931681073597E-2,7.7724931681073597E-2,7.7724931681073597E-2,7.7724931681073597E-2,7.7724931681073597E-2,7.7724931681073597E-2,7.7724931681073597E-2,7.7724931681073597E-2,7.7724931681073597E-2,7.7724931681073597E-2,7.7724931681073597E-2,7.7724931681073597E-2,7.7724931681073597E-2,7.7724931681073597E-2,7.7724931681073597E-2,7.7724931681073597E-2,7.7724931681073597E-2,7.7724931681073597E-2,7.7724931681073597E-2,7.7724931681073597E-2,7.7724931681073597E-2,7.7724931681073597E-2,7.7724931681073597E-2,7.7724931681073597E-2,7.7724931681073597E-2,7.7724931681073597E-2,7.7724931681073597E-2,7.7724931681073597E-2,7.7724931681073597E-2,7.7724931681073597E-2,7.7724931681073597E-2,{"$f":"BV47*$H66","v":7.7724931681073597E-2},7.7724931681073597E-2,7.7724931681073597E-2,7.7724931681073597E-2,7.7724931681073597E-2,7.7724931681073597E-2,7.7724931681073597E-2,7.7724931681073597E-2,7.7724931681073597E-2,7.7724931681073597E-2,7.7724931681073597E-2,7.7724931681073597E-2,7.7724931681073597E-2,7.7724931681073597E-2,7.7724931681073597E-2,7.7724931681073597E-2,7.7724931681073597E-2,7.7724931681073597E-2,7.7724931681073597E-2,7.7724931681073597E-2,7.7724931681073597E-2,7.7724931681073597E-2,7.7724931681073597E-2,7.7724931681073597E-2,7.7724931681073597E-2,7.7724931681073597E-2,7.7724931681073597E-2,7.7724931681073597E-2,7.7724931681073597E-2,7.7724931681073597E-2,7.7724931681073597E-2,7.7724931681073597E-2,{"$f":"DB47*$H66","v":7.7724931681073597E-2},7.7724931681073597E-2,7.7724931681073597E-2,7.7724931681073597E-2,7.7724931681073597E-2,7.7724931681073597E-2,7.7724931681073597E-2,7.7724931681073597E-2,7.7724931681073597E-2,7.7724931681073597E-2,7.7724931681073597E-2,7.7724931681073597E-2,7.7724931681073597E-2,7.7724931681073597E-2,7.7724931681073597E-2,7.7724931681073597E-2,7.7724931681073597E-2,7.7724931681073597E-2,7.7724931681073597E-2,7.7724931681073597E-2,7.7724931681073597E-2,7.7724931681073597E-2,7.7724931681073597E-2,7.7724931681073597E-2,7.7724931681073597E-2,7.7724931681073597E-2,7.7724931681073597E-2,7.7724931681073597E-2,7.7724931681073597E-2,7.7724931681073597E-2,7.7724931681073597E-2,7.7724931681073597E-2,{"$f":"EH47*$H66","v":7.7724931681073597E-2},7.7724931681073597E-2,7.7724931681073597E-2,7.7724931681073597E-2,7.7724931681073597E-2,7.7724931681073597E-2,7.7724931681073597E-2,7.7724931681073597E-2,7.7724931681073597E-2,7.7724931681073597E-2,7.7724931681073597E-2,7.7724931681073597E-2,7.7724931681073597E-2,7.7724931681073597E-2,7.7724931681073597E-2,7.7724931681073597E-2,7.7724931681073597E-2,7.7724931681073597E-2,7.7724931681073597E-2,7.7724931681073597E-2,7.7724931681073597E-2,7.7724931681073597E-2,{"$f":"FD47*$H66","v":7.7724931681073597E-2},7.7724931681073597E-2,7.7724931681073597E-2,7.7724931681073597E-2,7.7724931681073597E-2,7.7724931681073597E-2,7.7724931681073597E-2,7.7724931681073597E-2,7.7724931681073597E-2,7.7724931681073597E-2,7.7724931681073597E-2,7.7724931681073597E-2,7.7724931681073597E-2,7.7724931681073597E-2,7.7724931681073597E-2,7.7724931681073597E-2,7.7724931681073597E-2,7.7724931681073597E-2,7.7724931681073597E-2,7.7724931681073597E-2,7.7724931681073597E-2,7.7724931681073597E-2,7.7724931681073597E-2,7.7724931681073597E-2,7.7724931681073597E-2,7.7724931681073597E-2,7.7724931681073597E-2,7.7724931681073597E-2,7.7724931681073597E-2,7.7724931681073597E-2,7.7724931681073597E-2,7.7724931681073597E-2,7.7724931681073597E-2,7.7724931681073597E-2,7.7724931681073597E-2,7.7724931681073597E-2,7.7724931681073597E-2,7.7724931681073597E-2,7.7724931681073597E-2,7.7724931681073597E-2,7.7724931681073597E-2,7.7724931681073597E-2,7.7724931681073597E-2,7.7724931681073597E-2,7.7724931681073597E-2,7.7724931681073597E-2,7.7724931681073597E-2,7.7724931681073597E-2,7.7724931681073597E-2,7.7724931681073597E-2,7.7724931681073597E-2,7.7724931681073597E-2,7.7724931681073597E-2,7.7724931681073597E-2,7.7724931681073597E-2,7.7724931681073597E-2,7.7724931681073597E-2,7.7724931681073597E-2,7.7724931681073597E-2,7.7724931681073597E-2,7.7724931681073597E-2,7.7724931681073597E-2,7.7724931681073597E-2,7.7724931681073597E-2,{"$f":"HP47*$H66","v":7.7724931681073597E-2},7.7724931681073597E-2,7.7724931681073597E-2,7.7724931681073597E-2,7.7724931681073597E-2,7.7724931681073597E-2,7.7724931681073597E-2,7.7724931681073597E-2,7.7724931681073597E-2,7.7724931681073597E-2,7.7724931681073597E-2,7.7724931681073597E-2,7.7724931681073597E-2,7.7724931681073597E-2,7.7724931681073597E-2,7.7724931681073597E-2,7.7724931681073597E-2,7.7724931681073597E-2,7.7724931681073597E-2,7.7724931681073597E-2,7.7724931681073597E-2,7.7724931681073597E-2,7.7724931681073597E-2,7.7724931681073597E-2,7.7724931681073597E-2,7.7724931681073597E-2,7.7724931681073597E-2,7.7724931681073597E-2,7.7724931681073597E-2,7.7724931681073597E-2,7.7724931681073597E-2,7.7724931681073597E-2,7.7724931681073597E-2,7.7724931681073597E-2,7.7724931681073597E-2,7.7724931681073597E-2,7.7724931681073597E-2,7.7724931681073597E-2,7.7724931681073597E-2,7.7724931681073597E-2,7.7724931681073597E-2,7.7724931681073597E-2,7.7724931681073597E-2,7.7724931681073597E-2,7.7724931681073597E-2,7.7724931681073597E-2,7.7724931681073597E-2,7.7724931681073597E-2,7.7724931681073597E-2,7.7724931681073597E-2,7.7724931681073597E-2,7.7724931681073597E-2,7.7724931681073597E-2,7.7724931681073597E-2,7.7724931681073597E-2,7.7724931681073597E-2,7.7724931681073597E-2,7.7724931681073597E-2,7.7724931681073597E-2,7.7724931681073597E-2,7.7724931681073597E-2,7.7724931681073597E-2,7.7724931681073597E-2,7.7724931681073597E-2,{"$f":"KB47*$H66","v":7.7724931681073597E-2},7.7724931681073597E-2,7.7724931681073597E-2,7.7724931681073597E-2,7.7724931681073597E-2,7.7724931681073597E-2,7.7724931681073597E-2,7.7724931681073597E-2,7.7724931681073597E-2,7.7724931681073597E-2,7.7724931681073597E-2,7.7724931681073597E-2,7.7724931681073597E-2,7.7724931681073597E-2,7.7724931681073597E-2,7.7724931681073597E-2,7.7724931681073597E-2,7.7724931681073597E-2,7.7724931681073597E-2,7.7724931681073597E-2,7.7724931681073597E-2,7.7724931681073597E-2,7.7724931681073597E-2,7.7724931681073597E-2,7.7724931681073597E-2,7.7724931681073597E-2,7.7724931681073597E-2,7.7724931681073597E-2,7.7724931681073597E-2,7.7724931681073597E-2,7.7724931681073597E-2,7.7724931681073597E-2,7.7724931681073597E-2,7.7724931681073597E-2,7.7724931681073597E-2,7.7724931681073597E-2,7.7724931681073597E-2,7.7724931681073597E-2,7.7724931681073597E-2,7.7724931681073597E-2,7.7724931681073597E-2,7.7724931681073597E-2,7.7724931681073597E-2,7.7724931681073597E-2,7.7724931681073597E-2,7.7724931681073597E-2,7.7724931681073597E-2,7.7724931681073597E-2,7.7724931681073597E-2,7.7724931681073597E-2,7.7724931681073597E-2,7.7724931681073597E-2,7.7724931681073597E-2,7.7724931681073597E-2,{"$f":"MD47*$H66","v":7.7724931681073597E-2},7.7724931681073597E-2,7.7724931681073597E-2,7.7724931681073597E-2,7.7724931681073597E-2,7.7724931681073597E-2,7.7724931681073597E-2,7.7724931681073597E-2,7.7724931681073597E-2,7.7724931681073597E-2,7.7724931681073597E-2,7.7724931681073597E-2,7.7724931681073597E-2,7.7724931681073597E-2,7.7724931681073597E-2,7.7724931681073597E-2,7.7724931681073597E-2,7.7724931681073597E-2,7.7724931681073597E-2,7.7724931681073597E-2,7.7724931681073597E-2,7.7724931681073597E-2,7.7724931681073597E-2,7.7724931681073597E-2,7.7724931681073597E-2,7.7724931681073597E-2,7.7724931681073597E-2,7.7724931681073597E-2,7.7724931681073597E-2,7.7724931681073597E-2,7.7724931681073597E-2,7.7724931681073597E-2,7.7724931681073597E-2,7.7724931681073597E-2,7.7724931681073597E-2,7.7724931681073597E-2,7.7724931681073597E-2,7.7724931681073597E-2,7.7724931681073597E-2,7.7724931681073597E-2,7.7724931681073597E-2,7.7724931681073597E-2,7.7724931681073597E-2,7.7724931681073597E-2,7.7724931681073597E-2,7.7724931681073597E-2,7.7724931681073597E-2,7.7724931681073597E-2,7.7724931681073597E-2,7.7724931681073597E-2,7.7724931681073597E-2,7.7724931681073597E-2,7.7724931681073597E-2,7.7724931681073597E-2,7.7724931681073597E-2,7.7724931681073597E-2,7.7724931681073597E-2,7.7724931681073597E-2,7.7724931681073597E-2,7.7724931681073597E-2,7.7724931681073597E-2,7.7724931681073597E-2,7.7724931681073597E-2,7.7724931681073597E-2,{"$f":"OP47*$H66","v":7.7724931681073597E-2},7.7724931681073597E-2,7.7724931681073597E-2,7.7724931681073597E-2,7.7724931681073597E-2,7.7724931681073597E-2,7.7724931681073597E-2,7.7724931681073597E-2,7.7724931681073597E-2,7.7724931681073597E-2,7.7724931681073597E-2,7.7724931681073597E-2,7.7724931681073597E-2,7.7724931681073597E-2,7.7724931681073597E-2,7.7724931681073597E-2,7.7724931681073597E-2,7.7724931681073597E-2,7.7724931681073597E-2,7.7724931681073597E-2,7.7724931681073597E-2,7.7724931681073597E-2,7.7724931681073597E-2,7.7724931681073597E-2,7.7724931681073597E-2,7.7724931681073597E-2,7.7724931681073597E-2,{"$f":"PQ47*$H66","v":7.7724931681073597E-2},7.7724931681073597E-2,7.7724931681073597E-2,7.7724931681073597E-2,7.7724931681073597E-2,7.7724931681073597E-2,7.7724931681073597E-2,7.7724931681073597E-2,7.7724931681073597E-2,7.7724931681073597E-2,7.7724931681073597E-2,7.7724931681073597E-2,7.7724931681073597E-2,7.7724931681073597E-2,7.7724931681073597E-2,7.7724931681073597E-2,7.7724931681073597E-2,7.7724931681073597E-2,7.7724931681073597E-2,7.7724931681073597E-2,7.7724931681073597E-2,7.7724931681073597E-2,7.7724931681073597E-2,7.7724931681073597E-2,7.7724931681073597E-2,7.7724931681073597E-2,7.7724931681073597E-2,7.7724931681073597E-2,7.7724931681073597E-2,7.7724931681073597E-2,7.7724931681073597E-2,7.7724931681073597E-2,7.7724931681073597E-2,7.7724931681073597E-2,7.7724931681073597E-2,7.7724931681073597E-2,7.7724931681073597E-2,7.7724931681073597E-2,7.7724931681073597E-2,7.7724931681073597E-2,7.7724931681073597E-2,7.7724931681073597E-2,7.7724931681073597E-2,7.7724931681073597E-2,7.7724931681073597E-2,7.7724931681073597E-2,7.7724931681073597E-2,7.7724931681073597E-2,7.7724931681073597E-2,7.7724931681073597E-2,7.7724931681073597E-2,7.7724931681073597E-2,7.7724931681073597E-2,7.7724931681073597E-2,7.7724931681073597E-2,7.7724931681073597E-2,7.7724931681073597E-2,7.7724931681073597E-2,7.7724931681073597E-2,7.7724931681073597E-2,7.7724931681073597E-2,7.7724931681073597E-2,7.7724931681073597E-2,7.7724931681073597E-2,{"$f":"SC47*$H66","v":0},0,0,0,0,0,0,0,0,0,0,0,0,0,0,0,0,0,0,0,0,0,0,0,0,0,0,0,0,0,0,0,0,0,0,0,0,0,0,0,0,0,0,0,0,0,0,0,0]
[null,null,null,null,null,10,282.6408786078091,8.8180263120011884E-2,null,{"$f":"J48*$H67","v":8.8180263120011884E-2},8.8180263120011884E-2,8.8180263120011884E-2,8.8180263120011884E-2,8.8180263120011884E-2,8.8180263120011884E-2,8.8180263120011884E-2,8.8180263120011884E-2,8.8180263120011884E-2,8.8180263120011884E-2,8.8180263120011884E-2,8.8180263120011884E-2,8.8180263120011884E-2,8.8180263120011884E-2,8.8180263120011884E-2,8.8180263120011884E-2,8.8180263120011884E-2,8.8180263120011884E-2,8.8180263120011884E-2,8.8180263120011884E-2,8.8180263120011884E-2,8.8180263120011884E-2,8.8180263120011884E-2,8.8180263120011884E-2,8.8180263120011884E-2,8.8180263120011884E-2,8.8180263120011884E-2,8.8180263120011884E-2,8.8180263120011884E-2,8.8180263120011884E-2,8.8180263120011884E-2,8.8180263120011884E-2,{"$f":"AP48*$H67","v":8.8180263120011884E-2},8.8180263120011884E-2,8.8180263120011884E-2,8.8180263120011884E-2,8.8180263120011884E-2,8.8180263120011884E-2,8.8180263120011884E-2,8.8180263120011884E-2,8.8180263120011884E-2,8.8180263120011884E-2,8.8180263120011884E-2,8.8180263120011884E-2,8.8180263120011884E-2,8.8180263120011884E-2,8.8180263120011884E-2,8.8180263120011884E-2,8.8180263120011884E-2,8.8180263120011884E-2,8.8180263120011884E-2,8.8180263120011884E-2,8.8180263120011884E-2,8.8180263120011884E-2,8.8180263120011884E-2,8.8180263120011884E-2,8.8180263120011884E-2,8.8180263120011884E-2,8.8180263120011884E-2,8.8180263120011884E-2,8.8180263120011884E-2,8.8180263120011884E-2,8.8180263120011884E-2,8.8180263120011884E-2,{"$f":"BV48*$H67","v":8.8180263120011884E-2},8.8180263120011884E-2,8.8180263120011884E-2,8.8180263120011884E-2,8.8180263120011884E-2,8.8180263120011884E-2,8.8180263120011884E-2,8.8180263120011884E-2,8.8180263120011884E-2,8.8180263120011884E-2,8.8180263120011884E-2,8.8180263120011884E-2,8.8180263120011884E-2,8.8180263120011884E-2,8.8180263120011884E-2,8.8180263120011884E-2,8.8180263120011884E-2,8.8180263120011884E-2,8.8180263120011884E-2,8.8180263120011884E-2,8.8180263120011884E-2,8.8180263120011884E-2,8.8180263120011884E-2,8.8180263120011884E-2,8.8180263120011884E-2,8.8180263120011884E-2,8.8180263120011884E-2,8.8180263120011884E-2,8.8180263120011884E-2,8.8180263120011884E-2,8.8180263120011884E-2,8.8180263120011884E-2,{"$f":"DB48*$H67","v":8.8180263120011884E-2},8.8180263120011884E-2,8.8180263120011884E-2,8.8180263120011884E-2,8.8180263120011884E-2,8.8180263120011884E-2,8.8180263120011884E-2,8.8180263120011884E-2,8.8180263120011884E-2,8.8180263120011884E-2,8.8180263120011884E-2,8.8180263120011884E-2,8.8180263120011884E-2,8.8180263120011884E-2,8.8180263120011884E-2,8.8180263120011884E-2,8.8180263120011884E-2,8.8180263120011884E-2,8.8180263120011884E-2,8.8180263120011884E-2,8.8180263120011884E-2,8.8180263120011884E-2,8.8180263120011884E-2,8.8180263120011884E-2,8.8180263120011884E-2,8.8180263120011884E-2,8.8180263120011884E-2,8.8180263120011884E-2,8.8180263120011884E-2,8.8180263120011884E-2,8.8180263120011884E-2,8.8180263120011884E-2,{"$f":"EH48*$H67","v":8.8180263120011884E-2},8.8180263120011884E-2,8.8180263120011884E-2,8.8180263120011884E-2,8.8180263120011884E-2,8.8180263120011884E-2,8.8180263120011884E-2,8.8180263120011884E-2,8.8180263120011884E-2,8.8180263120011884E-2,8.8180263120011884E-2,8.8180263120011884E-2,8.8180263120011884E-2,8.8180263120011884E-2,8.8180263120011884E-2,8.8180263120011884E-2,8.8180263120011884E-2,8.8180263120011884E-2,8.8180263120011884E-2,8.8180263120011884E-2,8.8180263120011884E-2,8.8180263120011884E-2,{"$f":"FD48*$H67","v":8.8180263120011884E-2},8.8180263120011884E-2,8.8180263120011884E-2,8.8180263120011884E-2,8.8180263120011884E-2,8.8180263120011884E-2,8.8180263120011884E-2,8.8180263120011884E-2,8.8180263120011884E-2,8.8180263120011884E-2,8.8180263120011884E-2,8.8180263120011884E-2,8.8180263120011884E-2,8.8180263120011884E-2,8.8180263120011884E-2,8.8180263120011884E-2,8.8180263120011884E-2,8.8180263120011884E-2,8.8180263120011884E-2,8.8180263120011884E-2,8.8180263120011884E-2,8.8180263120011884E-2,8.8180263120011884E-2,8.8180263120011884E-2,8.8180263120011884E-2,8.8180263120011884E-2,8.8180263120011884E-2,8.8180263120011884E-2,8.8180263120011884E-2,8.8180263120011884E-2,8.8180263120011884E-2,8.8180263120011884E-2,8.8180263120011884E-2,8.8180263120011884E-2,8.8180263120011884E-2,8.8180263120011884E-2,8.8180263120011884E-2,8.8180263120011884E-2,8.8180263120011884E-2,8.8180263120011884E-2,8.8180263120011884E-2,8.8180263120011884E-2,8.8180263120011884E-2,8.8180263120011884E-2,8.8180263120011884E-2,8.8180263120011884E-2,8.8180263120011884E-2,8.8180263120011884E-2,8.8180263120011884E-2,8.8180263120011884E-2,8.8180263120011884E-2,8.8180263120011884E-2,8.8180263120011884E-2,8.8180263120011884E-2,8.8180263120011884E-2,8.8180263120011884E-2,8.8180263120011884E-2,8.8180263120011884E-2,8.8180263120011884E-2,8.8180263120011884E-2,8.8180263120011884E-2,8.8180263120011884E-2,8.8180263120011884E-2,8.8180263120011884E-2,{"$f":"HP48*$H67","v":8.8180263120011884E-2},8.8180263120011884E-2,8.8180263120011884E-2,8.8180263120011884E-2,8.8180263120011884E-2,8.8180263120011884E-2,8.8180263120011884E-2,8.8180263120011884E-2,8.8180263120011884E-2,8.8180263120011884E-2,8.8180263120011884E-2,8.8180263120011884E-2,8.8180263120011884E-2,8.8180263120011884E-2,8.8180263120011884E-2,8.8180263120011884E-2,8.8180263120011884E-2,8.8180263120011884E-2,8.8180263120011884E-2,8.8180263120011884E-2,8.8180263120011884E-2,8.8180263120011884E-2,8.8180263120011884E-2,8.8180263120011884E-2,8.8180263120011884E-2,8.8180263120011884E-2,8.8180263120011884E-2,8.8180263120011884E-2,8.8180263120011884E-2,8.8180263120011884E-2,8.8180263120011884E-2,8.8180263120011884E-2,8.8180263120011884E-2,8.8180263120011884E-2,8.8180263120011884E-2,8.8180263120011884E-2,8.8180263120011884E-2,8.8180263120011884E-2,8.8180263120011884E-2,8.8180263120011884E-2,8.8180263120011884E-2,8.8180263120011884E-2,8.8180263120011884E-2,8.8180263120011884E-2,8.8180263120011884E-2,8.8180263120011884E-2,8.8180263120011884E-2,8.8180263120011884E-2,8.8180263120011884E-2,8.8180263120011884E-2,8.8180263120011884E-2,8.8180263120011884E-2,8.8180263120011884E-2,8.8180263120011884E-2,8.8180263120011884E-2,8.8180263120011884E-2,8.8180263120011884E-2,8.8180263120011884E-2,8.8180263120011884E-2,8.8180263120011884E-2,8.8180263120011884E-2,8.8180263120011884E-2,8.8180263120011884E-2,8.8180263120011884E-2,{"$f":"KB48*$H67","v":8.8180263120011884E-2},8.8180263120011884E-2,8.8180263120011884E-2,8.8180263120011884E-2,8.8180263120011884E-2,8.8180263120011884E-2,8.8180263120011884E-2,8.8180263120011884E-2,8.8180263120011884E-2,8.8180263120011884E-2,8.8180263120011884E-2,8.8180263120011884E-2,8.8180263120011884E-2,8.8180263120011884E-2,8.8180263120011884E-2,8.8180263120011884E-2,8.8180263120011884E-2,8.8180263120011884E-2,8.8180263120011884E-2,8.8180263120011884E-2,8.8180263120011884E-2,8.8180263120011884E-2,8.8180263120011884E-2,8.8180263120011884E-2,8.8180263120011884E-2,8.8180263120011884E-2,8.8180263120011884E-2,8.8180263120011884E-2,8.8180263120011884E-2,8.8180263120011884E-2,8.8180263120011884E-2,8.8180263120011884E-2,8.8180263120011884E-2,8.8180263120011884E-2,8.8180263120011884E-2,8.8180263120011884E-2,8.8180263120011884E-2,8.8180263120011884E-2,8.8180263120011884E-2,8.8180263120011884E-2,8.8180263120011884E-2,8.8180263120011884E-2,8.8180263120011884E-2,8.8180263120011884E-2,8.8180263120011884E-2,8.8180263120011884E-2,8.8180263120011884E-2,8.8180263120011884E-2,8.8180263120011884E-2,8.8180263120011884E-2,8.8180263120011884E-2,8.8180263120011884E-2,8.8180263120011884E-2,8.8180263120011884E-2,{"$f":"MD48*$H67","v":8.8180263120011884E-2},8.8180263120011884E-2,8.8180263120011884E-2,8.8180263120011884E-2,8.8180263120011884E-2,8.8180263120011884E-2,8.8180263120011884E-2,8.8180263120011884E-2,8.8180263120011884E-2,8.8180263120011884E-2,8.8180263120011884E-2,8.8180263120011884E-2,8.8180263120011884E-2,8.8180263120011884E-2,8.8180263120011884E-2,8.8180263120011884E-2,8.8180263120011884E-2,8.8180263120011884E-2,8.8180263120011884E-2,8.8180263120011884E-2,8.8180263120011884E-2,8.8180263120011884E-2,8.8180263120011884E-2,8.8180263120011884E-2,8.8180263120011884E-2,8.8180263120011884E-2,8.8180263120011884E-2,8.8180263120011884E-2,8.8180263120011884E-2,8.8180263120011884E-2,8.8180263120011884E-2,8.8180263120011884E-2,8.8180263120011884E-2,8.8180263120011884E-2,8.8180263120011884E-2,8.8180263120011884E-2,8.8180263120011884E-2,8.8180263120011884E-2,8.8180263120011884E-2,8.8180263120011884E-2,8.8180263120011884E-2,8.8180263120011884E-2,8.8180263120011884E-2,8.8180263120011884E-2,8.8180263120011884E-2,8.8180263120011884E-2,8.8180263120011884E-2,8.8180263120011884E-2,8.8180263120011884E-2,8.8180263120011884E-2,8.8180263120011884E-2,8.8180263120011884E-2,8.8180263120011884E-2,8.8180263120011884E-2,8.8180263120011884E-2,8.8180263120011884E-2,8.8180263120011884E-2,8.8180263120011884E-2,8.8180263120011884E-2,8.8180263120011884E-2,8.8180263120011884E-2,8.8180263120011884E-2,8.8180263120011884E-2,8.8180263120011884E-2,{"$f":"OP48*$H67","v":8.8180263120011884E-2},8.8180263120011884E-2,8.8180263120011884E-2,8.8180263120011884E-2,8.8180263120011884E-2,8.8180263120011884E-2,8.8180263120011884E-2,8.8180263120011884E-2,8.8180263120011884E-2,8.8180263120011884E-2,8.8180263120011884E-2,8.8180263120011884E-2,8.8180263120011884E-2,8.8180263120011884E-2,8.8180263120011884E-2,8.8180263120011884E-2,8.8180263120011884E-2,8.8180263120011884E-2,8.8180263120011884E-2,8.8180263120011884E-2,8.8180263120011884E-2,8.8180263120011884E-2,8.8180263120011884E-2,8.8180263120011884E-2,8.8180263120011884E-2,8.8180263120011884E-2,8.8180263120011884E-2,{"$f":"PQ48*$H67","v":8.8180263120011884E-2},8.8180263120011884E-2,8.8180263120011884E-2,8.8180263120011884E-2,8.8180263120011884E-2,8.8180263120011884E-2,8.8180263120011884E-2,8.8180263120011884E-2,8.8180263120011884E-2,8.8180263120011884E-2,8.8180263120011884E-2,8.8180263120011884E-2,8.8180263120011884E-2,8.8180263120011884E-2,8.8180263120011884E-2,8.8180263120011884E-2,8.8180263120011884E-2,8.8180263120011884E-2,8.8180263120011884E-2,8.8180263120011884E-2,8.8180263120011884E-2,8.8180263120011884E-2,8.8180263120011884E-2,8.8180263120011884E-2,8.8180263120011884E-2,8.8180263120011884E-2,8.8180263120011884E-2,8.8180263120011884E-2,8.8180263120011884E-2,8.8180263120011884E-2,8.8180263120011884E-2,8.8180263120011884E-2,8.8180263120011884E-2,8.8180263120011884E-2,8.8180263120011884E-2,8.8180263120011884E-2,8.8180263120011884E-2,8.8180263120011884E-2,8.8180263120011884E-2,8.8180263120011884E-2,8.8180263120011884E-2,8.8180263120011884E-2,8.8180263120011884E-2,8.8180263120011884E-2,8.8180263120011884E-2,8.8180263120011884E-2,8.8180263120011884E-2,8.8180263120011884E-2,8.8180263120011884E-2,8.8180263120011884E-2,8.8180263120011884E-2,8.8180263120011884E-2,8.8180263120011884E-2,8.8180263120011884E-2,8.8180263120011884E-2,8.8180263120011884E-2,8.8180263120011884E-2,8.8180263120011884E-2,8.8180263120011884E-2,8.8180263120011884E-2,8.8180263120011884E-2,8.8180263120011884E-2,8.8180263120011884E-2,8.8180263120011884E-2,{"$f":"SC48*$H67","v":0},0,0,0,0,0,0,0,0,0,0,0,0,0,0,0,0,0,0,0,0,0,0,0,0,0,0,0,0,0,0,0,0,0,0,0,0,0,0,0,0,0,0,0,0,0,0,0,0]
[null,null,null,null,null,11,271.12067616959018,8.4586110401545636E-2,null,{"$f":"J49*$H68","v":8.4586110401545636E-2},8.4586110401545636E-2,8.4586110401545636E-2,8.4586110401545636E-2,8.4586110401545636E-2,8.4586110401545636E-2,8.4586110401545636E-2,8.4586110401545636E-2,8.4586110401545636E-2,8.4586110401545636E-2,8.4586110401545636E-2,8.4586110401545636E-2,8.4586110401545636E-2,8.4586110401545636E-2,8.4586110401545636E-2,8.4586110401545636E-2,8.4586110401545636E-2,8.4586110401545636E-2,8.4586110401545636E-2,8.4586110401545636E-2,8.4586110401545636E-2,8.4586110401545636E-2,8.4586110401545636E-2,8.4586110401545636E-2,8.4586110401545636E-2,8.4586110401545636E-2,8.4586110401545636E-2,8.4586110401545636E-2,8.4586110401545636E-2,8.4586110401545636E-2,8.4586110401545636E-2,8.4586110401545636E-2,{"$f":"AP49*$H68","v":8.4586110401545636E-2},8.4586110401545636E-2,8.4586110401545636E-2,8.4586110401545636E-2,8.4586110401545636E-2,8.4586110401545636E-2,8.4586110401545636E-2,8.4586110401545636E-2,8.4586110401545636E-2,8.4586110401545636E-2,8.4586110401545636E-2,8.4586110401545636E-2,8.4586110401545636E-2,8.4586110401545636E-2,8.4586110401545636E-2,8.4586110401545636E-2,8.4586110401545636E-2,8.4586110401545636E-2,8.4586110401545636E-2,8.4586110401545636E-2,8.4586110401545636E-2,8.4586110401545636E-2,8.4586110401545636E-2,8.4586110401545636E-2,8.4586110401545636E-2,8.4586110401545636E-2,8.4586110401545636E-2,8.4586110401545636E-2,8.4586110401545636E-2,8.4586110401545636E-2,8.4586110401545636E-2,8.4586110401545636E-2,{"$f":"BV49*$H68","v":8.4586110401545636E-2},8.4586110401545636E-2,8.4586110401545636E-2,8.4586110401545636E-2,8.4586110401545636E-2,8.4586110401545636E-2,8.4586110401545636E-2,8.4586110401545636E-2,8.4586110401545636E-2,8.4586110401545636E-2,8.4586110401545636E-2,8.4586110401545636E-2,8.4586110401545636E-2,8.4586110401545636E-2,8.4586110401545636E-2,8.4586110401545636E-2,8.4586110401545636E-2,8.4586110401545636E-2,8.4586110401545636E-2,8.4586110401545636E-2,8.4586110401545636E-2,8.4586110401545636E-2,8.4586110401545636E-2,8.4586110401545636E-2,8.4586110401545636E-2,8.4586110401545636E-2,8.4586110401545636E-2,8.4586110401545636E-2,8.4586110401545636E-2,8.4586110401545636E-2,8.4586110401545636E-2,8.4586110401545636E-2,{"$f":"DB49*$H68","v":8.4586110401545636E-2},8.4586110401545636E-2,8.4586110401545636E-2,8.4586110401545636E-2,8.4586110401545636E-2,8.4586110401545636E-2,8.4586110401545636E-2,8.4586110401545636E-2,8.4586110401545636E-2,8.4586110401545636E-2,8.4586110401545636E-2,8.4586110401545636E-2,8.4586110401545636E-2,8.4586110401545636E-2,8.4586110401545636E-2,8.4586110401545636E-2,8.4586110401545636E-2,8.4586110401545636E-2,8.4586110401545636E-2,8.4586110401545636E-2,8.4586110401545636E-2,8.4586110401545636E-2,8.4586110401545636E-2,8.4586110401545636E-2,8.4586110401545636E-2,8.4586110401545636E-2,8.4586110401545636E-2,8.4586110401545636E-2,8.4586110401545636E-2,8.4586110401545636E-2,8.4586110401545636E-2,8.4586110401545636E-2,{"$f":"EH49*$H68","v":8.4586110401545636E-2},8.4586110401545636E-2,8.4586110401545636E-2,8.4586110401545636E-2,8.4586110401545636E-2,8.4586110401545636E-2,8.4586110401545636E-2,8.4586110401545636E-2,8.4586110401545636E-2,8.4586110401545636E-2,8.4586110401545636E-2,8.4586110401545636E-2,8.4586110401545636E-2,8.4586110401545636E-2,8.4586110401545636E-2,8.4586110401545636E-2,8.4586110401545636E-2,8.4586110401545636E-2,8.4586110401545636E-2,8.4586110401545636E-2,8.4586110401545636E-2,8.4586110401545636E-2,{"$f":"FD49*$H68","v":8.4586110401545636E-2},8.4586110401545636E-2,8.4586110401545636E-2,8.4586110401545636E-2,8.4586110401545636E-2,8.4586110401545636E-2,8.4586110401545636E-2,8.4586110401545636E-2,8.4586110401545636E-2,8.4586110401545636E-2,8.4586110401545636E-2,8.4586110401545636E-2,8.4586110401545636E-2,8.4586110401545636E-2,8.4586110401545636E-2,8.4586110401545636E-2,8.4586110401545636E-2,8.4586110401545636E-2,8.4586110401545636E-2,8.4586110401545636E-2,8.4586110401545636E-2,8.4586110401545636E-2,8.4586110401545636E-2,8.4586110401545636E-2,8.4586110401545636E-2,8.4586110401545636E-2,8.4586110401545636E-2,8.4586110401545636E-2,8.4586110401545636E-2,8.4586110401545636E-2,8.4586110401545636E-2,8.4586110401545636E-2,8.4586110401545636E-2,8.4586110401545636E-2,8.4586110401545636E-2,8.4586110401545636E-2,8.4586110401545636E-2,8.4586110401545636E-2,8.4586110401545636E-2,8.4586110401545636E-2,8.4586110401545636E-2,8.4586110401545636E-2,8.4586110401545636E-2,8.4586110401545636E-2,8.4586110401545636E-2,8.4586110401545636E-2,8.4586110401545636E-2,8.4586110401545636E-2,8.4586110401545636E-2,8.4586110401545636E-2,8.4586110401545636E-2,8.4586110401545636E-2,8.4586110401545636E-2,8.4586110401545636E-2,8.4586110401545636E-2,8.4586110401545636E-2,8.4586110401545636E-2,8.4586110401545636E-2,8.4586110401545636E-2,8.4586110401545636E-2,8.4586110401545636E-2,8.4586110401545636E-2,8.4586110401545636E-2,8.4586110401545636E-2,{"$f":"HP49*$H68","v":8.4586110401545636E-2},8.4586110401545636E-2,8.4586110401545636E-2,8.4586110401545636E-2,8.4586110401545636E-2,8.4586110401545636E-2,8.4586110401545636E-2,8.4586110401545636E-2,8.4586110401545636E-2,8.4586110401545636E-2,8.4586110401545636E-2,8.4586110401545636E-2,8.4586110401545636E-2,8.4586110401545636E-2,8.4586110401545636E-2,8.4586110401545636E-2,8.4586110401545636E-2,8.4586110401545636E-2,8.4586110401545636E-2,8.4586110401545636E-2,8.4586110401545636E-2,8.4586110401545636E-2,8.4586110401545636E-2,8.4586110401545636E-2,8.4586110401545636E-2,8.4586110401545636E-2,8.4586110401545636E-2,8.4586110401545636E-2,8.4586110401545636E-2,8.4586110401545636E-2,8.4586110401545636E-2,8.4586110401545636E-2,8.4586110401545636E-2,8.4586110401545636E-2,8.4586110401545636E-2,8.4586110401545636E-2,8.4586110401545636E-2,8.4586110401545636E-2,8.4586110401545636E-2,8.4586110401545636E-2,8.4586110401545636E-2,8.4586110401545636E-2,8.4586110401545636E-2,8.4586110401545636E-2,8.4586110401545636E-2,8.4586110401545636E-2,8.4586110401545636E-2,8.4586110401545636E-2,8.4586110401545636E-2,8.4586110401545636E-2,8.4586110401545636E-2,8.4586110401545636E-2,8.4586110401545636E-2,8.4586110401545636E-2,8.4586110401545636E-2,8.4586110401545636E-2,8.4586110401545636E-2,8.4586110401545636E-2,8.4586110401545636E-2,8.4586110401545636E-2,8.4586110401545636E-2,8.4586110401545636E-2,8.4586110401545636E-2,8.4586110401545636E-2,{"$f":"KB49*$H68","v":8.4586110401545636E-2},8.4586110401545636E-2,8.4586110401545636E-2,8.4586110401545636E-2,8.4586110401545636E-2,8.4586110401545636E-2,8.4586110401545636E-2,8.4586110401545636E-2,8.4586110401545636E-2,8.4586110401545636E-2,8.4586110401545636E-2,8.4586110401545636E-2,8.4586110401545636E-2,8.4586110401545636E-2,8.4586110401545636E-2,8.4586110401545636E-2,8.4586110401545636E-2,8.4586110401545636E-2,8.4586110401545636E-2,8.4586110401545636E-2,8.4586110401545636E-2,8.4586110401545636E-2,8.4586110401545636E-2,8.4586110401545636E-2,8.4586110401545636E-2,8.4586110401545636E-2,8.4586110401545636E-2,8.4586110401545636E-2,8.4586110401545636E-2,8.4586110401545636E-2,8.4586110401545636E-2,8.4586110401545636E-2,8.4586110401545636E-2,8.4586110401545636E-2,8.4586110401545636E-2,8.4586110401545636E-2,8.4586110401545636E-2,8.4586110401545636E-2,8.4586110401545636E-2,8.4586110401545636E-2,8.4586110401545636E-2,8.4586110401545636E-2,8.4586110401545636E-2,8.4586110401545636E-2,8.4586110401545636E-2,8.4586110401545636E-2,8.4586110401545636E-2,8.4586110401545636E-2,8.4586110401545636E-2,8.4586110401545636E-2,8.4586110401545636E-2,8.4586110401545636E-2,8.4586110401545636E-2,8.4586110401545636E-2,{"$f":"MD49*$H68","v":8.4586110401545636E-2},8.4586110401545636E-2,8.4586110401545636E-2,8.4586110401545636E-2,8.4586110401545636E-2,8.4586110401545636E-2,8.4586110401545636E-2,8.4586110401545636E-2,8.4586110401545636E-2,8.4586110401545636E-2,8.4586110401545636E-2,8.4586110401545636E-2,8.4586110401545636E-2,8.4586110401545636E-2,8.4586110401545636E-2,8.4586110401545636E-2,8.4586110401545636E-2,8.4586110401545636E-2,8.4586110401545636E-2,8.4586110401545636E-2,8.4586110401545636E-2,8.4586110401545636E-2,8.4586110401545636E-2,8.4586110401545636E-2,8.4586110401545636E-2,8.4586110401545636E-2,8.4586110401545636E-2,8.4586110401545636E-2,8.4586110401545636E-2,8.4586110401545636E-2,8.4586110401545636E-2,8.4586110401545636E-2,8.4586110401545636E-2,8.4586110401545636E-2,8.4586110401545636E-2,8.4586110401545636E-2,8.4586110401545636E-2,8.4586110401545636E-2,8.4586110401545636E-2,8.4586110401545636E-2,8.4586110401545636E-2,8.4586110401545636E-2,8.4586110401545636E-2,8.4586110401545636E-2,8.4586110401545636E-2,8.4586110401545636E-2,8.4586110401545636E-2,8.4586110401545636E-2,8.4586110401545636E-2,8.4586110401545636E-2,8.4586110401545636E-2,8.4586110401545636E-2,8.4586110401545636E-2,8.4586110401545636E-2,8.4586110401545636E-2,8.4586110401545636E-2,8.4586110401545636E-2,8.4586110401545636E-2,8.4586110401545636E-2,8.4586110401545636E-2,8.4586110401545636E-2,8.4586110401545636E-2,8.4586110401545636E-2,8.4586110401545636E-2,{"$f":"OP49*$H68","v":8.4586110401545636E-2},8.4586110401545636E-2,8.4586110401545636E-2,8.4586110401545636E-2,8.4586110401545636E-2,8.4586110401545636E-2,8.4586110401545636E-2,8.4586110401545636E-2,8.4586110401545636E-2,8.4586110401545636E-2,8.4586110401545636E-2,8.4586110401545636E-2,8.4586110401545636E-2,8.4586110401545636E-2,8.4586110401545636E-2,8.4586110401545636E-2,8.4586110401545636E-2,8.4586110401545636E-2,8.4586110401545636E-2,8.4586110401545636E-2,8.4586110401545636E-2,8.4586110401545636E-2,8.4586110401545636E-2,8.4586110401545636E-2,8.4586110401545636E-2,8.4586110401545636E-2,8.4586110401545636E-2,{"$f":"PQ49*$H68","v":8.4586110401545636E-2},8.4586110401545636E-2,8.4586110401545636E-2,8.4586110401545636E-2,8.4586110401545636E-2,8.4586110401545636E-2,8.4586110401545636E-2,8.4586110401545636E-2,8.4586110401545636E-2,8.4586110401545636E-2,8.4586110401545636E-2,8.4586110401545636E-2,8.4586110401545636E-2,8.4586110401545636E-2,8.4586110401545636E-2,8.4586110401545636E-2,8.4586110401545636E-2,8.4586110401545636E-2,8.4586110401545636E-2,8.4586110401545636E-2,8.4586110401545636E-2,8.4586110401545636E-2,8.4586110401545636E-2,8.4586110401545636E-2,8.4586110401545636E-2,8.4586110401545636E-2,8.4586110401545636E-2,8.4586110401545636E-2,8.4586110401545636E-2,8.4586110401545636E-2,8.4586110401545636E-2,8.4586110401545636E-2,8.4586110401545636E-2,8.4586110401545636E-2,8.4586110401545636E-2,8.4586110401545636E-2,8.4586110401545636E-2,8.4586110401545636E-2,8.4586110401545636E-2,8.4586110401545636E-2,8.4586110401545636E-2,8.4586110401545636E-2,8.4586110401545636E-2,8.4586110401545636E-2,8.4586110401545636E-2,8.4586110401545636E-2,8.4586110401545636E-2,8.4586110401545636E-2,8.4586110401545636E-2,8.4586110401545636E-2,8.4586110401545636E-2,8.4586110401545636E-2,8.4586110401545636E-2,8.4586110401545636E-2,8.4586110401545636E-2,8.4586110401545636E-2,8.4586110401545636E-2,8.4586110401545636E-2,8.4586110401545636E-2,8.4586110401545636E-2,8.4586110401545636E-2,8.4586110401545636E-2,8.4586110401545636E-2,8.4586110401545636E-2,{"$f":"SC49*$H68","v":0},0,0,0,0,0,0,0,0,0,0,0,0,0,0,0,0,0,0,0,0,0,0,0,0,0,0,0,0,0,0,0,0,0,0,0,0,0,0,0,0,0,0,0,0,0,0,0,0]
[null,null,null,null,null,12,266.83596279003933,8.3249335781173397E-2,null,{"$f":"J50*$H69","v":8.3249335781173397E-2},8.3249335781173397E-2,8.3249335781173397E-2,8.3249335781173397E-2,8.3249335781173397E-2,8.3249335781173397E-2,8.3249335781173397E-2,8.3249335781173397E-2,8.3249335781173397E-2,8.3249335781173397E-2,8.3249335781173397E-2,8.3249335781173397E-2,8.3249335781173397E-2,8.3249335781173397E-2,8.3249335781173397E-2,8.3249335781173397E-2,8.3249335781173397E-2,8.3249335781173397E-2,8.3249335781173397E-2,8.3249335781173397E-2,8.3249335781173397E-2,8.3249335781173397E-2,8.3249335781173397E-2,8.3249335781173397E-2,8.3249335781173397E-2,8.3249335781173397E-2,8.3249335781173397E-2,8.3249335781173397E-2,8.3249335781173397E-2,8.3249335781173397E-2,8.3249335781173397E-2,8.3249335781173397E-2,{"$f":"AP50*$H69","v":8.3249335781173397E-2},8.3249335781173397E-2,8.3249335781173397E-2,8.3249335781173397E-2,8.3249335781173397E-2,8.3249335781173397E-2,8.3249335781173397E-2,8.3249335781173397E-2,8.3249335781173397E-2,8.3249335781173397E-2,8.3249335781173397E-2,8.3249335781173397E-2,8.3249335781173397E-2,8.3249335781173397E-2,8.3249335781173397E-2,8.3249335781173397E-2,8.3249335781173397E-2,8.3249335781173397E-2,8.3249335781173397E-2,8.3249335781173397E-2,8.3249335781173397E-2,8.3249335781173397E-2,8.3249335781173397E-2,8.3249335781173397E-2,8.3249335781173397E-2,8.3249335781173397E-2,8.3249335781173397E-2,8.3249335781173397E-2,8.3249335781173397E-2,8.3249335781173397E-2,8.3249335781173397E-2,8.3249335781173397E-2,{"$f":"BV50*$H69","v":8.3249335781173397E-2},8.3249335781173397E-2,8.3249335781173397E-2,8.3249335781173397E-2,8.3249335781173397E-2,8.3249335781173397E-2,8.3249335781173397E-2,8.3249335781173397E-2,8.3249335781173397E-2,8.3249335781173397E-2,8.3249335781173397E-2,8.3249335781173397E-2,8.3249335781173397E-2,8.3249335781173397E-2,8.3249335781173397E-2,8.3249335781173397E-2,8.3249335781173397E-2,8.3249335781173397E-2,8.3249335781173397E-2,8.3249335781173397E-2,8.3249335781173397E-2,8.3249335781173397E-2,8.3249335781173397E-2,8.3249335781173397E-2,8.3249335781173397E-2,8.3249335781173397E-2,8.3249335781173397E-2,8.3249335781173397E-2,8.3249335781173397E-2,8.3249335781173397E-2,8.3249335781173397E-2,8.3249335781173397E-2,{"$f":"DB50*$H69","v":8.3249335781173397E-2},8.3249335781173397E-2,8.3249335781173397E-2,8.3249335781173397E-2,8.3249335781173397E-2,8.3249335781173397E-2,8.3249335781173397E-2,8.3249335781173397E-2,8.3249335781173397E-2,8.3249335781173397E-2,8.3249335781173397E-2,8.3249335781173397E-2,8.3249335781173397E-2,8.3249335781173397E-2,8.3249335781173397E-2,8.3249335781173397E-2,8.3249335781173397E-2,8.3249335781173397E-2,8.3249335781173397E-2,8.3249335781173397E-2,8.3249335781173397E-2,8.3249335781173397E-2,8.3249335781173397E-2,8.3249335781173397E-2,8.3249335781173397E-2,8.3249335781173397E-2,8.3249335781173397E-2,8.3249335781173397E-2,8.3249335781173397E-2,8.3249335781173397E-2,8.3249335781173397E-2,8.3249335781173397E-2,{"$f":"EH50*$H69","v":8.3249335781173397E-2},8.3249335781173397E-2,8.3249335781173397E-2,8.3249335781173397E-2,8.3249335781173397E-2,8.3249335781173397E-2,8.3249335781173397E-2,8.3249335781173397E-2,8.3249335781173397E-2,8.3249335781173397E-2,8.3249335781173397E-2,8.3249335781173397E-2,8.3249335781173397E-2,8.3249335781173397E-2,8.3249335781173397E-2,8.3249335781173397E-2,8.3249335781173397E-2,8.3249335781173397E-2,8.3249335781173397E-2,8.3249335781173397E-2,8.3249335781173397E-2,8.3249335781173397E-2,{"$f":"FD50*$H69","v":8.3249335781173397E-2},8.3249335781173397E-2,8.3249335781173397E-2,8.3249335781173397E-2,8.3249335781173397E-2,8.3249335781173397E-2,8.3249335781173397E-2,8.3249335781173397E-2,8.3249335781173397E-2,8.3249335781173397E-2,8.3249335781173397E-2,8.3249335781173397E-2,8.3249335781173397E-2,8.3249335781173397E-2,8.3249335781173397E-2,8.3249335781173397E-2,8.3249335781173397E-2,8.3249335781173397E-2,8.3249335781173397E-2,8.3249335781173397E-2,8.3249335781173397E-2,8.3249335781173397E-2,8.3249335781173397E-2,8.3249335781173397E-2,8.3249335781173397E-2,8.3249335781173397E-2,8.3249335781173397E-2,8.3249335781173397E-2,8.3249335781173397E-2,8.3249335781173397E-2,8.3249335781173397E-2,8.3249335781173397E-2,8.3249335781173397E-2,8.3249335781173397E-2,8.3249335781173397E-2,8.3249335781173397E-2,8.3249335781173397E-2,8.3249335781173397E-2,8.3249335781173397E-2,8.3249335781173397E-2,8.3249335781173397E-2,8.3249335781173397E-2,8.3249335781173397E-2,8.3249335781173397E-2,8.3249335781173397E-2,8.3249335781173397E-2,8.3249335781173397E-2,8.3249335781173397E-2,8.3249335781173397E-2,8.3249335781173397E-2,8.3249335781173397E-2,8.3249335781173397E-2,8.3249335781173397E-2,8.3249335781173397E-2,8.3249335781173397E-2,8.3249335781173397E-2,8.3249335781173397E-2,8.3249335781173397E-2,8.3249335781173397E-2,8.3249335781173397E-2,8.3249335781173397E-2,8.3249335781173397E-2,8.3249335781173397E-2,8.3249335781173397E-2,{"$f":"HP50*$H69","v":8.3249335781173397E-2},8.3249335781173397E-2,8.3249335781173397E-2,8.3249335781173397E-2,8.3249335781173397E-2,8.3249335781173397E-2,8.3249335781173397E-2,8.3249335781173397E-2,8.3249335781173397E-2,8.3249335781173397E-2,8.3249335781173397E-2,8.3249335781173397E-2,8.3249335781173397E-2,8.3249335781173397E-2,8.3249335781173397E-2,8.3249335781173397E-2,8.3249335781173397E-2,8.3249335781173397E-2,8.3249335781173397E-2,8.3249335781173397E-2,8.3249335781173397E-2,8.3249335781173397E-2,8.3249335781173397E-2,8.3249335781173397E-2,8.3249335781173397E-2,8.3249335781173397E-2,8.3249335781173397E-2,8.3249335781173397E-2,8.3249335781173397E-2,8.3249335781173397E-2,8.3249335781173397E-2,8.3249335781173397E-2,8.3249335781173397E-2,8.3249335781173397E-2,8.3249335781173397E-2,8.3249335781173397E-2,8.3249335781173397E-2,8.3249335781173397E-2,8.3249335781173397E-2,8.3249335781173397E-2,8.3249335781173397E-2,8.3249335781173397E-2,8.3249335781173397E-2,8.3249335781173397E-2,8.3249335781173397E-2,8.3249335781173397E-2,8.3249335781173397E-2,8.3249335781173397E-2,8.3249335781173397E-2,8.3249335781173397E-2,8.3249335781173397E-2,8.3249335781173397E-2,8.3249335781173397E-2,8.3249335781173397E-2,8.3249335781173397E-2,8.3249335781173397E-2,8.3249335781173397E-2,8.3249335781173397E-2,8.3249335781173397E-2,8.3249335781173397E-2,8.3249335781173397E-2,8.3249335781173397E-2,8.3249335781173397E-2,8.3249335781173397E-2,{"$f":"KB50*$H69","v":8.3249335781173397E-2},8.3249335781173397E-2,8.3249335781173397E-2,8.3249335781173397E-2,8.3249335781173397E-2,8.3249335781173397E-2,8.3249335781173397E-2,8.3249335781173397E-2,8.3249335781173397E-2,8.3249335781173397E-2,8.3249335781173397E-2,8.3249335781173397E-2,8.3249335781173397E-2,8.3249335781173397E-2,8.3249335781173397E-2,8.3249335781173397E-2,8.3249335781173397E-2,8.3249335781173397E-2,8.3249335781173397E-2,8.3249335781173397E-2,8.3249335781173397E-2,8.3249335781173397E-2,8.3249335781173397E-2,8.3249335781173397E-2,8.3249335781173397E-2,8.3249335781173397E-2,8.3249335781173397E-2,8.3249335781173397E-2,8.3249335781173397E-2,8.3249335781173397E-2,8.3249335781173397E-2,8.3249335781173397E-2,8.3249335781173397E-2,8.3249335781173397E-2,8.3249335781173397E-2,8.3249335781173397E-2,8.3249335781173397E-2,8.3249335781173397E-2,8.3249335781173397E-2,8.3249335781173397E-2,8.3249335781173397E-2,8.3249335781173397E-2,8.3249335781173397E-2,8.3249335781173397E-2,8.3249335781173397E-2,8.3249335781173397E-2,8.3249335781173397E-2,8.3249335781173397E-2,8.3249335781173397E-2,8.3249335781173397E-2,8.3249335781173397E-2,8.3249335781173397E-2,8.3249335781173397E-2,8.3249335781173397E-2,{"$f":"MD50*$H69","v":8.3249335781173397E-2},8.3249335781173397E-2,8.3249335781173397E-2,8.3249335781173397E-2,8.3249335781173397E-2,8.3249335781173397E-2,8.3249335781173397E-2,8.3249335781173397E-2,8.3249335781173397E-2,8.3249335781173397E-2,8.3249335781173397E-2,8.3249335781173397E-2,8.3249335781173397E-2,8.3249335781173397E-2,8.3249335781173397E-2,8.3249335781173397E-2,8.3249335781173397E-2,8.3249335781173397E-2,8.3249335781173397E-2,8.3249335781173397E-2,8.3249335781173397E-2,8.3249335781173397E-2,8.3249335781173397E-2,8.3249335781173397E-2,8.3249335781173397E-2,8.3249335781173397E-2,8.3249335781173397E-2,8.3249335781173397E-2,8.3249335781173397E-2,8.3249335781173397E-2,8.3249335781173397E-2,8.3249335781173397E-2,8.3249335781173397E-2,8.3249335781173397E-2,8.3249335781173397E-2,8.3249335781173397E-2,8.3249335781173397E-2,8.3249335781173397E-2,8.3249335781173397E-2,8.3249335781173397E-2,8.3249335781173397E-2,8.3249335781173397E-2,8.3249335781173397E-2,8.3249335781173397E-2,8.3249335781173397E-2,8.3249335781173397E-2,8.3249335781173397E-2,8.3249335781173397E-2,8.3249335781173397E-2,8.3249335781173397E-2,8.3249335781173397E-2,8.3249335781173397E-2,8.3249335781173397E-2,8.3249335781173397E-2,8.3249335781173397E-2,8.3249335781173397E-2,8.3249335781173397E-2,8.3249335781173397E-2,8.3249335781173397E-2,8.3249335781173397E-2,8.3249335781173397E-2,8.3249335781173397E-2,8.3249335781173397E-2,8.3249335781173397E-2,{"$f":"OP50*$H69","v":8.3249335781173397E-2},8.3249335781173397E-2,8.3249335781173397E-2,8.3249335781173397E-2,8.3249335781173397E-2,8.3249335781173397E-2,8.3249335781173397E-2,8.3249335781173397E-2,8.3249335781173397E-2,8.3249335781173397E-2,8.3249335781173397E-2,8.3249335781173397E-2,8.3249335781173397E-2,8.3249335781173397E-2,8.3249335781173397E-2,8.3249335781173397E-2,8.3249335781173397E-2,8.3249335781173397E-2,8.3249335781173397E-2,8.3249335781173397E-2,8.3249335781173397E-2,8.3249335781173397E-2,8.3249335781173397E-2,8.3249335781173397E-2,8.3249335781173397E-2,8.3249335781173397E-2,8.3249335781173397E-2,{"$f":"PQ50*$H69","v":8.3249335781173397E-2},8.3249335781173397E-2,8.3249335781173397E-2,8.3249335781173397E-2,8.3249335781173397E-2,8.3249335781173397E-2,8.3249335781173397E-2,8.3249335781173397E-2,8.3249335781173397E-2,8.3249335781173397E-2,8.3249335781173397E-2,8.3249335781173397E-2,8.3249335781173397E-2,8.3249335781173397E-2,8.3249335781173397E-2,8.3249335781173397E-2,8.3249335781173397E-2,8.3249335781173397E-2,8.3249335781173397E-2,8.3249335781173397E-2,8.3249335781173397E-2,8.3249335781173397E-2,8.3249335781173397E-2,8.3249335781173397E-2,8.3249335781173397E-2,8.3249335781173397E-2,8.3249335781173397E-2,8.3249335781173397E-2,8.3249335781173397E-2,8.3249335781173397E-2,8.3249335781173397E-2,8.3249335781173397E-2,8.3249335781173397E-2,8.3249335781173397E-2,8.3249335781173397E-2,8.3249335781173397E-2,8.3249335781173397E-2,8.3249335781173397E-2,8.3249335781173397E-2,8.3249335781173397E-2,8.3249335781173397E-2,8.3249335781173397E-2,8.3249335781173397E-2,8.3249335781173397E-2,8.3249335781173397E-2,8.3249335781173397E-2,8.3249335781173397E-2,8.3249335781173397E-2,8.3249335781173397E-2,8.3249335781173397E-2,8.3249335781173397E-2,8.3249335781173397E-2,8.3249335781173397E-2,8.3249335781173397E-2,8.3249335781173397E-2,8.3249335781173397E-2,8.3249335781173397E-2,8.3249335781173397E-2,8.3249335781173397E-2,8.3249335781173397E-2,8.3249335781173397E-2,8.3249335781173397E-2,8.3249335781173397E-2,8.3249335781173397E-2,{"$f":"SC50*$H69","v":8.3249335781173397E-2},8.3249335781173397E-2,8.3249335781173397E-2,8.3249335781173397E-2,8.3249335781173397E-2,8.3249335781173397E-2,8.3249335781173397E-2,8.3249335781173397E-2,8.3249335781173397E-2,8.3249335781173397E-2,8.3249335781173397E-2,8.3249335781173397E-2,8.3249335781173397E-2,8.3249335781173397E-2,8.3249335781173397E-2,8.3249335781173397E-2,8.3249335781173397E-2,8.3249335781173397E-2,8.3249335781173397E-2,8.3249335781173397E-2,8.3249335781173397E-2,8.3249335781173397E-2,8.3249335781173397E-2,8.3249335781173397E-2,8.3249335781173397E-2,8.3249335781173397E-2,8.3249335781173397E-2,8.3249335781173397E-2,8.3249335781173397E-2,8.3249335781173397E-2,8.3249335781173397E-2,8.3249335781173397E-2,8.3249335781173397E-2,8.3249335781173397E-2,8.3249335781173397E-2,8.3249335781173397E-2,8.3249335781173397E-2,8.3249335781173397E-2,8.3249335781173397E-2,8.3249335781173397E-2,8.3249335781173397E-2,8.3249335781173397E-2,8.3249335781173397E-2,8.3249335781173397E-2,8.3249335781173397E-2,8.3249335781173397E-2,8.3249335781173397E-2,8.3249335781173397E-2,8.3249335781173397E-2]
[]
[null,null,null,null,null,"Total",3205.2623637915381]
[]
[null,null,null,null,null,"Percent of Annual",null,null,null,{"$f":"SUM(J58:J69)","v":1},{"$f":"SUM(K58:K69)","v":1},1,1,1,1,1,1,1,1,1,1,1,1,1,1,1,1,1,1,1,1,1,1,1,1,1,1,1,1,1,1,1,1,1,1,1,1,1,1,1,1,1,1,1,1,1,1,1,1,1,1,1,1,1,1,1,1,1,1,1,1,1,1,1,{"$f":"SUM(BW58:BW69)","v":1},1,1,1,1,1,1,1,1,1,1,1,1,1,1,1,1,1,1,1,1,1,1,1,1,1,1,1,1,1,1,1,1,1,1,1,1,1,1,1,1,1,1,1,1,1,1,1,1,1,1,1,1,1,1,1,1,1,1,1,1,1,1,1,{"$f":"SUM(EI58:EI69)","v":1},1,1,1,1,1,1,1,1,1,1,1,1,1,1,1,1,1,1,1,1,{"$f":"SUM(FD58:FD69)","v":1},1,1,1,1,1,1,1,1,1,1,1,1,1,1,1,1,1,1,1,1,1,1,1,1,1,1,1,1,1,1,1,1,1,1,1,1,1,1,1,1,1,1,1,1,1,1,1,1,1,1,1,1,1,1,1,1,1,1,1,1,1,1,1,{"$f":"SUM(HP58:HP69)","v":1},1,1,1,1,1,1,1,1,1,1,1,1,1,1,1,1,1,1,1,1,1,1,1,1,1,1,1,1,1,1,1,1,1,1,1,1,1,1,1,1,1,1,1,1,1,1,1,1,1,1,1,1,1,1,1,1,1,1,1,1,1,1,1,{"$f":"SUM(KB58:KB69)","v":1},1,1,1,1,1,1,1,1,1,1,1,1,1,1,1,1,1,1,1,1,1,1,1,1,1,1,1,1,1,1,1,1,1,1,1,1,1,1,1,1,1,1,1,1,1,1,1,1,1,1,1,1,1,1,1,1,1,1,1,1,1,1,1,{"$f":"SUM(MN58:MN69)","v":1},1,1,1,1,1,1,1,1,1,1,1,1,1,1,1,1,1,1,1,1,1,1,1,1,1,1,1,1,1,1,1,1,1,1,1,1,1,1,1,1,1,1,1,1,1,1,1,1,1,1,1,1,1,1,1,1,1,1,1,1,1,1,1,{"$f":"SUM(OZ58:OZ69)","v":1},1,1,1,1,1,1,1,1,1,1,1,1,1,1,1,1,{"$f":"SUM(PQ58:PQ69)","v":1},1,1,1,1,1,1,1,1,1,1,1,1,1,1,1,1,1,1,1,1,1,1,1,1,1,1,1,1,1,1,1,1,1,1,1,1,1,1,1,1,1,1,1,1,1,1,1,1,1,1,1,1,1,1,1,1,1,1,1,1,1,1,1,{"$f":"SUM(SC58:SC69)","v":8.3249335781173397E-2},8.3249335781173397E-2,8.3249335781173397E-2,8.3249335781173397E-2,8.3249335781173397E-2,8.3249335781173397E-2,8.3249335781173397E-2,8.3249335781173397E-2,8.3249335781173397E-2,8.3249335781173397E-2,8.3249335781173397E-2,8.3249335781173397E-2,8.3249335781173397E-2,8.3249335781173397E-2,8.3249335781173397E-2,8.3249335781173397E-2,8.3249335781173397E-2,8.3249335781173397E-2,8.3249335781173397E-2,8.3249335781173397E-2,8.3249335781173397E-2,8.3249335781173397E-2,8.3249335781173397E-2,8.3249335781173397E-2,8.3249335781173397E-2,8.3249335781173397E-2,8.3249335781173397E-2,8.3249335781173397E-2,8.3249335781173397E-2,8.3249335781173397E-2,8.3249335781173397E-2,8.3249335781173397E-2,8.3249335781173397E-2,8.3249335781173397E-2,8.3249335781173397E-2,8.3249335781173397E-2,8.3249335781173397E-2,8.3249335781173397E-2,8.3249335781173397E-2,8.3249335781173397E-2,8.3249335781173397E-2,8.3249335781173397E-2,8.3249335781173397E-2,8.3249335781173397E-2,8.3249335781173397E-2,8.3249335781173397E-2,8.3249335781173397E-2,8.3249335781173397E-2,8.3249335781173397E-2]

{"sheet":"Financial Model","index":4,"n_rows":437,"n_cols":497,"rows_kept":281,"cut":true,"hidden":false,"merged":[],"bounds":{"rows_first":125,"rows_last":31,"rows_between":125,"halvings":4}}
["          ",null,null,null,null,{"$f":"'Input C'!F2","v":"Base Case Annual"}]
[null,null,null,null,"Input Units","Constant","Constant","Sum","Model Units"]
[null,"Timeline"]
[null,null,null,"Period",null,null,null,null,"Counter",null,1,2,3,4,5,6,7,8,9,10,11,12,13,14,15,16,17,18,19,20,21,22,23,24,25,26,27,28,29,30,31,32,33,34,35,36,37,38,39,40,41,42,43,44,45,46,47,48,49,50,51,52,53,54,55,56,57,58,59,60,61,62,63,64,65,66,67,68,69,70,71,72,73,74,75,76,77,78,79,80,81,82,83,84,85,86,87,88,89,90,91,92,93,94,95,96,97,98,99,100,101,102,103,104,105,106,107,108,109,110,111,112,113,114,115,116,117,118,119,120,121,122,123,124,125,126,127,128,129,130,131,132,133,134,135,136,137,138,139,140,141,142,143,144,145,146,147,148,149,150,151,152,153,154,155,156,157,158,159,160,161,162,163,164,165,166,167,168,169,170,171,172,173,174,175,176,177,178,179,180,181,182,183,184,185,186,187,188,189,190,191,192,193,194,195,196,197,198,199,200,201,202,203,204,205,206,207,208,209,210,211,212,213,214,215,216,217,218,219,220,221,222,223,224,225,226,227,228,229,230,231,232,233,234,235,236,237,238,239,240,241,242,243,244,245,246,247,248,249,250,251,252,253,254,255,256,257,258,259,260,261,262,263,264,265,266,267,268,269,270,271,272,273,274,275,276,277,278,279,280,281,282,283,284,285,286,287,288,289,290,291,292,293,294,295,296,297,298,299,300,301,302,303,304,305,306,307,308,309,310,311,312,313,314,315,316,317,318,319,320,321,322,323,324,325,326,327,328,329,330,331,332,333,334,335,336,337,338,339,340,341,342,343,344,345,346,347,348,349,350,351,352,353,354,355,356,357,358,359,360,361,362,363,364,365,366,367,368,369,370,371,372,373,374,375,376,377,378,379,380,381,382,383,384,385,386,387,388,389,390,391,392,393,394,395,396,397,398,399,400,401,402,403,404,405,406,407,408,409,410,411,412,413,414,415,416,417,418,419,420,421,422,423,424,425,426,427,428,429,430,431,432,433,434,435,436,437,438,439,440,441,442,443,444,445,446,447,448,449,450,451,452,453,454,455,456,457,458,459,460,461,462,463,464,465,466,467,468,469,470,471,472,473,474,475,476,477,478,479,480,481,482,483,484,485,486,487]
[null,null,null,"Months in Construction Period","Months",{"$f":"'Input C'!F6","v":12}]
[null,null,null,"Pre-COD Flag (Construction Periods)","Flag",{"$f":"F5/F7","v":1},null,{"$f":"SUM(K6:XFD6)","v":1},"Flag",null,{"$f":"(K4<=$F$6)*1","v":1},0,0,0,0,0,0,0,0,0,0,0,0,0,0,0,0,0,0,0,0,0,0,0,0,0,0,0,0,0,0,0,{"$f":"(AQ4<=$F$6)*1","v":0},0,0,0,0,0,0,0,0,0,0,0,0,0,0,0,0,0,0,0,0,0,0,0,0,0,0,0,0,0,0,0,{"$f":"(BW4<=$F$6)*1","v":0},0,0,0,0,0,0,0,0,0,0,0,0,0,0,0,0,0,0,0,0,0,0,0,0,0,0,0,0,0,0,0,{"$f":"(DC4<=$F$6)*1","v":0},0,0,0,0,0,0,0,0,0,0,0,0,0,0,0,0,0,0,0,0,0,0,0,0,0,0,0,0,0,0,0,{"$f":"(EI4<=$F$6)*1","v":0},0,0,0,0,0,0,0,0,0,0,0,0,0,0,0,0,0,0,0,0,0,{"$f":"(FE4<=$F$6)*1","v":0},0,0,0,0,0,0,0,0,0,0,0,0,0,0,0,0,0,0,0,0,0,0,0,0,0,0,0,0,0,0,0,0,0,0,0,0,0,0,0,0,0,0,0,0,0,0,0,0,0,0,0,{"$f":"(HE4<=$F$6)*1","v":0},0,0,0,0,0,0,0,0,0,0,0,0,0,0,0,0,0,0,0,0,0,0,0,0,0,0,0,0,0,0,0,0,0,0,0,0,0,0,0,0,0,0,0,0,0,0,0,0,0,0,0,0,0,0,0,0,0,0,0,0,0,0,0,{"$f":"(JQ4<=$F$6)*1","v":0},0,0,0,0,0,0,0,0,0,0,0,0,0,0,0,0,0,0,0,0,0,0,0,0,0,{"$f":"(KQ4<=$F$6)*1","v":0},0,0,0,0,0,0,0,0,0,0,0,0,0,0,0,0,0,0,0,0,0,0,0,0,0,0,0,0,0,{"$f":"(LU4<=$F$6)*1","v":0},0,0,0,0,0,0,{"$f":"(MB4<=$F$6)*1","v":0},0,0,0,0,0,0,0,0,0,0,0,0,0,0,0,0,0,0,{"$f":"(MU4<=$F$6)*1","v":0},0,0,0,0,0,0,{"$f":"(NB4<=$F$6)*1","v":0},0,0,0,0,0,0,0,0,0,0,0,0,0,0,{"$f":"(NQ4<=$F$6)*1","v":0},0,0,0,0,0,0,0,0,0,0,0,0,0,0,0,0,0,0,0,0,0,0,0,0,0,0,0,0,0,0,0,0,0,0,0,0,0,0,0,0,0,0,0,0,0,0,0,0,0,0,0,0,0,0,0,0,0,0,0,0,0,0,0,{"$f":"(QC4<=$F$6)*1","v":0},0,0,0,0,0,0,0,0,0,0,0,0,0,0,0,0,0,0,0,0,0,0,0,0,0,0,0,0,0,0,0,0,0,0,0,0,0,0,0,0,0,0,0,0,0,0,0,0,0,0,0,0]
[null,null,null,"Months in Each Column","Months",{"$f":"'Input C'!F10","v":12},{"$f":"'Input C'!F11","v":12},null,"Months",null,{"$f":"IF(K6,$F$7,$G$7)","v":12},{"$f":"IF(L6,$F$7,$G$7)","v":12},12,12,12,12,12,12,12,12,12,12,12,12,12,12,12,12,12,12,12,12,12,12,12,12,12,12,12,12,12,12,12,12,12,12,12,12,12,12,12,12,12,12,12,12,12,12,12,12,12,12,12,12,12,12,12,12,12,12,12,12,12,12,12,{"$f":"IF(BX6,$F$7,$G$7)","v":12},12,12,12,12,12,12,12,12,12,12,12,12,12,12,12,12,12,12,12,12,12,12,12,12,12,12,12,12,12,12,12,12,12,12,12,12,12,12,12,12,12,12,12,12,12,12,12,12,12,12,12,12,12,12,12,12,12,12,12,12,12,12,12,{"$f":"IF(EJ6,$F$7,$G$7)","v":12},12,12,12,12,12,12,12,12,12,12,12,12,12,12,12,12,12,12,12,12,{"$f":"IF(FE6,$F$7,$G$7)","v":12},12,12,12,12,12,12,12,12,12,12,12,12,12,12,12,12,12,12,12,12,12,12,12,12,12,12,12,12,12,12,12,12,12,12,12,12,12,12,12,12,12,12,12,12,12,12,12,12,12,12,12,{"$f":"IF(HE6,$F$7,$G$7)","v":12},12,12,12,12,12,12,12,12,12,12,12,12,12,12,12,12,12,12,12,12,12,12,12,12,12,12,12,12,12,12,12,12,12,12,12,12,12,12,12,12,12,12,12,12,12,12,12,12,12,12,12,12,12,12,12,12,12,12,12,12,12,12,12,{"$f":"IF(JQ6,$F$7,$G$7)","v":12},12,12,12,12,12,12,12,12,12,12,12,12,12,12,12,12,12,12,12,12,12,12,12,12,12,{"$f":"IF(KQ6,$F$7,$G$7)","v":12},12,12,12,12,12,12,12,12,12,12,12,12,12,12,12,12,12,12,12,12,12,12,12,12,12,12,12,12,12,{"$f":"IF(LU6,$F$7,$G$7)","v":12},12,12,12,12,12,12,{"$f":"IF(MB6,$F$7,$G$7)","v":12},12,12,12,12,12,12,12,12,12,12,12,12,12,12,12,12,12,12,{"$f":"IF(MU6,$F$7,$G$7)","v":12},12,12,12,12,12,12,{"$f":"IF(NB6,$F$7,$G$7)","v":12},12,12,12,12,12,12,12,12,12,12,12,12,12,12,{"$f":"IF(NQ6,$F$7,$G$7)","v":12},12,12,12,12,12,12,12,12,12,12,12,12,12,12,12,12,12,12,12,12,12,12,12,12,12,12,12,12,12,12,12,12,12,12,12,12,12,12,12,12,12,12,12,12,12,12,12,12,12,12,12,12,12,12,12,12,12,12,12,12,12,12,12,{"$f":"IF(QC6,$F$7,$G$7)","v":12},12,12,12,12,12,12,12,12,12,12,12,12,12,12,12,12,12,12,12,12,12,12,12,12,12,12,12,12,12,12,12,12,12,12,12,12,12,12,12,12,12,12,12,12,12,12,12,12,12,12,12,12]
[null,null,null,"Start of Period",null,null,null,null,"Date",null,{"$f":"J9+1","v":"2026-01-01"},{"$f":"K9+1","v":"2027-01-01"},"2028-01-01","2029-01-01","2030-01-01","2031-01-01","2032-01-01","2033-01-01","2034-01-01","2035-01-01","2036-01-01","2037-01-01","2038-01-01","2039-01-01","2040-01-01","2041-01-01","2042-01-01","2043-01-01","2044-01-01","2045-01-01","2046-01-01","2047-01-01","2048-01-01","2049-01-01","2050-01-01","2051-01-01","2052-01-01","2053-01-01","2054-01-01","2055-01-01","2056-01-01","2057-01-01","2058-01-01","2059-01-01","2060-01-01","2061-01-01","2062-01-01","2063-01-01","2064-01-01","2065-01-01","2066-01-01","2067-01-01","2068-01-01","2069-01-01","2070-01-01","2071-01-01","2072-01-01","2073-01-01","2074-01-01","2075-01-01","2076-01-01","2077-01-01","2078-01-01","2079-01-01","2080-01-01","2081-01-01","2082-01-01","2083-01-01","2084-01-01","2085-01-01","2086-01-01","2087-01-01","2088-01-01","2089-01-01","2090-01-01",{"$f":"BW9+1","v":"2091-01-01"},"2092-01-01","2093-01-01","2094-01-01","2095-01-01","2096-01-01","2097-01-01","2098-01-01","2099-01-01","2100-01-01","2101-01-01","2102-01-01","2103-01-01","2104-01-01","2105-01-01","2106-01-01","2107-01-01","2108-01-01","2109-01-01","2110-01-01","2111-01-01","2112-01-01","2113-01-01","2114-01-01","2115-01-01","2116-01-01","2117-01-01","2118-01-01","2119-01-01","2120-01-01","2121-01-01","2122-01-01","2123-01-01","2124-01-01","2125-01-01","2126-01-01","2127-01-01","2128-01-01","2129-01-01","2130-01-01","2131-01-01","2132-01-01","2133-01-01","2134-01-01","2135-01-01","2136-01-01","2137-01-01","2138-01-01","2139-01-01","2140-01-01","2141-01-01","2142-01-01","2143-01-01","2144-01-01","2145-01-01","2146-01-01","2147-01-01","2148-01-01","2149-01-01","2150-01-01","2151-01-01","2152-01-01","2153-01-01","2154-01-01",{"$f":"EI9+1","v":"2155-01-01"},"2156-01-01","2157-01-01","2158-01-01","2159-01-01","2160-01-01","2161-01-01","2162-01-01","2163-01-01","2164-01-01","2165-01-01","2166-01-01","2167-01-01","2168-01-01","2169-01-01","2170-01-01","2171-01-01","2172-01-01","2173-01-01","2174-01-01","2175-01-01",{"$f":"FD9+1","v":"2176-01-01"},{"$f":"FE9+1","v":"2177-01-01"},{"$f":"FF9+1","v":"2178-01-01"},{"$f":"FG9+1","v":"2179-01-01"},{"$f":"FH9+1","v":"2180-01-01"},{"$f":"FI9+1","v":"2181-01-01"},{"$f":"FJ9+1","v":"2182-01-01"},{"$f":"FK9+1","v":"2183-01-01"},{"$f":"FL9+1","v":"2184-01-01"},{"$f":"FM9+1","v":"2185-01-01"},{"$f":"FN9+1","v":"2186-01-01"},{"$f":"FO9+1","v":"2187-01-01"},{"$f":"FP9+1","v":"2188-01-01"},{"$f":"FQ9+1","v":"2189-01-01"},{"$f":"FR9+1","v":"2190-01-01"},{"$f":"FS9+1","v":"2191-01-01"},{"$f":"FT9+1","v":"2192-01-01"},{"$f":"FU9+1","v":"2193-01-01"},{"$f":"FV9+1","v":"2194-01-01"},{"$f":"FW9+1","v":"2195-01-01"},{"$f":"FX9+1","v":"2196-01-01"},{"$f":"FY9+1","v":"2197-01-01"},{"$f":"FZ9+1","v":"2198-01-01"},{"$f":"GA9+1","v":"2199-01-01"},{"$f":"GB9+1","v":"2200-01-01"},{"$f":"GC9+1","v":"2201-01-01"},{"$f":"GD9+1","v":"2202-01-01"},{"$f":"GE9+1","v":"2203-01-01"},{"$f":"GF9+1","v":"2204-01-01"},{"$f":"GG9+1","v":"2205-01-01"},{"$f":"GH9+1","v":"2206-01-01"},{"$f":"GI9+1","v":"2207-01-01"},{"$f":"GJ9+1","v":"2208-01-01"},{"$f":"GK9+1","v":"2209-01-01"},{"$f":"GL9+1","v":"2210-01-01"},{"$f":"GM9+1","v":"2211-01-01"},{"$f":"GN9+1","v":"2212-01-01"},{"$f":"GO9+1","v":"2213-01-01"},{"$f":"GP9+1","v":"2214-01-01"},{"$f":"GQ9+1","v":"2215-01-01"},{"$f":"GR9+1","v":"2216-01-01"},{"$f":"GS9+1","v":"2217-01-01"},{"$f":"GT9+1","v":"2218-01-01"},{"$f":"GU9+1","v":"2219-01-01"},{"$f":"GV9+1","v":"2220-01-01"},{"$f":"GW9+1","v":"2221-01-01"},{"$f":"GX9+1","v":"2222-01-01"},{"$f":"GY9+1","v":"2223-01-01"},{"$f":"GZ9+1","v":"2224-01-01"},{"$f":"HA9+1","v":"2225-01-01"},{"$f":"HB9+1","v":"2226-01-01"},{"$f":"HC9+1","v":"2227-01-01"},{"$f":"HD9+1","v":"2228-01-01"},{"$f":"HE9+1","v":"2229-01-01"},{"$f":"HF9+1","v":"2230-01-01"},{"$f":"HG9+1","v":"2231-01-01"},{"$f":"HH9+1","v":"2232-01-01"},{"$f":"HI9+1","v":"2233-01-01"},{"$f":"HJ9+1","v":"2234-01-01"},{"$f":"HK9+1","v":"2235-01-01"},{"$f":"HL9+1","v":"2236-01-01"},{"$f":"HM9+1","v":"2237-01-01"},{"$f":"HN9+1","v":"2238-01-01"},{"$f":"HO9+1","v":"2239-01-01"},{"$f":"HP9+1","v":"2240-01-01"},{"$f":"HQ9+1","v":"2241-01-01"},{"$f":"HR9+1","v":"2242-01-01"},{"$f":"HS9+1","v":"2243-01-01"},{"$f":"HT9+1","v":"2244-01-01"},{"$f":"HU9+1","v":"2245-01-01"},{"$f":"HV9+1","v":"2246-01-01"},{"$f":"HW9+1","v":"2247-01-01"},{"$f":"HX9+1","v":"2248-01-01"},{"$f":"HY9+1","v":"2249-01-01"},{"$f":"HZ9+1","v":"2250-01-01"},{"$f":"IA9+1","v":"2251-01-01"},{"$f":"IB9+1","v":"2252-01-01"},{"$f":"IC9+1","v":"2253-01-01"},{"$f":"ID9+1","v":"2254-01-01"},{"$f":"IE9+1","v":"2255-01-01"},{"$f":"IF9+1","v":"2256-01-01"},{"$f":"IG9+1","v":"2257-01-01"},{"$f":"IH9+1","v":"2258-01-01"},{"$f":"II9+1","v":"2259-01-01"},{"$f":"IJ9+1","v":"2260-01-01"},{"$f":"IK9+1","v":"2261-01-01"},{"$f":"IL9+1","v":"2262-01-01"},{"$f":"IM9+1","v":"2263-01-01"},{"$f":"IN9+1","v":"2264-01-01"},{"$f":"IO9+1","v":"2265-01-01"},{"$f":"IP9+1","v":"2266-01-01"},{"$f":"IQ9+1","v":"2267-01-01"},{"$f":"IR9+1","v":"2268-01-01"},{"$f":"IS9+1","v":"2269-01-01"},{"$f":"IT9+1","v":"2270-01-01"},{"$f":"IU9+1","v":"2271-01-01"},{"$f":"IV9+1","v":"2272-01-01"},{"$f":"IW9+1","v":"2273-01-01"},{"$f":"IX9+1","v":"2274-01-01"},{"$f":"IY9+1","v":"2275-01-01"},{"$f":"IZ9+1","v":"2276-01-01"},{"$f":"JA9+1","v":"2277-01-01"},{"$f":"JB9+1","v":"2278-01-01"},{"$f":"JC9+1","v":"2279-01-01"},{"$f":"JD9+1","v":"2280-01-01"},{"$f":"JE9+1","v":"2281-01-01"},{"$f":"JF9+1","v":"2282-01-01"},{"$f":"JG9+1","v":"2283-01-01"},{"$f":"JH9+1","v":"2284-01-01"},{"$f":"JI9+1","v":"2285-01-01"},{"$f":"JJ9+1","v":"2286-01-01"},{"$f":"JK9+1","v":"2287-01-01"},{"$f":"JL9+1","v":"2288-01-01"},{"$f":"JM9+1","v":"2289-01-01"},{"$f":"JN9+1","v":"2290-01-01"},{"$f":"JO9+1","v":"2291-01-01"},{"$f":"JP9+1","v":"2292-01-01"},{"$f":"JQ9+1","v":"2293-01-01"},{"$f":"JR9+1","v":"2294-01-01"},{"$f":"JS9+1","v":"2295-01-01"},{"$f":"JT9+1","v":"2296-01-01"},{"$f":"JU9+1","v":"2297-01-01"},{"$f":"JV9+1","v":"2298-01-01"},{"$f":"JW9+1","v":"2299-01-01"},{"$f":"JX9+1","v":"2300-01-01"},{"$f":"JY9+1","v":"2301-01-01"},{"$f":"JZ9+1","v":"2302-01-01"},{"$f":"KA9+1","v":"2303-01-01"},{"$f":"KB9+1","v":"2304-01-01"},{"$f":"KC9+1","v":"2305-01-01"},{"$f":"KD9+1","v":"2306-01-01"},{"$f":"KE9+1","v":"2307-01-01"},{"$f":"KF9+1","v":"2308-01-01"},{"$f":"KG9+1","v":"2309-01-01"},{"$f":"KH9+1","v":"2310-01-01"},{"$f":"KI9+1","v":"2311-01-01"},{"$f":"KJ9+1","v":"2312-01-01"},{"$f":"KK9+1","v":"2313-01-01"},{"$f":"KL9+1","v":"2314-01-01"},{"$f":"KM9+1","v":"2315-01-01"},{"$f":"KN9+1","v":"2316-01-01"},{"$f":"KO9+1","v":"2317-01-01"},{"$f":"KP9+1","v":"2318-01-01"},{"$f":"KQ9+1","v":"2319-01-01"},{"$f":"KR9+1","v":"2320-01-01"},{"$f":"KS9+1","v":"2321-01-01"},{"$f":"KT9+1","v":"2322-01-01"},{"$f":"KU9+1","v":"2323-01-01"},{"$f":"KV9+1","v":"2324-01-01"},{"$f":"KW9+1","v":"2325-01-01"},{"$f":"KX9+1","v":"2326-01-01"},{"$f":"KY9+1","v":"2327-01-01"},{"$f":"KZ9+1","v":"2328-01-01"},{"$f":"LA9+1","v":"2329-01-01"},{"$f":"LB9+1","v":"2330-01-01"},{"$f":"LC9+1","v":"2331-01-01"},{"$f":"LD9+1","v":"2332-01-01"},{"$f":"LE9+1","v":"2333-01-01"},{"$f":"LF9+1","v":"2334-01-01"},{"$f":"LG9+1","v":"2335-01-01"},{"$f":"LH9+1","v":"2336-01-01"},{"$f":"LI9+1","v":"2337-01-01"},{"$f":"LJ9+1","v":"2338-01-01"},{"$f":"LK9+1","v":"2339-01-01"},{"$f":"LL9+1","v":"2340-01-01"},{"$f":"LM9+1","v":"2341-01-01"},{"$f":"LN9+1","v":"2342-01-01"},{"$f":"LO9+1","v":"2343-01-01"},{"$f":"LP9+1","v":"2344-01-01"},{"$f":"LQ9+1","v":"2345-01-01"},{"$f":"LR9+1","v":"2346-01-01"},{"$f":"LS9+1","v":"2347-01-01"},{"$f":"LT9+1","v":"2348-01-01"},{"$f":"LU9+1","v":"2349-01-01"},{"$f":"LV9+1","v":"2350-01-01"},{"$f":"LW9+1","v":"2351-01-01"},{"$f":"LX9+1","v":"2352-01-01"},{"$f":"LY9+1","v":"2353-01-01"},{"$f":"LZ9+1","v":"2354-01-01"},{"$f":"MA9+1","v":"2355-01-01"},{"$f":"MB9+1","v":"2356-01-01"},{"$f":"MC9+1","v":"2357-01-01"},{"$f":"MD9+1","v":"2358-01-01"},{"$f":"ME9+1","v":"2359-01-01"},{"$f":"MF9+1","v":"2360-01-01"},{"$f":"MG9+1","v":"2361-01-01"},{"$f":"MH9+1","v":"2362-01-01"},{"$f":"MI9+1","v":"2363-01-01"},{"$f":"MJ9+1","v":"2364-01-01"},{"$f":"MK9+1","v":"2365-01-01"},{"$f":"ML9+1","v":"2366-01-01"},{"$f":"MM9+1","v":"2367-01-01"},{"$f":"MN9+1","v":"2368-01-01"},{"$f":"MO9+1","v":"2369-01-01"},{"$f":"MP9+1","v":"2370-01-01"},{"$f":"MQ9+1","v":"2371-01-01"},{"$f":"MR9+1","v":"2372-01-01"},{"$f":"MS9+1","v":"2373-01-01"},{"$f":"MT9+1","v":"2374-01-01"},{"$f":"MU9+1","v":"2375-01-01"},{"$f":"MV9+1","v":"2376-01-01"},{"$f":"MW9+1","v":"2377-01-01"},{"$f":"MX9+1","v":"2378-01-01"},{"$f":"MY9+1","v":"2379-01-01"},{"$f":"MZ9+1","v":"2380-01-01"},{"$f":"NA9+1","v":"2381-01-01"},{"$f":"NB9+1","v":"2382-01-01"},{"$f":"NC9+1","v":"2383-01-01"},{"$f":"ND9+1","v":"2384-01-01"},{"$f":"NE9+1","v":"2385-01-01"},{"$f":"NF9+1","v":"2386-01-01"},{"$f":"NG9+1","v":"2387-01-01"},{"$f":"NH9+1","v":"2388-01-01"},{"$f":"NI9+1","v":"2389-01-01"},{"$f":"NJ9+1","v":"2390-01-01"},{"$f":"NK9+1","v":"2391-01-01"},{"$f":"NL9+1","v":"2392-01-01"},{"$f":"NM9+1","v":"2393-01-01"},{"$f":"NN9+1","v":"2394-01-01"},{"$f":"NO9+1","v":"2395-01-01"},{"$f":"NP9+1","v":"2396-01-01"},{"$f":"NQ9+1","v":"2397-01-01"},{"$f":"NR9+1","v":"2398-01-01"},{"$f":"NS9+1","v":"2399-01-01"},{"$f":"NT9+1","v":"2400-01-01"},{"$f":"NU9+1","v":"2401-01-01"},{"$f":"NV9+1","v":"2402-01-01"},{"$f":"NW9+1","v":"2403-01-01"},{"$f":"NX9+1","v":"2404-01-01"},{"$f":"NY9+1","v":"2405-01-01"},{"$f":"NZ9+1","v":"2406-01-01"},{"$f":"OA9+1","v":"2407-01-01"},{"$f":"OB9+1","v":"2408-01-01"},{"$f":"OC9+1","v":"2409-01-01"},{"$f":"OD9+1","v":"2410-01-01"},{"$f":"OE9+1","v":"2411-01-01"},{"$f":"OF9+1","v":"2412-01-01"},{"$f":"OG9+1","v":"2413-01-01"},{"$f":"OH9+1","v":"2414-01-01"},{"$f":"OI9+1","v":"2415-01-01"},{"$f":"OJ9+1","v":"2416-01-01"},{"$f":"OK9+1","v":"2417-01-01"},{"$f":"OL9+1","v":"2418-01-01"},{"$f":"OM9+1","v":"2419-01-01"},{"$f":"ON9+1","v":"2420-01-01"},{"$f":"OO9+1","v":"2421-01-01"},{"$f":"OP9+1","v":"2422-01-01"},{"$f":"OQ9+1","v":"2423-01-01"},{"$f":"OR9+1","v":"2424-01-01"},{"$f":"OS9+1","v":"2425-01-01"},{"$f":"OT9+1","v":"2426-01-01"},{"$f":"OU9+1","v":"2427-01-01"},{"$f":"OV9+1","v":"2428-01-01"},{"$f":"OW9+1","v":"2429-01-01"},{"$f":"OX9+1","v":"2430-01-01"},{"$f":"OY9+1","v":"2431-01-01"},{"$f":"OZ9+1","v":"2432-01-01"},{"$f":"PA9+1","v":"2433-01-01"},{"$f":"PB9+1","v":"2434-01-01"},{"$f":"PC9+1","v":"2435-01-01"},{"$f":"PD9+1","v":"2436-01-01"},{"$f":"PE9+1","v":"2437-01-01"},{"$f":"PF9+1","v":"2438-01-01"},{"$f":"PG9+1","v":"2439-01-01"},{"$f":"PH9+1","v":"2440-01-01"},{"$f":"PI9+1","v":"2441-01-01"},{"$f":"PJ9+1","v":"2442-01-01"},{"$f":"PK9+1","v":"2443-01-01"},{"$f":"PL9+1","v":"2444-01-01"},{"$f":"PM9+1","v":"2445-01-01"},{"$f":"PN9+1","v":"2446-01-01"},{"$f":"PO9+1","v":"2447-01-01"},{"$f":"PP9+1","v":"2448-01-01"},{"$f":"PQ9+1","v":"2449-01-01"},{"$f":"PR9+1","v":"2450-01-01"},{"$f":"PS9+1","v":"2451-01-01"},{"$f":"PT9+1","v":"2452-01-01"},{"$f":"PU9+1","v":"2453-01-01"},{"$f":"PV9+1","v":"2454-01-01"},{"$f":"PW9+1","v":"2455-01-01"},{"$f":"PX9+1","v":"2456-01-01"},{"$f":"PY9+1","v":"2457-01-01"},{"$f":"PZ9+1","v":"2458-01-01"},{"$f":"QA9+1","v":"2459-01-01"},{"$f":"QB9+1","v":"2460-01-01"},{"$f":"QC9+1","v":"2461-01-01"},{"$f":"QD9+1","v":"2462-01-01"},{"$f":"QE9+1","v":"2463-01-01"},{"$f":"QF9+1","v":"2464-01-01"},{"$f":"QG9+1","v":"2465-01-01"},{"$f":"QH9+1","v":"2466-01-01"},{"$f":"QI9+1","v":"2467-01-01"},{"$f":"QJ9+1","v":"2468-01-01"},{"$f":"QK9+1","v":"2469-01-01"},{"$f":"QL9+1","v":"2470-01-01"},{"$f":"QM9+1","v":"2471-01-01"},{"$f":"QN9+1","v":"2472-01-01"},{"$f":"QO9+1","v":"2473-01-01"},{"$f":"QP9+1","v":"2474-01-01"},{"$f":"QQ9+1","v":"2475-01-01"},{"$f":"QR9+1","v":"2476-01-01"},{"$f":"QS9+1","v":"2477-01-01"},{"$f":"QT9+1","v":"2478-01-01"},{"$f":"QU9+1","v":"2479-01-01"},{"$f":"QV9+1","v":"2480-01-01"},{"$f":"QW9+1","v":"2481-01-01"},{"$f":"QX9+1","v":"2482-01-01"},{"$f":"QY9+1","v":"2483-01-01"},{"$f":"QZ9+1","v":"2484-01-01"},{"$f":"RA9+1","v":"2485-01-01"},{"$f":"RB9+1","v":"2486-01-01"},{"$f":"RC9+1","v":"2487-01-01"},{"$f":"RD9+1","v":"2488-01-01"},{"$f":"RE9+1","v":"2489-01-01"},{"$f":"RF9+1","v":"2490-01-01"},{"$f":"RG9+1","v":"2491-01-01"},{"$f":"RH9+1","v":"2492-01-01"},{"$f":"RI9+1","v":"2493-01-01"},{"$f":"RJ9+1","v":"2494-01-01"},{"$f":"RK9+1","v":"2495-01-01"},{"$f":"RL9+1","v":"2496-01-01"},{"$f":"RM9+1","v":"2497-01-01"},{"$f":"RN9+1","v":"2498-01-01"},{"$f":"RO9+1","v":"2499-01-01"},{"$f":"RP9+1","v":"2500-01-01"},{"$f":"RQ9+1","v":"2501-01-01"},{"$f":"RR9+1","v":"2502-01-01"},{"$f":"RS9+1","v":"2503-01-01"},{"$f":"RT9+1","v":"2504-01-01"},{"$f":"RU9+1","v":"2505-01-01"},{"$f":"RV9+1","v":"2506-01-01"},{"$f":"RW9+1","v":"2507-01-01"},{"$f":"RX9+1","v":"2508-01-01"},{"$f":"RY9+1","v":"2509-01-01"},{"$f":"RZ9+1","v":"2510-01-01"},{"$f":"SA9+1","v":"2511-01-01"},{"$f":"SB9+1","v":"2512-01-01"}]
[null,null,null,"End of Period",null,null,null,null,"Date",{"$f":"'Input C'!F5-1","v":"2025-12-31"},{"$f":"EDATE(K8,K7)-1","v":"2026-12-31"},{"$f":"EDATE(L8,L7)-1","v":"2027-12-31"},"2028-12-31","2029-12-31","2030-12-31","2031-12-31","2032-12-31","2033-12-31","2034-12-31","2035-12-31","2036-12-31","2037-12-31","2038-12-31","2039-12-31","2040-12-31","2041-12-31","2042-12-31","2043-12-31","2044-12-31","2045-12-31","2046-12-31","2047-12-31","2048-12-31","2049-12-31","2050-12-31","2051-12-31","2052-12-31","2053-12-31","2054-12-31","2055-12-31","2056-12-31","2057-12-31","2058-12-31","2059-12-31","2060-12-31","2061-12-31","2062-12-31","2063-12-31","2064-12-31","2065-12-31","2066-12-31","2067-12-31","2068-12-31","2069-12-31","2070-12-31","2071-12-31","2072-12-31","2073-12-31","2074-12-31","2075-12-31","2076-12-31","2077-12-31","2078-12-31","2079-12-31","2080-12-31","2081-12-31","2082-12-31","2083-12-31","2084-12-31","2085-12-31","2086-12-31","2087-12-31","2088-12-31","2089-12-31","2090-12-31",{"$f":"EDATE(BX8,BX7)-1","v":"2091-12-31"},"2092-12-31","2093-12-31","2094-12-31","2095-12-31","2096-12-31","2097-12-31","2098-12-31","2099-12-31","2100-12-31","2101-12-31","2102-12-31","2103-12-31","2104-12-31","2105-12-31","2106-12-31","2107-12-31","2108-12-31","2109-12-31","2110-12-31","2111-12-31","2112-12-31","2113-12-31","2114-12-31","2115-12-31","2116-12-31","2117-12-31","2118-12-31","2119-12-31","2120-12-31","2121-12-31","2122-12-31","2123-12-31","2124-12-31","2125-12-31","2126-12-31","2127-12-31","2128-12-31","2129-12-31","2130-12-31","2131-12-31","2132-12-31","2133-12-31","2134-12-31","2135-12-31","2136-12-31","2137-12-31","2138-12-31","2139-12-31","2140-12-31","2141-12-31","2142-12-31","2143-12-31","2144-12-31","2145-12-31","2146-12-31","2147-12-31","2148-12-31","2149-12-31","2150-12-31","2151-12-31","2152-12-31","2153-12-31","2154-12-31",{"$f":"EDATE(EJ8,EJ7)-1","v":"2155-12-31"},"2156-12-31","2157-12-31","2158-12-31","2159-12-31","2160-12-31","2161-12-31","2162-12-31","2163-12-31","2164-12-31","2165-12-31","2166-12-31","2167-12-31","2168-12-31","2169-12-31","2170-12-31","2171-12-31","2172-12-31","2173-12-31","2174-12-31","2175-12-31",{"$f":"EDATE(FE8,FE7)-1","v":"2176-12-31"},"2177-12-31","2178-12-31","2179-12-31","2180-12-31","2181-12-31","2182-12-31","2183-12-31","2184-12-31","2185-12-31","2186-12-31","2187-12-31","2188-12-31","2189-12-31","2190-12-31","2191-12-31","2192-12-31","2193-12-31","2194-12-31","2195-12-31","2196-12-31","2197-12-31","2198-12-31","2199-12-31","2200-12-31","2201-12-31","2202-12-31","2203-12-31","2204-12-31","2205-12-31","2206-12-31","2207-12-31","2208-12-31","2209-12-31","2210-12-31","2211-12-31","2212-12-31","2213-12-31","2214-12-31","2215-12-31","2216-12-31","2217-12-31","2218-12-31","2219-12-31","2220-12-31","2221-12-31","2222-12-31","2223-12-31","2224-12-31","2225-12-31","2226-12-31","2227-12-31",{"$f":"EDATE(HE8,HE7)-1","v":"2228-12-31"},"2229-12-31","2230-12-31","2231-12-31","2232-12-31","2233-12-31","2234-12-31","2235-12-31","2236-12-31","2237-12-31","2238-12-31","2239-12-31","2240-12-31","2241-12-31","2242-12-31","2243-12-31","2244-12-31","2245-12-31","2246-12-31","2247-12-31","2248-12-31","2249-12-31","2250-12-31","2251-12-31","2252-12-31","2253-12-31","2254-12-31","2255-12-31","2256-12-31","2257-12-31","2258-12-31","2259-12-31","2260-12-31","2261-12-31","2262-12-31","2263-12-31","2264-12-31","2265-12-31","2266-12-31","2267-12-31","2268-12-31","2269-12-31","2270-12-31","2271-12-31","2272-12-31","2273-12-31","2274-12-31","2275-12-31","2276-12-31","2277-12-31","2278-12-31","2279-12-31","2280-12-31","2281-12-31","2282-12-31","2283-12-31","2284-12-31","2285-12-31","2286-12-31","2287-12-31","2288-12-31","2289-12-31","2290-12-31","2291-12-31",{"$f":"EDATE(JQ8,JQ7)-1","v":"2292-12-31"},"2293-12-31","2294-12-31","2295-12-31","2296-12-31","2297-12-31","2298-12-31","2299-12-31","2300-12-31","2301-12-31","2302-12-31","2303-12-31","2304-12-31","2305-12-31","2306-12-31","2307-12-31","2308-12-31","2309-12-31","2310-12-31","2311-12-31","2312-12-31","2313-12-31","2314-12-31","2315-12-31","2316-12-31","2317-12-31",{"$f":"EDATE(KQ8,KQ7)-1","v":"2318-12-31"},"2319-12-31","2320-12-31","2321-12-31","2322-12-31","2323-12-31","2324-12-31","2325-12-31","2326-12-31","2327-12-31","2328-12-31","2329-12-31","2330-12-31","2331-12-31","2332-12-31","2333-12-31","2334-12-31","2335-12-31","2336-12-31","2337-12-31","2338-12-31","2339-12-31","2340-12-31","2341-12-31","2342-12-31","2343-12-31","2344-12-31","2345-12-31","2346-12-31","2347-12-31",{"$f":"EDATE(LU8,LU7)-1","v":"2348-12-31"},"2349-12-31","2350-12-31","2351-12-31","2352-12-31","2353-12-31","2354-12-31",{"$f":"EDATE(MB8,MB7)-1","v":"2355-12-31"},"2356-12-31","2357-12-31","2358-12-31","2359-12-31","2360-12-31","2361-12-31","2362-12-31","2363-12-31","2364-12-31","2365-12-31","2366-12-31","2367-12-31","2368-12-31","2369-12-31","2370-12-31","2371-12-31","2372-12-31","2373-12-31",{"$f":"EDATE(MU8,MU7)-1","v":"2374-12-31"},"2375-12-31","2376-12-31","2377-12-31","2378-12-31","2379-12-31","2380-12-31",{"$f":"EDATE(NB8,NB7)-1","v":"2381-12-31"},"2382-12-31","2383-12-31","2384-12-31","2385-12-31","2386-12-31","2387-12-31","2388-12-31","2389-12-31","2390-12-31","2391-12-31","2392-12-31","2393-12-31","2394-12-31","2395-12-31",{"$f":"EDATE(NQ8,NQ7)-1","v":"2396-12-31"},"2397-12-31","2398-12-31","2399-12-31","2400-12-31","2401-12-31","2402-12-31","2403-12-31","2404-12-31","2405-12-31","2406-12-31","2407-12-31","2408-12-31","2409-12-31","2410-12-31","2411-12-31","2412-12-31","2413-12-31","2414-12-31","2415-12-31","2416-12-31","2417-12-31","2418-12-31","2419-12-31","2420-12-31","2421-12-31","2422-12-31","2423-12-31","2424-12-31","2425-12-31","2426-12-31","2427-12-31","2428-12-31","2429-12-31","2430-12-31","2431-12-31","2432-12-31","2433-12-31","2434-12-31","2435-12-31","2436-12-31","2437-12-31","2438-12-31","2439-12-31","2440-12-31","2441-12-31","2442-12-31","2443-12-31","2444-12-31","2445-12-31","2446-12-31","2447-12-31","2448-12-31","2449-12-31","2450-12-31","2451-12-31","2452-12-31","2453-12-31","2454-12-31","2455-12-31","2456-12-31","2457-12-31","2458-12-31","2459-12-31",{"$f":"EDATE(QC8,QC7)-1","v":"2460-12-31"},"2461-12-31","2462-12-31","2463-12-31","2464-12-31","2465-12-31","2466-12-31","2467-12-31","2468-12-31","2469-12-31","2470-12-31","2471-12-31","2472-12-31","2473-12-31","2474-12-31","2475-12-31","2476-12-31","2477-12-31","2478-12-31","2479-12-31","2480-12-31","2481-12-31","2482-12-31","2483-12-31","2484-12-31","2485-12-31","2486-12-31","2487-12-31","2488-12-31","2489-12-31","2490-12-31","2491-12-31","2492-12-31","2493-12-31","2494-12-31","2495-12-31","2496-12-31","2497-12-31","2498-12-31","2499-12-31","2500-12-31","2501-12-31","2502-12-31","2503-12-31","2504-12-31","2505-12-31","2506-12-31","2507-12-31","2508-12-31","2509-12-31","2510-12-31","2511-12-31","2512-12-31"]
[null,null,null,"Operating Period","Date",{"$f":"'Input C'!F7","v":"2027-01-01"},{"$f":"'Input C'!F9","v":"2052-01-01"},{"$f":"SUM(K10:XFD10)","v":25},"Flag",null,{"$f":"(AND(K8>=$F$10,K8<$G$10))*1","v":0},{"$f":"(AND(L8>=$F$10,L8<$G$10))*1","v":1},1,1,1,1,1,1,1,1,1,1,1,1,1,1,1,1,1,1,1,1,1,1,1,1,0,0,0,0,0,0,0,0,0,0,0,0,0,0,0,0,0,0,0,0,0,0,0,0,0,0,0,0,0,0,0,0,0,0,0,0,0,0,0,{"$f":"(AND(BX8>=$F$10,BX8<$G$10))*1","v":0},0,0,0,0,0,0,0,0,0,0,0,0,0,0,0,0,0,0,0,0,0,0,0,0,0,0,0,0,0,0,0,0,0,0,0,0,0,0,0,0,0,0,0,0,0,0,0,0,0,0,0,0,0,0,0,0,0,0,0,0,0,0,0,{"$f":"(AND(EJ8>=$F$10,EJ8<$G$10))*1","v":0},0,0,0,0,0,0,0,0,0,0,0,0,0,0,0,0,0,0,0,0,{"$f":"(AND(FE8>=$F$10,FE8<$G$10))*1","v":0},0,0,0,0,0,0,0,0,0,0,0,0,0,0,0,0,0,0,0,0,0,0,0,0,0,0,0,0,0,0,0,0,0,0,0,0,0,0,0,0,0,0,0,0,0,0,0,0,0,0,0,{"$f":"(AND(HE8>=$F$10,HE8<$G$10))*1","v":0},0,0,0,0,0,0,0,0,0,0,0,0,0,0,0,0,0,0,0,0,0,0,0,0,0,0,0,0,0,0,0,0,0,0,0,0,0,0,0,0,0,0,0,0,0,0,0,0,0,0,0,0,0,0,0,0,0,0,0,0,0,0,0,{"$f":"(AND(JQ8>=$F$10,JQ8<$G$10))*1","v":0},0,0,0,0,0,0,0,0,0,0,0,0,0,0,0,0,0,0,0,0,0,0,0,0,0,{"$f":"(AND(KQ8>=$F$10,KQ8<$G$10))*1","v":0},0,0,0,0,0,0,0,0,0,0,0,0,0,0,0,0,0,0,0,0,0,0,0,0,0,0,0,0,0,{"$f":"(AND(LU8>=$F$10,LU8<$G$10))*1","v":0},0,0,0,0,0,0,{"$f":"(AND(MB8>=$F$10,MB8<$G$10))*1","v":0},0,0,0,0,0,0,0,0,0,0,0,0,0,0,0,0,0,0,{"$f":"(AND(MU8>=$F$10,MU8<$G$10))*1","v":0},0,0,0,0,0,0,{"$f":"(AND(NB8>=$F$10,NB8<$G$10))*1","v":0},0,0,0,0,0,0,0,0,0,0,0,0,0,0,{"$f":"(AND(NQ8>=$F$10,NQ8<$G$10))*1","v":0},0,0,0,0,0,0,0,0,0,0,0,0,0,0,0,0,0,0,0,0,0,0,0,0,0,0,0,0,0,0,0,0,0,0,0,0,0,0,0,0,0,0,0,0,0,0,0,0,0,0,0,0,0,0,0,0,0,0,0,0,0,0,0,{"$f":"(AND(QC8>=$F$10,QC8<$G$10))*1","v":0},0,0,0,0,0,0,0,0,0,0,0,0,0,0,0,0,0,0,0,0,0,0,0,0,0,0,0,0,0,0,0,0,0,0,0,0,0,0,0,0,0,0,0,0,0,0,0,0,0,0,0,0]
[null,null,null,"Label",null,null,null,null,null,null,{"$f":"IF(K6,\"Const\",IF(K10,\"Ops\",\"Retire\"))","v":"Const"},{"$f":"IF(L6,\"Const\",IF(L10,\"Ops\",\"Retire\"))","v":"Ops"},"Ops","Ops","Ops","Ops","Ops","Ops","Ops","Ops","Ops","Ops","Ops","Ops","Ops","Ops","Ops","Ops","Ops","Ops","Ops","Ops","Ops","Ops","Ops","Ops","Retire","Retire","Retire","Retire","Retire","Retire","Retire","Retire","Retire","Retire","Retire","Retire","Retire","Retire","Retire","Retire","Retire","Retire","Retire","Retire","Retire","Retire","Retire","Retire","Retire","Retire","Retire","Retire","Retire","Retire","Retire","Retire","Retire","Retire","Retire","Retire","Retire","Retire","Retire",{"$f":"IF(BX6,\"Const\",IF(BX10,\"Ops\",\"Retire\"))","v":"Retire"},"Retire","Retire","Retire","Retire","Retire","Retire","Retire","Retire","Retire","Retire","Retire","Retire","Retire","Retire","Retire","Retire","Retire","Retire","Retire","Retire","Retire","Retire","Retire","Retire","Retire","Retire","Retire","Retire","Retire","Retire","Retire","Retire","Retire","Retire","Retire","Retire","Retire","Retire","Retire","Retire","Retire","Retire","Retire","Retire","Retire","Retire","Retire","Retire","Retire","Retire","Retire","Retire","Retire","Retire","Retire","Retire","Retire","Retire","Retire","Retire","Retire","Retire","Retire",{"$f":"IF(EJ6,\"Const\",IF(EJ10,\"Ops\",\"Retire\"))","v":"Retire"},"Retire","Retire","Retire","Retire","Retire","Retire","Retire","Retire","Retire","Retire","Retire","Retire","Retire","Retire","Retire","Retire","Retire","Retire","Retire","Retire","Retire","Retire","Retire","Retire","Retire","Retire","Retire","Retire","Retire","Retire","Retire","Retire","Retire","Retire","Retire","Retire","Retire","Retire","Retire","Retire","Retire","Retire","Retire","Retire","Retire","Retire","Retire","Retire","Retire","Retire","Retire","Retire","Retire","Retire","Retire","Retire","Retire","Retire","Retire","Retire","Retire","Retire","Retire",{"$f":"IF(GV6,\"Const\",IF(GV10,\"Ops\",\"Retire\"))","v":"Retire"},"Retire","Retire","Retire","Retire","Retire","Retire","Retire","Retire","Retire","Retire","Retire","Retire","Retire","Retire","Retire","Retire","Retire","Retire","Retire","Retire","Retire","Retire","Retire","Retire","Retire","Retire","Retire","Retire","Retire","Retire","Retire","Retire","Retire","Retire","Retire","Retire","Retire","Retire","Retire","Retire","Retire","Retire","Retire","Retire","Retire","Retire","Retire","Retire","Retire","Retire","Retire","Retire","Retire","Retire","Retire","Retire","Retire","Retire","Retire","Retire","Retire","Retire","Retire",{"$f":"IF(JH6,\"Const\",IF(JH10,\"Ops\",\"Retire\"))","v":"Retire"},"Retire","Retire","Retire","Retire","Retire","Retire","Retire","Retire","Retire","Retire","Retire","Retire","Retire","Retire","Retire","Retire","Retire","Retire","Retire","Retire","Retire","Retire","Retire","Retire","Retire","Retire","Retire","Retire","Retire","Retire","Retire","Retire","Retire","Retire","Retire","Retire","Retire","Retire","Retire","Retire","Retire","Retire","Retire","Retire","Retire","Retire","Retire","Retire","Retire","Retire","Retire","Retire","Retire","Retire","Retire","Retire","Retire","Retire","Retire","Retire","Retire","Retire","Retire",{"$f":"IF(LT6,\"Const\",IF(LT10,\"Ops\",\"Retire\"))","v":"Retire"},"Retire","Retire","Retire","Retire","Retire","Retire","Retire","Retire","Retire","Retire","Retire","Retire","Retire","Retire","Retire","Retire","Retire","Retire","Retire","Retire","Retire","Retire","Retire","Retire","Retire","Retire","Retire","Retire","Retire","Retire","Retire","Retire","Retire","Retire","Retire","Retire","Retire","Retire","Retire","Retire","Retire","Retire","Retire","Retire","Retire","Retire","Retire","Retire","Retire","Retire","Retire","Retire","Retire","Retire","Retire","Retire","Retire","Retire","Retire","Retire","Retire","Retire","Retire",{"$f":"IF(OF6,\"Const\",IF(OF10,\"Ops\",\"Retire\"))","v":"Retire"},"Retire","Retire","Retire","Retire","Retire","Retire","Retire","Retire","Retire","Retire","Retire","Retire","Retire","Retire","Retire","Retire","Retire","Retire","Retire","Retire","Retire","Retire","Retire","Retire","Retire","Retire","Retire","Retire","Retire","Retire","Retire","Retire","Retire","Retire","Retire","Retire","Retire","Retire","Retire","Retire","Retire","Retire","Retire","Retire","Retire","Retire","Retire","Retire","Retire","Retire","Retire","Retire","Retire","Retire","Retire","Retire","Retire","Retire","Retire","Retire","Retire","Retire","Retire",{"$f":"IF(QR6,\"Const\",IF(QR10,\"Ops\",\"Retire\"))","v":"Retire"},"Retire","Retire","Retire","Retire","Retire","Retire","Retire","Retire","Retire","Retire","Retire","Retire","Retire","Retire","Retire","Retire","Retire","Retire","Retire","Retire","Retire","Retire","Retire","Retire","Retire","Retire","Retire","Retire","Retire","Retire","Retire","Retire","Retire","Retire","Retire","Retire","Retire"]
[]
[null,"Electricity Generation"]
[null,null,null,"Capacity","MWp",{"$f":"'Input C'!F15","v":130},null,null,"MWp",null,{"$f":"$F$14*K10","v":0},{"$f":"$F$14*L10","v":130},130,130,130,130,130,130,130,130,130,130,130,130,130,130,130,130,130,130,130,130,130,130,130,130,0,0,0,0,0,0,0,0,0,0,0,0,0,0,0,0,0,0,0,0,0,0,0,0,0,0,0,0,0,0,0,0,0,0,0,0,0,0,0,{"$f":"$F$14*BX10","v":0},0,0,0,0,0,0,0,0,0,0,0,0,0,0,0,0,0,0,0,0,0,0,0,0,0,0,0,0,0,0,0,0,0,0,0,0,0,0,0,0,0,0,0,0,0,0,0,0,0,0,0,0,0,0,0,0,0,0,0,0,0,0,0,{"$f":"$F$14*EJ10","v":0},0,0,0,0,0,0,0,0,0,0,0,0,0,0,0,0,0,0,0,0,{"$f":"$F$14*FE10","v":0},0,0,0,0,0,0,0,0,0,0,0,0,0,0,0,0,0,0,0,0,0,0,0,0,0,0,0,0,0,0,0,0,0,0,0,0,0,0,0,0,0,0,0,0,0,0,0,0,0,0,0,{"$f":"$F$14*HE10","v":0},0,0,0,0,0,0,0,0,0,0,0,0,0,0,0,0,0,0,0,0,0,0,0,0,0,0,0,0,0,0,0,0,0,0,0,0,0,0,0,0,0,0,0,0,0,0,0,0,0,0,0,0,0,0,0,0,0,0,0,0,0,0,0,{"$f":"$F$14*JQ10","v":0},0,0,0,0,0,0,0,0,0,0,0,0,0,0,0,0,0,0,0,0,0,0,0,0,0,{"$f":"$F$14*KQ10","v":0},0,0,0,0,0,0,0,0,0,0,0,0,0,0,0,0,0,0,0,0,0,0,0,0,0,0,0,0,0,{"$f":"$F$14*LU10","v":0},0,0,0,0,0,0,{"$f":"$F$14*MB10","v":0},0,0,0,0,0,0,0,0,0,0,0,0,0,0,0,0,0,0,{"$f":"$F$14*MU10","v":0},0,0,0,0,0,0,{"$f":"$F$14*NB10","v":0},0,0,0,0,0,0,0,0,0,0,0,0,0,0,{"$f":"$F$14*NQ10","v":0},0,0,0,0,0,0,0,0,0,0,0,0,0,0,0,0,0,0,0,0,0,0,0,0,0,0,0,0,0,0,0,0,0,0,0,0,0,0,0,0,0,0,0,0,0,0,0,0,0,0,0,0,0,0,0,0,0,0,0,0,0,0,0,{"$f":"$F$14*QC10","v":0},0,0,0,0,0,0,0,0,0,0,0,0,0,0,0,0,0,0,0,0,0,0,0,0,0,0,0,0,0,0,0,0,0,0,0,0,0,0,0,0,0,0,0,0,0,0,0,0,0,0,0,0]
[null,null,null,"Annual Yield","MWh/MWp",{"$f":"'Input C'!F20","v":1871.2},null,null,"MWh/MWp",null,{"$f":"$F$15*K10","v":0},{"$f":"$F$15*L10","v":1871.2},1871.2,1871.2,1871.2,1871.2,1871.2,1871.2,1871.2,1871.2,1871.2,1871.2,1871.2,1871.2,1871.2,1871.2,1871.2,1871.2,1871.2,1871.2,1871.2,1871.2,1871.2,1871.2,1871.2,1871.2,0,0,0,0,0,0,0,0,0,0,0,0,0,0,0,0,0,0,0,0,0,0,0,0,0,0,0,0,0,0,0,0,0,0,0,0,0,0,0,{"$f":"$F$15*BX10","v":0},0,0,0,0,0,0,0,0,0,0,0,0,0,0,0,0,0,0,0,0,0,0,0,0,0,0,0,0,0,0,0,0,0,0,0,0,0,0,0,0,0,0,0,0,0,0,0,0,0,0,0,0,0,0,0,0,0,0,0,0,0,0,0,{"$f":"$F$15*EJ10","v":0},0,0,0,0,0,0,0,0,0,0,0,0,0,0,0,0,0,0,0,0,{"$f":"$F$15*FE10","v":0},0,0,0,0,0,0,0,0,0,0,0,0,0,0,0,0,0,0,0,0,0,0,0,0,0,0,0,0,0,0,0,0,0,0,0,0,0,0,0,0,0,0,0,0,0,0,0,0,0,0,0,{"$f":"$F$15*HE10","v":0},0,0,0,0,0,0,0,0,0,0,0,0,0,0,0,0,0,0,0,0,0,0,0,0,0,0,0,0,0,0,0,0,0,0,0,0,0,0,0,0,0,0,0,0,0,0,0,0,0,0,0,0,0,0,0,0,0,0,0,0,0,0,0,{"$f":"$F$15*JQ10","v":0},0,0,0,0,0,0,0,0,0,0,0,0,0,0,0,0,0,0,0,0,0,0,0,0,0,{"$f":"$F$15*KQ10","v":0},0,0,0,0,0,0,0,0,0,0,0,0,0,0,0,0,0,0,0,0,0,0,0,0,0,0,0,0,0,{"$f":"$F$15*LU10","v":0},0,0,0,0,0,0,{"$f":"$F$15*MB10","v":0},0,0,0,0,0,0,0,0,0,0,0,0,0,0,0,0,0,0,{"$f":"$F$15*MU10","v":0},0,0,0,0,0,0,{"$f":"$F$15*NB10","v":0},0,0,0,0,0,0,0,0,0,0,0,0,0,0,{"$f":"$F$15*NQ10","v":0},0,0,0,0,0,0,0,0,0,0,0,0,0,0,0,0,0,0,0,0,0,0,0,0,0,0,0,0,0,0,0,0,0,0,0,0,0,0,0,0,0,0,0,0,0,0,0,0,0,0,0,0,0,0,0,0,0,0,0,0,0,0,0,{"$f":"$F$15*QC10","v":0},0,0,0,0,0,0,0,0,0,0,0,0,0,0,0,0,0,0,0,0,0,0,0,0,0,0,0,0,0,0,0,0,0,0,0,0,0,0,0,0,0,0,0,0,0,0,0,0,0,0,0,0]
[null,null,null,"Percentage of Year from InputS and UDF",null,null,null,null,"%",null,{"$f":"_xlfn.XLOOKUP(K9,'Input S'!55:55,'Input S'!73:73,0,-1)","v":1},{"$f":"_xlfn.XLOOKUP(L9,'Input S'!55:55,'Input S'!73:73,0,-1)","v":1},{"$f":"_xlfn.XLOOKUP(M9,'Input S'!55:55,'Input S'!73:73,0,-1)","v":1},{"$f":"_xlfn.XLOOKUP(N9,'Input S'!55:55,'Input S'!73:73,0,-1)","v":1},{"$f":"_xlfn.XLOOKUP(O9,'Input S'!55:55,'Input S'!73:73,0,-1)","v":1},{"$f":"_xlfn.XLOOKUP(P9,'Input S'!55:55,'Input S'!73:73,0,-1)","v":1},{"$f":"_xlfn.XLOOKUP(Q9,'Input S'!55:55,'Input S'!73:73,0,-1)","v":1},{"$f":"_xlfn.XLOOKUP(R9,'Input S'!55:55,'Input S'!73:73,0,-1)","v":1},{"$f":"_xlfn.XLOOKUP(S9,'Input S'!55:55,'Input S'!73:73,0,-1)","v":1},{"$f":"_xlfn.XLOOKUP(T9,'Input S'!55:55,'Input S'!73:73,0,-1)","v":1},{"$f":"_xlfn.XLOOKUP(U9,'Input S'!55:55,'Input S'!73:73,0,-1)","v":1},{"$f":"_xlfn.XLOOKUP(V9,'Input S'!55:55,'Input S'!73:73,0,-1)","v":1},{"$f":"_xlfn.XLOOKUP(W9,'Input S'!55:55,'Input S'!73:73,0,-1)","v":1},{"$f":"_xlfn.XLOOKUP(X9,'Input S'!55:55,'Input S'!73:73,0,-1)","v":1},{"$f":"_xlfn.XLOOKUP(Y9,'Input S'!55:55,'Input S'!73:73,0,-1)","v":1},{"$f":"_xlfn.XLOOKUP(Z9,'Input S'!55:55,'Input S'!73:73,0,-1)","v":1},{"$f":"_xlfn.XLOOKUP(AA9,'Input S'!55:55,'Input S'!73:73,0,-1)","v":1},{"$f":"_xlfn.XLOOKUP(AB9,'Input S'!55:55,'Input S'!73:73,0,-1)","v":1},{"$f":"_xlfn.XLOOKUP(AC9,'Input S'!55:55,'Input S'!73:73,0,-1)","v":1},{"$f":"_xlfn.XLOOKUP(AD9,'Input S'!55:55,'Input S'!73:73,0,-1)","v":1},{"$f":"_xlfn.XLOOKUP(AE9,'Input S'!55:55,'Input S'!73:73,0,-1)","v":1},{"$f":"_xlfn.XLOOKUP(AF9,'Input S'!55:55,'Input S'!73:73,0,-1)","v":1},{"$f":"_xlfn.XLOOKUP(AG9,'Input S'!55:55,'Input S'!73:73,0,-1)","v":1},{"$f":"_xlfn.XLOOKUP(AH9,'Input S'!55:55,'Input S'!73:73,0,-1)","v":1},{"$f":"_xlfn.XLOOKUP(AI9,'Input S'!55:55,'Input S'!73:73,0,-1)","v":1},{"$f":"_xlfn.XLOOKUP(AJ9,'Input S'!55:55,'Input S'!73:73,0,-1)","v":1},{"$f":"_xlfn.XLOOKUP(AK9,'Input S'!55:55,'Input S'!73:73,0,-1)","v":1},{"$f":"_xlfn.XLOOKUP(AL9,'Input S'!55:55,'Input S'!73:73,0,-1)","v":1},{"$f":"_xlfn.XLOOKUP(AM9,'Input S'!55:55,'Input S'!73:73,0,-1)","v":1},{"$f":"_xlfn.XLOOKUP(AN9,'Input S'!55:55,'Input S'!73:73,0,-1)","v":1},{"$f":"_xlfn.XLOOKUP(AO9,'Input S'!55:55,'Input S'!73:73,0,-1)","v":1},{"$f":"_xlfn.XLOOKUP(AP9,'Input S'!55:55,'Input S'!73:73,0,-1)","v":1},{"$f":"_xlfn.XLOOKUP(AQ9,'Input S'!55:55,'Input S'!73:73,0,-1)","v":1},{"$f":"_xlfn.XLOOKUP(AR9,'Input S'!55:55,'Input S'!73:73,0,-1)","v":1},{"$f":"_xlfn.XLOOKUP(AS9,'Input S'!55:55,'Input S'!73:73,0,-1)","v":1},{"$f":"_xlfn.XLOOKUP(AT9,'Input S'!55:55,'Input S'!73:73,0,-1)","v":1},{"$f":"_xlfn.XLOOKUP(AU9,'Input S'!55:55,'Input S'!73:73,0,-1)","v":1},{"$f":"_xlfn.XLOOKUP(AV9,'Input S'!55:55,'Input S'!73:73,0,-1)","v":1},{"$f":"_xlfn.XLOOKUP(AW9,'Input S'!55:55,'Input S'!73:73,0,-1)","v":1},{"$f":"_xlfn.XLOOKUP(AX9,'Input S'!55:55,'Input S'!73:73,0,-1)","v":1},{"$f":"_xlfn.XLOOKUP(AY9,'Input S'!55:55,'Input S'!73:73,0,-1)","v":1},{"$f":"_xlfn.XLOOKUP(AZ9,'Input S'!55:55,'Input S'!73:73,0,-1)","v":1},{"$f":"_xlfn.XLOOKUP(BA9,'Input S'!55:55,'Input S'!73:73,0,-1)","v":1},{"$f":"_xlfn.XLOOKUP(BB9,'Input S'!55:55,'Input S'!73:73,0,-1)","v":1},{"$f":"_xlfn.XLOOKUP(BC9,'Input S'!55:55,'Input S'!73:73,0,-1)","v":1},{"$f":"_xlfn.XLOOKUP(BD9,'Input S'!55:55,'Input S'!73:73,0,-1)","v":1},{"$f":"_xlfn.XLOOKUP(BE9,'Input S'!55:55,'Input S'!73:73,0,-1)","v":1},{"$f":"_xlfn.XLOOKUP(BF9,'Input S'!55:55,'Input S'!73:73,0,-1)","v":1},{"$f":"_xlfn.XLOOKUP(BG9,'Input S'!55:55,'Input S'!73:73,0,-1)","v":1},{"$f":"_xlfn.XLOOKUP(BH9,'Input S'!55:55,'Input S'!73:73,0,-1)","v":1},{"$f":"_xlfn.XLOOKUP(BI9,'Input S'!55:55,'Input S'!73:73,0,-1)","v":1},{"$f":"_xlfn.XLOOKUP(BJ9,'Input S'!55:55,'Input S'!73:73,0,-1)","v":1},{"$f":"_xlfn.XLOOKUP(BK9,'Input S'!55:55,'Input S'!73:73,0,-1)","v":1},{"$f":"_xlfn.XLOOKUP(BL9,'Input S'!55:55,'Input S'!73:73,0,-1)","v":1},{"$f":"_xlfn.XLOOKUP(BM9,'Input S'!55:55,'Input S'!73:73,0,-1)","v":1},{"$f":"_xlfn.XLOOKUP(BN9,'Input S'!55:55,'Input S'!73:73,0,-1)","v":1},{"$f":"_xlfn.XLOOKUP(BO9,'Input S'!55:55,'Input S'!73:73,0,-1)","v":1},{"$f":"_xlfn.XLOOKUP(BP9,'Input S'!55:55,'Input S'!73:73,0,-1)","v":1},{"$f":"_xlfn.XLOOKUP(BQ9,'Input S'!55:55,'Input S'!73:73,0,-1)","v":1},{"$f":"_xlfn.XLOOKUP(BR9,'Input S'!55:55,'Input S'!73:73,0,-1)","v":1},{"$f":"_xlfn.XLOOKUP(BS9,'Input S'!55:55,'Input S'!73:73,0,-1)","v":1},{"$f":"_xlfn.XLOOKUP(BT9,'Input S'!55:55,'Input S'!73:73,0,-1)","v":1},{"$f":"_xlfn.XLOOKUP(BU9,'Input S'!55:55,'Input S'!73:73,0,-1)","v":1},{"$f":"_xlfn.XLOOKUP(BV9,'Input S'!55:55,'Input S'!73:73,0,-1)","v":1},{"$f":"_xlfn.XLOOKUP(BW9,'Input S'!55:55,'Input S'!73:73,0,-1)","v":1},{"$f":"_xlfn.XLOOKUP(BX9,'Input S'!55:55,'Input S'!73:73,0,-1)","v":1},{"$f":"_xlfn.XLOOKUP(BY9,'Input S'!55:55,'Input S'!73:73,0,-1)","v":1},{"$f":"_xlfn.XLOOKUP(BZ9,'Input S'!55:55,'Input S'!73:73,0,-1)","v":1},{"$f":"_xlfn.XLOOKUP(CA9,'Input S'!55:55,'Input S'!73:73,0,-1)","v":1},{"$f":"_xlfn.XLOOKUP(CB9,'Input S'!55:55,'Input S'!73:73,0,-1)","v":1},{"$f":"_xlfn.XLOOKUP(CC9,'Input S'!55:55,'Input S'!73:73,0,-1)","v":1},{"$f":"_xlfn.XLOOKUP(CD9,'Input S'!55:55,'Input S'!73:73,0,-1)","v":1},{"$f":"_xlfn.XLOOKUP(CE9,'Input S'!55:55,'Input S'!73:73,0,-1)","v":1},{"$f":"_xlfn.XLOOKUP(CF9,'Input S'!55:55,'Input S'!73:73,0,-1)","v":1},{"$f":"_xlfn.XLOOKUP(CG9,'Input S'!55:55,'Input S'!73:73,0,-1)","v":1},{"$f":"_xlfn.XLOOKUP(CH9,'Input S'!55:55,'Input S'!73:73,0,-1)","v":1},{"$f":"_xlfn.XLOOKUP(CI9,'Input S'!55:55,'Input S'!73:73,0,-1)","v":1},{"$f":"_xlfn.XLOOKUP(CJ9,'Input S'!55:55,'Input S'!73:73,0,-1)","v":1},{"$f":"_xlfn.XLOOKUP(CK9,'Input S'!55:55,'Input S'!73:73,0,-1)","v":1},{"$f":"_xlfn.XLOOKUP(CL9,'Input S'!55:55,'Input S'!73:73,0,-1)","v":1},{"$f":"_xlfn.XLOOKUP(CM9,'Input S'!55:55,'Input S'!73:73,0,-1)","v":1},{"$f":"_xlfn.XLOOKUP(CN9,'Input S'!55:55,'Input S'!73:73,0,-1)","v":1},{"$f":"_xlfn.XLOOKUP(CO9,'Input S'!55:55,'Input S'!73:73,0,-1)","v":1},{"$f":"_xlfn.XLOOKUP(CP9,'Input S'!55:55,'Input S'!73:73,0,-1)","v":1},{"$f":"_xlfn.XLOOKUP(CQ9,'Input S'!55:55,'Input S'!73:73,0,-1)","v":1},{"$f":"_xlfn.XLOOKUP(CR9,'Input S'!55:55,'Input S'!73:73,0,-1)","v":1},{"$f":"_xlfn.XLOOKUP(CS9,'Input S'!55:55,'Input S'!73:73,0,-1)","v":1},{"$f":"_xlfn.XLOOKUP(CT9,'Input S'!55:55,'Input S'!73:73,0,-1)","v":1},{"$f":"_xlfn.XLOOKUP(CU9,'Input S'!55:55,'Input S'!73:73,0,-1)","v":1},{"$f":"_xlfn.XLOOKUP(CV9,'Input S'!55:55,'Input S'!73:73,0,-1)","v":1},{"$f":"_xlfn.XLOOKUP(CW9,'Input S'!55:55,'Input S'!73:73,0,-1)","v":1},{"$f":"_xlfn.XLOOKUP(CX9,'Input S'!55:55,'Input S'!73:73,0,-1)","v":1},{"$f":"_xlfn.XLOOKUP(CY9,'Input S'!55:55,'Input S'!73:73,0,-1)","v":1},{"$f":"_xlfn.XLOOKUP(CZ9,'Input S'!55:55,'Input S'!73:73,0,-1)","v":1},{"$f":"_xlfn.XLOOKUP(DA9,'Input S'!55:55,'Input S'!73:73,0,-1)","v":1},{"$f":"_xlfn.XLOOKUP(DB9,'Input S'!55:55,'Input S'!73:73,0,-1)","v":1},{"$f":"_xlfn.XLOOKUP(DC9,'Input S'!55:55,'Input S'!73:73,0,-1)","v":1},{"$f":"_xlfn.XLOOKUP(DD9,'Input S'!55:55,'Input S'!73:73,0,-1)","v":1},{"$f":"_xlfn.XLOOKUP(DE9,'Input S'!55:55,'Input S'!73:73,0,-1)","v":1},{"$f":"_xlfn.XLOOKUP(DF9,'Input S'!55:55,'Input S'!73:73,0,-1)","v":1},{"$f":"_xlfn.XLOOKUP(DG9,'Input S'!55:55,'Input S'!73:73,0,-1)","v":1},{"$f":"_xlfn.XLOOKUP(DH9,'Input S'!55:55,'Input S'!73:73,0,-1)","v":1},{"$f":"_xlfn.XLOOKUP(DI9,'Input S'!55:55,'Input S'!73:73,0,-1)","v":1},{"$f":"_xlfn.XLOOKUP(DJ9,'Input S'!55:55,'Input S'!73:73,0,-1)","v":1},{"$f":"_xlfn.XLOOKUP(DK9,'Input S'!55:55,'Input S'!73:73,0,-1)","v":1},{"$f":"_xlfn.XLOOKUP(DL9,'Input S'!55:55,'Input S'!73:73,0,-1)","v":1},{"$f":"_xlfn.XLOOKUP(DM9,'Input S'!55:55,'Input S'!73:73,0,-1)","v":1},{"$f":"_xlfn.XLOOKUP(DN9,'Input S'!55:55,'Input S'!73:73,0,-1)","v":1},{"$f":"_xlfn.XLOOKUP(DO9,'Input S'!55:55,'Input S'!73:73,0,-1)","v":1},{"$f":"_xlfn.XLOOKUP(DP9,'Input S'!55:55,'Input S'!73:73,0,-1)","v":1},{"$f":"_xlfn.XLOOKUP(DQ9,'Input S'!55:55,'Input S'!73:73,0,-1)","v":1},{"$f":"_xlfn.XLOOKUP(DR9,'Input S'!55:55,'Input S'!73:73,0,-1)","v":1},{"$f":"_xlfn.XLOOKUP(DS9,'Input S'!55:55,'Input S'!73:73,0,-1)","v":1},{"$f":"_xlfn.XLOOKUP(DT9,'Input S'!55:55,'Input S'!73:73,0,-1)","v":1},{"$f":"_xlfn.XLOOKUP(DU9,'Input S'!55:55,'Input S'!73:73,0,-1)","v":1},{"$f":"_xlfn.XLOOKUP(DV9,'Input S'!55:55,'Input S'!73:73,0,-1)","v":1},{"$f":"_xlfn.XLOOKUP(DW9,'Input S'!55:55,'Input S'!73:73,0,-1)","v":1},{"$f":"_xlfn.XLOOKUP(DX9,'Input S'!55:55,'Input S'!73:73,0,-1)","v":1},{"$f":"_xlfn.XLOOKUP(DY9,'Input S'!55:55,'Input S'!73:73,0,-1)","v":1},{"$f":"_xlfn.XLOOKUP(DZ9,'Input S'!55:55,'Input S'!73:73,0,-1)","v":1},{"$f":"_xlfn.XLOOKUP(EA9,'Input S'!55:55,'Input S'!73:73,0,-1)","v":1},{"$f":"_xlfn.XLOOKUP(EB9,'Input S'!55:55,'Input S'!73:73,0,-1)","v":1},{"$f":"_xlfn.XLOOKUP(EC9,'Input S'!55:55,'Input S'!73:73,0,-1)","v":1},{"$f":"_xlfn.XLOOKUP(ED9,'Input S'!55:55,'Input S'!73:73,0,-1)","v":1},{"$f":"_xlfn.XLOOKUP(EE9,'Input S'!55:55,'Input S'!73:73,0,-1)","v":1},{"$f":"_xlfn.XLOOKUP(EF9,'Input S'!55:55,'Input S'!73:73,0,-1)","v":1},{"$f":"_xlfn.XLOOKUP(EG9,'Input S'!55:55,'Input S'!73:73,0,-1)","v":1},{"$f":"_xlfn.XLOOKUP(EH9,'Input S'!55:55,'Input S'!73:73,0,-1)","v":1},{"$f":"_xlfn.XLOOKUP(EI9,'Input S'!55:55,'Input S'!73:73,0,-1)","v":1},{"$f":"_xlfn.XLOOKUP(EJ9,'Input S'!55:55,'Input S'!73:73,0,-1)","v":1},{"$f":"_xlfn.XLOOKUP(EK9,'Input S'!55:55,'Input S'!73:73,0,-1)","v":1},{"$f":"_xlfn.XLOOKUP(EL9,'Input S'!55:55,'Input S'!73:73,0,-1)","v":1},{"$f":"_xlfn.XLOOKUP(EM9,'Input S'!55:55,'Input S'!73:73,0,-1)","v":1},{"$f":"_xlfn.XLOOKUP(EN9,'Input S'!55:55,'Input S'!73:73,0,-1)","v":1},{"$f":"_xlfn.XLOOKUP(EO9,'Input S'!55:55,'Input S'!73:73,0,-1)","v":1},{"$f":"_xlfn.XLOOKUP(EP9,'Input S'!55:55,'Input S'!73:73,0,-1)","v":1},{"$f":"_xlfn.XLOOKUP(EQ9,'Input S'!55:55,'Input S'!73:73,0,-1)","v":1},{"$f":"_xlfn.XLOOKUP(ER9,'Input S'!55:55,'Input S'!73:73,0,-1)","v":1},{"$f":"_xlfn.XLOOKUP(ES9,'Input S'!55:55,'Input S'!73:73,0,-1)","v":1},{"$f":"_xlfn.XLOOKUP(ET9,'Input S'!55:55,'Input S'!73:73,0,-1)","v":1},{"$f":"_xlfn.XLOOKUP(EU9,'Input S'!55:55,'Input S'!73:73,0,-1)","v":1},{"$f":"_xlfn.XLOOKUP(EV9,'Input S'!55:55,'Input S'!73:73,0,-1)","v":1},{"$f":"_xlfn.XLOOKUP(EW9,'Input S'!55:55,'Input S'!73:73,0,-1)","v":1},{"$f":"_xlfn.XLOOKUP(EX9,'Input S'!55:55,'Input S'!73:73,0,-1)","v":1},{"$f":"_xlfn.XLOOKUP(EY9,'Input S'!55:55,'Input S'!73:73,0,-1)","v":1},{"$f":"_xlfn.XLOOKUP(EZ9,'Input S'!55:55,'Input S'!73:73,0,-1)","v":1},{"$f":"_xlfn.XLOOKUP(FA9,'Input S'!55:55,'Input S'!73:73,0,-1)","v":1},{"$f":"_xlfn.XLOOKUP(FB9,'Input S'!55:55,'Input S'!73:73,0,-1)","v":1},{"$f":"_xlfn.XLOOKUP(FC9,'Input S'!55:55,'Input S'!73:73,0,-1)","v":1},{"$f":"_xlfn.XLOOKUP(FD9,'Input S'!55:55,'Input S'!73:73,0,-1)","v":1},{"$f":"_xlfn.XLOOKUP(FE9,'Input S'!55:55,'Input S'!73:73,0,-1)","v":1},{"$f":"_xlfn.XLOOKUP(FF9,'Input S'!55:55,'Input S'!73:73,0,-1)","v":1},{"$f":"_xlfn.XLOOKUP(FG9,'Input S'!55:55,'Input S'!73:73,0,-1)","v":1},{"$f":"_xlfn.XLOOKUP(FH9,'Input S'!55:55,'Input S'!73:73,0,-1)","v":1},{"$f":"_xlfn.XLOOKUP(FI9,'Input S'!55:55,'Input S'!73:73,0,-1)","v":1},{"$f":"_xlfn.XLOOKUP(FJ9,'Input S'!55:55,'Input S'!73:73,0,-1)","v":1},{"$f":"_xlfn.XLOOKUP(FK9,'Input S'!55:55,'Input S'!73:73,0,-1)","v":1},{"$f":"_xlfn.XLOOKUP(FL9,'Input S'!55:55,'Input S'!73:73,0,-1)","v":1},{"$f":"_xlfn.XLOOKUP(FM9,'Input S'!55:55,'Input S'!73:73,0,-1)","v":1},{"$f":"_xlfn.XLOOKUP(FN9,'Input S'!55:55,'Input S'!73:73,0,-1)","v":1},{"$f":"_xlfn.XLOOKUP(FO9,'Input S'!55:55,'Input S'!73:73,0,-1)","v":1},{"$f":"_xlfn.XLOOKUP(FP9,'Input S'!55:55,'Input S'!73:73,0,-1)","v":1},{"$f":"_xlfn.XLOOKUP(FQ9,'Input S'!55:55,'Input S'!73:73,0,-1)","v":1},{"$f":"_xlfn.XLOOKUP(FR9,'Input S'!55:55,'Input S'!73:73,0,-1)","v":1},{"$f":"_xlfn.XLOOKUP(FS9,'Input S'!55:55,'Input S'!73:73,0,-1)","v":1},{"$f":"_xlfn.XLOOKUP(FT9,'Input S'!55:55,'Input S'!73:73,0,-1)","v":1},{"$f":"_xlfn.XLOOKUP(FU9,'Input S'!55:55,'Input S'!73:73,0,-1)","v":1},{"$f":"_xlfn.XLOOKUP(FV9,'Input S'!55:55,'Input S'!73:73,0,-1)","v":1},{"$f":"_xlfn.XLOOKUP(FW9,'Input S'!55:55,'Input S'!73:73,0,-1)","v":1},{"$f":"_xlfn.XLOOKUP(FX9,'Input S'!55:55,'Input S'!73:73,0,-1)","v":1},{"$f":"_xlfn.XLOOKUP(FY9,'Input S'!55:55,'Input S'!73:73,0,-1)","v":1},{"$f":"_xlfn.XLOOKUP(FZ9,'Input S'!55:55,'Input S'!73:73,0,-1)","v":1},{"$f":"_xlfn.XLOOKUP(GA9,'Input S'!55:55,'Input S'!73:73,0,-1)","v":1},{"$f":"_xlfn.XLOOKUP(GB9,'Input S'!55:55,'Input S'!73:73,0,-1)","v":1},{"$f":"_xlfn.XLOOKUP(GC9,'Input S'!55:55,'Input S'!73:73,0,-1)","v":1},{"$f":"_xlfn.XLOOKUP(GD9,'Input S'!55:55,'Input S'!73:73,0,-1)","v":1},{"$f":"_xlfn.XLOOKUP(GE9,'Input S'!55:55,'Input S'!73:73,0,-1)","v":1},{"$f":"_xlfn.XLOOKUP(GF9,'Input S'!55:55,'Input S'!73:73,0,-1)","v":1},{"$f":"_xlfn.XLOOKUP(GG9,'Input S'!55:55,'Input S'!73:73,0,-1)","v":1},{"$f":"_xlfn.XLOOKUP(GH9,'Input S'!55:55,'Input S'!73:73,0,-1)","v":1},{"$f":"_xlfn.XLOOKUP(GI9,'Input S'!55:55,'Input S'!73:73,0,-1)","v":1},{"$f":"_xlfn.XLOOKUP(GJ9,'Input S'!55:55,'Input S'!73:73,0,-1)","v":1},{"$f":"_xlfn.XLOOKUP(GK9,'Input S'!55:55,'Input S'!73:73,0,-1)","v":1},{"$f":"_xlfn.XLOOKUP(GL9,'Input S'!55:55,'Input S'!73:73,0,-1)","v":1},{"$f":"_xlfn.XLOOKUP(GM9,'Input S'!55:55,'Input S'!73:73,0,-1)","v":1},{"$f":"_xlfn.XLOOKUP(GN9,'Input S'!55:55,'Input S'!73:73,0,-1)","v":1},{"$f":"_xlfn.XLOOKUP(GO9,'Input S'!55:55,'Input S'!73:73,0,-1)","v":1},{"$f":"_xlfn.XLOOKUP(GP9,'Input S'!55:55,'Input S'!73:73,0,-1)","v":1},{"$f":"_xlfn.XLOOKUP(GQ9,'Input S'!55:55,'Input S'!73:73,0,-1)","v":1},{"$f":"_xlfn.XLOOKUP(GR9,'Input S'!55:55,'Input S'!73:73,0,-1)","v":1},{"$f":"_xlfn.XLOOKUP(GS9,'Input S'!55:55,'Input S'!73:73,0,-1)","v":1},{"$f":"_xlfn.XLOOKUP(GT9,'Input S'!55:55,'Input S'!73:73,0,-1)","v":1},{"$f":"_xlfn.XLOOKUP(GU9,'Input S'!55:55,'Input S'!73:73,0,-1)","v":1},{"$f":"_xlfn.XLOOKUP(GV9,'Input S'!55:55,'Input S'!73:73,0,-1)","v":1},{"$f":"_xlfn.XLOOKUP(GW9,'Input S'!55:55,'Input S'!73:73,0,-1)","v":1},{"$f":"_xlfn.XLOOKUP(GX9,'Input S'!55:55,'Input S'!73:73,0,-1)","v":1},{"$f":"_xlfn.XLOOKUP(GY9,'Input S'!55:55,'Input S'!73:73,0,-1)","v":1},{"$f":"_xlfn.XLOOKUP(GZ9,'Input S'!55:55,'Input S'!73:73,0,-1)","v":1},{"$f":"_xlfn.XLOOKUP(HA9,'Input S'!55:55,'Input S'!73:73,0,-1)","v":1},{"$f":"_xlfn.XLOOKUP(HB9,'Input S'!55:55,'Input S'!73:73,0,-1)","v":1},{"$f":"_xlfn.XLOOKUP(HC9,'Input S'!55:55,'Input S'!73:73,0,-1)","v":1},{"$f":"_xlfn.XLOOKUP(HD9,'Input S'!55:55,'Input S'!73:73,0,-1)","v":1},{"$f":"_xlfn.XLOOKUP(HE9,'Input S'!55:55,'Input S'!73:73,0,-1)","v":1},{"$f":"_xlfn.XLOOKUP(HF9,'Input S'!55:55,'Input S'!73:73,0,-1)","v":1},{"$f":"_xlfn.XLOOKUP(HG9,'Input S'!55:55,'Input S'!73:73,0,-1)","v":1},{"$f":"_xlfn.XLOOKUP(HH9,'Input S'!55:55,'Input S'!73:73,0,-1)","v":1},{"$f":"_xlfn.XLOOKUP(HI9,'Input S'!55:55,'Input S'!73:73,0,-1)","v":1},{"$f":"_xlfn.XLOOKUP(HJ9,'Input S'!55:55,'Input S'!73:73,0,-1)","v":1},{"$f":"_xlfn.XLOOKUP(HK9,'Input S'!55:55,'Input S'!73:73,0,-1)","v":1},{"$f":"_xlfn.XLOOKUP(HL9,'Input S'!55:55,'Input S'!73:73,0,-1)","v":1},{"$f":"_xlfn.XLOOKUP(HM9,'Input S'!55:55,'Input S'!73:73,0,-1)","v":1},{"$f":"_xlfn.XLOOKUP(HN9,'Input S'!55:55,'Input S'!73:73,0,-1)","v":1},{"$f":"_xlfn.XLOOKUP(HO9,'Input S'!55:55,'Input S'!73:73,0,-1)","v":1},{"$f":"_xlfn.XLOOKUP(HP9,'Input S'!55:55,'Input S'!73:73,0,-1)","v":1},{"$f":"_xlfn.XLOOKUP(HQ9,'Input S'!55:55,'Input S'!73:73,0,-1)","v":1},{"$f":"_xlfn.XLOOKUP(HR9,'Input S'!55:55,'Input S'!73:73,0,-1)","v":1},{"$f":"_xlfn.XLOOKUP(HS9,'Input S'!55:55,'Input S'!73:73,0,-1)","v":1},{"$f":"_xlfn.XLOOKUP(HT9,'Input S'!55:55,'Input S'!73:73,0,-1)","v":1},{"$f":"_xlfn.XLOOKUP(HU9,'Input S'!55:55,'Input S'!73:73,0,-1)","v":1},{"$f":"_xlfn.XLOOKUP(HV9,'Input S'!55:55,'Input S'!73:73,0,-1)","v":1},{"$f":"_xlfn.XLOOKUP(HW9,'Input S'!55:55,'Input S'!73:73,0,-1)","v":1},{"$f":"_xlfn.XLOOKUP(HX9,'Input S'!55:55,'Input S'!73:73,0,-1)","v":1},{"$f":"_xlfn.XLOOKUP(HY9,'Input S'!55:55,'Input S'!73:73,0,-1)","v":1},{"$f":"_xlfn.XLOOKUP(HZ9,'Input S'!55:55,'Input S'!73:73,0,-1)","v":1},{"$f":"_xlfn.XLOOKUP(IA9,'Input S'!55:55,'Input S'!73:73,0,-1)","v":1},{"$f":"_xlfn.XLOOKUP(IB9,'Input S'!55:55,'Input S'!73:73,0,-1)","v":1},{"$f":"_xlfn.XLOOKUP(IC9,'Input S'!55:55,'Input S'!73:73,0,-1)","v":1},{"$f":"_xlfn.XLOOKUP(ID9,'Input S'!55:55,'Input S'!73:73,0,-1)","v":1},{"$f":"_xlfn.XLOOKUP(IE9,'Input S'!55:55,'Input S'!73:73,0,-1)","v":1},{"$f":"_xlfn.XLOOKUP(IF9,'Input S'!55:55,'Input S'!73:73,0,-1)","v":1},{"$f":"_xlfn.XLOOKUP(IG9,'Input S'!55:55,'Input S'!73:73,0,-1)","v":1},{"$f":"_xlfn.XLOOKUP(IH9,'Input S'!55:55,'Input S'!73:73,0,-1)","v":1},{"$f":"_xlfn.XLOOKUP(II9,'Input S'!55:55,'Input S'!73:73,0,-1)","v":1},{"$f":"_xlfn.XLOOKUP(IJ9,'Input S'!55:55,'Input S'!73:73,0,-1)","v":1},{"$f":"_xlfn.XLOOKUP(IK9,'Input S'!55:55,'Input S'!73:73,0,-1)","v":1},{"$f":"_xlfn.XLOOKUP(IL9,'Input S'!55:55,'Input S'!73:73,0,-1)","v":1},{"$f":"_xlfn.XLOOKUP(IM9,'Input S'!55:55,'Input S'!73:73,0,-1)","v":1},{"$f":"_xlfn.XLOOKUP(IN9,'Input S'!55:55,'Input S'!73:73,0,-1)","v":1},{"$f":"_xlfn.XLOOKUP(IO9,'Input S'!55:55,'Input S'!73:73,0,-1)","v":1},{"$f":"_xlfn.XLOOKUP(IP9,'Input S'!55:55,'Input S'!73:73,0,-1)","v":1},{"$f":"_xlfn.XLOOKUP(IQ9,'Input S'!55:55,'Input S'!73:73,0,-1)","v":1},{"$f":"_xlfn.XLOOKUP(IR9,'Input S'!55:55,'Input S'!73:73,0,-1)","v":1},{"$f":"_xlfn.XLOOKUP(IS9,'Input S'!55:55,'Input S'!73:73,0,-1)","v":1},{"$f":"_xlfn.XLOOKUP(IT9,'Input S'!55:55,'Input S'!73:73,0,-1)","v":1},{"$f":"_xlfn.XLOOKUP(IU9,'Input S'!55:55,'Input S'!73:73,0,-1)","v":1},{"$f":"_xlfn.XLOOKUP(IV9,'Input S'!55:55,'Input S'!73:73,0,-1)","v":1},{"$f":"_xlfn.XLOOKUP(IW9,'Input S'!55:55,'Input S'!73:73,0,-1)","v":1},{"$f":"_xlfn.XLOOKUP(IX9,'Input S'!55:55,'Input S'!73:73,0,-1)","v":1},{"$f":"_xlfn.XLOOKUP(IY9,'Input S'!55:55,'Input S'!73:73,0,-1)","v":1},{"$f":"_xlfn.XLOOKUP(IZ9,'Input S'!55:55,'Input S'!73:73,0,-1)","v":1},{"$f":"_xlfn.XLOOKUP(JA9,'Input S'!55:55,'Input S'!73:73,0,-1)","v":1},{"$f":"_xlfn.XLOOKUP(JB9,'Input S'!55:55,'Input S'!73:73,0,-1)","v":1},{"$f":"_xlfn.XLOOKUP(JC9,'Input S'!55:55,'Input S'!73:73,0,-1)","v":1},{"$f":"_xlfn.XLOOKUP(JD9,'Input S'!55:55,'Input S'!73:73,0,-1)","v":1},{"$f":"_xlfn.XLOOKUP(JE9,'Input S'!55:55,'Input S'!73:73,0,-1)","v":1},{"$f":"_xlfn.XLOOKUP(JF9,'Input S'!55:55,'Input S'!73:73,0,-1)","v":1},{"$f":"_xlfn.XLOOKUP(JG9,'Input S'!55:55,'Input S'!73:73,0,-1)","v":1},{"$f":"_xlfn.XLOOKUP(JH9,'Input S'!55:55,'Input S'!73:73,0,-1)","v":1},{"$f":"_xlfn.XLOOKUP(JI9,'Input S'!55:55,'Input S'!73:73,0,-1)","v":1},{"$f":"_xlfn.XLOOKUP(JJ9,'Input S'!55:55,'Input S'!73:73,0,-1)","v":1},{"$f":"_xlfn.XLOOKUP(JK9,'Input S'!55:55,'Input S'!73:73,0,-1)","v":1},{"$f":"_xlfn.XLOOKUP(JL9,'Input S'!55:55,'Input S'!73:73,0,-1)","v":1},{"$f":"_xlfn.XLOOKUP(JM9,'Input S'!55:55,'Input S'!73:73,0,-1)","v":1},{"$f":"_xlfn.XLOOKUP(JN9,'Input S'!55:55,'Input S'!73:73,0,-1)","v":1},{"$f":"_xlfn.XLOOKUP(JO9,'Input S'!55:55,'Input S'!73:73,0,-1)","v":1},{"$f":"_xlfn.XLOOKUP(JP9,'Input S'!55:55,'Input S'!73:73,0,-1)","v":1},{"$f":"_xlfn.XLOOKUP(JQ9,'Input S'!55:55,'Input S'!73:73,0,-1)","v":1},{"$f":"_xlfn.XLOOKUP(JR9,'Input S'!55:55,'Input S'!73:73,0,-1)","v":1},{"$f":"_xlfn.XLOOKUP(JS9,'Input S'!55:55,'Input S'!73:73,0,-1)","v":1},{"$f":"_xlfn.XLOOKUP(JT9,'Input S'!55:55,'Input S'!73:73,0,-1)","v":1},{"$f":"_xlfn.XLOOKUP(JU9,'Input S'!55:55,'Input S'!73:73,0,-1)","v":1},{"$f":"_xlfn.XLOOKUP(JV9,'Input S'!55:55,'Input S'!73:73,0,-1)","v":1},{"$f":"_xlfn.XLOOKUP(JW9,'Input S'!55:55,'Input S'!73:73,0,-1)","v":1},{"$f":"_xlfn.XLOOKUP(JX9,'Input S'!55:55,'Input S'!73:73,0,-1)","v":1},{"$f":"_xlfn.XLOOKUP(JY9,'Input S'!55:55,'Input S'!73:73,0,-1)","v":1},{"$f":"_xlfn.XLOOKUP(JZ9,'Input S'!55:55,'Input S'!73:73,0,-1)","v":1},{"$f":"_xlfn.XLOOKUP(KA9,'Input S'!55:55,'Input S'!73:73,0,-1)","v":1},{"$f":"_xlfn.XLOOKUP(KB9,'Input S'!55:55,'Input S'!73:73,0,-1)","v":1},{"$f":"_xlfn.XLOOKUP(KC9,'Input S'!55:55,'Input S'!73:73,0,-1)","v":1},{"$f":"_xlfn.XLOOKUP(KD9,'Input S'!55:55,'Input S'!73:73,0,-1)","v":1},{"$f":"_xlfn.XLOOKUP(KE9,'Input S'!55:55,'Input S'!73:73,0,-1)","v":1},{"$f":"_xlfn.XLOOKUP(KF9,'Input S'!55:55,'Input S'!73:73,0,-1)","v":1},{"$f":"_xlfn.XLOOKUP(KG9,'Input S'!55:55,'Input S'!73:73,0,-1)","v":1},{"$f":"_xlfn.XLOOKUP(KH9,'Input S'!55:55,'Input S'!73:73,0,-1)","v":1},{"$f":"_xlfn.XLOOKUP(KI9,'Input S'!55:55,'Input S'!73:73,0,-1)","v":1},{"$f":"_xlfn.XLOOKUP(KJ9,'Input S'!55:55,'Input S'!73:73,0,-1)","v":1},{"$f":"_xlfn.XLOOKUP(KK9,'Input S'!55:55,'Input S'!73:73,0,-1)","v":1},{"$f":"_xlfn.XLOOKUP(KL9,'Input S'!55:55,'Input S'!73:73,0,-1)","v":1},{"$f":"_xlfn.XLOOKUP(KM9,'Input S'!55:55,'Input S'!73:73,0,-1)","v":1},{"$f":"_xlfn.XLOOKUP(KN9,'Input S'!55:55,'Input S'!73:73,0,-1)","v":1},{"$f":"_xlfn.XLOOKUP(KO9,'Input S'!55:55,'Input S'!73:73,0,-1)","v":1},{"$f":"_xlfn.XLOOKUP(KP9,'Input S'!55:55,'Input S'!73:73,0,-1)","v":1},{"$f":"_xlfn.XLOOKUP(KQ9,'Input S'!55:55,'Input S'!73:73,0,-1)","v":1},{"$f":"_xlfn.XLOOKUP(KR9,'Input S'!55:55,'Input S'!73:73,0,-1)","v":1},{"$f":"_xlfn.XLOOKUP(KS9,'Input S'!55:55,'Input S'!73:73,0,-1)","v":1},{"$f":"_xlfn.XLOOKUP(KT9,'Input S'!55:55,'Input S'!73:73,0,-1)","v":1},{"$f":"_xlfn.XLOOKUP(KU9,'Input S'!55:55,'Input S'!73:73,0,-1)","v":1},{"$f":"_xlfn.XLOOKUP(KV9,'Input S'!55:55,'Input S'!73:73,0,-1)","v":1},{"$f":"_xlfn.XLOOKUP(KW9,'Input S'!55:55,'Input S'!73:73,0,-1)","v":1},{"$f":"_xlfn.XLOOKUP(KX9,'Input S'!55:55,'Input S'!73:73,0,-1)","v":1},{"$f":"_xlfn.XLOOKUP(KY9,'Input S'!55:55,'Input S'!73:73,0,-1)","v":1},{"$f":"_xlfn.XLOOKUP(KZ9,'Input S'!55:55,'Input S'!73:73,0,-1)","v":1},{"$f":"_xlfn.XLOOKUP(LA9,'Input S'!55:55,'Input S'!73:73,0,-1)","v":1},{"$f":"_xlfn.XLOOKUP(LB9,'Input S'!55:55,'Input S'!73:73,0,-1)","v":1},{"$f":"_xlfn.XLOOKUP(LC9,'Input S'!55:55,'Input S'!73:73,0,-1)","v":1},{"$f":"_xlfn.XLOOKUP(LD9,'Input S'!55:55,'Input S'!73:73,0,-1)","v":1},{"$f":"_xlfn.XLOOKUP(LE9,'Input S'!55:55,'Input S'!73:73,0,-1)","v":1},{"$f":"_xlfn.XLOOKUP(LF9,'Input S'!55:55,'Input S'!73:73,0,-1)","v":1},{"$f":"_xlfn.XLOOKUP(LG9,'Input S'!55:55,'Input S'!73:73,0,-1)","v":1},{"$f":"_xlfn.XLOOKUP(LH9,'Input S'!55:55,'Input S'!73:73,0,-1)","v":1},{"$f":"_xlfn.XLOOKUP(LI9,'Input S'!55:55,'Input S'!73:73,0,-1)","v":1},{"$f":"_xlfn.XLOOKUP(LJ9,'Input S'!55:55,'Input S'!73:73,0,-1)","v":1},{"$f":"_xlfn.XLOOKUP(LK9,'Input S'!55:55,'Input S'!73:73,0,-1)","v":1},{"$f":"_xlfn.XLOOKUP(LL9,'Input S'!55:55,'Input S'!73:73,0,-1)","v":1},{"$f":"_xlfn.XLOOKUP(LM9,'Input S'!55:55,'Input S'!73:73,0,-1)","v":1},{"$f":"_xlfn.XLOOKUP(LN9,'Input S'!55:55,'Input S'!73:73,0,-1)","v":1},{"$f":"_xlfn.XLOOKUP(LO9,'Input S'!55:55,'Input S'!73:73,0,-1)","v":1},{"$f":"_xlfn.XLOOKUP(LP9,'Input S'!55:55,'Input S'!73:73,0,-1)","v":1},{"$f":"_xlfn.XLOOKUP(LQ9,'Input S'!55:55,'Input S'!73:73,0,-1)","v":1},{"$f":"_xlfn.XLOOKUP(LR9,'Input S'!55:55,'Input S'!73:73,0,-1)","v":1},{"$f":"_xlfn.XLOOKUP(LS9,'Input S'!55:55,'Input S'!73:73,0,-1)","v":1},{"$f":"_xlfn.XLOOKUP(LT9,'Input S'!55:55,'Input S'!73:73,0,-1)","v":1},{"$f":"_xlfn.XLOOKUP(LU9,'Input S'!55:55,'Input S'!73:73,0,-1)","v":1},{"$f":"_xlfn.XLOOKUP(LV9,'Input S'!55:55,'Input S'!73:73,0,-1)","v":1},{"$f":"_xlfn.XLOOKUP(LW9,'Input S'!55:55,'Input S'!73:73,0,-1)","v":1},{"$f":"_xlfn.XLOOKUP(LX9,'Input S'!55:55,'Input S'!73:73,0,-1)","v":1},{"$f":"_xlfn.XLOOKUP(LY9,'Input S'!55:55,'Input S'!73:73,0,-1)","v":1},{"$f":"_xlfn.XLOOKUP(LZ9,'Input S'!55:55,'Input S'!73:73,0,-1)","v":1},{"$f":"_xlfn.XLOOKUP(MA9,'Input S'!55:55,'Input S'!73:73,0,-1)","v":1},{"$f":"_xlfn.XLOOKUP(MB9,'Input S'!55:55,'Input S'!73:73,0,-1)","v":1},{"$f":"_xlfn.XLOOKUP(MC9,'Input S'!55:55,'Input S'!73:73,0,-1)","v":1},{"$f":"_xlfn.XLOOKUP(MD9,'Input S'!55:55,'Input S'!73:73,0,-1)","v":1},{"$f":"_xlfn.XLOOKUP(ME9,'Input S'!55:55,'Input S'!73:73,0,-1)","v":1},{"$f":"_xlfn.XLOOKUP(MF9,'Input S'!55:55,'Input S'!73:73,0,-1)","v":1},{"$f":"_xlfn.XLOOKUP(MG9,'Input S'!55:55,'Input S'!73:73,0,-1)","v":1},{"$f":"_xlfn.XLOOKUP(MH9,'Input S'!55:55,'Input S'!73:73,0,-1)","v":1},{"$f":"_xlfn.XLOOKUP(MI9,'Input S'!55:55,'Input S'!73:73,0,-1)","v":1},{"$f":"_xlfn.XLOOKUP(MJ9,'Input S'!55:55,'Input S'!73:73,0,-1)","v":1},{"$f":"_xlfn.XLOOKUP(MK9,'Input S'!55:55,'Input S'!73:73,0,-1)","v":1},{"$f":"_xlfn.XLOOKUP(ML9,'Input S'!55:55,'Input S'!73:73,0,-1)","v":1},{"$f":"_xlfn.XLOOKUP(MM9,'Input S'!55:55,'Input S'!73:73,0,-1)","v":1},{"$f":"_xlfn.XLOOKUP(MN9,'Input S'!55:55,'Input S'!73:73,0,-1)","v":1},{"$f":"_xlfn.XLOOKUP(MO9,'Input S'!55:55,'Input S'!73:73,0,-1)","v":1},{"$f":"_xlfn.XLOOKUP(MP9,'Input S'!55:55,'Input S'!73:73,0,-1)","v":1},{"$f":"_xlfn.XLOOKUP(MQ9,'Input S'!55:55,'Input S'!73:73,0,-1)","v":1},{"$f":"_xlfn.XLOOKUP(MR9,'Input S'!55:55,'Input S'!73:73,0,-1)","v":1},{"$f":"_xlfn.XLOOKUP(MS9,'Input S'!55:55,'Input S'!73:73,0,-1)","v":1},{"$f":"_xlfn.XLOOKUP(MT9,'Input S'!55:55,'Input S'!73:73,0,-1)","v":1},{"$f":"_xlfn.XLOOKUP(MU9,'Input S'!55:55,'Input S'!73:73,0,-1)","v":1},{"$f":"_xlfn.XLOOKUP(MV9,'Input S'!55:55,'Input S'!73:73,0,-1)","v":1},{"$f":"_xlfn.XLOOKUP(MW9,'Input S'!55:55,'Input S'!73:73,0,-1)","v":1},{"$f":"_xlfn.XLOOKUP(MX9,'Input S'!55:55,'Input S'!73:73,0,-1)","v":1},{"$f":"_xlfn.XLOOKUP(MY9,'Input S'!55:55,'Input S'!73:73,0,-1)","v":1},{"$f":"_xlfn.XLOOKUP(MZ9,'Input S'!55:55,'Input S'!73:73,0,-1)","v":1},{"$f":"_xlfn.XLOOKUP(NA9,'Input S'!55:55,'Input S'!73:73,0,-1)","v":1},{"$f":"_xlfn.XLOOKUP(NB9,'Input S'!55:55,'Input S'!73:73,0,-1)","v":1},{"$f":"_xlfn.XLOOKUP(NC9,'Input S'!55:55,'Input S'!73:73,0,-1)","v":1},{"$f":"_xlfn.XLOOKUP(ND9,'Input S'!55:55,'Input S'!73:73,0,-1)","v":1},{"$f":"_xlfn.XLOOKUP(NE9,'Input S'!55:55,'Input S'!73:73,0,-1)","v":1},{"$f":"_xlfn.XLOOKUP(NF9,'Input S'!55:55,'Input S'!73:73,0,-1)","v":1},{"$f":"_xlfn.XLOOKUP(NG9,'Input S'!55:55,'Input S'!73:73,0,-1)","v":1},{"$f":"_xlfn.XLOOKUP(NH9,'Input S'!55:55,'Input S'!73:73,0,-1)","v":1},{"$f":"_xlfn.XLOOKUP(NI9,'Input S'!55:55,'Input S'!73:73,0,-1)","v":1},{"$f":"_xlfn.XLOOKUP(NJ9,'Input S'!55:55,'Input S'!73:73,0,-1)","v":1},{"$f":"_xlfn.XLOOKUP(NK9,'Input S'!55:55,'Input S'!73:73,0,-1)","v":1},{"$f":"_xlfn.XLOOKUP(NL9,'Input S'!55:55,'Input S'!73:73,0,-1)","v":1},{"$f":"_xlfn.XLOOKUP(NM9,'Input S'!55:55,'Input S'!73:73,0,-1)","v":1},{"$f":"_xlfn.XLOOKUP(NN9,'Input S'!55:55,'Input S'!73:73,0,-1)","v":1},{"$f":"_xlfn.XLOOKUP(NO9,'Input S'!55:55,'Input S'!73:73,0,-1)","v":1},{"$f":"_xlfn.XLOOKUP(NP9,'Input S'!55:55,'Input S'!73:73,0,-1)","v":1},{"$f":"_xlfn.XLOOKUP(NQ9,'Input S'!55:55,'Input S'!73:73,0,-1)","v":1},{"$f":"_xlfn.XLOOKUP(NR9,'Input S'!55:55,'Input S'!73:73,0,-1)","v":1},{"$f":"_xlfn.XLOOKUP(NS9,'Input S'!55:55,'Input S'!73:73,0,-1)","v":1},{"$f":"_xlfn.XLOOKUP(NT9,'Input S'!55:55,'Input S'!73:73,0,-1)","v":1},{"$f":"_xlfn.XLOOKUP(NU9,'Input S'!55:55,'Input S'!73:73,0,-1)","v":1},{"$f":"_xlfn.XLOOKUP(NV9,'Input S'!55:55,'Input S'!73:73,0,-1)","v":1},{"$f":"_xlfn.XLOOKUP(NW9,'Input S'!55:55,'Input S'!73:73,0,-1)","v":1},{"$f":"_xlfn.XLOOKUP(NX9,'Input S'!55:55,'Input S'!73:73,0,-1)","v":1},{"$f":"_xlfn.XLOOKUP(NY9,'Input S'!55:55,'Input S'!73:73,0,-1)","v":1},{"$f":"_xlfn.XLOOKUP(NZ9,'Input S'!55:55,'Input S'!73:73,0,-1)","v":1},{"$f":"_xlfn.XLOOKUP(OA9,'Input S'!55:55,'Input S'!73:73,0,-1)","v":1},{"$f":"_xlfn.XLOOKUP(OB9,'Input S'!55:55,'Input S'!73:73,0,-1)","v":1},{"$f":"_xlfn.XLOOKUP(OC9,'Input S'!55:55,'Input S'!73:73,0,-1)","v":1},{"$f":"_xlfn.XLOOKUP(OD9,'Input S'!55:55,'Input S'!73:73,0,-1)","v":1},{"$f":"_xlfn.XLOOKUP(OE9,'Input S'!55:55,'Input S'!73:73,0,-1)","v":1},{"$f":"_xlfn.XLOOKUP(OF9,'Input S'!55:55,'Input S'!73:73,0,-1)","v":1},{"$f":"_xlfn.XLOOKUP(OG9,'Input S'!55:55,'Input S'!73:73,0,-1)","v":1},{"$f":"_xlfn.XLOOKUP(OH9,'Input S'!55:55,'Input S'!73:73,0,-1)","v":1},{"$f":"_xlfn.XLOOKUP(OI9,'Input S'!55:55,'Input S'!73:73,0,-1)","v":1},{"$f":"_xlfn.XLOOKUP(OJ9,'Input S'!55:55,'Input S'!73:73,0,-1)","v":1},{"$f":"_xlfn.XLOOKUP(OK9,'Input S'!55:55,'Input S'!73:73,0,-1)","v":1},{"$f":"_xlfn.XLOOKUP(OL9,'Input S'!55:55,'Input S'!73:73,0,-1)","v":1},{"$f":"_xlfn.XLOOKUP(OM9,'Input S'!55:55,'Input S'!73:73,0,-1)","v":1},{"$f":"_xlfn.XLOOKUP(ON9,'Input S'!55:55,'Input S'!73:73,0,-1)","v":1},{"$f":"_xlfn.XLOOKUP(OO9,'Input S'!55:55,'Input S'!73:73,0,-1)","v":1},{"$f":"_xlfn.XLOOKUP(OP9,'Input S'!55:55,'Input S'!73:73,0,-1)","v":1},{"$f":"_xlfn.XLOOKUP(OQ9,'Input S'!55:55,'Input S'!73:73,0,-1)","v":1},{"$f":"_xlfn.XLOOKUP(OR9,'Input S'!55:55,'Input S'!73:73,0,-1)","v":1},{"$f":"_xlfn.XLOOKUP(OS9,'Input S'!55:55,'Input S'!73:73,0,-1)","v":1},{"$f":"_xlfn.XLOOKUP(OT9,'Input S'!55:55,'Input S'!73:73,0,-1)","v":1},{"$f":"_xlfn.XLOOKUP(OU9,'Input S'!55:55,'Input S'!73:73,0,-1)","v":1},{"$f":"_xlfn.XLOOKUP(OV9,'Input S'!55:55,'Input S'!73:73,0,-1)","v":1},{"$f":"_xlfn.XLOOKUP(OW9,'Input S'!55:55,'Input S'!73:73,0,-1)","v":1},{"$f":"_xlfn.XLOOKUP(OX9,'Input S'!55:55,'Input S'!73:73,0,-1)","v":1},{"$f":"_xlfn.XLOOKUP(OY9,'Input S'!55:55,'Input S'!73:73,0,-1)","v":1},{"$f":"_xlfn.XLOOKUP(OZ9,'Input S'!55:55,'Input S'!73:73,0,-1)","v":1},{"$f":"_xlfn.XLOOKUP(PA9,'Input S'!55:55,'Input S'!73:73,0,-1)","v":1},{"$f":"_xlfn.XLOOKUP(PB9,'Input S'!55:55,'Input S'!73:73,0,-1)","v":1},{"$f":"_xlfn.XLOOKUP(PC9,'Input S'!55:55,'Input S'!73:73,0,-1)","v":1},{"$f":"_xlfn.XLOOKUP(PD9,'Input S'!55:55,'Input S'!73:73,0,-1)","v":1},{"$f":"_xlfn.XLOOKUP(PE9,'Input S'!55:55,'Input S'!73:73,0,-1)","v":1},{"$f":"_xlfn.XLOOKUP(PF9,'Input S'!55:55,'Input S'!73:73,0,-1)","v":1},{"$f":"_xlfn.XLOOKUP(PG9,'Input S'!55:55,'Input S'!73:73,0,-1)","v":1},{"$f":"_xlfn.XLOOKUP(PH9,'Input S'!55:55,'Input S'!73:73,0,-1)","v":1},{"$f":"_xlfn.XLOOKUP(PI9,'Input S'!55:55,'Input S'!73:73,0,-1)","v":1},{"$f":"_xlfn.XLOOKUP(PJ9,'Input S'!55:55,'Input S'!73:73,0,-1)","v":1},{"$f":"_xlfn.XLOOKUP(PK9,'Input S'!55:55,'Input S'!73:73,0,-1)","v":1},{"$f":"_xlfn.XLOOKUP(PL9,'Input S'!55:55,'Input S'!73:73,0,-1)","v":1},{"$f":"_xlfn.XLOOKUP(PM9,'Input S'!55:55,'Input S'!73:73,0,-1)","v":1},{"$f":"_xlfn.XLOOKUP(PN9,'Input S'!55:55,'Input S'!73:73,0,-1)","v":1},{"$f":"_xlfn.XLOOKUP(PO9,'Input S'!55:55,'Input S'!73:73,0,-1)","v":1},{"$f":"_xlfn.XLOOKUP(PP9,'Input S'!55:55,'Input S'!73:73,0,-1)","v":1},{"$f":"_xlfn.XLOOKUP(PQ9,'Input S'!55:55,'Input S'!73:73,0,-1)","v":1},{"$f":"_xlfn.XLOOKUP(PR9,'Input S'!55:55,'Input S'!73:73,0,-1)","v":1},{"$f":"_xlfn.XLOOKUP(PS9,'Input S'!55:55,'Input S'!73:73,0,-1)","v":1},{"$f":"_xlfn.XLOOKUP(PT9,'Input S'!55:55,'Input S'!73:73,0,-1)","v":1},{"$f":"_xlfn.XLOOKUP(PU9,'Input S'!55:55,'Input S'!73:73,0,-1)","v":1},{"$f":"_xlfn.XLOOKUP(PV9,'Input S'!55:55,'Input S'!73:73,0,-1)","v":1},{"$f":"_xlfn.XLOOKUP(PW9,'Input S'!55:55,'Input S'!73:73,0,-1)","v":1},{"$f":"_xlfn.XLOOKUP(PX9,'Input S'!55:55,'Input S'!73:73,0,-1)","v":1},{"$f":"_xlfn.XLOOKUP(PY9,'Input S'!55:55,'Input S'!73:73,0,-1)","v":1},{"$f":"_xlfn.XLOOKUP(PZ9,'Input S'!55:55,'Input S'!73:73,0,-1)","v":1},{"$f":"_xlfn.XLOOKUP(QA9,'Input S'!55:55,'Input S'!73:73,0,-1)","v":1},{"$f":"_xlfn.XLOOKUP(QB9,'Input S'!55:55,'Input S'!73:73,0,-1)","v":1},{"$f":"_xlfn.XLOOKUP(QC9,'Input S'!55:55,'Input S'!73:73,0,-1)","v":1},{"$f":"_xlfn.XLOOKUP(QD9,'Input S'!55:55,'Input S'!73:73,0,-1)","v":1},{"$f":"_xlfn.XLOOKUP(QE9,'Input S'!55:55,'Input S'!73:73,0,-1)","v":1},{"$f":"_xlfn.XLOOKUP(QF9,'Input S'!55:55,'Input S'!73:73,0,-1)","v":1},{"$f":"_xlfn.XLOOKUP(QG9,'Input S'!55:55,'Input S'!73:73,0,-1)","v":1},{"$f":"_xlfn.XLOOKUP(QH9,'Input S'!55:55,'Input S'!73:73,0,-1)","v":1},{"$f":"_xlfn.XLOOKUP(QI9,'Input S'!55:55,'Input S'!73:73,0,-1)","v":1},{"$f":"_xlfn.XLOOKUP(QJ9,'Input S'!55:55,'Input S'!73:73,0,-1)","v":1},{"$f":"_xlfn.XLOOKUP(QK9,'Input S'!55:55,'Input S'!73:73,0,-1)","v":1},{"$f":"_xlfn.XLOOKUP(QL9,'Input S'!55:55,'Input S'!73:73,0,-1)","v":1},{"$f":"_xlfn.XLOOKUP(QM9,'Input S'!55:55,'Input S'!73:73,0,-1)","v":1},{"$f":"_xlfn.XLOOKUP(QN9,'Input S'!55:55,'Input S'!73:73,0,-1)","v":1},{"$f":"_xlfn.XLOOKUP(QO9,'Input S'!55:55,'Input S'!73:73,0,-1)","v":1},{"$f":"_xlfn.XLOOKUP(QP9,'Input S'!55:55,'Input S'!73:73,0,-1)","v":1},{"$f":"_xlfn.XLOOKUP(QQ9,'Input S'!55:55,'Input S'!73:73,0,-1)","v":1},{"$f":"_xlfn.XLOOKUP(QR9,'Input S'!55:55,'Input S'!73:73,0,-1)","v":1},{"$f":"_xlfn.XLOOKUP(QS9,'Input S'!55:55,'Input S'!73:73,0,-1)","v":1},{"$f":"_xlfn.XLOOKUP(QT9,'Input S'!55:55,'Input S'!73:73,0,-1)","v":1},{"$f":"_xlfn.XLOOKUP(QU9,'Input S'!55:55,'Input S'!73:73,0,-1)","v":1},{"$f":"_xlfn.XLOOKUP(QV9,'Input S'!55:55,'Input S'!73:73,0,-1)","v":1},{"$f":"_xlfn.XLOOKUP(QW9,'Input S'!55:55,'Input S'!73:73,0,-1)","v":1},{"$f":"_xlfn.XLOOKUP(QX9,'Input S'!55:55,'Input S'!73:73,0,-1)","v":1},{"$f":"_xlfn.XLOOKUP(QY9,'Input S'!55:55,'Input S'!73:73,0,-1)","v":1},{"$f":"_xlfn.XLOOKUP(QZ9,'Input S'!55:55,'Input S'!73:73,0,-1)","v":1},{"$f":"_xlfn.XLOOKUP(RA9,'Input S'!55:55,'Input S'!73:73,0,-1)","v":1},{"$f":"_xlfn.XLOOKUP(RB9,'Input S'!55:55,'Input S'!73:73,0,-1)","v":1},{"$f":"_xlfn.XLOOKUP(RC9,'Input S'!55:55,'Input S'!73:73,0,-1)","v":1},{"$f":"_xlfn.XLOOKUP(RD9,'Input S'!55:55,'Input S'!73:73,0,-1)","v":1},{"$f":"_xlfn.XLOOKUP(RE9,'Input S'!55:55,'Input S'!73:73,0,-1)","v":1},{"$f":"_xlfn.XLOOKUP(RF9,'Input S'!55:55,'Input S'!73:73,0,-1)","v":1},{"$f":"_xlfn.XLOOKUP(RG9,'Input S'!55:55,'Input S'!73:73,0,-1)","v":1},{"$f":"_xlfn.XLOOKUP(RH9,'Input S'!55:55,'Input S'!73:73,0,-1)","v":1},{"$f":"_xlfn.XLOOKUP(RI9,'Input S'!55:55,'Input S'!73:73,0,-1)","v":1},{"$f":"_xlfn.XLOOKUP(RJ9,'Input S'!55:55,'Input S'!73:73,0,-1)","v":1},{"$f":"_xlfn.XLOOKUP(RK9,'Input S'!55:55,'Input S'!73:73,0,-1)","v":1},{"$f":"_xlfn.XLOOKUP(RL9,'Input S'!55:55,'Input S'!73:73,0,-1)","v":1},{"$f":"_xlfn.XLOOKUP(RM9,'Input S'!55:55,'Input S'!73:73,0,-1)","v":1},{"$f":"_xlfn.XLOOKUP(RN9,'Input S'!55:55,'Input S'!73:73,0,-1)","v":1},{"$f":"_xlfn.XLOOKUP(RO9,'Input S'!55:55,'Input S'!73:73,0,-1)","v":1},{"$f":"_xlfn.XLOOKUP(RP9,'Input S'!55:55,'Input S'!73:73,0,-1)","v":1},{"$f":"_xlfn.XLOOKUP(RQ9,'Input S'!55:55,'Input S'!73:73,0,-1)","v":1},{"$f":"_xlfn.XLOOKUP(RR9,'Input S'!55:55,'Input S'!73:73,0,-1)","v":1},{"$f":"_xlfn.XLOOKUP(RS9,'Input S'!55:55,'Input S'!73:73,0,-1)","v":1},{"$f":"_xlfn.XLOOKUP(RT9,'Input S'!55:55,'Input S'!73:73,0,-1)","v":1},{"$f":"_xlfn.XLOOKUP(RU9,'Input S'!55:55,'Input S'!73:73,0,-1)","v":1},{"$f":"_xlfn.XLOOKUP(RV9,'Input S'!55:55,'Input S'!73:73,0,-1)","v":1},{"$f":"_xlfn.XLOOKUP(RW9,'Input S'!55:55,'Input S'!73:73,0,-1)","v":1},{"$f":"_xlfn.XLOOKUP(RX9,'Input S'!55:55,'Input S'!73:73,0,-1)","v":1},{"$f":"_xlfn.XLOOKUP(RY9,'Input S'!55:55,'Input S'!73:73,0,-1)","v":1},{"$f":"_xlfn.XLOOKUP(RZ9,'Input S'!55:55,'Input S'!73:73,0,-1)","v":1},{"$f":"_xlfn.XLOOKUP(SA9,'Input S'!55:55,'Input S'!73:73,0,-1)","v":1},{"$f":"_xlfn.XLOOKUP(SB9,'Input S'!55:55,'Input S'!73:73,0,-1)","v":1},{"$f":"_xlfn.XLOOKUP(SC9,'Input S'!55:55,'Input S'!73:73,0,-1)","v":1}]
[null,null,null,"Hours in Period","Hours",{"$f":"G7","v":12},{"$f":"F17=Months","v":true},null,"Hours",null,{"$f":"IF($G$17,8760,(K9-K8+1)*Hours)","v":8760},8760,8760,8760,8760,8760,8760,8760,8760,8760,8760,8760,8760,8760,8760,8760,8760,8760,8760,8760,8760,8760,8760,8760,8760,8760,8760,8760,8760,8760,8760,8760,{"$f":"IF($G$17,8760,(AQ9-AQ8+1)*Hours)","v":8760},8760,8760,8760,8760,8760,8760,8760,8760,8760,8760,8760,8760,8760,8760,8760,8760,8760,8760,8760,8760,8760,8760,8760,8760,8760,8760,8760,8760,8760,8760,8760,{"$f":"IF($G$17,8760,(BW9-BW8+1)*Hours)","v":8760},8760,8760,8760,8760,8760,8760,8760,8760,8760,8760,8760,8760,8760,8760,8760,8760,8760,8760,8760,8760,8760,8760,8760,8760,8760,8760,8760,8760,8760,8760,8760,{"$f":"IF($G$17,8760,(DC9-DC8+1)*Hours)","v":8760},8760,8760,8760,8760,8760,8760,8760,8760,8760,8760,8760,8760,8760,8760,8760,8760,8760,8760,8760,8760,8760,8760,8760,8760,8760,8760,8760,8760,8760,8760,8760,{"$f":"IF($G$17,8760,(EI9-EI8+1)*Hours)","v":8760},8760,8760,8760,8760,8760,8760,8760,8760,8760,8760,8760,8760,8760,8760,8760,8760,8760,8760,8760,8760,8760,{"$f":"IF($G$17,8760,(FE9-FE8+1)*Hours)","v":8760},8760,8760,8760,8760,8760,8760,8760,8760,8760,8760,8760,8760,8760,8760,8760,8760,8760,8760,8760,8760,8760,8760,8760,8760,8760,8760,8760,8760,8760,8760,8760,8760,8760,8760,8760,8760,8760,8760,8760,8760,8760,8760,8760,8760,8760,8760,8760,8760,8760,8760,8760,{"$f":"IF($G$17,8760,(HE9-HE8+1)*Hours)","v":8760},8760,8760,8760,8760,8760,8760,8760,8760,8760,8760,8760,8760,8760,8760,8760,8760,8760,8760,8760,8760,8760,8760,8760,8760,8760,8760,8760,8760,8760,8760,8760,8760,8760,8760,8760,8760,8760,8760,8760,8760,8760,8760,8760,8760,8760,8760,8760,8760,8760,8760,8760,8760,8760,8760,8760,8760,8760,8760,8760,8760,8760,8760,8760,{"$f":"IF($G$17,8760,(JQ9-JQ8+1)*Hours)","v":8760},8760,8760,8760,8760,8760,8760,8760,8760,8760,8760,8760,8760,8760,8760,8760,8760,8760,8760,8760,8760,8760,8760,8760,8760,8760,{"$f":"IF($G$17,8760,(KQ9-KQ8+1)*Hours)","v":8760},8760,8760,8760,8760,8760,8760,8760,8760,8760,8760,8760,8760,8760,8760,8760,8760,8760,8760,8760,8760,8760,8760,8760,8760,8760,8760,8760,8760,8760,{"$f":"IF($G$17,8760,(LU9-LU8+1)*Hours)","v":8760},8760,8760,8760,8760,8760,8760,{"$f":"IF($G$17,8760,(MB9-MB8+1)*Hours)","v":8760},8760,8760,8760,8760,8760,8760,8760,8760,8760,8760,8760,8760,8760,8760,8760,8760,8760,8760,{"$f":"IF($G$17,8760,(MU9-MU8+1)*Hours)","v":8760},8760,8760,8760,8760,8760,8760,{"$f":"IF($G$17,8760,(NB9-NB8+1)*Hours)","v":8760},8760,8760,8760,8760,8760,8760,8760,8760,8760,8760,8760,8760,8760,8760,{"$f":"IF($G$17,8760,(NQ9-NQ8+1)*Hours)","v":8760},8760,8760,8760,8760,8760,8760,8760,8760,8760,8760,8760,8760,8760,8760,8760,8760,8760,8760,8760,8760,8760,8760,8760,8760,8760,8760,8760,8760,8760,8760,8760,8760,8760,8760,8760,8760,8760,8760,8760,8760,8760,8760,8760,8760,8760,8760,8760,8760,8760,8760,8760,8760,8760,8760,8760,8760,8760,8760,8760,8760,8760,8760,8760,{"$f":"IF($G$17,8760,(QC9-QC8+1)*Hours)","v":8760},8760,8760,8760,8760,8760,8760,8760,8760,8760,8760,8760,8760,8760,8760,8760,8760,8760,8760,8760,8760,8760,8760,8760,8760,8760,8760,8760,8760,8760,8760,8760,8760,8760,8760,8760,8760,8760,8760,8760,8760,8760,8760,8760,8760,8760,8760,8760,8760,8760,8760,8760,8760]
[null,null,null,"Generation before degradation",null,null,null,null,"MWh",null,{"$f":"K14*K15*K16","v":0},{"$f":"L14*L15*L16","v":243256},243256,243256,243256,243256,243256,243256,243256,243256,243256,243256,243256,{"$f":"X14*X15*X16","v":243256},243256,243256,243256,243256,243256,243256,243256,243256,243256,243256,243256,243256,0,0,0,0,0,0,0,0,0,0,0,0,0,0,0,0,0,0,0,0,0,0,0,0,0,0,0,0,0,0,0,0,0,0,0,0,0,0,0,{"$f":"BX14*BX15*BX16","v":0},0,0,0,0,0,0,0,0,0,0,0,0,0,0,0,0,0,0,0,0,0,0,0,0,0,0,0,0,0,0,0,0,0,0,0,0,0,0,0,0,0,0,0,0,0,0,0,0,0,0,0,0,0,0,0,0,0,0,0,0,0,0,0,{"$f":"EJ14*EJ15*EJ16","v":0},0,0,0,0,0,0,0,0,0,0,0,0,0,0,0,0,0,0,0,0,{"$f":"FE14*FE15*FE16","v":0},0,0,0,0,0,0,0,0,0,0,0,0,0,0,0,0,0,0,0,0,0,0,0,0,0,0,0,0,0,0,0,0,0,0,0,0,0,0,0,0,0,0,0,0,0,0,0,0,0,0,0,{"$f":"HE14*HE15*HE16","v":0},0,0,0,0,0,0,0,0,0,0,0,0,0,0,0,0,0,0,0,0,0,0,0,0,0,0,0,0,0,0,0,0,0,0,0,0,0,0,0,0,0,0,0,0,0,0,0,0,0,0,0,0,0,0,0,0,0,0,0,0,0,0,0,{"$f":"JQ14*JQ15*JQ16","v":0},0,0,0,0,0,0,0,0,0,0,0,0,0,0,0,0,0,0,0,0,0,0,0,0,0,{"$f":"KQ14*KQ15*KQ16","v":0},0,0,0,0,0,0,0,0,0,0,0,0,0,0,0,0,0,0,0,0,0,0,0,0,0,0,0,0,0,{"$f":"LU14*LU15*LU16","v":0},0,0,0,0,0,0,{"$f":"MB14*MB15*MB16","v":0},0,0,0,0,0,0,0,0,0,0,0,0,0,0,0,0,0,0,{"$f":"MU14*MU15*MU16","v":0},0,0,0,0,0,0,{"$f":"NB14*NB15*NB16","v":0},0,0,0,0,0,0,0,0,0,0,0,0,0,0,{"$f":"NQ14*NQ15*NQ16","v":0},0,0,0,0,0,0,0,0,0,0,0,0,0,0,0,0,0,0,0,0,0,0,0,0,0,0,0,0,0,0,0,0,0,0,0,0,0,0,0,0,0,0,0,0,0,0,0,0,0,0,0,0,0,0,0,0,0,0,0,0,0,0,0,{"$f":"QC14*QC15*QC16","v":0},0,0,0,0,0,0,0,0,0,0,0,0,0,0,0,0,0,0,0,0,0,0,0,0,0,0,0,0,0,0,0,0,0,0,0,0,0,0,0,0,0,0,0,0,0,0,0,0,0,0,0,0]
[null,null,null,"Availability","%",{"$f":"'Input C'!F23","v":0.95},null,null,"%",null,{"$f":"$F$19*K10","v":0},{"$f":"$F$19*L10","v":0.95},0.95,0.95,0.95,0.95,0.95,0.95,0.95,0.95,0.95,0.95,0.95,0.95,0.95,0.95,0.95,0.95,0.95,0.95,0.95,0.95,0.95,0.95,0.95,0.95,0,0,0,0,0,0,0,0,0,0,0,0,0,0,0,0,0,0,0,0,0,0,0,0,0,0,0,0,0,0,0,0,0,0,0,0,0,0,0,{"$f":"$F$19*BX10","v":0},0,0,0,0,0,0,0,0,0,0,0,0,0,0,0,0,0,0,0,0,0,0,0,0,0,0,0,0,0,0,0,0,0,0,0,0,0,0,0,0,0,0,0,0,0,0,0,0,0,0,0,0,0,0,0,0,0,0,0,0,0,0,0,{"$f":"$F$19*EJ10","v":0},0,0,0,0,0,0,0,0,0,0,0,0,0,0,0,0,0,0,0,0,{"$f":"$F$19*FE10","v":0},0,0,0,0,0,0,0,0,0,0,0,0,0,0,0,0,0,0,0,0,0,0,0,0,0,0,0,0,0,0,0,0,0,0,0,0,0,0,0,0,0,0,0,0,0,0,0,0,0,0,0,{"$f":"$F$19*HE10","v":0},0,0,0,0,0,0,0,0,0,0,0,0,0,0,0,0,0,0,0,0,0,0,0,0,0,0,0,0,0,0,0,0,0,0,0,0,0,0,0,0,0,0,0,0,0,0,0,0,0,0,0,0,0,0,0,0,0,0,0,0,0,0,0,{"$f":"$F$19*JQ10","v":0},0,0,0,0,0,0,0,0,0,0,0,0,0,0,0,0,0,0,0,0,0,0,0,0,0,{"$f":"$F$19*KQ10","v":0},0,0,0,0,0,0,0,0,0,0,0,0,0,0,0,0,0,0,0,0,0,0,0,0,0,0,0,0,0,{"$f":"$F$19*LU10","v":0},0,0,0,0,0,0,{"$f":"$F$19*MB10","v":0},0,0,0,0,0,0,0,0,0,0,0,0,0,0,0,0,0,0,{"$f":"$F$19*MU10","v":0},0,0,0,0,0,0,{"$f":"$F$19*NB10","v":0},0,0,0,0,0,0,0,0,0,0,0,0,0,0,{"$f":"$F$19*NQ10","v":0},0,0,0,0,0,0,0,0,0,0,0,0,0,0,0,0,0,0,0,0,0,0,0,0,0,0,0,0,0,0,0,0,0,0,0,0,0,0,0,0,0,0,0,0,0,0,0,0,0,0,0,0,0,0,0,0,0,0,0,0,0,0,0,{"$f":"$F$19*QC10","v":0},0,0,0,0,0,0,0,0,0,0,0,0,0,0,0,0,0,0,0,0,0,0,0,0,0,0,0,0,0,0,0,0,0,0,0,0,0,0,0,0,0,0,0,0,0,0,0,0,0,0,0,0]
[null,null,null,"Generation after availability",null,null,null,null,"MWh",null,{"$f":"K19*K18","v":0},{"$f":"L19*L18","v":231093.19999999998},231093.19999999998,231093.19999999998,231093.19999999998,231093.19999999998,231093.19999999998,231093.19999999998,231093.19999999998,231093.19999999998,231093.19999999998,231093.19999999998,231093.19999999998,231093.19999999998,231093.19999999998,231093.19999999998,231093.19999999998,231093.19999999998,231093.19999999998,231093.19999999998,231093.19999999998,231093.19999999998,231093.19999999998,231093.19999999998,231093.19999999998,231093.19999999998,0,0,0,0,0,0,0,0,0,0,0,0,0,0,0,0,0,0,0,0,0,0,0,0,0,0,0,0,0,0,0,0,0,0,0,0,0,0,0,{"$f":"BX19*BX18","v":0},0,0,0,0,0,0,0,0,0,0,0,0,0,0,0,0,0,0,0,0,0,0,0,0,0,0,0,0,0,0,0,0,0,0,0,0,0,0,0,0,0,0,0,0,0,0,0,0,0,0,0,0,0,0,0,0,0,0,0,0,0,0,0,{"$f":"EJ19*EJ18","v":0},0,0,0,0,0,0,0,0,0,0,0,0,0,0,0,0,0,0,0,0,{"$f":"FE19*FE18","v":0},0,0,0,0,0,0,0,0,0,0,0,0,0,0,0,0,0,0,0,0,0,0,0,0,0,0,0,0,0,0,0,0,0,0,0,0,0,0,0,0,0,0,0,0,0,0,0,0,0,0,0,{"$f":"HE19*HE18","v":0},0,0,0,0,0,0,0,0,0,0,0,0,0,0,0,0,0,0,0,0,0,0,0,0,0,0,0,0,0,0,0,0,0,0,0,0,0,0,0,0,0,0,0,0,0,0,0,0,0,0,0,0,0,0,0,0,0,0,0,0,0,0,0,{"$f":"JQ19*JQ18","v":0},0,0,0,0,0,0,0,0,0,0,0,0,0,0,0,0,0,0,0,0,0,0,0,0,0,{"$f":"KQ19*KQ18","v":0},0,0,0,0,0,0,0,0,0,0,0,0,0,0,0,0,0,0,0,0,0,0,0,0,0,0,0,0,0,{"$f":"LU19*LU18","v":0},0,0,0,0,0,0,{"$f":"MB19*MB18","v":0},0,0,0,0,0,0,0,0,0,0,0,0,0,0,0,0,0,0,{"$f":"MU19*MU18","v":0},0,0,0,0,0,0,{"$f":"NB19*NB18","v":0},0,0,0,0,0,0,0,0,0,0,0,0,0,0,{"$f":"NQ19*NQ18","v":0},0,0,0,0,0,0,0,0,0,0,0,0,0,0,0,0,0,0,0,0,0,0,0,0,0,0,0,0,0,0,0,0,0,0,0,0,0,0,0,0,0,0,0,0,0,0,0,0,0,0,0,0,0,0,0,0,0,0,0,0,0,0,0,{"$f":"QC19*QC18","v":0},0,0,0,0,0,0,0,0,0,0,0,0,0,0,0,0,0,0,0,0,0,0,0,0,0,0,0,0,0,0,0,0,0,0,0,0,0,0,0,0,0,0,0,0,0,0,0,0,0,0,0,0]
[null,null,null,"Degradation","%",{"$f":"'Input C'!F24","v":5.0000000000000001E-3},null,null,"%",null,{"$f":"(1+$F$21)^(K7/Months)-1","v":4.9999999999998934E-3},4.9999999999998934E-3,4.9999999999998934E-3,4.9999999999998934E-3,4.9999999999998934E-3,4.9999999999998934E-3,4.9999999999998934E-3,4.9999999999998934E-3,4.9999999999998934E-3,4.9999999999998934E-3,4.9999999999998934E-3,4.9999999999998934E-3,4.9999999999998934E-3,4.9999999999998934E-3,4.9999999999998934E-3,4.9999999999998934E-3,4.9999999999998934E-3,4.9999999999998934E-3,4.9999999999998934E-3,4.9999999999998934E-3,4.9999999999998934E-3,4.9999999999998934E-3,4.9999999999998934E-3,4.9999999999998934E-3,4.9999999999998934E-3,4.9999999999998934E-3,4.9999999999998934E-3,4.9999999999998934E-3,4.9999999999998934E-3,4.9999999999998934E-3,4.9999999999998934E-3,4.9999999999998934E-3,{"$f":"(1+$F$21)^(AQ7/Months)-1","v":4.9999999999998934E-3},4.9999999999998934E-3,4.9999999999998934E-3,4.9999999999998934E-3,4.9999999999998934E-3,4.9999999999998934E-3,4.9999999999998934E-3,4.9999999999998934E-3,4.9999999999998934E-3,4.9999999999998934E-3,4.9999999999998934E-3,4.9999999999998934E-3,4.9999999999998934E-3,4.9999999999998934E-3,4.9999999999998934E-3,4.9999999999998934E-3,4.9999999999998934E-3,4.9999999999998934E-3,4.9999999999998934E-3,4.9999999999998934E-3,4.9999999999998934E-3,4.9999999999998934E-3,4.9999999999998934E-3,4.9999999999998934E-3,4.9999999999998934E-3,4.9999999999998934E-3,4.9999999999998934E-3,4.9999999999998934E-3,4.9999999999998934E-3,4.9999999999998934E-3,4.9999999999998934E-3,4.9999999999998934E-3,{"$f":"(1+$F$21)^(BW7/Months)-1","v":4.9999999999998934E-3},4.9999999999998934E-3,4.9999999999998934E-3,4.9999999999998934E-3,4.9999999999998934E-3,4.9999999999998934E-3,4.9999999999998934E-3,4.9999999999998934E-3,4.9999999999998934E-3,4.9999999999998934E-3,4.9999999999998934E-3,4.9999999999998934E-3,4.9999999999998934E-3,4.9999999999998934E-3,4.9999999999998934E-3,4.9999999999998934E-3,4.9999999999998934E-3,4.9999999999998934E-3,4.9999999999998934E-3,4.9999999999998934E-3,4.9999999999998934E-3,4.9999999999998934E-3,4.9999999999998934E-3,4.9999999999998934E-3,4.9999999999998934E-3,4.9999999999998934E-3,4.9999999999998934E-3,4.9999999999998934E-3,4.9999999999998934E-3,4.9999999999998934E-3,4.9999999999998934E-3,4.9999999999998934E-3,{"$f":"(1+$F$21)^(DC7/Months)-1","v":4.9999999999998934E-3},4.9999999999998934E-3,4.9999999999998934E-3,4.9999999999998934E-3,4.9999999999998934E-3,4.9999999999998934E-3,4.9999999999998934E-3,4.9999999999998934E-3,4.9999999999998934E-3,4.9999999999998934E-3,4.9999999999998934E-3,4.9999999999998934E-3,4.9999999999998934E-3,4.9999999999998934E-3,4.9999999999998934E-3,4.9999999999998934E-3,4.9999999999998934E-3,4.9999999999998934E-3,4.9999999999998934E-3,4.9999999999998934E-3,4.9999999999998934E-3,4.9999999999998934E-3,4.9999999999998934E-3,4.9999999999998934E-3,4.9999999999998934E-3,4.9999999999998934E-3,4.9999999999998934E-3,4.9999999999998934E-3,4.9999999999998934E-3,4.9999999999998934E-3,4.9999999999998934E-3,4.9999999999998934E-3,{"$f":"(1+$F$21)^(EI7/Months)-1","v":4.9999999999998934E-3},4.9999999999998934E-3,4.9999999999998934E-3,4.9999999999998934E-3,4.9999999999998934E-3,4.9999999999998934E-3,4.9999999999998934E-3,4.9999999999998934E-3,4.9999999999998934E-3,4.9999999999998934E-3,4.9999999999998934E-3,4.9999999999998934E-3,4.9999999999998934E-3,4.9999999999998934E-3,4.9999999999998934E-3,4.9999999999998934E-3,4.9999999999998934E-3,4.9999999999998934E-3,4.9999999999998934E-3,4.9999999999998934E-3,4.9999999999998934E-3,4.9999999999998934E-3,{"$f":"(1+$F$21)^(FE7/Months)-1","v":4.9999999999998934E-3},4.9999999999998934E-3,4.9999999999998934E-3,4.9999999999998934E-3,4.9999999999998934E-3,4.9999999999998934E-3,4.9999999999998934E-3,4.9999999999998934E-3,4.9999999999998934E-3,4.9999999999998934E-3,4.9999999999998934E-3,4.9999999999998934E-3,4.9999999999998934E-3,4.9999999999998934E-3,4.9999999999998934E-3,4.9999999999998934E-3,4.9999999999998934E-3,4.9999999999998934E-3,4.9999999999998934E-3,4.9999999999998934E-3,4.9999999999998934E-3,4.9999999999998934E-3,4.9999999999998934E-3,4.9999999999998934E-3,4.9999999999998934E-3,4.9999999999998934E-3,4.9999999999998934E-3,4.9999999999998934E-3,4.9999999999998934E-3,4.9999999999998934E-3,4.9999999999998934E-3,4.9999999999998934E-3,4.9999999999998934E-3,4.9999999999998934E-3,4.9999999999998934E-3,4.9999999999998934E-3,4.9999999999998934E-3,4.9999999999998934E-3,4.9999999999998934E-3,4.9999999999998934E-3,4.9999999999998934E-3,4.9999999999998934E-3,4.9999999999998934E-3,4.9999999999998934E-3,4.9999999999998934E-3,4.9999999999998934E-3,4.9999999999998934E-3,4.9999999999998934E-3,4.9999999999998934E-3,4.9999999999998934E-3,4.9999999999998934E-3,4.9999999999998934E-3,{"$f":"(1+$F$21)^(HE7/Months)-1","v":4.9999999999998934E-3},4.9999999999998934E-3,4.9999999999998934E-3,4.9999999999998934E-3,4.9999999999998934E-3,4.9999999999998934E-3,4.9999999999998934E-3,4.9999999999998934E-3,4.9999999999998934E-3,4.9999999999998934E-3,4.9999999999998934E-3,4.9999999999998934E-3,4.9999999999998934E-3,4.9999999999998934E-3,4.9999999999998934E-3,4.9999999999998934E-3,4.9999999999998934E-3,4.9999999999998934E-3,4.9999999999998934E-3,4.9999999999998934E-3,4.9999999999998934E-3,4.9999999999998934E-3,4.9999999999998934E-3,4.9999999999998934E-3,4.9999999999998934E-3,4.9999999999998934E-3,4.9999999999998934E-3,4.9999999999998934E-3,4.9999999999998934E-3,4.9999999999998934E-3,4.9999999999998934E-3,4.9999999999998934E-3,4.9999999999998934E-3,4.9999999999998934E-3,4.9999999999998934E-3,4.9999999999998934E-3,4.9999999999998934E-3,4.9999999999998934E-3,4.9999999999998934E-3,4.9999999999998934E-3,4.9999999999998934E-3,4.9999999999998934E-3,4.9999999999998934E-3,4.9999999999998934E-3,4.9999999999998934E-3,4.9999999999998934E-3,4.9999999999998934E-3,4.9999999999998934E-3,4.9999999999998934E-3,4.9999999999998934E-3,4.9999999999998934E-3,4.9999999999998934E-3,4.9999999999998934E-3,4.9999999999998934E-3,4.9999999999998934E-3,4.9999999999998934E-3,4.9999999999998934E-3,4.9999999999998934E-3,4.9999999999998934E-3,4.9999999999998934E-3,4.9999999999998934E-3,4.9999999999998934E-3,4.9999999999998934E-3,4.9999999999998934E-3,{"$f":"(1+$F$21)^(JQ7/Months)-1","v":4.9999999999998934E-3},4.9999999999998934E-3,4.9999999999998934E-3,4.9999999999998934E-3,4.9999999999998934E-3,4.9999999999998934E-3,4.9999999999998934E-3,4.9999999999998934E-3,4.9999999999998934E-3,4.9999999999998934E-3,4.9999999999998934E-3,4.9999999999998934E-3,4.9999999999998934E-3,4.9999999999998934E-3,4.9999999999998934E-3,4.9999999999998934E-3,4.9999999999998934E-3,4.9999999999998934E-3,4.9999999999998934E-3,4.9999999999998934E-3,4.9999999999998934E-3,4.9999999999998934E-3,4.9999999999998934E-3,4.9999999999998934E-3,4.9999999999998934E-3,4.9999999999998934E-3,{"$f":"(1+$F$21)^(KQ7/Months)-1","v":4.9999999999998934E-3},4.9999999999998934E-3,4.9999999999998934E-3,4.9999999999998934E-3,4.9999999999998934E-3,4.9999999999998934E-3,4.9999999999998934E-3,4.9999999999998934E-3,4.9999999999998934E-3,4.9999999999998934E-3,4.9999999999998934E-3,4.9999999999998934E-3,4.9999999999998934E-3,4.9999999999998934E-3,4.9999999999998934E-3,4.9999999999998934E-3,4.9999999999998934E-3,4.9999999999998934E-3,4.9999999999998934E-3,4.9999999999998934E-3,4.9999999999998934E-3,4.9999999999998934E-3,4.9999999999998934E-3,4.9999999999998934E-3,4.9999999999998934E-3,4.9999999999998934E-3,4.9999999999998934E-3,4.9999999999998934E-3,4.9999999999998934E-3,4.9999999999998934E-3,{"$f":"(1+$F$21)^(LU7/Months)-1","v":4.9999999999998934E-3},4.9999999999998934E-3,4.9999999999998934E-3,4.9999999999998934E-3,4.9999999999998934E-3,4.9999999999998934E-3,4.9999999999998934E-3,{"$f":"(1+$F$21)^(MB7/Months)-1","v":4.9999999999998934E-3},4.9999999999998934E-3,4.9999999999998934E-3,4.9999999999998934E-3,4.9999999999998934E-3,4.9999999999998934E-3,4.9999999999998934E-3,4.9999999999998934E-3,4.9999999999998934E-3,4.9999999999998934E-3,4.9999999999998934E-3,4.9999999999998934E-3,4.9999999999998934E-3,4.9999999999998934E-3,4.9999999999998934E-3,4.9999999999998934E-3,4.9999999999998934E-3,4.9999999999998934E-3,4.9999999999998934E-3,{"$f":"(1+$F$21)^(MU7/Months)-1","v":4.9999999999998934E-3},4.9999999999998934E-3,4.9999999999998934E-3,4.9999999999998934E-3,4.9999999999998934E-3,4.9999999999998934E-3,4.9999999999998934E-3,{"$f":"(1+$F$21)^(NB7/Months)-1","v":4.9999999999998934E-3},4.9999999999998934E-3,4.9999999999998934E-3,4.9999999999998934E-3,4.9999999999998934E-3,4.9999999999998934E-3,4.9999999999998934E-3,4.9999999999998934E-3,4.9999999999998934E-3,4.9999999999998934E-3,4.9999999999998934E-3,4.9999999999998934E-3,4.9999999999998934E-3,4.9999999999998934E-3,4.9999999999998934E-3,{"$f":"(1+$F$21)^(NQ7/Months)-1","v":4.9999999999998934E-3},4.9999999999998934E-3,4.9999999999998934E-3,4.9999999999998934E-3,4.9999999999998934E-3,4.9999999999998934E-3,4.9999999999998934E-3,4.9999999999998934E-3,4.9999999999998934E-3,4.9999999999998934E-3,4.9999999999998934E-3,4.9999999999998934E-3,4.9999999999998934E-3,4.9999999999998934E-3,4.9999999999998934E-3,4.9999999999998934E-3,4.9999999999998934E-3,4.9999999999998934E-3,4.9999999999998934E-3,4.9999999999998934E-3,4.9999999999998934E-3,4.9999999999998934E-3,4.9999999999998934E-3,4.9999999999998934E-3,4.9999999999998934E-3,4.9999999999998934E-3,4.9999999999998934E-3,4.9999999999998934E-3,4.9999999999998934E-3,4.9999999999998934E-3,4.9999999999998934E-3,4.9999999999998934E-3,4.9999999999998934E-3,4.9999999999998934E-3,4.9999999999998934E-3,4.9999999999998934E-3,4.9999999999998934E-3,4.9999999999998934E-3,4.9999999999998934E-3,4.9999999999998934E-3,4.9999999999998934E-3,4.9999999999998934E-3,4.9999999999998934E-3,4.9999999999998934E-3,4.9999999999998934E-3,4.9999999999998934E-3,4.9999999999998934E-3,4.9999999999998934E-3,4.9999999999998934E-3,4.9999999999998934E-3,4.9999999999998934E-3,4.9999999999998934E-3,4.9999999999998934E-3,4.9999999999998934E-3,4.9999999999998934E-3,4.9999999999998934E-3,4.9999999999998934E-3,4.9999999999998934E-3,4.9999999999998934E-3,4.9999999999998934E-3,4.9999999999998934E-3,4.9999999999998934E-3,4.9999999999998934E-3,4.9999999999998934E-3,{"$f":"(1+$F$21)^(QC7/Months)-1","v":4.9999999999998934E-3},4.9999999999998934E-3,4.9999999999998934E-3,4.9999999999998934E-3,4.9999999999998934E-3,4.9999999999998934E-3,4.9999999999998934E-3,4.9999999999998934E-3,4.9999999999998934E-3,4.9999999999998934E-3,4.9999999999998934E-3,4.9999999999998934E-3,4.9999999999998934E-3,4.9999999999998934E-3,4.9999999999998934E-3,4.9999999999998934E-3,4.9999999999998934E-3,4.9999999999998934E-3,4.9999999999998934E-3,4.9999999999998934E-3,4.9999999999998934E-3,4.9999999999998934E-3,4.9999999999998934E-3,4.9999999999998934E-3,4.9999999999998934E-3,4.9999999999998934E-3,4.9999999999998934E-3,4.9999999999998934E-3,4.9999999999998934E-3,4.9999999999998934E-3,4.9999999999998934E-3,4.9999999999998934E-3,4.9999999999998934E-3,4.9999999999998934E-3,4.9999999999998934E-3,4.9999999999998934E-3,4.9999999999998934E-3,4.9999999999998934E-3,4.9999999999998934E-3,4.9999999999998934E-3,4.9999999999998934E-3,4.9999999999998934E-3,4.9999999999998934E-3,4.9999999999998934E-3,4.9999999999998934E-3,4.9999999999998934E-3,4.9999999999998934E-3,4.9999999999998934E-3,4.9999999999998934E-3,4.9999999999998934E-3,4.9999999999998934E-3,4.9999999999998934E-3,4.9999999999998934E-3]
[null,null,null,"Degradation Index",null,null,null,null,"Index",1,{"$f":"J22*(1-K21*K10)","v":1},{"$f":"K22*(1-L21*L10)","v":0.99500000000000011},0.99002500000000027,0.98507487500000035,0.9801495006250005,0.97524875312187564,0.9703725093562664,0.96552064680948513,0.96069304357543783,0.95588957835756072,0.95111013046577297,0.94635457981344417,0.94162280691437705,0.93691469287980522,0.93223011941540634,0.9275689688183294,0.92293112397423782,0.91831646835436676,0.91372488601259505,0.90915626158253215,0.90461048027461954,0.90008742787324658,0.89558699073388048,0.89110905578021116,0.88665351050131025,0.88222024294880375,0.88222024294880375,0.88222024294880375,0.88222024294880375,0.88222024294880375,0.88222024294880375,0.88222024294880375,0.88222024294880375,0.88222024294880375,0.88222024294880375,0.88222024294880375,0.88222024294880375,0.88222024294880375,0.88222024294880375,0.88222024294880375,0.88222024294880375,0.88222024294880375,0.88222024294880375,0.88222024294880375,0.88222024294880375,0.88222024294880375,0.88222024294880375,0.88222024294880375,0.88222024294880375,0.88222024294880375,0.88222024294880375,0.88222024294880375,0.88222024294880375,0.88222024294880375,0.88222024294880375,0.88222024294880375,0.88222024294880375,0.88222024294880375,0.88222024294880375,0.88222024294880375,0.88222024294880375,0.88222024294880375,0.88222024294880375,0.88222024294880375,0.88222024294880375,{"$f":"BW22*(1-BX21*BX10)","v":0.88222024294880375},0.88222024294880375,0.88222024294880375,0.88222024294880375,0.88222024294880375,0.88222024294880375,0.88222024294880375,0.88222024294880375,0.88222024294880375,0.88222024294880375,0.88222024294880375,0.88222024294880375,0.88222024294880375,0.88222024294880375,0.88222024294880375,0.88222024294880375,0.88222024294880375,0.88222024294880375,0.88222024294880375,0.88222024294880375,0.88222024294880375,0.88222024294880375,0.88222024294880375,0.88222024294880375,0.88222024294880375,0.88222024294880375,0.88222024294880375,0.88222024294880375,0.88222024294880375,0.88222024294880375,0.88222024294880375,0.88222024294880375,0.88222024294880375,0.88222024294880375,0.88222024294880375,0.88222024294880375,0.88222024294880375,0.88222024294880375,0.88222024294880375,0.88222024294880375,0.88222024294880375,0.88222024294880375,0.88222024294880375,0.88222024294880375,0.88222024294880375,0.88222024294880375,0.88222024294880375,0.88222024294880375,0.88222024294880375,0.88222024294880375,0.88222024294880375,0.88222024294880375,0.88222024294880375,0.88222024294880375,0.88222024294880375,0.88222024294880375,0.88222024294880375,0.88222024294880375,0.88222024294880375,0.88222024294880375,0.88222024294880375,0.88222024294880375,0.88222024294880375,0.88222024294880375,{"$f":"EI22*(1-EJ21*EJ10)","v":0.88222024294880375},0.88222024294880375,0.88222024294880375,0.88222024294880375,0.88222024294880375,0.88222024294880375,0.88222024294880375,0.88222024294880375,0.88222024294880375,0.88222024294880375,0.88222024294880375,0.88222024294880375,0.88222024294880375,0.88222024294880375,0.88222024294880375,0.88222024294880375,0.88222024294880375,0.88222024294880375,0.88222024294880375,0.88222024294880375,0.88222024294880375,{"$f":"FD22*(1-FE21*FE10)","v":0.88222024294880375},{"$f":"FE22*(1-FF21*FF10)","v":0.88222024294880375},{"$f":"FF22*(1-FG21*FG10)","v":0.88222024294880375},{"$f":"FG22*(1-FH21*FH10)","v":0.88222024294880375},{"$f":"FH22*(1-FI21*FI10)","v":0.88222024294880375},{"$f":"FI22*(1-FJ21*FJ10)","v":0.88222024294880375},{"$f":"FJ22*(1-FK21*FK10)","v":0.88222024294880375},{"$f":"FK22*(1-FL21*FL10)","v":0.88222024294880375},{"$f":"FL22*(1-FM21*FM10)","v":0.88222024294880375},{"$f":"FM22*(1-FN21*FN10)","v":0.88222024294880375},{"$f":"FN22*(1-FO21*FO10)","v":0.88222024294880375},{"$f":"FO22*(1-FP21*FP10)","v":0.88222024294880375},{"$f":"FP22*(1-FQ21*FQ10)","v":0.88222024294880375},{"$f":"FQ22*(1-FR21*FR10)","v":0.88222024294880375},{"$f":"FR22*(1-FS21*FS10)","v":0.88222024294880375},{"$f":"FS22*(1-FT21*FT10)","v":0.88222024294880375},{"$f":"FT22*(1-FU21*FU10)","v":0.88222024294880375},{"$f":"FU22*(1-FV21*FV10)","v":0.88222024294880375},{"$f":"FV22*(1-FW21*FW10)","v":0.88222024294880375},{"$f":"FW22*(1-FX21*FX10)","v":0.88222024294880375},{"$f":"FX22*(1-FY21*FY10)","v":0.88222024294880375},{"$f":"FY22*(1-FZ21*FZ10)","v":0.88222024294880375},{"$f":"FZ22*(1-GA21*GA10)","v":0.88222024294880375},{"$f":"GA22*(1-GB21*GB10)","v":0.88222024294880375},{"$f":"GB22*(1-GC21*GC10)","v":0.88222024294880375},{"$f":"GC22*(1-GD21*GD10)","v":0.88222024294880375},{"$f":"GD22*(1-GE21*GE10)","v":0.88222024294880375},{"$f":"GE22*(1-GF21*GF10)","v":0.88222024294880375},{"$f":"GF22*(1-GG21*GG10)","v":0.88222024294880375},{"$f":"GG22*(1-GH21*GH10)","v":0.88222024294880375},{"$f":"GH22*(1-GI21*GI10)","v":0.88222024294880375},{"$f":"GI22*(1-GJ21*GJ10)","v":0.88222024294880375},{"$f":"GJ22*(1-GK21*GK10)","v":0.88222024294880375},{"$f":"GK22*(1-GL21*GL10)","v":0.88222024294880375},{"$f":"GL22*(1-GM21*GM10)","v":0.88222024294880375},{"$f":"GM22*(1-GN21*GN10)","v":0.88222024294880375},{"$f":"GN22*(1-GO21*GO10)","v":0.88222024294880375},{"$f":"GO22*(1-GP21*GP10)","v":0.88222024294880375},{"$f":"GP22*(1-GQ21*GQ10)","v":0.88222024294880375},{"$f":"GQ22*(1-GR21*GR10)","v":0.88222024294880375},{"$f":"GR22*(1-GS21*GS10)","v":0.88222024294880375},{"$f":"GS22*(1-GT21*GT10)","v":0.88222024294880375},{"$f":"GT22*(1-GU21*GU10)","v":0.88222024294880375},{"$f":"GU22*(1-GV21*GV10)","v":0.88222024294880375},{"$f":"GV22*(1-GW21*GW10)","v":0.88222024294880375},{"$f":"GW22*(1-GX21*GX10)","v":0.88222024294880375},{"$f":"GX22*(1-GY21*GY10)","v":0.88222024294880375},{"$f":"GY22*(1-GZ21*GZ10)","v":0.88222024294880375},{"$f":"GZ22*(1-HA21*HA10)","v":0.88222024294880375},{"$f":"HA22*(1-HB21*HB10)","v":0.88222024294880375},{"$f":"HB22*(1-HC21*HC10)","v":0.88222024294880375},{"$f":"HC22*(1-HD21*HD10)","v":0.88222024294880375},{"$f":"HD22*(1-HE21*HE10)","v":0.88222024294880375},{"$f":"HE22*(1-HF21*HF10)","v":0.88222024294880375},{"$f":"HF22*(1-HG21*HG10)","v":0.88222024294880375},{"$f":"HG22*(1-HH21*HH10)","v":0.88222024294880375},{"$f":"HH22*(1-HI21*HI10)","v":0.88222024294880375},{"$f":"HI22*(1-HJ21*HJ10)","v":0.88222024294880375},{"$f":"HJ22*(1-HK21*HK10)","v":0.88222024294880375},{"$f":"HK22*(1-HL21*HL10)","v":0.88222024294880375},{"$f":"HL22*(1-HM21*HM10)","v":0.88222024294880375},{"$f":"HM22*(1-HN21*HN10)","v":0.88222024294880375},{"$f":"HN22*(1-HO21*HO10)","v":0.88222024294880375},{"$f":"HO22*(1-HP21*HP10)","v":0.88222024294880375},{"$f":"HP22*(1-HQ21*HQ10)","v":0.88222024294880375},{"$f":"HQ22*(1-HR21*HR10)","v":0.88222024294880375},{"$f":"HR22*(1-HS21*HS10)","v":0.88222024294880375},{"$f":"HS22*(1-HT21*HT10)","v":0.88222024294880375},{"$f":"HT22*(1-HU21*HU10)","v":0.88222024294880375},{"$f":"HU22*(1-HV21*HV10)","v":0.88222024294880375},{"$f":"HV22*(1-HW21*HW10)","v":0.88222024294880375},{"$f":"HW22*(1-HX21*HX10)","v":0.88222024294880375},{"$f":"HX22*(1-HY21*HY10)","v":0.88222024294880375},{"$f":"HY22*(1-HZ21*HZ10)","v":0.88222024294880375},{"$f":"HZ22*(1-IA21*IA10)","v":0.88222024294880375},{"$f":"IA22*(1-IB21*IB10)","v":0.88222024294880375},{"$f":"IB22*(1-IC21*IC10)","v":0.88222024294880375},{"$f":"IC22*(1-ID21*ID10)","v":0.88222024294880375},{"$f":"ID22*(1-IE21*IE10)","v":0.88222024294880375},{"$f":"IE22*(1-IF21*IF10)","v":0.88222024294880375},{"$f":"IF22*(1-IG21*IG10)","v":0.88222024294880375},{"$f":"IG22*(1-IH21*IH10)","v":0.88222024294880375},{"$f":"IH22*(1-II21*II10)","v":0.88222024294880375},{"$f":"II22*(1-IJ21*IJ10)","v":0.88222024294880375},{"$f":"IJ22*(1-IK21*IK10)","v":0.88222024294880375},{"$f":"IK22*(1-IL21*IL10)","v":0.88222024294880375},{"$f":"IL22*(1-IM21*IM10)","v":0.88222024294880375},{"$f":"IM22*(1-IN21*IN10)","v":0.88222024294880375},{"$f":"IN22*(1-IO21*IO10)","v":0.88222024294880375},{"$f":"IO22*(1-IP21*IP10)","v":0.88222024294880375},{"$f":"IP22*(1-IQ21*IQ10)","v":0.88222024294880375},{"$f":"IQ22*(1-IR21*IR10)","v":0.88222024294880375},{"$f":"IR22*(1-IS21*IS10)","v":0.88222024294880375},{"$f":"IS22*(1-IT21*IT10)","v":0.88222024294880375},{"$f":"IT22*(1-IU21*IU10)","v":0.88222024294880375},{"$f":"IU22*(1-IV21*IV10)","v":0.88222024294880375},{"$f":"IV22*(1-IW21*IW10)","v":0.88222024294880375},{"$f":"IW22*(1-IX21*IX10)","v":0.88222024294880375},{"$f":"IX22*(1-IY21*IY10)","v":0.88222024294880375},{"$f":"IY22*(1-IZ21*IZ10)","v":0.88222024294880375},{"$f":"IZ22*(1-JA21*JA10)","v":0.88222024294880375},{"$f":"JA22*(1-JB21*JB10)","v":0.88222024294880375},{"$f":"JB22*(1-JC21*JC10)","v":0.88222024294880375},{"$f":"JC22*(1-JD21*JD10)","v":0.88222024294880375},{"$f":"JD22*(1-JE21*JE10)","v":0.88222024294880375},{"$f":"JE22*(1-JF21*JF10)","v":0.88222024294880375},{"$f":"JF22*(1-JG21*JG10)","v":0.88222024294880375},{"$f":"JG22*(1-JH21*JH10)","v":0.88222024294880375},{"$f":"JH22*(1-JI21*JI10)","v":0.88222024294880375},{"$f":"JI22*(1-JJ21*JJ10)","v":0.88222024294880375},{"$f":"JJ22*(1-JK21*JK10)","v":0.88222024294880375},{"$f":"JK22*(1-JL21*JL10)","v":0.88222024294880375},{"$f":"JL22*(1-JM21*JM10)","v":0.88222024294880375},{"$f":"JM22*(1-JN21*JN10)","v":0.88222024294880375},{"$f":"JN22*(1-JO21*JO10)","v":0.88222024294880375},{"$f":"JO22*(1-JP21*JP10)","v":0.88222024294880375},{"$f":"JP22*(1-JQ21*JQ10)","v":0.88222024294880375},{"$f":"JQ22*(1-JR21*JR10)","v":0.88222024294880375},{"$f":"JR22*(1-JS21*JS10)","v":0.88222024294880375},{"$f":"JS22*(1-JT21*JT10)","v":0.88222024294880375},{"$f":"JT22*(1-JU21*JU10)","v":0.88222024294880375},{"$f":"JU22*(1-JV21*JV10)","v":0.88222024294880375},{"$f":"JV22*(1-JW21*JW10)","v":0.88222024294880375},{"$f":"JW22*(1-JX21*JX10)","v":0.88222024294880375},{"$f":"JX22*(1-JY21*JY10)","v":0.88222024294880375},{"$f":"JY22*(1-JZ21*JZ10)","v":0.88222024294880375},{"$f":"JZ22*(1-KA21*KA10)","v":0.88222024294880375},{"$f":"KA22*(1-KB21*KB10)","v":0.88222024294880375},{"$f":"KB22*(1-KC21*KC10)","v":0.88222024294880375},{"$f":"KC22*(1-KD21*KD10)","v":0.88222024294880375},{"$f":"KD22*(1-KE21*KE10)","v":0.88222024294880375},{"$f":"KE22*(1-KF21*KF10)","v":0.88222024294880375},{"$f":"KF22*(1-KG21*KG10)","v":0.88222024294880375},{"$f":"KG22*(1-KH21*KH10)","v":0.88222024294880375},{"$f":"KH22*(1-KI21*KI10)","v":0.88222024294880375},{"$f":"KI22*(1-KJ21*KJ10)","v":0.88222024294880375},{"$f":"KJ22*(1-KK21*KK10)","v":0.88222024294880375},{"$f":"KK22*(1-KL21*KL10)","v":0.88222024294880375},{"$f":"KL22*(1-KM21*KM10)","v":0.88222024294880375},{"$f":"KM22*(1-KN21*KN10)","v":0.88222024294880375},{"$f":"KN22*(1-KO21*KO10)","v":0.88222024294880375},{"$f":"KO22*(1-KP21*KP10)","v":0.88222024294880375},{"$f":"KP22*(1-KQ21*KQ10)","v":0.88222024294880375},{"$f":"KQ22*(1-KR21*KR10)","v":0.88222024294880375},{"$f":"KR22*(1-KS21*KS10)","v":0.88222024294880375},{"$f":"KS22*(1-KT21*KT10)","v":0.88222024294880375},{"$f":"KT22*(1-KU21*KU10)","v":0.88222024294880375},{"$f":"KU22*(1-KV21*KV10)","v":0.88222024294880375},{"$f":"KV22*(1-KW21*KW10)","v":0.88222024294880375},{"$f":"KW22*(1-KX21*KX10)","v":0.88222024294880375},{"$f":"KX22*(1-KY21*KY10)","v":0.88222024294880375},{"$f":"KY22*(1-KZ21*KZ10)","v":0.88222024294880375},{"$f":"KZ22*(1-LA21*LA10)","v":0.88222024294880375},{"$f":"LA22*(1-LB21*LB10)","v":0.88222024294880375},{"$f":"LB22*(1-LC21*LC10)","v":0.88222024294880375},{"$f":"LC22*(1-LD21*LD10)","v":0.88222024294880375},{"$f":"LD22*(1-LE21*LE10)","v":0.88222024294880375},{"$f":"LE22*(1-LF21*LF10)","v":0.88222024294880375},{"$f":"LF22*(1-LG21*LG10)","v":0.88222024294880375},{"$f":"LG22*(1-LH21*LH10)","v":0.88222024294880375},{"$f":"LH22*(1-LI21*LI10)","v":0.88222024294880375},{"$f":"LI22*(1-LJ21*LJ10)","v":0.88222024294880375},{"$f":"LJ22*(1-LK21*LK10)","v":0.88222024294880375},{"$f":"LK22*(1-LL21*LL10)","v":0.88222024294880375},{"$f":"LL22*(1-LM21*LM10)","v":0.88222024294880375},{"$f":"LM22*(1-LN21*LN10)","v":0.88222024294880375},{"$f":"LN22*(1-LO21*LO10)","v":0.88222024294880375},{"$f":"LO22*(1-LP21*LP10)","v":0.88222024294880375},{"$f":"LP22*(1-LQ21*LQ10)","v":0.88222024294880375},{"$f":"LQ22*(1-LR21*LR10)","v":0.88222024294880375},{"$f":"LR22*(1-LS21*LS10)","v":0.88222024294880375},{"$f":"LS22*(1-LT21*LT10)","v":0.88222024294880375},{"$f":"LT22*(1-LU21*LU10)","v":0.88222024294880375},{"$f":"LU22*(1-LV21*LV10)","v":0.88222024294880375},{"$f":"LV22*(1-LW21*LW10)","v":0.88222024294880375},{"$f":"LW22*(1-LX21*LX10)","v":0.88222024294880375},{"$f":"LX22*(1-LY21*LY10)","v":0.88222024294880375},{"$f":"LY22*(1-LZ21*LZ10)","v":0.88222024294880375},{"$f":"LZ22*(1-MA21*MA10)","v":0.88222024294880375},{"$f":"MA22*(1-MB21*MB10)","v":0.88222024294880375},{"$f":"MB22*(1-MC21*MC10)","v":0.88222024294880375},{"$f":"MC22*(1-MD21*MD10)","v":0.88222024294880375},{"$f":"MD22*(1-ME21*ME10)","v":0.88222024294880375},{"$f":"ME22*(1-MF21*MF10)","v":0.88222024294880375},{"$f":"MF22*(1-MG21*MG10)","v":0.88222024294880375},{"$f":"MG22*(1-MH21*MH10)","v":0.88222024294880375},{"$f":"MH22*(1-MI21*MI10)","v":0.88222024294880375},{"$f":"MI22*(1-MJ21*MJ10)","v":0.88222024294880375},{"$f":"MJ22*(1-MK21*MK10)","v":0.88222024294880375},{"$f":"MK22*(1-ML21*ML10)","v":0.88222024294880375},{"$f":"ML22*(1-MM21*MM10)","v":0.88222024294880375},{"$f":"MM22*(1-MN21*MN10)","v":0.88222024294880375},{"$f":"MN22*(1-MO21*MO10)","v":0.88222024294880375},{"$f":"MO22*(1-MP21*MP10)","v":0.88222024294880375},{"$f":"MP22*(1-MQ21*MQ10)","v":0.88222024294880375},{"$f":"MQ22*(1-MR21*MR10)","v":0.88222024294880375},{"$f":"MR22*(1-MS21*MS10)","v":0.88222024294880375},{"$f":"MS22*(1-MT21*MT10)","v":0.88222024294880375},{"$f":"MT22*(1-MU21*MU10)","v":0.88222024294880375},{"$f":"MU22*(1-MV21*MV10)","v":0.88222024294880375},{"$f":"MV22*(1-MW21*MW10)","v":0.88222024294880375},{"$f":"MW22*(1-MX21*MX10)","v":0.88222024294880375},{"$f":"MX22*(1-MY21*MY10)","v":0.88222024294880375},{"$f":"MY22*(1-MZ21*MZ10)","v":0.88222024294880375},{"$f":"MZ22*(1-NA21*NA10)","v":0.88222024294880375},{"$f":"NA22*(1-NB21*NB10)","v":0.88222024294880375},{"$f":"NB22*(1-NC21*NC10)","v":0.88222024294880375},{"$f":"NC22*(1-ND21*ND10)","v":0.88222024294880375},{"$f":"ND22*(1-NE21*NE10)","v":0.88222024294880375},{"$f":"NE22*(1-NF21*NF10)","v":0.88222024294880375},{"$f":"NF22*(1-NG21*NG10)","v":0.88222024294880375},{"$f":"NG22*(1-NH21*NH10)","v":0.88222024294880375},{"$f":"NH22*(1-NI21*NI10)","v":0.88222024294880375},{"$f":"NI22*(1-NJ21*NJ10)","v":0.88222024294880375},{"$f":"NJ22*(1-NK21*NK10)","v":0.88222024294880375},{"$f":"NK22*(1-NL21*NL10)","v":0.88222024294880375},{"$f":"NL22*(1-NM21*NM10)","v":0.88222024294880375},{"$f":"NM22*(1-NN21*NN10)","v":0.88222024294880375},{"$f":"NN22*(1-NO21*NO10)","v":0.88222024294880375},{"$f":"NO22*(1-NP21*NP10)","v":0.88222024294880375},{"$f":"NP22*(1-NQ21*NQ10)","v":0.88222024294880375},{"$f":"NQ22*(1-NR21*NR10)","v":0.88222024294880375},{"$f":"NR22*(1-NS21*NS10)","v":0.88222024294880375},{"$f":"NS22*(1-NT21*NT10)","v":0.88222024294880375},{"$f":"NT22*(1-NU21*NU10)","v":0.88222024294880375},{"$f":"NU22*(1-NV21*NV10)","v":0.88222024294880375},{"$f":"NV22*(1-NW21*NW10)","v":0.88222024294880375},{"$f":"NW22*(1-NX21*NX10)","v":0.88222024294880375},{"$f":"NX22*(1-NY21*NY10)","v":0.88222024294880375},{"$f":"NY22*(1-NZ21*NZ10)","v":0.88222024294880375},{"$f":"NZ22*(1-OA21*OA10)","v":0.88222024294880375},{"$f":"OA22*(1-OB21*OB10)","v":0.88222024294880375},{"$f":"OB22*(1-OC21*OC10)","v":0.88222024294880375},{"$f":"OC22*(1-OD21*OD10)","v":0.88222024294880375},{"$f":"OD22*(1-OE21*OE10)","v":0.88222024294880375},{"$f":"OE22*(1-OF21*OF10)","v":0.88222024294880375},{"$f":"OF22*(1-OG21*OG10)","v":0.88222024294880375},{"$f":"OG22*(1-OH21*OH10)","v":0.88222024294880375},{"$f":"OH22*(1-OI21*OI10)","v":0.88222024294880375},{"$f":"OI22*(1-OJ21*OJ10)","v":0.88222024294880375},{"$f":"OJ22*(1-OK21*OK10)","v":0.88222024294880375},{"$f":"OK22*(1-OL21*OL10)","v":0.88222024294880375},{"$f":"OL22*(1-OM21*OM10)","v":0.88222024294880375},{"$f":"OM22*(1-ON21*ON10)","v":0.88222024294880375},{"$f":"ON22*(1-OO21*OO10)","v":0.88222024294880375},{"$f":"OO22*(1-OP21*OP10)","v":0.88222024294880375},{"$f":"OP22*(1-OQ21*OQ10)","v":0.88222024294880375},{"$f":"OQ22*(1-OR21*OR10)","v":0.88222024294880375},{"$f":"OR22*(1-OS21*OS10)","v":0.88222024294880375},{"$f":"OS22*(1-OT21*OT10)","v":0.88222024294880375},{"$f":"OT22*(1-OU21*OU10)","v":0.88222024294880375},{"$f":"OU22*(1-OV21*OV10)","v":0.88222024294880375},{"$f":"OV22*(1-OW21*OW10)","v":0.88222024294880375},{"$f":"OW22*(1-OX21*OX10)","v":0.88222024294880375},{"$f":"OX22*(1-OY21*OY10)","v":0.88222024294880375},{"$f":"OY22*(1-OZ21*OZ10)","v":0.88222024294880375},{"$f":"OZ22*(1-PA21*PA10)","v":0.88222024294880375},{"$f":"PA22*(1-PB21*PB10)","v":0.88222024294880375},{"$f":"PB22*(1-PC21*PC10)","v":0.88222024294880375},{"$f":"PC22*(1-PD21*PD10)","v":0.88222024294880375},{"$f":"PD22*(1-PE21*PE10)","v":0.88222024294880375},{"$f":"PE22*(1-PF21*PF10)","v":0.88222024294880375},{"$f":"PF22*(1-PG21*PG10)","v":0.88222024294880375},{"$f":"PG22*(1-PH21*PH10)","v":0.88222024294880375},{"$f":"PH22*(1-PI21*PI10)","v":0.88222024294880375},{"$f":"PI22*(1-PJ21*PJ10)","v":0.88222024294880375},{"$f":"PJ22*(1-PK21*PK10)","v":0.88222024294880375},{"$f":"PK22*(1-PL21*PL10)","v":0.88222024294880375},{"$f":"PL22*(1-PM21*PM10)","v":0.88222024294880375},{"$f":"PM22*(1-PN21*PN10)","v":0.88222024294880375},{"$f":"PN22*(1-PO21*PO10)","v":0.88222024294880375},{"$f":"PO22*(1-PP21*PP10)","v":0.88222024294880375},{"$f":"PP22*(1-PQ21*PQ10)","v":0.88222024294880375},{"$f":"PQ22*(1-PR21*PR10)","v":0.88222024294880375},{"$f":"PR22*(1-PS21*PS10)","v":0.88222024294880375},{"$f":"PS22*(1-PT21*PT10)","v":0.88222024294880375},{"$f":"PT22*(1-PU21*PU10)","v":0.88222024294880375},{"$f":"PU22*(1-PV21*PV10)","v":0.88222024294880375},{"$f":"PV22*(1-PW21*PW10)","v":0.88222024294880375},{"$f":"PW22*(1-PX21*PX10)","v":0.88222024294880375},{"$f":"PX22*(1-PY21*PY10)","v":0.88222024294880375},{"$f":"PY22*(1-PZ21*PZ10)","v":0.88222024294880375},{"$f":"PZ22*(1-QA21*QA10)","v":0.88222024294880375},{"$f":"QA22*(1-QB21*QB10)","v":0.88222024294880375},{"$f":"QB22*(1-QC21*QC10)","v":0.88222024294880375},{"$f":"QC22*(1-QD21*QD10)","v":0.88222024294880375},{"$f":"QD22*(1-QE21*QE10)","v":0.88222024294880375},{"$f":"QE22*(1-QF21*QF10)","v":0.88222024294880375},{"$f":"QF22*(1-QG21*QG10)","v":0.88222024294880375},{"$f":"QG22*(1-QH21*QH10)","v":0.88222024294880375},{"$f":"QH22*(1-QI21*QI10)","v":0.88222024294880375},{"$f":"QI22*(1-QJ21*QJ10)","v":0.88222024294880375},{"$f":"QJ22*(1-QK21*QK10)","v":0.88222024294880375},{"$f":"QK22*(1-QL21*QL10)","v":0.88222024294880375},{"$f":"QL22*(1-QM21*QM10)","v":0.88222024294880375},{"$f":"QM22*(1-QN21*QN10)","v":0.88222024294880375},{"$f":"QN22*(1-QO21*QO10)","v":0.88222024294880375},{"$f":"QO22*(1-QP21*QP10)","v":0.88222024294880375},{"$f":"QP22*(1-QQ21*QQ10)","v":0.88222024294880375},{"$f":"QQ22*(1-QR21*QR10)","v":0.88222024294880375},{"$f":"QR22*(1-QS21*QS10)","v":0.88222024294880375},{"$f":"QS22*(1-QT21*QT10)","v":0.88222024294880375},{"$f":"QT22*(1-QU21*QU10)","v":0.88222024294880375},{"$f":"QU22*(1-QV21*QV10)","v":0.88222024294880375},{"$f":"QV22*(1-QW21*QW10)","v":0.88222024294880375},{"$f":"QW22*(1-QX21*QX10)","v":0.88222024294880375},{"$f":"QX22*(1-QY21*QY10)","v":0.88222024294880375},{"$f":"QY22*(1-QZ21*QZ10)","v":0.88222024294880375},{"$f":"QZ22*(1-RA21*RA10)","v":0.88222024294880375},{"$f":"RA22*(1-RB21*RB10)","v":0.88222024294880375},{"$f":"RB22*(1-RC21*RC10)","v":0.88222024294880375},{"$f":"RC22*(1-RD21*RD10)","v":0.88222024294880375},{"$f":"RD22*(1-RE21*RE10)","v":0.88222024294880375},{"$f":"RE22*(1-RF21*RF10)","v":0.88222024294880375},{"$f":"RF22*(1-RG21*RG10)","v":0.88222024294880375},{"$f":"RG22*(1-RH21*RH10)","v":0.88222024294880375},{"$f":"RH22*(1-RI21*RI10)","v":0.88222024294880375},{"$f":"RI22*(1-RJ21*RJ10)","v":0.88222024294880375},{"$f":"RJ22*(1-RK21*RK10)","v":0.88222024294880375},{"$f":"RK22*(1-RL21*RL10)","v":0.88222024294880375},{"$f":"RL22*(1-RM21*RM10)","v":0.88222024294880375},{"$f":"RM22*(1-RN21*RN10)","v":0.88222024294880375},{"$f":"RN22*(1-RO21*RO10)","v":0.88222024294880375},{"$f":"RO22*(1-RP21*RP10)","v":0.88222024294880375},{"$f":"RP22*(1-RQ21*RQ10)","v":0.88222024294880375},{"$f":"RQ22*(1-RR21*RR10)","v":0.88222024294880375},{"$f":"RR22*(1-RS21*RS10)","v":0.88222024294880375},{"$f":"RS22*(1-RT21*RT10)","v":0.88222024294880375},{"$f":"RT22*(1-RU21*RU10)","v":0.88222024294880375},{"$f":"RU22*(1-RV21*RV10)","v":0.88222024294880375},{"$f":"RV22*(1-RW21*RW10)","v":0.88222024294880375},{"$f":"RW22*(1-RX21*RX10)","v":0.88222024294880375},{"$f":"RX22*(1-RY21*RY10)","v":0.88222024294880375},{"$f":"RY22*(1-RZ21*RZ10)","v":0.88222024294880375},{"$f":"RZ22*(1-SA21*SA10)","v":0.88222024294880375},{"$f":"SA22*(1-SB21*SB10)","v":0.88222024294880375},{"$f":"SB22*(1-SC21*SC10)","v":0.88222024294880375}]
[null,null,null,"Generation after degradation",null,null,null,null,"MWh",null,{"$f":"K20*K22","v":0},{"$f":"L20*L22","v":229937.734},228788.04533000005,227644.10510335007,226505.88457783335,225373.35515494421,224246.48837916952,223125.2559372737,222009.62965758736,220899.58150929943,219795.08360175294,218696.10818374419,217602.62764282551,216514.61450461138,215432.04143208836,214354.88122492793,213283.10681880332,212216.69128470932,211155.60782828581,210099.82978914439,209049.33064019869,208004.08398699772,206964.06356706278,205929.24324922747,204899.59703298137,203875.09904781647,0,0,0,0,0,0,0,0,0,0,0,0,0,0,0,0,0,0,0,0,0,0,0,0,0,0,0,0,0,0,0,0,0,0,0,0,0,0,0,{"$f":"BX20*BX22","v":0},0,0,0,0,0,0,0,0,0,0,0,0,0,0,0,0,0,0,0,0,0,0,0,0,0,0,0,0,0,0,0,0,0,0,0,0,0,0,0,0,0,0,0,0,0,0,0,0,0,0,0,0,0,0,0,0,0,0,0,0,0,0,0,{"$f":"EJ20*EJ22","v":0},0,0,0,0,0,0,0,0,0,0,0,0,0,0,0,0,0,0,0,0,{"$f":"FE20*FE22","v":0},0,0,0,0,0,0,0,0,0,0,0,0,0,0,0,0,0,0,0,0,0,0,0,0,0,0,0,0,0,0,0,0,0,0,0,0,0,0,0,0,0,0,0,0,0,0,0,0,0,0,0,{"$f":"HE20*HE22","v":0},0,0,0,0,0,0,0,0,0,0,0,0,0,0,0,0,0,0,0,0,0,0,0,0,0,0,0,0,0,0,0,0,0,0,0,0,0,0,0,0,0,0,0,0,0,0,0,0,0,0,0,0,0,0,0,0,0,0,0,0,0,0,0,{"$f":"JQ20*JQ22","v":0},0,0,0,0,0,0,0,0,0,0,0,0,0,0,0,0,0,0,0,0,0,0,0,0,0,{"$f":"KQ20*KQ22","v":0},0,0,0,0,0,0,0,0,0,0,0,0,0,0,0,0,0,0,0,0,0,0,0,0,0,0,0,0,0,{"$f":"LU20*LU22","v":0},0,0,0,0,0,0,{"$f":"MB20*MB22","v":0},0,0,0,0,0,0,0,0,0,0,0,0,0,0,0,0,0,0,{"$f":"MU20*MU22","v":0},0,0,0,0,0,0,{"$f":"NB20*NB22","v":0},0,0,0,0,0,0,0,0,0,0,0,0,0,0,{"$f":"NQ20*NQ22","v":0},0,0,0,0,0,0,0,0,0,0,0,0,0,0,0,0,0,0,0,0,0,0,0,0,0,0,0,0,0,0,0,0,0,0,0,0,0,0,0,0,0,0,0,0,0,0,0,0,0,0,0,0,0,0,0,0,0,0,0,0,0,0,0,{"$f":"QC20*QC22","v":0},0,0,0,0,0,0,0,0,0,0,0,0,0,0,0,0,0,0,0,0,0,0,0,0,0,0,0,0,0,0,0,0,0,0,0,0,0,0,0,0,0,0,0,0,0,0,0,0,0,0,0,0]
[]
[null,"Operating Cashflow"]
[]
[null,null,"Capex"]
[null,null,null,"Capex per MW","Rs. In Lakhs/MW",{"$f":"'Input C'!F28","v":400},null,null,"Rs. In Lakhs/MW"]
[null,null,null,"MWp Capacity","MWp",{"$f":"F14","v":130},null,null,"MWp"]
[null,null,null,"Total Cost","Lakhs",{"$f":"F28*F29","v":52000},null,null,"Lakhs",null,{"$f":"$F$30","v":52000},{"$f":"$F$30","v":52000},52000,52000,52000,52000,52000,52000,52000,52000,52000,52000,52000,52000,52000,52000,52000,52000,52000,52000,52000,52000,52000,52000,52000,52000,52000,52000,52000,52000,52000,52000,52000,52000,52000,52000,52000,52000,52000,52000,52000,52000,52000,52000,52000,52000,52000,52000,52000,52000,52000,52000,52000,52000,52000,52000,52000,52000,52000,52000,52000,52000,52000,52000,52000,{"$f":"$F$30","v":52000},52000,52000,52000,52000,52000,52000,52000,52000,52000,52000,52000,52000,52000,52000,52000,52000,52000,52000,52000,52000,52000,52000,52000,52000,52000,52000,52000,52000,52000,52000,52000,52000,52000,52000,52000,52000,52000,52000,52000,52000,52000,52000,52000,52000,52000,52000,52000,52000,52000,52000,52000,52000,52000,52000,52000,52000,52000,52000,52000,52000,52000,52000,52000,{"$f":"$F$30","v":52000},52000,52000,52000,52000,52000,52000,52000,52000,52000,52000,52000,52000,52000,52000,52000,52000,52000,52000,52000,52000,52000,52000,52000,52000,52000,52000,52000,52000,52000,52000,52000,52000,52000,52000,52000,52000,52000,52000,52000,52000,52000,52000,52000,52000,52000,52000,52000,52000,52000,52000,52000,52000,52000,52000,52000,52000,52000,52000,52000,52000,52000,52000,52000,{"$f":"$F$30","v":52000},52000,52000,52000,52000,52000,52000,52000,52000,52000,52000,52000,52000,52000,52000,52000,52000,52000,52000,52000,52000,52000,52000,52000,52000,52000,52000,52000,52000,52000,52000,52000,52000,52000,52000,52000,52000,52000,52000,52000,52000,52000,52000,52000,52000,52000,52000,52000,52000,52000,52000,52000,52000,52000,52000,52000,52000,52000,52000,52000,52000,52000,52000,52000,{"$f":"$F$30","v":52000},52000,52000,52000,52000,52000,52000,52000,52000,52000,52000,52000,52000,52000,52000,52000,52000,52000,52000,52000,52000,52000,52000,52000,52000,52000,52000,52000,52000,52000,52000,52000,52000,52000,52000,52000,52000,52000,52000,52000,52000,52000,52000,52000,52000,52000,52000,52000,52000,52000,52000,52000,52000,52000,52000,52000,52000,52000,52000,52000,52000,52000,52000,52000,{"$f":"$F$30","v":52000},52000,52000,52000,52000,52000,52000,52000,52000,52000,52000,52000,52000,52000,52000,52000,52000,52000,52000,52000,52000,52000,52000,52000,52000,52000,52000,52000,52000,52000,52000,52000,52000,52000,52000,52000,52000,52000,52000,52000,52000,52000,52000,52000,52000,52000,52000,52000,52000,52000,52000,52000,52000,52000,52000,52000,52000,52000,52000,52000,52000,52000,52000,52000,{"$f":"$F$30","v":52000},52000,52000,52000,52000,52000,52000,52000,52000,52000,52000,52000,52000,52000,52000,52000,52000,52000,52000,52000,52000,52000,52000,52000,52000,52000,52000,52000,52000,52000,52000,52000,52000,52000,52000,52000,52000,52000,52000,52000,52000,52000,52000,52000,52000,52000,52000,52000,52000,52000,52000,52000,52000,52000,52000,52000,52000,52000,52000,52000,52000,52000,52000,52000,{"$f":"$F$30","v":52000},52000,52000,52000,52000,52000,52000,52000,52000,52000,52000,52000,52000,52000,52000,52000,52000,52000,52000,52000,52000,52000,52000,52000,52000,52000,52000,52000,52000,52000,52000,52000,52000,52000,52000,52000,52000,52000]
[null,null,null,"Construction Period","Months",null,null,null,"Months",null,{"$f":"J31+K6","v":1},1,1,1,1,1,1,1,1,1,1,1,1,1,1,1,1,1,1,1,1,1,1,1,1,1,1,1,1,1,1,1,1,1,1,1,1,1,1,1,1,1,1,1,1,1,1,1,1,1,1,1,1,1,1,1,1,1,1,1,1,1,1,1,{"$f":"BV31+BW6","v":1},1,1,1,1,1,1,1,1,1,1,1,1,1,1,1,1,1,1,1,1,1,1,1,1,1,1,1,1,1,1,1,1,1,1,1,1,1,1,1,1,1,1,1,1,1,1,1,1,1,1,1,1,1,1,1,1,1,1,1,1,1,1,1,{"$f":"EH31+EI6","v":1},1,1,1,1,1,1,1,1,1,1,1,1,1,1,1,1,1,1,1,1,1,1,1,1,1,1,1,1,1,1,1,1,1,1,1,1,1,1,1,1,1,1,1,1,1,1,1,1,1,1,1,1,1,1,1,1,1,1,1,1,1,1,1,{"$f":"GT31+GU6","v":1},1,1,1,1,1,1,1,1,1,1,1,1,1,1,1,1,1,1,1,1,1,1,1,1,1,1,1,1,1,1,1,1,1,1,1,1,1,1,1,1,1,1,1,1,1,1,1,1,1,1,1,1,1,1,1,1,1,1,1,1,1,1,1,{"$f":"JF31+JG6","v":1},1,1,1,1,1,1,1,1,1,1,1,1,1,1,1,1,1,1,1,1,1,1,1,1,1,1,1,1,1,1,1,1,1,1,1,1,1,1,1,1,1,1,1,1,1,1,1,1,1,1,1,1,1,1,1,1,1,1,1,1,1,1,1,{"$f":"LR31+LS6","v":1},1,1,1,1,1,1,1,1,1,1,1,1,1,1,1,1,1,1,1,1,1,1,1,1,1,1,1,1,1,1,1,1,1,1,1,1,1,1,1,1,1,1,1,1,1,1,1,1,1,1,1,1,1,1,1,1,1,1,1,1,1,1,1,{"$f":"OD31+OE6","v":1},1,1,1,1,1,1,1,1,1,1,1,1,1,1,1,1,1,1,1,1,1,1,1,1,1,1,1,1,1,1,1,1,1,1,1,1,1,1,1,1,1,1,1,1,1,1,1,1,1,1,1,1,1,1,1,1,1,1,1,1,1,1,1,{"$f":"QP31+QQ6","v":1},1,1,1,1,1,1,1,1,1,1,1,1,1,1,1,1,1,1,1,1,1,1,1,1,1,1,1,1,1,1,1,1,1,1,1,1,1,1]
[null,null,null,"S-Curve","%",null,null,{"$f":"SUM(K32:XFD32)","v":0.5},"%",null,{"$f":"LOOKUP(K31,'Input S'!5:5,'Input S'!14:14)*K6","v":0.5},{"$f":"LOOKUP(L31,'Input S'!5:5,'Input S'!14:14)*L6","v":0},{"$f":"LOOKUP(M31,'Input S'!5:5,'Input S'!14:14)*M6","v":0},{"$f":"LOOKUP(N31,'Input S'!5:5,'Input S'!14:14)*N6","v":0},{"$f":"LOOKUP(O31,'Input S'!5:5,'Input S'!14:14)*O6","v":0},{"$f":"LOOKUP(P31,'Input S'!5:5,'Input S'!14:14)*P6","v":0},{"$f":"LOOKUP(Q31,'Input S'!5:5,'Input S'!14:14)*Q6","v":0},{"$f":"LOOKUP(R31,'Input S'!5:5,'Input S'!14:14)*R6","v":0},{"$f":"LOOKUP(S31,'Input S'!5:5,'Input S'!14:14)*S6","v":0},{"$f":"LOOKUP(T31,'Input S'!5:5,'Input S'!14:14)*T6","v":0},{"$f":"LOOKUP(U31,'Input S'!5:5,'Input S'!14:14)*U6","v":0},{"$f":"LOOKUP(V31,'Input S'!5:5,'Input S'!14:14)*V6","v":0},{"$f":"LOOKUP(W31,'Input S'!5:5,'Input S'!14:14)*W6","v":0},{"$f":"LOOKUP(X31,'Input S'!5:5,'Input S'!14:14)*X6","v":0},{"$f":"LOOKUP(Y31,'Input S'!5:5,'Input S'!14:14)*Y6","v":0},{"$f":"LOOKUP(Z31,'Input S'!5:5,'Input S'!14:14)*Z6","v":0},{"$f":"LOOKUP(AA31,'Input S'!5:5,'Input S'!14:14)*AA6","v":0},{"$f":"LOOKUP(AB31,'Input S'!5:5,'Input S'!14:14)*AB6","v":0},{"$f":"LOOKUP(AC31,'Input S'!5:5,'Input S'!14:14)*AC6","v":0},{"$f":"LOOKUP(AD31,'Input S'!5:5,'Input S'!14:14)*AD6","v":0},{"$f":"LOOKUP(AE31,'Input S'!5:5,'Input S'!14:14)*AE6","v":0},{"$f":"LOOKUP(AF31,'Input S'!5:5,'Input S'!14:14)*AF6","v":0},{"$f":"LOOKUP(AG31,'Input S'!5:5,'Input S'!14:14)*AG6","v":0},{"$f":"LOOKUP(AH31,'Input S'!5:5,'Input S'!14:14)*AH6","v":0},{"$f":"LOOKUP(AI31,'Input S'!5:5,'Input S'!14:14)*AI6","v":0},{"$f":"LOOKUP(AJ31,'Input S'!5:5,'Input S'!14:14)*AJ6","v":0},{"$f":"LOOKUP(AK31,'Input S'!5:5,'Input S'!14:14)*AK6","v":0},{"$f":"LOOKUP(AL31,'Input S'!5:5,'Input S'!14:14)*AL6","v":0},{"$f":"LOOKUP(AM31,'Input S'!5:5,'Input S'!14:14)*AM6","v":0},{"$f":"LOOKUP(AN31,'Input S'!5:5,'Input S'!14:14)*AN6","v":0},{"$f":"LOOKUP(AO31,'Input S'!5:5,'Input S'!14:14)*AO6","v":0},{"$f":"LOOKUP(AP31,'Input S'!5:5,'Input S'!14:14)*AP6","v":0},{"$f":"LOOKUP(AQ31,'Input S'!5:5,'Input S'!14:14)*AQ6","v":0},{"$f":"LOOKUP(AR31,'Input S'!5:5,'Input S'!14:14)*AR6","v":0},{"$f":"LOOKUP(AS31,'Input S'!5:5,'Input S'!14:14)*AS6","v":0},{"$f":"LOOKUP(AT31,'Input S'!5:5,'Input S'!14:14)*AT6","v":0},{"$f":"LOOKUP(AU31,'Input S'!5:5,'Input S'!14:14)*AU6","v":0},{"$f":"LOOKUP(AV31,'Input S'!5:5,'Input S'!14:14)*AV6","v":0},{"$f":"LOOKUP(AW31,'Input S'!5:5,'Input S'!14:14)*AW6","v":0},{"$f":"LOOKUP(AX31,'Input S'!5:5,'Input S'!14:14)*AX6","v":0},{"$f":"LOOKUP(AY31,'Input S'!5:5,'Input S'!14:14)*AY6","v":0},{"$f":"LOOKUP(AZ31,'Input S'!5:5,'Input S'!14:14)*AZ6","v":0},{"$f":"LOOKUP(BA31,'Input S'!5:5,'Input S'!14:14)*BA6","v":0},{"$f":"LOOKUP(BB31,'Input S'!5:5,'Input S'!14:14)*BB6","v":0},{"$f":"LOOKUP(BC31,'Input S'!5:5,'Input S'!14:14)*BC6","v":0},{"$f":"LOOKUP(BD31,'Input S'!5:5,'Input S'!14:14)*BD6","v":0},{"$f":"LOOKUP(BE31,'Input S'!5:5,'Input S'!14:14)*BE6","v":0},{"$f":"LOOKUP(BF31,'Input S'!5:5,'Input S'!14:14)*BF6","v":0},{"$f":"LOOKUP(BG31,'Input S'!5:5,'Input S'!14:14)*BG6","v":0},{"$f":"LOOKUP(BH31,'Input S'!5:5,'Input S'!14:14)*BH6","v":0},{"$f":"LOOKUP(BI31,'Input S'!5:5,'Input S'!14:14)*BI6","v":0},{"$f":"LOOKUP(BJ31,'Input S'!5:5,'Input S'!14:14)*BJ6","v":0},{"$f":"LOOKUP(BK31,'Input S'!5:5,'Input S'!14:14)*BK6","v":0},{"$f":"LOOKUP(BL31,'Input S'!5:5,'Input S'!14:14)*BL6","v":0},{"$f":"LOOKUP(BM31,'Input S'!5:5,'Input S'!14:14)*BM6","v":0},{"$f":"LOOKUP(BN31,'Input S'!5:5,'Input S'!14:14)*BN6","v":0},{"$f":"LOOKUP(BO31,'Input S'!5:5,'Input S'!14:14)*BO6","v":0},{"$f":"LOOKUP(BP31,'Input S'!5:5,'Input S'!14:14)*BP6","v":0},{"$f":"LOOKUP(BQ31,'Input S'!5:5,'Input S'!14:14)*BQ6","v":0},{"$f":"LOOKUP(BR31,'Input S'!5:5,'Input S'!14:14)*BR6","v":0},{"$f":"LOOKUP(BS31,'Input S'!5:5,'Input S'!14:14)*BS6","v":0},{"$f":"LOOKUP(BT31,'Input S'!5:5,'Input S'!14:14)*BT6","v":0},{"$f":"LOOKUP(BU31,'Input S'!5:5,'Input S'!14:14)*BU6","v":0},{"$f":"LOOKUP(BV31,'Input S'!5:5,'Input S'!14:14)*BV6","v":0},{"$f":"LOOKUP(BW31,'Input S'!5:5,'Input S'!14:14)*BW6","v":0},{"$f":"LOOKUP(BX31,'Input S'!5:5,'Input S'!14:14)*BX6","v":0},{"$f":"LOOKUP(BY31,'Input S'!5:5,'Input S'!14:14)*BY6","v":0},{"$f":"LOOKUP(BZ31,'Input S'!5:5,'Input S'!14:14)*BZ6","v":0},{"$f":"LOOKUP(CA31,'Input S'!5:5,'Input S'!14:14)*CA6","v":0},{"$f":"LOOKUP(CB31,'Input S'!5:5,'Input S'!14:14)*CB6","v":0},{"$f":"LOOKUP(CC31,'Input S'!5:5,'Input S'!14:14)*CC6","v":0},{"$f":"LOOKUP(CD31,'Input S'!5:5,'Input S'!14:14)*CD6","v":0},{"$f":"LOOKUP(CE31,'Input S'!5:5,'Input S'!14:14)*CE6","v":0},{"$f":"LOOKUP(CF31,'Input S'!5:5,'Input S'!14:14)*CF6","v":0},{"$f":"LOOKUP(CG31,'Input S'!5:5,'Input S'!14:14)*CG6","v":0},{"$f":"LOOKUP(CH31,'Input S'!5:5,'Input S'!14:14)*CH6","v":0},{"$f":"LOOKUP(CI31,'Input S'!5:5,'Input S'!14:14)*CI6","v":0},{"$f":"LOOKUP(CJ31,'Input S'!5:5,'Input S'!14:14)*CJ6","v":0},{"$f":"LOOKUP(CK31,'Input S'!5:5,'Input S'!14:14)*CK6","v":0},{"$f":"LOOKUP(CL31,'Input S'!5:5,'Input S'!14:14)*CL6","v":0},{"$f":"LOOKUP(CM31,'Input S'!5:5,'Input S'!14:14)*CM6","v":0},{"$f":"LOOKUP(CN31,'Input S'!5:5,'Input S'!14:14)*CN6","v":0},{"$f":"LOOKUP(CO31,'Input S'!5:5,'Input S'!14:14)*CO6","v":0},{"$f":"LOOKUP(CP31,'Input S'!5:5,'Input S'!14:14)*CP6","v":0},{"$f":"LOOKUP(CQ31,'Input S'!5:5,'Input S'!14:14)*CQ6","v":0},{"$f":"LOOKUP(CR31,'Input S'!5:5,'Input S'!14:14)*CR6","v":0},{"$f":"LOOKUP(CS31,'Input S'!5:5,'Input S'!14:14)*CS6","v":0},{"$f":"LOOKUP(CT31,'Input S'!5:5,'Input S'!14:14)*CT6","v":0},{"$f":"LOOKUP(CU31,'Input S'!5:5,'Input S'!14:14)*CU6","v":0},{"$f":"LOOKUP(CV31,'Input S'!5:5,'Input S'!14:14)*CV6","v":0},{"$f":"LOOKUP(CW31,'Input S'!5:5,'Input S'!14:14)*CW6","v":0},{"$f":"LOOKUP(CX31,'Input S'!5:5,'Input S'!14:14)*CX6","v":0},{"$f":"LOOKUP(CY31,'Input S'!5:5,'Input S'!14:14)*CY6","v":0},{"$f":"LOOKUP(CZ31,'Input S'!5:5,'Input S'!14:14)*CZ6","v":0},{"$f":"LOOKUP(DA31,'Input S'!5:5,'Input S'!14:14)*DA6","v":0},{"$f":"LOOKUP(DB31,'Input S'!5:5,'Input S'!14:14)*DB6","v":0},{"$f":"LOOKUP(DC31,'Input S'!5:5,'Input S'!14:14)*DC6","v":0},{"$f":"LOOKUP(DD31,'Input S'!5:5,'Input S'!14:14)*DD6","v":0},{"$f":"LOOKUP(DE31,'Input S'!5:5,'Input S'!14:14)*DE6","v":0},{"$f":"LOOKUP(DF31,'Input S'!5:5,'Input S'!14:14)*DF6","v":0},{"$f":"LOOKUP(DG31,'Input S'!5:5,'Input S'!14:14)*DG6","v":0},{"$f":"LOOKUP(DH31,'Input S'!5:5,'Input S'!14:14)*DH6","v":0},{"$f":"LOOKUP(DI31,'Input S'!5:5,'Input S'!14:14)*DI6","v":0},{"$f":"LOOKUP(DJ31,'Input S'!5:5,'Input S'!14:14)*DJ6","v":0},{"$f":"LOOKUP(DK31,'Input S'!5:5,'Input S'!14:14)*DK6","v":0},{"$f":"LOOKUP(DL31,'Input S'!5:5,'Input S'!14:14)*DL6","v":0},{"$f":"LOOKUP(DM31,'Input S'!5:5,'Input S'!14:14)*DM6","v":0},{"$f":"LOOKUP(DN31,'Input S'!5:5,'Input S'!14:14)*DN6","v":0},{"$f":"LOOKUP(DO31,'Input S'!5:5,'Input S'!14:14)*DO6","v":0},{"$f":"LOOKUP(DP31,'Input S'!5:5,'Input S'!14:14)*DP6","v":0},{"$f":"LOOKUP(DQ31,'Input S'!5:5,'Input S'!14:14)*DQ6","v":0},{"$f":"LOOKUP(DR31,'Input S'!5:5,'Input S'!14:14)*DR6","v":0},{"$f":"LOOKUP(DS31,'Input S'!5:5,'Input S'!14:14)*DS6","v":0},{"$f":"LOOKUP(DT31,'Input S'!5:5,'Input S'!14:14)*DT6","v":0},{"$f":"LOOKUP(DU31,'Input S'!5:5,'Input S'!14:14)*DU6","v":0},{"$f":"LOOKUP(DV31,'Input S'!5:5,'Input S'!14:14)*DV6","v":0},{"$f":"LOOKUP(DW31,'Input S'!5:5,'Input S'!14:14)*DW6","v":0},{"$f":"LOOKUP(DX31,'Input S'!5:5,'Input S'!14:14)*DX6","v":0},{"$f":"LOOKUP(DY31,'Input S'!5:5,'Input S'!14:14)*DY6","v":0},{"$f":"LOOKUP(DZ31,'Input S'!5:5,'Input S'!14:14)*DZ6","v":0},{"$f":"LOOKUP(EA31,'Input S'!5:5,'Input S'!14:14)*EA6","v":0},{"$f":"LOOKUP(EB31,'Input S'!5:5,'Input S'!14:14)*EB6","v":0},{"$f":"LOOKUP(EC31,'Input S'!5:5,'Input S'!14:14)*EC6","v":0},{"$f":"LOOKUP(ED31,'Input S'!5:5,'Input S'!14:14)*ED6","v":0},{"$f":"LOOKUP(EE31,'Input S'!5:5,'Input S'!14:14)*EE6","v":0},{"$f":"LOOKUP(EF31,'Input S'!5:5,'Input S'!14:14)*EF6","v":0},{"$f":"LOOKUP(EG31,'Input S'!5:5,'Input S'!14:14)*EG6","v":0},{"$f":"LOOKUP(EH31,'Input S'!5:5,'Input S'!14:14)*EH6","v":0},{"$f":"LOOKUP(EI31,'Input S'!5:5,'Input S'!14:14)*EI6","v":0},{"$f":"LOOKUP(EJ31,'Input S'!5:5,'Input S'!14:14)*EJ6","v":0},{"$f":"LOOKUP(EK31,'Input S'!5:5,'Input S'!14:14)*EK6","v":0},{"$f":"LOOKUP(EL31,'Input S'!5:5,'Input S'!14:14)*EL6","v":0},{"$f":"LOOKUP(EM31,'Input S'!5:5,'Input S'!14:14)*EM6","v":0},{"$f":"LOOKUP(EN31,'Input S'!5:5,'Input S'!14:14)*EN6","v":0},{"$f":"LOOKUP(EO31,'Input S'!5:5,'Input S'!14:14)*EO6","v":0},{"$f":"LOOKUP(EP31,'Input S'!5:5,'Input S'!14:14)*EP6","v":0},{"$f":"LOOKUP(EQ31,'Input S'!5:5,'Input S'!14:14)*EQ6","v":0},{"$f":"LOOKUP(ER31,'Input S'!5:5,'Input S'!14:14)*ER6","v":0},{"$f":"LOOKUP(ES31,'Input S'!5:5,'Input S'!14:14)*ES6","v":0},{"$f":"LOOKUP(ET31,'Input S'!5:5,'Input S'!14:14)*ET6","v":0},{"$f":"LOOKUP(EU31,'Input S'!5:5,'Input S'!14:14)*EU6","v":0},{"$f":"LOOKUP(EV31,'Input S'!5:5,'Input S'!14:14)*EV6","v":0},{"$f":"LOOKUP(EW31,'Input S'!5:5,'Input S'!14:14)*EW6","v":0},{"$f":"LOOKUP(EX31,'Input S'!5:5,'Input S'!14:14)*EX6","v":0},{"$f":"LOOKUP(EY31,'Input S'!5:5,'Input S'!14:14)*EY6","v":0},{"$f":"LOOKUP(EZ31,'Input S'!5:5,'Input S'!14:14)*EZ6","v":0},{"$f":"LOOKUP(FA31,'Input S'!5:5,'Input S'!14:14)*FA6","v":0},{"$f":"LOOKUP(FB31,'Input S'!5:5,'Input S'!14:14)*FB6","v":0},{"$f":"LOOKUP(FC31,'Input S'!5:5,'Input S'!14:14)*FC6","v":0},{"$f":"LOOKUP(FD31,'Input S'!5:5,'Input S'!14:14)*FD6","v":0},{"$f":"LOOKUP(FE31,'Input S'!5:5,'Input S'!14:14)*FE6","v":0},{"$f":"LOOKUP(FF31,'Input S'!5:5,'Input S'!14:14)*FF6","v":0},{"$f":"LOOKUP(FG31,'Input S'!5:5,'Input S'!14:14)*FG6","v":0},{"$f":"LOOKUP(FH31,'Input S'!5:5,'Input S'!14:14)*FH6","v":0},{"$f":"LOOKUP(FI31,'Input S'!5:5,'Input S'!14:14)*FI6","v":0},{"$f":"LOOKUP(FJ31,'Input S'!5:5,'Input S'!14:14)*FJ6","v":0},{"$f":"LOOKUP(FK31,'Input S'!5:5,'Input S'!14:14)*FK6","v":0},{"$f":"LOOKUP(FL31,'Input S'!5:5,'Input S'!14:14)*FL6","v":0},{"$f":"LOOKUP(FM31,'Input S'!5:5,'Input S'!14:14)*FM6","v":0},{"$f":"LOOKUP(FN31,'Input S'!5:5,'Input S'!14:14)*FN6","v":0},{"$f":"LOOKUP(FO31,'Input S'!5:5,'Input S'!14:14)*FO6","v":0},{"$f":"LOOKUP(FP31,'Input S'!5:5,'Input S'!14:14)*FP6","v":0},{"$f":"LOOKUP(FQ31,'Input S'!5:5,'Input S'!14:14)*FQ6","v":0},{"$f":"LOOKUP(FR31,'Input S'!5:5,'Input S'!14:14)*FR6","v":0},{"$f":"LOOKUP(FS31,'Input S'!5:5,'Input S'!14:14)*FS6","v":0},{"$f":"LOOKUP(FT31,'Input S'!5:5,'Input S'!14:14)*FT6","v":0},{"$f":"LOOKUP(FU31,'Input S'!5:5,'Input S'!14:14)*FU6","v":0},{"$f":"LOOKUP(FV31,'Input S'!5:5,'Input S'!14:14)*FV6","v":0},{"$f":"LOOKUP(FW31,'Input S'!5:5,'Input S'!14:14)*FW6","v":0},{"$f":"LOOKUP(FX31,'Input S'!5:5,'Input S'!14:14)*FX6","v":0},{"$f":"LOOKUP(FY31,'Input S'!5:5,'Input S'!14:14)*FY6","v":0},{"$f":"LOOKUP(FZ31,'Input S'!5:5,'Input S'!14:14)*FZ6","v":0},{"$f":"LOOKUP(GA31,'Input S'!5:5,'Input S'!14:14)*GA6","v":0},{"$f":"LOOKUP(GB31,'Input S'!5:5,'Input S'!14:14)*GB6","v":0},{"$f":"LOOKUP(GC31,'Input S'!5:5,'Input S'!14:14)*GC6","v":0},{"$f":"LOOKUP(GD31,'Input S'!5:5,'Input S'!14:14)*GD6","v":0},{"$f":"LOOKUP(GE31,'Input S'!5:5,'Input S'!14:14)*GE6","v":0},{"$f":"LOOKUP(GF31,'Input S'!5:5,'Input S'!14:14)*GF6","v":0},{"$f":"LOOKUP(GG31,'Input S'!5:5,'Input S'!14:14)*GG6","v":0},{"$f":"LOOKUP(GH31,'Input S'!5:5,'Input S'!14:14)*GH6","v":0},{"$f":"LOOKUP(GI31,'Input S'!5:5,'Input S'!14:14)*GI6","v":0},{"$f":"LOOKUP(GJ31,'Input S'!5:5,'Input S'!14:14)*GJ6","v":0},{"$f":"LOOKUP(GK31,'Input S'!5:5,'Input S'!14:14)*GK6","v":0},{"$f":"LOOKUP(GL31,'Input S'!5:5,'Input S'!14:14)*GL6","v":0},{"$f":"LOOKUP(GM31,'Input S'!5:5,'Input S'!14:14)*GM6","v":0},{"$f":"LOOKUP(GN31,'Input S'!5:5,'Input S'!14:14)*GN6","v":0},{"$f":"LOOKUP(GO31,'Input S'!5:5,'Input S'!14:14)*GO6","v":0},{"$f":"LOOKUP(GP31,'Input S'!5:5,'Input S'!14:14)*GP6","v":0},{"$f":"LOOKUP(GQ31,'Input S'!5:5,'Input S'!14:14)*GQ6","v":0},{"$f":"LOOKUP(GR31,'Input S'!5:5,'Input S'!14:14)*GR6","v":0},{"$f":"LOOKUP(GS31,'Input S'!5:5,'Input S'!14:14)*GS6","v":0},{"$f":"LOOKUP(GT31,'Input S'!5:5,'Input S'!14:14)*GT6","v":0},{"$f":"LOOKUP(GU31,'Input S'!5:5,'Input S'!14:14)*GU6","v":0},{"$f":"LOOKUP(GV31,'Input S'!5:5,'Input S'!14:14)*GV6","v":0},{"$f":"LOOKUP(GW31,'Input S'!5:5,'Input S'!14:14)*GW6","v":0},{"$f":"LOOKUP(GX31,'Input S'!5:5,'Input S'!14:14)*GX6","v":0},{"$f":"LOOKUP(GY31,'Input S'!5:5,'Input S'!14:14)*GY6","v":0},{"$f":"LOOKUP(GZ31,'Input S'!5:5,'Input S'!14:14)*GZ6","v":0},{"$f":"LOOKUP(HA31,'Input S'!5:5,'Input S'!14:14)*HA6","v":0},{"$f":"LOOKUP(HB31,'Input S'!5:5,'Input S'!14:14)*HB6","v":0},{"$f":"LOOKUP(HC31,'Input S'!5:5,'Input S'!14:14)*HC6","v":0},{"$f":"LOOKUP(HD31,'Input S'!5:5,'Input S'!14:14)*HD6","v":0},{"$f":"LOOKUP(HE31,'Input S'!5:5,'Input S'!14:14)*HE6","v":0},{"$f":"LOOKUP(HF31,'Input S'!5:5,'Input S'!14:14)*HF6","v":0},{"$f":"LOOKUP(HG31,'Input S'!5:5,'Input S'!14:14)*HG6","v":0},{"$f":"LOOKUP(HH31,'Input S'!5:5,'Input S'!14:14)*HH6","v":0},{"$f":"LOOKUP(HI31,'Input S'!5:5,'Input S'!14:14)*HI6","v":0},{"$f":"LOOKUP(HJ31,'Input S'!5:5,'Input S'!14:14)*HJ6","v":0},{"$f":"LOOKUP(HK31,'Input S'!5:5,'Input S'!14:14)*HK6","v":0},{"$f":"LOOKUP(HL31,'Input S'!5:5,'Input S'!14:14)*HL6","v":0},{"$f":"LOOKUP(HM31,'Input S'!5:5,'Input S'!14:14)*HM6","v":0},{"$f":"LOOKUP(HN31,'Input S'!5:5,'Input S'!14:14)*HN6","v":0},{"$f":"LOOKUP(HO31,'Input S'!5:5,'Input S'!14:14)*HO6","v":0},{"$f":"LOOKUP(HP31,'Input S'!5:5,'Input S'!14:14)*HP6","v":0},{"$f":"LOOKUP(HQ31,'Input S'!5:5,'Input S'!14:14)*HQ6","v":0},{"$f":"LOOKUP(HR31,'Input S'!5:5,'Input S'!14:14)*HR6","v":0},{"$f":"LOOKUP(HS31,'Input S'!5:5,'Input S'!14:14)*HS6","v":0},{"$f":"LOOKUP(HT31,'Input S'!5:5,'Input S'!14:14)*HT6","v":0},{"$f":"LOOKUP(HU31,'Input S'!5:5,'Input S'!14:14)*HU6","v":0},{"$f":"LOOKUP(HV31,'Input S'!5:5,'Input S'!14:14)*HV6","v":0},{"$f":"LOOKUP(HW31,'Input S'!5:5,'Input S'!14:14)*HW6","v":0},{"$f":"LOOKUP(HX31,'Input S'!5:5,'Input S'!14:14)*HX6","v":0},{"$f":"LOOKUP(HY31,'Input S'!5:5,'Input S'!14:14)*HY6","v":0},{"$f":"LOOKUP(HZ31,'Input S'!5:5,'Input S'!14:14)*HZ6","v":0},{"$f":"LOOKUP(IA31,'Input S'!5:5,'Input S'!14:14)*IA6","v":0},{"$f":"LOOKUP(IB31,'Input S'!5:5,'Input S'!14:14)*IB6","v":0},{"$f":"LOOKUP(IC31,'Input S'!5:5,'Input S'!14:14)*IC6","v":0},{"$f":"LOOKUP(ID31,'Input S'!5:5,'Input S'!14:14)*ID6","v":0},{"$f":"LOOKUP(IE31,'Input S'!5:5,'Input S'!14:14)*IE6","v":0},{"$f":"LOOKUP(IF31,'Input S'!5:5,'Input S'!14:14)*IF6","v":0},{"$f":"LOOKUP(IG31,'Input S'!5:5,'Input S'!14:14)*IG6","v":0},{"$f":"LOOKUP(IH31,'Input S'!5:5,'Input S'!14:14)*IH6","v":0},{"$f":"LOOKUP(II31,'Input S'!5:5,'Input S'!14:14)*II6","v":0},{"$f":"LOOKUP(IJ31,'Input S'!5:5,'Input S'!14:14)*IJ6","v":0},{"$f":"LOOKUP(IK31,'Input S'!5:5,'Input S'!14:14)*IK6","v":0},{"$f":"LOOKUP(IL31,'Input S'!5:5,'Input S'!14:14)*IL6","v":0},{"$f":"LOOKUP(IM31,'Input S'!5:5,'Input S'!14:14)*IM6","v":0},{"$f":"LOOKUP(IN31,'Input S'!5:5,'Input S'!14:14)*IN6","v":0},{"$f":"LOOKUP(IO31,'Input S'!5:5,'Input S'!14:14)*IO6","v":0},{"$f":"LOOKUP(IP31,'Input S'!5:5,'Input S'!14:14)*IP6","v":0},{"$f":"LOOKUP(IQ31,'Input S'!5:5,'Input S'!14:14)*IQ6","v":0},{"$f":"LOOKUP(IR31,'Input S'!5:5,'Input S'!14:14)*IR6","v":0},{"$f":"LOOKUP(IS31,'Input S'!5:5,'Input S'!14:14)*IS6","v":0},{"$f":"LOOKUP(IT31,'Input S'!5:5,'Input S'!14:14)*IT6","v":0},{"$f":"LOOKUP(IU31,'Input S'!5:5,'Input S'!14:14)*IU6","v":0},{"$f":"LOOKUP(IV31,'Input S'!5:5,'Input S'!14:14)*IV6","v":0},{"$f":"LOOKUP(IW31,'Input S'!5:5,'Input S'!14:14)*IW6","v":0},{"$f":"LOOKUP(IX31,'Input S'!5:5,'Input S'!14:14)*IX6","v":0},{"$f":"LOOKUP(IY31,'Input S'!5:5,'Input S'!14:14)*IY6","v":0},{"$f":"LOOKUP(IZ31,'Input S'!5:5,'Input S'!14:14)*IZ6","v":0},{"$f":"LOOKUP(JA31,'Input S'!5:5,'Input S'!14:14)*JA6","v":0},{"$f":"LOOKUP(JB31,'Input S'!5:5,'Input S'!14:14)*JB6","v":0},{"$f":"LOOKUP(JC31,'Input S'!5:5,'Input S'!14:14)*JC6","v":0},{"$f":"LOOKUP(JD31,'Input S'!5:5,'Input S'!14:14)*JD6","v":0},{"$f":"LOOKUP(JE31,'Input S'!5:5,'Input S'!14:14)*JE6","v":0},{"$f":"LOOKUP(JF31,'Input S'!5:5,'Input S'!14:14)*JF6","v":0},{"$f":"LOOKUP(JG31,'Input S'!5:5,'Input S'!14:14)*JG6","v":0},{"$f":"LOOKUP(JH31,'Input S'!5:5,'Input S'!14:14)*JH6","v":0},{"$f":"LOOKUP(JI31,'Input S'!5:5,'Input S'!14:14)*JI6","v":0},{"$f":"LOOKUP(JJ31,'Input S'!5:5,'Input S'!14:14)*JJ6","v":0},{"$f":"LOOKUP(JK31,'Input S'!5:5,'Input S'!14:14)*JK6","v":0},{"$f":"LOOKUP(JL31,'Input S'!5:5,'Input S'!14:14)*JL6","v":0},{"$f":"LOOKUP(JM31,'Input S'!5:5,'Input S'!14:14)*JM6","v":0},{"$f":"LOOKUP(JN31,'Input S'!5:5,'Input S'!14:14)*JN6","v":0},{"$f":"LOOKUP(JO31,'Input S'!5:5,'Input S'!14:14)*JO6","v":0},{"$f":"LOOKUP(JP31,'Input S'!5:5,'Input S'!14:14)*JP6","v":0},{"$f":"LOOKUP(JQ31,'Input S'!5:5,'Input S'!14:14)*JQ6","v":0},{"$f":"LOOKUP(JR31,'Input S'!5:5,'Input S'!14:14)*JR6","v":0},{"$f":"LOOKUP(JS31,'Input S'!5:5,'Input S'!14:14)*JS6","v":0},{"$f":"LOOKUP(JT31,'Input S'!5:5,'Input S'!14:14)*JT6","v":0},{"$f":"LOOKUP(JU31,'Input S'!5:5,'Input S'!14:14)*JU6","v":0},{"$f":"LOOKUP(JV31,'Input S'!5:5,'Input S'!14:14)*JV6","v":0},{"$f":"LOOKUP(JW31,'Input S'!5:5,'Input S'!14:14)*JW6","v":0},{"$f":"LOOKUP(JX31,'Input S'!5:5,'Input S'!14:14)*JX6","v":0},{"$f":"LOOKUP(JY31,'Input S'!5:5,'Input S'!14:14)*JY6","v":0},{"$f":"LOOKUP(JZ31,'Input S'!5:5,'Input S'!14:14)*JZ6","v":0},{"$f":"LOOKUP(KA31,'Input S'!5:5,'Input S'!14:14)*KA6","v":0},{"$f":"LOOKUP(KB31,'Input S'!5:5,'Input S'!14:14)*KB6","v":0},{"$f":"LOOKUP(KC31,'Input S'!5:5,'Input S'!14:14)*KC6","v":0},{"$f":"LOOKUP(KD31,'Input S'!5:5,'Input S'!14:14)*KD6","v":0},{"$f":"LOOKUP(KE31,'Input S'!5:5,'Input S'!14:14)*KE6","v":0},{"$f":"LOOKUP(KF31,'Input S'!5:5,'Input S'!14:14)*KF6","v":0},{"$f":"LOOKUP(KG31,'Input S'!5:5,'Input S'!14:14)*KG6","v":0},{"$f":"LOOKUP(KH31,'Input S'!5:5,'Input S'!14:14)*KH6","v":0},{"$f":"LOOKUP(KI31,'Input S'!5:5,'Input S'!14:14)*KI6","v":0},{"$f":"LOOKUP(KJ31,'Input S'!5:5,'Input S'!14:14)*KJ6","v":0},{"$f":"LOOKUP(KK31,'Input S'!5:5,'Input S'!14:14)*KK6","v":0},{"$f":"LOOKUP(KL31,'Input S'!5:5,'Input S'!14:14)*KL6","v":0},{"$f":"LOOKUP(KM31,'Input S'!5:5,'Input S'!14:14)*KM6","v":0},{"$f":"LOOKUP(KN31,'Input S'!5:5,'Input S'!14:14)*KN6","v":0},{"$f":"LOOKUP(KO31,'Input S'!5:5,'Input S'!14:14)*KO6","v":0},{"$f":"LOOKUP(KP31,'Input S'!5:5,'Input S'!14:14)*KP6","v":0},{"$f":"LOOKUP(KQ31,'Input S'!5:5,'Input S'!14:14)*KQ6","v":0},{"$f":"LOOKUP(KR31,'Input S'!5:5,'Input S'!14:14)*KR6","v":0},{"$f":"LOOKUP(KS31,'Input S'!5:5,'Input S'!14:14)*KS6","v":0},{"$f":"LOOKUP(KT31,'Input S'!5:5,'Input S'!14:14)*KT6","v":0},{"$f":"LOOKUP(KU31,'Input S'!5:5,'Input S'!14:14)*KU6","v":0},{"$f":"LOOKUP(KV31,'Input S'!5:5,'Input S'!14:14)*KV6","v":0},{"$f":"LOOKUP(KW31,'Input S'!5:5,'Input S'!14:14)*KW6","v":0},{"$f":"LOOKUP(KX31,'Input S'!5:5,'Input S'!14:14)*KX6","v":0},{"$f":"LOOKUP(KY31,'Input S'!5:5,'Input S'!14:14)*KY6","v":0},{"$f":"LOOKUP(KZ31,'Input S'!5:5,'Input S'!14:14)*KZ6","v":0},{"$f":"LOOKUP(LA31,'Input S'!5:5,'Input S'!14:14)*LA6","v":0},{"$f":"LOOKUP(LB31,'Input S'!5:5,'Input S'!14:14)*LB6","v":0},{"$f":"LOOKUP(LC31,'Input S'!5:5,'Input S'!14:14)*LC6","v":0},{"$f":"LOOKUP(LD31,'Input S'!5:5,'Input S'!14:14)*LD6","v":0},{"$f":"LOOKUP(LE31,'Input S'!5:5,'Input S'!14:14)*LE6","v":0},{"$f":"LOOKUP(LF31,'Input S'!5:5,'Input S'!14:14)*LF6","v":0},{"$f":"LOOKUP(LG31,'Input S'!5:5,'Input S'!14:14)*LG6","v":0},{"$f":"LOOKUP(LH31,'Input S'!5:5,'Input S'!14:14)*LH6","v":0},{"$f":"LOOKUP(LI31,'Input S'!5:5,'Input S'!14:14)*LI6","v":0},{"$f":"LOOKUP(LJ31,'Input S'!5:5,'Input S'!14:14)*LJ6","v":0},{"$f":"LOOKUP(LK31,'Input S'!5:5,'Input S'!14:14)*LK6","v":0},{"$f":"LOOKUP(LL31,'Input S'!5:5,'Input S'!14:14)*LL6","v":0},{"$f":"LOOKUP(LM31,'Input S'!5:5,'Input S'!14:14)*LM6","v":0},{"$f":"LOOKUP(LN31,'Input S'!5:5,'Input S'!14:14)*LN6","v":0},{"$f":"LOOKUP(LO31,'Input S'!5:5,'Input S'!14:14)*LO6","v":0},{"$f":"LOOKUP(LP31,'Input S'!5:5,'Input S'!14:14)*LP6","v":0},{"$f":"LOOKUP(LQ31,'Input S'!5:5,'Input S'!14:14)*LQ6","v":0},{"$f":"LOOKUP(LR31,'Input S'!5:5,'Input S'!14:14)*LR6","v":0},{"$f":"LOOKUP(LS31,'Input S'!5:5,'Input S'!14:14)*LS6","v":0},{"$f":"LOOKUP(LT31,'Input S'!5:5,'Input S'!14:14)*LT6","v":0},{"$f":"LOOKUP(LU31,'Input S'!5:5,'Input S'!14:14)*LU6","v":0},{"$f":"LOOKUP(LV31,'Input S'!5:5,'Input S'!14:14)*LV6","v":0},{"$f":"LOOKUP(LW31,'Input S'!5:5,'Input S'!14:14)*LW6","v":0},{"$f":"LOOKUP(LX31,'Input S'!5:5,'Input S'!14:14)*LX6","v":0},{"$f":"LOOKUP(LY31,'Input S'!5:5,'Input S'!14:14)*LY6","v":0},{"$f":"LOOKUP(LZ31,'Input S'!5:5,'Input S'!14:14)*LZ6","v":0},{"$f":"LOOKUP(MA31,'Input S'!5:5,'Input S'!14:14)*MA6","v":0},{"$f":"LOOKUP(MB31,'Input S'!5:5,'Input S'!14:14)*MB6","v":0},{"$f":"LOOKUP(MC31,'Input S'!5:5,'Input S'!14:14)*MC6","v":0},{"$f":"LOOKUP(MD31,'Input S'!5:5,'Input S'!14:14)*MD6","v":0},{"$f":"LOOKUP(ME31,'Input S'!5:5,'Input S'!14:14)*ME6","v":0},{"$f":"LOOKUP(MF31,'Input S'!5:5,'Input S'!14:14)*MF6","v":0},{"$f":"LOOKUP(MG31,'Input S'!5:5,'Input S'!14:14)*MG6","v":0},{"$f":"LOOKUP(MH31,'Input S'!5:5,'Input S'!14:14)*MH6","v":0},{"$f":"LOOKUP(MI31,'Input S'!5:5,'Input S'!14:14)*MI6","v":0},{"$f":"LOOKUP(MJ31,'Input S'!5:5,'Input S'!14:14)*MJ6","v":0},{"$f":"LOOKUP(MK31,'Input S'!5:5,'Input S'!14:14)*MK6","v":0},{"$f":"LOOKUP(ML31,'Input S'!5:5,'Input S'!14:14)*ML6","v":0},{"$f":"LOOKUP(MM31,'Input S'!5:5,'Input S'!14:14)*MM6","v":0},{"$f":"LOOKUP(MN31,'Input S'!5:5,'Input S'!14:14)*MN6","v":0},{"$f":"LOOKUP(MO31,'Input S'!5:5,'Input S'!14:14)*MO6","v":0},{"$f":"LOOKUP(MP31,'Input S'!5:5,'Input S'!14:14)*MP6","v":0},{"$f":"LOOKUP(MQ31,'Input S'!5:5,'Input S'!14:14)*MQ6","v":0},{"$f":"LOOKUP(MR31,'Input S'!5:5,'Input S'!14:14)*MR6","v":0},{"$f":"LOOKUP(MS31,'Input S'!5:5,'Input S'!14:14)*MS6","v":0},{"$f":"LOOKUP(MT31,'Input S'!5:5,'Input S'!14:14)*MT6","v":0},{"$f":"LOOKUP(MU31,'Input S'!5:5,'Input S'!14:14)*MU6","v":0},{"$f":"LOOKUP(MV31,'Input S'!5:5,'Input S'!14:14)*MV6","v":0},{"$f":"LOOKUP(MW31,'Input S'!5:5,'Input S'!14:14)*MW6","v":0},{"$f":"LOOKUP(MX31,'Input S'!5:5,'Input S'!14:14)*MX6","v":0},{"$f":"LOOKUP(MY31,'Input S'!5:5,'Input S'!14:14)*MY6","v":0},{"$f":"LOOKUP(MZ31,'Input S'!5:5,'Input S'!14:14)*MZ6","v":0},{"$f":"LOOKUP(NA31,'Input S'!5:5,'Input S'!14:14)*NA6","v":0},{"$f":"LOOKUP(NB31,'Input S'!5:5,'Input S'!14:14)*NB6","v":0},{"$f":"LOOKUP(NC31,'Input S'!5:5,'Input S'!14:14)*NC6","v":0},{"$f":"LOOKUP(ND31,'Input S'!5:5,'Input S'!14:14)*ND6","v":0},{"$f":"LOOKUP(NE31,'Input S'!5:5,'Input S'!14:14)*NE6","v":0},{"$f":"LOOKUP(NF31,'Input S'!5:5,'Input S'!14:14)*NF6","v":0},{"$f":"LOOKUP(NG31,'Input S'!5:5,'Input S'!14:14)*NG6","v":0},{"$f":"LOOKUP(NH31,'Input S'!5:5,'Input S'!14:14)*NH6","v":0},{"$f":"LOOKUP(NI31,'Input S'!5:5,'Input S'!14:14)*NI6","v":0},{"$f":"LOOKUP(NJ31,'Input S'!5:5,'Input S'!14:14)*NJ6","v":0},{"$f":"LOOKUP(NK31,'Input S'!5:5,'Input S'!14:14)*NK6","v":0},{"$f":"LOOKUP(NL31,'Input S'!5:5,'Input S'!14:14)*NL6","v":0},{"$f":"LOOKUP(NM31,'Input S'!5:5,'Input S'!14:14)*NM6","v":0},{"$f":"LOOKUP(NN31,'Input S'!5:5,'Input S'!14:14)*NN6","v":0},{"$f":"LOOKUP(NO31,'Input S'!5:5,'Input S'!14:14)*NO6","v":0},{"$f":"LOOKUP(NP31,'Input S'!5:5,'Input S'!14:14)*NP6","v":0},{"$f":"LOOKUP(NQ31,'Input S'!5:5,'Input S'!14:14)*NQ6","v":0},{"$f":"LOOKUP(NR31,'Input S'!5:5,'Input S'!14:14)*NR6","v":0},{"$f":"LOOKUP(NS31,'Input S'!5:5,'Input S'!14:14)*NS6","v":0},{"$f":"LOOKUP(NT31,'Input S'!5:5,'Input S'!14:14)*NT6","v":0},{"$f":"LOOKUP(NU31,'Input S'!5:5,'Input S'!14:14)*NU6","v":0},{"$f":"LOOKUP(NV31,'Input S'!5:5,'Input S'!14:14)*NV6","v":0},{"$f":"LOOKUP(NW31,'Input S'!5:5,'Input S'!14:14)*NW6","v":0},{"$f":"LOOKUP(NX31,'Input S'!5:5,'Input S'!14:14)*NX6","v":0},{"$f":"LOOKUP(NY31,'Input S'!5:5,'Input S'!14:14)*NY6","v":0},{"$f":"LOOKUP(NZ31,'Input S'!5:5,'Input S'!14:14)*NZ6","v":0},{"$f":"LOOKUP(OA31,'Input S'!5:5,'Input S'!14:14)*OA6","v":0},{"$f":"LOOKUP(OB31,'Input S'!5:5,'Input S'!14:14)*OB6","v":0},{"$f":"LOOKUP(OC31,'Input S'!5:5,'Input S'!14:14)*OC6","v":0},{"$f":"LOOKUP(OD31,'Input S'!5:5,'Input S'!14:14)*OD6","v":0},{"$f":"LOOKUP(OE31,'Input S'!5:5,'Input S'!14:14)*OE6","v":0},{"$f":"LOOKUP(OF31,'Input S'!5:5,'Input S'!14:14)*OF6","v":0},{"$f":"LOOKUP(OG31,'Input S'!5:5,'Input S'!14:14)*OG6","v":0},{"$f":"LOOKUP(OH31,'Input S'!5:5,'Input S'!14:14)*OH6","v":0},{"$f":"LOOKUP(OI31,'Input S'!5:5,'Input S'!14:14)*OI6","v":0},{"$f":"LOOKUP(OJ31,'Input S'!5:5,'Input S'!14:14)*OJ6","v":0},{"$f":"LOOKUP(OK31,'Input S'!5:5,'Input S'!14:14)*OK6","v":0},{"$f":"LOOKUP(OL31,'Input S'!5:5,'Input S'!14:14)*OL6","v":0},{"$f":"LOOKUP(OM31,'Input S'!5:5,'Input S'!14:14)*OM6","v":0},{"$f":"LOOKUP(ON31,'Input S'!5:5,'Input S'!14:14)*ON6","v":0},{"$f":"LOOKUP(OO31,'Input S'!5:5,'Input S'!14:14)*OO6","v":0},{"$f":"LOOKUP(OP31,'Input S'!5:5,'Input S'!14:14)*OP6","v":0},{"$f":"LOOKUP(OQ31,'Input S'!5:5,'Input S'!14:14)*OQ6","v":0},{"$f":"LOOKUP(OR31,'Input S'!5:5,'Input S'!14:14)*OR6","v":0},{"$f":"LOOKUP(OS31,'Input S'!5:5,'Input S'!14:14)*OS6","v":0},{"$f":"LOOKUP(OT31,'Input S'!5:5,'Input S'!14:14)*OT6","v":0},{"$f":"LOOKUP(OU31,'Input S'!5:5,'Input S'!14:14)*OU6","v":0},{"$f":"LOOKUP(OV31,'Input S'!5:5,'Input S'!14:14)*OV6","v":0},{"$f":"LOOKUP(OW31,'Input S'!5:5,'Input S'!14:14)*OW6","v":0},{"$f":"LOOKUP(OX31,'Input S'!5:5,'Input S'!14:14)*OX6","v":0},{"$f":"LOOKUP(OY31,'Input S'!5:5,'Input S'!14:14)*OY6","v":0},{"$f":"LOOKUP(OZ31,'Input S'!5:5,'Input S'!14:14)*OZ6","v":0},{"$f":"LOOKUP(PA31,'Input S'!5:5,'Input S'!14:14)*PA6","v":0},{"$f":"LOOKUP(PB31,'Input S'!5:5,'Input S'!14:14)*PB6","v":0},{"$f":"LOOKUP(PC31,'Input S'!5:5,'Input S'!14:14)*PC6","v":0},{"$f":"LOOKUP(PD31,'Input S'!5:5,'Input S'!14:14)*PD6","v":0},{"$f":"LOOKUP(PE31,'Input S'!5:5,'Input S'!14:14)*PE6","v":0},{"$f":"LOOKUP(PF31,'Input S'!5:5,'Input S'!14:14)*PF6","v":0},{"$f":"LOOKUP(PG31,'Input S'!5:5,'Input S'!14:14)*PG6","v":0},{"$f":"LOOKUP(PH31,'Input S'!5:5,'Input S'!14:14)*PH6","v":0},{"$f":"LOOKUP(PI31,'Input S'!5:5,'Input S'!14:14)*PI6","v":0},{"$f":"LOOKUP(PJ31,'Input S'!5:5,'Input S'!14:14)*PJ6","v":0},{"$f":"LOOKUP(PK31,'Input S'!5:5,'Input S'!14:14)*PK6","v":0},{"$f":"LOOKUP(PL31,'Input S'!5:5,'Input S'!14:14)*PL6","v":0},{"$f":"LOOKUP(PM31,'Input S'!5:5,'Input S'!14:14)*PM6","v":0},{"$f":"LOOKUP(PN31,'Input S'!5:5,'Input S'!14:14)*PN6","v":0},{"$f":"LOOKUP(PO31,'Input S'!5:5,'Input S'!14:14)*PO6","v":0},{"$f":"LOOKUP(PP31,'Input S'!5:5,'Input S'!14:14)*PP6","v":0},{"$f":"LOOKUP(PQ31,'Input S'!5:5,'Input S'!14:14)*PQ6","v":0},{"$f":"LOOKUP(PR31,'Input S'!5:5,'Input S'!14:14)*PR6","v":0},{"$f":"LOOKUP(PS31,'Input S'!5:5,'Input S'!14:14)*PS6","v":0},{"$f":"LOOKUP(PT31,'Input S'!5:5,'Input S'!14:14)*PT6","v":0},{"$f":"LOOKUP(PU31,'Input S'!5:5,'Input S'!14:14)*PU6","v":0},{"$f":"LOOKUP(PV31,'Input S'!5:5,'Input S'!14:14)*PV6","v":0},{"$f":"LOOKUP(PW31,'Input S'!5:5,'Input S'!14:14)*PW6","v":0},{"$f":"LOOKUP(PX31,'Input S'!5:5,'Input S'!14:14)*PX6","v":0},{"$f":"LOOKUP(PY31,'Input S'!5:5,'Input S'!14:14)*PY6","v":0},{"$f":"LOOKUP(PZ31,'Input S'!5:5,'Input S'!14:14)*PZ6","v":0},{"$f":"LOOKUP(QA31,'Input S'!5:5,'Input S'!14:14)*QA6","v":0},{"$f":"LOOKUP(QB31,'Input S'!5:5,'Input S'!14:14)*QB6","v":0},{"$f":"LOOKUP(QC31,'Input S'!5:5,'Input S'!14:14)*QC6","v":0},{"$f":"LOOKUP(QD31,'Input S'!5:5,'Input S'!14:14)*QD6","v":0},{"$f":"LOOKUP(QE31,'Input S'!5:5,'Input S'!14:14)*QE6","v":0},{"$f":"LOOKUP(QF31,'Input S'!5:5,'Input S'!14:14)*QF6","v":0},{"$f":"LOOKUP(QG31,'Input S'!5:5,'Input S'!14:14)*QG6","v":0},{"$f":"LOOKUP(QH31,'Input S'!5:5,'Input S'!14:14)*QH6","v":0},{"$f":"LOOKUP(QI31,'Input S'!5:5,'Input S'!14:14)*QI6","v":0},{"$f":"LOOKUP(QJ31,'Input S'!5:5,'Input S'!14:14)*QJ6","v":0},{"$f":"LOOKUP(QK31,'Input S'!5:5,'Input S'!14:14)*QK6","v":0},{"$f":"LOOKUP(QL31,'Input S'!5:5,'Input S'!14:14)*QL6","v":0},{"$f":"LOOKUP(QM31,'Input S'!5:5,'Input S'!14:14)*QM6","v":0},{"$f":"LOOKUP(QN31,'Input S'!5:5,'Input S'!14:14)*QN6","v":0},{"$f":"LOOKUP(QO31,'Input S'!5:5,'Input S'!14:14)*QO6","v":0},{"$f":"LOOKUP(QP31,'Input S'!5:5,'Input S'!14:14)*QP6","v":0},{"$f":"LOOKUP(QQ31,'Input S'!5:5,'Input S'!14:14)*QQ6","v":0},{"$f":"LOOKUP(QR31,'Input S'!5:5,'Input S'!14:14)*QR6","v":0},{"$f":"LOOKUP(QS31,'Input S'!5:5,'Input S'!14:14)*QS6","v":0},{"$f":"LOOKUP(QT31,'Input S'!5:5,'Input S'!14:14)*QT6","v":0},{"$f":"LOOKUP(QU31,'Input S'!5:5,'Input S'!14:14)*QU6","v":0},{"$f":"LOOKUP(QV31,'Input S'!5:5,'Input S'!14:14)*QV6","v":0},{"$f":"LOOKUP(QW31,'Input S'!5:5,'Input S'!14:14)*QW6","v":0},{"$f":"LOOKUP(QX31,'Input S'!5:5,'Input S'!14:14)*QX6","v":0},{"$f":"LOOKUP(QY31,'Input S'!5:5,'Input S'!14:14)*QY6","v":0},{"$f":"LOOKUP(QZ31,'Input S'!5:5,'Input S'!14:14)*QZ6","v":0},{"$f":"LOOKUP(RA31,'Input S'!5:5,'Input S'!14:14)*RA6","v":0},{"$f":"LOOKUP(RB31,'Input S'!5:5,'Input S'!14:14)*RB6","v":0},{"$f":"LOOKUP(RC31,'Input S'!5:5,'Input S'!14:14)*RC6","v":0},{"$f":"LOOKUP(RD31,'Input S'!5:5,'Input S'!14:14)*RD6","v":0},{"$f":"LOOKUP(RE31,'Input S'!5:5,'Input S'!14:14)*RE6","v":0},{"$f":"LOOKUP(RF31,'Input S'!5:5,'Input S'!14:14)*RF6","v":0},{"$f":"LOOKUP(RG31,'Input S'!5:5,'Input S'!14:14)*RG6","v":0},{"$f":"LOOKUP(RH31,'Input S'!5:5,'Input S'!14:14)*RH6","v":0},{"$f":"LOOKUP(RI31,'Input S'!5:5,'Input S'!14:14)*RI6","v":0},{"$f":"LOOKUP(RJ31,'Input S'!5:5,'Input S'!14:14)*RJ6","v":0},{"$f":"LOOKUP(RK31,'Input S'!5:5,'Input S'!14:14)*RK6","v":0},{"$f":"LOOKUP(RL31,'Input S'!5:5,'Input S'!14:14)*RL6","v":0},{"$f":"LOOKUP(RM31,'Input S'!5:5,'Input S'!14:14)*RM6","v":0},{"$f":"LOOKUP(RN31,'Input S'!5:5,'Input S'!14:14)*RN6","v":0},{"$f":"LOOKUP(RO31,'Input S'!5:5,'Input S'!14:14)*RO6","v":0},{"$f":"LOOKUP(RP31,'Input S'!5:5,'Input S'!14:14)*RP6","v":0},{"$f":"LOOKUP(RQ31,'Input S'!5:5,'Input S'!14:14)*RQ6","v":0},{"$f":"LOOKUP(RR31,'Input S'!5:5,'Input S'!14:14)*RR6","v":0},{"$f":"LOOKUP(RS31,'Input S'!5:5,'Input S'!14:14)*RS6","v":0},{"$f":"LOOKUP(RT31,'Input S'!5:5,'Input S'!14:14)*RT6","v":0},{"$f":"LOOKUP(RU31,'Input S'!5:5,'Input S'!14:14)*RU6","v":0},{"$f":"LOOKUP(RV31,'Input S'!5:5,'Input S'!14:14)*RV6","v":0},{"$f":"LOOKUP(RW31,'Input S'!5:5,'Input S'!14:14)*RW6","v":0},{"$f":"LOOKUP(RX31,'Input S'!5:5,'Input S'!14:14)*RX6","v":0},{"$f":"LOOKUP(RY31,'Input S'!5:5,'Input S'!14:14)*RY6","v":0},{"$f":"LOOKUP(RZ31,'Input S'!5:5,'Input S'!14:14)*RZ6","v":0},{"$f":"LOOKUP(SA31,'Input S'!5:5,'Input S'!14:14)*SA6","v":0},{"$f":"LOOKUP(SB31,'Input S'!5:5,'Input S'!14:14)*SB6","v":0},{"$f":"LOOKUP(SC31,'Input S'!5:5,'Input S'!14:14)*SC6","v":0}]
[null,null,null,"Total Capex","Lakhs",null,null,{"$f":"SUM(K33:XFD33)","v":26000},"Lakhs",null,{"$f":"K30*K32","v":26000},{"$f":"L30*L32","v":0},0,0,0,0,0,0,0,0,0,0,0,0,0,0,0,0,0,0,0,0,0,0,0,0,0,0,0,0,0,0,0,0,0,0,0,0,0,0,0,0,0,0,0,0,0,0,0,0,0,0,0,0,0,0,0,0,0,0,0,0,0,0,0,{"$f":"BX30*BX32","v":0},0,0,0,0,0,0,0,0,0,0,0,0,0,0,0,0,0,0,0,0,0,0,0,0,0,0,0,0,0,0,0,0,0,0,0,0,0,0,0,0,0,0,0,0,0,0,0,0,0,0,0,0,0,0,0,0,0,0,0,0,0,0,0,{"$f":"EJ30*EJ32","v":0},0,0,0,0,0,0,0,0,0,0,0,0,0,0,0,0,0,0,0,0,{"$f":"FE30*FE32","v":0},0,0,0,0,0,0,0,0,0,0,0,0,0,0,0,0,0,0,0,0,0,0,0,0,0,0,0,0,0,0,0,0,0,0,0,0,0,0,0,0,0,0,0,0,0,0,0,0,0,0,0,{"$f":"HE30*HE32","v":0},0,0,0,0,0,0,0,0,0,0,0,0,0,0,0,0,0,0,0,0,0,0,0,0,0,0,0,0,0,0,0,0,0,0,0,0,0,0,0,0,0,0,0,0,0,0,0,0,0,0,0,0,0,0,0,0,0,0,0,0,0,0,0,{"$f":"JQ30*JQ32","v":0},0,0,0,0,0,0,0,0,0,0,0,0,0,0,0,0,0,0,0,0,0,0,0,0,0,{"$f":"KQ30*KQ32","v":0},0,0,0,0,0,0,0,0,0,0,0,0,0,0,0,0,0,0,0,0,0,0,0,0,0,0,0,0,0,{"$f":"LU30*LU32","v":0},0,0,0,0,0,0,{"$f":"MB30*MB32","v":0},0,0,0,0,0,0,0,0,0,0,0,0,0,0,0,0,0,0,{"$f":"MU30*MU32","v":0},0,0,0,0,0,0,{"$f":"NB30*NB32","v":0},0,0,0,0,0,0,0,0,0,0,0,0,0,0,{"$f":"NQ30*NQ32","v":0},0,0,0,0,0,0,0,0,0,0,0,0,0,0,0,0,0,0,0,0,0,0,0,0,0,0,0,0,0,0,0,0,0,0,0,0,0,0,0,0,0,0,0,0,0,0,0,0,0,0,0,0,0,0,0,0,0,0,0,0,0,0,0,{"$f":"QC30*QC32","v":0},0,0,0,0,0,0,0,0,0,0,0,0,0,0,0,0,0,0,0,0,0,0,0,0,0,0,0,0,0,0,0,0,0,0,0,0,0,0,0,0,0,0,0,0,0,0,0,0,0,0,0,0]
[]
[null,null,"Opex"]
[null,null,null,"Calender Year","Year",null,null,null,"Year",null,{"$f":"YEAR(K8)","v":2026},2027,2028,2029,2030,2031,2032,2033,2034,2035,2036,2037,2038,2039,2040,2041,2042,2043,2044,2045,2046,2047,2048,2049,2050,2051,2052,2053,2054,2055,2056,2057,2058,2059,2060,2061,2062,2063,2064,2065,2066,2067,2068,2069,2070,2071,2072,2073,2074,2075,2076,2077,2078,2079,2080,2081,2082,2083,2084,2085,2086,2087,2088,2089,{"$f":"YEAR(BW8)","v":2090},2091,2092,2093,2094,2095,2096,2097,2098,2099,2100,2101,2102,2103,2104,2105,2106,2107,2108,2109,2110,2111,2112,2113,2114,2115,2116,2117,2118,2119,2120,2121,2122,2123,2124,2125,2126,2127,2128,2129,2130,2131,2132,2133,2134,2135,2136,2137,2138,2139,2140,2141,2142,2143,2144,2145,2146,2147,2148,2149,2150,2151,2152,2153,{"$f":"YEAR(EI8)","v":2154},2155,2156,2157,2158,2159,2160,2161,2162,2163,2164,2165,2166,2167,2168,2169,2170,2171,2172,2173,2174,2175,2176,2177,2178,2179,2180,2181,2182,2183,2184,2185,2186,2187,2188,2189,2190,2191,2192,2193,2194,2195,2196,2197,2198,2199,2200,2201,2202,2203,2204,2205,2206,2207,2208,2209,2210,2211,2212,2213,2214,2215,2216,2217,{"$f":"YEAR(GU8)","v":2218},2219,2220,2221,2222,2223,2224,2225,2226,2227,2228,2229,2230,2231,2232,2233,2234,2235,2236,2237,2238,2239,2240,2241,2242,2243,2244,2245,2246,2247,2248,2249,2250,2251,2252,2253,2254,2255,2256,2257,2258,2259,2260,2261,2262,2263,2264,2265,2266,2267,2268,2269,2270,2271,2272,2273,2274,2275,2276,2277,2278,2279,2280,2281,{"$f":"YEAR(JG8)","v":2282},2283,2284,2285,2286,2287,2288,2289,2290,2291,2292,2293,2294,2295,2296,2297,2298,2299,2300,2301,2302,2303,2304,2305,2306,2307,2308,2309,2310,2311,2312,2313,2314,2315,2316,2317,2318,2319,2320,2321,2322,2323,2324,2325,2326,2327,2328,2329,2330,2331,2332,2333,2334,2335,2336,2337,2338,2339,2340,2341,2342,2343,2344,2345,{"$f":"YEAR(LS8)","v":2346},2347,2348,2349,2350,2351,2352,2353,2354,2355,2356,2357,2358,2359,2360,2361,2362,2363,2364,2365,2366,2367,2368,2369,2370,2371,2372,2373,2374,2375,2376,2377,2378,2379,2380,2381,2382,2383,2384,2385,2386,2387,2388,2389,2390,2391,2392,2393,2394,2395,2396,2397,2398,2399,2400,2401,2402,2403,2404,2405,2406,2407,2408,2409,{"$f":"YEAR(OE8)","v":2410},2411,2412,2413,2414,2415,2416,2417,2418,2419,2420,2421,2422,2423,2424,2425,2426,2427,2428,2429,2430,2431,2432,2433,2434,2435,2436,2437,2438,2439,2440,2441,2442,2443,2444,2445,2446,2447,2448,2449,2450,2451,2452,2453,2454,2455,2456,2457,2458,2459,2460,2461,2462,2463,2464,2465,2466,2467,2468,2469,2470,2471,2472,2473,{"$f":"YEAR(QQ8)","v":2474},2475,2476,2477,2478,2479,2480,2481,2482,2483,2484,2485,2486,2487,2488,2489,2490,2491,2492,2493,2494,2495,2496,2497,2498,2499,2500,2501,2502,2503,2504,2505,2506,2507,2508,2509,2510,2511,2512]
[null,null,null,"Annual Inflation Rate","% p.a.",null,null,null,"% p.a.",null,{"$f":"LOOKUP(K36,'Input S'!20:20,'Input S'!27:27)","v":0.05},{"$f":"LOOKUP(L36,'Input S'!20:20,'Input S'!27:27)","v":0.05},{"$f":"LOOKUP(M36,'Input S'!20:20,'Input S'!27:27)","v":0.05},{"$f":"LOOKUP(N36,'Input S'!20:20,'Input S'!27:27)","v":0.05},{"$f":"LOOKUP(O36,'Input S'!20:20,'Input S'!27:27)","v":0.05},{"$f":"LOOKUP(P36,'Input S'!20:20,'Input S'!27:27)","v":0.05},{"$f":"LOOKUP(Q36,'Input S'!20:20,'Input S'!27:27)","v":0.05},{"$f":"LOOKUP(R36,'Input S'!20:20,'Input S'!27:27)","v":0.05},{"$f":"LOOKUP(S36,'Input S'!20:20,'Input S'!27:27)","v":0.05},{"$f":"LOOKUP(T36,'Input S'!20:20,'Input S'!27:27)","v":0.05},{"$f":"LOOKUP(U36,'Input S'!20:20,'Input S'!27:27)","v":0.05},{"$f":"LOOKUP(V36,'Input S'!20:20,'Input S'!27:27)","v":0.05},{"$f":"LOOKUP(W36,'Input S'!20:20,'Input S'!27:27)","v":0.05},{"$f":"LOOKUP(X36,'Input S'!20:20,'Input S'!27:27)","v":0.05},{"$f":"LOOKUP(Y36,'Input S'!20:20,'Input S'!27:27)","v":0.05},{"$f":"LOOKUP(Z36,'Input S'!20:20,'Input S'!27:27)","v":0.05},{"$f":"LOOKUP(AA36,'Input S'!20:20,'Input S'!27:27)","v":0.05},{"$f":"LOOKUP(AB36,'Input S'!20:20,'Input S'!27:27)","v":0.05},{"$f":"LOOKUP(AC36,'Input S'!20:20,'Input S'!27:27)","v":0.05},{"$f":"LOOKUP(AD36,'Input S'!20:20,'Input S'!27:27)","v":0.05},{"$f":"LOOKUP(AE36,'Input S'!20:20,'Input S'!27:27)","v":0.05},{"$f":"LOOKUP(AF36,'Input S'!20:20,'Input S'!27:27)","v":0.05},{"$f":"LOOKUP(AG36,'Input S'!20:20,'Input S'!27:27)","v":0.05},{"$f":"LOOKUP(AH36,'Input S'!20:20,'Input S'!27:27)","v":0.05},{"$f":"LOOKUP(AI36,'Input S'!20:20,'Input S'!27:27)","v":0.05},{"$f":"LOOKUP(AJ36,'Input S'!20:20,'Input S'!27:27)","v":0.05},{"$f":"LOOKUP(AK36,'Input S'!20:20,'Input S'!27:27)","v":0.05},{"$f":"LOOKUP(AL36,'Input S'!20:20,'Input S'!27:27)","v":0.05},{"$f":"LOOKUP(AM36,'Input S'!20:20,'Input S'!27:27)","v":0.05},{"$f":"LOOKUP(AN36,'Input S'!20:20,'Input S'!27:27)","v":0.05},{"$f":"LOOKUP(AO36,'Input S'!20:20,'Input S'!27:27)","v":0.05},{"$f":"LOOKUP(AP36,'Input S'!20:20,'Input S'!27:27)","v":0.05},{"$f":"LOOKUP(AQ36,'Input S'!20:20,'Input S'!27:27)","v":0.05},{"$f":"LOOKUP(AR36,'Input S'!20:20,'Input S'!27:27)","v":0.05},{"$f":"LOOKUP(AS36,'Input S'!20:20,'Input S'!27:27)","v":0.05},{"$f":"LOOKUP(AT36,'Input S'!20:20,'Input S'!27:27)","v":0.05},{"$f":"LOOKUP(AU36,'Input S'!20:20,'Input S'!27:27)","v":0.05},{"$f":"LOOKUP(AV36,'Input S'!20:20,'Input S'!27:27)","v":0.05},{"$f":"LOOKUP(AW36,'Input S'!20:20,'Input S'!27:27)","v":0.05},{"$f":"LOOKUP(AX36,'Input S'!20:20,'Input S'!27:27)","v":0.05},{"$f":"LOOKUP(AY36,'Input S'!20:20,'Input S'!27:27)","v":0.05},{"$f":"LOOKUP(AZ36,'Input S'!20:20,'Input S'!27:27)","v":0.05},{"$f":"LOOKUP(BA36,'Input S'!20:20,'Input S'!27:27)","v":0.05},{"$f":"LOOKUP(BB36,'Input S'!20:20,'Input S'!27:27)","v":0.05},{"$f":"LOOKUP(BC36,'Input S'!20:20,'Input S'!27:27)","v":0.05},{"$f":"LOOKUP(BD36,'Input S'!20:20,'Input S'!27:27)","v":0.05},{"$f":"LOOKUP(BE36,'Input S'!20:20,'Input S'!27:27)","v":0.05},{"$f":"LOOKUP(BF36,'Input S'!20:20,'Input S'!27:27)","v":0.05},{"$f":"LOOKUP(BG36,'Input S'!20:20,'Input S'!27:27)","v":0.05},{"$f":"LOOKUP(BH36,'Input S'!20:20,'Input S'!27:27)","v":0.05},{"$f":"LOOKUP(BI36,'Input S'!20:20,'Input S'!27:27)","v":0.05},{"$f":"LOOKUP(BJ36,'Input S'!20:20,'Input S'!27:27)","v":0.05},{"$f":"LOOKUP(BK36,'Input S'!20:20,'Input S'!27:27)","v":0.05},{"$f":"LOOKUP(BL36,'Input S'!20:20,'Input S'!27:27)","v":0.05},{"$f":"LOOKUP(BM36,'Input S'!20:20,'Input S'!27:27)","v":0.05},{"$f":"LOOKUP(BN36,'Input S'!20:20,'Input S'!27:27)","v":0.05},{"$f":"LOOKUP(BO36,'Input S'!20:20,'Input S'!27:27)","v":0.05},{"$f":"LOOKUP(BP36,'Input S'!20:20,'Input S'!27:27)","v":0.05},{"$f":"LOOKUP(BQ36,'Input S'!20:20,'Input S'!27:27)","v":0.05},{"$f":"LOOKUP(BR36,'Input S'!20:20,'Input S'!27:27)","v":0.05},{"$f":"LOOKUP(BS36,'Input S'!20:20,'Input S'!27:27)","v":0.05},{"$f":"LOOKUP(BT36,'Input S'!20:20,'Input S'!27:27)","v":0.05},{"$f":"LOOKUP(BU36,'Input S'!20:20,'Input S'!27:27)","v":0.05},{"$f":"LOOKUP(BV36,'Input S'!20:20,'Input S'!27:27)","v":0.05},{"$f":"LOOKUP(BW36,'Input S'!20:20,'Input S'!27:27)","v":0.05},{"$f":"LOOKUP(BX36,'Input S'!20:20,'Input S'!27:27)","v":0.05},{"$f":"LOOKUP(BY36,'Input S'!20:20,'Input S'!27:27)","v":0.05},{"$f":"LOOKUP(BZ36,'Input S'!20:20,'Input S'!27:27)","v":0.05},{"$f":"LOOKUP(CA36,'Input S'!20:20,'Input S'!27:27)","v":0.05},{"$f":"LOOKUP(CB36,'Input S'!20:20,'Input S'!27:27)","v":0.05},{"$f":"LOOKUP(CC36,'Input S'!20:20,'Input S'!27:27)","v":0.05},{"$f":"LOOKUP(CD36,'Input S'!20:20,'Input S'!27:27)","v":0.05},{"$f":"LOOKUP(CE36,'Input S'!20:20,'Input S'!27:27)","v":0.05},{"$f":"LOOKUP(CF36,'Input S'!20:20,'Input S'!27:27)","v":0.05},{"$f":"LOOKUP(CG36,'Input S'!20:20,'Input S'!27:27)","v":0.05},{"$f":"LOOKUP(CH36,'Input S'!20:20,'Input S'!27:27)","v":0.05},{"$f":"LOOKUP(CI36,'Input S'!20:20,'Input S'!27:27)","v":0.05},{"$f":"LOOKUP(CJ36,'Input S'!20:20,'Input S'!27:27)","v":0.05},{"$f":"LOOKUP(CK36,'Input S'!20:20,'Input S'!27:27)","v":0.05},{"$f":"LOOKUP(CL36,'Input S'!20:20,'Input S'!27:27)","v":0.05},{"$f":"LOOKUP(CM36,'Input S'!20:20,'Input S'!27:27)","v":0.05},{"$f":"LOOKUP(CN36,'Input S'!20:20,'Input S'!27:27)","v":0.05},{"$f":"LOOKUP(CO36,'Input S'!20:20,'Input S'!27:27)","v":0.05},{"$f":"LOOKUP(CP36,'Input S'!20:20,'Input S'!27:27)","v":0.05},{"$f":"LOOKUP(CQ36,'Input S'!20:20,'Input S'!27:27)","v":0.05},{"$f":"LOOKUP(CR36,'Input S'!20:20,'Input S'!27:27)","v":0.05},{"$f":"LOOKUP(CS36,'Input S'!20:20,'Input S'!27:27)","v":0.05},{"$f":"LOOKUP(CT36,'Input S'!20:20,'Input S'!27:27)","v":0.05},{"$f":"LOOKUP(CU36,'Input S'!20:20,'Input S'!27:27)","v":0.05},{"$f":"LOOKUP(CV36,'Input S'!20:20,'Input S'!27:27)","v":0.05},{"$f":"LOOKUP(CW36,'Input S'!20:20,'Input S'!27:27)","v":0.05},{"$f":"LOOKUP(CX36,'Input S'!20:20,'Input S'!27:27)","v":0.05},{"$f":"LOOKUP(CY36,'Input S'!20:20,'Input S'!27:27)","v":0.05},{"$f":"LOOKUP(CZ36,'Input S'!20:20,'Input S'!27:27)","v":0.05},{"$f":"LOOKUP(DA36,'Input S'!20:20,'Input S'!27:27)","v":0.05},{"$f":"LOOKUP(DB36,'Input S'!20:20,'Input S'!27:27)","v":0.05},{"$f":"LOOKUP(DC36,'Input S'!20:20,'Input S'!27:27)","v":0.05},{"$f":"LOOKUP(DD36,'Input S'!20:20,'Input S'!27:27)","v":0.05},{"$f":"LOOKUP(DE36,'Input S'!20:20,'Input S'!27:27)","v":0.05},{"$f":"LOOKUP(DF36,'Input S'!20:20,'Input S'!27:27)","v":0.05},{"$f":"LOOKUP(DG36,'Input S'!20:20,'Input S'!27:27)","v":0.05},{"$f":"LOOKUP(DH36,'Input S'!20:20,'Input S'!27:27)","v":0.05},{"$f":"LOOKUP(DI36,'Input S'!20:20,'Input S'!27:27)","v":0.05},{"$f":"LOOKUP(DJ36,'Input S'!20:20,'Input S'!27:27)","v":0.05},{"$f":"LOOKUP(DK36,'Input S'!20:20,'Input S'!27:27)","v":0.05},{"$f":"LOOKUP(DL36,'Input S'!20:20,'Input S'!27:27)","v":0.05},{"$f":"LOOKUP(DM36,'Input S'!20:20,'Input S'!27:27)","v":0.05},{"$f":"LOOKUP(DN36,'Input S'!20:20,'Input S'!27:27)","v":0.05},{"$f":"LOOKUP(DO36,'Input S'!20:20,'Input S'!27:27)","v":0.05},{"$f":"LOOKUP(DP36,'Input S'!20:20,'Input S'!27:27)","v":0.05},{"$f":"LOOKUP(DQ36,'Input S'!20:20,'Input S'!27:27)","v":0.05},{"$f":"LOOKUP(DR36,'Input S'!20:20,'Input S'!27:27)","v":0.05},{"$f":"LOOKUP(DS36,'Input S'!20:20,'Input S'!27:27)","v":0.05},{"$f":"LOOKUP(DT36,'Input S'!20:20,'Input S'!27:27)","v":0.05},{"$f":"LOOKUP(DU36,'Input S'!20:20,'Input S'!27:27)","v":0.05},{"$f":"LOOKUP(DV36,'Input S'!20:20,'Input S'!27:27)","v":0.05},{"$f":"LOOKUP(DW36,'Input S'!20:20,'Input S'!27:27)","v":0.05},{"$f":"LOOKUP(DX36,'Input S'!20:20,'Input S'!27:27)","v":0.05},{"$f":"LOOKUP(DY36,'Input S'!20:20,'Input S'!27:27)","v":0.05},{"$f":"LOOKUP(DZ36,'Input S'!20:20,'Input S'!27:27)","v":0.05},{"$f":"LOOKUP(EA36,'Input S'!20:20,'Input S'!27:27)","v":0.05},{"$f":"LOOKUP(EB36,'Input S'!20:20,'Input S'!27:27)","v":0.05},{"$f":"LOOKUP(EC36,'Input S'!20:20,'Input S'!27:27)","v":0.05},{"$f":"LOOKUP(ED36,'Input S'!20:20,'Input S'!27:27)","v":0.05},{"$f":"LOOKUP(EE36,'Input S'!20:20,'Input S'!27:27)","v":0.05},{"$f":"LOOKUP(EF36,'Input S'!20:20,'Input S'!27:27)","v":0.05},{"$f":"LOOKUP(EG36,'Input S'!20:20,'Input S'!27:27)","v":0.05},{"$f":"LOOKUP(EH36,'Input S'!20:20,'Input S'!27:27)","v":0.05},{"$f":"LOOKUP(EI36,'Input S'!20:20,'Input S'!27:27)","v":0.05},{"$f":"LOOKUP(EJ36,'Input S'!20:20,'Input S'!27:27)","v":0.05},{"$f":"LOOKUP(EK36,'Input S'!20:20,'Input S'!27:27)","v":0.05},{"$f":"LOOKUP(EL36,'Input S'!20:20,'Input S'!27:27)","v":0.05},{"$f":"LOOKUP(EM36,'Input S'!20:20,'Input S'!27:27)","v":0.05},{"$f":"LOOKUP(EN36,'Input S'!20:20,'Input S'!27:27)","v":0.05},{"$f":"LOOKUP(EO36,'Input S'!20:20,'Input S'!27:27)","v":0.05},{"$f":"LOOKUP(EP36,'Input S'!20:20,'Input S'!27:27)","v":0.05},{"$f":"LOOKUP(EQ36,'Input S'!20:20,'Input S'!27:27)","v":0.05},{"$f":"LOOKUP(ER36,'Input S'!20:20,'Input S'!27:27)","v":0.05},{"$f":"LOOKUP(ES36,'Input S'!20:20,'Input S'!27:27)","v":0.05},{"$f":"LOOKUP(ET36,'Input S'!20:20,'Input S'!27:27)","v":0.05},{"$f":"LOOKUP(EU36,'Input S'!20:20,'Input S'!27:27)","v":0.05},{"$f":"LOOKUP(EV36,'Input S'!20:20,'Input S'!27:27)","v":0.05},{"$f":"LOOKUP(EW36,'Input S'!20:20,'Input S'!27:27)","v":0.05},{"$f":"LOOKUP(EX36,'Input S'!20:20,'Input S'!27:27)","v":0.05},{"$f":"LOOKUP(EY36,'Input S'!20:20,'Input S'!27:27)","v":0.05},{"$f":"LOOKUP(EZ36,'Input S'!20:20,'Input S'!27:27)","v":0.05},{"$f":"LOOKUP(FA36,'Input S'!20:20,'Input S'!27:27)","v":0.05},{"$f":"LOOKUP(FB36,'Input S'!20:20,'Input S'!27:27)","v":0.05},{"$f":"LOOKUP(FC36,'Input S'!20:20,'Input S'!27:27)","v":0.05},{"$f":"LOOKUP(FD36,'Input S'!20:20,'Input S'!27:27)","v":0.05},{"$f":"LOOKUP(FE36,'Input S'!20:20,'Input S'!27:27)","v":0.05},{"$f":"LOOKUP(FF36,'Input S'!20:20,'Input S'!27:27)","v":0.05},{"$f":"LOOKUP(FG36,'Input S'!20:20,'Input S'!27:27)","v":0.05},{"$f":"LOOKUP(FH36,'Input S'!20:20,'Input S'!27:27)","v":0.05},{"$f":"LOOKUP(FI36,'Input S'!20:20,'Input S'!27:27)","v":0.05},{"$f":"LOOKUP(FJ36,'Input S'!20:20,'Input S'!27:27)","v":0.05},{"$f":"LOOKUP(FK36,'Input S'!20:20,'Input S'!27:27)","v":0.05},{"$f":"LOOKUP(FL36,'Input S'!20:20,'Input S'!27:27)","v":0.05},{"$f":"LOOKUP(FM36,'Input S'!20:20,'Input S'!27:27)","v":0.05},{"$f":"LOOKUP(FN36,'Input S'!20:20,'Input S'!27:27)","v":0.05},{"$f":"LOOKUP(FO36,'Input S'!20:20,'Input S'!27:27)","v":0.05},{"$f":"LOOKUP(FP36,'Input S'!20:20,'Input S'!27:27)","v":0.05},{"$f":"LOOKUP(FQ36,'Input S'!20:20,'Input S'!27:27)","v":0.05},{"$f":"LOOKUP(FR36,'Input S'!20:20,'Input S'!27:27)","v":0.05},{"$f":"LOOKUP(FS36,'Input S'!20:20,'Input S'!27:27)","v":0.05},{"$f":"LOOKUP(FT36,'Input S'!20:20,'Input S'!27:27)","v":0.05},{"$f":"LOOKUP(FU36,'Input S'!20:20,'Input S'!27:27)","v":0.05},{"$f":"LOOKUP(FV36,'Input S'!20:20,'Input S'!27:27)","v":0.05},{"$f":"LOOKUP(FW36,'Input S'!20:20,'Input S'!27:27)","v":0.05},{"$f":"LOOKUP(FX36,'Input S'!20:20,'Input S'!27:27)","v":0.05},{"$f":"LOOKUP(FY36,'Input S'!20:20,'Input S'!27:27)","v":0.05},{"$f":"LOOKUP(FZ36,'Input S'!20:20,'Input S'!27:27)","v":0.05},{"$f":"LOOKUP(GA36,'Input S'!20:20,'Input S'!27:27)","v":0.05},{"$f":"LOOKUP(GB36,'Input S'!20:20,'Input S'!27:27)","v":0.05},{"$f":"LOOKUP(GC36,'Input S'!20:20,'Input S'!27:27)","v":0.05},{"$f":"LOOKUP(GD36,'Input S'!20:20,'Input S'!27:27)","v":0.05},{"$f":"LOOKUP(GE36,'Input S'!20:20,'Input S'!27:27)","v":0.05},{"$f":"LOOKUP(GF36,'Input S'!20:20,'Input S'!27:27)","v":0.05},{"$f":"LOOKUP(GG36,'Input S'!20:20,'Input S'!27:27)","v":0.05},{"$f":"LOOKUP(GH36,'Input S'!20:20,'Input S'!27:27)","v":0.05},{"$f":"LOOKUP(GI36,'Input S'!20:20,'Input S'!27:27)","v":0.05},{"$f":"LOOKUP(GJ36,'Input S'!20:20,'Input S'!27:27)","v":0.05},{"$f":"LOOKUP(GK36,'Input S'!20:20,'Input S'!27:27)","v":0.05},{"$f":"LOOKUP(GL36,'Input S'!20:20,'Input S'!27:27)","v":0.05},{"$f":"LOOKUP(GM36,'Input S'!20:20,'Input S'!27:27)","v":0.05},{"$f":"LOOKUP(GN36,'Input S'!20:20,'Input S'!27:27)","v":0.05},{"$f":"LOOKUP(GO36,'Input S'!20:20,'Input S'!27:27)","v":0.05},{"$f":"LOOKUP(GP36,'Input S'!20:20,'Input S'!27:27)","v":0.05},{"$f":"LOOKUP(GQ36,'Input S'!20:20,'Input S'!27:27)","v":0.05},{"$f":"LOOKUP(GR36,'Input S'!20:20,'Input S'!27:27)","v":0.05},{"$f":"LOOKUP(GS36,'Input S'!20:20,'Input S'!27:27)","v":0.05},{"$f":"LOOKUP(GT36,'Input S'!20:20,'Input S'!27:27)","v":0.05},{"$f":"LOOKUP(GU36,'Input S'!20:20,'Input S'!27:27)","v":0.05},{"$f":"LOOKUP(GV36,'Input S'!20:20,'Input S'!27:27)","v":0.05},{"$f":"LOOKUP(GW36,'Input S'!20:20,'Input S'!27:27)","v":0.05},{"$f":"LOOKUP(GX36,'Input S'!20:20,'Input S'!27:27)","v":0.05},{"$f":"LOOKUP(GY36,'Input S'!20:20,'Input S'!27:27)","v":0.05},{"$f":"LOOKUP(GZ36,'Input S'!20:20,'Input S'!27:27)","v":0.05},{"$f":"LOOKUP(HA36,'Input S'!20:20,'Input S'!27:27)","v":0.05},{"$f":"LOOKUP(HB36,'Input S'!20:20,'Input S'!27:27)","v":0.05},{"$f":"LOOKUP(HC36,'Input S'!20:20,'Input S'!27:27)","v":0.05},{"$f":"LOOKUP(HD36,'Input S'!20:20,'Input S'!27:27)","v":0.05},{"$f":"LOOKUP(HE36,'Input S'!20:20,'Input S'!27:27)","v":0.05},{"$f":"LOOKUP(HF36,'Input S'!20:20,'Input S'!27:27)","v":0.05},{"$f":"LOOKUP(HG36,'Input S'!20:20,'Input S'!27:27)","v":0.05},{"$f":"LOOKUP(HH36,'Input S'!20:20,'Input S'!27:27)","v":0.05},{"$f":"LOOKUP(HI36,'Input S'!20:20,'Input S'!27:27)","v":0.05},{"$f":"LOOKUP(HJ36,'Input S'!20:20,'Input S'!27:27)","v":0.05},{"$f":"LOOKUP(HK36,'Input S'!20:20,'Input S'!27:27)","v":0.05},{"$f":"LOOKUP(HL36,'Input S'!20:20,'Input S'!27:27)","v":0.05},{"$f":"LOOKUP(HM36,'Input S'!20:20,'Input S'!27:27)","v":0.05},{"$f":"LOOKUP(HN36,'Input S'!20:20,'Input S'!27:27)","v":0.05},{"$f":"LOOKUP(HO36,'Input S'!20:20,'Input S'!27:27)","v":0.05},{"$f":"LOOKUP(HP36,'Input S'!20:20,'Input S'!27:27)","v":0.05},{"$f":"LOOKUP(HQ36,'Input S'!20:20,'Input S'!27:27)","v":0.05},{"$f":"LOOKUP(HR36,'Input S'!20:20,'Input S'!27:27)","v":0.05},{"$f":"LOOKUP(HS36,'Input S'!20:20,'Input S'!27:27)","v":0.05},{"$f":"LOOKUP(HT36,'Input S'!20:20,'Input S'!27:27)","v":0.05},{"$f":"LOOKUP(HU36,'Input S'!20:20,'Input S'!27:27)","v":0.05},{"$f":"LOOKUP(HV36,'Input S'!20:20,'Input S'!27:27)","v":0.05},{"$f":"LOOKUP(HW36,'Input S'!20:20,'Input S'!27:27)","v":0.05},{"$f":"LOOKUP(HX36,'Input S'!20:20,'Input S'!27:27)","v":0.05},{"$f":"LOOKUP(HY36,'Input S'!20:20,'Input S'!27:27)","v":0.05},{"$f":"LOOKUP(HZ36,'Input S'!20:20,'Input S'!27:27)","v":0.05},{"$f":"LOOKUP(IA36,'Input S'!20:20,'Input S'!27:27)","v":0.05},{"$f":"LOOKUP(IB36,'Input S'!20:20,'Input S'!27:27)","v":0.05},{"$f":"LOOKUP(IC36,'Input S'!20:20,'Input S'!27:27)","v":0.05},{"$f":"LOOKUP(ID36,'Input S'!20:20,'Input S'!27:27)","v":0.05},{"$f":"LOOKUP(IE36,'Input S'!20:20,'Input S'!27:27)","v":0.05},{"$f":"LOOKUP(IF36,'Input S'!20:20,'Input S'!27:27)","v":0.05},{"$f":"LOOKUP(IG36,'Input S'!20:20,'Input S'!27:27)","v":0.05},{"$f":"LOOKUP(IH36,'Input S'!20:20,'Input S'!27:27)","v":0.05},{"$f":"LOOKUP(II36,'Input S'!20:20,'Input S'!27:27)","v":0.05},{"$f":"LOOKUP(IJ36,'Input S'!20:20,'Input S'!27:27)","v":0.05},{"$f":"LOOKUP(IK36,'Input S'!20:20,'Input S'!27:27)","v":0.05},{"$f":"LOOKUP(IL36,'Input S'!20:20,'Input S'!27:27)","v":0.05},{"$f":"LOOKUP(IM36,'Input S'!20:20,'Input S'!27:27)","v":0.05},{"$f":"LOOKUP(IN36,'Input S'!20:20,'Input S'!27:27)","v":0.05},{"$f":"LOOKUP(IO36,'Input S'!20:20,'Input S'!27:27)","v":0.05},{"$f":"LOOKUP(IP36,'Input S'!20:20,'Input S'!27:27)","v":0.05},{"$f":"LOOKUP(IQ36,'Input S'!20:20,'Input S'!27:27)","v":0.05},{"$f":"LOOKUP(IR36,'Input S'!20:20,'Input S'!27:27)","v":0.05},{"$f":"LOOKUP(IS36,'Input S'!20:20,'Input S'!27:27)","v":0.05},{"$f":"LOOKUP(IT36,'Input S'!20:20,'Input S'!27:27)","v":0.05},{"$f":"LOOKUP(IU36,'Input S'!20:20,'Input S'!27:27)","v":0.05},{"$f":"LOOKUP(IV36,'Input S'!20:20,'Input S'!27:27)","v":0.05},{"$f":"LOOKUP(IW36,'Input S'!20:20,'Input S'!27:27)","v":0.05},{"$f":"LOOKUP(IX36,'Input S'!20:20,'Input S'!27:27)","v":0.05},{"$f":"LOOKUP(IY36,'Input S'!20:20,'Input S'!27:27)","v":0.05},{"$f":"LOOKUP(IZ36,'Input S'!20:20,'Input S'!27:27)","v":0.05},{"$f":"LOOKUP(JA36,'Input S'!20:20,'Input S'!27:27)","v":0.05},{"$f":"LOOKUP(JB36,'Input S'!20:20,'Input S'!27:27)","v":0.05},{"$f":"LOOKUP(JC36,'Input S'!20:20,'Input S'!27:27)","v":0.05},{"$f":"LOOKUP(JD36,'Input S'!20:20,'Input S'!27:27)","v":0.05},{"$f":"LOOKUP(JE36,'Input S'!20:20,'Input S'!27:27)","v":0.05},{"$f":"LOOKUP(JF36,'Input S'!20:20,'Input S'!27:27)","v":0.05},{"$f":"LOOKUP(JG36,'Input S'!20:20,'Input S'!27:27)","v":0.05},{"$f":"LOOKUP(JH36,'Input S'!20:20,'Input S'!27:27)","v":0.05},{"$f":"LOOKUP(JI36,'Input S'!20:20,'Input S'!27:27)","v":0.05},{"$f":"LOOKUP(JJ36,'Input S'!20:20,'Input S'!27:27)","v":0.05},{"$f":"LOOKUP(JK36,'Input S'!20:20,'Input S'!27:27)","v":0.05},{"$f":"LOOKUP(JL36,'Input S'!20:20,'Input S'!27:27)","v":0.05},{"$f":"LOOKUP(JM36,'Input S'!20:20,'Input S'!27:27)","v":0.05},{"$f":"LOOKUP(JN36,'Input S'!20:20,'Input S'!27:27)","v":0.05},{"$f":"LOOKUP(JO36,'Input S'!20:20,'Input S'!27:27)","v":0.05},{"$f":"LOOKUP(JP36,'Input S'!20:20,'Input S'!27:27)","v":0.05},{"$f":"LOOKUP(JQ36,'Input S'!20:20,'Input S'!27:27)","v":0.05},{"$f":"LOOKUP(JR36,'Input S'!20:20,'Input S'!27:27)","v":0.05},{"$f":"LOOKUP(JS36,'Input S'!20:20,'Input S'!27:27)","v":0.05},{"$f":"LOOKUP(JT36,'Input S'!20:20,'Input S'!27:27)","v":0.05},{"$f":"LOOKUP(JU36,'Input S'!20:20,'Input S'!27:27)","v":0.05},{"$f":"LOOKUP(JV36,'Input S'!20:20,'Input S'!27:27)","v":0.05},{"$f":"LOOKUP(JW36,'Input S'!20:20,'Input S'!27:27)","v":0.05},{"$f":"LOOKUP(JX36,'Input S'!20:20,'Input S'!27:27)","v":0.05},{"$f":"LOOKUP(JY36,'Input S'!20:20,'Input S'!27:27)","v":0.05},{"$f":"LOOKUP(JZ36,'Input S'!20:20,'Input S'!27:27)","v":0.05},{"$f":"LOOKUP(KA36,'Input S'!20:20,'Input S'!27:27)","v":0.05},{"$f":"LOOKUP(KB36,'Input S'!20:20,'Input S'!27:27)","v":0.05},{"$f":"LOOKUP(KC36,'Input S'!20:20,'Input S'!27:27)","v":0.05},{"$f":"LOOKUP(KD36,'Input S'!20:20,'Input S'!27:27)","v":0.05},{"$f":"LOOKUP(KE36,'Input S'!20:20,'Input S'!27:27)","v":0.05},{"$f":"LOOKUP(KF36,'Input S'!20:20,'Input S'!27:27)","v":0.05},{"$f":"LOOKUP(KG36,'Input S'!20:20,'Input S'!27:27)","v":0.05},{"$f":"LOOKUP(KH36,'Input S'!20:20,'Input S'!27:27)","v":0.05},{"$f":"LOOKUP(KI36,'Input S'!20:20,'Input S'!27:27)","v":0.05},{"$f":"LOOKUP(KJ36,'Input S'!20:20,'Input S'!27:27)","v":0.05},{"$f":"LOOKUP(KK36,'Input S'!20:20,'Input S'!27:27)","v":0.05},{"$f":"LOOKUP(KL36,'Input S'!20:20,'Input S'!27:27)","v":0.05},{"$f":"LOOKUP(KM36,'Input S'!20:20,'Input S'!27:27)","v":0.05},{"$f":"LOOKUP(KN36,'Input S'!20:20,'Input S'!27:27)","v":0.05},{"$f":"LOOKUP(KO36,'Input S'!20:20,'Input S'!27:27)","v":0.05},{"$f":"LOOKUP(KP36,'Input S'!20:20,'Input S'!27:27)","v":0.05},{"$f":"LOOKUP(KQ36,'Input S'!20:20,'Input S'!27:27)","v":0.05},{"$f":"LOOKUP(KR36,'Input S'!20:20,'Input S'!27:27)","v":0.05},{"$f":"LOOKUP(KS36,'Input S'!20:20,'Input S'!27:27)","v":0.05},{"$f":"LOOKUP(KT36,'Input S'!20:20,'Input S'!27:27)","v":0.05},{"$f":"LOOKUP(KU36,'Input S'!20:20,'Input S'!27:27)","v":0.05},{"$f":"LOOKUP(KV36,'Input S'!20:20,'Input S'!27:27)","v":0.05},{"$f":"LOOKUP(KW36,'Input S'!20:20,'Input S'!27:27)","v":0.05},{"$f":"LOOKUP(KX36,'Input S'!20:20,'Input S'!27:27)","v":0.05},{"$f":"LOOKUP(KY36,'Input S'!20:20,'Input S'!27:27)","v":0.05},{"$f":"LOOKUP(KZ36,'Input S'!20:20,'Input S'!27:27)","v":0.05},{"$f":"LOOKUP(LA36,'Input S'!20:20,'Input S'!27:27)","v":0.05},{"$f":"LOOKUP(LB36,'Input S'!20:20,'Input S'!27:27)","v":0.05},{"$f":"LOOKUP(LC36,'Input S'!20:20,'Input S'!27:27)","v":0.05},{"$f":"LOOKUP(LD36,'Input S'!20:20,'Input S'!27:27)","v":0.05},{"$f":"LOOKUP(LE36,'Input S'!20:20,'Input S'!27:27)","v":0.05},{"$f":"LOOKUP(LF36,'Input S'!20:20,'Input S'!27:27)","v":0.05},{"$f":"LOOKUP(LG36,'Input S'!20:20,'Input S'!27:27)","v":0.05},{"$f":"LOOKUP(LH36,'Input S'!20:20,'Input S'!27:27)","v":0.05},{"$f":"LOOKUP(LI36,'Input S'!20:20,'Input S'!27:27)","v":0.05},{"$f":"LOOKUP(LJ36,'Input S'!20:20,'Input S'!27:27)","v":0.05},{"$f":"LOOKUP(LK36,'Input S'!20:20,'Input S'!27:27)","v":0.05},{"$f":"LOOKUP(LL36,'Input S'!20:20,'Input S'!27:27)","v":0.05},{"$f":"LOOKUP(LM36,'Input S'!20:20,'Input S'!27:27)","v":0.05},{"$f":"LOOKUP(LN36,'Input S'!20:20,'Input S'!27:27)","v":0.05},{"$f":"LOOKUP(LO36,'Input S'!20:20,'Input S'!27:27)","v":0.05},{"$f":"LOOKUP(LP36,'Input S'!20:20,'Input S'!27:27)","v":0.05},{"$f":"LOOKUP(LQ36,'Input S'!20:20,'Input S'!27:27)","v":0.05},{"$f":"LOOKUP(LR36,'Input S'!20:20,'Input S'!27:27)","v":0.05},{"$f":"LOOKUP(LS36,'Input S'!20:20,'Input S'!27:27)","v":0.05},{"$f":"LOOKUP(LT36,'Input S'!20:20,'Input S'!27:27)","v":0.05},{"$f":"LOOKUP(LU36,'Input S'!20:20,'Input S'!27:27)","v":0.05},{"$f":"LOOKUP(LV36,'Input S'!20:20,'Input S'!27:27)","v":0.05},{"$f":"LOOKUP(LW36,'Input S'!20:20,'Input S'!27:27)","v":0.05},{"$f":"LOOKUP(LX36,'Input S'!20:20,'Input S'!27:27)","v":0.05},{"$f":"LOOKUP(LY36,'Input S'!20:20,'Input S'!27:27)","v":0.05},{"$f":"LOOKUP(LZ36,'Input S'!20:20,'Input S'!27:27)","v":0.05},{"$f":"LOOKUP(MA36,'Input S'!20:20,'Input S'!27:27)","v":0.05},{"$f":"LOOKUP(MB36,'Input S'!20:20,'Input S'!27:27)","v":0.05},{"$f":"LOOKUP(MC36,'Input S'!20:20,'Input S'!27:27)","v":0.05},{"$f":"LOOKUP(MD36,'Input S'!20:20,'Input S'!27:27)","v":0.05},{"$f":"LOOKUP(ME36,'Input S'!20:20,'Input S'!27:27)","v":0.05},{"$f":"LOOKUP(MF36,'Input S'!20:20,'Input S'!27:27)","v":0.05},{"$f":"LOOKUP(MG36,'Input S'!20:20,'Input S'!27:27)","v":0.05},{"$f":"LOOKUP(MH36,'Input S'!20:20,'Input S'!27:27)","v":0.05},{"$f":"LOOKUP(MI36,'Input S'!20:20,'Input S'!27:27)","v":0.05},{"$f":"LOOKUP(MJ36,'Input S'!20:20,'Input S'!27:27)","v":0.05},{"$f":"LOOKUP(MK36,'Input S'!20:20,'Input S'!27:27)","v":0.05},{"$f":"LOOKUP(ML36,'Input S'!20:20,'Input S'!27:27)","v":0.05},{"$f":"LOOKUP(MM36,'Input S'!20:20,'Input S'!27:27)","v":0.05},{"$f":"LOOKUP(MN36,'Input S'!20:20,'Input S'!27:27)","v":0.05},{"$f":"LOOKUP(MO36,'Input S'!20:20,'Input S'!27:27)","v":0.05},{"$f":"LOOKUP(MP36,'Input S'!20:20,'Input S'!27:27)","v":0.05},{"$f":"LOOKUP(MQ36,'Input S'!20:20,'Input S'!27:27)","v":0.05},{"$f":"LOOKUP(MR36,'Input S'!20:20,'Input S'!27:27)","v":0.05},{"$f":"LOOKUP(MS36,'Input S'!20:20,'Input S'!27:27)","v":0.05},{"$f":"LOOKUP(MT36,'Input S'!20:20,'Input S'!27:27)","v":0.05},{"$f":"LOOKUP(MU36,'Input S'!20:20,'Input S'!27:27)","v":0.05},{"$f":"LOOKUP(MV36,'Input S'!20:20,'Input S'!27:27)","v":0.05},{"$f":"LOOKUP(MW36,'Input S'!20:20,'Input S'!27:27)","v":0.05},{"$f":"LOOKUP(MX36,'Input S'!20:20,'Input S'!27:27)","v":0.05},{"$f":"LOOKUP(MY36,'Input S'!20:20,'Input S'!27:27)","v":0.05},{"$f":"LOOKUP(MZ36,'Input S'!20:20,'Input S'!27:27)","v":0.05},{"$f":"LOOKUP(NA36,'Input S'!20:20,'Input S'!27:27)","v":0.05},{"$f":"LOOKUP(NB36,'Input S'!20:20,'Input S'!27:27)","v":0.05},{"$f":"LOOKUP(NC36,'Input S'!20:20,'Input S'!27:27)","v":0.05},{"$f":"LOOKUP(ND36,'Input S'!20:20,'Input S'!27:27)","v":0.05},{"$f":"LOOKUP(NE36,'Input S'!20:20,'Input S'!27:27)","v":0.05},{"$f":"LOOKUP(NF36,'Input S'!20:20,'Input S'!27:27)","v":0.05},{"$f":"LOOKUP(NG36,'Input S'!20:20,'Input S'!27:27)","v":0.05},{"$f":"LOOKUP(NH36,'Input S'!20:20,'Input S'!27:27)","v":0.05},{"$f":"LOOKUP(NI36,'Input S'!20:20,'Input S'!27:27)","v":0.05},{"$f":"LOOKUP(NJ36,'Input S'!20:20,'Input S'!27:27)","v":0.05},{"$f":"LOOKUP(NK36,'Input S'!20:20,'Input S'!27:27)","v":0.05},{"$f":"LOOKUP(NL36,'Input S'!20:20,'Input S'!27:27)","v":0.05},{"$f":"LOOKUP(NM36,'Input S'!20:20,'Input S'!27:27)","v":0.05},{"$f":"LOOKUP(NN36,'Input S'!20:20,'Input S'!27:27)","v":0.05},{"$f":"LOOKUP(NO36,'Input S'!20:20,'Input S'!27:27)","v":0.05},{"$f":"LOOKUP(NP36,'Input S'!20:20,'Input S'!27:27)","v":0.05},{"$f":"LOOKUP(NQ36,'Input S'!20:20,'Input S'!27:27)","v":0.05},{"$f":"LOOKUP(NR36,'Input S'!20:20,'Input S'!27:27)","v":0.05},{"$f":"LOOKUP(NS36,'Input S'!20:20,'Input S'!27:27)","v":0.05},{"$f":"LOOKUP(NT36,'Input S'!20:20,'Input S'!27:27)","v":0.05},{"$f":"LOOKUP(NU36,'Input S'!20:20,'Input S'!27:27)","v":0.05},{"$f":"LOOKUP(NV36,'Input S'!20:20,'Input S'!27:27)","v":0.05},{"$f":"LOOKUP(NW36,'Input S'!20:20,'Input S'!27:27)","v":0.05},{"$f":"LOOKUP(NX36,'Input S'!20:20,'Input S'!27:27)","v":0.05},{"$f":"LOOKUP(NY36,'Input S'!20:20,'Input S'!27:27)","v":0.05},{"$f":"LOOKUP(NZ36,'Input S'!20:20,'Input S'!27:27)","v":0.05},{"$f":"LOOKUP(OA36,'Input S'!20:20,'Input S'!27:27)","v":0.05},{"$f":"LOOKUP(OB36,'Input S'!20:20,'Input S'!27:27)","v":0.05},{"$f":"LOOKUP(OC36,'Input S'!20:20,'Input S'!27:27)","v":0.05},{"$f":"LOOKUP(OD36,'Input S'!20:20,'Input S'!27:27)","v":0.05},{"$f":"LOOKUP(OE36,'Input S'!20:20,'Input S'!27:27)","v":0.05},{"$f":"LOOKUP(OF36,'Input S'!20:20,'Input S'!27:27)","v":0.05},{"$f":"LOOKUP(OG36,'Input S'!20:20,'Input S'!27:27)","v":0.05},{"$f":"LOOKUP(OH36,'Input S'!20:20,'Input S'!27:27)","v":0.05},{"$f":"LOOKUP(OI36,'Input S'!20:20,'Input S'!27:27)","v":0.05},{"$f":"LOOKUP(OJ36,'Input S'!20:20,'Input S'!27:27)","v":0.05},{"$f":"LOOKUP(OK36,'Input S'!20:20,'Input S'!27:27)","v":0.05},{"$f":"LOOKUP(OL36,'Input S'!20:20,'Input S'!27:27)","v":0.05},{"$f":"LOOKUP(OM36,'Input S'!20:20,'Input S'!27:27)","v":0.05},{"$f":"LOOKUP(ON36,'Input S'!20:20,'Input S'!27:27)","v":0.05},{"$f":"LOOKUP(OO36,'Input S'!20:20,'Input S'!27:27)","v":0.05},{"$f":"LOOKUP(OP36,'Input S'!20:20,'Input S'!27:27)","v":0.05},{"$f":"LOOKUP(OQ36,'Input S'!20:20,'Input S'!27:27)","v":0.05},{"$f":"LOOKUP(OR36,'Input S'!20:20,'Input S'!27:27)","v":0.05},{"$f":"LOOKUP(OS36,'Input S'!20:20,'Input S'!27:27)","v":0.05},{"$f":"LOOKUP(OT36,'Input S'!20:20,'Input S'!27:27)","v":0.05},{"$f":"LOOKUP(OU36,'Input S'!20:20,'Input S'!27:27)","v":0.05},{"$f":"LOOKUP(OV36,'Input S'!20:20,'Input S'!27:27)","v":0.05},{"$f":"LOOKUP(OW36,'Input S'!20:20,'Input S'!27:27)","v":0.05},{"$f":"LOOKUP(OX36,'Input S'!20:20,'Input S'!27:27)","v":0.05},{"$f":"LOOKUP(OY36,'Input S'!20:20,'Input S'!27:27)","v":0.05},{"$f":"LOOKUP(OZ36,'Input S'!20:20,'Input S'!27:27)","v":0.05},{"$f":"LOOKUP(PA36,'Input S'!20:20,'Input S'!27:27)","v":0.05},{"$f":"LOOKUP(PB36,'Input S'!20:20,'Input S'!27:27)","v":0.05},{"$f":"LOOKUP(PC36,'Input S'!20:20,'Input S'!27:27)","v":0.05},{"$f":"LOOKUP(PD36,'Input S'!20:20,'Input S'!27:27)","v":0.05},{"$f":"LOOKUP(PE36,'Input S'!20:20,'Input S'!27:27)","v":0.05},{"$f":"LOOKUP(PF36,'Input S'!20:20,'Input S'!27:27)","v":0.05},{"$f":"LOOKUP(PG36,'Input S'!20:20,'Input S'!27:27)","v":0.05},{"$f":"LOOKUP(PH36,'Input S'!20:20,'Input S'!27:27)","v":0.05},{"$f":"LOOKUP(PI36,'Input S'!20:20,'Input S'!27:27)","v":0.05},{"$f":"LOOKUP(PJ36,'Input S'!20:20,'Input S'!27:27)","v":0.05},{"$f":"LOOKUP(PK36,'Input S'!20:20,'Input S'!27:27)","v":0.05},{"$f":"LOOKUP(PL36,'Input S'!20:20,'Input S'!27:27)","v":0.05},{"$f":"LOOKUP(PM36,'Input S'!20:20,'Input S'!27:27)","v":0.05},{"$f":"LOOKUP(PN36,'Input S'!20:20,'Input S'!27:27)","v":0.05},{"$f":"LOOKUP(PO36,'Input S'!20:20,'Input S'!27:27)","v":0.05},{"$f":"LOOKUP(PP36,'Input S'!20:20,'Input S'!27:27)","v":0.05},{"$f":"LOOKUP(PQ36,'Input S'!20:20,'Input S'!27:27)","v":0.05},{"$f":"LOOKUP(PR36,'Input S'!20:20,'Input S'!27:27)","v":0.05},{"$f":"LOOKUP(PS36,'Input S'!20:20,'Input S'!27:27)","v":0.05},{"$f":"LOOKUP(PT36,'Input S'!20:20,'Input S'!27:27)","v":0.05},{"$f":"LOOKUP(PU36,'Input S'!20:20,'Input S'!27:27)","v":0.05},{"$f":"LOOKUP(PV36,'Input S'!20:20,'Input S'!27:27)","v":0.05},{"$f":"LOOKUP(PW36,'Input S'!20:20,'Input S'!27:27)","v":0.05},{"$f":"LOOKUP(PX36,'Input S'!20:20,'Input S'!27:27)","v":0.05},{"$f":"LOOKUP(PY36,'Input S'!20:20,'Input S'!27:27)","v":0.05},{"$f":"LOOKUP(PZ36,'Input S'!20:20,'Input S'!27:27)","v":0.05},{"$f":"LOOKUP(QA36,'Input S'!20:20,'Input S'!27:27)","v":0.05},{"$f":"LOOKUP(QB36,'Input S'!20:20,'Input S'!27:27)","v":0.05},{"$f":"LOOKUP(QC36,'Input S'!20:20,'Input S'!27:27)","v":0.05},{"$f":"LOOKUP(QD36,'Input S'!20:20,'Input S'!27:27)","v":0.05},{"$f":"LOOKUP(QE36,'Input S'!20:20,'Input S'!27:27)","v":0.05},{"$f":"LOOKUP(QF36,'Input S'!20:20,'Input S'!27:27)","v":0.05},{"$f":"LOOKUP(QG36,'Input S'!20:20,'Input S'!27:27)","v":0.05},{"$f":"LOOKUP(QH36,'Input S'!20:20,'Input S'!27:27)","v":0.05},{"$f":"LOOKUP(QI36,'Input S'!20:20,'Input S'!27:27)","v":0.05},{"$f":"LOOKUP(QJ36,'Input S'!20:20,'Input S'!27:27)","v":0.05},{"$f":"LOOKUP(QK36,'Input S'!20:20,'Input S'!27:27)","v":0.05},{"$f":"LOOKUP(QL36,'Input S'!20:20,'Input S'!27:27)","v":0.05},{"$f":"LOOKUP(QM36,'Input S'!20:20,'Input S'!27:27)","v":0.05},{"$f":"LOOKUP(QN36,'Input S'!20:20,'Input S'!27:27)","v":0.05},{"$f":"LOOKUP(QO36,'Input S'!20:20,'Input S'!27:27)","v":0.05},{"$f":"LOOKUP(QP36,'Input S'!20:20,'Input S'!27:27)","v":0.05},{"$f":"LOOKUP(QQ36,'Input S'!20:20,'Input S'!27:27)","v":0.05},{"$f":"LOOKUP(QR36,'Input S'!20:20,'Input S'!27:27)","v":0.05},{"$f":"LOOKUP(QS36,'Input S'!20:20,'Input S'!27:27)","v":0.05},{"$f":"LOOKUP(QT36,'Input S'!20:20,'Input S'!27:27)","v":0.05},{"$f":"LOOKUP(QU36,'Input S'!20:20,'Input S'!27:27)","v":0.05},{"$f":"LOOKUP(QV36,'Input S'!20:20,'Input S'!27:27)","v":0.05},{"$f":"LOOKUP(QW36,'Input S'!20:20,'Input S'!27:27)","v":0.05},{"$f":"LOOKUP(QX36,'Input S'!20:20,'Input S'!27:27)","v":0.05},{"$f":"LOOKUP(QY36,'Input S'!20:20,'Input S'!27:27)","v":0.05},{"$f":"LOOKUP(QZ36,'Input S'!20:20,'Input S'!27:27)","v":0.05},{"$f":"LOOKUP(RA36,'Input S'!20:20,'Input S'!27:27)","v":0.05},{"$f":"LOOKUP(RB36,'Input S'!20:20,'Input S'!27:27)","v":0.05},{"$f":"LOOKUP(RC36,'Input S'!20:20,'Input S'!27:27)","v":0.05},{"$f":"LOOKUP(RD36,'Input S'!20:20,'Input S'!27:27)","v":0.05},{"$f":"LOOKUP(RE36,'Input S'!20:20,'Input S'!27:27)","v":0.05},{"$f":"LOOKUP(RF36,'Input S'!20:20,'Input S'!27:27)","v":0.05},{"$f":"LOOKUP(RG36,'Input S'!20:20,'Input S'!27:27)","v":0.05},{"$f":"LOOKUP(RH36,'Input S'!20:20,'Input S'!27:27)","v":0.05},{"$f":"LOOKUP(RI36,'Input S'!20:20,'Input S'!27:27)","v":0.05},{"$f":"LOOKUP(RJ36,'Input S'!20:20,'Input S'!27:27)","v":0.05},{"$f":"LOOKUP(RK36,'Input S'!20:20,'Input S'!27:27)","v":0.05},{"$f":"LOOKUP(RL36,'Input S'!20:20,'Input S'!27:27)","v":0.05},{"$f":"LOOKUP(RM36,'Input S'!20:20,'Input S'!27:27)","v":0.05},{"$f":"LOOKUP(RN36,'Input S'!20:20,'Input S'!27:27)","v":0.05},{"$f":"LOOKUP(RO36,'Input S'!20:20,'Input S'!27:27)","v":0.05},{"$f":"LOOKUP(RP36,'Input S'!20:20,'Input S'!27:27)","v":0.05},{"$f":"LOOKUP(RQ36,'Input S'!20:20,'Input S'!27:27)","v":0.05},{"$f":"LOOKUP(RR36,'Input S'!20:20,'Input S'!27:27)","v":0.05},{"$f":"LOOKUP(RS36,'Input S'!20:20,'Input S'!27:27)","v":0.05},{"$f":"LOOKUP(RT36,'Input S'!20:20,'Input S'!27:27)","v":0.05},{"$f":"LOOKUP(RU36,'Input S'!20:20,'Input S'!27:27)","v":0.05},{"$f":"LOOKUP(RV36,'Input S'!20:20,'Input S'!27:27)","v":0.05},{"$f":"LOOKUP(RW36,'Input S'!20:20,'Input S'!27:27)","v":0.05},{"$f":"LOOKUP(RX36,'Input S'!20:20,'Input S'!27:27)","v":0.05},{"$f":"LOOKUP(RY36,'Input S'!20:20,'Input S'!27:27)","v":0.05},{"$f":"LOOKUP(RZ36,'Input S'!20:20,'Input S'!27:27)","v":0.05},{"$f":"LOOKUP(SA36,'Input S'!20:20,'Input S'!27:27)","v":0.05},{"$f":"LOOKUP(SB36,'Input S'!20:20,'Input S'!27:27)","v":0.05},{"$f":"LOOKUP(SC36,'Input S'!20:20,'Input S'!27:27)","v":0.05}]
[null,null,null,"Periodic Inflation Rate","% p.p.",null,null,null,"% p.p.",null,{"$f":"(1+K37)^(1/(Months/K7))-1","v":5.0000000000000044E-2},5.0000000000000044E-2,5.0000000000000044E-2,5.0000000000000044E-2,5.0000000000000044E-2,5.0000000000000044E-2,5.0000000000000044E-2,5.0000000000000044E-2,5.0000000000000044E-2,5.0000000000000044E-2,5.0000000000000044E-2,5.0000000000000044E-2,5.0000000000000044E-2,5.0000000000000044E-2,5.0000000000000044E-2,5.0000000000000044E-2,5.0000000000000044E-2,5.0000000000000044E-2,5.0000000000000044E-2,5.0000000000000044E-2,5.0000000000000044E-2,5.0000000000000044E-2,5.0000000000000044E-2,5.0000000000000044E-2,5.0000000000000044E-2,5.0000000000000044E-2,5.0000000000000044E-2,5.0000000000000044E-2,5.0000000000000044E-2,5.0000000000000044E-2,5.0000000000000044E-2,5.0000000000000044E-2,5.0000000000000044E-2,5.0000000000000044E-2,5.0000000000000044E-2,5.0000000000000044E-2,5.0000000000000044E-2,5.0000000000000044E-2,5.0000000000000044E-2,5.0000000000000044E-2,5.0000000000000044E-2,5.0000000000000044E-2,5.0000000000000044E-2,5.0000000000000044E-2,5.0000000000000044E-2,5.0000000000000044E-2,5.0000000000000044E-2,5.0000000000000044E-2,5.0000000000000044E-2,5.0000000000000044E-2,5.0000000000000044E-2,5.0000000000000044E-2,5.0000000000000044E-2,5.0000000000000044E-2,5.0000000000000044E-2,5.0000000000000044E-2,5.0000000000000044E-2,5.0000000000000044E-2,5.0000000000000044E-2,5.0000000000000044E-2,5.0000000000000044E-2,5.0000000000000044E-2,5.0000000000000044E-2,5.0000000000000044E-2,{"$f":"(1+BW37)^(1/(Months/BW7))-1","v":5.0000000000000044E-2},5.0000000000000044E-2,5.0000000000000044E-2,5.0000000000000044E-2,5.0000000000000044E-2,5.0000000000000044E-2,5.0000000000000044E-2,5.0000000000000044E-2,5.0000000000000044E-2,5.0000000000000044E-2,5.0000000000000044E-2,5.0000000000000044E-2,5.0000000000000044E-2,5.0000000000000044E-2,5.0000000000000044E-2,5.0000000000000044E-2,5.0000000000000044E-2,5.0000000000000044E-2,5.0000000000000044E-2,5.0000000000000044E-2,5.0000000000000044E-2,5.0000000000000044E-2,5.0000000000000044E-2,5.0000000000000044E-2,5.0000000000000044E-2,5.0000000000000044E-2,5.0000000000000044E-2,5.0000000000000044E-2,5.0000000000000044E-2,5.0000000000000044E-2,5.0000000000000044E-2,5.0000000000000044E-2,5.0000000000000044E-2,5.0000000000000044E-2,5.0000000000000044E-2,5.0000000000000044E-2,5.0000000000000044E-2,5.0000000000000044E-2,5.0000000000000044E-2,5.0000000000000044E-2,5.0000000000000044E-2,5.0000000000000044E-2,5.0000000000000044E-2,5.0000000000000044E-2,5.0000000000000044E-2,5.0000000000000044E-2,5.0000000000000044E-2,5.0000000000000044E-2,5.0000000000000044E-2,5.0000000000000044E-2,5.0000000000000044E-2,5.0000000000000044E-2,5.0000000000000044E-2,5.0000000000000044E-2,5.0000000000000044E-2,5.0000000000000044E-2,5.0000000000000044E-2,5.0000000000000044E-2,5.0000000000000044E-2,5.0000000000000044E-2,5.0000000000000044E-2,5.0000000000000044E-2,5.0000000000000044E-2,5.0000000000000044E-2,{"$f":"(1+EI37)^(1/(Months/EI7))-1","v":5.0000000000000044E-2},5.0000000000000044E-2,5.0000000000000044E-2,5.0000000000000044E-2,5.0000000000000044E-2,5.0000000000000044E-2,5.0000000000000044E-2,5.0000000000000044E-2,5.0000000000000044E-2,5.0000000000000044E-2,5.0000000000000044E-2,5.0000000000000044E-2,5.0000000000000044E-2,5.0000000000000044E-2,5.0000000000000044E-2,5.0000000000000044E-2,5.0000000000000044E-2,5.0000000000000044E-2,5.0000000000000044E-2,5.0000000000000044E-2,5.0000000000000044E-2,5.0000000000000044E-2,5.0000000000000044E-2,5.0000000000000044E-2,5.0000000000000044E-2,5.0000000000000044E-2,5.0000000000000044E-2,5.0000000000000044E-2,5.0000000000000044E-2,5.0000000000000044E-2,5.0000000000000044E-2,5.0000000000000044E-2,5.0000000000000044E-2,5.0000000000000044E-2,5.0000000000000044E-2,5.0000000000000044E-2,5.0000000000000044E-2,5.0000000000000044E-2,5.0000000000000044E-2,5.0000000000000044E-2,5.0000000000000044E-2,5.0000000000000044E-2,5.0000000000000044E-2,5.0000000000000044E-2,5.0000000000000044E-2,5.0000000000000044E-2,5.0000000000000044E-2,5.0000000000000044E-2,5.0000000000000044E-2,5.0000000000000044E-2,5.0000000000000044E-2,5.0000000000000044E-2,5.0000000000000044E-2,5.0000000000000044E-2,5.0000000000000044E-2,5.0000000000000044E-2,5.0000000000000044E-2,5.0000000000000044E-2,5.0000000000000044E-2,5.0000000000000044E-2,5.0000000000000044E-2,5.0000000000000044E-2,5.0000000000000044E-2,5.0000000000000044E-2,{"$f":"(1+GU37)^(1/(Months/GU7))-1","v":5.0000000000000044E-2},5.0000000000000044E-2,5.0000000000000044E-2,5.0000000000000044E-2,5.0000000000000044E-2,5.0000000000000044E-2,5.0000000000000044E-2,5.0000000000000044E-2,5.0000000000000044E-2,5.0000000000000044E-2,5.0000000000000044E-2,5.0000000000000044E-2,5.0000000000000044E-2,5.0000000000000044E-2,5.0000000000000044E-2,5.0000000000000044E-2,5.0000000000000044E-2,5.0000000000000044E-2,5.0000000000000044E-2,5.0000000000000044E-2,5.0000000000000044E-2,5.0000000000000044E-2,5.0000000000000044E-2,5.0000000000000044E-2,5.0000000000000044E-2,5.0000000000000044E-2,5.0000000000000044E-2,5.0000000000000044E-2,5.0000000000000044E-2,5.0000000000000044E-2,5.0000000000000044E-2,5.0000000000000044E-2,5.0000000000000044E-2,5.0000000000000044E-2,5.0000000000000044E-2,5.0000000000000044E-2,5.0000000000000044E-2,5.0000000000000044E-2,5.0000000000000044E-2,5.0000000000000044E-2,5.0000000000000044E-2,5.0000000000000044E-2,5.0000000000000044E-2,5.0000000000000044E-2,5.0000000000000044E-2,5.0000000000000044E-2,5.0000000000000044E-2,5.0000000000000044E-2,5.0000000000000044E-2,5.0000000000000044E-2,5.0000000000000044E-2,5.0000000000000044E-2,5.0000000000000044E-2,5.0000000000000044E-2,5.0000000000000044E-2,5.0000000000000044E-2,5.0000000000000044E-2,5.0000000000000044E-2,5.0000000000000044E-2,5.0000000000000044E-2,5.0000000000000044E-2,5.0000000000000044E-2,5.0000000000000044E-2,5.0000000000000044E-2,{"$f":"(1+JG37)^(1/(Months/JG7))-1","v":5.0000000000000044E-2},5.0000000000000044E-2,5.0000000000000044E-2,5.0000000000000044E-2,5.0000000000000044E-2,5.0000000000000044E-2,5.0000000000000044E-2,5.0000000000000044E-2,5.0000000000000044E-2,5.0000000000000044E-2,5.0000000000000044E-2,5.0000000000000044E-2,5.0000000000000044E-2,5.0000000000000044E-2,5.0000000000000044E-2,5.0000000000000044E-2,5.0000000000000044E-2,5.0000000000000044E-2,5.0000000000000044E-2,5.0000000000000044E-2,5.0000000000000044E-2,5.0000000000000044E-2,5.0000000000000044E-2,5.0000000000000044E-2,5.0000000000000044E-2,5.0000000000000044E-2,5.0000000000000044E-2,5.0000000000000044E-2,5.0000000000000044E-2,5.0000000000000044E-2,5.0000000000000044E-2,5.0000000000000044E-2,5.0000000000000044E-2,5.0000000000000044E-2,5.0000000000000044E-2,5.0000000000000044E-2,5.0000000000000044E-2,5.0000000000000044E-2,5.0000000000000044E-2,5.0000000000000044E-2,5.0000000000000044E-2,5.0000000000000044E-2,5.0000000000000044E-2,5.0000000000000044E-2,5.0000000000000044E-2,5.0000000000000044E-2,5.0000000000000044E-2,5.0000000000000044E-2,5.0000000000000044E-2,5.0000000000000044E-2,5.0000000000000044E-2,5.0000000000000044E-2,5.0000000000000044E-2,5.0000000000000044E-2,5.0000000000000044E-2,5.0000000000000044E-2,5.0000000000000044E-2,5.0000000000000044E-2,5.0000000000000044E-2,5.0000000000000044E-2,5.0000000000000044E-2,5.0000000000000044E-2,5.0000000000000044E-2,5.0000000000000044E-2,{"$f":"(1+LS37)^(1/(Months/LS7))-1","v":5.0000000000000044E-2},5.0000000000000044E-2,5.0000000000000044E-2,5.0000000000000044E-2,5.0000000000000044E-2,5.0000000000000044E-2,5.0000000000000044E-2,5.0000000000000044E-2,5.0000000000000044E-2,5.0000000000000044E-2,5.0000000000000044E-2,5.0000000000000044E-2,5.0000000000000044E-2,5.0000000000000044E-2,5.0000000000000044E-2,5.0000000000000044E-2,5.0000000000000044E-2,5.0000000000000044E-2,5.0000000000000044E-2,5.0000000000000044E-2,5.0000000000000044E-2,5.0000000000000044E-2,5.0000000000000044E-2,5.0000000000000044E-2,5.0000000000000044E-2,5.0000000000000044E-2,5.0000000000000044E-2,5.0000000000000044E-2,5.0000000000000044E-2,5.0000000000000044E-2,5.0000000000000044E-2,5.0000000000000044E-2,5.0000000000000044E-2,5.0000000000000044E-2,5.0000000000000044E-2,5.0000000000000044E-2,5.0000000000000044E-2,5.0000000000000044E-2,5.0000000000000044E-2,5.0000000000000044E-2,5.0000000000000044E-2,5.0000000000000044E-2,5.0000000000000044E-2,5.0000000000000044E-2,5.0000000000000044E-2,5.0000000000000044E-2,5.0000000000000044E-2,5.0000000000000044E-2,5.0000000000000044E-2,5.0000000000000044E-2,5.0000000000000044E-2,5.0000000000000044E-2,5.0000000000000044E-2,5.0000000000000044E-2,5.0000000000000044E-2,5.0000000000000044E-2,5.0000000000000044E-2,5.0000000000000044E-2,5.0000000000000044E-2,5.0000000000000044E-2,5.0000000000000044E-2,5.0000000000000044E-2,5.0000000000000044E-2,5.0000000000000044E-2,{"$f":"(1+OE37)^(1/(Months/OE7))-1","v":5.0000000000000044E-2},5.0000000000000044E-2,5.0000000000000044E-2,5.0000000000000044E-2,5.0000000000000044E-2,5.0000000000000044E-2,5.0000000000000044E-2,5.0000000000000044E-2,5.0000000000000044E-2,5.0000000000000044E-2,5.0000000000000044E-2,5.0000000000000044E-2,5.0000000000000044E-2,5.0000000000000044E-2,5.0000000000000044E-2,5.0000000000000044E-2,5.0000000000000044E-2,5.0000000000000044E-2,5.0000000000000044E-2,5.0000000000000044E-2,5.0000000000000044E-2,5.0000000000000044E-2,5.0000000000000044E-2,5.0000000000000044E-2,5.0000000000000044E-2,5.0000000000000044E-2,5.0000000000000044E-2,5.0000000000000044E-2,5.0000000000000044E-2,5.0000000000000044E-2,5.0000000000000044E-2,5.0000000000000044E-2,5.0000000000000044E-2,5.0000000000000044E-2,5.0000000000000044E-2,5.0000000000000044E-2,5.0000000000000044E-2,5.0000000000000044E-2,5.0000000000000044E-2,5.0000000000000044E-2,5.0000000000000044E-2,5.0000000000000044E-2,5.0000000000000044E-2,5.0000000000000044E-2,5.0000000000000044E-2,5.0000000000000044E-2,5.0000000000000044E-2,5.0000000000000044E-2,5.0000000000000044E-2,5.0000000000000044E-2,5.0000000000000044E-2,5.0000000000000044E-2,5.0000000000000044E-2,5.0000000000000044E-2,5.0000000000000044E-2,5.0000000000000044E-2,5.0000000000000044E-2,5.0000000000000044E-2,5.0000000000000044E-2,5.0000000000000044E-2,5.0000000000000044E-2,5.0000000000000044E-2,5.0000000000000044E-2,5.0000000000000044E-2,{"$f":"(1+QQ37)^(1/(Months/QQ7))-1","v":5.0000000000000044E-2},5.0000000000000044E-2,5.0000000000000044E-2,5.0000000000000044E-2,5.0000000000000044E-2,5.0000000000000044E-2,5.0000000000000044E-2,5.0000000000000044E-2,5.0000000000000044E-2,5.0000000000000044E-2,5.0000000000000044E-2,5.0000000000000044E-2,5.0000000000000044E-2,5.0000000000000044E-2,5.0000000000000044E-2,5.0000000000000044E-2,5.0000000000000044E-2,5.0000000000000044E-2,5.0000000000000044E-2,5.0000000000000044E-2,5.0000000000000044E-2,5.0000000000000044E-2,5.0000000000000044E-2,5.0000000000000044E-2,5.0000000000000044E-2,5.0000000000000044E-2,5.0000000000000044E-2,5.0000000000000044E-2,5.0000000000000044E-2,5.0000000000000044E-2,5.0000000000000044E-2,5.0000000000000044E-2,5.0000000000000044E-2,5.0000000000000044E-2,5.0000000000000044E-2,5.0000000000000044E-2,5.0000000000000044E-2,5.0000000000000044E-2,5.0000000000000044E-2]
[null,null,null,"Inflation Index","Index",null,null,null,"Index",{"$f":"one","v":1},{"$f":"J39*(1+K38*K10)","v":1},1.05,1.1025,1.1576250000000001,1.2155062500000002,1.2762815625000004,1.3400956406250004,1.4071004226562505,1.477455443789063,1.5513282159785162,1.628894626777442,1.7103393581163142,1.7958563260221301,1.8856491423232367,1.9799315994393987,2.0789281794113688,2.1828745883819374,2.2920183178010345,2.4066192336910861,2.5269501953756404,2.6532977051444226,2.7859625904016441,2.9252607199217264,3.0715237559178128,3.2250999437137038,3.3863549408993889,3.3863549408993889,3.3863549408993889,3.3863549408993889,3.3863549408993889,3.3863549408993889,3.3863549408993889,3.3863549408993889,3.3863549408993889,3.3863549408993889,3.3863549408993889,3.3863549408993889,3.3863549408993889,3.3863549408993889,3.3863549408993889,3.3863549408993889,3.3863549408993889,3.3863549408993889,3.3863549408993889,3.3863549408993889,3.3863549408993889,3.3863549408993889,3.3863549408993889,3.3863549408993889,3.3863549408993889,3.3863549408993889,3.3863549408993889,3.3863549408993889,3.3863549408993889,3.3863549408993889,3.3863549408993889,3.3863549408993889,3.3863549408993889,3.3863549408993889,3.3863549408993889,3.3863549408993889,3.3863549408993889,3.3863549408993889,3.3863549408993889,{"$f":"BV39*(1+BW38*BW10)","v":3.3863549408993889},3.3863549408993889,3.3863549408993889,3.3863549408993889,3.3863549408993889,3.3863549408993889,3.3863549408993889,3.3863549408993889,3.3863549408993889,3.3863549408993889,3.3863549408993889,3.3863549408993889,3.3863549408993889,3.3863549408993889,3.3863549408993889,3.3863549408993889,3.3863549408993889,3.3863549408993889,3.3863549408993889,3.3863549408993889,3.3863549408993889,3.3863549408993889,3.3863549408993889,3.3863549408993889,3.3863549408993889,3.3863549408993889,3.3863549408993889,3.3863549408993889,3.3863549408993889,3.3863549408993889,3.3863549408993889,3.3863549408993889,3.3863549408993889,3.3863549408993889,3.3863549408993889,3.3863549408993889,3.3863549408993889,3.3863549408993889,3.3863549408993889,3.3863549408993889,3.3863549408993889,3.3863549408993889,3.3863549408993889,3.3863549408993889,3.3863549408993889,3.3863549408993889,3.3863549408993889,3.3863549408993889,3.3863549408993889,3.3863549408993889,3.3863549408993889,3.3863549408993889,3.3863549408993889,3.3863549408993889,3.3863549408993889,3.3863549408993889,3.3863549408993889,3.3863549408993889,3.3863549408993889,3.3863549408993889,3.3863549408993889,3.3863549408993889,3.3863549408993889,3.3863549408993889,{"$f":"EH39*(1+EI38*EI10)","v":3.3863549408993889},3.3863549408993889,3.3863549408993889,3.3863549408993889,3.3863549408993889,3.3863549408993889,3.3863549408993889,3.3863549408993889,3.3863549408993889,3.3863549408993889,3.3863549408993889,3.3863549408993889,3.3863549408993889,3.3863549408993889,3.3863549408993889,3.3863549408993889,3.3863549408993889,3.3863549408993889,3.3863549408993889,3.3863549408993889,3.3863549408993889,3.3863549408993889,3.3863549408993889,3.3863549408993889,3.3863549408993889,3.3863549408993889,3.3863549408993889,3.3863549408993889,3.3863549408993889,3.3863549408993889,3.3863549408993889,3.3863549408993889,3.3863549408993889,3.3863549408993889,3.3863549408993889,3.3863549408993889,3.3863549408993889,3.3863549408993889,3.3863549408993889,3.3863549408993889,3.3863549408993889,3.3863549408993889,3.3863549408993889,3.3863549408993889,3.3863549408993889,3.3863549408993889,3.3863549408993889,3.3863549408993889,3.3863549408993889,3.3863549408993889,3.3863549408993889,3.3863549408993889,3.3863549408993889,3.3863549408993889,3.3863549408993889,3.3863549408993889,3.3863549408993889,3.3863549408993889,3.3863549408993889,3.3863549408993889,3.3863549408993889,3.3863549408993889,3.3863549408993889,3.3863549408993889,{"$f":"GT39*(1+GU38*GU10)","v":3.3863549408993889},3.3863549408993889,3.3863549408993889,3.3863549408993889,3.3863549408993889,3.3863549408993889,3.3863549408993889,3.3863549408993889,3.3863549408993889,3.3863549408993889,3.3863549408993889,3.3863549408993889,3.3863549408993889,3.3863549408993889,3.3863549408993889,3.3863549408993889,3.3863549408993889,3.3863549408993889,3.3863549408993889,3.3863549408993889,3.3863549408993889,3.3863549408993889,3.3863549408993889,3.3863549408993889,3.3863549408993889,3.3863549408993889,3.3863549408993889,3.3863549408993889,3.3863549408993889,3.3863549408993889,3.3863549408993889,3.3863549408993889,3.3863549408993889,3.3863549408993889,3.3863549408993889,3.3863549408993889,3.3863549408993889,3.3863549408993889,3.3863549408993889,3.3863549408993889,3.3863549408993889,3.3863549408993889,3.3863549408993889,3.3863549408993889,3.3863549408993889,3.3863549408993889,3.3863549408993889,3.3863549408993889,3.3863549408993889,3.3863549408993889,3.3863549408993889,3.3863549408993889,3.3863549408993889,3.3863549408993889,3.3863549408993889,3.3863549408993889,3.3863549408993889,3.3863549408993889,3.3863549408993889,3.3863549408993889,3.3863549408993889,3.3863549408993889,3.3863549408993889,3.3863549408993889,{"$f":"JF39*(1+JG38*JG10)","v":3.3863549408993889},3.3863549408993889,3.3863549408993889,3.3863549408993889,3.3863549408993889,3.3863549408993889,3.3863549408993889,3.3863549408993889,3.3863549408993889,3.3863549408993889,3.3863549408993889,3.3863549408993889,3.3863549408993889,3.3863549408993889,3.3863549408993889,3.3863549408993889,3.3863549408993889,3.3863549408993889,3.3863549408993889,3.3863549408993889,3.3863549408993889,3.3863549408993889,3.3863549408993889,3.3863549408993889,3.3863549408993889,3.3863549408993889,3.3863549408993889,3.3863549408993889,3.3863549408993889,3.3863549408993889,3.3863549408993889,3.3863549408993889,3.3863549408993889,3.3863549408993889,3.3863549408993889,3.3863549408993889,3.3863549408993889,3.3863549408993889,3.3863549408993889,3.3863549408993889,3.3863549408993889,3.3863549408993889,3.3863549408993889,3.3863549408993889,3.3863549408993889,3.3863549408993889,3.3863549408993889,3.3863549408993889,3.3863549408993889,3.3863549408993889,3.3863549408993889,3.3863549408993889,3.3863549408993889,3.3863549408993889,3.3863549408993889,3.3863549408993889,3.3863549408993889,3.3863549408993889,3.3863549408993889,3.3863549408993889,3.3863549408993889,3.3863549408993889,3.3863549408993889,3.3863549408993889,{"$f":"LR39*(1+LS38*LS10)","v":3.3863549408993889},3.3863549408993889,3.3863549408993889,3.3863549408993889,3.3863549408993889,3.3863549408993889,3.3863549408993889,3.3863549408993889,3.3863549408993889,3.3863549408993889,3.3863549408993889,3.3863549408993889,3.3863549408993889,3.3863549408993889,3.3863549408993889,3.3863549408993889,3.3863549408993889,3.3863549408993889,3.3863549408993889,3.3863549408993889,3.3863549408993889,3.3863549408993889,3.3863549408993889,3.3863549408993889,3.3863549408993889,3.3863549408993889,3.3863549408993889,3.3863549408993889,3.3863549408993889,3.3863549408993889,3.3863549408993889,3.3863549408993889,3.3863549408993889,3.3863549408993889,3.3863549408993889,3.3863549408993889,3.3863549408993889,3.3863549408993889,3.3863549408993889,3.3863549408993889,3.3863549408993889,3.3863549408993889,3.3863549408993889,3.3863549408993889,3.3863549408993889,3.3863549408993889,3.3863549408993889,3.3863549408993889,3.3863549408993889,3.3863549408993889,3.3863549408993889,3.3863549408993889,3.3863549408993889,3.3863549408993889,3.3863549408993889,3.3863549408993889,3.3863549408993889,3.3863549408993889,3.3863549408993889,3.3863549408993889,3.3863549408993889,3.3863549408993889,3.3863549408993889,3.3863549408993889,{"$f":"OD39*(1+OE38*OE10)","v":3.3863549408993889},3.3863549408993889,3.3863549408993889,3.3863549408993889,3.3863549408993889,3.3863549408993889,3.3863549408993889,3.3863549408993889,3.3863549408993889,3.3863549408993889,3.3863549408993889,3.3863549408993889,3.3863549408993889,3.3863549408993889,3.3863549408993889,3.3863549408993889,3.3863549408993889,3.3863549408993889,3.3863549408993889,3.3863549408993889,3.3863549408993889,3.3863549408993889,3.3863549408993889,3.3863549408993889,3.3863549408993889,3.3863549408993889,3.3863549408993889,3.3863549408993889,3.3863549408993889,3.3863549408993889,3.3863549408993889,3.3863549408993889,3.3863549408993889,3.3863549408993889,3.3863549408993889,3.3863549408993889,3.3863549408993889,3.3863549408993889,3.3863549408993889,3.3863549408993889,3.3863549408993889,3.3863549408993889,3.3863549408993889,3.3863549408993889,3.3863549408993889,3.3863549408993889,3.3863549408993889,3.3863549408993889,3.3863549408993889,3.3863549408993889,3.3863549408993889,3.3863549408993889,3.3863549408993889,3.3863549408993889,3.3863549408993889,3.3863549408993889,3.3863549408993889,3.3863549408993889,3.3863549408993889,3.3863549408993889,3.3863549408993889,3.3863549408993889,3.3863549408993889,3.3863549408993889,{"$f":"QP39*(1+QQ38*QQ10)","v":3.3863549408993889},3.3863549408993889,3.3863549408993889,3.3863549408993889,3.3863549408993889,3.3863549408993889,3.3863549408993889,3.3863549408993889,3.3863549408993889,3.3863549408993889,3.3863549408993889,3.3863549408993889,3.3863549408993889,3.3863549408993889,3.3863549408993889,3.3863549408993889,3.3863549408993889,3.3863549408993889,3.3863549408993889,3.3863549408993889,3.3863549408993889,3.3863549408993889,3.3863549408993889,3.3863549408993889,3.3863549408993889,3.3863549408993889,3.3863549408993889,3.3863549408993889,3.3863549408993889,3.3863549408993889,3.3863549408993889,3.3863549408993889,3.3863549408993889,3.3863549408993889,3.3863549408993889,3.3863549408993889,3.3863549408993889,3.3863549408993889,3.3863549408993889]
[null,null,null,"O&M Per MW","Rs. In Lakhs/Mwy",{"$f":"'Input C'!F32","v":4},null,{"$f":"SUM(K40:XFD40)","v":200.4538150355485},"Rs. In Lakhs/Mwy",null,{"$f":"$F$40*K39*K10/Months*K7","v":0},4.2,4.41,4.6305000000000005,4.8620250000000009,5.1051262500000014,5.3603825625000017,5.6284016906250018,5.9098217751562521,6.2053128639140649,6.5155785071097672,6.8413574324652568,7.1834253040885212,7.5425965692929466,7.9197263977575947,8.315712717645475,8.7314983535277495,9.168073271204138,9.6264769347643444,10.107800781502561,10.613190820577691,11.143850361606576,11.701042879686906,12.286095023671251,12.900399774854815,13.545419763597554,0,0,0,0,0,0,0,0,0,0,0,0,0,0,0,0,0,0,0,0,0,0,0,0,0,0,0,0,0,0,0,0,0,0,0,0,0,0,{"$f":"$F$40*BW39*BW10/Months*BW7","v":0},0,0,0,0,0,0,0,0,0,0,0,0,0,0,0,0,0,0,0,0,0,0,0,0,0,0,0,0,0,0,0,0,0,0,0,0,0,0,0,0,0,0,0,0,0,0,0,0,0,0,0,0,0,0,0,0,0,0,0,0,0,0,0,{"$f":"$F$40*EI39*EI10/Months*EI7","v":0},0,0,0,0,0,0,0,0,0,0,0,0,0,0,0,0,0,0,0,0,0,0,0,0,0,0,0,0,0,0,0,0,0,0,0,0,0,0,0,0,0,0,0,0,0,0,0,0,0,0,0,0,0,0,0,0,0,0,0,0,0,0,0,{"$f":"$F$40*GU39*GU10/Months*GU7","v":0},0,0,0,0,0,0,0,0,0,0,0,0,0,0,0,0,0,0,0,0,0,0,0,0,0,0,0,0,0,0,0,0,0,0,0,0,0,0,0,0,0,0,0,0,0,0,0,0,0,0,0,0,0,0,0,0,0,0,0,0,0,0,0,{"$f":"$F$40*JG39*JG10/Months*JG7","v":0},0,0,0,0,0,0,0,0,0,0,0,0,0,0,0,0,0,0,0,0,0,0,0,0,0,0,0,0,0,0,0,0,0,0,0,0,0,0,0,0,0,0,0,0,0,0,0,0,0,0,0,0,0,0,0,0,0,0,0,0,0,0,0,{"$f":"$F$40*LS39*LS10/Months*LS7","v":0},0,0,0,0,0,0,0,0,0,0,0,0,0,0,0,0,0,0,0,0,0,0,0,0,0,0,0,0,0,0,0,0,0,0,0,0,0,0,0,0,0,0,0,0,0,0,0,0,0,0,0,0,0,0,0,0,0,0,0,0,0,0,0,{"$f":"$F$40*OE39*OE10/Months*OE7","v":0},0,0,0,0,0,0,0,0,0,0,0,0,0,0,0,0,0,0,0,0,0,0,0,0,0,0,0,0,0,0,0,0,0,0,0,0,0,0,0,0,0,0,0,0,0,0,0,0,0,0,0,0,0,0,0,0,0,0,0,0,0,0,0,{"$f":"$F$40*QQ39*QQ10/Months*QQ7","v":0},0,0,0,0,0,0,0,0,0,0,0,0,0,0,0,0,0,0,0,0,0,0,0,0,0,0,0,0,0,0,0,0,0,0,0,0,0,0]
[null,null,null,"Total Opex","Lakhs",null,null,{"$f":"SUM(K41:XFD41)","v":26058.995954621296},"Lakhs",null,{"$f":"K40*K14","v":0},546,573.30000000000007,601.96500000000003,632.06325000000015,663.66641250000021,696.84973312500017,731.69221978125029,768.27683077031281,806.69067230882843,847.0252059242697,889.37646622048339,933.84528953150777,980.53755400808302,1029.5644317084873,1081.0426532939118,1135.0947859586074,1191.8495252565378,1251.4420015193648,1314.0141015953329,1379.7148066750997,1448.700547008855,1521.1355743592978,1597.1923530772626,1677.0519707311259,1760.9045692676821,0,0,0,0,0,0,0,0,0,0,0,0,0,0,0,0,0,0,0,0,0,0,0,0,0,0,0,0,0,0,0,0,0,0,0,0,0,0,{"$f":"BW40*BW14","v":0},0,0,0,0,0,0,0,0,0,0,0,0,0,0,0,0,0,0,0,0,0,0,0,0,0,0,0,0,0,0,0,0,0,0,0,0,0,0,0,0,0,0,0,0,0,0,0,0,0,0,0,0,0,0,0,0,0,0,0,0,0,0,0,{"$f":"EI40*EI14","v":0},0,0,0,0,0,0,0,0,0,0,0,0,0,0,0,0,0,0,0,0,0,0,0,0,0,0,0,0,0,0,0,0,0,0,0,0,0,0,0,0,0,0,0,0,0,0,0,0,0,0,0,0,0,0,0,0,0,0,0,0,0,0,0,{"$f":"GU40*GU14","v":0},0,0,0,0,0,0,0,0,0,0,0,0,0,0,0,0,0,0,0,0,0,0,0,0,0,0,0,0,0,0,0,0,0,0,0,0,0,0,0,0,0,0,0,0,0,0,0,0,0,0,0,0,0,0,0,0,0,0,0,0,0,0,0,{"$f":"JG40*JG14","v":0},0,0,0,0,0,0,0,0,0,0,0,0,0,0,0,0,0,0,0,0,0,0,0,0,0,0,0,0,0,0,0,0,0,0,0,0,0,0,0,0,0,0,0,0,0,0,0,0,0,0,0,0,0,0,0,0,0,0,0,0,0,0,0,{"$f":"LS40*LS14","v":0},0,0,0,0,0,0,0,0,0,0,0,0,0,0,0,0,0,0,0,0,0,0,0,0,0,0,0,0,0,0,0,0,0,0,0,0,0,0,0,0,0,0,0,0,0,0,0,0,0,0,0,0,0,0,0,0,0,0,0,0,0,0,0,{"$f":"OE40*OE14","v":0},0,0,0,0,0,0,0,0,0,0,0,0,0,0,0,0,0,0,0,0,0,0,0,0,0,0,0,0,0,0,0,0,0,0,0,0,0,0,0,0,0,0,0,0,0,0,0,0,0,0,0,0,0,0,0,0,0,0,0,0,0,0,0,{"$f":"QQ40*QQ14","v":0},0,0,0,0,0,0,0,0,0,0,0,0,0,0,0,0,0,0,0,0,0,0,0,0,0,0,0,0,0,0,0,0,0,0,0,0,0,0]
[]
[null,null,"Revenue"]
[null,null,null,"PPA Price Inflate Flag","Flag",{"$f":"'Input C'!$F$46","v":true},null,null,"Flag",null,{"$f":"$F$44","v":true},{"$f":"$F$44","v":true},true,true,true,true,true,true,true,true,true,true,true,true,true,true,true,true,true,true,true,true,true,true,true,true,true,true,true,true,true,true,true,true,true,true,true,true,true,true,true,true,true,true,true,true,true,true,true,true,true,true,true,true,true,true,true,true,true,true,true,true,true,true,true,{"$f":"$F$44","v":true},true,true,true,true,true,true,true,true,true,true,true,true,true,true,true,true,true,true,true,true,true,true,true,true,true,true,true,true,true,true,true,true,true,true,true,true,true,true,true,true,true,true,true,true,true,true,true,true,true,true,true,true,true,true,true,true,true,true,true,true,true,true,true,{"$f":"$F$44","v":true},true,true,true,true,true,true,true,true,true,true,true,true,true,true,true,true,true,true,true,true,true,true,true,true,true,true,true,true,true,true,true,true,true,true,true,true,true,true,true,true,true,true,true,true,true,true,true,true,true,true,true,true,true,true,true,true,true,true,true,true,true,true,true,{"$f":"$F$44","v":true},true,true,true,true,true,true,true,true,true,true,true,true,true,true,true,true,true,true,true,true,true,true,true,true,true,true,true,true,true,true,true,true,true,true,true,true,true,true,true,true,true,true,true,true,true,true,true,true,true,true,true,true,true,true,true,true,true,true,true,true,true,true,true,{"$f":"$F$44","v":true},true,true,true,true,true,true,true,true,true,true,true,true,true,true,true,true,true,true,true,true,true,true,true,true,true,true,true,true,true,true,true,true,true,true,true,true,true,true,true,true,true,true,true,true,true,true,true,true,true,true,true,true,true,true,true,true,true,true,true,true,true,true,true,{"$f":"$F$44","v":true},true,true,true,true,true,true,true,true,true,true,true,true,true,true,true,true,true,true,true,true,true,true,true,true,true,true,true,true,true,true,true,true,true,true,true,true,true,true,true,true,true,true,true,true,true,true,true,true,true,true,true,true,true,true,true,true,true,true,true,true,true,true,true,{"$f":"$F$44","v":true},true,true,true,true,true,true,true,true,true,true,true,true,true,true,true,true,true,true,true,true,true,true,true,true,true,true,true,true,true,true,true,true,true,true,true,true,true,true,true,true,true,true,true,true,true,true,true,true,true,true,true,true,true,true,true,true,true,true,true,true,true,true,true,{"$f":"$F$44","v":true},true,true,true,true,true,true,true,true,true,true,true,true,true,true,true,true,true,true,true,true,true,true,true,true,true,true,true,true,true,true,true,true,true,true,true,true,true]
[null,null,null,"Inflation Index applied to PPA","Index",null,null,null,"Index",null,{"$f":"IF(K44,K39,one)","v":1},1.05,1.1025,1.1576250000000001,1.2155062500000002,1.2762815625000004,1.3400956406250004,1.4071004226562505,1.477455443789063,1.5513282159785162,1.628894626777442,1.7103393581163142,1.7958563260221301,1.8856491423232367,1.9799315994393987,2.0789281794113688,2.1828745883819374,2.2920183178010345,2.4066192336910861,2.5269501953756404,2.6532977051444226,2.7859625904016441,2.9252607199217264,3.0715237559178128,3.2250999437137038,3.3863549408993889,3.3863549408993889,3.3863549408993889,3.3863549408993889,3.3863549408993889,3.3863549408993889,3.3863549408993889,3.3863549408993889,3.3863549408993889,3.3863549408993889,3.3863549408993889,3.3863549408993889,3.3863549408993889,3.3863549408993889,3.3863549408993889,3.3863549408993889,3.3863549408993889,3.3863549408993889,3.3863549408993889,3.3863549408993889,3.3863549408993889,3.3863549408993889,3.3863549408993889,3.3863549408993889,3.3863549408993889,3.3863549408993889,3.3863549408993889,3.3863549408993889,3.3863549408993889,3.3863549408993889,3.3863549408993889,3.3863549408993889,3.3863549408993889,3.3863549408993889,3.3863549408993889,3.3863549408993889,3.3863549408993889,3.3863549408993889,3.3863549408993889,{"$f":"IF(BW44,BW39,one)","v":3.3863549408993889},3.3863549408993889,3.3863549408993889,3.3863549408993889,3.3863549408993889,3.3863549408993889,3.3863549408993889,3.3863549408993889,3.3863549408993889,3.3863549408993889,3.3863549408993889,3.3863549408993889,3.3863549408993889,3.3863549408993889,3.3863549408993889,3.3863549408993889,3.3863549408993889,3.3863549408993889,3.3863549408993889,3.3863549408993889,3.3863549408993889,3.3863549408993889,3.3863549408993889,3.3863549408993889,3.3863549408993889,3.3863549408993889,3.3863549408993889,3.3863549408993889,3.3863549408993889,3.3863549408993889,3.3863549408993889,3.3863549408993889,3.3863549408993889,3.3863549408993889,3.3863549408993889,3.3863549408993889,3.3863549408993889,3.3863549408993889,3.3863549408993889,3.3863549408993889,3.3863549408993889,3.3863549408993889,3.3863549408993889,3.3863549408993889,3.3863549408993889,3.3863549408993889,3.3863549408993889,3.3863549408993889,3.3863549408993889,3.3863549408993889,3.3863549408993889,3.3863549408993889,3.3863549408993889,3.3863549408993889,3.3863549408993889,3.3863549408993889,3.3863549408993889,3.3863549408993889,3.3863549408993889,3.3863549408993889,3.3863549408993889,3.3863549408993889,3.3863549408993889,3.3863549408993889,{"$f":"IF(EI44,EI39,one)","v":3.3863549408993889},3.3863549408993889,3.3863549408993889,3.3863549408993889,3.3863549408993889,3.3863549408993889,3.3863549408993889,3.3863549408993889,3.3863549408993889,3.3863549408993889,3.3863549408993889,3.3863549408993889,3.3863549408993889,3.3863549408993889,3.3863549408993889,3.3863549408993889,3.3863549408993889,3.3863549408993889,3.3863549408993889,3.3863549408993889,3.3863549408993889,3.3863549408993889,3.3863549408993889,3.3863549408993889,3.3863549408993889,3.3863549408993889,3.3863549408993889,3.3863549408993889,3.3863549408993889,3.3863549408993889,3.3863549408993889,3.3863549408993889,3.3863549408993889,3.3863549408993889,3.3863549408993889,3.3863549408993889,3.3863549408993889,3.3863549408993889,3.3863549408993889,3.3863549408993889,3.3863549408993889,3.3863549408993889,3.3863549408993889,3.3863549408993889,3.3863549408993889,3.3863549408993889,3.3863549408993889,3.3863549408993889,3.3863549408993889,3.3863549408993889,3.3863549408993889,3.3863549408993889,3.3863549408993889,3.3863549408993889,3.3863549408993889,3.3863549408993889,3.3863549408993889,3.3863549408993889,3.3863549408993889,3.3863549408993889,3.3863549408993889,3.3863549408993889,3.3863549408993889,3.3863549408993889,{"$f":"IF(GU44,GU39,one)","v":3.3863549408993889},3.3863549408993889,3.3863549408993889,3.3863549408993889,3.3863549408993889,3.3863549408993889,3.3863549408993889,3.3863549408993889,3.3863549408993889,3.3863549408993889,3.3863549408993889,3.3863549408993889,3.3863549408993889,3.3863549408993889,3.3863549408993889,3.3863549408993889,3.3863549408993889,3.3863549408993889,3.3863549408993889,3.3863549408993889,3.3863549408993889,3.3863549408993889,3.3863549408993889,3.3863549408993889,3.3863549408993889,3.3863549408993889,3.3863549408993889,3.3863549408993889,3.3863549408993889,3.3863549408993889,3.3863549408993889,3.3863549408993889,3.3863549408993889,3.3863549408993889,3.3863549408993889,3.3863549408993889,3.3863549408993889,3.3863549408993889,3.3863549408993889,3.3863549408993889,3.3863549408993889,3.3863549408993889,3.3863549408993889,3.3863549408993889,3.3863549408993889,3.3863549408993889,3.3863549408993889,3.3863549408993889,3.3863549408993889,3.3863549408993889,3.3863549408993889,3.3863549408993889,3.3863549408993889,3.3863549408993889,3.3863549408993889,3.3863549408993889,3.3863549408993889,3.3863549408993889,3.3863549408993889,3.3863549408993889,3.3863549408993889,3.3863549408993889,3.3863549408993889,3.3863549408993889,{"$f":"IF(JG44,JG39,one)","v":3.3863549408993889},3.3863549408993889,3.3863549408993889,3.3863549408993889,3.3863549408993889,3.3863549408993889,3.3863549408993889,3.3863549408993889,3.3863549408993889,3.3863549408993889,3.3863549408993889,3.3863549408993889,3.3863549408993889,3.3863549408993889,3.3863549408993889,3.3863549408993889,3.3863549408993889,3.3863549408993889,3.3863549408993889,3.3863549408993889,3.3863549408993889,3.3863549408993889,3.3863549408993889,3.3863549408993889,3.3863549408993889,3.3863549408993889,3.3863549408993889,3.3863549408993889,3.3863549408993889,3.3863549408993889,3.3863549408993889,3.3863549408993889,3.3863549408993889,3.3863549408993889,3.3863549408993889,3.3863549408993889,3.3863549408993889,3.3863549408993889,3.3863549408993889,3.3863549408993889,3.3863549408993889,3.3863549408993889,3.3863549408993889,3.3863549408993889,3.3863549408993889,3.3863549408993889,3.3863549408993889,3.3863549408993889,3.3863549408993889,3.3863549408993889,3.3863549408993889,3.3863549408993889,3.3863549408993889,3.3863549408993889,3.3863549408993889,3.3863549408993889,3.3863549408993889,3.3863549408993889,3.3863549408993889,3.3863549408993889,3.3863549408993889,3.3863549408993889,3.3863549408993889,3.3863549408993889,{"$f":"IF(LS44,LS39,one)","v":3.3863549408993889},3.3863549408993889,3.3863549408993889,3.3863549408993889,3.3863549408993889,3.3863549408993889,3.3863549408993889,3.3863549408993889,3.3863549408993889,3.3863549408993889,3.3863549408993889,3.3863549408993889,3.3863549408993889,3.3863549408993889,3.3863549408993889,3.3863549408993889,3.3863549408993889,3.3863549408993889,3.3863549408993889,3.3863549408993889,3.3863549408993889,3.3863549408993889,3.3863549408993889,3.3863549408993889,3.3863549408993889,3.3863549408993889,3.3863549408993889,3.3863549408993889,3.3863549408993889,3.3863549408993889,3.3863549408993889,3.3863549408993889,3.3863549408993889,3.3863549408993889,3.3863549408993889,3.3863549408993889,3.3863549408993889,3.3863549408993889,3.3863549408993889,3.3863549408993889,3.3863549408993889,3.3863549408993889,3.3863549408993889,3.3863549408993889,3.3863549408993889,3.3863549408993889,3.3863549408993889,3.3863549408993889,3.3863549408993889,3.3863549408993889,3.3863549408993889,3.3863549408993889,3.3863549408993889,3.3863549408993889,3.3863549408993889,3.3863549408993889,3.3863549408993889,3.3863549408993889,3.3863549408993889,3.3863549408993889,3.3863549408993889,3.3863549408993889,3.3863549408993889,3.3863549408993889,{"$f":"IF(OE44,OE39,one)","v":3.3863549408993889},3.3863549408993889,3.3863549408993889,3.3863549408993889,3.3863549408993889,3.3863549408993889,3.3863549408993889,3.3863549408993889,3.3863549408993889,3.3863549408993889,3.3863549408993889,3.3863549408993889,3.3863549408993889,3.3863549408993889,3.3863549408993889,3.3863549408993889,3.3863549408993889,3.3863549408993889,3.3863549408993889,3.3863549408993889,3.3863549408993889,3.3863549408993889,3.3863549408993889,3.3863549408993889,3.3863549408993889,3.3863549408993889,3.3863549408993889,3.3863549408993889,3.3863549408993889,3.3863549408993889,3.3863549408993889,3.3863549408993889,3.3863549408993889,3.3863549408993889,3.3863549408993889,3.3863549408993889,3.3863549408993889,3.3863549408993889,3.3863549408993889,3.3863549408993889,3.3863549408993889,3.3863549408993889,3.3863549408993889,3.3863549408993889,3.3863549408993889,3.3863549408993889,3.3863549408993889,3.3863549408993889,3.3863549408993889,3.3863549408993889,3.3863549408993889,3.3863549408993889,3.3863549408993889,3.3863549408993889,3.3863549408993889,3.3863549408993889,3.3863549408993889,3.3863549408993889,3.3863549408993889,3.3863549408993889,3.3863549408993889,3.3863549408993889,3.3863549408993889,3.3863549408993889,{"$f":"IF(QQ44,QQ39,one)","v":3.3863549408993889},3.3863549408993889,3.3863549408993889,3.3863549408993889,3.3863549408993889,3.3863549408993889,3.3863549408993889,3.3863549408993889,3.3863549408993889,3.3863549408993889,3.3863549408993889,3.3863549408993889,3.3863549408993889,3.3863549408993889,3.3863549408993889,3.3863549408993889,3.3863549408993889,3.3863549408993889,3.3863549408993889,3.3863549408993889,3.3863549408993889,3.3863549408993889,3.3863549408993889,3.3863549408993889,3.3863549408993889,3.3863549408993889,3.3863549408993889,3.3863549408993889,3.3863549408993889,3.3863549408993889,3.3863549408993889,3.3863549408993889,3.3863549408993889,3.3863549408993889,3.3863549408993889,3.3863549408993889,3.3863549408993889,3.3863549408993889,3.3863549408993889]
[null,null,null,"Flag for UDF Goal Seek",null,{"$f":"'Input C'!F47*0","v":0},{"$f":"'UDF 3 Output'!G12","v":0}]
[null,null,null,"PPA Price (Goal Seek)","Rs. In Lakhs/Mwy",{"$f":"'Input C'!F$43","v":1.0529680119726969E-2},{"$f":"IF(F46,G46,F47)","v":1.0529680119726969E-2},null,"Rs. In Lakhs/Mwy",null,{"$f":"$G$47*K45","v":1.0529680119726969E-2},{"$f":"$G$47*L45","v":1.1056164125713318E-2},{"$f":"$G$47*M45","v":1.1608972331998984E-2},1.2189420948598935E-2,1.2798891996028882E-2,1.3438836595830327E-2,1.4110778425621844E-2,1.4816317346902936E-2,1.5557133214248084E-2,1.6334989874960487E-2,1.7151739368708511E-2,1.800932633714394E-2,1.8909792654001136E-2,1.9855282286701196E-2,2.0848046401036258E-2,2.1890448721088071E-2,2.2984971157142476E-2,2.4134219714999603E-2,2.5340930700749581E-2,2.6607977235787061E-2,2.7938376097576417E-2,2.933529490245524E-2,3.0802059647578005E-2,3.2342162629956907E-2,3.3959270761454753E-2,3.5657234299527489E-2,3.5657234299527489E-2,3.5657234299527489E-2,3.5657234299527489E-2,3.5657234299527489E-2,3.5657234299527489E-2,3.5657234299527489E-2,3.5657234299527489E-2,3.5657234299527489E-2,3.5657234299527489E-2,3.5657234299527489E-2,3.5657234299527489E-2,3.5657234299527489E-2,3.5657234299527489E-2,3.5657234299527489E-2,3.5657234299527489E-2,3.5657234299527489E-2,3.5657234299527489E-2,3.5657234299527489E-2,3.5657234299527489E-2,3.5657234299527489E-2,3.5657234299527489E-2,3.5657234299527489E-2,3.5657234299527489E-2,3.5657234299527489E-2,3.5657234299527489E-2,3.5657234299527489E-2,3.5657234299527489E-2,3.5657234299527489E-2,3.5657234299527489E-2,3.5657234299527489E-2,3.5657234299527489E-2,3.5657234299527489E-2,3.5657234299527489E-2,3.5657234299527489E-2,3.5657234299527489E-2,3.5657234299527489E-2,3.5657234299527489E-2,3.5657234299527489E-2,3.5657234299527489E-2,{"$f":"$G$47*BX45","v":3.5657234299527489E-2},3.5657234299527489E-2,3.5657234299527489E-2,3.5657234299527489E-2,3.5657234299527489E-2,3.5657234299527489E-2,3.5657234299527489E-2,3.5657234299527489E-2,3.5657234299527489E-2,3.5657234299527489E-2,3.5657234299527489E-2,3.5657234299527489E-2,3.5657234299527489E-2,3.5657234299527489E-2,3.5657234299527489E-2,3.5657234299527489E-2,3.5657234299527489E-2,3.5657234299527489E-2,3.5657234299527489E-2,3.5657234299527489E-2,3.5657234299527489E-2,3.5657234299527489E-2,3.5657234299527489E-2,3.5657234299527489E-2,3.5657234299527489E-2,3.5657234299527489E-2,3.5657234299527489E-2,3.5657234299527489E-2,3.5657234299527489E-2,3.5657234299527489E-2,3.5657234299527489E-2,3.5657234299527489E-2,3.5657234299527489E-2,3.5657234299527489E-2,3.5657234299527489E-2,3.5657234299527489E-2,3.5657234299527489E-2,3.5657234299527489E-2,3.5657234299527489E-2,3.5657234299527489E-2,3.5657234299527489E-2,3.5657234299527489E-2,3.5657234299527489E-2,3.5657234299527489E-2,3.5657234299527489E-2,3.5657234299527489E-2,3.5657234299527489E-2,3.5657234299527489E-2,3.5657234299527489E-2,3.5657234299527489E-2,3.5657234299527489E-2,3.5657234299527489E-2,3.5657234299527489E-2,3.5657234299527489E-2,3.5657234299527489E-2,3.5657234299527489E-2,3.5657234299527489E-2,3.5657234299527489E-2,3.5657234299527489E-2,3.5657234299527489E-2,3.5657234299527489E-2,3.5657234299527489E-2,3.5657234299527489E-2,3.5657234299527489E-2,{"$f":"$G$47*EJ45","v":3.5657234299527489E-2},3.5657234299527489E-2,3.5657234299527489E-2,3.5657234299527489E-2,3.5657234299527489E-2,3.5657234299527489E-2,3.5657234299527489E-2,3.5657234299527489E-2,3.5657234299527489E-2,3.5657234299527489E-2,3.5657234299527489E-2,3.5657234299527489E-2,3.5657234299527489E-2,3.5657234299527489E-2,3.5657234299527489E-2,3.5657234299527489E-2,3.5657234299527489E-2,3.5657234299527489E-2,3.5657234299527489E-2,3.5657234299527489E-2,3.5657234299527489E-2,3.5657234299527489E-2,3.5657234299527489E-2,3.5657234299527489E-2,3.5657234299527489E-2,3.5657234299527489E-2,3.5657234299527489E-2,3.5657234299527489E-2,3.5657234299527489E-2,3.5657234299527489E-2,3.5657234299527489E-2,3.5657234299527489E-2,3.5657234299527489E-2,3.5657234299527489E-2,3.5657234299527489E-2,3.5657234299527489E-2,3.5657234299527489E-2,3.5657234299527489E-2,3.5657234299527489E-2,3.5657234299527489E-2,3.5657234299527489E-2,3.5657234299527489E-2,3.5657234299527489E-2,3.5657234299527489E-2,3.5657234299527489E-2,3.5657234299527489E-2,3.5657234299527489E-2,3.5657234299527489E-2,3.5657234299527489E-2,3.5657234299527489E-2,3.5657234299527489E-2,3.5657234299527489E-2,3.5657234299527489E-2,3.5657234299527489E-2,3.5657234299527489E-2,3.5657234299527489E-2,3.5657234299527489E-2,3.5657234299527489E-2,3.5657234299527489E-2,3.5657234299527489E-2,3.5657234299527489E-2,3.5657234299527489E-2,3.5657234299527489E-2,3.5657234299527489E-2,{"$f":"$G$47*GV45","v":3.5657234299527489E-2},3.5657234299527489E-2,3.5657234299527489E-2,3.5657234299527489E-2,3.5657234299527489E-2,3.5657234299527489E-2,3.5657234299527489E-2,3.5657234299527489E-2,3.5657234299527489E-2,3.5657234299527489E-2,3.5657234299527489E-2,3.5657234299527489E-2,3.5657234299527489E-2,3.5657234299527489E-2,3.5657234299527489E-2,3.5657234299527489E-2,3.5657234299527489E-2,3.5657234299527489E-2,3.5657234299527489E-2,3.5657234299527489E-2,3.5657234299527489E-2,3.5657234299527489E-2,3.5657234299527489E-2,3.5657234299527489E-2,3.5657234299527489E-2,3.5657234299527489E-2,3.5657234299527489E-2,3.5657234299527489E-2,3.5657234299527489E-2,3.5657234299527489E-2,3.5657234299527489E-2,3.5657234299527489E-2,3.5657234299527489E-2,3.5657234299527489E-2,3.5657234299527489E-2,3.5657234299527489E-2,3.5657234299527489E-2,3.5657234299527489E-2,3.5657234299527489E-2,3.5657234299527489E-2,3.5657234299527489E-2,3.5657234299527489E-2,3.5657234299527489E-2,3.5657234299527489E-2,3.5657234299527489E-2,3.5657234299527489E-2,3.5657234299527489E-2,3.5657234299527489E-2,3.5657234299527489E-2,3.5657234299527489E-2,3.5657234299527489E-2,3.5657234299527489E-2,3.5657234299527489E-2,3.5657234299527489E-2,3.5657234299527489E-2,3.5657234299527489E-2,3.5657234299527489E-2,3.5657234299527489E-2,3.5657234299527489E-2,3.5657234299527489E-2,3.5657234299527489E-2,3.5657234299527489E-2,3.5657234299527489E-2,3.5657234299527489E-2,{"$f":"$G$47*JH45","v":3.5657234299527489E-2},3.5657234299527489E-2,3.5657234299527489E-2,3.5657234299527489E-2,3.5657234299527489E-2,3.5657234299527489E-2,3.5657234299527489E-2,3.5657234299527489E-2,3.5657234299527489E-2,3.5657234299527489E-2,3.5657234299527489E-2,3.5657234299527489E-2,3.5657234299527489E-2,3.5657234299527489E-2,3.5657234299527489E-2,3.5657234299527489E-2,3.5657234299527489E-2,3.5657234299527489E-2,3.5657234299527489E-2,3.5657234299527489E-2,3.5657234299527489E-2,3.5657234299527489E-2,3.5657234299527489E-2,3.5657234299527489E-2,3.5657234299527489E-2,3.5657234299527489E-2,3.5657234299527489E-2,3.5657234299527489E-2,3.5657234299527489E-2,3.5657234299527489E-2,3.5657234299527489E-2,3.5657234299527489E-2,3.5657234299527489E-2,3.5657234299527489E-2,3.5657234299527489E-2,3.5657234299527489E-2,3.5657234299527489E-2,3.5657234299527489E-2,3.5657234299527489E-2,3.5657234299527489E-2,3.5657234299527489E-2,3.5657234299527489E-2,3.5657234299527489E-2,3.5657234299527489E-2,3.5657234299527489E-2,3.5657234299527489E-2,3.5657234299527489E-2,3.5657234299527489E-2,3.5657234299527489E-2,3.5657234299527489E-2,3.5657234299527489E-2,3.5657234299527489E-2,3.5657234299527489E-2,3.5657234299527489E-2,3.5657234299527489E-2,3.5657234299527489E-2,3.5657234299527489E-2,3.5657234299527489E-2,3.5657234299527489E-2,3.5657234299527489E-2,3.5657234299527489E-2,3.5657234299527489E-2,3.5657234299527489E-2,3.5657234299527489E-2,{"$f":"$G$47*LT45","v":3.5657234299527489E-2},3.5657234299527489E-2,3.5657234299527489E-2,3.5657234299527489E-2,3.5657234299527489E-2,3.5657234299527489E-2,3.5657234299527489E-2,3.5657234299527489E-2,3.5657234299527489E-2,3.5657234299527489E-2,3.5657234299527489E-2,3.5657234299527489E-2,3.5657234299527489E-2,3.5657234299527489E-2,3.5657234299527489E-2,3.5657234299527489E-2,3.5657234299527489E-2,3.5657234299527489E-2,3.5657234299527489E-2,3.5657234299527489E-2,3.5657234299527489E-2,3.5657234299527489E-2,3.5657234299527489E-2,3.5657234299527489E-2,3.5657234299527489E-2,3.5657234299527489E-2,3.5657234299527489E-2,3.5657234299527489E-2,3.5657234299527489E-2,3.5657234299527489E-2,3.5657234299527489E-2,3.5657234299527489E-2,3.5657234299527489E-2,3.5657234299527489E-2,3.5657234299527489E-2,3.5657234299527489E-2,3.5657234299527489E-2,3.5657234299527489E-2,3.5657234299527489E-2,3.5657234299527489E-2,3.5657234299527489E-2,3.5657234299527489E-2,3.5657234299527489E-2,3.5657234299527489E-2,3.5657234299527489E-2,3.5657234299527489E-2,3.5657234299527489E-2,3.5657234299527489E-2,3.5657234299527489E-2,3.5657234299527489E-2,3.5657234299527489E-2,3.5657234299527489E-2,3.5657234299527489E-2,3.5657234299527489E-2,3.5657234299527489E-2,3.5657234299527489E-2,3.5657234299527489E-2,3.5657234299527489E-2,3.5657234299527489E-2,3.5657234299527489E-2,3.5657234299527489E-2,3.5657234299527489E-2,3.5657234299527489E-2,3.5657234299527489E-2,{"$f":"$G$47*OF45","v":3.5657234299527489E-2},3.5657234299527489E-2,3.5657234299527489E-2,3.5657234299527489E-2,3.5657234299527489E-2,3.5657234299527489E-2,3.5657234299527489E-2,3.5657234299527489E-2,3.5657234299527489E-2,3.5657234299527489E-2,3.5657234299527489E-2,3.5657234299527489E-2,3.5657234299527489E-2,3.5657234299527489E-2,3.5657234299527489E-2,3.5657234299527489E-2,3.5657234299527489E-2,3.5657234299527489E-2,3.5657234299527489E-2,3.5657234299527489E-2,3.5657234299527489E-2,3.5657234299527489E-2,3.5657234299527489E-2,3.5657234299527489E-2,3.5657234299527489E-2,3.5657234299527489E-2,3.5657234299527489E-2,3.5657234299527489E-2,3.5657234299527489E-2,3.5657234299527489E-2,3.5657234299527489E-2,3.5657234299527489E-2,3.5657234299527489E-2,3.5657234299527489E-2,3.5657234299527489E-2,3.5657234299527489E-2,3.5657234299527489E-2,3.5657234299527489E-2,3.5657234299527489E-2,3.5657234299527489E-2,3.5657234299527489E-2,3.5657234299527489E-2,3.5657234299527489E-2,3.5657234299527489E-2,3.5657234299527489E-2,3.5657234299527489E-2,3.5657234299527489E-2,3.5657234299527489E-2,3.5657234299527489E-2,3.5657234299527489E-2,3.5657234299527489E-2,3.5657234299527489E-2,3.5657234299527489E-2,3.5657234299527489E-2,3.5657234299527489E-2,3.5657234299527489E-2,3.5657234299527489E-2,3.5657234299527489E-2,3.5657234299527489E-2,3.5657234299527489E-2,3.5657234299527489E-2,3.5657234299527489E-2,3.5657234299527489E-2,3.5657234299527489E-2,{"$f":"$G$47*QR45","v":3.5657234299527489E-2},3.5657234299527489E-2,3.5657234299527489E-2,3.5657234299527489E-2,3.5657234299527489E-2,3.5657234299527489E-2,3.5657234299527489E-2,3.5657234299527489E-2,3.5657234299527489E-2,3.5657234299527489E-2,3.5657234299527489E-2,3.5657234299527489E-2,3.5657234299527489E-2,3.5657234299527489E-2,3.5657234299527489E-2,3.5657234299527489E-2,3.5657234299527489E-2,3.5657234299527489E-2,3.5657234299527489E-2,3.5657234299527489E-2,3.5657234299527489E-2,3.5657234299527489E-2,3.5657234299527489E-2,3.5657234299527489E-2,3.5657234299527489E-2,3.5657234299527489E-2,3.5657234299527489E-2,3.5657234299527489E-2,3.5657234299527489E-2,3.5657234299527489E-2,3.5657234299527489E-2,3.5657234299527489E-2,3.5657234299527489E-2,3.5657234299527489E-2,3.5657234299527489E-2,3.5657234299527489E-2,3.5657234299527489E-2,3.5657234299527489E-2]
[null,null,null,"Generation",null,null,null,null,"MWH",null,{"$f":"K23","v":0},229937.734,228788.04533000005,227644.10510335007,226505.88457783335,225373.35515494421,224246.48837916952,223125.2559372737,222009.62965758736,220899.58150929943,219795.08360175294,218696.10818374419,217602.62764282551,216514.61450461138,215432.04143208836,214354.88122492793,213283.10681880332,212216.69128470932,211155.60782828581,210099.82978914439,209049.33064019869,208004.08398699772,206964.06356706278,205929.24324922747,204899.59703298137,203875.09904781647,0,0,0,0,0,0,0,0,0,0,0,0,0,0,0,0,0,0,0,0,0,0,0,0,0,0,0,0,0,0,0,0,0,0,0,0,0,0,{"$f":"BW23","v":0},0,0,0,0,0,0,0,0,0,0,0,0,0,0,0,0,0,0,0,0,0,0,0,0,0,0,0,0,0,0,0,0,0,0,0,0,0,0,0,0,0,0,0,0,0,0,0,0,0,0,0,0,0,0,0,0,0,0,0,0,0,0,0,{"$f":"EI23","v":0},0,0,0,0,0,0,0,0,0,0,0,0,0,0,0,0,0,0,0,0,0,0,0,0,0,0,0,0,0,0,0,0,0,0,0,0,0,0,0,0,0,0,0,0,0,0,0,0,0,0,0,0,0,0,0,0,0,0,0,0,0,0,0,{"$f":"GU23","v":0},0,0,0,0,0,0,0,0,0,0,0,0,0,0,0,0,0,0,0,0,0,0,0,0,0,0,0,0,0,0,0,0,0,0,0,0,0,0,0,0,0,0,0,0,0,0,0,0,0,0,0,0,0,0,0,0,0,0,0,0,0,0,0,{"$f":"JG23","v":0},0,0,0,0,0,0,0,0,0,0,0,0,0,0,0,0,0,0,0,0,0,0,0,0,0,0,0,0,0,0,0,0,0,0,0,0,0,0,0,0,0,0,0,0,0,0,0,0,0,0,0,0,0,0,0,0,0,0,0,0,0,0,0,{"$f":"LS23","v":0},0,0,0,0,0,0,0,0,0,0,0,0,0,0,0,0,0,0,0,0,0,0,0,0,0,0,0,0,0,0,0,0,0,0,0,0,0,0,0,0,0,0,0,0,0,0,0,0,0,0,0,0,0,0,0,0,0,0,0,0,0,0,0,{"$f":"OE23","v":0},0,0,0,0,0,0,0,0,0,0,0,0,0,0,0,0,0,0,0,0,0,0,0,0,0,0,0,0,0,0,0,0,0,0,0,0,0,0,0,0,0,0,0,0,0,0,0,0,0,0,0,0,0,0,0,0,0,0,0,0,0,0,0,{"$f":"QQ23","v":0},0,0,0,0,0,0,0,0,0,0,0,0,0,0,0,0,0,0,0,0,0,0,0,0,0,0,0,0,0,0,0,0,0,0,0,0,0,0]
[null,null,null,"Total Revenue","Lakhs",null,null,{"$f":"SUM(K49:XFD49)","v":112909.68583467088},"Lakhs",null,{"$f":"K48*K47","v":0},{"$f":"L48*L47","v":2542.2293257986116},2655.9940881281,2774.849823571833,2899.0243531766732,3028.7556929813295,3164.292510242245,3305.8946000755855,3453.8333834289688,3608.392427337415,3769.8679884607641,3938.5695809443846,4114.8205696916466,4298.9587901853483,4491.3371960461436,4692.3245355692088,4902.3060585359326,5121.6842546554162,5350.879625051246,5590.3314882722907,5840.4988223724768,6101.8611446736459,6374.919430897794,6660.1970754304702,6958.2408945559855,7269.6221745873654,0,0,0,0,0,0,0,0,0,0,0,0,0,0,0,0,0,0,0,0,0,0,0,0,0,0,0,0,0,0,0,0,0,0,0,0,0,0,0,{"$f":"BX48*BX47","v":0},0,0,0,0,0,0,0,0,0,0,0,0,0,0,0,0,0,0,0,0,0,0,0,0,0,0,0,0,0,0,0,0,0,0,0,0,0,0,0,0,0,0,0,0,0,0,0,0,0,0,0,0,0,0,0,0,0,0,0,0,0,0,0,{"$f":"EJ48*EJ47","v":0},0,0,0,0,0,0,0,0,0,0,0,0,0,0,0,0,0,0,0,0,{"$f":"FE48*FE47","v":0},0,0,0,0,0,0,0,0,0,0,0,0,0,0,0,0,0,0,0,0,0,0,0,0,0,0,0,0,0,0,0,0,0,0,0,0,0,0,0,0,0,0,0,0,0,0,0,0,0,0,0,{"$f":"HE48*HE47","v":0},0,0,0,0,0,0,0,0,0,0,0,0,0,0,0,0,0,0,0,0,0,0,0,0,0,0,0,0,0,0,0,0,0,0,0,0,0,0,0,0,0,0,0,0,0,0,0,0,0,0,0,0,0,0,0,0,0,0,0,0,0,0,0,{"$f":"JQ48*JQ47","v":0},0,0,0,0,0,0,0,0,0,0,0,0,0,0,0,0,0,0,0,0,0,0,0,0,0,{"$f":"KQ48*KQ47","v":0},0,0,0,0,0,0,0,0,0,0,0,0,0,0,0,0,0,0,0,0,0,0,0,0,0,0,0,0,0,{"$f":"LU48*LU47","v":0},0,0,0,0,0,0,{"$f":"MB48*MB47","v":0},0,0,0,0,0,0,0,0,0,0,0,0,0,0,0,0,0,0,{"$f":"MU48*MU47","v":0},0,0,0,0,0,0,{"$f":"NB48*NB47","v":0},0,0,0,0,0,0,0,0,0,0,0,0,0,0,{"$f":"NQ48*NQ47","v":0},0,0,0,0,0,0,0,0,0,0,0,0,0,0,0,0,0,0,0,0,0,0,0,0,0,0,0,0,0,0,0,0,0,0,0,0,0,0,0,0,0,0,0,0,0,0,0,0,0,0,0,0,0,0,0,0,0,0,0,0,0,0,0,{"$f":"QC48*QC47","v":0},0,0,0,0,0,0,0,0,0,0,0,0,0,0,0,0,0,0,0,0,0,0,0,0,0,0,0,0,0,0,0,0,0,0,0,0,0,0,0,0,0,0,0,0,0,0,0,0,0,0,0,0]
[]
[null,null,"Free Cashflow pre-cash flow"]
[null,null,null,"EBITDA",null,null,null,{"$f":"SUM(K52:XFD52)","v":86850.689880049569},"Lakhs",null,{"$f":"K49-K41","v":0},{"$f":"L49-L41","v":1996.2293257986116},2082.6940881280998,2172.8848235718328,2266.9611031766731,2365.0892804813293,2467.442777117245,2574.2023802943349,2685.5565526586561,2801.7017550285864,2922.8427825364943,3049.1931147239011,3180.9752801601389,3318.4212361772652,3461.7727643376566,3611.281882275297,3767.211272577325,3929.8347293988782,4099.4376235318814,4276.3173866769575,4460.7840156973771,4653.1605976647907,4853.7838565384964,5063.0047223532074,5281.1889238248596,5508.7176053196836,0,0,0,0,0,0,0,0,0,0,0,0,0,0,0,0,0,0,0,0,0,0,0,0,0,0,0,0,0,0,0,0,0,0,0,0,0,0,0,{"$f":"BX49-BX41","v":0},0,0,0,0,0,0,0,0,0,0,0,0,0,0,0,0,0,0,0,0,0,0,0,0,0,0,0,0,0,0,0,0,0,0,0,0,0,0,0,0,0,0,0,0,0,0,0,0,0,0,0,0,0,0,0,0,0,0,0,0,0,0,0,{"$f":"EJ49-EJ41","v":0},0,0,0,0,0,0,0,0,0,0,0,0,0,0,0,0,0,0,0,0,{"$f":"FE49-FE41","v":0},0,0,0,0,0,0,0,0,0,0,0,0,0,0,0,0,0,0,0,0,0,0,0,0,0,0,0,0,0,0,0,0,0,0,0,0,0,0,0,0,0,0,0,0,0,0,0,0,0,0,0,{"$f":"HE49-HE41","v":0},0,0,0,0,0,0,0,0,0,0,0,0,0,0,0,0,0,0,0,0,0,0,0,0,0,0,0,0,0,0,0,0,0,0,0,0,0,0,0,0,0,0,0,0,0,0,0,0,0,0,0,0,0,0,0,0,0,0,0,0,0,0,0,{"$f":"JQ49-JQ41","v":0},0,0,0,0,0,0,0,0,0,0,0,0,0,0,0,0,0,0,0,0,0,0,0,0,0,{"$f":"KQ49-KQ41","v":0},0,0,0,0,0,0,0,0,0,0,0,0,0,0,0,0,0,0,0,0,0,0,0,0,0,0,0,0,0,{"$f":"LU49-LU41","v":0},0,0,0,0,0,0,{"$f":"MB49-MB41","v":0},0,0,0,0,0,0,0,0,0,0,0,0,0,0,0,0,0,0,{"$f":"MU49-MU41","v":0},0,0,0,0,0,0,{"$f":"NB49-NB41","v":0},0,0,0,0,0,0,0,0,0,0,0,0,0,0,{"$f":"NQ49-NQ41","v":0},0,0,0,0,0,0,0,0,0,0,0,0,0,0,0,0,0,0,0,0,0,0,0,0,0,0,0,0,0,0,0,0,0,0,0,0,0,0,0,0,0,0,0,0,0,0,0,0,0,0,0,0,0,0,0,0,0,0,0,0,0,0,0,{"$f":"QC49-QC41","v":0},0,0,0,0,0,0,0,0,0,0,0,0,0,0,0,0,0,0,0,0,0,0,0,0,0,0,0,0,0,0,0,0,0,0,0,0,0,0,0,0,0,0,0,0,0,0,0,0,0,0,0,0]
[null,null,null,"Less: Capex",null,null,null,null,"Lakhs",null,{"$f":"K33","v":26000},{"$f":"L33","v":0},0,0,0,0,0,0,0,0,0,0,0,0,0,0,0,0,0,0,0,0,0,0,0,0,0,0,0,0,0,0,0,0,0,0,0,0,0,0,0,0,0,0,0,0,0,0,0,0,0,0,0,0,0,0,0,0,0,0,0,0,0,0,0,{"$f":"BX33","v":0},0,0,0,0,0,0,0,0,0,0,0,0,0,0,0,0,0,0,0,0,0,0,0,0,0,0,0,0,0,0,0,0,0,0,0,0,0,0,0,0,0,0,0,0,0,0,0,0,0,0,0,0,0,0,0,0,0,0,0,0,0,0,0,{"$f":"EJ33","v":0},0,0,0,0,0,0,0,0,0,0,0,0,0,0,0,0,0,0,0,0,{"$f":"FE33","v":0},0,0,0,0,0,0,0,0,0,0,0,0,0,0,0,0,0,0,0,0,0,0,0,0,0,0,0,0,0,0,0,0,0,0,0,0,0,0,0,0,0,0,0,0,0,0,0,0,0,0,0,{"$f":"HE33","v":0},0,0,0,0,0,0,0,0,0,0,0,0,0,0,0,0,0,0,0,0,0,0,0,0,0,0,0,0,0,0,0,0,0,0,0,0,0,0,0,0,0,0,0,0,0,0,0,0,0,0,0,0,0,0,0,0,0,0,0,0,0,0,0,{"$f":"JQ33","v":0},0,0,0,0,0,0,0,0,0,0,0,0,0,0,0,0,0,0,0,0,0,0,0,0,0,{"$f":"KQ33","v":0},0,0,0,0,0,0,0,0,0,0,0,0,0,0,0,0,0,0,0,0,0,0,0,0,0,0,0,0,0,{"$f":"LU33","v":0},0,0,0,0,0,0,{"$f":"MB33","v":0},0,0,0,0,0,0,0,0,0,0,0,0,0,0,0,0,0,0,{"$f":"MU33","v":0},0,0,0,0,0,0,{"$f":"NB33","v":0},0,0,0,0,0,0,0,0,0,0,0,0,0,0,{"$f":"NQ33","v":0},0,0,0,0,0,0,0,0,0,0,0,0,0,0,0,0,0,0,0,0,0,0,0,0,0,0,0,0,0,0,0,0,0,0,0,0,0,0,0,0,0,0,0,0,0,0,0,0,0,0,0,0,0,0,0,0,0,0,0,0,0,0,0,{"$f":"QC33","v":0},0,0,0,0,0,0,0,0,0,0,0,0,0,0,0,0,0,0,0,0,0,0,0,0,0,0,0,0,0,0,0,0,0,0,0,0,0,0,0,0,0,0,0,0,0,0,0,0,0,0,0,0]
[null,null,null,"Free Cash flows",null,null,null,null,"Lakhs",null,{"$f":"K52-K53","v":-26000},{"$f":"L52-L53","v":1996.2293257986116},2082.6940881280998,2172.8848235718328,2266.9611031766731,2365.0892804813293,2467.442777117245,2574.2023802943349,2685.5565526586561,2801.7017550285864,2922.8427825364943,3049.1931147239011,3180.9752801601389,3318.4212361772652,3461.7727643376566,3611.281882275297,3767.211272577325,3929.8347293988782,4099.4376235318814,4276.3173866769575,4460.7840156973771,4653.1605976647907,4853.7838565384964,5063.0047223532074,5281.1889238248596,5508.7176053196836,0,0,0,0,0,0,0,0,0,0,0,0,0,0,0,0,0,0,0,0,0,0,0,0,0,0,0,0,0,0,0,0,0,0,0,0,0,0,0,{"$f":"BX52-BX53","v":0},0,0,0,0,0,0,0,0,0,0,0,0,0,0,0,0,0,0,0,0,0,0,0,0,0,0,0,0,0,0,0,0,0,0,0,0,0,0,0,0,0,0,0,0,0,0,0,0,0,0,0,0,0,0,0,0,0,0,0,0,0,0,0,{"$f":"EJ52-EJ53","v":0},0,0,0,0,0,0,0,0,0,0,0,0,0,0,0,0,0,0,0,0,{"$f":"FE52-FE53","v":0},0,0,0,0,0,0,0,0,0,0,0,0,0,0,0,0,0,0,0,0,0,0,0,0,0,0,0,0,0,0,0,0,0,0,0,0,0,0,0,0,0,0,0,0,0,0,0,0,0,0,0,{"$f":"HE52-HE53","v":0},0,0,0,0,0,0,0,0,0,0,0,0,0,0,0,0,0,0,0,0,0,0,0,0,0,0,0,0,0,0,0,0,0,0,0,0,0,0,0,0,0,0,0,0,0,0,0,0,0,0,0,0,0,0,0,0,0,0,0,0,0,0,0,{"$f":"JQ52-JQ53","v":0},0,0,0,0,0,0,0,0,0,0,0,0,0,0,0,0,0,0,0,0,0,0,0,0,0,{"$f":"KQ52-KQ53","v":0},0,0,0,0,0,0,0,0,0,0,0,0,0,0,0,0,0,0,0,0,0,0,0,0,0,0,0,0,0,{"$f":"LU52-LU53","v":0},0,0,0,0,0,0,{"$f":"MB52-MB53","v":0},0,0,0,0,0,0,0,0,0,0,0,0,0,0,0,0,0,0,{"$f":"MU52-MU53","v":0},0,0,0,0,0,0,{"$f":"NB52-NB53","v":0},0,0,0,0,0,0,0,0,0,0,0,0,0,0,{"$f":"NQ52-NQ53","v":0},0,0,0,0,0,0,0,0,0,0,0,0,0,0,0,0,0,0,0,0,0,0,0,0,0,0,0,0,0,0,0,0,0,0,0,0,0,0,0,0,0,0,0,0,0,0,0,0,0,0,0,0,0,0,0,0,0,0,0,0,0,0,0,{"$f":"QC52-QC53","v":0},0,0,0,0,0,0,0,0,0,0,0,0,0,0,0,0,0,0,0,0,0,0,0,0,0,0,0,0,0,0,0,0,0,0,0,0,0,0,0,0,0,0,0,0,0,0,0,0,0,0,0,0]
[null,null,null,"Pre Tax Project IRR","% p.a.",{"$f":"IF(G55,IRR(K54:FD54),XIRR(K54:FD54,K9:FD9))","v":9.9255862852367871E-2},{"$f":"G7=Months","v":true}]
[null,null,null,"Target IRR","% p.a.",{"$f":"'Input C'!F49","v":0.11}]
[null,null,null,"NPV at the Target IRR","Lakhs",{"$f":"IF(G55,NPV(F56,K54:SC54),XNPV(F56,K54:SC54,K9:SC9))","v":-2196.518047240862},"NPV"]
[]
[null,null,"Levelised cost of electricity"]
[null,null,null,"NPV of revenues ","Lakhs",{"$f":"XNPV(F55,L49:FD49,L9:FD9)","v":36866.437450409561}]
[null,null,null,"NPV of Generation","Lakhs",{"$f":"XNPV(F55,L48:FD48,L9:FD9)","v":2222386.4557747734}]
[null,null,null,"LCOE =NPV of revenues / NPV of generation","Rs. In Lakhs/Mwy",{"$f":"F60/F61","v":1.6588670865327559E-2}]
[null,null,null,"First Year Price","Rs. In Lakhs/Mwy",{"$f":"F47","v":1.0529680119726969E-2}]
[]
[null,"Depreciation and Operating Taxes"]
[]
[null,null,null,"Accumulated Capex",null,null,null,null,"Lakhs",null,{"$f":"J67+K33","v":26000},26000,26000,26000,26000,26000,26000,26000,26000,26000,26000,26000,26000,26000,26000,26000,26000,26000,26000,26000,26000,26000,26000,26000,26000,26000,26000,26000,26000,26000,26000,26000,26000,26000,26000,26000,26000,26000,26000,26000,26000,26000,26000,26000,26000,26000,26000,26000,26000,26000,26000,26000,26000,26000,26000,26000,26000,26000,26000,26000,26000,26000,26000,26000,{"$f":"BV67+BW33","v":26000},26000,26000,26000,26000,26000,26000,26000,26000,26000,26000,26000,26000,26000,26000,26000,26000,26000,26000,26000,26000,26000,26000,26000,26000,26000,26000,26000,26000,26000,26000,26000,26000,26000,26000,26000,26000,26000,26000,26000,26000,26000,26000,26000,26000,26000,26000,26000,26000,26000,26000,26000,26000,26000,26000,26000,26000,26000,26000,26000,26000,26000,26000,26000,{"$f":"EH67+EI33","v":26000},26000,26000,26000,26000,26000,26000,26000,26000,26000,26000,26000,26000,26000,26000,26000,26000,26000,26000,26000,26000,26000,26000,26000,26000,26000,26000,26000,26000,26000,26000,26000,26000,26000,26000,26000,26000,26000,26000,26000,26000,26000,26000,26000,26000,26000,26000,26000,26000,26000,26000,26000,26000,26000,26000,26000,26000,26000,26000,26000,26000,26000,26000,26000,{"$f":"GT67+GU33","v":26000},26000,26000,26000,26000,26000,26000,26000,26000,26000,26000,26000,26000,26000,26000,26000,26000,26000,26000,26000,26000,26000,26000,26000,26000,26000,26000,26000,26000,26000,26000,26000,26000,26000,26000,26000,26000,26000,26000,26000,26000,26000,26000,26000,26000,26000,26000,26000,26000,26000,26000,26000,26000,26000,26000,26000,26000,26000,26000,26000,26000,26000,26000,26000,{"$f":"JF67+JG33","v":26000},26000,26000,26000,26000,26000,26000,26000,26000,26000,26000,26000,26000,26000,26000,26000,26000,26000,26000,26000,26000,26000,26000,26000,26000,26000,26000,26000,26000,26000,26000,26000,26000,26000,26000,26000,26000,26000,26000,26000,26000,26000,26000,26000,26000,26000,26000,26000,26000,26000,26000,26000,26000,26000,26000,26000,26000,26000,26000,26000,26000,26000,26000,26000,{"$f":"LR67+LS33","v":26000},26000,26000,26000,26000,26000,26000,26000,26000,26000,26000,26000,26000,26000,26000,26000,26000,26000,26000,26000,26000,26000,26000,26000,26000,26000,26000,26000,26000,26000,26000,26000,26000,26000,26000,26000,26000,26000,26000,26000,26000,26000,26000,26000,26000,26000,26000,26000,26000,26000,26000,26000,26000,26000,26000,26000,26000,26000,26000,26000,26000,26000,26000,26000,{"$f":"OD67+OE33","v":26000},26000,26000,26000,26000,26000,26000,26000,26000,26000,26000,26000,26000,26000,26000,26000,26000,26000,26000,26000,26000,26000,26000,26000,26000,26000,26000,26000,26000,26000,26000,26000,26000,26000,26000,26000,26000,26000,26000,26000,26000,26000,26000,26000,26000,26000,26000,26000,26000,26000,26000,26000,26000,26000,26000,26000,26000,26000,26000,26000,26000,26000,26000,26000,{"$f":"QP67+QQ33","v":26000},26000,26000,26000,26000,26000,26000,26000,26000,26000,26000,26000,26000,26000,26000,26000,26000,26000,26000,26000,26000,26000,26000,26000,26000,26000,26000,26000,26000,26000,26000,26000,26000,26000,26000,26000,26000,26000,26000]
[null,null,null,"Life in Periods",null,null,null,null,"Periods",null,{"$f":"J68+K10","v":0},1,2,3,4,5,6,7,8,9,10,11,12,13,14,15,16,17,18,19,20,21,22,23,24,25,25,25,25,25,25,25,25,25,25,25,25,25,25,25,25,25,25,25,25,25,25,25,25,25,25,25,25,25,25,25,25,25,25,25,25,25,25,25,{"$f":"BV68+BW10","v":25},25,25,25,25,25,25,25,25,25,25,25,25,25,25,25,25,25,25,25,25,25,25,25,25,25,25,25,25,25,25,25,25,25,25,25,25,25,25,25,25,25,25,25,25,25,25,25,25,25,25,25,25,25,25,25,25,25,25,25,25,25,25,25,{"$f":"EH68+EI10","v":25},25,25,25,25,25,25,25,25,25,25,25,25,25,25,25,25,25,25,25,25,25,25,25,25,25,25,25,25,25,25,25,25,25,25,25,25,25,25,25,25,25,25,25,25,25,25,25,25,25,25,25,25,25,25,25,25,25,25,25,25,25,25,25,{"$f":"GT68+GU10","v":25},25,25,25,25,25,25,25,25,25,25,25,25,25,25,25,25,25,25,25,25,25,25,25,25,25,25,25,25,25,25,25,25,25,25,25,25,25,25,25,25,25,25,25,25,25,25,25,25,25,25,25,25,25,25,25,25,25,25,25,25,25,25,25,{"$f":"JF68+JG10","v":25},25,25,25,25,25,25,25,25,25,25,25,25,25,25,25,25,25,25,25,25,25,25,25,25,25,25,25,25,25,25,25,25,25,25,25,25,25,25,25,25,25,25,25,25,25,25,25,25,25,25,25,25,25,25,25,25,25,25,25,25,25,25,25,{"$f":"LR68+LS10","v":25},25,25,25,25,25,25,25,25,25,25,25,25,25,25,25,25,25,25,25,25,25,25,25,25,25,25,25,25,25,25,25,25,25,25,25,25,25,25,25,25,25,25,25,25,25,25,25,25,25,25,25,25,25,25,25,25,25,25,25,25,25,25,25,{"$f":"OD68+OE10","v":25},25,25,25,25,25,25,25,25,25,25,25,25,25,25,25,25,25,25,25,25,25,25,25,25,25,25,25,25,25,25,25,25,25,25,25,25,25,25,25,25,25,25,25,25,25,25,25,25,25,25,25,25,25,25,25,25,25,25,25,25,25,25,25,{"$f":"QP68+QQ10","v":25},25,25,25,25,25,25,25,25,25,25,25,25,25,25,25,25,25,25,25,25,25,25,25,25,25,25,25,25,25,25,25,25,25,25,25,25,25,25]
[null,null,null,"Life in Years","Months/Period",{"$f":"Months/G7","v":1},null,null,"Years",null,{"$f":"ROUNDUP(K68/$F$69,0)","v":0},1,2,3,4,5,6,7,8,9,10,11,12,{"$f":"ROUNDUP(X68/$F$69,0)","v":13},{"$f":"ROUNDUP(Y68/$F$69,0)","v":14},15,16,17,18,19,20,21,22,23,24,25,25,25,25,25,25,25,25,25,25,25,25,25,25,25,25,25,25,25,25,25,25,25,25,25,25,25,25,25,25,25,25,25,25,25,25,25,25,25,25,25,25,25,25,25,25,25,25,25,25,25,25,25,{"$f":"ROUNDUP(CK68/$F$69,0)","v":25},25,25,25,25,25,25,25,25,25,25,25,25,25,25,25,25,25,25,25,25,25,25,25,25,25,25,25,25,25,25,25,25,25,25,25,25,25,25,25,25,25,25,25,25,25,25,25,25,25,25,25,25,25,25,25,25,25,25,25,25,25,25,25,{"$f":"ROUNDUP(EW68/$F$69,0)","v":25},25,25,25,25,25,25,25,{"$f":"ROUNDUP(FE68/$F$69,0)","v":25},25,25,25,25,25,25,25,25,25,25,25,25,25,25,25,25,25,25,25,25,25,25,25,25,25,25,25,25,25,25,25,25,25,25,25,25,25,25,25,25,25,25,25,25,25,25,25,25,25,25,25,{"$f":"ROUNDUP(HE68/$F$69,0)","v":25},25,25,25,25,25,25,25,25,25,25,25,25,25,25,25,25,25,25,25,25,25,25,25,25,25,25,25,25,25,25,25,25,25,25,25,25,25,25,25,25,25,25,25,25,25,25,25,25,25,25,25,25,25,25,25,25,25,25,25,25,25,25,25,{"$f":"ROUNDUP(JQ68/$F$69,0)","v":25},25,25,25,25,25,25,25,25,25,25,25,25,25,25,25,25,25,25,25,25,25,25,25,25,25,{"$f":"ROUNDUP(KQ68/$F$69,0)","v":25},25,25,25,25,25,25,25,25,25,25,25,25,25,25,25,25,25,25,25,25,25,25,25,25,25,25,25,25,25,{"$f":"ROUNDUP(LU68/$F$69,0)","v":25},25,25,25,25,25,25,{"$f":"ROUNDUP(MB68/$F$69,0)","v":25},25,25,25,25,25,25,25,25,25,25,25,25,25,25,25,25,25,25,{"$f":"ROUNDUP(MU68/$F$69,0)","v":25},25,25,25,25,25,25,{"$f":"ROUNDUP(NB68/$F$69,0)","v":25},25,25,25,25,25,25,25,25,25,25,25,25,25,25,{"$f":"ROUNDUP(NQ68/$F$69,0)","v":25},25,25,25,25,25,25,25,25,25,25,25,25,25,25,25,25,25,25,25,25,25,25,25,25,25,25,25,25,25,25,25,25,25,25,25,25,25,25,25,25,25,25,25,25,25,25,25,25,25,25,25,25,25,25,25,25,25,25,25,25,25,25,25,{"$f":"ROUNDUP(QC68/$F$69,0)","v":25},25,25,25,25,25,25,25,25,25,25,25,25,25,25,25,25,25,25,25,25,25,25,25,25,25,25,25,25,25,25,25,25,25,25,25,25,25,25,25,25,25,25,25,25,25,25,25,25,25,25,25,25]
[null,null,null,"Depreciation Period","Years",{"$f":"F71","v":25},null,null,null,null,{"$f":"AND(K69,K69<=$F$70)*K10","v":0},1,1,1,1,1,1,1,1,1,1,1,1,1,1,1,1,1,1,1,1,1,1,1,1,1,0,0,0,0,0,0,0,0,0,0,0,0,0,0,0,0,0,0,0,0,0,0,0,0,0,0,0,0,0,0,0,0,0,0,0,0,0,0,{"$f":"AND(BW69,BW69<=$F$70)*BW10","v":0},0,0,0,0,0,0,0,0,0,0,0,0,0,0,0,0,0,0,0,0,0,0,0,0,0,0,0,0,0,0,0,0,0,0,0,0,0,0,0,0,0,0,0,0,0,0,0,0,0,0,0,0,0,0,0,0,0,0,0,0,0,0,0,{"$f":"AND(EI69,EI69<=$F$70)*EI10","v":0},0,0,0,0,0,0,0,0,0,0,0,0,0,0,0,0,0,0,0,0,0,0,0,0,0,0,0,0,0,0,0,0,0,0,0,0,0,0,0,0,0,0,0,0,0,0,0,0,0,0,0,0,0,0,0,0,0,0,0,0,0,0,0,{"$f":"AND(GU69,GU69<=$F$70)*GU10","v":0},0,0,0,0,0,0,0,0,0,0,0,0,0,0,0,0,0,0,0,0,0,0,0,0,0,0,0,0,0,0,0,0,0,0,0,0,0,0,0,0,0,0,0,0,0,0,0,0,0,0,0,0,0,0,0,0,0,0,0,0,0,0,0,{"$f":"AND(JG69,JG69<=$F$70)*JG10","v":0},0,0,0,0,0,0,0,0,0,0,0,0,0,0,0,0,0,0,0,0,0,0,0,0,0,0,0,0,0,0,0,0,0,0,0,0,0,0,0,0,0,0,0,0,0,0,0,0,0,0,0,0,0,0,0,0,0,0,0,0,0,0,0,{"$f":"AND(LS69,LS69<=$F$70)*LS10","v":0},0,0,0,0,0,0,0,0,0,0,0,0,0,0,0,0,0,0,0,0,0,0,0,0,0,0,0,0,0,0,0,0,0,0,0,0,0,0,0,0,0,0,0,0,0,0,0,0,0,0,0,0,0,0,0,0,0,0,0,0,0,0,0,{"$f":"AND(OE69,OE69<=$F$70)*OE10","v":0},0,0,0,0,0,0,0,0,0,0,0,0,0,0,0,0,0,0,0,0,0,0,0,0,0,0,0,0,0,0,0,0,0,0,0,0,0,0,0,0,0,0,0,0,0,0,0,0,0,0,0,0,0,0,0,0,0,0,0,0,0,0,0,{"$f":"AND(QQ69,QQ69<=$F$70)*QQ10","v":0},0,0,0,0,0,0,0,0,0,0,0,0,0,0,0,0,0,0,0,0,0,0,0,0,0,0,0,0,0,0,0,0,0,0,0,0,0,0]
[null,null,null,"Depreciation Rate","Years",{"$f":"'Input C'!F56","v":25},{"$f":"1/F71*G7/Months","v":0.04},null,null,{"$f":"SUM(K71:XFD71)","v":1.0000000000000002},{"$f":"$G$71*K70","v":0},{"$f":"$G$71*L70","v":0.04},0.04,0.04,0.04,0.04,0.04,0.04,0.04,0.04,0.04,0.04,0.04,0.04,0.04,0.04,0.04,0.04,0.04,0.04,0.04,0.04,0.04,0.04,0.04,0.04,0,0,0,0,0,0,0,0,0,0,0,0,0,0,0,0,0,0,0,0,0,0,0,0,0,0,0,0,0,0,0,0,0,0,0,0,0,0,0,{"$f":"$G$71*BX70","v":0},0,0,0,0,0,0,0,0,0,0,0,0,0,0,0,0,0,0,0,0,0,0,0,0,0,0,0,0,0,0,0,0,0,0,0,0,0,0,0,0,0,0,0,0,0,0,0,0,0,0,0,0,0,0,0,0,0,0,0,0,0,0,0,{"$f":"$G$71*EJ70","v":0},0,0,0,0,0,0,0,0,0,0,0,0,0,0,0,0,0,0,0,0,{"$f":"$G$71*FE70","v":0},0,0,0,0,0,0,0,0,0,0,0,0,0,0,0,0,0,0,0,0,0,0,0,0,0,0,0,0,0,0,0,0,0,0,0,0,0,0,0,0,0,0,0,0,0,0,0,0,0,0,0,{"$f":"$G$71*HE70","v":0},0,0,0,0,0,0,0,0,0,0,0,0,0,0,0,0,0,0,0,0,0,0,0,0,0,0,0,0,0,0,0,0,0,0,0,0,0,0,0,0,0,0,0,0,0,0,0,0,0,0,0,0,0,0,0,0,0,0,0,0,0,0,0,{"$f":"$G$71*JQ70","v":0},0,0,0,0,0,0,0,0,0,0,0,0,0,0,0,0,0,0,0,0,0,0,0,0,0,{"$f":"$G$71*KQ70","v":0},0,0,0,0,0,0,0,0,0,0,0,0,0,0,0,0,0,0,0,0,0,0,0,0,0,0,0,0,0,{"$f":"$G$71*LU70","v":0},0,0,0,0,0,0,{"$f":"$G$71*MB70","v":0},0,0,0,0,0,0,0,0,0,0,0,0,0,0,0,0,0,0,{"$f":"$G$71*MU70","v":0},0,0,0,0,0,0,{"$f":"$G$71*NB70","v":0},0,0,0,0,0,0,0,0,0,0,0,0,0,0,{"$f":"$G$71*NQ70","v":0},0,0,0,0,0,0,0,0,0,0,0,0,0,0,0,0,0,0,0,0,0,0,0,0,0,0,0,0,0,0,0,0,0,0,0,0,0,0,0,0,0,0,0,0,0,0,0,0,0,0,0,0,0,0,0,0,0,0,0,0,0,0,0,{"$f":"$G$71*QC70","v":0},0,0,0,0,0,0,0,0,0,0,0,0,0,0,0,0,0,0,0,0,0,0,0,0,0,0,0,0,0,0,0,0,0,0,0,0,0,0,0,0,0,0,0,0,0,0,0,0,0,0,0,0]
[null,null,null,"Depreciation Expense",null,null,null,null,"Lakhs",{"$f":"SUM(K72:XFD72)","v":26000},{"$f":"K71*K67","v":0},{"$f":"L71*L67","v":1040},1040,1040,1040,1040,1040,1040,1040,1040,1040,1040,1040,1040,1040,1040,1040,1040,1040,1040,1040,1040,1040,1040,1040,1040,0,0,0,0,0,0,0,0,0,0,0,0,0,0,0,0,0,0,0,0,0,0,0,0,0,0,0,0,0,0,0,0,0,0,0,0,0,0,0,{"$f":"BX71*BX67","v":0},0,0,0,0,0,0,0,0,0,0,0,0,0,0,0,0,0,0,0,0,0,0,0,0,0,0,0,0,0,0,0,0,0,0,0,0,0,0,0,0,0,0,0,0,0,0,0,0,0,0,0,0,0,0,0,0,0,0,0,0,0,0,0,{"$f":"EJ71*EJ67","v":0},0,0,0,0,0,0,0,0,0,0,0,0,0,0,0,0,0,0,0,0,{"$f":"FE71*FE67","v":0},0,0,0,0,0,0,0,0,0,0,0,0,0,0,0,0,0,0,0,0,0,0,0,0,0,0,0,0,0,0,0,0,0,0,0,0,0,0,0,0,0,0,0,0,0,0,0,0,0,0,0,{"$f":"HE71*HE67","v":0},0,0,0,0,0,0,0,0,0,0,0,0,0,0,0,0,0,0,0,0,0,0,0,0,0,0,0,0,0,0,0,0,0,0,0,0,0,0,0,0,0,0,0,0,0,0,0,0,0,0,0,0,0,0,0,0,0,0,0,0,0,0,0,{"$f":"JQ71*JQ67","v":0},0,0,0,0,0,0,0,0,0,0,0,0,0,0,0,0,0,0,0,0,0,0,0,0,0,{"$f":"KQ71*KQ67","v":0},0,0,0,0,0,0,0,0,0,0,0,0,0,0,0,0,0,0,0,0,0,0,0,0,0,0,0,0,0,{"$f":"LU71*LU67","v":0},0,0,0,0,0,0,{"$f":"MB71*MB67","v":0},0,0,0,0,0,0,0,0,0,0,0,0,0,0,0,0,0,0,{"$f":"MU71*MU67","v":0},0,0,0,0,0,0,{"$f":"NB71*NB67","v":0},0,0,0,0,0,0,0,0,0,0,0,0,0,0,{"$f":"NQ71*NQ67","v":0},0,0,0,0,0,0,0,0,0,0,0,0,0,0,0,0,0,0,0,0,0,0,0,0,0,0,0,0,0,0,0,0,0,0,0,0,0,0,0,0,0,0,0,0,0,0,0,0,0,0,0,0,0,0,0,0,0,0,0,0,0,0,0,{"$f":"QC71*QC67","v":0},0,0,0,0,0,0,0,0,0,0,0,0,0,0,0,0,0,0,0,0,0,0,0,0,0,0,0,0,0,0,0,0,0,0,0,0,0,0,0,0,0,0,0,0,0,0,0,0,0,0,0,0]
[]
[null,null,null,"EBIT",null,null,null,{"$f":"SUM(K74:XFD74)","v":60850.689880049576},"Lakhs",null,{"$f":"K52-K72","v":0},956.22932579861163,1042.6940881280998,1132.8848235718328,1226.9611031766731,1325.0892804813293,1427.442777117245,1534.2023802943349,1645.5565526586561,1761.7017550285864,1882.8427825364943,2009.1931147239011,2140.9752801601389,2278.4212361772652,2421.7727643376566,2571.281882275297,2727.211272577325,2889.8347293988782,3059.4376235318814,3236.3173866769575,3420.7840156973771,3613.1605976647907,3813.7838565384964,4023.0047223532074,4241.1889238248596,4468.7176053196836,0,0,0,0,0,0,0,0,0,0,0,0,0,0,0,0,0,0,0,0,0,0,0,0,0,0,0,0,0,0,0,0,0,0,0,0,0,0,{"$f":"BW52-BW72","v":0},0,0,0,0,0,0,0,0,0,0,0,0,0,0,0,0,0,0,0,0,0,0,0,0,0,0,0,0,0,0,0,0,0,0,0,0,0,0,0,0,0,0,0,0,0,0,0,0,0,0,0,0,0,0,0,0,0,0,0,0,0,0,0,{"$f":"EI52-EI72","v":0},0,0,0,0,0,0,0,0,0,0,0,0,0,0,0,0,0,0,0,0,0,0,0,0,0,0,0,0,0,0,0,0,0,0,0,0,0,0,0,0,0,0,0,0,0,0,0,0,0,0,0,0,0,0,0,0,0,0,0,0,0,0,0,{"$f":"GU52-GU72","v":0},0,0,0,0,0,0,0,0,0,0,0,0,0,0,0,0,0,0,0,0,0,0,0,0,0,0,0,0,0,0,0,0,0,0,0,0,0,0,0,0,0,0,0,0,0,0,0,0,0,0,0,0,0,0,0,0,0,0,0,0,0,0,0,{"$f":"JG52-JG72","v":0},0,0,0,0,0,0,0,0,0,0,0,0,0,0,0,0,0,0,0,0,0,0,0,0,0,0,0,0,0,0,0,0,0,0,0,0,0,0,0,0,0,0,0,0,0,0,0,0,0,0,0,0,0,0,0,0,0,0,0,0,0,0,0,{"$f":"LS52-LS72","v":0},0,0,0,0,0,0,0,0,0,0,0,0,0,0,0,0,0,0,0,0,0,0,0,0,0,0,0,0,0,0,0,0,0,0,0,0,0,0,0,0,0,0,0,0,0,0,0,0,0,0,0,0,0,0,0,0,0,0,0,0,0,0,0,{"$f":"OE52-OE72","v":0},0,0,0,0,0,0,0,0,0,0,0,0,0,0,0,0,0,0,0,0,0,0,0,0,0,0,0,0,0,0,0,0,0,0,0,0,0,0,0,0,0,0,0,0,0,0,0,0,0,0,0,0,0,0,0,0,0,0,0,0,0,0,0,{"$f":"QQ52-QQ72","v":0},0,0,0,0,0,0,0,0,0,0,0,0,0,0,0,0,0,0,0,0,0,0,0,0,0,0,0,0,0,0,0,0,0,0,0,0,0,0]
[]
[null,null,null,"Opening Net Operating Loss",null,null,null,null,"Lakhs",null,{"$f":"J79","v":0},{"$f":"K79","v":0},0,0,0,0,0,0,0,0,0,0,0,0,0,0,0,0,0,0,0,0,0,0,0,0,0,0,0,0,0,0,0,0,0,0,0,0,0,0,0,0,0,0,0,0,0,0,0,0,0,0,0,0,0,0,0,0,0,0,0,0,0,0,0,{"$f":"BW79","v":0},0,0,0,0,0,0,0,0,0,0,0,0,0,0,0,0,0,0,0,0,0,0,0,0,0,0,0,0,0,0,0,0,0,0,0,0,0,0,0,0,0,0,0,0,0,0,0,0,0,0,0,0,0,0,0,0,0,0,0,0,0,0,0,{"$f":"EI79","v":0},0,0,0,0,0,0,0,0,0,0,0,0,0,0,0,0,0,0,0,0,{"$f":"FD79","v":0},{"$f":"FE79","v":0},{"$f":"FF79","v":0},{"$f":"FG79","v":0},{"$f":"FH79","v":0},{"$f":"FI79","v":0},{"$f":"FJ79","v":0},{"$f":"FK79","v":0},{"$f":"FL79","v":0},{"$f":"FM79","v":0},{"$f":"FN79","v":0},{"$f":"FO79","v":0},{"$f":"FP79","v":0},{"$f":"FQ79","v":0},{"$f":"FR79","v":0},{"$f":"FS79","v":0},{"$f":"FT79","v":0},{"$f":"FU79","v":0},{"$f":"FV79","v":0},{"$f":"FW79","v":0},{"$f":"FX79","v":0},{"$f":"FY79","v":0},{"$f":"FZ79","v":0},{"$f":"GA79","v":0},{"$f":"GB79","v":0},{"$f":"GC79","v":0},{"$f":"GD79","v":0},{"$f":"GE79","v":0},{"$f":"GF79","v":0},{"$f":"GG79","v":0},{"$f":"GH79","v":0},{"$f":"GI79","v":0},{"$f":"GJ79","v":0},{"$f":"GK79","v":0},{"$f":"GL79","v":0},{"$f":"GM79","v":0},{"$f":"GN79","v":0},{"$f":"GO79","v":0},{"$f":"GP79","v":0},{"$f":"GQ79","v":0},{"$f":"GR79","v":0},{"$f":"GS79","v":0},{"$f":"GT79","v":0},{"$f":"GU79","v":0},{"$f":"GV79","v":0},{"$f":"GW79","v":0},{"$f":"GX79","v":0},{"$f":"GY79","v":0},{"$f":"GZ79","v":0},{"$f":"HA79","v":0},{"$f":"HB79","v":0},{"$f":"HC79","v":0},{"$f":"HD79","v":0},{"$f":"HE79","v":0},{"$f":"HF79","v":0},{"$f":"HG79","v":0},{"$f":"HH79","v":0},{"$f":"HI79","v":0},{"$f":"HJ79","v":0},{"$f":"HK79","v":0},{"$f":"HL79","v":0},{"$f":"HM79","v":0},{"$f":"HN79","v":0},{"$f":"HO79","v":0},{"$f":"HP79","v":0},{"$f":"HQ79","v":0},{"$f":"HR79","v":0},{"$f":"HS79","v":0},{"$f":"HT79","v":0},{"$f":"HU79","v":0},{"$f":"HV79","v":0},{"$f":"HW79","v":0},{"$f":"HX79","v":0},{"$f":"HY79","v":0},{"$f":"HZ79","v":0},{"$f":"IA79","v":0},{"$f":"IB79","v":0},{"$f":"IC79","v":0},{"$f":"ID79","v":0},{"$f":"IE79","v":0},{"$f":"IF79","v":0},{"$f":"IG79","v":0},{"$f":"IH79","v":0},{"$f":"II79","v":0},{"$f":"IJ79","v":0},{"$f":"IK79","v":0},{"$f":"IL79","v":0},{"$f":"IM79","v":0},{"$f":"IN79","v":0},{"$f":"IO79","v":0},{"$f":"IP79","v":0},{"$f":"IQ79","v":0},{"$f":"IR79","v":0},{"$f":"IS79","v":0},{"$f":"IT79","v":0},{"$f":"IU79","v":0},{"$f":"IV79","v":0},{"$f":"IW79","v":0},{"$f":"IX79","v":0},{"$f":"IY79","v":0},{"$f":"IZ79","v":0},{"$f":"JA79","v":0},{"$f":"JB79","v":0},{"$f":"JC79","v":0},{"$f":"JD79","v":0},{"$f":"JE79","v":0},{"$f":"JF79","v":0},{"$f":"JG79","v":0},{"$f":"JH79","v":0},{"$f":"JI79","v":0},{"$f":"JJ79","v":0},{"$f":"JK79","v":0},{"$f":"JL79","v":0},{"$f":"JM79","v":0},{"$f":"JN79","v":0},{"$f":"JO79","v":0},{"$f":"JP79","v":0},{"$f":"JQ79","v":0},{"$f":"JR79","v":0},{"$f":"JS79","v":0},{"$f":"JT79","v":0},{"$f":"JU79","v":0},{"$f":"JV79","v":0},{"$f":"JW79","v":0},{"$f":"JX79","v":0},{"$f":"JY79","v":0},{"$f":"JZ79","v":0},{"$f":"KA79","v":0},{"$f":"KB79","v":0},{"$f":"KC79","v":0},{"$f":"KD79","v":0},{"$f":"KE79","v":0},{"$f":"KF79","v":0},{"$f":"KG79","v":0},{"$f":"KH79","v":0},{"$f":"KI79","v":0},{"$f":"KJ79","v":0},{"$f":"KK79","v":0},{"$f":"KL79","v":0},{"$f":"KM79","v":0},{"$f":"KN79","v":0},{"$f":"KO79","v":0},{"$f":"KP79","v":0},{"$f":"KQ79","v":0},{"$f":"KR79","v":0},{"$f":"KS79","v":0},{"$f":"KT79","v":0},{"$f":"KU79","v":0},{"$f":"KV79","v":0},{"$f":"KW79","v":0},{"$f":"KX79","v":0},{"$f":"KY79","v":0},{"$f":"KZ79","v":0},{"$f":"LA79","v":0},{"$f":"LB79","v":0},{"$f":"LC79","v":0},{"$f":"LD79","v":0},{"$f":"LE79","v":0},{"$f":"LF79","v":0},{"$f":"LG79","v":0},{"$f":"LH79","v":0},{"$f":"LI79","v":0},{"$f":"LJ79","v":0},{"$f":"LK79","v":0},{"$f":"LL79","v":0},{"$f":"LM79","v":0},{"$f":"LN79","v":0},{"$f":"LO79","v":0},{"$f":"LP79","v":0},{"$f":"LQ79","v":0},{"$f":"LR79","v":0},{"$f":"LS79","v":0},{"$f":"LT79","v":0},{"$f":"LU79","v":0},{"$f":"LV79","v":0},{"$f":"LW79","v":0},{"$f":"LX79","v":0},{"$f":"LY79","v":0},{"$f":"LZ79","v":0},{"$f":"MA79","v":0},{"$f":"MB79","v":0},{"$f":"MC79","v":0},{"$f":"MD79","v":0},{"$f":"ME79","v":0},{"$f":"MF79","v":0},{"$f":"MG79","v":0},{"$f":"MH79","v":0},{"$f":"MI79","v":0},{"$f":"MJ79","v":0},{"$f":"MK79","v":0},{"$f":"ML79","v":0},{"$f":"MM79","v":0},{"$f":"MN79","v":0},{"$f":"MO79","v":0},{"$f":"MP79","v":0},{"$f":"MQ79","v":0},{"$f":"MR79","v":0},{"$f":"MS79","v":0},{"$f":"MT79","v":0},{"$f":"MU79","v":0},{"$f":"MV79","v":0},{"$f":"MW79","v":0},{"$f":"MX79","v":0},{"$f":"MY79","v":0},{"$f":"MZ79","v":0},{"$f":"NA79","v":0},{"$f":"NB79","v":0},{"$f":"NC79","v":0},{"$f":"ND79","v":0},{"$f":"NE79","v":0},{"$f":"NF79","v":0},{"$f":"NG79","v":0},{"$f":"NH79","v":0},{"$f":"NI79","v":0},{"$f":"NJ79","v":0},{"$f":"NK79","v":0},{"$f":"NL79","v":0},{"$f":"NM79","v":0},{"$f":"NN79","v":0},{"$f":"NO79","v":0},{"$f":"NP79","v":0},{"$f":"NQ79","v":0},{"$f":"NR79","v":0},{"$f":"NS79","v":0},{"$f":"NT79","v":0},{"$f":"NU79","v":0},{"$f":"NV79","v":0},{"$f":"NW79","v":0},{"$f":"NX79","v":0},{"$f":"NY79","v":0},{"$f":"NZ79","v":0},{"$f":"OA79","v":0},{"$f":"OB79","v":0},{"$f":"OC79","v":0},{"$f":"OD79","v":0},{"$f":"OE79","v":0},{"$f":"OF79","v":0},{"$f":"OG79","v":0},{"$f":"OH79","v":0},{"$f":"OI79","v":0},{"$f":"OJ79","v":0},{"$f":"OK79","v":0},{"$f":"OL79","v":0},{"$f":"OM79","v":0},{"$f":"ON79","v":0},{"$f":"OO79","v":0},{"$f":"OP79","v":0},{"$f":"OQ79","v":0},{"$f":"OR79","v":0},{"$f":"OS79","v":0},{"$f":"OT79","v":0},{"$f":"OU79","v":0},{"$f":"OV79","v":0},{"$f":"OW79","v":0},{"$f":"OX79","v":0},{"$f":"OY79","v":0},{"$f":"OZ79","v":0},{"$f":"PA79","v":0},{"$f":"PB79","v":0},{"$f":"PC79","v":0},{"$f":"PD79","v":0},{"$f":"PE79","v":0},{"$f":"PF79","v":0},{"$f":"PG79","v":0},{"$f":"PH79","v":0},{"$f":"PI79","v":0},{"$f":"PJ79","v":0},{"$f":"PK79","v":0},{"$f":"PL79","v":0},{"$f":"PM79","v":0},{"$f":"PN79","v":0},{"$f":"PO79","v":0},{"$f":"PP79","v":0},{"$f":"PQ79","v":0},{"$f":"PR79","v":0},{"$f":"PS79","v":0},{"$f":"PT79","v":0},{"$f":"PU79","v":0},{"$f":"PV79","v":0},{"$f":"PW79","v":0},{"$f":"PX79","v":0},{"$f":"PY79","v":0},{"$f":"PZ79","v":0},{"$f":"QA79","v":0},{"$f":"QB79","v":0},{"$f":"QC79","v":0},{"$f":"QD79","v":0},{"$f":"QE79","v":0},{"$f":"QF79","v":0},{"$f":"QG79","v":0},{"$f":"QH79","v":0},{"$f":"QI79","v":0},{"$f":"QJ79","v":0},{"$f":"QK79","v":0},{"$f":"QL79","v":0},{"$f":"QM79","v":0},{"$f":"QN79","v":0},{"$f":"QO79","v":0},{"$f":"QP79","v":0},{"$f":"QQ79","v":0},{"$f":"QR79","v":0},{"$f":"QS79","v":0},{"$f":"QT79","v":0},{"$f":"QU79","v":0},{"$f":"QV79","v":0},{"$f":"QW79","v":0},{"$f":"QX79","v":0},{"$f":"QY79","v":0},{"$f":"QZ79","v":0},{"$f":"RA79","v":0},{"$f":"RB79","v":0},{"$f":"RC79","v":0},{"$f":"RD79","v":0},{"$f":"RE79","v":0},{"$f":"RF79","v":0},{"$f":"RG79","v":0},{"$f":"RH79","v":0},{"$f":"RI79","v":0},{"$f":"RJ79","v":0},{"$f":"RK79","v":0},{"$f":"RL79","v":0},{"$f":"RM79","v":0},{"$f":"RN79","v":0},{"$f":"RO79","v":0},{"$f":"RP79","v":0},{"$f":"RQ79","v":0},{"$f":"RR79","v":0},{"$f":"RS79","v":0},{"$f":"RT79","v":0},{"$f":"RU79","v":0},{"$f":"RV79","v":0},{"$f":"RW79","v":0},{"$f":"RX79","v":0},{"$f":"RY79","v":0},{"$f":"RZ79","v":0},{"$f":"SA79","v":0},{"$f":"SB79","v":0}]
[null,null,null,"Net Operating Loss for Period",null,null,null,{"$f":"SUM(K77:XFD77)","v":0},"Lakhs",null,{"$f":"MAX(-K74,0)","v":0},{"$f":"MAX(-L74,0)","v":0},0,0,0,0,0,0,0,0,0,0,0,0,0,0,0,0,0,0,0,0,0,0,0,0,0,0,0,0,0,0,0,0,0,0,0,0,0,0,0,0,0,0,0,0,0,0,0,0,0,0,0,0,0,0,0,0,0,0,0,0,0,0,0,{"$f":"MAX(-BX74,0)","v":0},0,0,0,0,0,0,0,0,0,0,0,0,0,0,0,0,0,0,0,0,0,0,0,0,0,0,0,0,0,0,0,0,0,0,0,0,0,0,0,0,0,0,0,0,0,0,0,0,0,0,0,0,0,0,0,0,0,0,0,0,0,0,0,{"$f":"MAX(-EJ74,0)","v":0},0,0,0,0,0,0,0,0,0,0,0,0,0,0,0,0,0,0,0,0,{"$f":"MAX(-FE74,0)","v":0},0,0,0,0,0,0,0,0,0,0,0,0,0,0,0,0,0,0,0,0,0,0,0,0,0,0,0,0,0,0,0,0,0,0,0,0,0,0,0,0,0,0,0,0,0,0,0,0,0,0,0,{"$f":"MAX(-HE74,0)","v":0},0,0,0,0,0,0,0,0,0,0,0,0,0,0,0,0,0,0,0,0,0,0,0,0,0,0,0,0,0,0,0,0,0,0,0,0,0,0,0,0,0,0,0,0,0,0,0,0,0,0,0,0,0,0,0,0,0,0,0,0,0,0,0,{"$f":"MAX(-JQ74,0)","v":0},0,0,0,0,0,0,0,0,0,0,0,0,0,0,0,0,0,0,0,0,0,0,0,0,0,{"$f":"MAX(-KQ74,0)","v":0},0,0,0,0,0,0,0,0,0,0,0,0,0,0,0,0,0,0,0,0,0,0,0,0,0,0,0,0,0,{"$f":"MAX(-LU74,0)","v":0},0,0,0,0,0,0,{"$f":"MAX(-MB74,0)","v":0},0,0,0,0,0,0,0,0,0,0,0,0,0,0,0,0,0,0,{"$f":"MAX(-MU74,0)","v":0},0,0,0,0,0,0,{"$f":"MAX(-NB74,0)","v":0},0,0,0,0,0,0,0,0,0,0,0,0,0,0,{"$f":"MAX(-NQ74,0)","v":0},0,0,0,0,0,0,0,0,0,0,0,0,0,0,0,0,0,0,0,0,0,0,0,0,0,0,0,0,0,0,0,0,0,0,0,0,0,0,0,0,0,0,0,0,0,0,0,0,0,0,0,0,0,0,0,0,0,0,0,0,0,0,0,{"$f":"MAX(-QC74,0)","v":0},0,0,0,0,0,0,0,0,0,0,0,0,0,0,0,0,0,0,0,0,0,0,0,0,0,0,0,0,0,0,0,0,0,0,0,0,0,0,0,0,0,0,0,0,0,0,0,0,0,0,0,0]
[null,null,null,"Net operating Loss Used",null,null,null,0,"Lakhs",null,{"$f":"MIN(K76,MAX(K74,0))","v":0},{"$f":"MIN(L76,MAX(L74,0))","v":0},0,0,0,0,0,0,0,0,0,0,0,0,0,0,0,0,0,0,0,0,0,0,0,0,0,0,0,0,0,0,0,0,0,0,0,0,0,0,0,0,0,0,0,0,0,0,0,0,0,0,0,0,0,0,0,0,0,0,0,0,0,0,0,{"$f":"MIN(BX76,MAX(BX74,0))","v":0},0,0,0,0,0,0,0,0,0,0,0,0,0,0,0,0,0,0,0,0,0,0,0,0,0,0,0,0,0,0,0,0,0,0,0,0,0,0,0,0,0,0,0,0,0,0,0,0,0,0,0,0,0,0,0,0,0,0,0,0,0,0,0,{"$f":"MIN(EJ76,MAX(EJ74,0))","v":0},0,0,0,0,0,0,0,0,0,0,0,0,0,0,0,0,0,0,0,0,{"$f":"MIN(FE76,MAX(FE74,0))","v":0},0,0,0,0,0,0,0,0,0,0,0,0,0,0,0,0,0,0,0,0,0,0,0,0,0,0,0,0,0,0,0,0,0,0,0,0,0,0,0,0,0,0,0,0,0,0,0,0,0,0,0,{"$f":"MIN(HE76,MAX(HE74,0))","v":0},0,0,0,0,0,0,0,0,0,0,0,0,0,0,0,0,0,0,0,0,0,0,0,0,0,0,0,0,0,0,0,0,0,0,0,0,0,0,0,0,0,0,0,0,0,0,0,0,0,0,0,0,0,0,0,0,0,0,0,0,0,0,0,{"$f":"MIN(JQ76,MAX(JQ74,0))","v":0},0,0,0,0,0,0,0,0,0,0,0,0,0,0,0,0,0,0,0,0,0,0,0,0,0,{"$f":"MIN(KQ76,MAX(KQ74,0))","v":0},0,0,0,0,0,0,0,0,0,0,0,0,0,0,0,0,0,0,0,0,0,0,0,0,0,0,0,0,0,{"$f":"MIN(LU76,MAX(LU74,0))","v":0},0,0,0,0,0,0,{"$f":"MIN(MB76,MAX(MB74,0))","v":0},0,0,0,0,0,0,0,0,0,0,0,0,0,0,0,0,0,0,{"$f":"MIN(MU76,MAX(MU74,0))","v":0},0,0,0,0,0,0,{"$f":"MIN(NB76,MAX(NB74,0))","v":0},0,0,0,0,0,0,0,0,0,0,0,0,0,0,{"$f":"MIN(NQ76,MAX(NQ74,0))","v":0},0,0,0,0,0,0,0,0,0,0,0,0,0,0,0,0,0,0,0,0,0,0,0,0,0,0,0,0,0,0,0,0,0,0,0,0,0,0,0,0,0,0,0,0,0,0,0,0,0,0,0,0,0,0,0,0,0,0,0,0,0,0,0,{"$f":"MIN(QC76,MAX(QC74,0))","v":0},0,0,0,0,0,0,0,0,0,0,0,0,0,0,0,0,0,0,0,0,0,0,0,0,0,0,0,0,0,0,0,0,0,0,0,0,0,0,0,0,0,0,0,0,0,0,0,0,0,0,0,0]
[null,null,null,"Closing Balance",null,null,null,null,"Lakhs",null,{"$f":"K76+K77-K78","v":0},{"$f":"L76+L77-L78","v":0},0,0,0,0,0,0,0,0,0,0,0,0,0,0,0,0,0,0,0,0,0,0,0,0,0,0,0,0,0,0,0,0,0,0,0,0,0,0,0,0,0,0,0,0,0,0,0,0,0,0,0,0,0,0,0,0,0,0,0,0,0,0,0,{"$f":"BX76+BX77-BX78","v":0},0,0,0,0,0,0,0,0,0,0,0,0,0,0,0,0,0,0,0,0,0,0,0,0,0,0,0,0,0,0,0,0,0,0,0,0,0,0,0,0,0,0,0,0,0,0,0,0,0,0,0,0,0,0,0,0,0,0,0,0,0,0,0,{"$f":"EJ76+EJ77-EJ78","v":0},0,0,0,0,0,0,0,0,0,0,0,0,0,0,0,0,0,0,0,0,{"$f":"FE76+FE77-FE78","v":0},0,0,0,0,0,0,0,0,0,0,0,0,0,0,0,0,0,0,0,0,0,0,0,0,0,0,0,0,0,0,0,0,0,0,0,0,0,0,0,0,0,0,0,0,0,0,0,0,0,0,0,{"$f":"HE76+HE77-HE78","v":0},0,0,0,0,0,0,0,0,0,0,0,0,0,0,0,0,0,0,0,0,0,0,0,0,0,0,0,0,0,0,0,0,0,0,0,0,0,0,0,0,0,0,0,0,0,0,0,0,0,0,0,0,0,0,0,0,0,0,0,0,0,0,0,{"$f":"JQ76+JQ77-JQ78","v":0},0,0,0,0,0,0,0,0,0,0,0,0,0,0,0,0,0,0,0,0,0,0,0,0,0,{"$f":"KQ76+KQ77-KQ78","v":0},0,0,0,0,0,0,0,0,0,0,0,0,0,0,0,0,0,0,0,0,0,0,0,0,0,0,0,0,0,{"$f":"LU76+LU77-LU78","v":0},0,0,0,0,0,0,{"$f":"MB76+MB77-MB78","v":0},0,0,0,0,0,0,0,0,0,0,0,0,0,0,0,0,0,0,{"$f":"MU76+MU77-MU78","v":0},0,0,0,0,0,0,{"$f":"NB76+NB77-NB78","v":0},0,0,0,0,0,0,0,0,0,0,0,0,0,0,{"$f":"NQ76+NQ77-NQ78","v":0},0,0,0,0,0,0,0,0,0,0,0,0,0,0,0,0,0,0,0,0,0,0,0,0,0,0,0,0,0,0,0,0,0,0,0,0,0,0,0,0,0,0,0,0,0,0,0,0,0,0,0,0,0,0,0,0,0,0,0,0,0,0,0,{"$f":"QC76+QC77-QC78","v":0},0,0,0,0,0,0,0,0,0,0,0,0,0,0,0,0,0,0,0,0,0,0,0,0,0,0,0,0,0,0,0,0,0,0,0,0,0,0,0,0,0,0,0,0,0,0,0,0,0,0,0,0]
[]
[null,null,null,"EBIT after NOL",null,null,null,null,"Lakhs",null,{"$f":"K74+K77-K78","v":0},{"$f":"L74+L77-L78","v":956.22932579861163},1042.6940881280998,1132.8848235718328,1226.9611031766731,1325.0892804813293,1427.442777117245,1534.2023802943349,1645.5565526586561,1761.7017550285864,1882.8427825364943,2009.1931147239011,2140.9752801601389,2278.4212361772652,2421.7727643376566,2571.281882275297,2727.211272577325,2889.8347293988782,3059.4376235318814,3236.3173866769575,3420.7840156973771,3613.1605976647907,3813.7838565384964,4023.0047223532074,4241.1889238248596,4468.7176053196836,0,0,0,0,0,0,0,0,0,0,0,0,0,0,0,0,0,0,0,0,0,0,0,0,0,0,0,0,0,0,0,0,0,0,0,0,0,0,0,{"$f":"BX74+BX77-BX78","v":0},0,0,0,0,0,0,0,0,0,0,0,0,0,0,0,0,0,0,0,0,0,0,0,0,0,0,0,0,0,0,0,0,0,0,0,0,0,0,0,0,0,0,0,0,0,0,0,0,0,0,0,0,0,0,0,0,0,0,0,0,0,0,0,{"$f":"EJ74+EJ77-EJ78","v":0},0,0,0,0,0,0,0,0,0,0,0,0,0,0,0,0,0,0,0,0,{"$f":"FE74+FE77-FE78","v":0},0,0,0,0,0,0,0,0,0,0,0,0,0,0,0,0,0,0,0,0,0,0,0,0,0,0,0,0,0,0,0,0,0,0,0,0,0,0,0,0,0,0,0,0,0,0,0,0,0,0,0,{"$f":"HE74+HE77-HE78","v":0},0,0,0,0,0,0,0,0,0,0,0,0,0,0,0,0,0,0,0,0,0,0,0,0,0,0,0,0,0,0,0,0,0,0,0,0,0,0,0,0,0,0,0,0,0,0,0,0,0,0,0,0,0,0,0,0,0,0,0,0,0,0,0,{"$f":"JQ74+JQ77-JQ78","v":0},0,0,0,0,0,0,0,0,0,0,0,0,0,0,0,0,0,0,0,0,0,0,0,0,0,{"$f":"KQ74+KQ77-KQ78","v":0},0,0,0,0,0,0,0,0,0,0,0,0,0,0,0,0,0,0,0,0,0,0,0,0,0,0,0,0,0,{"$f":"LU74+LU77-LU78","v":0},0,0,0,0,0,0,{"$f":"MB74+MB77-MB78","v":0},0,0,0,0,0,0,0,0,0,0,0,0,0,0,0,0,0,0,{"$f":"MU74+MU77-MU78","v":0},0,0,0,0,0,0,{"$f":"NB74+NB77-NB78","v":0},0,0,0,0,0,0,0,0,0,0,0,0,0,0,{"$f":"NQ74+NQ77-NQ78","v":0},0,0,0,0,0,0,0,0,0,0,0,0,0,0,0,0,0,0,0,0,0,0,0,0,0,0,0,0,0,0,0,0,0,0,0,0,0,0,0,0,0,0,0,0,0,0,0,0,0,0,0,0,0,0,0,0,0,0,0,0,0,0,0,{"$f":"QC74+QC77-QC78","v":0},0,0,0,0,0,0,0,0,0,0,0,0,0,0,0,0,0,0,0,0,0,0,0,0,0,0,0,0,0,0,0,0,0,0,0,0,0,0,0,0,0,0,0,0,0,0,0,0,0,0,0,0]
[null,null,null,"Taxes Paid","%",{"$f":"'Input C'!F58","v":0.25},null,{"$f":"SUM(K82:XFD82)","v":15212.672470012394},"Lakhs",null,{"$f":"K81*$F$82","v":0},{"$f":"L81*$F$82","v":239.05733144965291},260.67352203202495,283.22120589295821,306.74027579416827,331.27232012033232,356.86069427931125,383.55059507358374,411.38913816466402,440.42543875714659,470.71069563412357,502.29827868097527,535.24382004003473,569.6053090443163,605.44319108441414,642.82047056882425,681.80281814433124,722.45868234971954,764.85940588297035,809.07934666923938,855.19600392434427,903.29014941619766,953.44596413462409,1005.7511805883018,1060.2972309562149,1117.1794013299209,0,0,0,0,0,0,0,0,0,0,0,0,0,0,0,0,0,0,0,0,0,0,0,0,0,0,0,0,0,0,0,0,0,0,0,0,0,0,0,{"$f":"BX81*$F$82","v":0},0,0,0,0,0,0,0,0,0,0,0,0,0,0,0,0,0,0,0,0,0,0,0,0,0,0,0,0,0,0,0,0,0,0,0,0,0,0,0,0,0,0,0,0,0,0,0,0,0,0,0,0,0,0,0,0,0,0,0,0,0,0,0,{"$f":"EJ81*$F$82","v":0},0,0,0,0,0,0,0,0,0,0,0,0,0,0,0,0,0,0,0,0,{"$f":"FE81*$F$82","v":0},0,0,0,0,0,0,0,0,0,0,0,0,0,0,0,0,0,0,0,0,0,0,0,0,0,0,0,0,0,0,0,0,0,0,0,0,0,0,0,0,0,0,0,0,0,0,0,0,0,0,0,{"$f":"HE81*$F$82","v":0},0,0,0,0,0,0,0,0,0,0,0,0,0,0,0,0,0,0,0,0,0,0,0,0,0,0,0,0,0,0,0,0,0,0,0,0,0,0,0,0,0,0,0,0,0,0,0,0,0,0,0,0,0,0,0,0,0,0,0,0,0,0,0,{"$f":"JQ81*$F$82","v":0},0,0,0,0,0,0,0,0,0,0,0,0,0,0,0,0,0,0,0,0,0,0,0,0,0,{"$f":"KQ81*$F$82","v":0},0,0,0,0,0,0,0,0,0,0,0,0,0,0,0,0,0,0,0,0,0,0,0,0,0,0,0,0,0,{"$f":"LU81*$F$82","v":0},0,0,0,0,0,0,{"$f":"MB81*$F$82","v":0},0,0,0,0,0,0,0,0,0,0,0,0,0,0,0,0,0,0,{"$f":"MU81*$F$82","v":0},0,0,0,0,0,0,{"$f":"NB81*$F$82","v":0},0,0,0,0,0,0,0,0,0,0,0,0,0,0,{"$f":"NQ81*$F$82","v":0},0,0,0,0,0,0,0,0,0,0,0,0,0,0,0,0,0,0,0,0,0,0,0,0,0,0,0,0,0,0,0,0,0,0,0,0,0,0,0,0,0,0,0,0,0,0,0,0,0,0,0,0,0,0,0,0,0,0,0,0,0,0,0,{"$f":"QC81*$F$82","v":0},0,0,0,0,0,0,0,0,0,0,0,0,0,0,0,0,0,0,0,0,0,0,0,0,0,0,0,0,0,0,0,0,0,0,0,0,0,0,0,0,0,0,0,0,0,0,0,0,0,0,0,0]
[]
[null,null,null,"Free Cash Flow Before Tax",null,null,null,null,"Lakhs",null,{"$f":"K54","v":-26000},1996.2293257986116,2082.6940881280998,2172.8848235718328,2266.9611031766731,2365.0892804813293,2467.442777117245,2574.2023802943349,2685.5565526586561,2801.7017550285864,2922.8427825364943,3049.1931147239011,3180.9752801601389,3318.4212361772652,3461.7727643376566,3611.281882275297,3767.211272577325,3929.8347293988782,4099.4376235318814,4276.3173866769575,4460.7840156973771,4653.1605976647907,4853.7838565384964,5063.0047223532074,5281.1889238248596,5508.7176053196836,0,0,0,0,0,0,0,0,0,0,0,0,0,0,0,0,0,0,0,0,0,0,0,0,0,0,0,0,0,0,0,0,0,0,0,0,0,0,{"$f":"BW54","v":0},0,0,0,0,0,0,0,0,0,0,0,0,0,0,0,0,0,0,0,0,0,0,0,0,0,0,0,0,0,0,0,0,0,0,0,0,0,0,0,0,0,0,0,0,0,0,0,0,0,0,0,0,0,0,0,0,0,0,0,0,0,0,0,{"$f":"EI54","v":0},0,0,0,0,0,0,0,0,0,0,0,0,0,0,0,0,0,0,0,0,0,0,0,0,0,0,0,0,0,0,0,0,0,0,0,0,0,0,0,0,0,0,0,0,0,0,0,0,0,0,0,0,0,0,0,0,0,0,0,0,0,0,0,{"$f":"GU54","v":0},0,0,0,0,0,0,0,0,0,0,0,0,0,0,0,0,0,0,0,0,0,0,0,0,0,0,0,0,0,0,0,0,0,0,0,0,0,0,0,0,0,0,0,0,0,0,0,0,0,0,0,0,0,0,0,0,0,0,0,0,0,0,0,{"$f":"JG54","v":0},0,0,0,0,0,0,0,0,0,0,0,0,0,0,0,0,0,0,0,0,0,0,0,0,0,0,0,0,0,0,0,0,0,0,0,0,0,0,0,0,0,0,0,0,0,0,0,0,0,0,0,0,0,0,0,0,0,0,0,0,0,0,0,{"$f":"LS54","v":0},0,0,0,0,0,0,0,0,0,0,0,0,0,0,0,0,0,0,0,0,0,0,0,0,0,0,0,0,0,0,0,0,0,0,0,0,0,0,0,0,0,0,0,0,0,0,0,0,0,0,0,0,0,0,0,0,0,0,0,0,0,0,0,{"$f":"OE54","v":0},0,0,0,0,0,0,0,0,0,0,0,0,0,0,0,0,0,0,0,0,0,0,0,0,0,0,0,0,0,0,0,0,0,0,0,0,0,0,0,0,0,0,0,0,0,0,0,0,0,0,0,0,0,0,0,0,0,0,0,0,0,0,0,{"$f":"QQ54","v":0},0,0,0,0,0,0,0,0,0,0,0,0,0,0,0,0,0,0,0,0,0,0,0,0,0,0,0,0,0,0,0,0,0,0,0,0,0,0]
[null,null,null,"Taxes Paid (No Debt)",null,null,null,null,"Lakhs",null,{"$f":"K82","v":0},{"$f":"L82","v":239.05733144965291},260.67352203202495,283.22120589295821,306.74027579416827,331.27232012033232,356.86069427931125,383.55059507358374,411.38913816466402,440.42543875714659,470.71069563412357,502.29827868097527,535.24382004003473,569.6053090443163,605.44319108441414,642.82047056882425,681.80281814433124,722.45868234971954,764.85940588297035,809.07934666923938,855.19600392434427,903.29014941619766,953.44596413462409,1005.7511805883018,1060.2972309562149,1117.1794013299209,0,0,0,0,0,0,0,0,0,0,0,0,0,0,0,0,0,0,0,0,0,0,0,0,0,0,0,0,0,0,0,0,0,0,0,0,0,0,0,{"$f":"BX82","v":0},0,0,0,0,0,0,0,0,0,0,0,0,0,0,0,0,0,0,0,0,0,0,0,0,0,0,0,0,0,0,0,0,0,0,0,0,0,0,0,0,0,0,0,0,0,0,0,0,0,0,0,0,0,0,0,0,0,0,0,0,0,0,0,{"$f":"EJ82","v":0},0,0,0,0,0,0,0,0,0,0,0,0,0,0,0,0,0,0,0,0,{"$f":"FE82","v":0},0,0,0,0,0,0,0,0,0,0,0,0,0,0,0,0,0,0,0,0,0,0,0,0,0,0,0,0,0,0,0,0,0,0,0,0,0,0,0,0,0,0,0,0,0,0,0,0,0,0,0,{"$f":"HE82","v":0},0,0,0,0,0,0,0,0,0,0,0,0,0,0,0,0,0,0,0,0,0,0,0,0,0,0,0,0,0,0,0,0,0,0,0,0,0,0,0,0,0,0,0,0,0,0,0,0,0,0,0,0,0,0,0,0,0,0,0,0,0,0,0,{"$f":"JQ82","v":0},0,0,0,0,0,0,0,0,0,0,0,0,0,0,0,0,0,0,0,0,0,0,0,0,0,{"$f":"KQ82","v":0},0,0,0,0,0,0,0,0,0,0,0,0,0,0,0,0,0,0,0,0,0,0,0,0,0,0,0,0,0,{"$f":"LU82","v":0},0,0,0,0,0,0,{"$f":"MB82","v":0},0,0,0,0,0,0,0,0,0,0,0,0,0,0,0,0,0,0,{"$f":"MU82","v":0},0,0,0,0,0,0,{"$f":"NB82","v":0},0,0,0,0,0,0,0,0,0,0,0,0,0,0,{"$f":"NQ82","v":0},0,0,0,0,0,0,0,0,0,0,0,0,0,0,0,0,0,0,0,0,0,0,0,0,0,0,0,0,0,0,0,0,0,0,0,0,0,0,0,0,0,0,0,0,0,0,0,0,0,0,0,0,0,0,0,0,0,0,0,0,0,0,0,{"$f":"QC82","v":0},0,0,0,0,0,0,0,0,0,0,0,0,0,0,0,0,0,0,0,0,0,0,0,0,0,0,0,0,0,0,0,0,0,0,0,0,0,0,0,0,0,0,0,0,0,0,0,0,0,0,0,0]
[null,null,null,"After Tax Free Cash Flow",null,null,null,{"$f":"SUM(K86:XFD86)","v":45638.017410037181},null,null,{"$f":"K84-K85","v":-26000},{"$f":"L84-L85","v":1757.1719943489588},1822.0205660960748,1889.6636176788747,1960.2208273825049,2033.816960360997,2110.5820828379337,2190.6517852207512,2274.1674144939921,2361.27631627144,2452.1320869023707,2546.8948360429258,2645.7314601201042,2748.8159271329487,2856.3295732532424,2968.461411706473,3085.4084544329935,3207.3760470491588,3334.578217648911,3467.2380400077182,3605.588011773033,3749.8704482485928,3900.3378924038725,4057.2535417649055,4220.8916928686449,4391.5382039897631,0,0,0,0,0,0,0,0,0,0,0,0,0,0,0,0,0,0,0,0,0,0,0,0,0,0,0,0,0,0,0,0,0,0,0,0,0,0,0,{"$f":"BX84-BX85","v":0},0,0,0,0,0,0,0,0,0,0,0,0,0,0,0,0,0,0,0,0,0,0,0,0,0,0,0,0,0,0,0,0,0,0,0,0,0,0,0,0,0,0,0,0,0,0,0,0,0,0,0,0,0,0,0,0,0,0,0,0,0,0,0,{"$f":"EJ84-EJ85","v":0},0,0,0,0,0,0,0,0,0,0,0,0,0,0,0,0,0,0,0,0,{"$f":"FE84-FE85","v":0},0,0,0,0,0,0,0,0,0,0,0,0,0,0,0,0,0,0,0,0,0,0,0,0,0,0,0,0,0,0,0,0,0,0,0,0,0,0,0,0,0,0,0,0,0,0,0,0,0,0,0,{"$f":"HE84-HE85","v":0},0,0,0,0,0,0,0,0,0,0,0,0,0,0,0,0,0,0,0,0,0,0,0,0,0,0,0,0,0,0,0,0,0,0,0,0,0,0,0,0,0,0,0,0,0,0,0,0,0,0,0,0,0,0,0,0,0,0,0,0,0,0,0,{"$f":"JQ84-JQ85","v":0},0,0,0,0,0,0,0,0,0,0,0,0,0,0,0,0,0,0,0,0,0,0,0,0,0,{"$f":"KQ84-KQ85","v":0},0,0,0,0,0,0,0,0,0,0,0,0,0,0,0,0,0,0,0,0,0,0,0,0,0,0,0,0,0,{"$f":"LU84-LU85","v":0},0,0,0,0,0,0,{"$f":"MB84-MB85","v":0},0,0,0,0,0,0,0,0,0,0,0,0,0,0,0,0,0,0,{"$f":"MU84-MU85","v":0},0,0,0,0,0,0,{"$f":"NB84-NB85","v":0},0,0,0,0,0,0,0,0,0,0,0,0,0,0,{"$f":"NQ84-NQ85","v":0},0,0,0,0,0,0,0,0,0,0,0,0,0,0,0,0,0,0,0,0,0,0,0,0,0,0,0,0,0,0,0,0,0,0,0,0,0,0,0,0,0,0,0,0,0,0,0,0,0,0,0,0,0,0,0,0,0,0,0,0,0,0,0,{"$f":"QC84-QC85","v":0},0,0,0,0,0,0,0,0,0,0,0,0,0,0,0,0,0,0,0,0,0,0,0,0,0,0,0,0,0,0,0,0,0,0,0,0,0,0,0,0,0,0,0,0,0,0,0,0,0,0,0,0]
[]
[null,null,null,"After-tax Project IRR",null,{"$f":"XIRR(K86:FD86,K9:FD9)","v":8.1327882409095761E-2}]
[]
[null,"Debt Sizing"]
[]
[null,null,"Operating Year",null,null,null,null,null,"Year",null,{"$f":"K69","v":0},{"$f":"L69","v":1},2,3,4,5,6,7,8,9,10,11,12,13,14,15,16,17,18,19,20,21,22,23,24,25,25,25,25,25,25,25,25,25,25,25,25,25,25,25,25,25,25,25,25,25,25,25,25,25,25,25,25,25,25,25,25,25,25,25,25,25,25,25,25,{"$f":"BX69","v":25},25,25,25,25,25,25,25,25,25,25,25,25,25,25,25,25,25,25,25,25,25,25,25,25,25,25,25,25,25,25,25,25,25,25,25,25,25,25,25,25,25,25,25,25,25,25,25,25,25,25,25,25,25,25,25,25,25,25,25,25,25,25,25,{"$f":"EJ69","v":25},25,25,25,25,25,25,25,25,25,25,25,25,25,25,25,25,25,25,25,25,{"$f":"FE69","v":25},25,25,25,25,25,25,25,25,25,25,25,25,25,25,25,25,25,25,25,25,25,25,25,25,25,25,25,25,25,25,25,25,25,25,25,25,25,25,25,25,25,25,25,25,25,25,25,25,25,25,25,{"$f":"HE69","v":25},25,25,25,25,25,25,25,25,25,25,25,25,25,25,25,25,25,25,25,25,25,25,25,25,25,25,25,25,25,25,25,25,25,25,25,25,25,25,25,25,25,25,25,25,25,25,25,25,25,25,25,25,25,25,25,25,25,25,25,25,25,25,25,{"$f":"JQ69","v":25},25,25,25,25,25,25,25,25,25,25,25,25,25,25,25,25,25,25,25,25,25,25,25,25,25,{"$f":"KQ69","v":25},25,25,25,25,25,25,25,25,25,25,25,25,25,25,25,25,25,25,25,25,25,25,25,25,25,25,25,25,25,{"$f":"LU69","v":25},25,25,25,25,25,25,{"$f":"MB69","v":25},25,25,25,25,25,25,25,25,25,25,25,25,25,25,25,25,25,25,{"$f":"MU69","v":25},25,25,25,25,25,25,{"$f":"NB69","v":25},25,25,25,25,25,25,25,25,25,25,25,25,25,25,{"$f":"NQ69","v":25},25,25,25,25,25,25,25,25,25,25,25,25,25,25,25,25,25,25,25,25,25,25,25,25,25,25,25,25,25,25,25,25,25,25,25,25,25,25,25,25,25,25,25,25,25,25,25,25,25,25,25,25,25,25,25,25,25,25,25,25,25,25,25,{"$f":"QC69","v":25},25,25,25,25,25,25,25,25,25,25,25,25,25,25,25,25,25,25,25,25,25,25,25,25,25,25,25,25,25,25,25,25,25,25,25,25,25,25,25,25,25,25,25,25,25,25,25,25,25,25,25,25]
[null,null,"Flag for Debt Repayment",null,null,{"$f":"'Input C'!F68","v":20},null,null,"Flag",null,{"$f":"AND(K92,K92<=$F$93)","v":false},{"$f":"AND(L92,L92<=$F$93)","v":true},true,true,true,true,true,true,true,true,true,true,true,true,true,true,true,true,true,true,true,false,false,false,false,false,false,false,false,false,false,false,false,false,false,false,false,false,false,false,false,false,false,false,false,false,false,false,false,false,false,false,false,false,false,false,false,false,false,false,false,false,false,false,false,{"$f":"AND(BX92,BX92<=$F$93)","v":false},false,false,false,false,false,false,false,false,false,false,false,false,false,false,false,false,false,false,false,false,false,false,false,false,false,false,false,false,false,false,false,false,false,false,false,false,false,false,false,false,false,false,false,false,false,false,false,false,false,false,false,false,false,false,false,false,false,false,false,false,false,false,false,{"$f":"AND(EJ92,EJ92<=$F$93)","v":false},false,false,false,false,false,false,false,false,false,false,false,false,false,false,false,false,false,false,false,false,{"$f":"AND(FE92,FE92<=$F$93)","v":false},false,false,false,false,false,false,false,false,false,false,false,false,false,false,false,false,false,false,false,false,false,false,false,false,false,false,false,false,false,false,false,false,false,false,false,false,false,false,false,false,false,false,false,false,false,false,false,false,false,false,false,{"$f":"AND(HE92,HE92<=$F$93)","v":false},false,false,false,false,false,false,false,false,false,false,false,false,false,false,false,false,false,false,false,false,false,false,false,false,false,false,false,false,false,false,false,false,false,false,false,false,false,false,false,false,false,false,false,false,false,false,false,false,false,false,false,false,false,false,false,false,false,false,false,false,false,false,false,{"$f":"AND(JQ92,JQ92<=$F$93)","v":false},false,false,false,false,false,false,false,false,false,false,false,false,false,false,false,false,false,false,false,false,false,false,false,false,false,{"$f":"AND(KQ92,KQ92<=$F$93)","v":false},false,false,false,false,false,false,false,false,false,false,false,false,false,false,false,false,false,false,false,false,false,false,false,false,false,false,false,false,false,{"$f":"AND(LU92,LU92<=$F$93)","v":false},false,false,false,false,false,false,{"$f":"AND(MB92,MB92<=$F$93)","v":false},false,false,false,false,false,false,false,false,false,false,false,false,false,false,false,false,false,false,{"$f":"AND(MU92,MU92<=$F$93)","v":false},false,false,false,false,false,false,{"$f":"AND(NB92,NB92<=$F$93)","v":false},false,false,false,false,false,false,false,false,false,false,false,false,false,false,{"$f":"AND(NQ92,NQ92<=$F$93)","v":false},false,false,false,false,false,false,false,false,false,false,false,false,false,false,false,false,false,false,false,false,false,false,false,false,false,false,false,false,false,false,false,false,false,false,false,false,false,false,false,false,false,false,false,false,false,false,false,false,false,false,false,false,false,false,false,false,false,false,false,false,false,false,false,{"$f":"AND(QC92,QC92<=$F$93)","v":false},false,false,false,false,false,false,false,false,false,false,false,false,false,false,false,false,false,false,false,false,false,false,false,false,false,false,false,false,false,false,false,false,false,false,false,false,false,false,false,false,false,false,false,false,false,false,false,false,false,false,false,false]
[]
[null,null,"P90 Calculation CFADS"]
[null,null,null,"Capacity",null,null,null,null,"MW",null,{"$f":"K14","v":0},130,130,130,130,130,130,130,130,130,130,130,130,130,130,130,130,130,130,130,130,130,130,130,130,130,0,0,0,0,0,0,0,0,0,0,0,0,0,0,0,0,0,0,0,0,0,0,0,0,0,0,0,0,0,0,0,0,0,0,0,0,0,0,{"$f":"BW14","v":0},0,0,0,0,0,0,0,0,0,0,0,0,0,0,0,0,0,0,0,0,0,0,0,0,0,0,0,0,0,0,0,0,0,0,0,0,0,0,0,0,0,0,0,0,0,0,0,0,0,0,0,0,0,0,0,0,0,0,0,0,0,0,0,{"$f":"EI14","v":0},0,0,0,0,0,0,0,0,0,0,0,0,0,0,0,0,0,0,0,0,0,0,0,0,0,0,0,0,0,0,0,0,0,0,0,0,0,0,0,0,0,0,0,0,0,0,0,0,0,0,0,0,0,0,0,0,0,0,0,0,0,0,0,{"$f":"GU14","v":0},0,0,0,0,0,0,0,0,0,0,0,0,0,0,0,0,0,0,0,0,0,0,0,0,0,0,0,0,0,0,0,0,0,0,0,0,0,0,0,0,0,0,0,0,0,0,0,0,0,0,0,0,0,0,0,0,0,0,0,0,0,0,0,{"$f":"JG14","v":0},0,0,0,0,0,0,0,0,0,0,0,0,0,0,0,0,0,0,0,0,0,0,0,0,0,0,0,0,0,0,0,0,0,0,0,0,0,0,0,0,0,0,0,0,0,0,0,0,0,0,0,0,0,0,0,0,0,0,0,0,0,0,0,{"$f":"LS14","v":0},0,0,0,0,0,0,0,0,0,0,0,0,0,0,0,0,0,0,0,0,0,0,0,0,0,0,0,0,0,0,0,0,0,0,0,0,0,0,0,0,0,0,0,0,0,0,0,0,0,0,0,0,0,0,0,0,0,0,0,0,0,0,0,{"$f":"OE14","v":0},0,0,0,0,0,0,0,0,0,0,0,0,0,0,0,0,0,0,0,0,0,0,0,0,0,0,0,0,0,0,0,0,0,0,0,0,0,0,0,0,0,0,0,0,0,0,0,0,0,0,0,0,0,0,0,0,0,0,0,0,0,0,0,{"$f":"QQ14","v":0},0,0,0,0,0,0,0,0,0,0,0,0,0,0,0,0,0,0,0,0,0,0,0,0,0,0,0,0,0,0,0,0,0,0,0,0,0,0]
[null,null,null,"Standard Deviation","%",{"$f":"'Input C'!F65","v":0.08},{"$f":"'Input C'!F66","v":0.1},null,"%",null,{"$f":"_xlfn.NORM.INV($G$97,1,$F$97)","v":0.89747587475643198},{"$f":"_xlfn.NORM.INV($G$97,1,$F$97)","v":0.89747587475643198},0.89747587475643198,0.89747587475643198,0.89747587475643198,0.89747587475643198,0.89747587475643198,0.89747587475643198,0.89747587475643198,0.89747587475643198,0.89747587475643198,0.89747587475643198,0.89747587475643198,0.89747587475643198,0.89747587475643198,0.89747587475643198,0.89747587475643198,0.89747587475643198,0.89747587475643198,0.89747587475643198,0.89747587475643198,0.89747587475643198,0.89747587475643198,0.89747587475643198,0.89747587475643198,0.89747587475643198,0.89747587475643198,0.89747587475643198,0.89747587475643198,0.89747587475643198,0.89747587475643198,0.89747587475643198,{"$f":"_xlfn.NORM.INV($G$97,1,$F$97)","v":0.89747587475643198},0.89747587475643198,0.89747587475643198,0.89747587475643198,0.89747587475643198,0.89747587475643198,0.89747587475643198,0.89747587475643198,0.89747587475643198,0.89747587475643198,0.89747587475643198,0.89747587475643198,0.89747587475643198,0.89747587475643198,0.89747587475643198,0.89747587475643198,0.89747587475643198,0.89747587475643198,0.89747587475643198,0.89747587475643198,0.89747587475643198,0.89747587475643198,0.89747587475643198,0.89747587475643198,0.89747587475643198,0.89747587475643198,0.89747587475643198,0.89747587475643198,0.89747587475643198,0.89747587475643198,0.89747587475643198,0.89747587475643198,{"$f":"_xlfn.NORM.INV($G$97,1,$F$97)","v":0.89747587475643198},0.89747587475643198,0.89747587475643198,0.89747587475643198,0.89747587475643198,0.89747587475643198,0.89747587475643198,0.89747587475643198,0.89747587475643198,0.89747587475643198,0.89747587475643198,0.89747587475643198,0.89747587475643198,0.89747587475643198,0.89747587475643198,0.89747587475643198,0.89747587475643198,0.89747587475643198,0.89747587475643198,0.89747587475643198,0.89747587475643198,0.89747587475643198,0.89747587475643198,0.89747587475643198,0.89747587475643198,0.89747587475643198,0.89747587475643198,0.89747587475643198,0.89747587475643198,0.89747587475643198,0.89747587475643198,0.89747587475643198,{"$f":"_xlfn.NORM.INV($G$97,1,$F$97)","v":0.89747587475643198},0.89747587475643198,0.89747587475643198,0.89747587475643198,0.89747587475643198,0.89747587475643198,0.89747587475643198,0.89747587475643198,0.89747587475643198,0.89747587475643198,0.89747587475643198,0.89747587475643198,0.89747587475643198,0.89747587475643198,0.89747587475643198,0.89747587475643198,0.89747587475643198,0.89747587475643198,0.89747587475643198,0.89747587475643198,0.89747587475643198,0.89747587475643198,0.89747587475643198,0.89747587475643198,0.89747587475643198,0.89747587475643198,0.89747587475643198,0.89747587475643198,0.89747587475643198,0.89747587475643198,0.89747587475643198,0.89747587475643198,{"$f":"_xlfn.NORM.INV($G$97,1,$F$97)","v":0.89747587475643198},0.89747587475643198,0.89747587475643198,0.89747587475643198,0.89747587475643198,0.89747587475643198,0.89747587475643198,0.89747587475643198,0.89747587475643198,0.89747587475643198,0.89747587475643198,0.89747587475643198,0.89747587475643198,0.89747587475643198,0.89747587475643198,0.89747587475643198,0.89747587475643198,0.89747587475643198,0.89747587475643198,0.89747587475643198,0.89747587475643198,0.89747587475643198,{"$f":"_xlfn.NORM.INV($G$97,1,$F$97)","v":0.89747587475643198},0.89747587475643198,0.89747587475643198,0.89747587475643198,0.89747587475643198,0.89747587475643198,0.89747587475643198,0.89747587475643198,0.89747587475643198,0.89747587475643198,0.89747587475643198,0.89747587475643198,0.89747587475643198,0.89747587475643198,0.89747587475643198,0.89747587475643198,0.89747587475643198,0.89747587475643198,0.89747587475643198,0.89747587475643198,0.89747587475643198,0.89747587475643198,0.89747587475643198,0.89747587475643198,0.89747587475643198,0.89747587475643198,0.89747587475643198,0.89747587475643198,0.89747587475643198,0.89747587475643198,0.89747587475643198,0.89747587475643198,0.89747587475643198,0.89747587475643198,0.89747587475643198,0.89747587475643198,0.89747587475643198,0.89747587475643198,0.89747587475643198,0.89747587475643198,0.89747587475643198,0.89747587475643198,0.89747587475643198,0.89747587475643198,0.89747587475643198,0.89747587475643198,0.89747587475643198,0.89747587475643198,0.89747587475643198,0.89747587475643198,0.89747587475643198,0.89747587475643198,0.89747587475643198,0.89747587475643198,0.89747587475643198,0.89747587475643198,0.89747587475643198,0.89747587475643198,0.89747587475643198,0.89747587475643198,0.89747587475643198,0.89747587475643198,0.89747587475643198,0.89747587475643198,{"$f":"_xlfn.NORM.INV($G$97,1,$F$97)","v":0.89747587475643198},0.89747587475643198,0.89747587475643198,0.89747587475643198,0.89747587475643198,0.89747587475643198,0.89747587475643198,0.89747587475643198,0.89747587475643198,0.89747587475643198,0.89747587475643198,0.89747587475643198,0.89747587475643198,0.89747587475643198,0.89747587475643198,0.89747587475643198,0.89747587475643198,0.89747587475643198,0.89747587475643198,0.89747587475643198,0.89747587475643198,0.89747587475643198,0.89747587475643198,0.89747587475643198,0.89747587475643198,0.89747587475643198,0.89747587475643198,0.89747587475643198,0.89747587475643198,0.89747587475643198,0.89747587475643198,0.89747587475643198,0.89747587475643198,0.89747587475643198,0.89747587475643198,0.89747587475643198,0.89747587475643198,0.89747587475643198,0.89747587475643198,0.89747587475643198,0.89747587475643198,0.89747587475643198,0.89747587475643198,0.89747587475643198,0.89747587475643198,0.89747587475643198,0.89747587475643198,0.89747587475643198,0.89747587475643198,0.89747587475643198,0.89747587475643198,0.89747587475643198,0.89747587475643198,0.89747587475643198,0.89747587475643198,0.89747587475643198,0.89747587475643198,0.89747587475643198,0.89747587475643198,0.89747587475643198,0.89747587475643198,0.89747587475643198,0.89747587475643198,0.89747587475643198,{"$f":"_xlfn.NORM.INV($G$97,1,$F$97)","v":0.89747587475643198},0.89747587475643198,0.89747587475643198,0.89747587475643198,0.89747587475643198,0.89747587475643198,0.89747587475643198,0.89747587475643198,0.89747587475643198,0.89747587475643198,0.89747587475643198,0.89747587475643198,0.89747587475643198,0.89747587475643198,0.89747587475643198,0.89747587475643198,0.89747587475643198,0.89747587475643198,0.89747587475643198,0.89747587475643198,0.89747587475643198,0.89747587475643198,0.89747587475643198,0.89747587475643198,0.89747587475643198,0.89747587475643198,0.89747587475643198,0.89747587475643198,0.89747587475643198,0.89747587475643198,0.89747587475643198,0.89747587475643198,0.89747587475643198,0.89747587475643198,0.89747587475643198,0.89747587475643198,0.89747587475643198,0.89747587475643198,0.89747587475643198,0.89747587475643198,0.89747587475643198,0.89747587475643198,0.89747587475643198,0.89747587475643198,0.89747587475643198,0.89747587475643198,0.89747587475643198,0.89747587475643198,0.89747587475643198,0.89747587475643198,0.89747587475643198,0.89747587475643198,0.89747587475643198,0.89747587475643198,0.89747587475643198,0.89747587475643198,0.89747587475643198,0.89747587475643198,0.89747587475643198,0.89747587475643198,0.89747587475643198,0.89747587475643198,0.89747587475643198,0.89747587475643198,{"$f":"_xlfn.NORM.INV($G$97,1,$F$97)","v":0.89747587475643198},0.89747587475643198,0.89747587475643198,0.89747587475643198,0.89747587475643198,0.89747587475643198,0.89747587475643198,0.89747587475643198,0.89747587475643198,0.89747587475643198,0.89747587475643198,0.89747587475643198,0.89747587475643198,0.89747587475643198,0.89747587475643198,0.89747587475643198,0.89747587475643198,0.89747587475643198,0.89747587475643198,0.89747587475643198,0.89747587475643198,0.89747587475643198,0.89747587475643198,0.89747587475643198,0.89747587475643198,0.89747587475643198,0.89747587475643198,0.89747587475643198,0.89747587475643198,0.89747587475643198,0.89747587475643198,0.89747587475643198,0.89747587475643198,0.89747587475643198,0.89747587475643198,0.89747587475643198,0.89747587475643198,0.89747587475643198,0.89747587475643198,0.89747587475643198,0.89747587475643198,0.89747587475643198,0.89747587475643198,0.89747587475643198,0.89747587475643198,0.89747587475643198,0.89747587475643198,0.89747587475643198,0.89747587475643198,0.89747587475643198,0.89747587475643198,0.89747587475643198,0.89747587475643198,0.89747587475643198,0.89747587475643198,0.89747587475643198,0.89747587475643198,0.89747587475643198,0.89747587475643198,0.89747587475643198,0.89747587475643198,0.89747587475643198,0.89747587475643198,0.89747587475643198,{"$f":"_xlfn.NORM.INV($G$97,1,$F$97)","v":0.89747587475643198},0.89747587475643198,0.89747587475643198,0.89747587475643198,0.89747587475643198,0.89747587475643198,0.89747587475643198,0.89747587475643198,0.89747587475643198,0.89747587475643198,0.89747587475643198,0.89747587475643198,0.89747587475643198,0.89747587475643198,0.89747587475643198,0.89747587475643198,0.89747587475643198,0.89747587475643198,0.89747587475643198,0.89747587475643198,0.89747587475643198,0.89747587475643198,0.89747587475643198,0.89747587475643198,0.89747587475643198,0.89747587475643198,0.89747587475643198,0.89747587475643198,0.89747587475643198,0.89747587475643198,0.89747587475643198,0.89747587475643198,0.89747587475643198,0.89747587475643198,0.89747587475643198,0.89747587475643198,0.89747587475643198,0.89747587475643198,0.89747587475643198,0.89747587475643198,0.89747587475643198,0.89747587475643198,0.89747587475643198,0.89747587475643198,0.89747587475643198,0.89747587475643198,0.89747587475643198,0.89747587475643198,0.89747587475643198,0.89747587475643198,0.89747587475643198,0.89747587475643198,0.89747587475643198,0.89747587475643198,0.89747587475643198,0.89747587475643198,0.89747587475643198,0.89747587475643198,0.89747587475643198,0.89747587475643198,0.89747587475643198,0.89747587475643198,0.89747587475643198,0.89747587475643198,{"$f":"_xlfn.NORM.INV($G$97,1,$F$97)","v":0.89747587475643198},0.89747587475643198,0.89747587475643198,0.89747587475643198,0.89747587475643198,0.89747587475643198,0.89747587475643198,0.89747587475643198,0.89747587475643198,0.89747587475643198,0.89747587475643198,0.89747587475643198,0.89747587475643198,0.89747587475643198,0.89747587475643198,0.89747587475643198,0.89747587475643198]
[null,null,null,"P90 Yield","MWh/MWp",{"$f":"F15","v":1871.2},null,null,"MWh/MWp",null,{"$f":"K97*$F$98*K10","v":0},1679.3568568442356,1679.3568568442356,1679.3568568442356,1679.3568568442356,1679.3568568442356,1679.3568568442356,1679.3568568442356,1679.3568568442356,1679.3568568442356,1679.3568568442356,1679.3568568442356,1679.3568568442356,1679.3568568442356,1679.3568568442356,1679.3568568442356,1679.3568568442356,1679.3568568442356,1679.3568568442356,1679.3568568442356,1679.3568568442356,1679.3568568442356,1679.3568568442356,1679.3568568442356,1679.3568568442356,1679.3568568442356,0,0,0,0,0,0,0,0,0,0,0,0,0,0,0,0,0,0,0,0,0,0,0,0,0,0,0,0,0,0,0,0,0,0,0,0,0,0,{"$f":"BW97*$F$98*BW10","v":0},0,0,0,0,0,0,0,0,0,0,0,0,0,0,0,0,0,0,0,0,0,0,0,0,0,0,0,0,0,0,0,0,0,0,0,0,0,0,0,0,0,0,0,0,0,0,0,0,0,0,0,0,0,0,0,0,0,0,0,0,0,0,0,{"$f":"EI97*$F$98*EI10","v":0},0,0,0,0,0,0,0,0,0,0,0,0,0,0,0,0,0,0,0,0,0,0,0,0,0,0,0,0,0,0,0,0,0,0,0,0,0,0,0,0,0,0,0,0,0,0,0,0,0,0,0,0,0,0,0,0,0,0,0,0,0,0,0,{"$f":"GU97*$F$98*GU10","v":0},0,0,0,0,0,0,0,0,0,0,0,0,0,0,0,0,0,0,0,0,0,0,0,0,0,0,0,0,0,0,0,0,0,0,0,0,0,0,0,0,0,0,0,0,0,0,0,0,0,0,0,0,0,0,0,0,0,0,0,0,0,0,0,{"$f":"JG97*$F$98*JG10","v":0},0,0,0,0,0,0,0,0,0,0,0,0,0,0,0,0,0,0,0,0,0,0,0,0,0,0,0,0,0,0,0,0,0,0,0,0,0,0,0,0,0,0,0,0,0,0,0,0,0,0,0,0,0,0,0,0,0,0,0,0,0,0,0,{"$f":"LS97*$F$98*LS10","v":0},0,0,0,0,0,0,0,0,0,0,0,0,0,0,0,0,0,0,0,0,0,0,0,0,0,0,0,0,0,0,0,0,0,0,0,0,0,0,0,0,0,0,0,0,0,0,0,0,0,0,0,0,0,0,0,0,0,0,0,0,0,0,0,{"$f":"OE97*$F$98*OE10","v":0},0,0,0,0,0,0,0,0,0,0,0,0,0,0,0,0,0,0,0,0,0,0,0,0,0,0,0,0,0,0,0,0,0,0,0,0,0,0,0,0,0,0,0,0,0,0,0,0,0,0,0,0,0,0,0,0,0,0,0,0,0,0,0,{"$f":"QQ97*$F$98*QQ10","v":0},0,0,0,0,0,0,0,0,0,0,0,0,0,0,0,0,0,0,0,0,0,0,0,0,0,0,0,0,0,0,0,0,0,0,0,0,0,0]
[null,null,null,"Percent of Year from Seasonal Analysis",null,null,null,null,"%",null,{"$f":"K16","v":1},1,1,1,1,1,1,1,1,1,1,1,1,1,1,1,1,1,1,1,1,1,1,1,1,1,1,1,1,1,1,1,1,1,1,1,1,1,1,1,1,1,1,1,1,1,1,1,1,1,1,1,1,1,1,1,1,1,1,1,1,1,1,1,{"$f":"BW16","v":1},1,1,1,1,1,1,1,1,1,1,1,1,1,1,1,1,1,1,1,1,1,1,1,1,1,1,1,1,1,1,1,1,1,1,1,1,1,1,1,1,1,1,1,1,1,1,1,1,1,1,1,1,1,1,1,1,1,1,1,1,1,1,1,{"$f":"EI16","v":1},1,1,1,1,1,1,1,1,1,1,1,1,1,1,1,1,1,1,1,1,1,1,1,1,1,1,1,1,1,1,1,1,1,1,1,1,1,1,1,1,1,1,1,1,1,1,1,1,1,1,1,1,1,1,1,1,1,1,1,1,1,1,1,{"$f":"GU16","v":1},1,1,1,1,1,1,1,1,1,1,1,1,1,1,1,1,1,1,1,1,1,1,1,1,1,1,1,1,1,1,1,1,1,1,1,1,1,1,1,1,1,1,1,1,1,1,1,1,1,1,1,1,1,1,1,1,1,1,1,1,1,1,1,{"$f":"JG16","v":1},1,1,1,1,1,1,1,1,1,1,1,1,1,1,1,1,1,1,1,1,1,1,1,1,1,1,1,1,1,1,1,1,1,1,1,1,1,1,1,1,1,1,1,1,1,1,1,1,1,1,1,1,1,1,1,1,1,1,1,1,1,1,1,{"$f":"LS16","v":1},1,1,1,1,1,1,1,1,1,1,1,1,1,1,1,1,1,1,1,1,1,1,1,1,1,1,1,1,1,1,1,1,1,1,1,1,1,1,1,1,1,1,1,1,1,1,1,1,1,1,1,1,1,1,1,1,1,1,1,1,1,1,1,{"$f":"OE16","v":1},1,1,1,1,1,1,1,1,1,1,1,1,1,1,1,1,1,1,1,1,1,1,1,1,1,1,1,1,1,1,1,1,1,1,1,1,1,1,1,1,1,1,1,1,1,1,1,1,1,1,1,1,1,1,1,1,1,1,1,1,1,1,1,{"$f":"QQ16","v":1},1,1,1,1,1,1,1,1,1,1,1,1,1,1,1,1,1,1,1,1,1,1,1,1,1,1,1,1,1,1,1,1,1,1,1,1,1,1]
[null,null,null,"P90 Generation Before Degradation",null,null,null,null,"MWh",null,{"$f":"K96*K98*K99","v":0},{"$f":"L96*L98*L99","v":218316.39138975064},218316.39138975064,218316.39138975064,218316.39138975064,218316.39138975064,218316.39138975064,218316.39138975064,218316.39138975064,218316.39138975064,218316.39138975064,218316.39138975064,218316.39138975064,218316.39138975064,218316.39138975064,218316.39138975064,218316.39138975064,218316.39138975064,218316.39138975064,218316.39138975064,218316.39138975064,218316.39138975064,218316.39138975064,218316.39138975064,218316.39138975064,218316.39138975064,0,0,0,0,0,0,0,0,0,0,0,0,0,0,0,0,0,0,0,0,0,0,0,0,0,0,0,0,0,0,0,0,0,0,0,0,0,0,0,{"$f":"BX96*BX98*BX99","v":0},0,0,0,0,0,0,0,0,0,0,0,0,0,0,0,0,0,0,0,0,0,0,0,0,0,0,0,0,0,0,0,0,0,0,0,0,0,0,0,0,0,0,0,0,0,0,0,0,0,0,0,0,0,0,0,0,0,0,0,0,0,0,0,{"$f":"EJ96*EJ98*EJ99","v":0},0,0,0,0,0,0,0,0,0,0,0,0,0,0,0,0,0,0,0,0,{"$f":"FE96*FE98*FE99","v":0},{"$f":"FF96*FF98*FF99","v":0},{"$f":"FG96*FG98*FG99","v":0},{"$f":"FH96*FH98*FH99","v":0},{"$f":"FI96*FI98*FI99","v":0},{"$f":"FJ96*FJ98*FJ99","v":0},{"$f":"FK96*FK98*FK99","v":0},{"$f":"FL96*FL98*FL99","v":0},{"$f":"FM96*FM98*FM99","v":0},{"$f":"FN96*FN98*FN99","v":0},{"$f":"FO96*FO98*FO99","v":0},{"$f":"FP96*FP98*FP99","v":0},{"$f":"FQ96*FQ98*FQ99","v":0},{"$f":"FR96*FR98*FR99","v":0},{"$f":"FS96*FS98*FS99","v":0},{"$f":"FT96*FT98*FT99","v":0},{"$f":"FU96*FU98*FU99","v":0},{"$f":"FV96*FV98*FV99","v":0},{"$f":"FW96*FW98*FW99","v":0},{"$f":"FX96*FX98*FX99","v":0},{"$f":"FY96*FY98*FY99","v":0},{"$f":"FZ96*FZ98*FZ99","v":0},{"$f":"GA96*GA98*GA99","v":0},{"$f":"GB96*GB98*GB99","v":0},{"$f":"GC96*GC98*GC99","v":0},{"$f":"GD96*GD98*GD99","v":0},{"$f":"GE96*GE98*GE99","v":0},{"$f":"GF96*GF98*GF99","v":0},{"$f":"GG96*GG98*GG99","v":0},{"$f":"GH96*GH98*GH99","v":0},{"$f":"GI96*GI98*GI99","v":0},{"$f":"GJ96*GJ98*GJ99","v":0},{"$f":"GK96*GK98*GK99","v":0},{"$f":"GL96*GL98*GL99","v":0},{"$f":"GM96*GM98*GM99","v":0},{"$f":"GN96*GN98*GN99","v":0},{"$f":"GO96*GO98*GO99","v":0},{"$f":"GP96*GP98*GP99","v":0},{"$f":"GQ96*GQ98*GQ99","v":0},{"$f":"GR96*GR98*GR99","v":0},{"$f":"GS96*GS98*GS99","v":0},{"$f":"GT96*GT98*GT99","v":0},{"$f":"GU96*GU98*GU99","v":0},{"$f":"GV96*GV98*GV99","v":0},{"$f":"GW96*GW98*GW99","v":0},{"$f":"GX96*GX98*GX99","v":0},{"$f":"GY96*GY98*GY99","v":0},{"$f":"GZ96*GZ98*GZ99","v":0},{"$f":"HA96*HA98*HA99","v":0},{"$f":"HB96*HB98*HB99","v":0},{"$f":"HC96*HC98*HC99","v":0},{"$f":"HD96*HD98*HD99","v":0},{"$f":"HE96*HE98*HE99","v":0},{"$f":"HF96*HF98*HF99","v":0},{"$f":"HG96*HG98*HG99","v":0},{"$f":"HH96*HH98*HH99","v":0},{"$f":"HI96*HI98*HI99","v":0},{"$f":"HJ96*HJ98*HJ99","v":0},{"$f":"HK96*HK98*HK99","v":0},{"$f":"HL96*HL98*HL99","v":0},{"$f":"HM96*HM98*HM99","v":0},{"$f":"HN96*HN98*HN99","v":0},{"$f":"HO96*HO98*HO99","v":0},{"$f":"HP96*HP98*HP99","v":0},{"$f":"HQ96*HQ98*HQ99","v":0},{"$f":"HR96*HR98*HR99","v":0},{"$f":"HS96*HS98*HS99","v":0},{"$f":"HT96*HT98*HT99","v":0},{"$f":"HU96*HU98*HU99","v":0},{"$f":"HV96*HV98*HV99","v":0},{"$f":"HW96*HW98*HW99","v":0},{"$f":"HX96*HX98*HX99","v":0},{"$f":"HY96*HY98*HY99","v":0},{"$f":"HZ96*HZ98*HZ99","v":0},{"$f":"IA96*IA98*IA99","v":0},{"$f":"IB96*IB98*IB99","v":0},{"$f":"IC96*IC98*IC99","v":0},{"$f":"ID96*ID98*ID99","v":0},{"$f":"IE96*IE98*IE99","v":0},{"$f":"IF96*IF98*IF99","v":0},{"$f":"IG96*IG98*IG99","v":0},{"$f":"IH96*IH98*IH99","v":0},{"$f":"II96*II98*II99","v":0},{"$f":"IJ96*IJ98*IJ99","v":0},{"$f":"IK96*IK98*IK99","v":0},{"$f":"IL96*IL98*IL99","v":0},{"$f":"IM96*IM98*IM99","v":0},{"$f":"IN96*IN98*IN99","v":0},{"$f":"IO96*IO98*IO99","v":0},{"$f":"IP96*IP98*IP99","v":0},{"$f":"IQ96*IQ98*IQ99","v":0},{"$f":"IR96*IR98*IR99","v":0},{"$f":"IS96*IS98*IS99","v":0},{"$f":"IT96*IT98*IT99","v":0},{"$f":"IU96*IU98*IU99","v":0},{"$f":"IV96*IV98*IV99","v":0},{"$f":"IW96*IW98*IW99","v":0},{"$f":"IX96*IX98*IX99","v":0},{"$f":"IY96*IY98*IY99","v":0},{"$f":"IZ96*IZ98*IZ99","v":0},{"$f":"JA96*JA98*JA99","v":0},{"$f":"JB96*JB98*JB99","v":0},{"$f":"JC96*JC98*JC99","v":0},{"$f":"JD96*JD98*JD99","v":0},{"$f":"JE96*JE98*JE99","v":0},{"$f":"JF96*JF98*JF99","v":0},{"$f":"JG96*JG98*JG99","v":0},{"$f":"JH96*JH98*JH99","v":0},{"$f":"JI96*JI98*JI99","v":0},{"$f":"JJ96*JJ98*JJ99","v":0},{"$f":"JK96*JK98*JK99","v":0},{"$f":"JL96*JL98*JL99","v":0},{"$f":"JM96*JM98*JM99","v":0},{"$f":"JN96*JN98*JN99","v":0},{"$f":"JO96*JO98*JO99","v":0},{"$f":"JP96*JP98*JP99","v":0},{"$f":"JQ96*JQ98*JQ99","v":0},{"$f":"JR96*JR98*JR99","v":0},{"$f":"JS96*JS98*JS99","v":0},{"$f":"JT96*JT98*JT99","v":0},{"$f":"JU96*JU98*JU99","v":0},{"$f":"JV96*JV98*JV99","v":0},{"$f":"JW96*JW98*JW99","v":0},{"$f":"JX96*JX98*JX99","v":0},{"$f":"JY96*JY98*JY99","v":0},{"$f":"JZ96*JZ98*JZ99","v":0},{"$f":"KA96*KA98*KA99","v":0},{"$f":"KB96*KB98*KB99","v":0},{"$f":"KC96*KC98*KC99","v":0},{"$f":"KD96*KD98*KD99","v":0},{"$f":"KE96*KE98*KE99","v":0},{"$f":"KF96*KF98*KF99","v":0},{"$f":"KG96*KG98*KG99","v":0},{"$f":"KH96*KH98*KH99","v":0},{"$f":"KI96*KI98*KI99","v":0},{"$f":"KJ96*KJ98*KJ99","v":0},{"$f":"KK96*KK98*KK99","v":0},{"$f":"KL96*KL98*KL99","v":0},{"$f":"KM96*KM98*KM99","v":0},{"$f":"KN96*KN98*KN99","v":0},{"$f":"KO96*KO98*KO99","v":0},{"$f":"KP96*KP98*KP99","v":0},{"$f":"KQ96*KQ98*KQ99","v":0},{"$f":"KR96*KR98*KR99","v":0},{"$f":"KS96*KS98*KS99","v":0},{"$f":"KT96*KT98*KT99","v":0},{"$f":"KU96*KU98*KU99","v":0},{"$f":"KV96*KV98*KV99","v":0},{"$f":"KW96*KW98*KW99","v":0},{"$f":"KX96*KX98*KX99","v":0},{"$f":"KY96*KY98*KY99","v":0},{"$f":"KZ96*KZ98*KZ99","v":0},{"$f":"LA96*LA98*LA99","v":0},{"$f":"LB96*LB98*LB99","v":0},{"$f":"LC96*LC98*LC99","v":0},{"$f":"LD96*LD98*LD99","v":0},{"$f":"LE96*LE98*LE99","v":0},{"$f":"LF96*LF98*LF99","v":0},{"$f":"LG96*LG98*LG99","v":0},{"$f":"LH96*LH98*LH99","v":0},{"$f":"LI96*LI98*LI99","v":0},{"$f":"LJ96*LJ98*LJ99","v":0},{"$f":"LK96*LK98*LK99","v":0},{"$f":"LL96*LL98*LL99","v":0},{"$f":"LM96*LM98*LM99","v":0},{"$f":"LN96*LN98*LN99","v":0},{"$f":"LO96*LO98*LO99","v":0},{"$f":"LP96*LP98*LP99","v":0},{"$f":"LQ96*LQ98*LQ99","v":0},{"$f":"LR96*LR98*LR99","v":0},{"$f":"LS96*LS98*LS99","v":0},{"$f":"LT96*LT98*LT99","v":0},0,0,0,0,0,0,0,{"$f":"MB96*MB98*MB99","v":0},0,0,0,0,0,0,0,0,0,0,0,0,0,0,0,0,0,0,{"$f":"MU96*MU98*MU99","v":0},0,0,0,0,0,0,{"$f":"NB96*NB98*NB99","v":0},0,0,0,0,0,0,0,0,0,0,0,0,0,0,{"$f":"NQ96*NQ98*NQ99","v":0},0,0,0,0,0,0,0,0,0,0,0,0,0,0,0,0,0,0,0,0,0,0,0,0,0,0,0,0,0,0,0,0,0,0,0,0,0,0,0,0,0,0,0,0,0,0,0,0,0,0,0,0,0,0,0,0,0,0,0,0,0,0,0,{"$f":"QC96*QC98*QC99","v":0},0,0,0,0,0,0,0,0,0,0,0,0,0,0,0,0,0,0,0,0,0,0,0,0,0,0,0,0,0,0,0,0,0,0,0,0,0,0,0,0,0,0,0,0,0,0,0,0,0,0,0,0]
[null,null,null,"Avaiability and Degradation",null,null,null,null,"%",null,{"$f":"K22*K19","v":0},0.94525000000000003,0.94052375000000021,0.93582113125000033,0.93114202559375048,0.92648631546578186,0.92185388388845302,0.91724461446901084,0.91265839139666594,0.9080950994396827,0.90355462394248431,0.89903685082277196,0.89454166656865819,0.89006895823581489,0.88561861344463599,0.88119052037741286,0.87678456777552594,0.87240064493664837,0.86803864171196521,0.86369844850340549,0.85937995626088848,0.85508305647958416,0.85080764119718644,0.84655360299120053,0.84232083497624466,0.83810923080136357,0,0,0,0,0,0,0,0,0,0,0,0,0,0,0,0,0,0,0,0,0,0,0,0,0,0,0,0,0,0,0,0,0,0,0,0,0,0,{"$f":"BW22*BW19","v":0},0,0,0,0,0,0,0,0,0,0,0,0,0,0,0,0,0,0,0,0,0,0,0,0,0,0,0,0,0,0,0,0,0,0,0,0,0,0,0,0,0,0,0,0,0,0,0,0,0,0,0,0,0,0,0,0,0,0,0,0,0,0,0,{"$f":"EI22*EI19","v":0},0,0,0,0,0,0,0,0,0,0,0,0,0,0,0,0,0,0,0,0,0,0,0,0,0,0,0,0,0,0,0,0,0,0,0,0,0,0,0,0,0,0,0,0,0,0,0,0,0,0,0,0,0,0,0,0,0,0,0,0,0,0,0,{"$f":"GU22*GU19","v":0},0,0,0,0,0,0,0,0,0,0,0,0,0,0,0,0,0,0,0,0,0,0,0,0,0,0,0,0,0,0,0,0,0,0,0,0,0,0,0,0,0,0,0,0,0,0,0,0,0,0,0,0,0,0,0,0,0,0,0,0,0,0,0,{"$f":"JG22*JG19","v":0},0,0,0,0,0,0,0,0,0,0,0,0,0,0,0,0,0,0,0,0,0,0,0,0,0,0,0,0,0,0,0,0,0,0,0,0,0,0,0,0,0,0,0,0,0,0,0,0,0,0,0,0,0,0,0,0,0,0,0,0,0,0,0,{"$f":"LS22*LS19","v":0},0,0,0,0,0,0,0,0,0,0,0,0,0,0,0,0,0,0,0,0,0,0,0,0,0,0,0,0,0,0,0,0,0,0,0,0,0,0,0,0,0,0,0,0,0,0,0,0,0,0,0,0,0,0,0,0,0,0,0,0,0,0,0,{"$f":"OE22*OE19","v":0},0,0,0,0,0,0,0,0,0,0,0,0,0,0,0,0,0,0,0,0,0,0,0,0,0,0,0,0,0,0,0,0,0,0,0,0,0,0,0,0,0,0,0,0,0,0,0,0,0,0,0,0,0,0,0,0,0,0,0,0,0,0,0,{"$f":"QQ22*QQ19","v":0},0,0,0,0,0,0,0,0,0,0,0,0,0,0,0,0,0,0,0,0,0,0,0,0,0,0,0,0,0,0,0,0,0,0,0,0,0,0]
[null,null,null,"Generation After Degradation",null,null,null,null,"MWH",null,{"$f":"K100*K101","v":0},{"$f":"L100*L101","v":206363.5689611618},205331.75111635603,204305.09236077429,203283.56689897043,202267.14906447561,201255.81331915324,200249.5342525575,199248.28658129476,198252.04514838831,197260.78492264636,196274.48099803313,195293.108593043,194316.64305007778,193345.05983482744,192378.3345356533,191416.44286297506,190459.36064866022,189507.06384541694,188559.52852618985,187616.73088355892,186678.64722914115,185745.25399299548,184816.52772303051,183892.44508441541,182972.98285899335,0,0,0,0,0,0,0,0,0,0,0,0,0,0,0,0,0,0,0,0,0,0,0,0,0,0,0,0,0,0,0,0,0,0,0,0,0,0,0,{"$f":"BX100*BX101","v":0},0,0,0,0,0,0,0,0,0,0,0,0,0,0,0,0,0,0,0,0,0,0,0,0,0,0,0,0,0,0,0,0,0,0,0,0,0,0,0,0,0,0,0,0,0,0,0,0,0,0,0,0,0,0,0,0,0,0,0,0,0,0,0,{"$f":"EJ100*EJ101","v":0},0,0,0,0,0,0,0,0,0,0,0,0,0,0,0,0,0,0,0,0,{"$f":"FE100*FE101","v":0},{"$f":"FF100*FF101","v":0},{"$f":"FG100*FG101","v":0},{"$f":"FH100*FH101","v":0},{"$f":"FI100*FI101","v":0},{"$f":"FJ100*FJ101","v":0},{"$f":"FK100*FK101","v":0},{"$f":"FL100*FL101","v":0},{"$f":"FM100*FM101","v":0},{"$f":"FN100*FN101","v":0},{"$f":"FO100*FO101","v":0},{"$f":"FP100*FP101","v":0},{"$f":"FQ100*FQ101","v":0},{"$f":"FR100*FR101","v":0},{"$f":"FS100*FS101","v":0},{"$f":"FT100*FT101","v":0},{"$f":"FU100*FU101","v":0},{"$f":"FV100*FV101","v":0},{"$f":"FW100*FW101","v":0},{"$f":"FX100*FX101","v":0},{"$f":"FY100*FY101","v":0},{"$f":"FZ100*FZ101","v":0},{"$f":"GA100*GA101","v":0},{"$f":"GB100*GB101","v":0},{"$f":"GC100*GC101","v":0},{"$f":"GD100*GD101","v":0},{"$f":"GE100*GE101","v":0},{"$f":"GF100*GF101","v":0},{"$f":"GG100*GG101","v":0},{"$f":"GH100*GH101","v":0},{"$f":"GI100*GI101","v":0},{"$f":"GJ100*GJ101","v":0},{"$f":"GK100*GK101","v":0},{"$f":"GL100*GL101","v":0},{"$f":"GM100*GM101","v":0},{"$f":"GN100*GN101","v":0},{"$f":"GO100*GO101","v":0},{"$f":"GP100*GP101","v":0},{"$f":"GQ100*GQ101","v":0},{"$f":"GR100*GR101","v":0},{"$f":"GS100*GS101","v":0},{"$f":"GT100*GT101","v":0},{"$f":"GU100*GU101","v":0},{"$f":"GV100*GV101","v":0},{"$f":"GW100*GW101","v":0},{"$f":"GX100*GX101","v":0},{"$f":"GY100*GY101","v":0},{"$f":"GZ100*GZ101","v":0},{"$f":"HA100*HA101","v":0},{"$f":"HB100*HB101","v":0},{"$f":"HC100*HC101","v":0},{"$f":"HD100*HD101","v":0},{"$f":"HE100*HE101","v":0},{"$f":"HF100*HF101","v":0},{"$f":"HG100*HG101","v":0},{"$f":"HH100*HH101","v":0},{"$f":"HI100*HI101","v":0},{"$f":"HJ100*HJ101","v":0},{"$f":"HK100*HK101","v":0},{"$f":"HL100*HL101","v":0},{"$f":"HM100*HM101","v":0},{"$f":"HN100*HN101","v":0},{"$f":"HO100*HO101","v":0},{"$f":"HP100*HP101","v":0},{"$f":"HQ100*HQ101","v":0},{"$f":"HR100*HR101","v":0},{"$f":"HS100*HS101","v":0},{"$f":"HT100*HT101","v":0},{"$f":"HU100*HU101","v":0},{"$f":"HV100*HV101","v":0},{"$f":"HW100*HW101","v":0},{"$f":"HX100*HX101","v":0},{"$f":"HY100*HY101","v":0},{"$f":"HZ100*HZ101","v":0},{"$f":"IA100*IA101","v":0},{"$f":"IB100*IB101","v":0},{"$f":"IC100*IC101","v":0},{"$f":"ID100*ID101","v":0},{"$f":"IE100*IE101","v":0},{"$f":"IF100*IF101","v":0},{"$f":"IG100*IG101","v":0},{"$f":"IH100*IH101","v":0},{"$f":"II100*II101","v":0},{"$f":"IJ100*IJ101","v":0},{"$f":"IK100*IK101","v":0},{"$f":"IL100*IL101","v":0},{"$f":"IM100*IM101","v":0},{"$f":"IN100*IN101","v":0},{"$f":"IO100*IO101","v":0},{"$f":"IP100*IP101","v":0},{"$f":"IQ100*IQ101","v":0},{"$f":"IR100*IR101","v":0},{"$f":"IS100*IS101","v":0},{"$f":"IT100*IT101","v":0},{"$f":"IU100*IU101","v":0},{"$f":"IV100*IV101","v":0},{"$f":"IW100*IW101","v":0},{"$f":"IX100*IX101","v":0},{"$f":"IY100*IY101","v":0},{"$f":"IZ100*IZ101","v":0},{"$f":"JA100*JA101","v":0},{"$f":"JB100*JB101","v":0},{"$f":"JC100*JC101","v":0},{"$f":"JD100*JD101","v":0},{"$f":"JE100*JE101","v":0},{"$f":"JF100*JF101","v":0},{"$f":"JG100*JG101","v":0},{"$f":"JH100*JH101","v":0},{"$f":"JI100*JI101","v":0},{"$f":"JJ100*JJ101","v":0},{"$f":"JK100*JK101","v":0},{"$f":"JL100*JL101","v":0},{"$f":"JM100*JM101","v":0},{"$f":"JN100*JN101","v":0},{"$f":"JO100*JO101","v":0},{"$f":"JP100*JP101","v":0},{"$f":"JQ100*JQ101","v":0},{"$f":"JR100*JR101","v":0},{"$f":"JS100*JS101","v":0},{"$f":"JT100*JT101","v":0},{"$f":"JU100*JU101","v":0},{"$f":"JV100*JV101","v":0},{"$f":"JW100*JW101","v":0},{"$f":"JX100*JX101","v":0},{"$f":"JY100*JY101","v":0},{"$f":"JZ100*JZ101","v":0},{"$f":"KA100*KA101","v":0},{"$f":"KB100*KB101","v":0},{"$f":"KC100*KC101","v":0},{"$f":"KD100*KD101","v":0},{"$f":"KE100*KE101","v":0},{"$f":"KF100*KF101","v":0},{"$f":"KG100*KG101","v":0},{"$f":"KH100*KH101","v":0},{"$f":"KI100*KI101","v":0},{"$f":"KJ100*KJ101","v":0},{"$f":"KK100*KK101","v":0},{"$f":"KL100*KL101","v":0},{"$f":"KM100*KM101","v":0},{"$f":"KN100*KN101","v":0},{"$f":"KO100*KO101","v":0},{"$f":"KP100*KP101","v":0},{"$f":"KQ100*KQ101","v":0},{"$f":"KR100*KR101","v":0},{"$f":"KS100*KS101","v":0},{"$f":"KT100*KT101","v":0},{"$f":"KU100*KU101","v":0},{"$f":"KV100*KV101","v":0},{"$f":"KW100*KW101","v":0},{"$f":"KX100*KX101","v":0},{"$f":"KY100*KY101","v":0},{"$f":"KZ100*KZ101","v":0},{"$f":"LA100*LA101","v":0},{"$f":"LB100*LB101","v":0},{"$f":"LC100*LC101","v":0},{"$f":"LD100*LD101","v":0},{"$f":"LE100*LE101","v":0},{"$f":"LF100*LF101","v":0},{"$f":"LG100*LG101","v":0},{"$f":"LH100*LH101","v":0},{"$f":"LI100*LI101","v":0},{"$f":"LJ100*LJ101","v":0},{"$f":"LK100*LK101","v":0},{"$f":"LL100*LL101","v":0},{"$f":"LM100*LM101","v":0},{"$f":"LN100*LN101","v":0},{"$f":"LO100*LO101","v":0},{"$f":"LP100*LP101","v":0},{"$f":"LQ100*LQ101","v":0},{"$f":"LR100*LR101","v":0},{"$f":"LS100*LS101","v":0},{"$f":"LT100*LT101","v":0},0,0,0,0,0,0,0,{"$f":"MB100*MB101","v":0},0,0,0,0,0,0,0,0,0,0,0,0,0,0,0,0,0,0,{"$f":"MU100*MU101","v":0},0,0,0,0,0,0,{"$f":"NB100*NB101","v":0},0,0,0,0,0,0,0,0,0,0,0,0,0,0,{"$f":"NQ100*NQ101","v":0},0,0,0,0,0,0,0,0,0,0,0,0,0,0,0,0,0,0,0,0,0,0,0,0,0,0,0,0,0,0,0,0,0,0,0,0,0,0,0,0,0,0,0,0,0,0,0,0,0,0,0,0,0,0,0,0,0,0,0,0,0,0,0,{"$f":"QC100*QC101","v":0},0,0,0,0,0,0,0,0,0,0,0,0,0,0,0,0,0,0,0,0,0,0,0,0,0,0,0,0,0,0,0,0,0,0,0,0,0,0,0,0,0,0,0,0,0,0,0,0,0,0,0,0]
[]
[null,null,null,"PPA Price",null,null,null,null,"Rs. In Lakhs/Mwy",null,{"$f":"K47","v":1.0529680119726969E-2},1.1056164125713318E-2,1.1608972331998984E-2,1.2189420948598935E-2,1.2798891996028882E-2,1.3438836595830327E-2,1.4110778425621844E-2,1.4816317346902936E-2,1.5557133214248084E-2,1.6334989874960487E-2,1.7151739368708511E-2,1.800932633714394E-2,1.8909792654001136E-2,1.9855282286701196E-2,2.0848046401036258E-2,2.1890448721088071E-2,2.2984971157142476E-2,2.4134219714999603E-2,2.5340930700749581E-2,2.6607977235787061E-2,2.7938376097576417E-2,2.933529490245524E-2,3.0802059647578005E-2,3.2342162629956907E-2,3.3959270761454753E-2,3.5657234299527489E-2,3.5657234299527489E-2,3.5657234299527489E-2,3.5657234299527489E-2,3.5657234299527489E-2,3.5657234299527489E-2,3.5657234299527489E-2,3.5657234299527489E-2,3.5657234299527489E-2,3.5657234299527489E-2,3.5657234299527489E-2,3.5657234299527489E-2,3.5657234299527489E-2,3.5657234299527489E-2,3.5657234299527489E-2,3.5657234299527489E-2,3.5657234299527489E-2,3.5657234299527489E-2,3.5657234299527489E-2,3.5657234299527489E-2,3.5657234299527489E-2,3.5657234299527489E-2,3.5657234299527489E-2,3.5657234299527489E-2,3.5657234299527489E-2,3.5657234299527489E-2,3.5657234299527489E-2,3.5657234299527489E-2,3.5657234299527489E-2,3.5657234299527489E-2,3.5657234299527489E-2,3.5657234299527489E-2,3.5657234299527489E-2,3.5657234299527489E-2,3.5657234299527489E-2,3.5657234299527489E-2,3.5657234299527489E-2,3.5657234299527489E-2,3.5657234299527489E-2,{"$f":"BW47","v":3.5657234299527489E-2},3.5657234299527489E-2,3.5657234299527489E-2,3.5657234299527489E-2,3.5657234299527489E-2,3.5657234299527489E-2,3.5657234299527489E-2,3.5657234299527489E-2,3.5657234299527489E-2,3.5657234299527489E-2,3.5657234299527489E-2,3.5657234299527489E-2,3.5657234299527489E-2,3.5657234299527489E-2,3.5657234299527489E-2,3.5657234299527489E-2,3.5657234299527489E-2,3.5657234299527489E-2,3.5657234299527489E-2,3.5657234299527489E-2,3.5657234299527489E-2,3.5657234299527489E-2,3.5657234299527489E-2,3.5657234299527489E-2,3.5657234299527489E-2,3.5657234299527489E-2,3.5657234299527489E-2,3.5657234299527489E-2,3.5657234299527489E-2,3.5657234299527489E-2,3.5657234299527489E-2,3.5657234299527489E-2,3.5657234299527489E-2,3.5657234299527489E-2,3.5657234299527489E-2,3.5657234299527489E-2,3.5657234299527489E-2,3.5657234299527489E-2,3.5657234299527489E-2,3.5657234299527489E-2,3.5657234299527489E-2,3.5657234299527489E-2,3.5657234299527489E-2,3.5657234299527489E-2,3.5657234299527489E-2,3.5657234299527489E-2,3.5657234299527489E-2,3.5657234299527489E-2,3.5657234299527489E-2,3.5657234299527489E-2,3.5657234299527489E-2,3.5657234299527489E-2,3.5657234299527489E-2,3.5657234299527489E-2,3.5657234299527489E-2,3.5657234299527489E-2,3.5657234299527489E-2,3.5657234299527489E-2,3.5657234299527489E-2,3.5657234299527489E-2,3.5657234299527489E-2,3.5657234299527489E-2,3.5657234299527489E-2,3.5657234299527489E-2,{"$f":"EI47","v":3.5657234299527489E-2},3.5657234299527489E-2,3.5657234299527489E-2,3.5657234299527489E-2,3.5657234299527489E-2,3.5657234299527489E-2,3.5657234299527489E-2,3.5657234299527489E-2,3.5657234299527489E-2,3.5657234299527489E-2,3.5657234299527489E-2,3.5657234299527489E-2,3.5657234299527489E-2,3.5657234299527489E-2,3.5657234299527489E-2,3.5657234299527489E-2,3.5657234299527489E-2,3.5657234299527489E-2,3.5657234299527489E-2,3.5657234299527489E-2,3.5657234299527489E-2,3.5657234299527489E-2,3.5657234299527489E-2,3.5657234299527489E-2,3.5657234299527489E-2,3.5657234299527489E-2,3.5657234299527489E-2,3.5657234299527489E-2,3.5657234299527489E-2,3.5657234299527489E-2,3.5657234299527489E-2,3.5657234299527489E-2,3.5657234299527489E-2,3.5657234299527489E-2,3.5657234299527489E-2,3.5657234299527489E-2,3.5657234299527489E-2,3.5657234299527489E-2,3.5657234299527489E-2,3.5657234299527489E-2,3.5657234299527489E-2,3.5657234299527489E-2,3.5657234299527489E-2,3.5657234299527489E-2,3.5657234299527489E-2,3.5657234299527489E-2,3.5657234299527489E-2,3.5657234299527489E-2,3.5657234299527489E-2,3.5657234299527489E-2,3.5657234299527489E-2,3.5657234299527489E-2,3.5657234299527489E-2,3.5657234299527489E-2,3.5657234299527489E-2,3.5657234299527489E-2,3.5657234299527489E-2,3.5657234299527489E-2,3.5657234299527489E-2,3.5657234299527489E-2,3.5657234299527489E-2,3.5657234299527489E-2,3.5657234299527489E-2,3.5657234299527489E-2,{"$f":"GU47","v":3.5657234299527489E-2},3.5657234299527489E-2,3.5657234299527489E-2,3.5657234299527489E-2,3.5657234299527489E-2,3.5657234299527489E-2,3.5657234299527489E-2,3.5657234299527489E-2,3.5657234299527489E-2,3.5657234299527489E-2,3.5657234299527489E-2,3.5657234299527489E-2,3.5657234299527489E-2,3.5657234299527489E-2,3.5657234299527489E-2,3.5657234299527489E-2,3.5657234299527489E-2,3.5657234299527489E-2,3.5657234299527489E-2,3.5657234299527489E-2,3.5657234299527489E-2,3.5657234299527489E-2,3.5657234299527489E-2,3.5657234299527489E-2,3.5657234299527489E-2,3.5657234299527489E-2,3.5657234299527489E-2,3.5657234299527489E-2,3.5657234299527489E-2,3.5657234299527489E-2,3.5657234299527489E-2,3.5657234299527489E-2,3.5657234299527489E-2,3.5657234299527489E-2,3.5657234299527489E-2,3.5657234299527489E-2,3.5657234299527489E-2,3.5657234299527489E-2,3.5657234299527489E-2,3.5657234299527489E-2,3.5657234299527489E-2,3.5657234299527489E-2,3.5657234299527489E-2,3.5657234299527489E-2,3.5657234299527489E-2,3.5657234299527489E-2,3.5657234299527489E-2,3.5657234299527489E-2,3.5657234299527489E-2,3.5657234299527489E-2,3.5657234299527489E-2,3.5657234299527489E-2,3.5657234299527489E-2,3.5657234299527489E-2,3.5657234299527489E-2,3.5657234299527489E-2,3.5657234299527489E-2,3.5657234299527489E-2,3.5657234299527489E-2,3.5657234299527489E-2,3.5657234299527489E-2,3.5657234299527489E-2,3.5657234299527489E-2,3.5657234299527489E-2,{"$f":"JG47","v":3.5657234299527489E-2},3.5657234299527489E-2,3.5657234299527489E-2,3.5657234299527489E-2,3.5657234299527489E-2,3.5657234299527489E-2,3.5657234299527489E-2,3.5657234299527489E-2,3.5657234299527489E-2,3.5657234299527489E-2,3.5657234299527489E-2,3.5657234299527489E-2,3.5657234299527489E-2,3.5657234299527489E-2,3.5657234299527489E-2,3.5657234299527489E-2,3.5657234299527489E-2,3.5657234299527489E-2,3.5657234299527489E-2,3.5657234299527489E-2,3.5657234299527489E-2,3.5657234299527489E-2,3.5657234299527489E-2,3.5657234299527489E-2,3.5657234299527489E-2,3.5657234299527489E-2,3.5657234299527489E-2,3.5657234299527489E-2,3.5657234299527489E-2,3.5657234299527489E-2,3.5657234299527489E-2,3.5657234299527489E-2,3.5657234299527489E-2,3.5657234299527489E-2,3.5657234299527489E-2,3.5657234299527489E-2,3.5657234299527489E-2,3.5657234299527489E-2,3.5657234299527489E-2,3.5657234299527489E-2,3.5657234299527489E-2,3.5657234299527489E-2,3.5657234299527489E-2,3.5657234299527489E-2,3.5657234299527489E-2,3.5657234299527489E-2,3.5657234299527489E-2,3.5657234299527489E-2,3.5657234299527489E-2,3.5657234299527489E-2,3.5657234299527489E-2,3.5657234299527489E-2,3.5657234299527489E-2,3.5657234299527489E-2,3.5657234299527489E-2,3.5657234299527489E-2,3.5657234299527489E-2,3.5657234299527489E-2,3.5657234299527489E-2,3.5657234299527489E-2,3.5657234299527489E-2,3.5657234299527489E-2,3.5657234299527489E-2,3.5657234299527489E-2,{"$f":"LS47","v":3.5657234299527489E-2},3.5657234299527489E-2,3.5657234299527489E-2,3.5657234299527489E-2,3.5657234299527489E-2,3.5657234299527489E-2,3.5657234299527489E-2,3.5657234299527489E-2,3.5657234299527489E-2,3.5657234299527489E-2,3.5657234299527489E-2,3.5657234299527489E-2,3.5657234299527489E-2,3.5657234299527489E-2,3.5657234299527489E-2,3.5657234299527489E-2,3.5657234299527489E-2,3.5657234299527489E-2,3.5657234299527489E-2,3.5657234299527489E-2,3.5657234299527489E-2,3.5657234299527489E-2,3.5657234299527489E-2,3.5657234299527489E-2,3.5657234299527489E-2,3.5657234299527489E-2,3.5657234299527489E-2,3.5657234299527489E-2,3.5657234299527489E-2,3.5657234299527489E-2,3.5657234299527489E-2,3.5657234299527489E-2,3.5657234299527489E-2,3.5657234299527489E-2,3.5657234299527489E-2,3.5657234299527489E-2,3.5657234299527489E-2,3.5657234299527489E-2,3.5657234299527489E-2,3.5657234299527489E-2,3.5657234299527489E-2,3.5657234299527489E-2,3.5657234299527489E-2,3.5657234299527489E-2,3.5657234299527489E-2,3.5657234299527489E-2,3.5657234299527489E-2,3.5657234299527489E-2,3.5657234299527489E-2,3.5657234299527489E-2,3.5657234299527489E-2,3.5657234299527489E-2,3.5657234299527489E-2,3.5657234299527489E-2,3.5657234299527489E-2,3.5657234299527489E-2,3.5657234299527489E-2,3.5657234299527489E-2,3.5657234299527489E-2,3.5657234299527489E-2,3.5657234299527489E-2,3.5657234299527489E-2,3.5657234299527489E-2,3.5657234299527489E-2,{"$f":"OE47","v":3.5657234299527489E-2},3.5657234299527489E-2,3.5657234299527489E-2,3.5657234299527489E-2,3.5657234299527489E-2,3.5657234299527489E-2,3.5657234299527489E-2,3.5657234299527489E-2,3.5657234299527489E-2,3.5657234299527489E-2,3.5657234299527489E-2,3.5657234299527489E-2,3.5657234299527489E-2,3.5657234299527489E-2,3.5657234299527489E-2,3.5657234299527489E-2,3.5657234299527489E-2,3.5657234299527489E-2,3.5657234299527489E-2,3.5657234299527489E-2,3.5657234299527489E-2,3.5657234299527489E-2,3.5657234299527489E-2,3.5657234299527489E-2,3.5657234299527489E-2,3.5657234299527489E-2,3.5657234299527489E-2,3.5657234299527489E-2,3.5657234299527489E-2,3.5657234299527489E-2,3.5657234299527489E-2,3.5657234299527489E-2,3.5657234299527489E-2,3.5657234299527489E-2,3.5657234299527489E-2,3.5657234299527489E-2,3.5657234299527489E-2,3.5657234299527489E-2,3.5657234299527489E-2,3.5657234299527489E-2,3.5657234299527489E-2,3.5657234299527489E-2,3.5657234299527489E-2,3.5657234299527489E-2,3.5657234299527489E-2,3.5657234299527489E-2,3.5657234299527489E-2,3.5657234299527489E-2,3.5657234299527489E-2,3.5657234299527489E-2,3.5657234299527489E-2,3.5657234299527489E-2,3.5657234299527489E-2,3.5657234299527489E-2,3.5657234299527489E-2,3.5657234299527489E-2,3.5657234299527489E-2,3.5657234299527489E-2,3.5657234299527489E-2,3.5657234299527489E-2,3.5657234299527489E-2,3.5657234299527489E-2,3.5657234299527489E-2,3.5657234299527489E-2,{"$f":"QQ47","v":3.5657234299527489E-2},3.5657234299527489E-2,3.5657234299527489E-2,3.5657234299527489E-2,3.5657234299527489E-2,3.5657234299527489E-2,3.5657234299527489E-2,3.5657234299527489E-2,3.5657234299527489E-2,3.5657234299527489E-2,3.5657234299527489E-2,3.5657234299527489E-2,3.5657234299527489E-2,3.5657234299527489E-2,3.5657234299527489E-2,3.5657234299527489E-2,3.5657234299527489E-2,3.5657234299527489E-2,3.5657234299527489E-2,3.5657234299527489E-2,3.5657234299527489E-2,3.5657234299527489E-2,3.5657234299527489E-2,3.5657234299527489E-2,3.5657234299527489E-2,3.5657234299527489E-2,3.5657234299527489E-2,3.5657234299527489E-2,3.5657234299527489E-2,3.5657234299527489E-2,3.5657234299527489E-2,3.5657234299527489E-2,3.5657234299527489E-2,3.5657234299527489E-2,3.5657234299527489E-2,3.5657234299527489E-2,3.5657234299527489E-2,3.5657234299527489E-2,3.5657234299527489E-2]
[null,null,null,"Revenue from Generation",null,null,null,null,"Lakhs",null,{"$f":"K102*K104","v":0},{"$f":"L102*L104","v":2281.5894880025635},2383.6906175906788,2490.3607727278622,2601.8044173074345,2718.2351649819429,2839.876188614885,2966.9606480554012,3099.7321370558816,3238.4451501891322,3383.3655706600957,3534.7711799471358,3692.9521902497709,3858.2118007634485,4030.8667788476141,4211.2480672010452,4399.7014182082921,4596.5880566731148,4802.2853722092368,5017.1876426156005,5241.7067896226499,5476.2731684582641,5721.3363927467735,5977.3661963221921,6244.8533336076116,6524.3105202865527,0,0,0,0,0,0,0,0,0,0,0,0,0,0,0,0,0,0,0,0,0,0,0,0,0,0,0,0,0,0,0,0,0,0,0,0,0,0,0,{"$f":"BX102*BX104","v":0},0,0,0,0,0,0,0,0,0,0,0,0,0,0,0,0,0,0,0,0,0,0,0,0,0,0,0,0,0,0,0,0,0,0,0,0,0,0,0,0,0,0,0,0,0,0,0,0,0,0,0,0,0,0,0,0,0,0,0,0,0,0,0,{"$f":"EJ102*EJ104","v":0},0,0,0,0,0,0,0,0,0,0,0,0,0,0,0,0,0,0,0,0,{"$f":"FE102*FE104","v":0},{"$f":"FF102*FF104","v":0},{"$f":"FG102*FG104","v":0},{"$f":"FH102*FH104","v":0},{"$f":"FI102*FI104","v":0},{"$f":"FJ102*FJ104","v":0},{"$f":"FK102*FK104","v":0},{"$f":"FL102*FL104","v":0},{"$f":"FM102*FM104","v":0},{"$f":"FN102*FN104","v":0},{"$f":"FO102*FO104","v":0},{"$f":"FP102*FP104","v":0},{"$f":"FQ102*FQ104","v":0},{"$f":"FR102*FR104","v":0},{"$f":"FS102*FS104","v":0},{"$f":"FT102*FT104","v":0},{"$f":"FU102*FU104","v":0},{"$f":"FV102*FV104","v":0},{"$f":"FW102*FW104","v":0},{"$f":"FX102*FX104","v":0},{"$f":"FY102*FY104","v":0},{"$f":"FZ102*FZ104","v":0},{"$f":"GA102*GA104","v":0},{"$f":"GB102*GB104","v":0},{"$f":"GC102*GC104","v":0},{"$f":"GD102*GD104","v":0},{"$f":"GE102*GE104","v":0},{"$f":"GF102*GF104","v":0},{"$f":"GG102*GG104","v":0},{"$f":"GH102*GH104","v":0},{"$f":"GI102*GI104","v":0},{"$f":"GJ102*GJ104","v":0},{"$f":"GK102*GK104","v":0},{"$f":"GL102*GL104","v":0},{"$f":"GM102*GM104","v":0},{"$f":"GN102*GN104","v":0},{"$f":"GO102*GO104","v":0},{"$f":"GP102*GP104","v":0},{"$f":"GQ102*GQ104","v":0},{"$f":"GR102*GR104","v":0},{"$f":"GS102*GS104","v":0},{"$f":"GT102*GT104","v":0},{"$f":"GU102*GU104","v":0},{"$f":"GV102*GV104","v":0},{"$f":"GW102*GW104","v":0},{"$f":"GX102*GX104","v":0},{"$f":"GY102*GY104","v":0},{"$f":"GZ102*GZ104","v":0},{"$f":"HA102*HA104","v":0},{"$f":"HB102*HB104","v":0},{"$f":"HC102*HC104","v":0},{"$f":"HD102*HD104","v":0},{"$f":"HE102*HE104","v":0},{"$f":"HF102*HF104","v":0},{"$f":"HG102*HG104","v":0},{"$f":"HH102*HH104","v":0},{"$f":"HI102*HI104","v":0},{"$f":"HJ102*HJ104","v":0},{"$f":"HK102*HK104","v":0},{"$f":"HL102*HL104","v":0},{"$f":"HM102*HM104","v":0},{"$f":"HN102*HN104","v":0},{"$f":"HO102*HO104","v":0},{"$f":"HP102*HP104","v":0},{"$f":"HQ102*HQ104","v":0},{"$f":"HR102*HR104","v":0},{"$f":"HS102*HS104","v":0},{"$f":"HT102*HT104","v":0},{"$f":"HU102*HU104","v":0},{"$f":"HV102*HV104","v":0},{"$f":"HW102*HW104","v":0},{"$f":"HX102*HX104","v":0},{"$f":"HY102*HY104","v":0},{"$f":"HZ102*HZ104","v":0},{"$f":"IA102*IA104","v":0},{"$f":"IB102*IB104","v":0},{"$f":"IC102*IC104","v":0},{"$f":"ID102*ID104","v":0},{"$f":"IE102*IE104","v":0},{"$f":"IF102*IF104","v":0},{"$f":"IG102*IG104","v":0},{"$f":"IH102*IH104","v":0},{"$f":"II102*II104","v":0},{"$f":"IJ102*IJ104","v":0},{"$f":"IK102*IK104","v":0},{"$f":"IL102*IL104","v":0},{"$f":"IM102*IM104","v":0},{"$f":"IN102*IN104","v":0},{"$f":"IO102*IO104","v":0},{"$f":"IP102*IP104","v":0},{"$f":"IQ102*IQ104","v":0},{"$f":"IR102*IR104","v":0},{"$f":"IS102*IS104","v":0},{"$f":"IT102*IT104","v":0},{"$f":"IU102*IU104","v":0},{"$f":"IV102*IV104","v":0},{"$f":"IW102*IW104","v":0},{"$f":"IX102*IX104","v":0},{"$f":"IY102*IY104","v":0},{"$f":"IZ102*IZ104","v":0},{"$f":"JA102*JA104","v":0},{"$f":"JB102*JB104","v":0},{"$f":"JC102*JC104","v":0},{"$f":"JD102*JD104","v":0},{"$f":"JE102*JE104","v":0},{"$f":"JF102*JF104","v":0},{"$f":"JG102*JG104","v":0},{"$f":"JH102*JH104","v":0},{"$f":"JI102*JI104","v":0},{"$f":"JJ102*JJ104","v":0},{"$f":"JK102*JK104","v":0},{"$f":"JL102*JL104","v":0},{"$f":"JM102*JM104","v":0},{"$f":"JN102*JN104","v":0},{"$f":"JO102*JO104","v":0},{"$f":"JP102*JP104","v":0},{"$f":"JQ102*JQ104","v":0},{"$f":"JR102*JR104","v":0},{"$f":"JS102*JS104","v":0},{"$f":"JT102*JT104","v":0},{"$f":"JU102*JU104","v":0},{"$f":"JV102*JV104","v":0},{"$f":"JW102*JW104","v":0},{"$f":"JX102*JX104","v":0},{"$f":"JY102*JY104","v":0},{"$f":"JZ102*JZ104","v":0},{"$f":"KA102*KA104","v":0},{"$f":"KB102*KB104","v":0},{"$f":"KC102*KC104","v":0},{"$f":"KD102*KD104","v":0},{"$f":"KE102*KE104","v":0},{"$f":"KF102*KF104","v":0},{"$f":"KG102*KG104","v":0},{"$f":"KH102*KH104","v":0},{"$f":"KI102*KI104","v":0},{"$f":"KJ102*KJ104","v":0},{"$f":"KK102*KK104","v":0},{"$f":"KL102*KL104","v":0},{"$f":"KM102*KM104","v":0},{"$f":"KN102*KN104","v":0},{"$f":"KO102*KO104","v":0},{"$f":"KP102*KP104","v":0},{"$f":"KQ102*KQ104","v":0},{"$f":"KR102*KR104","v":0},{"$f":"KS102*KS104","v":0},{"$f":"KT102*KT104","v":0},{"$f":"KU102*KU104","v":0},{"$f":"KV102*KV104","v":0},{"$f":"KW102*KW104","v":0},{"$f":"KX102*KX104","v":0},{"$f":"KY102*KY104","v":0},{"$f":"KZ102*KZ104","v":0},{"$f":"LA102*LA104","v":0},{"$f":"LB102*LB104","v":0},{"$f":"LC102*LC104","v":0},{"$f":"LD102*LD104","v":0},{"$f":"LE102*LE104","v":0},{"$f":"LF102*LF104","v":0},{"$f":"LG102*LG104","v":0},{"$f":"LH102*LH104","v":0},{"$f":"LI102*LI104","v":0},{"$f":"LJ102*LJ104","v":0},{"$f":"LK102*LK104","v":0},{"$f":"LL102*LL104","v":0},{"$f":"LM102*LM104","v":0},{"$f":"LN102*LN104","v":0},{"$f":"LO102*LO104","v":0},{"$f":"LP102*LP104","v":0},{"$f":"LQ102*LQ104","v":0},{"$f":"LR102*LR104","v":0},{"$f":"LS102*LS104","v":0},{"$f":"LT102*LT104","v":0},0,0,0,0,0,0,0,{"$f":"MB102*MB104","v":0},0,0,0,0,0,0,0,0,0,0,0,0,0,0,0,0,0,0,{"$f":"MU102*MU104","v":0},0,0,0,0,0,0,{"$f":"NB102*NB104","v":0},0,0,0,0,0,0,0,0,0,0,0,0,0,0,{"$f":"NQ102*NQ104","v":0},0,0,0,0,0,0,0,0,0,0,0,0,0,0,0,0,0,0,0,0,0,0,0,0,0,0,0,0,0,0,0,0,0,0,0,0,0,0,0,0,0,0,0,0,0,0,0,0,0,0,0,0,0,0,0,0,0,0,0,0,0,0,0,{"$f":"QC102*QC104","v":0},0,0,0,0,0,0,0,0,0,0,0,0,0,0,0,0,0,0,0,0,0,0,0,0,0,0,0,0,0,0,0,0,0,0,0,0,0,0,0,0,0,0,0,0,0,0,0,0,0,0,0,0]
[null,null,null,"Operation and Maintenance",null,null,null,null,"Lakhs",null,{"$f":"K41","v":0},546,573.30000000000007,601.96500000000003,632.06325000000015,663.66641250000021,696.84973312500017,731.69221978125029,768.27683077031281,806.69067230882843,847.0252059242697,889.37646622048339,933.84528953150777,980.53755400808302,1029.5644317084873,1081.0426532939118,1135.0947859586074,1191.8495252565378,1251.4420015193648,1314.0141015953329,1379.7148066750997,1448.700547008855,1521.1355743592978,1597.1923530772626,1677.0519707311259,1760.9045692676821,0,0,0,0,0,0,0,0,0,0,0,0,0,0,0,0,0,0,0,0,0,0,0,0,0,0,0,0,0,0,0,0,0,0,0,0,0,0,{"$f":"BW41","v":0},0,0,0,0,0,0,0,0,0,0,0,0,0,0,0,0,0,0,0,0,0,0,0,0,0,0,0,0,0,0,0,0,0,0,0,0,0,0,0,0,0,0,0,0,0,0,0,0,0,0,0,0,0,0,0,0,0,0,0,0,0,0,0,{"$f":"EI41","v":0},0,0,0,0,0,0,0,0,0,0,0,0,0,0,0,0,0,0,0,0,0,0,0,0,0,0,0,0,0,0,0,0,0,0,0,0,0,0,0,0,0,0,0,0,0,0,0,0,0,0,0,0,0,0,0,0,0,0,0,0,0,0,0,{"$f":"GU41","v":0},0,0,0,0,0,0,0,0,0,0,0,0,0,0,0,0,0,0,0,0,0,0,0,0,0,0,0,0,0,0,0,0,0,0,0,0,0,0,0,0,0,0,0,0,0,0,0,0,0,0,0,0,0,0,0,0,0,0,0,0,0,0,0,{"$f":"JG41","v":0},0,0,0,0,0,0,0,0,0,0,0,0,0,0,0,0,0,0,0,0,0,0,0,0,0,0,0,0,0,0,0,0,0,0,0,0,0,0,0,0,0,0,0,0,0,0,0,0,0,0,0,0,0,0,0,0,0,0,0,0,0,0,0,{"$f":"LS41","v":0},0,0,0,0,0,0,0,0,0,0,0,0,0,0,0,0,0,0,0,0,0,0,0,0,0,0,0,0,0,0,0,0,0,0,0,0,0,0,0,0,0,0,0,0,0,0,0,0,0,0,0,0,0,0,0,0,0,0,0,0,0,0,0,{"$f":"OE41","v":0},0,0,0,0,0,0,0,0,0,0,0,0,0,0,0,0,0,0,0,0,0,0,0,0,0,0,0,0,0,0,0,0,0,0,0,0,0,0,0,0,0,0,0,0,0,0,0,0,0,0,0,0,0,0,0,0,0,0,0,0,0,0,0,{"$f":"QQ41","v":0},0,0,0,0,0,0,0,0,0,0,0,0,0,0,0,0,0,0,0,0,0,0,0,0,0,0,0,0,0,0,0,0,0,0,0,0,0,0]
[null,null,null,"EBITDA-P90",null,null,null,{"$f":"SUM(K107:XFD107)","v":75274.723108323873},"Lakhs",null,{"$f":"(K105-K106)*K10","v":0},{"$f":"(L105-L106)*L10","v":1735.5894880025635},1810.3906175906786,1888.3957727278621,1969.7411673074344,2054.5687524819427,2143.0264554898849,2235.2684282741511,2331.4553062855689,2431.754477880304,2536.3403647358259,2645.3947137266523,2759.1069007182632,2877.6742467553654,3001.3023471391271,3130.2054139071333,3264.6066322496845,3404.7385314165767,3550.8433706898722,3703.1735410202673,3861.9919829475502,4027.5726214494089,4200.2008183874759,4380.1738432449292,4567.8013628764857,4763.4059510188708,0,0,0,0,0,0,0,0,0,0,0,0,0,0,0,0,0,0,0,0,0,0,0,0,0,0,0,0,0,0,0,0,0,0,0,0,0,0,0,{"$f":"(BX105-BX106)*BX10","v":0},0,0,0,0,0,0,0,0,0,0,0,0,0,0,0,0,0,0,0,0,0,0,0,0,0,0,0,0,0,0,0,0,0,0,0,0,0,0,0,0,0,0,0,0,0,0,0,0,0,0,0,0,0,0,0,0,0,0,0,0,0,0,0,{"$f":"(EJ105-EJ106)*EJ10","v":0},0,0,0,0,0,0,0,0,0,0,0,0,0,0,0,0,0,0,0,0,0,0,0,0,0,0,0,0,0,0,0,0,0,0,0,0,0,0,0,0,0,0,0,0,0,0,0,0,0,0,0,0,0,0,0,0,0,0,0,0,0,0,0,{"$f":"(GV105-GV106)*GV10","v":0},0,0,0,0,0,0,0,0,0,0,0,0,0,0,0,0,0,0,0,0,0,0,0,0,0,0,0,0,0,0,0,0,0,0,0,0,0,0,0,0,0,0,0,0,0,0,0,0,0,0,0,0,0,0,0,0,0,0,0,0,0,0,0,{"$f":"(JH105-JH106)*JH10","v":0},0,0,0,0,0,0,0,0,0,0,0,0,0,0,0,0,0,0,0,0,0,0,0,0,0,0,0,0,0,0,0,0,0,0,0,0,0,0,0,0,0,0,0,0,0,0,0,0,0,0,0,0,0,0,0,0,0,0,0,0,0,0,0,{"$f":"(LT105-LT106)*LT10","v":0},0,0,0,0,0,0,0,0,0,0,0,0,0,0,0,0,0,0,0,0,0,0,0,0,0,0,0,0,0,0,0,0,0,0,0,0,0,0,0,0,0,0,0,0,0,0,0,0,0,0,0,0,0,0,0,0,0,0,0,0,0,0,0,{"$f":"(OF105-OF106)*OF10","v":0},0,0,0,0,0,0,0,0,0,0,0,0,0,0,0,0,0,0,0,0,0,0,0,0,0,0,0,0,0,0,0,0,0,0,0,0,0,0,0,0,0,0,0,0,0,0,0,0,0,0,0,0,0,0,0,0,0,0,0,0,0,0,0,{"$f":"(QR105-QR106)*QR10","v":0},0,0,0,0,0,0,0,0,0,0,0,0,0,0,0,0,0,0,0,0,0,0,0,0,0,0,0,0,0,0,0,0,0,0,0,0,0]
[null,null,null,"Less: Taxes from P90 Below (circular fixed)",null,{"$f":"'Input C'!F80","v":true},null,{"$f":"SUM(K108:XFD108)","v":0},"Lakhs",null,{"$f":"IF($F108,K234,K225)","v":0},{"$f":"IF($F108,L234,L225)","v":0},0,0,0,0,0,0,0,0,0,0,0,0,0,0,0,0,0,0,0,0,0,0,0,0,0,0,0,0,0,0,0,0,0,0,0,0,0,0,0,0,0,0,0,0,0,0,0,0,0,0,0,0,0,0,0,0,0,0,0,0,0,0,0,{"$f":"IF($F108,BX234,BX225)","v":0},0,0,0,0,0,0,0,0,0,0,0,0,0,0,0,0,0,0,0,0,0,0,0,0,0,0,0,0,0,0,0,0,0,0,0,0,0,0,0,0,0,0,0,0,0,0,0,0,0,0,0,0,0,0,0,0,0,0,0,0,0,0,0,{"$f":"IF($F108,EJ234,EJ225)","v":0},0,0,0,0,0,0,0,0,0,0,0,0,0,0,0,0,0,0,0,0,0,0,0,0,0,0,0,0,0,0,0,0,0,0,0,0,0,0,0,0,0,0,0,0,0,0,0,0,0,0,0,0,0,0,0,0,0,0,0,0,0,0,0,{"$f":"IF($F108,GV234,GV225)","v":0},0,0,0,0,0,0,0,0,0,0,0,0,0,0,0,0,0,0,0,0,0,0,0,0,0,0,0,0,0,0,0,0,0,0,0,0,0,0,0,0,0,0,0,0,0,0,0,0,0,0,0,0,0,0,0,0,0,0,0,0,0,0,0,{"$f":"IF($F108,JH234,JH225)","v":0},0,0,0,0,0,0,0,0,0,0,0,0,0,0,0,0,0,0,0,0,0,0,0,0,0,0,0,0,0,0,0,0,0,0,0,0,0,0,0,0,0,0,0,0,0,0,0,0,0,0,0,0,0,0,0,0,0,0,0,0,0,0,0,{"$f":"IF($F108,LT234,LT225)","v":0},0,0,0,0,0,0,0,0,0,0,0,0,0,0,0,0,0,0,0,0,0,0,0,0,0,0,0,0,0,0,0,0,0,0,0,0,0,0,0,0,0,0,0,0,0,0,0,0,0,0,0,0,0,0,0,0,0,0,0,0,0,0,0,{"$f":"IF($F108,OF234,OF225)","v":0},0,0,0,0,0,0,0,0,0,0,0,0,0,0,0,0,0,0,0,0,0,0,0,0,0,0,0,0,0,0,0,0,0,0,0,0,0,0,0,0,0,0,0,0,0,0,0,0,0,0,0,0,0,0,0,0,0,0,0,0,0,0,0,{"$f":"IF($F108,QR234,QR225)","v":0},0,0,0,0,0,0,0,0,0,0,0,0,0,0,0,0,0,0,0,0,0,0,0,0,0,0,0,0,0,0,0,0,0,0,0,0,0]
[null,null,null,"CFADS",null,null,null,null,"Lakhs",null,{"$f":"K107-K108","v":0},{"$f":"L107-L108","v":1735.5894880025635},1810.3906175906786,1888.3957727278621,1969.7411673074344,2054.5687524819427,2143.0264554898849,2235.2684282741511,2331.4553062855689,2431.754477880304,2536.3403647358259,2645.3947137266523,2759.1069007182632,2877.6742467553654,3001.3023471391271,3130.2054139071333,3264.6066322496845,3404.7385314165767,3550.8433706898722,3703.1735410202673,3861.9919829475502,4027.5726214494089,4200.2008183874759,4380.1738432449292,4567.8013628764857,4763.4059510188708,0,0,0,0,0,0,0,0,0,0,0,0,0,0,0,0,0,0,0,0,0,0,0,0,0,0,0,0,0,0,0,0,0,0,0,0,0,0,0,{"$f":"BX107-BX108","v":0},0,0,0,0,0,0,0,0,0,0,0,0,0,0,0,0,0,0,0,0,0,0,0,0,0,0,0,0,0,0,0,0,0,0,0,0,0,0,0,0,0,0,0,0,0,0,0,0,0,0,0,0,0,0,0,0,0,0,0,0,0,0,0,{"$f":"EJ107-EJ108","v":0},0,0,0,0,0,0,0,0,0,0,0,0,0,0,0,0,0,0,0,0,{"$f":"FE107-FE108","v":0},0,0,0,0,0,0,0,0,0,0,0,0,0,0,0,0,0,0,0,0,0,0,0,0,0,0,0,0,0,0,0,0,0,0,0,0,0,0,0,0,0,0,0,0,0,0,0,0,0,0,0,{"$f":"HE107-HE108","v":0},0,0,0,0,0,0,0,0,0,0,0,0,0,0,0,0,0,0,0,0,0,0,0,0,0,0,0,0,0,0,0,0,0,0,0,0,0,0,0,0,0,0,0,0,0,0,0,0,0,0,0,0,0,0,0,0,0,0,0,0,0,0,0,{"$f":"JQ107-JQ108","v":0},0,0,0,0,0,0,0,0,0,0,0,0,0,0,0,0,0,0,0,0,0,0,0,0,0,{"$f":"KQ107-KQ108","v":0},0,0,0,0,0,0,0,0,0,0,0,0,0,0,0,0,0,0,0,0,0,0,0,0,0,0,0,0,0,{"$f":"LU107-LU108","v":0},0,0,0,0,0,0,{"$f":"MB107-MB108","v":0},0,0,0,0,0,0,0,0,0,0,0,0,0,0,0,0,0,0,{"$f":"MU107-MU108","v":0},0,0,0,0,0,0,{"$f":"NB107-NB108","v":0},0,0,0,0,0,0,0,0,0,0,0,0,0,0,{"$f":"NQ107-NQ108","v":0},0,0,0,0,0,0,0,0,0,0,0,0,0,0,0,0,0,0,0,0,0,0,0,0,0,0,0,0,0,0,0,0,0,0,0,0,0,0,0,0,0,0,0,0,0,0,0,0,0,0,0,0,0,0,0,0,0,0,0,0,0,0,0,{"$f":"QC107-QC108","v":0},0,0,0,0,0,0,0,0,0,0,0,0,0,0,0,0,0,0,0,0,0,0,0,0,0,0,0,0,0,0,0,0,0,0,0,0,0,0,0,0,0,0,0,0,0,0,0,0,0,0,0,0]
[]
[null,null,"Debt to Capital"]
[null,null,null,"Maximum Percent","%",{"$f":"'Input C'!F63","v":0.75}]
[null,null,null,"Total Project Cost from Below (Circular)","Lakhs",{"$f":"H179","v":26000}]
[null,null,null,"Total Debt from Debt to Capital","Lakhs",{"$f":"F112*F113","v":19500}]
[]
[null,null,null,"CFADS over Debt Repayment",null,null,null,null,"Lakhs",null,{"$f":"IF(K93,K109)","v":false},1735.5894880025635,1810.3906175906786,1888.3957727278621,1969.7411673074344,2054.5687524819427,2143.0264554898849,2235.2684282741511,2331.4553062855689,2431.754477880304,2536.3403647358259,2645.3947137266523,2759.1069007182632,2877.6742467553654,3001.3023471391271,3130.2054139071333,3264.6066322496845,3404.7385314165767,3550.8433706898722,3703.1735410202673,3861.9919829475502,false,false,false,false,false,false,false,false,false,false,false,{"$f":"IF(AQ93,AQ109)","v":false},false,false,false,false,false,false,false,false,false,false,false,false,false,false,false,false,false,false,false,false,false,false,false,false,false,false,false,false,false,false,false,{"$f":"IF(BW93,BW109)","v":false},false,false,false,false,false,false,false,false,false,false,false,false,false,false,false,false,false,false,false,false,false,false,false,false,false,false,false,false,false,false,false,{"$f":"IF(DC93,DC109)","v":false},false,false,false,false,false,false,false,false,false,false,false,false,false,false,false,false,false,false,false,false,false,false,false,false,false,false,false,false,false,false,false,{"$f":"IF(EI93,EI109)","v":false},false,false,false,false,false,false,false,false,false,false,false,false,false,false,false,false,false,false,false,false,false,{"$f":"IF(FE93,FE109)","v":false},false,false,false,false,false,false,false,false,false,false,false,false,false,false,false,false,false,false,false,false,false,false,false,false,false,false,false,false,false,false,false,false,false,false,false,false,false,false,false,false,false,false,false,false,false,false,false,false,false,false,false,{"$f":"IF(HE93,HE109)","v":false},false,false,false,false,false,false,false,false,false,false,false,false,false,false,false,false,false,false,false,false,false,false,false,false,false,false,false,false,false,false,false,false,false,false,false,false,false,false,false,false,false,false,false,false,false,false,false,false,false,false,false,false,false,false,false,false,false,false,false,false,false,false,false,{"$f":"IF(JQ93,JQ109)","v":false},false,false,false,false,false,false,false,false,false,false,false,false,false,false,false,false,false,false,false,false,false,false,false,false,false,{"$f":"IF(KQ93,KQ109)","v":false},false,false,false,false,false,false,false,false,false,false,false,false,false,false,false,false,false,false,false,false,false,false,false,false,false,false,false,false,false,{"$f":"IF(LU93,LU109)","v":false},false,false,false,false,false,false,{"$f":"IF(MB93,MB109)","v":false},false,false,false,false,false,false,false,false,false,false,false,false,false,false,false,false,false,false,{"$f":"IF(MU93,MU109)","v":false},false,false,false,false,false,false,{"$f":"IF(NB93,NB109)","v":false},false,false,false,false,false,false,false,false,false,false,false,false,false,false,{"$f":"IF(NQ93,NQ109)","v":false},false,false,false,false,false,false,false,false,false,false,false,false,false,false,false,false,false,false,false,false,false,false,false,false,false,false,false,false,false,false,false,false,false,false,false,false,false,false,false,false,false,false,false,false,false,false,false,false,false,false,false,false,false,false,false,false,false,false,false,false,false,false,false,{"$f":"IF(QC93,QC109)","v":false},false,false,false,false,false,false,false,false,false,false,false,false,false,false,false,false,false,false,false,false,false,false,false,false,false,false,false,false,false,false,false,false,false,false,false,false,false,false,false,false,false,false,false,false,false,false,false,false,false,false,false,false]
[null,null,null,"NPV of CFADS","Lakhs",{"$f":"SUMPRODUCT(K116:LT116/K124:LT124)","v":23555.285683134574}]
[null,null,null,"Implied DSCR","x",{"$f":"F117/F114","v":1.2079633683658757}]
[]
[null,null,"Debt Size from DSCR and Cash Flow"]
[null,null,null,"Minimum DSCR","x",{"$f":"'Input C'!F64","v":1.2},null,null,"x",null,{"$f":"$F$121","v":1.2},{"$f":"$F$121","v":1.2},1.2,1.2,1.2,1.2,1.2,1.2,1.2,1.2,1.2,1.2,1.2,1.2,1.2,1.2,1.2,1.2,1.2,1.2,1.2,1.2,1.2,1.2,1.2,1.2,1.2,1.2,1.2,1.2,1.2,1.2,1.2,1.2,1.2,1.2,1.2,1.2,1.2,1.2,1.2,1.2,1.2,1.2,1.2,1.2,1.2,1.2,1.2,1.2,1.2,1.2,1.2,1.2,1.2,1.2,1.2,1.2,1.2,1.2,1.2,1.2,1.2,1.2,1.2,{"$f":"$F$121","v":1.2},1.2,1.2,1.2,1.2,1.2,1.2,1.2,1.2,1.2,1.2,1.2,1.2,1.2,1.2,1.2,1.2,1.2,1.2,1.2,1.2,1.2,1.2,1.2,1.2,1.2,1.2,1.2,1.2,1.2,1.2,1.2,1.2,1.2,1.2,1.2,1.2,1.2,1.2,1.2,1.2,1.2,1.2,1.2,1.2,1.2,1.2,1.2,1.2,1.2,1.2,1.2,1.2,1.2,1.2,1.2,1.2,1.2,1.2,1.2,1.2,1.2,1.2,1.2,{"$f":"$F$121","v":1.2},1.2,1.2,1.2,1.2,1.2,1.2,1.2,1.2,1.2,1.2,1.2,1.2,1.2,1.2,1.2,1.2,1.2,1.2,1.2,1.2,1.2,1.2,1.2,1.2,1.2,1.2,1.2,1.2,1.2,1.2,1.2,1.2,1.2,1.2,1.2,1.2,1.2,1.2,1.2,1.2,1.2,1.2,1.2,1.2,1.2,1.2,1.2,1.2,1.2,1.2,1.2,1.2,1.2,1.2,1.2,1.2,1.2,1.2,1.2,1.2,1.2,1.2,1.2,{"$f":"$F$121","v":1.2},1.2,1.2,1.2,1.2,1.2,1.2,1.2,1.2,1.2,1.2,1.2,1.2,1.2,1.2,1.2,1.2,1.2,1.2,1.2,1.2,1.2,1.2,1.2,1.2,1.2,1.2,1.2,1.2,1.2,1.2,1.2,1.2,1.2,1.2,1.2,1.2,1.2,1.2,1.2,1.2,1.2,1.2,1.2,1.2,1.2,1.2,1.2,1.2,1.2,1.2,1.2,1.2,1.2,1.2,1.2,1.2,1.2,1.2,1.2,1.2,1.2,1.2,1.2,{"$f":"$F$121","v":1.2},1.2,1.2,1.2,1.2,1.2,1.2,1.2,1.2,1.2,1.2,1.2,1.2,1.2,1.2,1.2,1.2,1.2,1.2,1.2,1.2,1.2,1.2,1.2,1.2,1.2,1.2,1.2,1.2,1.2,1.2,1.2,1.2,1.2,1.2,1.2,1.2,1.2,1.2,1.2,1.2,1.2,1.2,1.2,1.2,1.2,1.2,1.2,1.2,1.2,1.2,1.2,1.2,1.2,1.2,1.2,1.2,1.2,1.2,1.2,1.2,1.2,1.2,1.2,{"$f":"$F$121","v":1.2},1.2,1.2,1.2,1.2,1.2,1.2,1.2,1.2,1.2,1.2,1.2,1.2,1.2,1.2,1.2,1.2,1.2,1.2,1.2,1.2,1.2,1.2,1.2,1.2,1.2,1.2,1.2,1.2,1.2,1.2,1.2,1.2,1.2,1.2,1.2,1.2,1.2,1.2,1.2,1.2,1.2,1.2,1.2,1.2,1.2,1.2,1.2,1.2,1.2,1.2,1.2,1.2,1.2,1.2,1.2,1.2,1.2,1.2,1.2,1.2,1.2,1.2,1.2,{"$f":"$F$121","v":1.2},1.2,1.2,1.2,1.2,1.2,1.2,1.2,1.2,1.2,1.2,1.2,1.2,1.2,1.2,1.2,1.2,1.2,1.2,1.2,1.2,1.2,1.2,1.2,1.2,1.2,1.2,1.2,1.2,1.2,1.2,1.2,1.2,1.2,1.2,1.2,1.2,1.2,1.2,1.2,1.2,1.2,1.2,1.2,1.2,1.2,1.2,1.2,1.2,1.2,1.2,1.2,1.2,1.2,1.2,1.2,1.2,1.2,1.2,1.2,1.2,1.2,1.2,1.2,{"$f":"$F$121","v":1.2},1.2,1.2,1.2,1.2,1.2,1.2,1.2,1.2,1.2,1.2,1.2,1.2,1.2,1.2,1.2,1.2,1.2,1.2,1.2,1.2,1.2,1.2,1.2,1.2,1.2,1.2,1.2,1.2,1.2,1.2,1.2,1.2,1.2,1.2,1.2,1.2,1.2]
[null,null,null,"Debt Service at Minimum DSCR",null,null,null,null,"Lakhs",null,{"$f":"IF(K93,K109/K121)","v":false},{"$f":"IF(L93,L109/L121)","v":1446.3245733354697},1508.6588479922323,1573.6631439398852,1641.4509727561954,1712.1406270682858,1785.8553795749042,1862.7236902284594,1942.8794219046408,2026.4620649002534,2113.6169706131882,2204.4955947722106,2299.2557505985528,2398.0618722961381,2501.085289282606,2608.5045115892781,2720.5055268747374,2837.2821095138142,2959.0361422415604,3085.9779508502229,3218.3266524562919,false,false,false,false,false,false,false,false,false,false,false,false,false,false,false,false,false,false,false,false,false,false,false,false,false,false,false,false,false,false,false,false,false,false,false,false,false,false,false,false,false,false,false,false,{"$f":"IF(BX93,BX109/BX121)","v":false},false,false,false,false,false,false,false,false,false,false,false,false,false,false,false,false,false,false,false,false,false,false,false,false,false,false,false,false,false,false,false,false,false,false,false,false,false,false,false,false,false,false,false,false,false,false,false,false,false,false,false,false,false,false,false,false,false,false,false,false,false,false,false,{"$f":"IF(EJ93,EJ109/EJ121)","v":false},false,false,false,false,false,false,false,false,false,false,false,false,false,false,false,false,false,false,false,false,false,false,false,false,false,false,false,false,false,false,false,false,false,false,false,false,false,false,false,false,false,false,false,false,false,false,false,false,false,false,false,false,false,false,false,false,false,false,false,false,false,false,false,{"$f":"IF(GV93,GV109/GV121)","v":false},false,false,false,false,false,false,false,false,false,false,false,false,false,false,false,false,false,false,false,false,false,false,false,false,false,false,false,false,false,false,false,false,false,false,false,false,false,false,false,false,false,false,false,false,false,false,false,false,false,false,false,false,false,false,false,false,false,false,false,false,false,false,false,{"$f":"IF(JH93,JH109/JH121)","v":false},false,false,false,false,false,false,false,false,false,false,false,false,false,false,false,false,false,false,false,false,false,false,false,false,false,false,false,false,false,false,false,false,false,false,false,false,false,false,false,false,false,false,false,false,false,false,false,false,false,false,false,false,false,false,false,false,false,false,false,false,false,false,false,{"$f":"IF(LT93,LT109/LT121)","v":false},false,false,false,false,false,false,false,false,false,false,false,false,false,false,false,false,false,false,false,false,false,false,false,false,false,false,false,false,false,false,false,false,false,false,false,false,false,false,false,false,false,false,false,false,false,false,false,false,false,false,false,false,false,false,false,false,false,false,false,false,false,false,false,{"$f":"IF(OF93,OF109/OF121)","v":false},false,false,false,false,false,false,false,false,false,false,false,false,false,false,false,false,false,false,false,false,false,false,false,false,false,false,false,false,false,false,false,false,false,false,false,false,false,false,false,false,false,false,false,false,false,false,false,false,false,false,false,false,false,false,false,false,false,false,false,false,false,false,false,{"$f":"IF(QR93,QR109/QR121)","v":false},false,false,false,false,false,false,false,false,false,false,false,false,false,false,false,false,false,false,false,false,false,false,false,false,false,false,false,false,false,false,false,false,false,false,false,false,false]
[null,null,null,"Interest Rate","%",{"$f":"'Input C'!F70","v":0.08},null,null,"% p.p.",null,{"$f":"$F$123*K7/Months","v":0.08},0.08,0.08,0.08,0.08,0.08,0.08,0.08,0.08,0.08,0.08,0.08,0.08,0.08,0.08,0.08,0.08,0.08,0.08,0.08,0.08,0.08,0.08,0.08,0.08,0.08,0.08,0.08,0.08,0.08,0.08,0.08,0.08,0.08,0.08,0.08,0.08,0.08,0.08,0.08,0.08,0.08,0.08,0.08,0.08,0.08,0.08,0.08,0.08,0.08,0.08,0.08,0.08,0.08,0.08,0.08,0.08,0.08,0.08,0.08,0.08,0.08,0.08,0.08,{"$f":"$F$123*BW7/Months","v":0.08},0.08,0.08,0.08,0.08,0.08,0.08,0.08,0.08,0.08,0.08,0.08,0.08,0.08,0.08,0.08,0.08,0.08,0.08,0.08,0.08,0.08,0.08,0.08,0.08,0.08,0.08,0.08,0.08,0.08,0.08,0.08,0.08,0.08,0.08,0.08,0.08,0.08,0.08,0.08,0.08,0.08,0.08,0.08,0.08,0.08,0.08,0.08,0.08,0.08,0.08,0.08,0.08,0.08,0.08,0.08,0.08,0.08,0.08,0.08,0.08,0.08,0.08,0.08,{"$f":"$F$123*EI7/Months","v":0.08},0.08,0.08,0.08,0.08,0.08,0.08,0.08,0.08,0.08,0.08,0.08,0.08,0.08,0.08,0.08,0.08,0.08,0.08,0.08,0.08,0.08,0.08,0.08,0.08,0.08,0.08,0.08,0.08,0.08,0.08,0.08,0.08,0.08,0.08,0.08,0.08,0.08,0.08,0.08,0.08,0.08,0.08,0.08,0.08,0.08,0.08,0.08,0.08,0.08,0.08,0.08,0.08,0.08,0.08,0.08,0.08,0.08,0.08,0.08,0.08,0.08,0.08,0.08,{"$f":"$F$123*GU7/Months","v":0.08},0.08,0.08,0.08,0.08,0.08,0.08,0.08,0.08,0.08,0.08,0.08,0.08,0.08,0.08,0.08,0.08,0.08,0.08,0.08,0.08,0.08,0.08,0.08,0.08,0.08,0.08,0.08,0.08,0.08,0.08,0.08,0.08,0.08,0.08,0.08,0.08,0.08,0.08,0.08,0.08,0.08,0.08,0.08,0.08,0.08,0.08,0.08,0.08,0.08,0.08,0.08,0.08,0.08,0.08,0.08,0.08,0.08,0.08,0.08,0.08,0.08,0.08,0.08,{"$f":"$F$123*JG7/Months","v":0.08},0.08,0.08,0.08,0.08,0.08,0.08,0.08,0.08,0.08,0.08,0.08,0.08,0.08,0.08,0.08,0.08,0.08,0.08,0.08,0.08,0.08,0.08,0.08,0.08,0.08,0.08,0.08,0.08,0.08,0.08,0.08,0.08,0.08,0.08,0.08,0.08,0.08,0.08,0.08,0.08,0.08,0.08,0.08,0.08,0.08,0.08,0.08,0.08,0.08,0.08,0.08,0.08,0.08,0.08,0.08,0.08,0.08,0.08,0.08,0.08,0.08,0.08,0.08,{"$f":"$F$123*LS7/Months","v":0.08},0.08,0.08,0.08,0.08,0.08,0.08,0.08,0.08,0.08,0.08,0.08,0.08,0.08,0.08,0.08,0.08,0.08,0.08,0.08,0.08,0.08,0.08,0.08,0.08,0.08,0.08,0.08,0.08,0.08,0.08,0.08,0.08,0.08,0.08,0.08,0.08,0.08,0.08,0.08,0.08,0.08,0.08,0.08,0.08,0.08,0.08,0.08,0.08,0.08,0.08,0.08,0.08,0.08,0.08,0.08,0.08,0.08,0.08,0.08,0.08,0.08,0.08,0.08,{"$f":"$F$123*OE7/Months","v":0.08},0.08,0.08,0.08,0.08,0.08,0.08,0.08,0.08,0.08,0.08,0.08,0.08,0.08,0.08,0.08,0.08,0.08,0.08,0.08,0.08,0.08,0.08,0.08,0.08,0.08,0.08,0.08,0.08,0.08,0.08,0.08,0.08,0.08,0.08,0.08,0.08,0.08,0.08,0.08,0.08,0.08,0.08,0.08,0.08,0.08,0.08,0.08,0.08,0.08,0.08,0.08,0.08,0.08,0.08,0.08,0.08,0.08,0.08,0.08,0.08,0.08,0.08,0.08,{"$f":"$F$123*QQ7/Months","v":0.08},0.08,0.08,0.08,0.08,0.08,0.08,0.08,0.08,0.08,0.08,0.08,0.08,0.08,0.08,0.08,0.08,0.08,0.08,0.08,0.08,0.08,0.08,0.08,0.08,0.08,0.08,0.08,0.08,0.08,0.08,0.08,0.08,0.08,0.08,0.08,0.08,0.08,0.08]
[null,null,null,"Interest Rate PV Factor",null,null,null,null,"Index",1,{"$f":"J124*(1+K123*K10)","v":1},1.08,1.1664000000000001,1.2597120000000002,1.3604889600000003,1.4693280768000003,1.5868743229440005,1.7138242687795207,1.8509302102818825,1.9990046271044333,2.1589249972727882,2.3316389970546112,2.5181701168189803,2.7196237261644991,2.9371936242576591,3.172169114198272,3.425942643334134,3.7000180548008648,3.9960194991849343,4.3157010591197293,4.6609571438493083,5.033833715357253,5.4365404125858339,5.8714636455927014,6.3411807372401183,6.8484751962193284,6.8484751962193284,6.8484751962193284,6.8484751962193284,6.8484751962193284,6.8484751962193284,6.8484751962193284,6.8484751962193284,6.8484751962193284,6.8484751962193284,6.8484751962193284,6.8484751962193284,6.8484751962193284,6.8484751962193284,6.8484751962193284,6.8484751962193284,6.8484751962193284,6.8484751962193284,6.8484751962193284,6.8484751962193284,6.8484751962193284,6.8484751962193284,6.8484751962193284,6.8484751962193284,6.8484751962193284,6.8484751962193284,6.8484751962193284,6.8484751962193284,6.8484751962193284,6.8484751962193284,6.8484751962193284,6.8484751962193284,6.8484751962193284,6.8484751962193284,6.8484751962193284,6.8484751962193284,6.8484751962193284,6.8484751962193284,6.8484751962193284,{"$f":"BV124*(1+BW123*BW10)","v":6.8484751962193284},6.8484751962193284,6.8484751962193284,6.8484751962193284,6.8484751962193284,6.8484751962193284,6.8484751962193284,6.8484751962193284,6.8484751962193284,6.8484751962193284,6.8484751962193284,6.8484751962193284,6.8484751962193284,6.8484751962193284,6.8484751962193284,6.8484751962193284,6.8484751962193284,6.8484751962193284,6.8484751962193284,6.8484751962193284,6.8484751962193284,6.8484751962193284,6.8484751962193284,6.8484751962193284,6.8484751962193284,6.8484751962193284,6.8484751962193284,6.8484751962193284,6.8484751962193284,6.8484751962193284,6.8484751962193284,6.8484751962193284,6.8484751962193284,6.8484751962193284,6.8484751962193284,6.8484751962193284,6.8484751962193284,6.8484751962193284,6.8484751962193284,6.8484751962193284,6.8484751962193284,6.8484751962193284,6.8484751962193284,6.8484751962193284,6.8484751962193284,6.8484751962193284,6.8484751962193284,6.8484751962193284,6.8484751962193284,6.8484751962193284,6.8484751962193284,6.8484751962193284,6.8484751962193284,6.8484751962193284,6.8484751962193284,6.8484751962193284,6.8484751962193284,6.8484751962193284,6.8484751962193284,6.8484751962193284,6.8484751962193284,6.8484751962193284,6.8484751962193284,6.8484751962193284,{"$f":"EH124*(1+EI123*EI10)","v":6.8484751962193284},6.8484751962193284,6.8484751962193284,6.8484751962193284,6.8484751962193284,6.8484751962193284,6.8484751962193284,6.8484751962193284,6.8484751962193284,6.8484751962193284,6.8484751962193284,6.8484751962193284,6.8484751962193284,6.8484751962193284,6.8484751962193284,6.8484751962193284,6.8484751962193284,6.8484751962193284,6.8484751962193284,6.8484751962193284,6.8484751962193284,6.8484751962193284,6.8484751962193284,6.8484751962193284,6.8484751962193284,6.8484751962193284,6.8484751962193284,6.8484751962193284,6.8484751962193284,6.8484751962193284,6.8484751962193284,6.8484751962193284,6.8484751962193284,6.8484751962193284,6.8484751962193284,6.8484751962193284,6.8484751962193284,6.8484751962193284,6.8484751962193284,6.8484751962193284,6.8484751962193284,6.8484751962193284,6.8484751962193284,6.8484751962193284,6.8484751962193284,6.8484751962193284,6.8484751962193284,6.8484751962193284,6.8484751962193284,6.8484751962193284,6.8484751962193284,6.8484751962193284,6.8484751962193284,6.8484751962193284,6.8484751962193284,6.8484751962193284,6.8484751962193284,6.8484751962193284,6.8484751962193284,6.8484751962193284,6.8484751962193284,6.8484751962193284,6.8484751962193284,6.8484751962193284,{"$f":"GT124*(1+GU123*GU10)","v":6.8484751962193284},6.8484751962193284,6.8484751962193284,6.8484751962193284,6.8484751962193284,6.8484751962193284,6.8484751962193284,6.8484751962193284,6.8484751962193284,6.8484751962193284,6.8484751962193284,6.8484751962193284,6.8484751962193284,6.8484751962193284,6.8484751962193284,6.8484751962193284,6.8484751962193284,6.8484751962193284,6.8484751962193284,6.8484751962193284,6.8484751962193284,6.8484751962193284,6.8484751962193284,6.8484751962193284,6.8484751962193284,6.8484751962193284,6.8484751962193284,6.8484751962193284,6.8484751962193284,6.8484751962193284,6.8484751962193284,6.8484751962193284,6.8484751962193284,6.8484751962193284,6.8484751962193284,6.8484751962193284,6.8484751962193284,6.8484751962193284,6.8484751962193284,6.8484751962193284,6.8484751962193284,6.8484751962193284,6.8484751962193284,6.8484751962193284,6.8484751962193284,6.8484751962193284,6.8484751962193284,6.8484751962193284,6.8484751962193284,6.8484751962193284,6.8484751962193284,6.8484751962193284,6.8484751962193284,6.8484751962193284,6.8484751962193284,6.8484751962193284,6.8484751962193284,6.8484751962193284,6.8484751962193284,6.8484751962193284,6.8484751962193284,6.8484751962193284,6.8484751962193284,6.8484751962193284,{"$f":"JF124*(1+JG123*JG10)","v":6.8484751962193284},6.8484751962193284,6.8484751962193284,6.8484751962193284,6.8484751962193284,6.8484751962193284,6.8484751962193284,6.8484751962193284,6.8484751962193284,6.8484751962193284,6.8484751962193284,6.8484751962193284,6.8484751962193284,6.8484751962193284,6.8484751962193284,6.8484751962193284,6.8484751962193284,6.8484751962193284,6.8484751962193284,6.8484751962193284,6.8484751962193284,6.8484751962193284,6.8484751962193284,6.8484751962193284,6.8484751962193284,6.8484751962193284,6.8484751962193284,6.8484751962193284,6.8484751962193284,6.8484751962193284,6.8484751962193284,6.8484751962193284,6.8484751962193284,6.8484751962193284,6.8484751962193284,6.8484751962193284,6.8484751962193284,6.8484751962193284,6.8484751962193284,6.8484751962193284,6.8484751962193284,6.8484751962193284,6.8484751962193284,6.8484751962193284,6.8484751962193284,6.8484751962193284,6.8484751962193284,6.8484751962193284,6.8484751962193284,6.8484751962193284,6.8484751962193284,6.8484751962193284,6.8484751962193284,6.8484751962193284,6.8484751962193284,6.8484751962193284,6.8484751962193284,6.8484751962193284,6.8484751962193284,6.8484751962193284,6.8484751962193284,6.8484751962193284,6.8484751962193284,6.8484751962193284,{"$f":"LR124*(1+LS123*LS10)","v":6.8484751962193284},6.8484751962193284,6.8484751962193284,6.8484751962193284,6.8484751962193284,6.8484751962193284,6.8484751962193284,6.8484751962193284,6.8484751962193284,6.8484751962193284,6.8484751962193284,6.8484751962193284,6.8484751962193284,6.8484751962193284,6.8484751962193284,6.8484751962193284,6.8484751962193284,6.8484751962193284,6.8484751962193284,6.8484751962193284,6.8484751962193284,6.8484751962193284,6.8484751962193284,6.8484751962193284,6.8484751962193284,6.8484751962193284,6.8484751962193284,6.8484751962193284,6.8484751962193284,6.8484751962193284,6.8484751962193284,6.8484751962193284,6.8484751962193284,6.8484751962193284,6.8484751962193284,6.8484751962193284,6.8484751962193284,6.8484751962193284,6.8484751962193284,6.8484751962193284,6.8484751962193284,6.8484751962193284,6.8484751962193284,6.8484751962193284,6.8484751962193284,6.8484751962193284,6.8484751962193284,6.8484751962193284,6.8484751962193284,6.8484751962193284,6.8484751962193284,6.8484751962193284,6.8484751962193284,6.8484751962193284,6.8484751962193284,6.8484751962193284,6.8484751962193284,6.8484751962193284,6.8484751962193284,6.8484751962193284,6.8484751962193284,6.8484751962193284,6.8484751962193284,6.8484751962193284,{"$f":"OD124*(1+OE123*OE10)","v":6.8484751962193284},6.8484751962193284,6.8484751962193284,6.8484751962193284,6.8484751962193284,6.8484751962193284,6.8484751962193284,6.8484751962193284,6.8484751962193284,6.8484751962193284,6.8484751962193284,6.8484751962193284,6.8484751962193284,6.8484751962193284,6.8484751962193284,6.8484751962193284,6.8484751962193284,6.8484751962193284,6.8484751962193284,6.8484751962193284,6.8484751962193284,6.8484751962193284,6.8484751962193284,6.8484751962193284,6.8484751962193284,6.8484751962193284,6.8484751962193284,6.8484751962193284,6.8484751962193284,6.8484751962193284,6.8484751962193284,6.8484751962193284,6.8484751962193284,6.8484751962193284,6.8484751962193284,6.8484751962193284,6.8484751962193284,6.8484751962193284,6.8484751962193284,6.8484751962193284,6.8484751962193284,6.8484751962193284,6.8484751962193284,6.8484751962193284,6.8484751962193284,6.8484751962193284,6.8484751962193284,6.8484751962193284,6.8484751962193284,6.8484751962193284,6.8484751962193284,6.8484751962193284,6.8484751962193284,6.8484751962193284,6.8484751962193284,6.8484751962193284,6.8484751962193284,6.8484751962193284,6.8484751962193284,6.8484751962193284,6.8484751962193284,6.8484751962193284,6.8484751962193284,6.8484751962193284,{"$f":"QP124*(1+QQ123*QQ10)","v":6.8484751962193284},6.8484751962193284,6.8484751962193284,6.8484751962193284,6.8484751962193284,6.8484751962193284,6.8484751962193284,6.8484751962193284,6.8484751962193284,6.8484751962193284,6.8484751962193284,6.8484751962193284,6.8484751962193284,6.8484751962193284,6.8484751962193284,6.8484751962193284,6.8484751962193284,6.8484751962193284,6.8484751962193284,6.8484751962193284,6.8484751962193284,6.8484751962193284,6.8484751962193284,6.8484751962193284,6.8484751962193284,6.8484751962193284,6.8484751962193284,6.8484751962193284,6.8484751962193284,6.8484751962193284,6.8484751962193284,6.8484751962193284,6.8484751962193284,6.8484751962193284,6.8484751962193284,6.8484751962193284,6.8484751962193284,6.8484751962193284,6.8484751962193284]
[null,null,null,"PV of DS =Debt Size from DSCR","Lakhs",{"$f":"SUMPRODUCT(K122:LT122/K124:LT124)","v":19629.404735945478}]
[]
[null,null,"Applied Debt from Debt to Capital or CFADS"]
[null,null,null,"Debt Method","Label",{"$f":"IF(F129,\"Debt to Capital Constraint\",\"DSCR and Cash Flow Constraint\")","v":"Debt to Capital Constraint"}]
[null,null,null,"Debt Issued","Lakhs",{"$f":"IF(F129,F114,F125)","v":19500}]
[]
[null,null,"Debt Balance Post COD"]
[null,null,null,"Less: Repayment",null,null,null,{"$f":"SUM(K140:XFD140)","v":19500.000000000084},"Lakhs",null,{"$f":"K133-K143","v":0},-123.21016559429563,-71.143636175160964,-12.259364939310672,54.100830723513127,128.65253756319044,212.17353651063172,305.50898402847065,409.5770164014416,525.37481114000707,653.98514241787416,796.58347043137701,954.44560777394076,1128.9560093810394,1321.6167363407474,1534.0571479044452,1768.0443803954331,2025.4946764260353,2308.4856329242916,2619.2694419697359,2960.2872043766492,4.6202330850064755E-12,4.9898517318069932E-12,5.3890398703515529E-12,5.8201630599796775E-12,6.2857761047780518E-12,0,0,0,0,0,0,{"$f":"AQ133-AQ143","v":0},0,0,0,0,0,0,0,0,0,0,0,0,0,0,0,0,0,0,0,0,0,0,0,0,0,0,0,0,0,0,0,{"$f":"BW133-BW143","v":0},0,0,0,0,0,0,0,0,0,0,0,0,0,0,0,0,0,0,0,0,0,0,0,0,0,0,0,0,0,0,0,{"$f":"DC133-DC143","v":0},0,0,0,0,0,0,0,0,0,0,0,0,0,0,0,0,0,0,0,0,0,0,0,0,0,0,0,0,0,0,0,{"$f":"EI133-EI143","v":0},0,0,0,0,0,0,0,0,0,0,0,0,0,0,0,0,0,0,0,0,0,{"$f":"FE133-FE143","v":0},0,0,0,0,0,0,0,0,0,0,0,0,0,0,0,0,0,0,0,0,0,0,0,0,0,0,0,0,0,0,0,0,0,0,0,0,0,0,0,0,0,0,0,0,0,0,0,0,0,0,0,{"$f":"HE133-HE143","v":0},0,0,0,0,0,0,0,0,0,0,0,0,0,0,0,0,0,0,0,0,0,0,0,0,0,0,0,0,0,0,0,0,0,0,0,0,0,0,0,0,0,0,0,0,0,0,0,0,0,0,0,0,0,0,0,0,0,0,0,0,0,0,0,{"$f":"JQ133-JQ143","v":0},0,0,0,0,0,0,0,0,0,0,0,0,0,0,0,0,0,0,0,0,0,0,0,0,0,{"$f":"KQ133-KQ143","v":0},0,0,0,0,0,0,0,0,0,0,0,0,0,0,0,0,0,0,0,0,0,0,0,0,0,0,0,0,0,{"$f":"LU133-LU143","v":0},0,0,0,0,0,0,{"$f":"MB133-MB143","v":0},0,0,0,0,0,0,0,0,0,0,0,0,0,0,0,0,0,0,{"$f":"MU133-MU143","v":0},0,0,0,0,0,0,{"$f":"NB133-NB143","v":0},0,0,0,0,0,0,0,0,0,0,0,0,0,0,{"$f":"NQ133-NQ143","v":0},0,0,0,0,0,0,0,0,0,0,0,0,0,0,0,0,0,0,0,0,0,0,0,0,0,0,0,0,0,0,0,0,0,0,0,0,0,0,0,0,0,0,0,0,0,0,0,0,0,0,0,0,0,0,0,0,0,0,0,0,0,0,0,{"$f":"QC133-QC143","v":0},0,0,0,0,0,0,0,0,0,0,0,0,0,0,0,0,0,0,0,0,0,0,0,0,0,0,0,0,0,0,0,0,0,0,0,0,0,0,0,0,0,0,0,0,0,0,0,0,0,0,0,0]
[null,null,null,"Closing Blance",null,null,null,null,"Lakhs",null,{"$f":"K138+K139-K140","v":19500},{"$f":"L138+L139-L140","v":19623.210165594297},19694.353801769459,19706.613166708768,19652.512335985255,19523.859798422065,19311.686261911433,19006.177277882962,18596.600261481519,18071.225450341513,17417.240307923639,16620.656837492261,15666.211229718319,14537.25522033728,13215.638483996532,11681.581336092087,9913.5369556966543,7888.0422792706195,5579.5566463463274,2960.2872043765915,-5.7752913562580943E-11,-6.2373146647587417E-11,-6.7362998379394413E-11,-7.2752038249745971E-11,-7.8572201309725648E-11,-8.4857977414503701E-11,-8.4857977414503701E-11,-8.4857977414503701E-11,-8.4857977414503701E-11,-8.4857977414503701E-11,-8.4857977414503701E-11,-8.4857977414503701E-11,-8.4857977414503701E-11,-8.4857977414503701E-11,-8.4857977414503701E-11,-8.4857977414503701E-11,-8.4857977414503701E-11,-8.4857977414503701E-11,-8.4857977414503701E-11,-8.4857977414503701E-11,-8.4857977414503701E-11,-8.4857977414503701E-11,-8.4857977414503701E-11,-8.4857977414503701E-11,-8.4857977414503701E-11,-8.4857977414503701E-11,-8.4857977414503701E-11,-8.4857977414503701E-11,-8.4857977414503701E-11,-8.4857977414503701E-11,-8.4857977414503701E-11,-8.4857977414503701E-11,-8.4857977414503701E-11,-8.4857977414503701E-11,-8.4857977414503701E-11,-8.4857977414503701E-11,-8.4857977414503701E-11,-8.4857977414503701E-11,-8.4857977414503701E-11,-8.4857977414503701E-11,-8.4857977414503701E-11,-8.4857977414503701E-11,-8.4857977414503701E-11,-8.4857977414503701E-11,-8.4857977414503701E-11,{"$f":"BX138+BX139-BX140","v":-8.4857977414503701E-11},-8.4857977414503701E-11,-8.4857977414503701E-11,-8.4857977414503701E-11,-8.4857977414503701E-11,-8.4857977414503701E-11,-8.4857977414503701E-11,-8.4857977414503701E-11,-8.4857977414503701E-11,-8.4857977414503701E-11,-8.4857977414503701E-11,-8.4857977414503701E-11,-8.4857977414503701E-11,-8.4857977414503701E-11,-8.4857977414503701E-11,-8.4857977414503701E-11,-8.4857977414503701E-11,-8.4857977414503701E-11,-8.4857977414503701E-11,-8.4857977414503701E-11,-8.4857977414503701E-11,-8.4857977414503701E-11,-8.4857977414503701E-11,-8.4857977414503701E-11,-8.4857977414503701E-11,-8.4857977414503701E-11,-8.4857977414503701E-11,-8.4857977414503701E-11,-8.4857977414503701E-11,-8.4857977414503701E-11,-8.4857977414503701E-11,-8.4857977414503701E-11,-8.4857977414503701E-11,-8.4857977414503701E-11,-8.4857977414503701E-11,-8.4857977414503701E-11,-8.4857977414503701E-11,-8.4857977414503701E-11,-8.4857977414503701E-11,-8.4857977414503701E-11,-8.4857977414503701E-11,-8.4857977414503701E-11,-8.4857977414503701E-11,-8.4857977414503701E-11,-8.4857977414503701E-11,-8.4857977414503701E-11,-8.4857977414503701E-11,-8.4857977414503701E-11,-8.4857977414503701E-11,-8.4857977414503701E-11,-8.4857977414503701E-11,-8.4857977414503701E-11,-8.4857977414503701E-11,-8.4857977414503701E-11,-8.4857977414503701E-11,-8.4857977414503701E-11,-8.4857977414503701E-11,-8.4857977414503701E-11,-8.4857977414503701E-11,-8.4857977414503701E-11,-8.4857977414503701E-11,-8.4857977414503701E-11,-8.4857977414503701E-11,-8.4857977414503701E-11,{"$f":"EJ138+EJ139-EJ140","v":-8.4857977414503701E-11},-8.4857977414503701E-11,-8.4857977414503701E-11,-8.4857977414503701E-11,-8.4857977414503701E-11,-8.4857977414503701E-11,-8.4857977414503701E-11,-8.4857977414503701E-11,-8.4857977414503701E-11,-8.4857977414503701E-11,-8.4857977414503701E-11,-8.4857977414503701E-11,-8.4857977414503701E-11,-8.4857977414503701E-11,-8.4857977414503701E-11,-8.4857977414503701E-11,-8.4857977414503701E-11,-8.4857977414503701E-11,-8.4857977414503701E-11,-8.4857977414503701E-11,-8.4857977414503701E-11,{"$f":"FE138+FE139-FE140","v":-8.4857977414503701E-11},-8.4857977414503701E-11,-8.4857977414503701E-11,-8.4857977414503701E-11,-8.4857977414503701E-11,-8.4857977414503701E-11,-8.4857977414503701E-11,-8.4857977414503701E-11,-8.4857977414503701E-11,-8.4857977414503701E-11,-8.4857977414503701E-11,-8.4857977414503701E-11,-8.4857977414503701E-11,-8.4857977414503701E-11,-8.4857977414503701E-11,-8.4857977414503701E-11,-8.4857977414503701E-11,-8.4857977414503701E-11,-8.4857977414503701E-11,-8.4857977414503701E-11,-8.4857977414503701E-11,-8.4857977414503701E-11,-8.4857977414503701E-11,-8.4857977414503701E-11,-8.4857977414503701E-11,-8.4857977414503701E-11,-8.4857977414503701E-11,-8.4857977414503701E-11,-8.4857977414503701E-11,-8.4857977414503701E-11,-8.4857977414503701E-11,-8.4857977414503701E-11,-8.4857977414503701E-11,-8.4857977414503701E-11,-8.4857977414503701E-11,-8.4857977414503701E-11,-8.4857977414503701E-11,-8.4857977414503701E-11,-8.4857977414503701E-11,-8.4857977414503701E-11,-8.4857977414503701E-11,-8.4857977414503701E-11,-8.4857977414503701E-11,-8.4857977414503701E-11,-8.4857977414503701E-11,-8.4857977414503701E-11,-8.4857977414503701E-11,-8.4857977414503701E-11,-8.4857977414503701E-11,-8.4857977414503701E-11,-8.4857977414503701E-11,-8.4857977414503701E-11,{"$f":"HE138+HE139-HE140","v":-8.4857977414503701E-11},-8.4857977414503701E-11,-8.4857977414503701E-11,-8.4857977414503701E-11,-8.4857977414503701E-11,-8.4857977414503701E-11,-8.4857977414503701E-11,-8.4857977414503701E-11,-8.4857977414503701E-11,-8.4857977414503701E-11,-8.4857977414503701E-11,-8.4857977414503701E-11,-8.4857977414503701E-11,-8.4857977414503701E-11,-8.4857977414503701E-11,-8.4857977414503701E-11,-8.4857977414503701E-11,-8.4857977414503701E-11,-8.4857977414503701E-11,-8.4857977414503701E-11,-8.4857977414503701E-11,-8.4857977414503701E-11,-8.4857977414503701E-11,-8.4857977414503701E-11,-8.4857977414503701E-11,-8.4857977414503701E-11,-8.4857977414503701E-11,-8.4857977414503701E-11,-8.4857977414503701E-11,-8.4857977414503701E-11,-8.4857977414503701E-11,-8.4857977414503701E-11,-8.4857977414503701E-11,-8.4857977414503701E-11,-8.4857977414503701E-11,-8.4857977414503701E-11,-8.4857977414503701E-11,-8.4857977414503701E-11,-8.4857977414503701E-11,-8.4857977414503701E-11,-8.4857977414503701E-11,-8.4857977414503701E-11,-8.4857977414503701E-11,-8.4857977414503701E-11,-8.4857977414503701E-11,-8.4857977414503701E-11,-8.4857977414503701E-11,-8.4857977414503701E-11,-8.4857977414503701E-11,-8.4857977414503701E-11,-8.4857977414503701E-11,-8.4857977414503701E-11,-8.4857977414503701E-11,-8.4857977414503701E-11,-8.4857977414503701E-11,-8.4857977414503701E-11,-8.4857977414503701E-11,-8.4857977414503701E-11,-8.4857977414503701E-11,-8.4857977414503701E-11,-8.4857977414503701E-11,-8.4857977414503701E-11,-8.4857977414503701E-11,-8.4857977414503701E-11,{"$f":"JQ138+JQ139-JQ140","v":-8.4857977414503701E-11},-8.4857977414503701E-11,-8.4857977414503701E-11,-8.4857977414503701E-11,-8.4857977414503701E-11,-8.4857977414503701E-11,-8.4857977414503701E-11,-8.4857977414503701E-11,-8.4857977414503701E-11,-8.4857977414503701E-11,-8.4857977414503701E-11,-8.4857977414503701E-11,-8.4857977414503701E-11,-8.4857977414503701E-11,-8.4857977414503701E-11,-8.4857977414503701E-11,-8.4857977414503701E-11,-8.4857977414503701E-11,-8.4857977414503701E-11,-8.4857977414503701E-11,-8.4857977414503701E-11,-8.4857977414503701E-11,-8.4857977414503701E-11,-8.4857977414503701E-11,-8.4857977414503701E-11,-8.4857977414503701E-11,{"$f":"KQ138+KQ139-KQ140","v":-8.4857977414503701E-11},-8.4857977414503701E-11,-8.4857977414503701E-11,-8.4857977414503701E-11,-8.4857977414503701E-11,-8.4857977414503701E-11,-8.4857977414503701E-11,-8.4857977414503701E-11,-8.4857977414503701E-11,-8.4857977414503701E-11,-8.4857977414503701E-11,-8.4857977414503701E-11,-8.4857977414503701E-11,-8.4857977414503701E-11,-8.4857977414503701E-11,-8.4857977414503701E-11,-8.4857977414503701E-11,-8.4857977414503701E-11,-8.4857977414503701E-11,-8.4857977414503701E-11,-8.4857977414503701E-11,-8.4857977414503701E-11,-8.4857977414503701E-11,-8.4857977414503701E-11,-8.4857977414503701E-11,-8.4857977414503701E-11,-8.4857977414503701E-11,-8.4857977414503701E-11,-8.4857977414503701E-11,-8.4857977414503701E-11,{"$f":"LU138+LU139-LU140","v":-8.4857977414503701E-11},-8.4857977414503701E-11,-8.4857977414503701E-11,-8.4857977414503701E-11,-8.4857977414503701E-11,-8.4857977414503701E-11,-8.4857977414503701E-11,{"$f":"MB138+MB139-MB140","v":-8.4857977414503701E-11},-8.4857977414503701E-11,-8.4857977414503701E-11,-8.4857977414503701E-11,-8.4857977414503701E-11,-8.4857977414503701E-11,-8.4857977414503701E-11,-8.4857977414503701E-11,-8.4857977414503701E-11,-8.4857977414503701E-11,-8.4857977414503701E-11,-8.4857977414503701E-11,-8.4857977414503701E-11,-8.4857977414503701E-11,-8.4857977414503701E-11,-8.4857977414503701E-11,-8.4857977414503701E-11,-8.4857977414503701E-11,-8.4857977414503701E-11,{"$f":"MU138+MU139-MU140","v":-8.4857977414503701E-11},-8.4857977414503701E-11,-8.4857977414503701E-11,-8.4857977414503701E-11,-8.4857977414503701E-11,-8.4857977414503701E-11,-8.4857977414503701E-11,{"$f":"NB138+NB139-NB140","v":-8.4857977414503701E-11},-8.4857977414503701E-11,-8.4857977414503701E-11,-8.4857977414503701E-11,-8.4857977414503701E-11,-8.4857977414503701E-11,-8.4857977414503701E-11,-8.4857977414503701E-11,-8.4857977414503701E-11,-8.4857977414503701E-11,-8.4857977414503701E-11,-8.4857977414503701E-11,-8.4857977414503701E-11,-8.4857977414503701E-11,-8.4857977414503701E-11,{"$f":"NQ138+NQ139-NQ140","v":-8.4857977414503701E-11},-8.4857977414503701E-11,-8.4857977414503701E-11,-8.4857977414503701E-11,-8.4857977414503701E-11,-8.4857977414503701E-11,-8.4857977414503701E-11,-8.4857977414503701E-11,-8.4857977414503701E-11,-8.4857977414503701E-11,-8.4857977414503701E-11,-8.4857977414503701E-11,-8.4857977414503701E-11,-8.4857977414503701E-11,-8.4857977414503701E-11,-8.4857977414503701E-11,-8.4857977414503701E-11,-8.4857977414503701E-11,-8.4857977414503701E-11,-8.4857977414503701E-11,-8.4857977414503701E-11,-8.4857977414503701E-11,-8.4857977414503701E-11,-8.4857977414503701E-11,-8.4857977414503701E-11,-8.4857977414503701E-11,-8.4857977414503701E-11,-8.4857977414503701E-11,-8.4857977414503701E-11,-8.4857977414503701E-11,-8.4857977414503701E-11,-8.4857977414503701E-11,-8.4857977414503701E-11,-8.4857977414503701E-11,-8.4857977414503701E-11,-8.4857977414503701E-11,-8.4857977414503701E-11,-8.4857977414503701E-11,-8.4857977414503701E-11,-8.4857977414503701E-11,-8.4857977414503701E-11,-8.4857977414503701E-11,-8.4857977414503701E-11,-8.4857977414503701E-11,-8.4857977414503701E-11,-8.4857977414503701E-11,-8.4857977414503701E-11,-8.4857977414503701E-11,-8.4857977414503701E-11,-8.4857977414503701E-11,-8.4857977414503701E-11,-8.4857977414503701E-11,-8.4857977414503701E-11,-8.4857977414503701E-11,-8.4857977414503701E-11,-8.4857977414503701E-11,-8.4857977414503701E-11,-8.4857977414503701E-11,-8.4857977414503701E-11,-8.4857977414503701E-11,-8.4857977414503701E-11,-8.4857977414503701E-11,-8.4857977414503701E-11,-8.4857977414503701E-11,{"$f":"QC138+QC139-QC140","v":-8.4857977414503701E-11},-8.4857977414503701E-11,-8.4857977414503701E-11,-8.4857977414503701E-11,-8.4857977414503701E-11,-8.4857977414503701E-11,-8.4857977414503701E-11,-8.4857977414503701E-11,-8.4857977414503701E-11,-8.4857977414503701E-11,-8.4857977414503701E-11,-8.4857977414503701E-11,-8.4857977414503701E-11,-8.4857977414503701E-11,-8.4857977414503701E-11,-8.4857977414503701E-11,-8.4857977414503701E-11,-8.4857977414503701E-11,-8.4857977414503701E-11,-8.4857977414503701E-11,-8.4857977414503701E-11,-8.4857977414503701E-11,-8.4857977414503701E-11,-8.4857977414503701E-11,-8.4857977414503701E-11,-8.4857977414503701E-11,-8.4857977414503701E-11,-8.4857977414503701E-11,-8.4857977414503701E-11,-8.4857977414503701E-11,-8.4857977414503701E-11,-8.4857977414503701E-11,-8.4857977414503701E-11,-8.4857977414503701E-11,-8.4857977414503701E-11,-8.4857977414503701E-11,-8.4857977414503701E-11,-8.4857977414503701E-11,-8.4857977414503701E-11,-8.4857977414503701E-11,-8.4857977414503701E-11,-8.4857977414503701E-11,-8.4857977414503701E-11,-8.4857977414503701E-11,-8.4857977414503701E-11,-8.4857977414503701E-11,-8.4857977414503701E-11,-8.4857977414503701E-11,-8.4857977414503701E-11,-8.4857977414503701E-11,-8.4857977414503701E-11,-8.4857977414503701E-11,-8.4857977414503701E-11]
[]
[]
[null,null,null,"Depreciation Rate",null,null,null,null,"%",null,{"$f":"K71","v":0},{"$f":"L71","v":0.04},0.04,0.04,0.04,0.04,0.04,0.04,0.04,0.04,0.04,0.04,0.04,0.04,0.04,0.04,0.04,0.04,0.04,0.04,0.04,0.04,0.04,0.04,0.04,0.04,0,0,0,0,0,0,0,0,0,0,0,0,0,0,0,0,0,0,0,0,0,0,0,0,0,0,0,0,0,0,0,0,0,0,0,0,0,0,0,{"$f":"BX71","v":0},0,0,0,0,0,0,0,0,0,0,0,0,0,0,0,0,0,0,0,0,0,0,0,0,0,0,0,0,0,0,0,0,0,0,0,0,0,0,0,0,0,0,0,0,0,0,0,0,0,0,0,0,0,0,0,0,0,0,0,0,0,0,0,{"$f":"EJ71","v":0},0,0,0,0,0,0,0,0,0,0,0,0,0,0,0,0,0,0,0,0,0,0,0,0,0,0,0,0,0,0,0,0,0,0,0,0,0,0,0,0,0,0,0,0,0,0,0,0,0,0,0,0,0,0,0,0,0,0,0,0,0,0,0,{"$f":"GV71","v":0},0,0,0,0,0,0,0,0,0,0,0,0,0,0,0,0,0,0,0,0,0,0,0,0,0,0,0,0,0,0,0,0,0,0,0,0,0,0,0,0,0,0,0,0,0,0,0,0,0,0,0,0,0,0,0,0,0,0,0,0,0,0,0,{"$f":"JH71","v":0},0,0,0,0,0,0,0,0,0,0,0,0,0,0,0,0,0,0,0,0,0,0,0,0,0,0,0,0,0,0,0,0,0,0,0,0,0,0,0,0,0,0,0,0,0,0,0,0,0,0,0,0,0,0,0,0,0,0,0,0,0,0,0,{"$f":"LT71","v":0},0,0,0,0,0,0,0,{"$f":"MB71","v":0},0,0,0,0,0,0,0,0,0,0,0,0,0,0,0,0,0,0,{"$f":"MU71","v":0},0,0,0,0,0,0,{"$f":"NB71","v":0},0,0,0,0,0,0,0,0,0,0,0,0,0,0,{"$f":"NQ71","v":0},0,0,0,0,0,0,0,0,0,0,0,0,0,0,0,0,0,0,0,0,0,0,0,0,0,0,0,0,0,0,0,0,0,0,0,0,0,0,0,0,0,0,0,0,0,0,0,0,0,0,0,0,0,0,0,0,0,0,0,0,0,0,0,{"$f":"QC71","v":0},0,0,0,0,0,0,0,0,0,0,0,0,0,0,0,0,0,0,0,0,0,0,0,0,0,0,0,0,0,0,0,0,0,0,0,0,0,0,0,0,0,0,0,0,0,0,0,0,0,0,0,0]
[null,null,null,"Accumulated IDC",null,null,null,null,"Lakhs",null,{"$f":"IFERROR(J150+K176,0)","v":0},{"$f":"IFERROR(K150+L176,0)","v":0},0,0,0,0,0,0,0,0,0,0,0,0,0,0,0,0,0,0,0,0,0,0,0,0,0,0,0,0,0,0,0,0,0,0,0,0,0,0,0,0,0,0,0,0,0,0,0,0,0,0,0,0,0,0,0,0,0,0,0,0,0,0,0,{"$f":"IFERROR(BW150+BX176,0)","v":0},0,0,0,0,0,0,0,0,0,0,0,0,0,0,0,0,0,0,0,0,0,0,0,0,0,0,0,0,0,0,0,0,0,0,0,0,0,0,0,0,0,0,0,0,0,0,0,0,0,0,0,0,0,0,0,0,0,0,0,0,0,0,0,{"$f":"IFERROR(EI150+EJ176,0)","v":0},0,0,0,0,0,0,0,0,0,0,0,0,0,0,0,0,0,0,0,0,0,0,0,0,0,0,0,0,0,0,0,0,0,0,0,0,0,0,0,0,0,0,0,0,0,0,0,0,0,0,0,0,0,0,0,0,0,0,0,0,0,0,0,{"$f":"IFERROR(GU150+GV176,0)","v":0},0,0,0,0,0,0,0,0,0,0,0,0,0,0,0,0,0,0,0,0,0,0,0,0,0,0,0,0,0,0,0,0,0,0,0,0,0,0,0,0,0,0,0,0,0,0,0,0,0,0,0,0,0,0,0,0,0,0,0,0,0,0,0,{"$f":"IFERROR(JG150+JH176,0)","v":0},0,0,0,0,0,0,0,0,0,0,0,0,0,0,0,0,0,0,0,0,0,0,0,0,0,0,0,0,0,0,0,0,0,0,0,0,0,0,0,0,0,0,0,0,0,0,0,0,0,0,0,0,0,0,0,0,0,0,0,0,0,0,0,{"$f":"IFERROR(LS150+LT176,0)","v":0},0,0,0,0,0,0,0,0,0,0,0,0,0,0,0,0,0,0,0,0,0,0,0,0,0,0,0,0,0,0,0,0,0,0,0,0,0,0,0,0,0,0,0,0,0,0,0,0,0,0,0,0,0,0,0,0,0,0,0,0,0,0,0,{"$f":"IFERROR(OE150+OF176,0)","v":0},0,0,0,0,0,0,0,0,0,0,0,0,0,0,0,0,0,0,0,0,0,0,0,0,0,0,0,0,0,0,0,0,0,0,0,0,0,0,0,0,0,0,0,0,0,0,0,0,0,0,0,0,0,0,0,0,0,0,0,0,0,0,0,{"$f":"IFERROR(QQ150+QR176,0)","v":0},0,0,0,0,0,0,0,0,0,0,0,0,0,0,0,0,0,0,0,0,0,0,0,0,0,0,0,0,0,0,0,0,0,0,0,0,0]
[null,null,null,"Depreciation on IDC and Fees",null,null,null,{"$f":"SUM(K154:XFD154)","v":0},"Lakhs",null,{"$f":"K153*K149","v":0},{"$f":"L153*L149","v":0},0,0,0,0,0,0,0,0,0,0,0,0,0,0,0,0,0,0,0,0,0,0,0,0,0,0,0,0,0,0,0,0,0,0,0,0,0,0,0,0,0,0,0,0,0,0,0,0,0,0,0,0,0,0,0,0,0,0,0,0,0,0,0,{"$f":"BX153*BX149","v":0},0,0,0,0,0,0,0,0,0,0,0,0,0,0,0,0,0,0,0,0,0,0,0,0,0,0,0,0,0,0,0,0,0,0,0,0,0,0,0,0,0,0,0,0,0,0,0,0,0,0,0,0,0,0,0,0,0,0,0,0,0,0,0,{"$f":"EJ153*EJ149","v":0},0,0,0,0,0,0,0,0,0,0,0,0,0,0,0,0,0,0,0,0,0,0,0,0,0,0,0,0,0,0,0,0,0,0,0,0,0,0,0,0,0,0,0,0,0,0,0,0,0,0,0,0,0,0,0,0,0,0,0,0,0,0,0,{"$f":"GV153*GV149","v":0},0,0,0,0,0,0,0,0,0,0,0,0,0,0,0,0,0,0,0,0,0,0,0,0,0,0,0,0,0,0,0,0,0,0,0,0,0,0,0,0,0,0,0,0,0,0,0,0,0,0,0,0,0,0,0,0,0,0,0,0,0,0,0,{"$f":"JH153*JH149","v":0},0,0,0,0,0,0,0,0,0,0,0,0,0,0,0,0,0,0,0,0,0,0,0,0,0,0,0,0,0,0,0,0,0,0,0,0,0,0,0,0,0,0,0,0,0,0,0,0,0,0,0,0,0,0,0,0,0,0,0,0,0,0,0,{"$f":"LT153*LT149","v":0},0,0,0,0,0,0,0,{"$f":"MB153*MB149","v":0},0,0,0,0,0,0,0,0,0,0,0,0,0,0,0,0,0,0,{"$f":"MU153*MU149","v":0},0,0,0,0,0,0,{"$f":"NB153*NB149","v":0},0,0,0,0,0,0,0,0,0,0,0,0,0,0,{"$f":"NQ153*NQ149","v":0},0,0,0,0,0,0,0,0,0,0,0,0,0,0,0,0,0,0,0,0,0,0,0,0,0,0,0,0,0,0,0,0,0,0,0,0,0,0,0,0,0,0,0,0,0,0,0,0,0,0,0,0,0,0,0,0,0,0,0,0,0,0,0,{"$f":"QC153*QC149","v":0},0,0,0,0,0,0,0,0,0,0,0,0,0,0,0,0,0,0,0,0,0,0,0,0,0,0,0,0,0,0,0,0,0,0,0,0,0,0,0,0,0,0,0,0,0,0,0,0,0,0,0,0]
[]
[null,null,null,"Less: Depreciation",null,null,null,null,"Lakhs",null,{"$f":"K72","v":0},1040,1040,1040,1040,1040,1040,1040,1040,1040,1040,1040,1040,1040,1040,1040,1040,1040,1040,1040,1040,1040,1040,1040,1040,1040,0,0,0,0,0,0,{"$f":"AQ72","v":0},0,0,0,0,0,0,0,0,0,0,0,0,0,0,0,0,0,0,0,0,0,0,0,0,0,0,0,0,0,0,0,{"$f":"BW72","v":0},0,0,0,0,0,0,0,0,0,0,0,0,0,0,0,0,0,0,0,0,0,0,0,0,0,0,0,0,0,0,0,{"$f":"DC72","v":0},0,0,0,0,0,0,0,0,0,0,0,0,0,0,0,0,0,0,0,0,0,0,0,0,0,0,0,0,0,0,0,{"$f":"EI72","v":0},0,0,0,0,0,0,0,0,0,0,0,0,0,0,0,0,0,0,0,0,0,{"$f":"FE72","v":0},0,0,0,0,0,0,0,0,0,0,0,0,0,0,0,0,0,0,0,0,0,0,0,0,0,0,0,0,0,0,0,0,0,0,0,0,0,0,0,0,0,0,0,0,0,0,0,0,0,0,0,{"$f":"HE72","v":0},0,0,0,0,0,0,0,0,0,0,0,0,0,0,0,0,0,0,0,0,0,0,0,0,0,0,0,0,0,0,0,0,0,0,0,0,0,0,0,0,0,0,0,0,0,0,0,0,0,0,0,0,0,0,0,0,0,0,0,0,0,0,0,{"$f":"JQ72","v":0},0,0,0,0,0,0,0,0,0,0,0,0,0,0,0,0,0,0,0,0,0,0,0,0,0,{"$f":"KQ72","v":0},0,0,0,0,0,0,0,0,0,0,0,0,0,0,0,0,0,0,0,0,0,0,0,0,0,0,0,0,0,{"$f":"LU72","v":0},0,0,0,0,0,0,{"$f":"MB72","v":0},0,0,0,0,0,0,0,0,0,0,0,0,0,0,0,0,0,0,{"$f":"MU72","v":0},0,0,0,0,0,0,{"$f":"NB72","v":0},0,0,0,0,0,0,0,0,0,0,0,0,0,0,{"$f":"NQ72","v":0},0,0,0,0,0,0,0,0,0,0,0,0,0,0,0,0,0,0,0,0,0,0,0,0,0,0,0,0,0,0,0,0,0,0,0,0,0,0,0,0,0,0,0,0,0,0,0,0,0,0,0,0,0,0,0,0,0,0,0,0,0,0,0,{"$f":"QC72","v":0},0,0,0,0,0,0,0,0,0,0,0,0,0,0,0,0,0,0,0,0,0,0,0,0,0,0,0,0,0,0,0,0,0,0,0,0,0,0,0,0,0,0,0,0,0,0,0,0,0,0,0,0]
[null,null,null,"Less: Depreciation on IDC and Fees",null,null,null,null,"Lakhs",null,{"$f":"IFERROR(K154,0)","v":0},{"$f":"IFERROR(L154,0)","v":0},0,0,0,0,0,0,0,0,0,0,0,0,0,0,0,0,0,0,0,0,0,0,0,0,0,0,0,0,0,0,0,0,0,0,0,0,0,0,0,0,0,0,0,0,0,0,0,0,0,0,0,0,0,0,0,0,0,0,0,0,0,0,0,{"$f":"IFERROR(BX154,0)","v":0},0,0,0,0,0,0,0,0,0,0,0,0,0,0,0,0,0,0,0,0,0,0,0,0,0,0,0,0,0,0,0,0,0,0,0,0,0,0,0,0,0,0,0,0,0,0,0,0,0,0,0,0,0,0,0,0,0,0,0,0,0,0,0,{"$f":"IFERROR(EJ154,0)","v":0},0,0,0,0,0,0,0,0,0,0,0,0,0,0,0,0,0,0,0,0,0,0,0,0,0,0,0,0,0,0,0,0,0,0,0,0,0,0,0,0,0,0,0,0,0,0,0,0,0,0,0,0,0,0,0,0,0,0,0,0,0,0,0,{"$f":"IFERROR(GV154,0)","v":0},0,0,0,0,0,0,0,0,0,0,0,0,0,0,0,0,0,0,0,0,0,0,0,0,0,0,0,0,0,0,0,0,0,0,0,0,0,0,0,0,0,0,0,0,0,0,0,0,0,0,0,0,0,0,0,0,0,0,0,0,0,0,0,{"$f":"IFERROR(JH154,0)","v":0},0,0,0,0,0,0,0,0,0,0,0,0,0,0,0,0,0,0,0,0,0,0,0,0,0,0,0,0,0,0,0,0,0,0,0,0,0,0,0,0,0,0,0,0,0,0,0,0,0,0,0,0,0,0,0,0,0,0,0,0,0,0,0,{"$f":"IFERROR(LT154,0)","v":0},0,0,0,0,0,0,0,0,0,0,0,0,0,0,0,0,0,0,0,0,0,0,0,0,0,0,0,0,0,0,0,0,0,0,0,0,0,0,0,0,0,0,0,0,0,0,0,0,0,0,0,0,0,0,0,0,0,0,0,0,0,0,0,{"$f":"IFERROR(OF154,0)","v":0},0,0,0,0,0,0,0,0,0,0,0,0,0,0,0,0,0,0,0,0,0,0,0,0,0,0,0,0,0,0,0,0,0,0,0,0,0,0,0,0,0,0,0,0,0,0,0,0,0,0,0,0,0,0,0,0,0,0,0,0,0,0,0,{"$f":"IFERROR(QR154,0)","v":0},0,0,0,0,0,0,0,0,0,0,0,0,0,0,0,0,0,0,0,0,0,0,0,0,0,0,0,0,0,0,0,0,0,0,0,0,0]
[null,null,null,"EBT",null,null,null,null,"Lakhs",null,{"$f":"K160-K161","v":0},{"$f":"L160-L161","v":-864.41051199743652},-799.46619565686524,-727.15253141369476,-646.78788602926716,-557.63223439687772,-458.88232838388035,-349.66647267876351,-229.03887594506818,-95.973543038217485,50.64232870850492,212.01548909276107,389.4543537188822,584.37734837789981,798.32192951214461,1032.9543351874108,1290.0801253623176,1571.6555749608442,1879.7999883482225,2216.8090093125611,2585.169006597423,2987.5726214494134,3160.2008183874809,3340.1738432449347,3527.8013628764916,3723.4059510188772,0,0,0,0,0,0,0,0,0,0,0,0,0,0,0,0,0,0,0,0,0,0,0,0,0,0,0,0,0,0,0,0,0,0,0,0,0,0,0,{"$f":"BX160-BX161","v":0},0,0,0,0,0,0,0,0,0,0,0,0,0,0,0,0,0,0,0,0,0,0,0,0,0,0,0,0,0,0,0,0,0,0,0,0,0,0,0,0,0,0,0,0,0,0,0,0,0,0,0,0,0,0,0,0,0,0,0,0,0,0,0,{"$f":"EJ160-EJ161","v":0},0,0,0,0,0,0,0,0,0,0,0,0,0,0,0,0,0,0,0,0,{"$f":"FE160-FE161","v":0},0,0,0,0,0,0,0,0,0,0,0,0,0,0,0,0,0,0,0,0,0,0,0,0,0,0,0,0,0,0,0,0,0,0,0,0,0,0,0,0,0,0,0,0,0,0,0,0,0,0,0,{"$f":"HE160-HE161","v":0},0,0,0,0,0,0,0,0,0,0,0,0,0,0,0,0,0,0,0,0,0,0,0,0,0,0,0,0,0,0,0,0,0,0,0,0,0,0,0,0,0,0,0,0,0,0,0,0,0,0,0,0,0,0,0,0,0,0,0,0,0,0,0,{"$f":"JQ160-JQ161","v":0},0,0,0,0,0,0,0,0,0,0,0,0,0,0,0,0,0,0,0,0,0,0,0,0,0,{"$f":"KQ160-KQ161","v":0},0,0,0,0,0,0,0,0,0,0,0,0,0,0,0,0,0,0,0,0,0,0,0,0,0,0,0,0,0,{"$f":"LU160-LU161","v":0},0,0,0,0,0,0,{"$f":"MB160-MB161","v":0},0,0,0,0,0,0,0,0,0,0,0,0,0,0,0,0,0,0,{"$f":"MU160-MU161","v":0},0,0,0,0,0,0,{"$f":"NB160-NB161","v":0},0,0,0,0,0,0,0,0,0,0,0,0,0,0,{"$f":"NQ160-NQ161","v":0},0,0,0,0,0,0,0,0,0,0,0,0,0,0,0,0,0,0,0,0,0,0,0,0,0,0,0,0,0,0,0,0,0,0,0,0,0,0,0,0,0,0,0,0,0,0,0,0,0,0,0,0,0,0,0,0,0,0,0,0,0,0,0,{"$f":"QC160-QC161","v":0},0,0,0,0,0,0,0,0,0,0,0,0,0,0,0,0,0,0,0,0,0,0,0,0,0,0,0,0,0,0,0,0,0,0,0,0,0,0,0,0,0,0,0,0,0,0,0,0,0,0,0,0]
[null,null,null,"Opening NOL",null,null,null,null,"Lakhs",null,{"$f":"J167","v":0},{"$f":"K167","v":0},864.41051199743652,1663.8767076543018,2391.0292390679965,3037.8171250972637,3595.4493594941414,4054.3316878780215,4403.9981605567846,4633.0370365018525,4729.0105795400705,4678.3682508315651,4466.3527617388045,4076.8984080199225,3492.5210596420229,2694.1991301298785,1661.2447949424677,371.16466958015008,0,0,0,0,0,0,0,0,0,0,0,0,0,0,0,0,0,0,0,0,0,0,0,0,0,0,0,0,0,0,0,0,0,0,0,0,0,0,0,0,0,0,0,0,0,0,0,{"$f":"BW167","v":0},0,0,0,0,0,0,0,0,0,0,0,0,0,0,0,0,0,0,0,0,0,0,0,0,0,0,0,0,0,0,0,0,0,0,0,0,0,0,0,0,0,0,0,0,0,0,0,0,0,0,0,0,0,0,0,0,0,0,0,0,0,0,0,{"$f":"EI167","v":0},0,0,0,0,0,0,0,0,0,0,0,0,0,0,0,0,0,0,0,0,0,0,0,0,0,0,0,0,0,0,0,0,0,0,0,0,0,0,0,0,0,0,0,0,0,0,0,0,0,0,0,0,0,0,0,0,0,0,0,0,0,0,0,{"$f":"GU167","v":0},0,0,0,0,0,0,0,0,0,0,0,0,0,0,0,0,0,0,0,0,0,0,0,0,0,0,0,0,0,0,0,0,0,0,0,0,0,0,0,0,0,0,0,0,0,0,0,0,0,0,0,0,0,0,0,0,0,0,0,0,0,0,0,{"$f":"JG167","v":0},0,0,0,0,0,0,0,0,0,0,0,0,0,0,0,0,0,0,0,0,0,0,0,0,0,0,0,0,0,0,0,0,0,0,0,0,0,0,0,0,0,0,0,0,0,0,0,0,0,0,0,0,0,0,0,0,0,0,0,0,0,0,0,{"$f":"LS167","v":0},{"$f":"LT167","v":0},{"$f":"LU167","v":0},{"$f":"LV167","v":0},{"$f":"LW167","v":0},{"$f":"LX167","v":0},{"$f":"LY167","v":0},{"$f":"LZ167","v":0},{"$f":"MA167","v":0},{"$f":"MB167","v":0},{"$f":"MC167","v":0},{"$f":"MD167","v":0},{"$f":"ME167","v":0},{"$f":"MF167","v":0},{"$f":"MG167","v":0},{"$f":"MH167","v":0},{"$f":"MI167","v":0},{"$f":"MJ167","v":0},{"$f":"MK167","v":0},{"$f":"ML167","v":0},{"$f":"MM167","v":0},{"$f":"MN167","v":0},{"$f":"MO167","v":0},{"$f":"MP167","v":0},{"$f":"MQ167","v":0},{"$f":"MR167","v":0},{"$f":"MS167","v":0},{"$f":"MT167","v":0},{"$f":"MU167","v":0},{"$f":"MV167","v":0},{"$f":"MW167","v":0},{"$f":"MX167","v":0},{"$f":"MY167","v":0},{"$f":"MZ167","v":0},{"$f":"NA167","v":0},{"$f":"NB167","v":0},{"$f":"NC167","v":0},{"$f":"ND167","v":0},{"$f":"NE167","v":0},{"$f":"NF167","v":0},{"$f":"NG167","v":0},{"$f":"NH167","v":0},{"$f":"NI167","v":0},{"$f":"NJ167","v":0},{"$f":"NK167","v":0},{"$f":"NL167","v":0},{"$f":"NM167","v":0},{"$f":"NN167","v":0},{"$f":"NO167","v":0},{"$f":"NP167","v":0},{"$f":"NQ167","v":0},{"$f":"NR167","v":0},{"$f":"NS167","v":0},{"$f":"NT167","v":0},{"$f":"NU167","v":0},{"$f":"NV167","v":0},{"$f":"NW167","v":0},{"$f":"NX167","v":0},{"$f":"NY167","v":0},{"$f":"NZ167","v":0},{"$f":"OA167","v":0},{"$f":"OB167","v":0},{"$f":"OC167","v":0},{"$f":"OD167","v":0},{"$f":"OE167","v":0},{"$f":"OF167","v":0},{"$f":"OG167","v":0},{"$f":"OH167","v":0},{"$f":"OI167","v":0},{"$f":"OJ167","v":0},{"$f":"OK167","v":0},{"$f":"OL167","v":0},{"$f":"OM167","v":0},{"$f":"ON167","v":0},{"$f":"OO167","v":0},{"$f":"OP167","v":0},{"$f":"OQ167","v":0},{"$f":"OR167","v":0},{"$f":"OS167","v":0},{"$f":"OT167","v":0},{"$f":"OU167","v":0},{"$f":"OV167","v":0},{"$f":"OW167","v":0},{"$f":"OX167","v":0},{"$f":"OY167","v":0},{"$f":"OZ167","v":0},{"$f":"PA167","v":0},{"$f":"PB167","v":0},{"$f":"PC167","v":0},{"$f":"PD167","v":0},{"$f":"PE167","v":0},{"$f":"PF167","v":0},{"$f":"PG167","v":0},{"$f":"PH167","v":0},{"$f":"PI167","v":0},{"$f":"PJ167","v":0},{"$f":"PK167","v":0},{"$f":"PL167","v":0},{"$f":"PM167","v":0},{"$f":"PN167","v":0},{"$f":"PO167","v":0},{"$f":"PP167","v":0},{"$f":"PQ167","v":0},{"$f":"PR167","v":0},{"$f":"PS167","v":0},{"$f":"PT167","v":0},{"$f":"PU167","v":0},{"$f":"PV167","v":0},{"$f":"PW167","v":0},{"$f":"PX167","v":0},{"$f":"PY167","v":0},{"$f":"PZ167","v":0},{"$f":"QA167","v":0},{"$f":"QB167","v":0},{"$f":"QC167","v":0},{"$f":"QD167","v":0},{"$f":"QE167","v":0},{"$f":"QF167","v":0},{"$f":"QG167","v":0},{"$f":"QH167","v":0},{"$f":"QI167","v":0},{"$f":"QJ167","v":0},{"$f":"QK167","v":0},{"$f":"QL167","v":0},{"$f":"QM167","v":0},{"$f":"QN167","v":0},{"$f":"QO167","v":0},{"$f":"QP167","v":0},{"$f":"QQ167","v":0},{"$f":"QR167","v":0},{"$f":"QS167","v":0},{"$f":"QT167","v":0},{"$f":"QU167","v":0},{"$f":"QV167","v":0},{"$f":"QW167","v":0},{"$f":"QX167","v":0},{"$f":"QY167","v":0},{"$f":"QZ167","v":0},{"$f":"RA167","v":0},{"$f":"RB167","v":0},{"$f":"RC167","v":0},{"$f":"RD167","v":0},{"$f":"RE167","v":0},{"$f":"RF167","v":0},{"$f":"RG167","v":0},{"$f":"RH167","v":0},{"$f":"RI167","v":0},{"$f":"RJ167","v":0},{"$f":"RK167","v":0},{"$f":"RL167","v":0},{"$f":"RM167","v":0},{"$f":"RN167","v":0},{"$f":"RO167","v":0},{"$f":"RP167","v":0},{"$f":"RQ167","v":0},{"$f":"RR167","v":0},{"$f":"RS167","v":0},{"$f":"RT167","v":0},{"$f":"RU167","v":0},{"$f":"RV167","v":0},{"$f":"RW167","v":0},{"$f":"RX167","v":0},{"$f":"RY167","v":0},{"$f":"RZ167","v":0},{"$f":"SA167","v":0},{"$f":"SB167","v":0}]
[null,null,null,"Closing NOL",null,null,null,null,"Lakhs",null,{"$f":"K164+K165-K166","v":0},{"$f":"L164+L165-L166","v":864.41051199743652},1663.8767076543018,2391.0292390679965,3037.8171250972637,3595.4493594941414,4054.3316878780215,4403.9981605567846,4633.0370365018525,4729.0105795400705,4678.3682508315651,4466.3527617388045,4076.8984080199225,3492.5210596420229,2694.1991301298785,1661.2447949424677,371.16466958015008,0,0,0,0,0,0,0,0,0,0,0,0,0,0,0,0,0,0,0,0,0,0,0,0,0,0,0,0,0,0,0,0,0,0,0,0,0,0,0,0,0,0,0,0,0,0,0,0,{"$f":"BX164+BX165-BX166","v":0},0,0,0,0,0,0,0,0,0,0,0,0,0,0,0,0,0,0,0,0,0,0,0,0,0,0,0,0,0,0,0,0,0,0,0,0,0,0,0,0,0,0,0,0,0,0,0,0,0,0,0,0,0,0,0,0,0,0,0,0,0,0,0,{"$f":"EJ164+EJ165-EJ166","v":0},0,0,0,0,0,0,0,0,0,0,0,0,0,0,0,0,0,0,0,0,0,0,0,0,0,0,0,0,0,0,0,0,0,0,0,0,0,0,0,0,0,0,0,0,0,0,0,0,0,0,0,0,0,0,0,0,0,0,0,0,0,0,0,{"$f":"GV164+GV165-GV166","v":0},0,0,0,0,0,0,0,0,0,0,0,0,0,0,0,0,0,0,0,0,0,0,0,0,0,0,0,0,0,0,0,0,0,0,0,0,0,0,0,0,0,0,0,0,0,0,0,0,0,0,0,0,0,0,0,0,0,0,0,0,0,0,0,{"$f":"JH164+JH165-JH166","v":0},0,0,0,0,0,0,0,0,0,0,0,0,0,0,0,0,0,0,0,0,0,0,0,0,0,0,0,0,0,0,0,0,0,0,0,0,0,0,0,0,0,0,0,0,0,0,0,0,0,0,0,0,0,0,0,0,0,0,0,0,0,0,0,{"$f":"LT164+LT165-LT166","v":0},0,0,0,0,0,0,0,{"$f":"MB164+MB165-MB166","v":0},0,0,0,0,0,0,0,0,0,0,0,0,0,0,0,0,0,0,{"$f":"MU164+MU165-MU166","v":0},0,0,0,0,0,0,{"$f":"NB164+NB165-NB166","v":0},0,0,0,0,0,0,0,0,0,0,0,0,0,0,{"$f":"NQ164+NQ165-NQ166","v":0},0,0,0,0,0,0,0,0,0,0,0,0,0,0,0,0,0,0,0,0,0,0,0,0,0,0,0,0,0,0,0,0,0,0,0,0,0,0,0,0,0,0,0,0,0,0,0,0,0,0,0,0,0,0,0,0,0,0,0,0,0,0,0,{"$f":"QC164+QC165-QC166","v":0},0,0,0,0,0,0,0,0,0,0,0,0,0,0,0,0,0,0,0,0,0,0,0,0,0,0,0,0,0,0,0,0,0,0,0,0,0,0,0,0,0,0,0,0,0,0,0,0,0,0,0,0]
[]
[null,"Financing"]
[]
[null,null,null,"IDC - from Circular Block",null,{"$f":"'Input C'!$F$80","v":true},null,{"$f":"SUM(K176:XFD176)","v":0},"Lakhs",null,{"$f":"(IF($F176,K231,K222))","v":0},{"$f":"IF($F176,L231,L222)","v":0},0,0,0,0,0,0,0,0,0,0,0,0,0,0,0,0,0,0,0,0,0,0,0,0,0,0,0,0,0,0,0,0,0,0,0,0,0,0,0,0,0,0,0,0,0,0,0,0,0,0,0,0,0,0,0,0,0,0,0,0,0,0,0,{"$f":"IF($F176,BX231,BX222)","v":0},0,0,0,0,0,0,0,0,0,0,0,0,0,0,0,0,0,0,0,0,0,0,0,0,0,0,0,0,0,0,0,0,0,0,0,0,0,0,0,0,0,0,0,0,0,0,0,0,0,0,0,0,0,0,0,0,0,0,0,0,0,0,0,{"$f":"IF($F176,EJ231,EJ222)","v":0},0,0,0,0,0,0,0,0,0,0,0,0,0,0,0,0,0,0,0,0,0,0,0,0,0,0,0,0,0,0,0,0,0,0,0,0,0,0,0,0,0,0,0,0,0,0,0,0,0,0,0,0,0,0,0,0,0,0,0,0,0,0,0,{"$f":"IF($F176,GV231,GV222)","v":0},0,0,0,0,0,0,0,0,0,0,0,0,0,0,0,0,0,0,0,0,0,0,0,0,0,0,0,0,0,0,0,0,0,0,0,0,0,0,0,0,0,0,0,0,0,0,0,0,0,0,0,0,0,0,0,0,0,0,0,0,0,0,0,{"$f":"IF($F176,JH231,JH222)","v":0},0,0,0,0,0,0,0,0,0,0,0,0,0,0,0,0,0,0,0,0,0,0,0,0,0,0,0,0,0,0,0,0,0,0,0,0,0,0,0,0,0,0,0,0,0,0,0,0,0,0,0,0,0,0,0,0,0,0,0,0,0,0,0,{"$f":"IF($F176,LT231,LT222)","v":0},0,0,0,0,0,0,0,0,0,0,0,0,0,0,0,0,0,0,0,0,0,0,0,0,0,0,0,0,0,0,0,0,0,0,0,0,0,0,0,0,0,0,0,0,0,0,0,0,0,0,0,0,0,0,0,0,0,0,0,0,0,0,0,{"$f":"IF($F176,OF231,OF222)","v":0},0,0,0,0,0,0,0,0,0,0,0,0,0,0,0,0,0,0,0,0,0,0,0,0,0,0,0,0,0,0,0,0,0,0,0,0,0,0,0,0,0,0,0,0,0,0,0,0,0,0,0,0,0,0,0,0,0,0,0,0,0,0,0,{"$f":"IF($F176,QR231,QR222)","v":0},0,0,0,0,0,0,0,0,0,0,0,0,0,0,0,0,0,0,0,0,0,0,0,0,0,0,0,0,0,0,0,0,0,0,0,0,0]
[null,null,null,"Up-front Fees - from Circular Block",null,{"$f":"'Input C'!$F$80","v":true},null,0,"Lakhs",null,{"$f":"IF($F177,K232,K223)","v":0},0,0,0,0,0,0,0,0,0,0,0,0,0,0,0,0,0,0,0,0,0,0,0,0,0,0,0,0,0,0,0,0,0,0,0,0,0,0,0,0,0,0,0,0,0,0,0,0,0,0,0,0,0,0,0,0,0,0,0,0,0,0,0,0,0,0,0,0,0,0,0,0,0,0,0,0,0,0,0,0,0,0,0,0,0,0,0,0,0,0,0,0,0,0,0,0,0,0,0,0,0,0,0,0,0,0,0,0,0,0,0,0,0,0,0,0,0,0,0,0,0,0,0,0,0,0,0,0,0,0,0,0,0,0,0,0,0,0,0,0,0,0,0,0,0,0,0,0,0,0,0,0,0,0,0,0,0,0,0,0,0,0,0,0,0,0,0,0,0,0,0,0,0,0,0,0,0,0,0,0,0,0,0,0,0,0,0,0,0,0,0,0,0,0,0,0,0,0,0,0,0,0,0,0,0,0,0,0,0,0,0,0,0,0,0,0,0,0,0,0,0,0,0,0,0,0,0,0,0,0,0,0,0,0,0,0,0,0,0,0,0,0,0,0,0,0,0,0,0,0,0,0,0,0,0,0,0,0,0,0,0,0,0,0,0,0,0,0,0,0,0,0,0,0,0,0,0,0,0,0,0,0,0,0,0,0,0,0,0,0,0,0,0,0,0,0,0,0,0,0,0,0,0,0,0,0,0,0,0,0,0,0,0,0,0,0,0,0,0,0,0,0,0,0,0,0,0,0,0,0,0,0,0,0,0,0,0,0,0,0,0,0,0,0,0,0,0,0,0,0,0,0,0,0,0,0,0,0,0,0,0,0,0,0,0,0,0,0,0,0,0,0,0,0,0,0,0,0,0,0,0,0,0,0,0,0,0,0,0,0,0,0,0,0,0,0,0,0,0,0,0,0,0,0,0,0,0,0,0,0,0,0,0,0,0,0,0,0,0,0,0,0,0,0,0,0,0,0,0,0,0,0,0,0,0,0,0,0,0,0,0,0,0,0,0,0,0,0,0,0,0,0,0,0,0,0,0,0,0,0,0,0,0,0,0,0,0,0,0,0,0,0,0,0,0,0,0,0,0,0,0,0,0,0,0,0]
[null,null,null,"Pro-Rata Percent",null,null,null,{"$f":"SUM(K180:XFD180)","v":1},"%",null,{"$f":"K179/$H$179","v":1},{"$f":"L179/$H$179","v":0},0,0,0,0,0,0,0,0,0,0,0,0,0,0,0,0,0,0,0,0,0,0,0,0,0,0,0,0,0,0,0,0,0,0,0,0,0,0,0,0,0,0,0,0,0,0,0,0,0,0,0,0,0,0,0,0,0,0,0,0,0,0,0,{"$f":"BX179/$H$179","v":0},0,0,0,0,0,0,0,0,0,0,0,0,0,0,0,0,0,0,0,0,0,0,0,0,0,0,0,0,0,0,0,0,0,0,0,0,0,0,0,0,0,0,0,0,0,0,0,0,0,0,0,0,0,0,0,0,0,0,0,0,0,0,0,{"$f":"EJ179/$H$179","v":0},0,0,0,0,0,0,0,0,0,0,0,0,0,0,0,0,0,0,0,0,{"$f":"FE179/$H$179","v":0},0,0,0,0,0,0,0,0,0,0,0,0,0,0,0,0,0,0,0,0,0,0,0,0,0,0,0,0,0,0,0,0,0,0,0,0,0,0,0,0,0,0,0,0,0,0,0,0,0,0,0,{"$f":"HE179/$H$179","v":0},0,0,0,0,0,0,0,0,0,0,0,0,0,0,0,0,0,0,0,0,0,0,0,0,0,0,0,0,0,0,0,0,0,0,0,0,0,0,0,0,0,0,0,0,0,0,0,0,0,0,0,0,0,0,0,0,0,0,0,0,0,0,0,{"$f":"JQ179/$H$179","v":0},0,0,0,0,0,0,0,0,0,0,0,0,0,0,0,0,0,0,0,0,0,0,0,0,0,{"$f":"KQ179/$H$179","v":0},0,0,0,0,0,0,0,0,0,0,0,0,0,0,0,0,0,0,0,0,0,0,0,0,0,0,0,0,0,{"$f":"LU179/$H$179","v":0},0,0,0,0,0,0,{"$f":"MB179/$H$179","v":0},0,0,0,0,0,0,0,0,0,0,0,0,0,0,0,0,0,0,{"$f":"MU179/$H$179","v":0},0,0,0,0,0,0,{"$f":"NB179/$H$179","v":0},0,0,0,0,0,0,0,0,0,0,0,0,0,0,{"$f":"NQ179/$H$179","v":0},0,0,0,0,0,0,0,0,0,0,0,0,0,0,0,0,0,0,0,0,0,0,0,0,0,0,0,0,0,0,0,0,0,0,0,0,0,0,0,0,0,0,0,0,0,0,0,0,0,0,0,0,0,0,0,0,0,0,0,0,0,0,0,{"$f":"QC179/$H$179","v":0},0,0,0,0,0,0,0,0,0,0,0,0,0,0,0,0,0,0,0,0,0,0,0,0,0,0,0,0,0,0,0,0,0,0,0,0,0,0,0,0,0,0,0,0,0,0,0,0,0,0,0,0]
[null,null,"Sources of Funds During Construction"]
[null,null,null,"Total Sources",null,null,null,{"$f":"SUM(K185:XFD185)","v":26000},"Lakhs",null,{"$f":"K183+K184","v":26000},0,0,0,0,0,0,0,0,0,0,0,0,0,0,0,0,0,0,0,0,0,0,0,0,0,0,0,0,0,0,0,0,0,0,0,0,0,0,0,0,0,0,0,0,0,0,0,0,0,0,0,0,0,0,0,0,0,0,0,0,0,0,0,{"$f":"BW183+BW184","v":0},0,0,0,0,0,0,0,0,0,0,0,0,0,0,0,0,0,0,0,0,0,0,0,0,0,0,0,0,0,0,0,0,0,0,0,0,0,0,0,0,0,0,0,0,0,0,0,0,0,0,0,0,0,0,0,0,0,0,0,0,0,0,0,{"$f":"EI183+EI184","v":0},0,0,0,0,0,0,0,0,0,0,0,0,0,0,0,0,0,0,0,0,0,0,0,0,0,0,0,0,0,0,0,0,0,0,0,0,0,0,0,0,0,0,0,0,0,0,0,0,0,0,0,0,0,0,0,0,0,0,0,0,0,0,0,{"$f":"GU183+GU184","v":0},0,0,0,0,0,0,0,0,0,0,0,0,0,0,0,0,0,0,0,0,0,0,0,0,0,0,0,0,0,0,0,0,0,0,0,0,0,0,0,0,0,0,0,0,0,0,0,0,0,0,0,0,0,0,0,0,0,0,0,0,0,0,0,{"$f":"JG183+JG184","v":0},0,0,0,0,0,0,0,0,0,0,0,0,0,0,0,0,0,0,0,0,0,0,0,0,0,0,0,0,0,0,0,0,0,0,0,0,0,0,0,0,0,0,0,0,0,0,0,0,0,0,0,0,0,0,0,0,0,0,0,0,0,0,0,{"$f":"LS183+LS184","v":0},0,{"$f":"LU183+LU184","v":0},0,0,0,0,0,0,{"$f":"MB183+MB184","v":0},0,0,0,0,0,0,0,0,0,0,0,0,0,0,0,0,0,0,{"$f":"MU183+MU184","v":0},0,0,0,0,0,0,{"$f":"NB183+NB184","v":0},0,0,0,0,0,0,0,0,0,0,0,0,0,0,{"$f":"NQ183+NQ184","v":0},0,0,0,0,0,0,0,0,0,0,0,0,0,0,0,0,0,0,0,0,0,0,0,0,0,0,0,0,0,0,0,0,0,0,0,0,0,0,0,0,0,0,0,0,0,0,0,0,0,0,0,0,0,0,0,0,0,0,0,0,0,0,0,{"$f":"QC183+QC184","v":0},0,0,0,0,0,0,0,0,0,0,0,0,0,0,0,0,0,0,0,0,0,0,0,0,0,0,0,0,0,0,0,0,0,0,0,0,0,0,0,0,0,0,0,0,0,0,0,0,0,0,0,0]
[]
[null,null,null,"Less: Repayment",null,null,null,{"$f":"SUM(K190:XFD190)","v":19500.000000000084},"Lakhs",null,{"$f":"K140","v":0},-123.21016559429563,-71.143636175160964,-12.259364939310672,54.100830723513127,128.65253756319044,212.17353651063172,305.50898402847065,409.5770164014416,525.37481114000707,653.98514241787416,796.58347043137701,954.44560777394076,1128.9560093810394,1321.6167363407474,1534.0571479044452,1768.0443803954331,2025.4946764260353,2308.4856329242916,2619.2694419697359,2960.2872043766492,4.6202330850064755E-12,4.9898517318069932E-12,5.3890398703515529E-12,5.8201630599796775E-12,6.2857761047780518E-12,0,0,0,0,0,0,0,0,0,0,0,0,0,0,0,0,0,0,0,0,0,0,0,0,0,0,0,0,0,0,0,0,0,0,0,0,0,0,{"$f":"BW140","v":0},0,0,0,0,0,0,0,0,0,0,0,0,0,0,0,0,0,0,0,0,0,0,0,0,0,0,0,0,0,0,0,0,0,0,0,0,0,0,0,0,0,0,0,0,0,0,0,0,0,0,0,0,0,0,0,0,0,0,0,0,0,0,0,{"$f":"EI140","v":0},0,0,0,0,0,0,0,0,0,0,0,0,0,0,0,0,0,0,0,0,0,0,0,0,0,0,0,0,0,0,0,0,0,0,0,0,0,0,0,0,0,0,0,0,0,0,0,0,0,0,0,0,0,0,0,0,0,0,0,0,0,0,0,{"$f":"GU140","v":0},0,0,0,0,0,0,0,0,0,0,0,0,0,0,0,0,0,0,0,0,0,0,0,0,0,0,0,0,0,0,0,0,0,0,0,0,0,0,0,0,0,0,0,0,0,0,0,0,0,0,0,0,0,0,0,0,0,0,0,0,0,0,0,{"$f":"JG140","v":0},0,0,0,0,0,0,0,0,0,0,0,0,0,0,0,0,0,0,0,0,0,0,0,0,0,0,0,0,0,0,0,0,0,0,0,0,0,0,0,0,0,0,0,0,0,0,0,0,0,0,0,0,0,0,0,0,0,0,0,0,0,0,0,0,0,{"$f":"LU140","v":0},0,0,0,0,0,0,{"$f":"MB140","v":0},0,0,0,0,0,0,0,0,0,0,0,0,0,0,0,0,0,0,{"$f":"MU140","v":0},0,0,0,0,0,0,{"$f":"NB140","v":0},0,0,0,0,0,0,0,0,0,0,0,0,0,0,{"$f":"NQ140","v":0},0,0,0,0,0,0,0,0,0,0,0,0,0,0,0,0,0,0,0,0,0,0,0,0,0,0,0,0,0,0,0,0,0,0,0,0,0,0,0,0,0,0,0,0,0,0,0,0,0,0,0,0,0,0,0,0,0,0,0,0,0,0,0,{"$f":"QC140","v":0},0,0,0,0,0,0,0,0,0,0,0,0,0,0,0,0,0,0,0,0,0,0,0,0,0,0,0,0,0,0,0,0,0,0,0,0,0,0,0,0,0,0,0,0,0,0,0,0,0,0,0,0]
[null,null,null,"Closing Blance",null,null,null,null,"Lakhs",null,{"$f":"K188+K189-K190","v":19500},{"$f":"L188+L189-L190","v":19623.210165594297},19694.353801769459,19706.613166708768,19652.512335985255,19523.859798422065,19311.686261911433,19006.177277882962,18596.600261481519,18071.225450341513,17417.240307923639,16620.656837492261,15666.211229718319,14537.25522033728,13215.638483996532,11681.581336092087,9913.5369556966543,7888.0422792706195,5579.5566463463274,2960.2872043765915,-5.7752913562580943E-11,-6.2373146647587417E-11,-6.7362998379394413E-11,-7.2752038249745971E-11,-7.8572201309725648E-11,-8.4857977414503701E-11,-8.4857977414503701E-11,-8.4857977414503701E-11,-8.4857977414503701E-11,-8.4857977414503701E-11,-8.4857977414503701E-11,-8.4857977414503701E-11,-8.4857977414503701E-11,-8.4857977414503701E-11,-8.4857977414503701E-11,-8.4857977414503701E-11,-8.4857977414503701E-11,-8.4857977414503701E-11,-8.4857977414503701E-11,-8.4857977414503701E-11,-8.4857977414503701E-11,-8.4857977414503701E-11,-8.4857977414503701E-11,-8.4857977414503701E-11,-8.4857977414503701E-11,-8.4857977414503701E-11,-8.4857977414503701E-11,-8.4857977414503701E-11,-8.4857977414503701E-11,-8.4857977414503701E-11,-8.4857977414503701E-11,-8.4857977414503701E-11,-8.4857977414503701E-11,-8.4857977414503701E-11,-8.4857977414503701E-11,-8.4857977414503701E-11,-8.4857977414503701E-11,-8.4857977414503701E-11,-8.4857977414503701E-11,-8.4857977414503701E-11,-8.4857977414503701E-11,-8.4857977414503701E-11,-8.4857977414503701E-11,-8.4857977414503701E-11,-8.4857977414503701E-11,{"$f":"BX188+BX189-BX190","v":-8.4857977414503701E-11},-8.4857977414503701E-11,-8.4857977414503701E-11,-8.4857977414503701E-11,-8.4857977414503701E-11,-8.4857977414503701E-11,-8.4857977414503701E-11,-8.4857977414503701E-11,-8.4857977414503701E-11,-8.4857977414503701E-11,-8.4857977414503701E-11,-8.4857977414503701E-11,-8.4857977414503701E-11,-8.4857977414503701E-11,-8.4857977414503701E-11,-8.4857977414503701E-11,-8.4857977414503701E-11,-8.4857977414503701E-11,-8.4857977414503701E-11,-8.4857977414503701E-11,-8.4857977414503701E-11,-8.4857977414503701E-11,-8.4857977414503701E-11,-8.4857977414503701E-11,-8.4857977414503701E-11,-8.4857977414503701E-11,-8.4857977414503701E-11,-8.4857977414503701E-11,-8.4857977414503701E-11,-8.4857977414503701E-11,-8.4857977414503701E-11,-8.4857977414503701E-11,-8.4857977414503701E-11,-8.4857977414503701E-11,-8.4857977414503701E-11,-8.4857977414503701E-11,-8.4857977414503701E-11,-8.4857977414503701E-11,-8.4857977414503701E-11,-8.4857977414503701E-11,-8.4857977414503701E-11,-8.4857977414503701E-11,-8.4857977414503701E-11,-8.4857977414503701E-11,-8.4857977414503701E-11,-8.4857977414503701E-11,-8.4857977414503701E-11,-8.4857977414503701E-11,-8.4857977414503701E-11,-8.4857977414503701E-11,-8.4857977414503701E-11,-8.4857977414503701E-11,-8.4857977414503701E-11,-8.4857977414503701E-11,-8.4857977414503701E-11,-8.4857977414503701E-11,-8.4857977414503701E-11,-8.4857977414503701E-11,-8.4857977414503701E-11,-8.4857977414503701E-11,-8.4857977414503701E-11,-8.4857977414503701E-11,-8.4857977414503701E-11,-8.4857977414503701E-11,{"$f":"EJ188+EJ189-EJ190","v":-8.4857977414503701E-11},-8.4857977414503701E-11,-8.4857977414503701E-11,-8.4857977414503701E-11,-8.4857977414503701E-11,-8.4857977414503701E-11,-8.4857977414503701E-11,-8.4857977414503701E-11,-8.4857977414503701E-11,-8.4857977414503701E-11,-8.4857977414503701E-11,-8.4857977414503701E-11,-8.4857977414503701E-11,-8.4857977414503701E-11,-8.4857977414503701E-11,-8.4857977414503701E-11,-8.4857977414503701E-11,-8.4857977414503701E-11,-8.4857977414503701E-11,-8.4857977414503701E-11,-8.4857977414503701E-11,{"$f":"FE188+FE189-FE190","v":-8.4857977414503701E-11},-8.4857977414503701E-11,-8.4857977414503701E-11,-8.4857977414503701E-11,-8.4857977414503701E-11,-8.4857977414503701E-11,-8.4857977414503701E-11,-8.4857977414503701E-11,-8.4857977414503701E-11,-8.4857977414503701E-11,-8.4857977414503701E-11,-8.4857977414503701E-11,-8.4857977414503701E-11,-8.4857977414503701E-11,-8.4857977414503701E-11,-8.4857977414503701E-11,-8.4857977414503701E-11,-8.4857977414503701E-11,-8.4857977414503701E-11,-8.4857977414503701E-11,-8.4857977414503701E-11,-8.4857977414503701E-11,-8.4857977414503701E-11,-8.4857977414503701E-11,-8.4857977414503701E-11,-8.4857977414503701E-11,-8.4857977414503701E-11,-8.4857977414503701E-11,-8.4857977414503701E-11,-8.4857977414503701E-11,-8.4857977414503701E-11,-8.4857977414503701E-11,-8.4857977414503701E-11,-8.4857977414503701E-11,-8.4857977414503701E-11,-8.4857977414503701E-11,-8.4857977414503701E-11,-8.4857977414503701E-11,-8.4857977414503701E-11,-8.4857977414503701E-11,-8.4857977414503701E-11,-8.4857977414503701E-11,-8.4857977414503701E-11,-8.4857977414503701E-11,-8.4857977414503701E-11,-8.4857977414503701E-11,-8.4857977414503701E-11,-8.4857977414503701E-11,-8.4857977414503701E-11,-8.4857977414503701E-11,-8.4857977414503701E-11,-8.4857977414503701E-11,{"$f":"HE188+HE189-HE190","v":-8.4857977414503701E-11},-8.4857977414503701E-11,-8.4857977414503701E-11,-8.4857977414503701E-11,-8.4857977414503701E-11,-8.4857977414503701E-11,-8.4857977414503701E-11,-8.4857977414503701E-11,-8.4857977414503701E-11,-8.4857977414503701E-11,-8.4857977414503701E-11,-8.4857977414503701E-11,-8.4857977414503701E-11,-8.4857977414503701E-11,-8.4857977414503701E-11,-8.4857977414503701E-11,-8.4857977414503701E-11,-8.4857977414503701E-11,-8.4857977414503701E-11,-8.4857977414503701E-11,-8.4857977414503701E-11,-8.4857977414503701E-11,-8.4857977414503701E-11,-8.4857977414503701E-11,-8.4857977414503701E-11,-8.4857977414503701E-11,-8.4857977414503701E-11,-8.4857977414503701E-11,-8.4857977414503701E-11,-8.4857977414503701E-11,-8.4857977414503701E-11,-8.4857977414503701E-11,-8.4857977414503701E-11,-8.4857977414503701E-11,-8.4857977414503701E-11,-8.4857977414503701E-11,-8.4857977414503701E-11,-8.4857977414503701E-11,-8.4857977414503701E-11,-8.4857977414503701E-11,-8.4857977414503701E-11,-8.4857977414503701E-11,-8.4857977414503701E-11,-8.4857977414503701E-11,-8.4857977414503701E-11,-8.4857977414503701E-11,-8.4857977414503701E-11,-8.4857977414503701E-11,-8.4857977414503701E-11,-8.4857977414503701E-11,-8.4857977414503701E-11,-8.4857977414503701E-11,-8.4857977414503701E-11,-8.4857977414503701E-11,-8.4857977414503701E-11,-8.4857977414503701E-11,-8.4857977414503701E-11,-8.4857977414503701E-11,-8.4857977414503701E-11,-8.4857977414503701E-11,-8.4857977414503701E-11,-8.4857977414503701E-11,-8.4857977414503701E-11,-8.4857977414503701E-11,{"$f":"JQ188+JQ189-JQ190","v":-8.4857977414503701E-11},-8.4857977414503701E-11,-8.4857977414503701E-11,-8.4857977414503701E-11,-8.4857977414503701E-11,-8.4857977414503701E-11,-8.4857977414503701E-11,-8.4857977414503701E-11,-8.4857977414503701E-11,-8.4857977414503701E-11,-8.4857977414503701E-11,-8.4857977414503701E-11,-8.4857977414503701E-11,-8.4857977414503701E-11,-8.4857977414503701E-11,-8.4857977414503701E-11,-8.4857977414503701E-11,-8.4857977414503701E-11,-8.4857977414503701E-11,-8.4857977414503701E-11,-8.4857977414503701E-11,-8.4857977414503701E-11,-8.4857977414503701E-11,-8.4857977414503701E-11,-8.4857977414503701E-11,-8.4857977414503701E-11,{"$f":"KQ188+KQ189-KQ190","v":-8.4857977414503701E-11},-8.4857977414503701E-11,-8.4857977414503701E-11,-8.4857977414503701E-11,-8.4857977414503701E-11,-8.4857977414503701E-11,-8.4857977414503701E-11,-8.4857977414503701E-11,-8.4857977414503701E-11,-8.4857977414503701E-11,-8.4857977414503701E-11,-8.4857977414503701E-11,-8.4857977414503701E-11,-8.4857977414503701E-11,-8.4857977414503701E-11,-8.4857977414503701E-11,-8.4857977414503701E-11,-8.4857977414503701E-11,-8.4857977414503701E-11,-8.4857977414503701E-11,-8.4857977414503701E-11,-8.4857977414503701E-11,-8.4857977414503701E-11,-8.4857977414503701E-11,-8.4857977414503701E-11,-8.4857977414503701E-11,-8.4857977414503701E-11,-8.4857977414503701E-11,-8.4857977414503701E-11,-8.4857977414503701E-11,{"$f":"LU188+LU189-LU190","v":-8.4857977414503701E-11},-8.4857977414503701E-11,-8.4857977414503701E-11,-8.4857977414503701E-11,-8.4857977414503701E-11,-8.4857977414503701E-11,-8.4857977414503701E-11,{"$f":"MB188+MB189-MB190","v":-8.4857977414503701E-11},-8.4857977414503701E-11,-8.4857977414503701E-11,-8.4857977414503701E-11,-8.4857977414503701E-11,-8.4857977414503701E-11,-8.4857977414503701E-11,-8.4857977414503701E-11,-8.4857977414503701E-11,-8.4857977414503701E-11,-8.4857977414503701E-11,-8.4857977414503701E-11,-8.4857977414503701E-11,-8.4857977414503701E-11,-8.4857977414503701E-11,-8.4857977414503701E-11,-8.4857977414503701E-11,-8.4857977414503701E-11,-8.4857977414503701E-11,{"$f":"MU188+MU189-MU190","v":-8.4857977414503701E-11},-8.4857977414503701E-11,-8.4857977414503701E-11,-8.4857977414503701E-11,-8.4857977414503701E-11,-8.4857977414503701E-11,-8.4857977414503701E-11,{"$f":"NB188+NB189-NB190","v":-8.4857977414503701E-11},-8.4857977414503701E-11,-8.4857977414503701E-11,-8.4857977414503701E-11,-8.4857977414503701E-11,-8.4857977414503701E-11,-8.4857977414503701E-11,-8.4857977414503701E-11,-8.4857977414503701E-11,-8.4857977414503701E-11,-8.4857977414503701E-11,-8.4857977414503701E-11,-8.4857977414503701E-11,-8.4857977414503701E-11,-8.4857977414503701E-11,{"$f":"NQ188+NQ189-NQ190","v":-8.4857977414503701E-11},-8.4857977414503701E-11,-8.4857977414503701E-11,-8.4857977414503701E-11,-8.4857977414503701E-11,-8.4857977414503701E-11,-8.4857977414503701E-11,-8.4857977414503701E-11,-8.4857977414503701E-11,-8.4857977414503701E-11,-8.4857977414503701E-11,-8.4857977414503701E-11,-8.4857977414503701E-11,-8.4857977414503701E-11,-8.4857977414503701E-11,-8.4857977414503701E-11,-8.4857977414503701E-11,-8.4857977414503701E-11,-8.4857977414503701E-11,-8.4857977414503701E-11,-8.4857977414503701E-11,-8.4857977414503701E-11,-8.4857977414503701E-11,-8.4857977414503701E-11,-8.4857977414503701E-11,-8.4857977414503701E-11,-8.4857977414503701E-11,-8.4857977414503701E-11,-8.4857977414503701E-11,-8.4857977414503701E-11,-8.4857977414503701E-11,-8.4857977414503701E-11,-8.4857977414503701E-11,-8.4857977414503701E-11,-8.4857977414503701E-11,-8.4857977414503701E-11,-8.4857977414503701E-11,-8.4857977414503701E-11,-8.4857977414503701E-11,-8.4857977414503701E-11,-8.4857977414503701E-11,-8.4857977414503701E-11,-8.4857977414503701E-11,-8.4857977414503701E-11,-8.4857977414503701E-11,-8.4857977414503701E-11,-8.4857977414503701E-11,-8.4857977414503701E-11,-8.4857977414503701E-11,-8.4857977414503701E-11,-8.4857977414503701E-11,-8.4857977414503701E-11,-8.4857977414503701E-11,-8.4857977414503701E-11,-8.4857977414503701E-11,-8.4857977414503701E-11,-8.4857977414503701E-11,-8.4857977414503701E-11,-8.4857977414503701E-11,-8.4857977414503701E-11,-8.4857977414503701E-11,-8.4857977414503701E-11,-8.4857977414503701E-11,-8.4857977414503701E-11,{"$f":"QC188+QC189-QC190","v":-8.4857977414503701E-11},-8.4857977414503701E-11,-8.4857977414503701E-11,-8.4857977414503701E-11,-8.4857977414503701E-11,-8.4857977414503701E-11,-8.4857977414503701E-11,-8.4857977414503701E-11,-8.4857977414503701E-11,-8.4857977414503701E-11,-8.4857977414503701E-11,-8.4857977414503701E-11,-8.4857977414503701E-11,-8.4857977414503701E-11,-8.4857977414503701E-11,-8.4857977414503701E-11,-8.4857977414503701E-11,-8.4857977414503701E-11,-8.4857977414503701E-11,-8.4857977414503701E-11,-8.4857977414503701E-11,-8.4857977414503701E-11,-8.4857977414503701E-11,-8.4857977414503701E-11,-8.4857977414503701E-11,-8.4857977414503701E-11,-8.4857977414503701E-11,-8.4857977414503701E-11,-8.4857977414503701E-11,-8.4857977414503701E-11,-8.4857977414503701E-11,-8.4857977414503701E-11,-8.4857977414503701E-11,-8.4857977414503701E-11,-8.4857977414503701E-11,-8.4857977414503701E-11,-8.4857977414503701E-11,-8.4857977414503701E-11,-8.4857977414503701E-11,-8.4857977414503701E-11,-8.4857977414503701E-11,-8.4857977414503701E-11,-8.4857977414503701E-11,-8.4857977414503701E-11,-8.4857977414503701E-11,-8.4857977414503701E-11,-8.4857977414503701E-11,-8.4857977414503701E-11,-8.4857977414503701E-11,-8.4857977414503701E-11,-8.4857977414503701E-11,-8.4857977414503701E-11,-8.4857977414503701E-11]
[null,null,null,"Interest Expense (Post COD)",null,null,null,null,"Lakhs",null,{"$f":"K192*K188*K10","v":0},1560,1569.8568132475439,1575.5483041415569,1576.5290533367015,1572.2009868788205,1561.9087838737653,1544.9349009529146,1520.4941822306371,1487.7280209185215,1445.698036027321,1393.3792246338912,1329.652546999381,1253.2968983774656,1162.9804176269824,1057.2510787197225,934.52650688736696,793.08295645573241,631.04338234164959,446.36453170770619,236.82297635012733,-4.6202330850064755E-12,-4.9898517318069932E-12,-5.3890398703515529E-12,-5.8201630599796775E-12,-6.2857761047780518E-12,0,0,0,0,0,0,0,0,0,0,0,0,0,0,0,0,0,0,0,0,0,0,0,0,0,0,0,0,0,0,0,0,0,0,0,0,0,0,{"$f":"BW192*BW188*BW10","v":0},0,0,0,0,0,0,0,0,0,0,0,0,0,0,0,0,0,0,0,0,0,0,0,0,0,0,0,0,0,0,0,0,0,0,0,0,0,0,0,0,0,0,0,0,0,0,0,0,0,0,0,0,0,0,0,0,0,0,0,0,0,0,0,{"$f":"EI192*EI188*EI10","v":0},0,0,0,0,0,0,0,0,0,0,0,0,0,0,0,0,0,0,0,0,0,0,0,0,0,0,0,0,0,0,0,0,0,0,0,0,0,0,0,0,0,0,0,0,0,0,0,0,0,0,0,0,0,0,0,0,0,0,0,0,0,0,0,{"$f":"GU192*GU188*GU10","v":0},0,0,0,0,0,0,0,0,0,0,0,0,0,0,0,0,0,0,0,0,0,0,0,0,0,0,0,0,0,0,0,0,0,0,0,0,0,0,0,0,0,0,0,0,0,0,0,0,0,0,0,0,0,0,0,0,0,0,0,0,0,0,0,{"$f":"JG192*JG188*JG10","v":0},0,0,0,0,0,0,0,0,0,0,0,0,0,0,0,0,0,0,0,0,0,0,0,0,0,0,0,0,0,0,0,0,0,0,0,0,0,0,0,0,0,0,0,0,0,0,0,0,0,0,0,0,0,0,0,0,0,0,0,0,0,0,0,{"$f":"LS192*LS188*LS10","v":0},0,0,0,0,0,0,0,0,0,0,0,0,0,0,0,0,0,0,0,0,0,0,0,0,0,0,0,0,0,0,0,0,0,0,0,0,0,0,0,0,0,0,0,0,0,0,0,0,0,0,0,0,0,0,0,0,0,0,0,0,0,0,0,{"$f":"OE192*OE188*OE10","v":0},0,0,0,0,0,0,0,0,0,0,0,0,0,0,0,0,0,0,0,0,0,0,0,0,0,0,0,0,0,0,0,0,0,0,0,0,0,0,0,0,0,0,0,0,0,0,0,0,0,0,0,0,0,0,0,0,0,0,0,0,0,0,0,{"$f":"QQ192*QQ188*QQ10","v":0},0,0,0,0,0,0,0,0,0,0,0,0,0,0,0,0,0,0,0,0,0,0,0,0,0,0,0,0,0,0,0,0,0,0,0,0,0,0]
[]
[null,null,null,"Total Debt Commitment","Lakhs",{"$f":"F132","v":19500},null,null,"Lakhs",null,{"$f":"$F$198","v":19500},{"$f":"$F$198","v":19500},19500,19500,19500,19500,19500,19500,19500,19500,19500,19500,19500,19500,19500,19500,19500,19500,19500,19500,19500,19500,19500,19500,19500,19500,19500,19500,19500,19500,19500,19500,19500,19500,19500,19500,19500,19500,19500,19500,19500,19500,19500,19500,19500,19500,19500,19500,19500,19500,19500,19500,19500,19500,19500,19500,19500,19500,19500,19500,19500,19500,19500,19500,19500,{"$f":"$F$198","v":19500},19500,19500,19500,19500,19500,19500,19500,19500,19500,19500,19500,19500,19500,19500,19500,19500,19500,19500,19500,19500,19500,19500,19500,19500,19500,19500,19500,19500,19500,19500,19500,19500,19500,19500,19500,19500,19500,19500,19500,19500,19500,19500,19500,19500,19500,19500,19500,19500,19500,19500,19500,19500,19500,19500,19500,19500,19500,19500,19500,19500,19500,19500,19500,{"$f":"$F$198","v":19500},19500,19500,19500,19500,19500,19500,19500,19500,19500,19500,19500,19500,19500,19500,19500,19500,19500,19500,19500,19500,19500,19500,19500,19500,19500,19500,19500,19500,19500,19500,19500,19500,19500,19500,19500,19500,19500,19500,19500,19500,19500,19500,19500,19500,19500,19500,19500,19500,19500,19500,19500,19500,19500,19500,19500,19500,19500,19500,19500,19500,19500,19500,19500,{"$f":"$F$198","v":19500},19500,19500,19500,19500,19500,19500,19500,19500,19500,19500,19500,19500,19500,19500,19500,19500,19500,19500,19500,19500,19500,19500,19500,19500,19500,19500,19500,19500,19500,19500,19500,19500,19500,19500,19500,19500,19500,19500,19500,19500,19500,19500,19500,19500,19500,19500,19500,19500,19500,19500,19500,19500,19500,19500,19500,19500,19500,19500,19500,19500,19500,19500,19500,{"$f":"$F$198","v":19500},19500,19500,19500,19500,19500,19500,19500,19500,19500,19500,19500,19500,19500,19500,19500,19500,19500,19500,19500,19500,19500,19500,19500,19500,19500,19500,19500,19500,19500,19500,19500,19500,19500,19500,19500,19500,19500,19500,19500,19500,19500,19500,19500,19500,19500,19500,19500,19500,19500,19500,19500,19500,19500,19500,19500,19500,19500,19500,19500,19500,19500,19500,19500,{"$f":"$F$198","v":19500},19500,19500,19500,19500,19500,19500,19500,19500,19500,19500,19500,19500,19500,19500,19500,19500,19500,19500,19500,19500,19500,19500,19500,19500,19500,19500,19500,19500,19500,19500,19500,19500,19500,19500,19500,19500,19500,19500,19500,19500,19500,19500,19500,19500,19500,19500,19500,19500,19500,19500,19500,19500,19500,19500,19500,19500,19500,19500,19500,19500,19500,19500,19500,{"$f":"$F$198","v":19500},19500,19500,19500,19500,19500,19500,19500,19500,19500,19500,19500,19500,19500,19500,19500,19500,19500,19500,19500,19500,19500,19500,19500,19500,19500,19500,19500,19500,19500,19500,19500,19500,19500,19500,19500,19500,19500,19500,19500,19500,19500,19500,19500,19500,19500,19500,19500,19500,19500,19500,19500,19500,19500,19500,19500,19500,19500,19500,19500,19500,19500,19500,19500,{"$f":"$F$198","v":19500},19500,19500,19500,19500,19500,19500,19500,19500,19500,19500,19500,19500,19500,19500,19500,19500,19500,19500,19500,19500,19500,19500,19500,19500,19500,19500,19500,19500,19500,19500,19500,19500,19500,19500,19500,19500,19500]
[null,null,null,"Uncommitted Debt During Construction",null,null,null,null,"Lakhs",null,{"$f":"(K198-K199)*K6","v":19500},0,0,0,0,0,0,0,0,0,0,0,0,0,0,0,0,0,0,0,0,0,0,0,0,0,0,0,0,0,0,0,0,0,0,0,0,0,0,0,0,0,0,0,0,0,0,0,0,0,0,0,0,0,0,0,0,0,0,0,0,0,0,0,{"$f":"(BW198-BW199)*BW6","v":0},0,0,0,0,0,0,0,0,0,0,0,0,0,0,0,0,0,0,0,0,0,0,0,0,0,0,0,0,0,0,0,0,0,0,0,0,0,0,0,0,0,0,0,0,0,0,0,0,0,0,0,0,0,0,0,0,0,0,0,0,0,0,0,{"$f":"(EI198-EI199)*EI6","v":0},0,0,0,0,0,0,0,0,0,0,0,0,0,0,0,0,0,0,0,0,0,0,0,0,0,0,0,0,0,0,0,0,0,0,0,0,0,0,0,0,0,0,0,0,0,0,0,0,0,0,0,0,0,0,0,0,0,0,0,0,0,0,0,{"$f":"(GU198-GU199)*GU6","v":0},0,0,0,0,0,0,0,0,0,0,0,0,0,0,0,0,0,0,0,0,0,0,0,0,0,0,0,0,0,0,0,0,0,0,0,0,0,0,0,0,0,0,0,0,0,0,0,0,0,0,0,0,0,0,0,0,0,0,0,0,0,0,0,{"$f":"(JG198-JG199)*JG6","v":0},0,0,0,0,0,0,0,0,0,0,0,0,0,0,0,0,0,0,0,0,0,0,0,0,0,0,0,0,0,0,0,0,0,0,0,0,0,0,0,0,0,0,0,0,0,0,0,0,0,0,0,0,0,0,0,0,0,0,0,0,0,0,0,{"$f":"(LS198-LS199)*LS6","v":0},0,0,0,0,0,0,0,0,0,0,0,0,0,0,0,0,0,0,0,0,0,0,0,0,0,0,0,0,0,0,0,0,0,0,0,0,0,0,0,0,0,0,0,0,0,0,0,0,0,0,0,0,0,0,0,0,0,0,0,0,0,0,0,{"$f":"(OE198-OE199)*OE6","v":0},0,0,0,0,0,0,0,0,0,0,0,0,0,0,0,0,0,0,0,0,0,0,0,0,0,0,0,0,0,0,0,0,0,0,0,0,0,0,0,0,0,0,0,0,0,0,0,0,0,0,0,0,0,0,0,0,0,0,0,0,0,0,0,{"$f":"(QQ198-QQ199)*QQ6","v":0},0,0,0,0,0,0,0,0,0,0,0,0,0,0,0,0,0,0,0,0,0,0,0,0,0,0,0,0,0,0,0,0,0,0,0,0,0,0]
[null,null,null,"Commitment Fee  - To Computed Block",null,null,null,null,"Lakhs",null,{"$f":"K202*K200","v":58.5},{"$f":"L202*L200","v":0},0,0,0,0,0,0,0,0,0,0,0,0,0,0,0,0,0,0,0,0,0,0,0,0,0,0,0,0,0,0,0,0,0,0,0,0,0,0,0,0,0,0,0,0,0,0,0,0,0,0,0,0,0,0,0,0,0,0,0,0,0,0,0,{"$f":"BX202*BX200","v":0},0,0,0,0,0,0,0,0,0,0,0,0,0,0,0,0,0,0,0,0,0,0,0,0,0,0,0,0,0,0,0,0,0,0,0,0,0,0,0,0,0,0,0,0,0,0,0,0,0,0,0,0,0,0,0,0,0,0,0,0,0,0,0,{"$f":"EJ202*EJ200","v":0},0,0,0,0,0,0,0,0,0,0,0,0,0,0,0,0,0,0,0,0,0,0,0,0,0,0,0,0,0,0,0,0,0,0,0,0,0,0,0,0,0,0,0,0,0,0,0,0,0,0,0,0,0,0,0,0,0,0,0,0,0,0,0,{"$f":"GV202*GV200","v":0},0,0,0,0,0,0,0,0,0,0,0,0,0,0,0,0,0,0,0,0,0,0,0,0,0,0,0,0,0,0,0,0,0,0,0,0,0,0,0,0,0,0,0,0,0,0,0,0,0,0,0,0,0,0,0,0,0,0,0,0,0,0,0,{"$f":"JH202*JH200","v":0},0,0,0,0,0,0,0,0,0,0,0,0,0,0,0,0,0,0,0,0,0,0,0,0,0,0,0,0,0,0,0,0,0,0,0,0,0,0,0,0,0,0,0,0,0,0,0,0,0,0,0,0,0,0,0,0,0,0,0,0,0,0,0,{"$f":"LT202*LT200","v":0},0,0,0,0,0,0,0,{"$f":"MB202*MB200","v":0},0,0,0,0,0,0,0,0,0,0,0,0,0,0,0,0,0,0,{"$f":"MU202*MU200","v":0},0,0,0,0,0,0,{"$f":"NB202*NB200","v":0},0,0,0,0,0,0,0,0,0,0,0,0,0,0,{"$f":"NQ202*NQ200","v":0},0,0,0,0,0,0,0,0,0,0,0,0,0,0,0,0,0,0,0,0,0,0,0,0,0,0,0,0,0,0,0,0,0,0,0,0,0,0,0,0,0,0,0,0,0,0,0,0,0,0,0,0,0,0,0,0,0,0,0,0,0,0,0,{"$f":"QC202*QC200","v":0},0,0,0,0,0,0,0,0,0,0,0,0,0,0,0,0,0,0,0,0,0,0,0,0,0,0,0,0,0,0,0,0,0,0,0,0,0,0,0,0,0,0,0,0,0,0,0,0,0,0,0,0]
[]
[]
[null,null,null,"CFADS",null,null,null,null,"Lakhs",null,{"$f":"IF(K10,K116)","v":false},1735.5894880025635,1810.3906175906786,1888.3957727278621,1969.7411673074344,2054.5687524819427,2143.0264554898849,2235.2684282741511,2331.4553062855689,2431.754477880304,2536.3403647358259,2645.3947137266523,2759.1069007182632,2877.6742467553654,3001.3023471391271,3130.2054139071333,3264.6066322496845,3404.7385314165767,3550.8433706898722,3703.1735410202673,3861.9919829475502,false,false,false,false,false,false,false,false,false,false,false,false,false,false,false,false,false,false,false,false,false,false,false,false,false,false,false,false,false,false,false,false,false,false,false,false,false,false,false,false,false,false,false,{"$f":"IF(BW10,BW116)","v":false},false,false,false,false,false,false,false,false,false,false,false,false,false,false,false,false,false,false,false,false,false,false,false,false,false,false,false,false,false,false,false,false,false,false,false,false,false,false,false,false,false,false,false,false,false,false,false,false,false,false,false,false,false,false,false,false,false,false,false,false,false,false,false,{"$f":"IF(EI10,EI116)","v":false},false,false,false,false,false,false,false,false,false,false,false,false,false,false,false,false,false,false,false,false,false,false,false,false,false,false,false,false,false,false,false,false,false,false,false,false,false,false,false,false,false,false,false,false,false,false,false,false,false,false,false,false,false,false,false,false,false,false,false,false,false,false,false,{"$f":"IF(GU10,GU116)","v":false},false,false,false,false,false,false,false,false,false,false,false,false,false,false,false,false,false,false,false,false,false,false,false,false,false,false,false,false,false,false,false,false,false,false,false,false,false,false,false,false,false,false,false,false,false,false,false,false,false,false,false,false,false,false,false,false,false,false,false,false,false,false,false,{"$f":"IF(JG10,JG116)","v":false},false,false,false,false,false,false,false,false,false,false,false,false,false,false,false,false,false,false,false,false,false,false,false,false,false,false,false,false,false,false,false,false,false,false,false,false,false,false,false,false,false,false,false,false,false,false,false,false,false,false,false,false,false,false,false,false,false,false,false,false,false,false,false,{"$f":"IF(LS10,LS116)","v":false},false,false,false,false,false,false,false,false,false,false,false,false,false,false,false,false,false,false,false,false,false,false,false,false,false,false,false,false,false,false,false,false,false,false,false,false,false,false,false,false,false,false,false,false,false,false,false,false,false,false,false,false,false,false,false,false,false,false,false,false,false,false,false,{"$f":"IF(OE10,OE116)","v":false},false,false,false,false,false,false,false,false,false,false,false,false,false,false,false,false,false,false,false,false,false,false,false,false,false,false,false,false,false,false,false,false,false,false,false,false,false,false,false,false,false,false,false,false,false,false,false,false,false,false,false,false,false,false,false,false,false,false,false,false,false,false,false,{"$f":"IF(QQ10,QQ116)","v":false},false,false,false,false,false,false,false,false,false,false,false,false,false,false,false,false,false,false,false,false,false,false,false,false,false,false,false,false,false,false,false,false,false,false,false,false,false,false]
[]
[null,"Solver"]
[null,null,null,"Up-front Fees",null,null,null,{"$f":"SUM(K216:XFD216)","v":97.5},"Lakhs",null,{"$f":"K196","v":97.5},{"$f":"L196","v":0},0,0,0,0,0,0,0,0,0,0,0,0,0,0,0,0,0,0,0,0,0,0,0,0,0,0,0,0,0,0,0,0,0,0,0,0,0,0,0,0,0,0,0,0,0,0,0,0,0,0,0,0,0,0,0,0,0,0,0,0,0,0,0,{"$f":"BX196","v":0},0,0,0,0,0,0,0,0,0,0,0,0,0,0,0,0,0,0,0,0,0,0,0,0,0,0,0,0,0,0,0,0,0,0,0,0,0,0,0,0,0,0,0,0,0,0,0,0,0,0,0,0,0,0,0,0,0,0,0,0,0,0,0,{"$f":"EJ196","v":0},0,0,0,0,0,0,0,0,0,0,0,0,0,0,0,0,0,0,0,0,0,0,0,0,0,0,0,0,0,0,0,0,0,0,0,0,0,0,0,0,0,0,0,0,0,0,0,0,0,0,0,0,0,0,0,0,0,0,0,0,0,0,0,{"$f":"GV196","v":0},0,0,0,0,0,0,0,0,0,0,0,0,0,0,0,0,0,0,0,0,0,0,0,0,0,0,0,0,0,0,0,0,0,0,0,0,0,0,0,0,0,0,0,0,0,0,0,0,0,0,0,0,0,0,0,0,0,0,0,0,0,0,0,{"$f":"JH196","v":0},0,0,0,0,0,0,0,0,0,0,0,0,0,0,0,0,0,0,0,0,0,0,0,0,0,0,0,0,0,0,0,0,0,0,0,0,0,0,0,0,0,0,0,0,0,0,0,0,0,0,0,0,0,0,0,0,0,0,0,0,0,0,0,{"$f":"LT196","v":0},0,0,0,0,0,0,0,{"$f":"MB196","v":0},0,0,0,0,0,0,0,0,0,0,0,0,0,0,0,0,0,0,{"$f":"MU196","v":0},0,0,0,0,0,0,{"$f":"NB196","v":0},0,0,0,0,0,0,0,0,0,0,0,0,0,0,{"$f":"NQ196","v":0},0,0,0,0,0,0,0,0,0,0,0,0,0,0,0,0,0,0,0,0,0,0,0,0,0,0,0,0,0,0,0,0,0,0,0,0,0,0,0,0,0,0,0,0,0,0,0,0,0,0,0,0,0,0,0,0,0,0,0,0,0,0,0,{"$f":"QC196","v":0},0,0,0,0,0,0,0,0,0,0,0,0,0,0,0,0,0,0,0,0,0,0,0,0,0,0,0,0,0,0,0,0,0,0,0,0,0,0,0,0,0,0,0,0,0,0,0,0,0,0,0,0]
[null,null,null,"Taxes",null,null,null,{"$f":"SUM(K218:XFD218)","v":6155.3558766540245},"Lakhs",null,{"$f":"K170","v":0},{"$f":"L170","v":0},0,0,0,0,0,0,0,0,0,0,0,0,0,0,0,300.12272634517353,469.94999708705564,554.20225232814028,646.29225164935576,746.89315536235335,790.05020459687023,835.04346081123367,881.95034071912289,930.8514877547193,0,0,0,0,0,0,0,0,0,0,0,0,0,0,0,0,0,0,0,0,0,0,0,0,0,0,0,0,0,0,0,0,0,0,0,0,0,0,0,{"$f":"BX170","v":0},0,0,0,0,0,0,0,0,0,0,0,0,0,0,0,0,0,0,0,0,0,0,0,0,0,0,0,0,0,0,0,0,0,0,0,0,0,0,0,0,0,0,0,0,0,0,0,0,0,0,0,0,0,0,0,0,0,0,0,0,0,0,0,{"$f":"EJ170","v":0},0,0,0,0,0,0,0,0,0,0,0,0,0,0,0,0,0,0,0,0,0,0,0,0,0,0,0,0,0,0,0,0,0,0,0,0,0,0,0,0,0,0,0,0,0,0,0,0,0,0,0,0,0,0,0,0,0,0,0,0,0,0,0,{"$f":"GV170","v":0},0,0,0,0,0,0,0,0,0,0,0,0,0,0,0,0,0,0,0,0,0,0,0,0,0,0,0,0,0,0,0,0,0,0,0,0,0,0,0,0,0,0,0,0,0,0,0,0,0,0,0,0,0,0,0,0,0,0,0,0,0,0,0,{"$f":"JH170","v":0},0,0,0,0,0,0,0,0,0,0,0,0,0,0,0,0,0,0,0,0,0,0,0,0,0,0,0,0,0,0,0,0,0,0,0,0,0,0,0,0,0,0,0,0,0,0,0,0,0,0,0,0,0,0,0,0,0,0,0,0,0,0,0,{"$f":"LT170","v":0},0,0,0,0,0,0,0,{"$f":"MB170","v":0},0,0,0,0,0,0,0,0,0,0,0,0,0,0,0,0,0,0,{"$f":"MU170","v":0},0,0,0,0,0,0,{"$f":"NB170","v":0},0,0,0,0,0,0,0,0,0,0,0,0,0,0,{"$f":"NQ170","v":0},0,0,0,0,0,0,0,0,0,0,0,0,0,0,0,0,0,0,0,0,0,0,0,0,0,0,0,0,0,0,0,0,0,0,0,0,0,0,0,0,0,0,0,0,0,0,0,0,0,0,0,0,0,0,0,0,0,0,0,0,0,0,0,{"$f":"QC170","v":0},0,0,0,0,0,0,0,0,0,0,0,0,0,0,0,0,0,0,0,0,0,0,0,0,0,0,0,0,0,0,0,0,0,0,0,0,{"$f":"RN170","v":0},0,0,0,0,0,0,0,0,0,0,0,0,0,0,0]
[null,null,"Fixed Block"]
[null,null,null,"IDC",null,null,null,{"$f":"SUM(K222:XFD222)","v":0},"Lakhs",null,0,0,0,0,0,0,0,0,0,0,0,0,0,0,0,0,0,0,0,0,0,0,0,0,0,0,0,0,0,0,0,0,0,0,0,0,0,0,0,0,0,0,0,0,0,0,0,0,0,0,0,0,0,0,0,0,0,0,0,0,0,0,0,0,0,0,0,0,0,0,0,0,0,0,0,0,0,0,0,0,0,0,0,0,0,0,0,0,0,0,0,0,0,0,0,0,0,0,0,0,0,0,0,0,0,0,0,0,0,0,0,0,0,0,0,0,0,0,0,0,0,0,0,0,0,0,0,0,0,0,0,0,0,0,0,0,0,0,0,0,0,0,0,0,0,0,0,0,0,0,0,0,0,0,0,0,0,0,0,0,0,0,0,0,0,0,0,0,0,0,0,0,0,0,0,0,0,0,0,0,0,0,0,0,0,0,0,0,0,0,0,0,0,0,0,0,0,0,0,0,0,0,0,0,0,0,0,0,0,0,0,0,0,0,0,0,0,0,0,0,0,0,0,0,0,0,0,0,0,0,0,0,0,0,0,0,0,0,0,0,0,0,0,0,0,0,0,0,0,0,0,0,0,0,0,0,0,0,0,0,0,0,0,0,0,0,0,0,0,0,0,0,0,0,0,0,0,0,0,0,0,0,0,0,0,0,0,0,0,0,0,0,0,0,0,0,0,0,0,0,0,0,0,0,0,0,0,0,0,0,0,0,0,0,0,0,0,0,0,0,0,0,0,0,0,0,0,0,0,0,0,0,0,0,0,0,0,0,0,0,0,0,0,0,0,0,0,0,0,0,0,0,0,0,0,0,0,0,0,0,0,0,0,0,0,0,0,0,0,0,0,0,0,0,0,0,0,0,0,0,0,0,0,0,0,0,0,0,0,0,0,0,0,0,0,0,0,0,0,0,0,0,0,0,0,0,0,0,0,0,0,0,0,0,0,0,0,0,0,0,0,0,0,0,0,0,0,0,0,0,0,0,0,0,0,0,0,0,0,0,0,0,0,0,0,0,0,0,0,0,0,0,0,0,0,0,0,0,0,0,0,0,0,0,0,0,0,0,0,0,0,0,0,0,0,0,0,0,0,0,0,0,0,0,0,0,0]
[null,null,null,"Total Fixed",null,null,null,{"$f":"SUM(K226:XFD226)","v":6311.3558766540245},"Lakhs","Fixed1",{"$f":"SUM(K222:K225)","v":156},{"$f":"SUM(L222:L225)","v":0},0,0,0,0,0,0,0,0,0,0,0,0,0,0,0,300.12272634517353,469.94999708705564,554.20225232814028,646.29225164935576,746.89315536235335,790.05020459687023,835.04346081123367,881.95034071912289,930.8514877547193,0,0,0,0,0,0,0,0,0,0,0,0,0,0,0,0,0,0,0,0,0,0,0,0,0,0,0,0,0,0,0,0,0,0,0,0,0,0,0,{"$f":"SUM(BX222:BX225)","v":0},0,0,0,0,0,0,0,0,0,0,0,0,0,0,0,0,0,0,0,0,0,0,0,0,0,0,0,0,0,0,0,0,0,0,0,0,0,0,0,0,0,0,0,0,0,0,0,0,0,0,0,0,0,0,0,0,0,0,0,0,0,0,0,{"$f":"SUM(EJ222:EJ225)","v":0},0,0,0,0,0,0,0,0,0,0,0,0,0,0,0,0,0,0,0,0,0,0,0,0,0,0,0,0,0,0,0,0,0,0,0,0,0,0,0,0,0,0,0,0,0,0,0,0,0,0,0,0,0,0,0,0,0,0,0,0,0,0,0,{"$f":"SUM(GV222:GV225)","v":0},0,0,0,0,0,0,0,0,0,0,0,0,0,0,0,0,0,0,0,0,0,0,0,0,0,0,0,0,0,0,0,0,0,0,0,0,0,0,0,0,0,0,0,0,0,0,0,0,0,0,0,0,0,0,0,0,0,0,0,0,0,0,0,{"$f":"SUM(JH222:JH225)","v":0},0,0,0,0,0,0,0,0,0,0,0,0,0,0,0,0,0,0,0,0,0,0,0,0,0,0,0,0,0,0,0,0,0,0,0,0,0,0,0,0,0,0,0,0,0,0,0,0,0,0,0,0,0,0,0,0,0,0,0,0,0,0,0,{"$f":"SUM(LT222:LT225)","v":0},0,0,0,0,0,0,0,{"$f":"SUM(MB222:MB225)","v":0},0,0,0,0,0,0,0,0,0,0,0,0,0,0,0,0,0,0,{"$f":"SUM(MU222:MU225)","v":0},0,0,0,0,0,0,{"$f":"SUM(NB222:NB225)","v":0},0,0,0,0,0,0,0,0,0,0,0,0,0,0,{"$f":"SUM(NQ222:NQ225)","v":0},0,0,0,0,0,0,0,0,0,0,0,0,0,0,0,0,0,0,0,0,0,0,0,0,0,0,0,0,0,0,0,0,0,0,0,0,0,0,0,0,0,0,0,0,0,0,0,0,0,0,0,0,0,0,0,0,0,0,0,0,0,0,0,{"$f":"SUM(QC222:QC225)","v":0},0,0,0,0,0,0,0,0,0,0,0,0,0,0,0,0,0,0,0,0,0,0,0,0,0,0,0,0,0,0,0,0,0,0,0,0,0,0,0,0,0,0,0,0,0,0,0,0,0,0,0,0]
[]
[null,null,"UDF Block"]
[null,null,null,"IDC",null,null,null,{"$f":"SUM(K231:XFD231)","v":0},null,null,{"$f":"(IF(ISNUMBER('UDF 3 Output'!G8),'UDF 3 Output'!G8))*1","v":0},{"$f":"(IF(ISNUMBER('UDF 3 Output'!H8),'UDF 3 Output'!H8))*1","v":0},{"$f":"(IF(ISNUMBER('UDF 3 Output'!I8),'UDF 3 Output'!I8))*1","v":0},{"$f":"(IF(ISNUMBER('UDF 3 Output'!J8),'UDF 3 Output'!J8))*1","v":0},{"$f":"(IF(ISNUMBER('UDF 3 Output'!K8),'UDF 3 Output'!K8))*1","v":0},{"$f":"(IF(ISNUMBER('UDF 3 Output'!L8),'UDF 3 Output'!L8))*1","v":0},{"$f":"(IF(ISNUMBER('UDF 3 Output'!M8),'UDF 3 Output'!M8))*1","v":0},{"$f":"(IF(ISNUMBER('UDF 3 Output'!N8),'UDF 3 Output'!N8))*1","v":0},{"$f":"(IF(ISNUMBER('UDF 3 Output'!O8),'UDF 3 Output'!O8))*1","v":0},{"$f":"(IF(ISNUMBER('UDF 3 Output'!P8),'UDF 3 Output'!P8))*1","v":0},{"$f":"(IF(ISNUMBER('UDF 3 Output'!Q8),'UDF 3 Output'!Q8))*1","v":0},{"$f":"(IF(ISNUMBER('UDF 3 Output'!R8),'UDF 3 Output'!R8))*1","v":0},{"$f":"(IF(ISNUMBER('UDF 3 Output'!S8),'UDF 3 Output'!S8))*1","v":0},{"$f":"(IF(ISNUMBER('UDF 3 Output'!T8),'UDF 3 Output'!T8))*1","v":0},{"$f":"(IF(ISNUMBER('UDF 3 Output'!U8),'UDF 3 Output'!U8))*1","v":0},{"$f":"(IF(ISNUMBER('UDF 3 Output'!V8),'UDF 3 Output'!V8))*1","v":0},{"$f":"(IF(ISNUMBER('UDF 3 Output'!W8),'UDF 3 Output'!W8))*1","v":0},{"$f":"(IF(ISNUMBER('UDF 3 Output'!X8),'UDF 3 Output'!X8))*1","v":0},{"$f":"(IF(ISNUMBER('UDF 3 Output'!Y8),'UDF 3 Output'!Y8))*1","v":0},{"$f":"(IF(ISNUMBER('UDF 3 Output'!Z8),'UDF 3 Output'!Z8))*1","v":0},{"$f":"(IF(ISNUMBER('UDF 3 Output'!AA8),'UDF 3 Output'!AA8))*1","v":0},{"$f":"(IF(ISNUMBER('UDF 3 Output'!AB8),'UDF 3 Output'!AB8))*1","v":0},{"$f":"(IF(ISNUMBER('UDF 3 Output'!AC8),'UDF 3 Output'!AC8))*1","v":0},{"$f":"(IF(ISNUMBER('UDF 3 Output'!AD8),'UDF 3 Output'!AD8))*1","v":0},{"$f":"(IF(ISNUMBER('UDF 3 Output'!AE8),'UDF 3 Output'!AE8))*1","v":0},{"$f":"(IF(ISNUMBER('UDF 3 Output'!AF8),'UDF 3 Output'!AF8))*1","v":0},{"$f":"(IF(ISNUMBER('UDF 3 Output'!AG8),'UDF 3 Output'!AG8))*1","v":0},{"$f":"(IF(ISNUMBER('UDF 3 Output'!AH8),'UDF 3 Output'!AH8))*1","v":0},{"$f":"(IF(ISNUMBER('UDF 3 Output'!AI8),'UDF 3 Output'!AI8))*1","v":0},{"$f":"(IF(ISNUMBER('UDF 3 Output'!AJ8),'UDF 3 Output'!AJ8))*1","v":0},{"$f":"(IF(ISNUMBER('UDF 3 Output'!AK8),'UDF 3 Output'!AK8))*1","v":0},{"$f":"(IF(ISNUMBER('UDF 3 Output'!AL8),'UDF 3 Output'!AL8))*1","v":0},{"$f":"(IF(ISNUMBER('UDF 3 Output'!AM8),'UDF 3 Output'!AM8))*1","v":0},{"$f":"(IF(ISNUMBER('UDF 3 Output'!AN8),'UDF 3 Output'!AN8))*1","v":0},{"$f":"(IF(ISNUMBER('UDF 3 Output'!AO8),'UDF 3 Output'!AO8))*1","v":0},{"$f":"(IF(ISNUMBER('UDF 3 Output'!AP8),'UDF 3 Output'!AP8))*1","v":0},{"$f":"(IF(ISNUMBER('UDF 3 Output'!AQ8),'UDF 3 Output'!AQ8))*1","v":0},{"$f":"(IF(ISNUMBER('UDF 3 Output'!AR8),'UDF 3 Output'!AR8))*1","v":0},{"$f":"(IF(ISNUMBER('UDF 3 Output'!AS8),'UDF 3 Output'!AS8))*1","v":0},{"$f":"(IF(ISNUMBER('UDF 3 Output'!AT8),'UDF 3 Output'!AT8))*1","v":0},{"$f":"(IF(ISNUMBER('UDF 3 Output'!AU8),'UDF 3 Output'!AU8))*1","v":0},{"$f":"(IF(ISNUMBER('UDF 3 Output'!AV8),'UDF 3 Output'!AV8))*1","v":0},{"$f":"(IF(ISNUMBER('UDF 3 Output'!AW8),'UDF 3 Output'!AW8))*1","v":0},{"$f":"(IF(ISNUMBER('UDF 3 Output'!AX8),'UDF 3 Output'!AX8))*1","v":0},{"$f":"(IF(ISNUMBER('UDF 3 Output'!AY8),'UDF 3 Output'!AY8))*1","v":0},{"$f":"(IF(ISNUMBER('UDF 3 Output'!AZ8),'UDF 3 Output'!AZ8))*1","v":0},{"$f":"(IF(ISNUMBER('UDF 3 Output'!BA8),'UDF 3 Output'!BA8))*1","v":0},{"$f":"(IF(ISNUMBER('UDF 3 Output'!BB8),'UDF 3 Output'!BB8))*1","v":0},{"$f":"(IF(ISNUMBER('UDF 3 Output'!BC8),'UDF 3 Output'!BC8))*1","v":0},{"$f":"(IF(ISNUMBER('UDF 3 Output'!BD8),'UDF 3 Output'!BD8))*1","v":0},{"$f":"(IF(ISNUMBER('UDF 3 Output'!BE8),'UDF 3 Output'!BE8))*1","v":0},{"$f":"(IF(ISNUMBER('UDF 3 Output'!BF8),'UDF 3 Output'!BF8))*1","v":0},{"$f":"(IF(ISNUMBER('UDF 3 Output'!BG8),'UDF 3 Output'!BG8))*1","v":0},{"$f":"(IF(ISNUMBER('UDF 3 Output'!BH8),'UDF 3 Output'!BH8))*1","v":0},{"$f":"(IF(ISNUMBER('UDF 3 Output'!BI8),'UDF 3 Output'!BI8))*1","v":0},{"$f":"(IF(ISNUMBER('UDF 3 Output'!BJ8),'UDF 3 Output'!BJ8))*1","v":0},{"$f":"(IF(ISNUMBER('UDF 3 Output'!BK8),'UDF 3 Output'!BK8))*1","v":0},{"$f":"(IF(ISNUMBER('UDF 3 Output'!BL8),'UDF 3 Output'!BL8))*1","v":0},{"$f":"(IF(ISNUMBER('UDF 3 Output'!BM8),'UDF 3 Output'!BM8))*1","v":0},{"$f":"(IF(ISNUMBER('UDF 3 Output'!BN8),'UDF 3 Output'!BN8))*1","v":0},{"$f":"(IF(ISNUMBER('UDF 3 Output'!BO8),'UDF 3 Output'!BO8))*1","v":0},{"$f":"(IF(ISNUMBER('UDF 3 Output'!BP8),'UDF 3 Output'!BP8))*1","v":0},{"$f":"(IF(ISNUMBER('UDF 3 Output'!BQ8),'UDF 3 Output'!BQ8))*1","v":0},{"$f":"(IF(ISNUMBER('UDF 3 Output'!BR8),'UDF 3 Output'!BR8))*1","v":0},{"$f":"(IF(ISNUMBER('UDF 3 Output'!BS8),'UDF 3 Output'!BS8))*1","v":0},{"$f":"(IF(ISNUMBER('UDF 3 Output'!BT8),'UDF 3 Output'!BT8))*1","v":0},{"$f":"(IF(ISNUMBER('UDF 3 Output'!BU8),'UDF 3 Output'!BU8))*1","v":0},{"$f":"(IF(ISNUMBER('UDF 3 Output'!BV8),'UDF 3 Output'!BV8))*1","v":0},{"$f":"(IF(ISNUMBER('UDF 3 Output'!BW8),'UDF 3 Output'!BW8))*1","v":0},{"$f":"(IF(ISNUMBER('UDF 3 Output'!BX8),'UDF 3 Output'!BX8))*1","v":0},{"$f":"(IF(ISNUMBER('UDF 3 Output'!BY8),'UDF 3 Output'!BY8))*1","v":0},{"$f":"(IF(ISNUMBER('UDF 3 Output'!BZ8),'UDF 3 Output'!BZ8))*1","v":0},{"$f":"(IF(ISNUMBER('UDF 3 Output'!CA8),'UDF 3 Output'!CA8))*1","v":0},{"$f":"(IF(ISNUMBER('UDF 3 Output'!CB8),'UDF 3 Output'!CB8))*1","v":0},{"$f":"(IF(ISNUMBER('UDF 3 Output'!CC8),'UDF 3 Output'!CC8))*1","v":0},{"$f":"(IF(ISNUMBER('UDF 3 Output'!CD8),'UDF 3 Output'!CD8))*1","v":0},{"$f":"(IF(ISNUMBER('UDF 3 Output'!CE8),'UDF 3 Output'!CE8))*1","v":0},{"$f":"(IF(ISNUMBER('UDF 3 Output'!CF8),'UDF 3 Output'!CF8))*1","v":0},{"$f":"(IF(ISNUMBER('UDF 3 Output'!CG8),'UDF 3 Output'!CG8))*1","v":0},{"$f":"(IF(ISNUMBER('UDF 3 Output'!CH8),'UDF 3 Output'!CH8))*1","v":0},{"$f":"(IF(ISNUMBER('UDF 3 Output'!CI8),'UDF 3 Output'!CI8))*1","v":0},{"$f":"(IF(ISNUMBER('UDF 3 Output'!CJ8),'UDF 3 Output'!CJ8))*1","v":0},{"$f":"(IF(ISNUMBER('UDF 3 Output'!CK8),'UDF 3 Output'!CK8))*1","v":0},{"$f":"(IF(ISNUMBER('UDF 3 Output'!CL8),'UDF 3 Output'!CL8))*1","v":0},{"$f":"(IF(ISNUMBER('UDF 3 Output'!CM8),'UDF 3 Output'!CM8))*1","v":0},{"$f":"(IF(ISNUMBER('UDF 3 Output'!CN8),'UDF 3 Output'!CN8))*1","v":0},{"$f":"(IF(ISNUMBER('UDF 3 Output'!CO8),'UDF 3 Output'!CO8))*1","v":0},{"$f":"(IF(ISNUMBER('UDF 3 Output'!CP8),'UDF 3 Output'!CP8))*1","v":0},{"$f":"(IF(ISNUMBER('UDF 3 Output'!CQ8),'UDF 3 Output'!CQ8))*1","v":0},{"$f":"(IF(ISNUMBER('UDF 3 Output'!CR8),'UDF 3 Output'!CR8))*1","v":0},{"$f":"(IF(ISNUMBER('UDF 3 Output'!CS8),'UDF 3 Output'!CS8))*1","v":0},{"$f":"(IF(ISNUMBER('UDF 3 Output'!CT8),'UDF 3 Output'!CT8))*1","v":0},{"$f":"(IF(ISNUMBER('UDF 3 Output'!CU8),'UDF 3 Output'!CU8))*1","v":0},{"$f":"(IF(ISNUMBER('UDF 3 Output'!CV8),'UDF 3 Output'!CV8))*1","v":0},{"$f":"(IF(ISNUMBER('UDF 3 Output'!CW8),'UDF 3 Output'!CW8))*1","v":0},{"$f":"(IF(ISNUMBER('UDF 3 Output'!CX8),'UDF 3 Output'!CX8))*1","v":0},{"$f":"(IF(ISNUMBER('UDF 3 Output'!CY8),'UDF 3 Output'!CY8))*1","v":0},{"$f":"(IF(ISNUMBER('UDF 3 Output'!CZ8),'UDF 3 Output'!CZ8))*1","v":0},{"$f":"(IF(ISNUMBER('UDF 3 Output'!DA8),'UDF 3 Output'!DA8))*1","v":0},{"$f":"(IF(ISNUMBER('UDF 3 Output'!DB8),'UDF 3 Output'!DB8))*1","v":0},{"$f":"(IF(ISNUMBER('UDF 3 Output'!DC8),'UDF 3 Output'!DC8))*1","v":0},{"$f":"(IF(ISNUMBER('UDF 3 Output'!DD8),'UDF 3 Output'!DD8))*1","v":0},{"$f":"(IF(ISNUMBER('UDF 3 Output'!DE8),'UDF 3 Output'!DE8))*1","v":0},{"$f":"(IF(ISNUMBER('UDF 3 Output'!DF8),'UDF 3 Output'!DF8))*1","v":0},{"$f":"(IF(ISNUMBER('UDF 3 Output'!DG8),'UDF 3 Output'!DG8))*1","v":0},{"$f":"(IF(ISNUMBER('UDF 3 Output'!DH8),'UDF 3 Output'!DH8))*1","v":0},{"$f":"(IF(ISNUMBER('UDF 3 Output'!DI8),'UDF 3 Output'!DI8))*1","v":0},{"$f":"(IF(ISNUMBER('UDF 3 Output'!DJ8),'UDF 3 Output'!DJ8))*1","v":0},{"$f":"(IF(ISNUMBER('UDF 3 Output'!DK8),'UDF 3 Output'!DK8))*1","v":0},{"$f":"(IF(ISNUMBER('UDF 3 Output'!DL8),'UDF 3 Output'!DL8))*1","v":0},{"$f":"(IF(ISNUMBER('UDF 3 Output'!DM8),'UDF 3 Output'!DM8))*1","v":0},{"$f":"(IF(ISNUMBER('UDF 3 Output'!DN8),'UDF 3 Output'!DN8))*1","v":0},{"$f":"(IF(ISNUMBER('UDF 3 Output'!DO8),'UDF 3 Output'!DO8))*1","v":0},{"$f":"(IF(ISNUMBER('UDF 3 Output'!DP8),'UDF 3 Output'!DP8))*1","v":0},{"$f":"(IF(ISNUMBER('UDF 3 Output'!DQ8),'UDF 3 Output'!DQ8))*1","v":0},{"$f":"(IF(ISNUMBER('UDF 3 Output'!DR8),'UDF 3 Output'!DR8))*1","v":0},{"$f":"(IF(ISNUMBER('UDF 3 Output'!DS8),'UDF 3 Output'!DS8))*1","v":0},{"$f":"(IF(ISNUMBER('UDF 3 Output'!DT8),'UDF 3 Output'!DT8))*1","v":0},{"$f":"(IF(ISNUMBER('UDF 3 Output'!DU8),'UDF 3 Output'!DU8))*1","v":0},{"$f":"(IF(ISNUMBER('UDF 3 Output'!DV8),'UDF 3 Output'!DV8))*1","v":0},{"$f":"(IF(ISNUMBER('UDF 3 Output'!DW8),'UDF 3 Output'!DW8))*1","v":0},{"$f":"(IF(ISNUMBER('UDF 3 Output'!DX8),'UDF 3 Output'!DX8))*1","v":0},{"$f":"(IF(ISNUMBER('UDF 3 Output'!DY8),'UDF 3 Output'!DY8))*1","v":0},{"$f":"(IF(ISNUMBER('UDF 3 Output'!DZ8),'UDF 3 Output'!DZ8))*1","v":0},{"$f":"(IF(ISNUMBER('UDF 3 Output'!EA8),'UDF 3 Output'!EA8))*1","v":0},{"$f":"(IF(ISNUMBER('UDF 3 Output'!EB8),'UDF 3 Output'!EB8))*1","v":0},{"$f":"(IF(ISNUMBER('UDF 3 Output'!EC8),'UDF 3 Output'!EC8))*1","v":0},{"$f":"(IF(ISNUMBER('UDF 3 Output'!ED8),'UDF 3 Output'!ED8))*1","v":0},{"$f":"(IF(ISNUMBER('UDF 3 Output'!EE8),'UDF 3 Output'!EE8))*1","v":0},{"$f":"(IF(ISNUMBER('UDF 3 Output'!EF8),'UDF 3 Output'!EF8))*1","v":0},{"$f":"(IF(ISNUMBER('UDF 3 Output'!EG8),'UDF 3 Output'!EG8))*1","v":0},{"$f":"(IF(ISNUMBER('UDF 3 Output'!EH8),'UDF 3 Output'!EH8))*1","v":0},{"$f":"(IF(ISNUMBER('UDF 3 Output'!EI8),'UDF 3 Output'!EI8))*1","v":0},{"$f":"(IF(ISNUMBER('UDF 3 Output'!EJ8),'UDF 3 Output'!EJ8))*1","v":0},{"$f":"(IF(ISNUMBER('UDF 3 Output'!EK8),'UDF 3 Output'!EK8))*1","v":0},{"$f":"(IF(ISNUMBER('UDF 3 Output'!EL8),'UDF 3 Output'!EL8))*1","v":0},{"$f":"(IF(ISNUMBER('UDF 3 Output'!EM8),'UDF 3 Output'!EM8))*1","v":0},{"$f":"(IF(ISNUMBER('UDF 3 Output'!EN8),'UDF 3 Output'!EN8))*1","v":0},{"$f":"(IF(ISNUMBER('UDF 3 Output'!EO8),'UDF 3 Output'!EO8))*1","v":0},{"$f":"(IF(ISNUMBER('UDF 3 Output'!EP8),'UDF 3 Output'!EP8))*1","v":0},{"$f":"(IF(ISNUMBER('UDF 3 Output'!EQ8),'UDF 3 Output'!EQ8))*1","v":0},{"$f":"(IF(ISNUMBER('UDF 3 Output'!ER8),'UDF 3 Output'!ER8))*1","v":0},{"$f":"(IF(ISNUMBER('UDF 3 Output'!ES8),'UDF 3 Output'!ES8))*1","v":0},{"$f":"(IF(ISNUMBER('UDF 3 Output'!ET8),'UDF 3 Output'!ET8))*1","v":0},{"$f":"(IF(ISNUMBER('UDF 3 Output'!EU8),'UDF 3 Output'!EU8))*1","v":0},{"$f":"(IF(ISNUMBER('UDF 3 Output'!EV8),'UDF 3 Output'!EV8))*1","v":0},{"$f":"(IF(ISNUMBER('UDF 3 Output'!EW8),'UDF 3 Output'!EW8))*1","v":0},{"$f":"(IF(ISNUMBER('UDF 3 Output'!EX8),'UDF 3 Output'!EX8))*1","v":0},{"$f":"(IF(ISNUMBER('UDF 3 Output'!EY8),'UDF 3 Output'!EY8))*1","v":0},{"$f":"(IF(ISNUMBER('UDF 3 Output'!EZ8),'UDF 3 Output'!EZ8))*1","v":0},{"$f":"(IF(ISNUMBER('UDF 3 Output'!FA8),'UDF 3 Output'!FA8))*1","v":0},{"$f":"(IF(ISNUMBER('UDF 3 Output'!FB8),'UDF 3 Output'!FB8))*1","v":0},{"$f":"(IF(ISNUMBER('UDF 3 Output'!FC8),'UDF 3 Output'!FC8))*1","v":0},{"$f":"(IF(ISNUMBER('UDF 3 Output'!FD8),'UDF 3 Output'!FD8))*1","v":0},{"$f":"(IF(ISNUMBER('UDF 3 Output'!FE8),'UDF 3 Output'!FE8))*1","v":0},{"$f":"(IF(ISNUMBER('UDF 3 Output'!FF8),'UDF 3 Output'!FF8))*1","v":0},{"$f":"(IF(ISNUMBER('UDF 3 Output'!FG8),'UDF 3 Output'!FG8))*1","v":0},{"$f":"(IF(ISNUMBER('UDF 3 Output'!FH8),'UDF 3 Output'!FH8))*1","v":0},{"$f":"(IF(ISNUMBER('UDF 3 Output'!FI8),'UDF 3 Output'!FI8))*1","v":0},{"$f":"(IF(ISNUMBER('UDF 3 Output'!FJ8),'UDF 3 Output'!FJ8))*1","v":0},{"$f":"(IF(ISNUMBER('UDF 3 Output'!FK8),'UDF 3 Output'!FK8))*1","v":0},{"$f":"(IF(ISNUMBER('UDF 3 Output'!FL8),'UDF 3 Output'!FL8))*1","v":0},{"$f":"(IF(ISNUMBER('UDF 3 Output'!FM8),'UDF 3 Output'!FM8))*1","v":0},{"$f":"(IF(ISNUMBER('UDF 3 Output'!FN8),'UDF 3 Output'!FN8))*1","v":0},{"$f":"(IF(ISNUMBER('UDF 3 Output'!FO8),'UDF 3 Output'!FO8))*1","v":0},{"$f":"(IF(ISNUMBER('UDF 3 Output'!FP8),'UDF 3 Output'!FP8))*1","v":0},{"$f":"(IF(ISNUMBER('UDF 3 Output'!FQ8),'UDF 3 Output'!FQ8))*1","v":0},{"$f":"(IF(ISNUMBER('UDF 3 Output'!FR8),'UDF 3 Output'!FR8))*1","v":0},{"$f":"(IF(ISNUMBER('UDF 3 Output'!FS8),'UDF 3 Output'!FS8))*1","v":0},{"$f":"(IF(ISNUMBER('UDF 3 Output'!FT8),'UDF 3 Output'!FT8))*1","v":0},{"$f":"(IF(ISNUMBER('UDF 3 Output'!FU8),'UDF 3 Output'!FU8))*1","v":0},{"$f":"(IF(ISNUMBER('UDF 3 Output'!FV8),'UDF 3 Output'!FV8))*1","v":0},{"$f":"(IF(ISNUMBER('UDF 3 Output'!FW8),'UDF 3 Output'!FW8))*1","v":0},{"$f":"(IF(ISNUMBER('UDF 3 Output'!FX8),'UDF 3 Output'!FX8))*1","v":0},{"$f":"(IF(ISNUMBER('UDF 3 Output'!FY8),'UDF 3 Output'!FY8))*1","v":0},{"$f":"(IF(ISNUMBER('UDF 3 Output'!FZ8),'UDF 3 Output'!FZ8))*1","v":0},{"$f":"(IF(ISNUMBER('UDF 3 Output'!GA8),'UDF 3 Output'!GA8))*1","v":0},{"$f":"(IF(ISNUMBER('UDF 3 Output'!GB8),'UDF 3 Output'!GB8))*1","v":0},{"$f":"(IF(ISNUMBER('UDF 3 Output'!GC8),'UDF 3 Output'!GC8))*1","v":0},{"$f":"(IF(ISNUMBER('UDF 3 Output'!GD8),'UDF 3 Output'!GD8))*1","v":0},{"$f":"(IF(ISNUMBER('UDF 3 Output'!GE8),'UDF 3 Output'!GE8))*1","v":0},{"$f":"(IF(ISNUMBER('UDF 3 Output'!GF8),'UDF 3 Output'!GF8))*1","v":0},{"$f":"(IF(ISNUMBER('UDF 3 Output'!GG8),'UDF 3 Output'!GG8))*1","v":0},{"$f":"(IF(ISNUMBER('UDF 3 Output'!GH8),'UDF 3 Output'!GH8))*1","v":0},{"$f":"(IF(ISNUMBER('UDF 3 Output'!GI8),'UDF 3 Output'!GI8))*1","v":0},{"$f":"(IF(ISNUMBER('UDF 3 Output'!GJ8),'UDF 3 Output'!GJ8))*1","v":0},{"$f":"(IF(ISNUMBER('UDF 3 Output'!GK8),'UDF 3 Output'!GK8))*1","v":0},{"$f":"(IF(ISNUMBER('UDF 3 Output'!GL8),'UDF 3 Output'!GL8))*1","v":0},{"$f":"(IF(ISNUMBER('UDF 3 Output'!GM8),'UDF 3 Output'!GM8))*1","v":0},{"$f":"(IF(ISNUMBER('UDF 3 Output'!GN8),'UDF 3 Output'!GN8))*1","v":0},{"$f":"(IF(ISNUMBER('UDF 3 Output'!GO8),'UDF 3 Output'!GO8))*1","v":0},{"$f":"(IF(ISNUMBER('UDF 3 Output'!GP8),'UDF 3 Output'!GP8))*1","v":0},{"$f":"(IF(ISNUMBER('UDF 3 Output'!GQ8),'UDF 3 Output'!GQ8))*1","v":0},{"$f":"(IF(ISNUMBER('UDF 3 Output'!GR8),'UDF 3 Output'!GR8))*1","v":0},{"$f":"(IF(ISNUMBER('UDF 3 Output'!GS8),'UDF 3 Output'!GS8))*1","v":0},{"$f":"(IF(ISNUMBER('UDF 3 Output'!GT8),'UDF 3 Output'!GT8))*1","v":0},{"$f":"(IF(ISNUMBER('UDF 3 Output'!GU8),'UDF 3 Output'!GU8))*1","v":0},{"$f":"(IF(ISNUMBER('UDF 3 Output'!GV8),'UDF 3 Output'!GV8))*1","v":0},{"$f":"(IF(ISNUMBER('UDF 3 Output'!GW8),'UDF 3 Output'!GW8))*1","v":0},{"$f":"(IF(ISNUMBER('UDF 3 Output'!GX8),'UDF 3 Output'!GX8))*1","v":0},{"$f":"(IF(ISNUMBER('UDF 3 Output'!GY8),'UDF 3 Output'!GY8))*1","v":0},{"$f":"(IF(ISNUMBER('UDF 3 Output'!GZ8),'UDF 3 Output'!GZ8))*1","v":0},{"$f":"(IF(ISNUMBER('UDF 3 Output'!HA8),'UDF 3 Output'!HA8))*1","v":0},{"$f":"(IF(ISNUMBER('UDF 3 Output'!HB8),'UDF 3 Output'!HB8))*1","v":0},{"$f":"(IF(ISNUMBER('UDF 3 Output'!HC8),'UDF 3 Output'!HC8))*1","v":0},{"$f":"(IF(ISNUMBER('UDF 3 Output'!HD8),'UDF 3 Output'!HD8))*1","v":0},{"$f":"(IF(ISNUMBER('UDF 3 Output'!HE8),'UDF 3 Output'!HE8))*1","v":0},{"$f":"(IF(ISNUMBER('UDF 3 Output'!HF8),'UDF 3 Output'!HF8))*1","v":0},{"$f":"(IF(ISNUMBER('UDF 3 Output'!HG8),'UDF 3 Output'!HG8))*1","v":0},{"$f":"(IF(ISNUMBER('UDF 3 Output'!HH8),'UDF 3 Output'!HH8))*1","v":0},{"$f":"(IF(ISNUMBER('UDF 3 Output'!HI8),'UDF 3 Output'!HI8))*1","v":0},{"$f":"(IF(ISNUMBER('UDF 3 Output'!HJ8),'UDF 3 Output'!HJ8))*1","v":0},{"$f":"(IF(ISNUMBER('UDF 3 Output'!HK8),'UDF 3 Output'!HK8))*1","v":0},{"$f":"(IF(ISNUMBER('UDF 3 Output'!HL8),'UDF 3 Output'!HL8))*1","v":0},{"$f":"(IF(ISNUMBER('UDF 3 Output'!HM8),'UDF 3 Output'!HM8))*1","v":0},{"$f":"(IF(ISNUMBER('UDF 3 Output'!HN8),'UDF 3 Output'!HN8))*1","v":0},{"$f":"(IF(ISNUMBER('UDF 3 Output'!HO8),'UDF 3 Output'!HO8))*1","v":0},{"$f":"(IF(ISNUMBER('UDF 3 Output'!HP8),'UDF 3 Output'!HP8))*1","v":0},{"$f":"(IF(ISNUMBER('UDF 3 Output'!HQ8),'UDF 3 Output'!HQ8))*1","v":0},{"$f":"(IF(ISNUMBER('UDF 3 Output'!HR8),'UDF 3 Output'!HR8))*1","v":0},{"$f":"(IF(ISNUMBER('UDF 3 Output'!HS8),'UDF 3 Output'!HS8))*1","v":0},{"$f":"(IF(ISNUMBER('UDF 3 Output'!HT8),'UDF 3 Output'!HT8))*1","v":0},{"$f":"(IF(ISNUMBER('UDF 3 Output'!HU8),'UDF 3 Output'!HU8))*1","v":0},{"$f":"(IF(ISNUMBER('UDF 3 Output'!HV8),'UDF 3 Output'!HV8))*1","v":0},{"$f":"(IF(ISNUMBER('UDF 3 Output'!HW8),'UDF 3 Output'!HW8))*1","v":0},{"$f":"(IF(ISNUMBER('UDF 3 Output'!HX8),'UDF 3 Output'!HX8))*1","v":0},{"$f":"(IF(ISNUMBER('UDF 3 Output'!HY8),'UDF 3 Output'!HY8))*1","v":0},{"$f":"(IF(ISNUMBER('UDF 3 Output'!HZ8),'UDF 3 Output'!HZ8))*1","v":0},{"$f":"(IF(ISNUMBER('UDF 3 Output'!IA8),'UDF 3 Output'!IA8))*1","v":0},{"$f":"(IF(ISNUMBER('UDF 3 Output'!IB8),'UDF 3 Output'!IB8))*1","v":0},{"$f":"(IF(ISNUMBER('UDF 3 Output'!IC8),'UDF 3 Output'!IC8))*1","v":0},{"$f":"(IF(ISNUMBER('UDF 3 Output'!ID8),'UDF 3 Output'!ID8))*1","v":0},{"$f":"(IF(ISNUMBER('UDF 3 Output'!IE8),'UDF 3 Output'!IE8))*1","v":0},{"$f":"(IF(ISNUMBER('UDF 3 Output'!IF8),'UDF 3 Output'!IF8))*1","v":0},{"$f":"(IF(ISNUMBER('UDF 3 Output'!IG8),'UDF 3 Output'!IG8))*1","v":0},{"$f":"(IF(ISNUMBER('UDF 3 Output'!IH8),'UDF 3 Output'!IH8))*1","v":0},{"$f":"(IF(ISNUMBER('UDF 3 Output'!II8),'UDF 3 Output'!II8))*1","v":0},{"$f":"(IF(ISNUMBER('UDF 3 Output'!IJ8),'UDF 3 Output'!IJ8))*1","v":0},{"$f":"(IF(ISNUMBER('UDF 3 Output'!IK8),'UDF 3 Output'!IK8))*1","v":0},{"$f":"(IF(ISNUMBER('UDF 3 Output'!IL8),'UDF 3 Output'!IL8))*1","v":0},{"$f":"(IF(ISNUMBER('UDF 3 Output'!IM8),'UDF 3 Output'!IM8))*1","v":0},{"$f":"(IF(ISNUMBER('UDF 3 Output'!IN8),'UDF 3 Output'!IN8))*1","v":0},{"$f":"(IF(ISNUMBER('UDF 3 Output'!IO8),'UDF 3 Output'!IO8))*1","v":0},{"$f":"(IF(ISNUMBER('UDF 3 Output'!IP8),'UDF 3 Output'!IP8))*1","v":0},{"$f":"(IF(ISNUMBER('UDF 3 Output'!IQ8),'UDF 3 Output'!IQ8))*1","v":0},{"$f":"(IF(ISNUMBER('UDF 3 Output'!IR8),'UDF 3 Output'!IR8))*1","v":0},{"$f":"(IF(ISNUMBER('UDF 3 Output'!IS8),'UDF 3 Output'!IS8))*1","v":0},{"$f":"(IF(ISNUMBER('UDF 3 Output'!IT8),'UDF 3 Output'!IT8))*1","v":0},{"$f":"(IF(ISNUMBER('UDF 3 Output'!IU8),'UDF 3 Output'!IU8))*1","v":0},{"$f":"(IF(ISNUMBER('UDF 3 Output'!IV8),'UDF 3 Output'!IV8))*1","v":0},{"$f":"(IF(ISNUMBER('UDF 3 Output'!IW8),'UDF 3 Output'!IW8))*1","v":0},{"$f":"(IF(ISNUMBER('UDF 3 Output'!IX8),'UDF 3 Output'!IX8))*1","v":0},{"$f":"(IF(ISNUMBER('UDF 3 Output'!IY8),'UDF 3 Output'!IY8))*1","v":0},{"$f":"(IF(ISNUMBER('UDF 3 Output'!IZ8),'UDF 3 Output'!IZ8))*1","v":0},{"$f":"(IF(ISNUMBER('UDF 3 Output'!JA8),'UDF 3 Output'!JA8))*1","v":0},{"$f":"(IF(ISNUMBER('UDF 3 Output'!JB8),'UDF 3 Output'!JB8))*1","v":0},{"$f":"(IF(ISNUMBER('UDF 3 Output'!JC8),'UDF 3 Output'!JC8))*1","v":0},{"$f":"(IF(ISNUMBER('UDF 3 Output'!JD8),'UDF 3 Output'!JD8))*1","v":0},{"$f":"(IF(ISNUMBER('UDF 3 Output'!JE8),'UDF 3 Output'!JE8))*1","v":0},{"$f":"(IF(ISNUMBER('UDF 3 Output'!JF8),'UDF 3 Output'!JF8))*1","v":0},{"$f":"(IF(ISNUMBER('UDF 3 Output'!JG8),'UDF 3 Output'!JG8))*1","v":0},{"$f":"(IF(ISNUMBER('UDF 3 Output'!JH8),'UDF 3 Output'!JH8))*1","v":0},{"$f":"(IF(ISNUMBER('UDF 3 Output'!JI8),'UDF 3 Output'!JI8))*1","v":0},{"$f":"(IF(ISNUMBER('UDF 3 Output'!JJ8),'UDF 3 Output'!JJ8))*1","v":0},{"$f":"(IF(ISNUMBER('UDF 3 Output'!JK8),'UDF 3 Output'!JK8))*1","v":0},{"$f":"(IF(ISNUMBER('UDF 3 Output'!JL8),'UDF 3 Output'!JL8))*1","v":0},{"$f":"(IF(ISNUMBER('UDF 3 Output'!JM8),'UDF 3 Output'!JM8))*1","v":0},{"$f":"(IF(ISNUMBER('UDF 3 Output'!JN8),'UDF 3 Output'!JN8))*1","v":0},{"$f":"(IF(ISNUMBER('UDF 3 Output'!JO8),'UDF 3 Output'!JO8))*1","v":0},{"$f":"(IF(ISNUMBER('UDF 3 Output'!JP8),'UDF 3 Output'!JP8))*1","v":0},{"$f":"(IF(ISNUMBER('UDF 3 Output'!JQ8),'UDF 3 Output'!JQ8))*1","v":0},{"$f":"(IF(ISNUMBER('UDF 3 Output'!JR8),'UDF 3 Output'!JR8))*1","v":0},{"$f":"(IF(ISNUMBER('UDF 3 Output'!JS8),'UDF 3 Output'!JS8))*1","v":0},{"$f":"(IF(ISNUMBER('UDF 3 Output'!JT8),'UDF 3 Output'!JT8))*1","v":0},{"$f":"(IF(ISNUMBER('UDF 3 Output'!JU8),'UDF 3 Output'!JU8))*1","v":0},{"$f":"(IF(ISNUMBER('UDF 3 Output'!JV8),'UDF 3 Output'!JV8))*1","v":0},{"$f":"(IF(ISNUMBER('UDF 3 Output'!JW8),'UDF 3 Output'!JW8))*1","v":0},{"$f":"(IF(ISNUMBER('UDF 3 Output'!JX8),'UDF 3 Output'!JX8))*1","v":0},{"$f":"(IF(ISNUMBER('UDF 3 Output'!JY8),'UDF 3 Output'!JY8))*1","v":0},{"$f":"(IF(ISNUMBER('UDF 3 Output'!JZ8),'UDF 3 Output'!JZ8))*1","v":0},{"$f":"(IF(ISNUMBER('UDF 3 Output'!KA8),'UDF 3 Output'!KA8))*1","v":0},{"$f":"(IF(ISNUMBER('UDF 3 Output'!KB8),'UDF 3 Output'!KB8))*1","v":0},{"$f":"(IF(ISNUMBER('UDF 3 Output'!KC8),'UDF 3 Output'!KC8))*1","v":0},{"$f":"(IF(ISNUMBER('UDF 3 Output'!KD8),'UDF 3 Output'!KD8))*1","v":0},{"$f":"(IF(ISNUMBER('UDF 3 Output'!KE8),'UDF 3 Output'!KE8))*1","v":0},{"$f":"(IF(ISNUMBER('UDF 3 Output'!KF8),'UDF 3 Output'!KF8))*1","v":0},{"$f":"(IF(ISNUMBER('UDF 3 Output'!KG8),'UDF 3 Output'!KG8))*1","v":0},{"$f":"(IF(ISNUMBER('UDF 3 Output'!KH8),'UDF 3 Output'!KH8))*1","v":0},{"$f":"(IF(ISNUMBER('UDF 3 Output'!KI8),'UDF 3 Output'!KI8))*1","v":0},{"$f":"(IF(ISNUMBER('UDF 3 Output'!KJ8),'UDF 3 Output'!KJ8))*1","v":0},{"$f":"(IF(ISNUMBER('UDF 3 Output'!KK8),'UDF 3 Output'!KK8))*1","v":0},{"$f":"(IF(ISNUMBER('UDF 3 Output'!KL8),'UDF 3 Output'!KL8))*1","v":0},{"$f":"(IF(ISNUMBER('UDF 3 Output'!KM8),'UDF 3 Output'!KM8))*1","v":0},{"$f":"(IF(ISNUMBER('UDF 3 Output'!KN8),'UDF 3 Output'!KN8))*1","v":0},{"$f":"(IF(ISNUMBER('UDF 3 Output'!KO8),'UDF 3 Output'!KO8))*1","v":0},{"$f":"(IF(ISNUMBER('UDF 3 Output'!KP8),'UDF 3 Output'!KP8))*1","v":0},{"$f":"(IF(ISNUMBER('UDF 3 Output'!KQ8),'UDF 3 Output'!KQ8))*1","v":0},{"$f":"(IF(ISNUMBER('UDF 3 Output'!KR8),'UDF 3 Output'!KR8))*1","v":0},{"$f":"(IF(ISNUMBER('UDF 3 Output'!KS8),'UDF 3 Output'!KS8))*1","v":0},{"$f":"(IF(ISNUMBER('UDF 3 Output'!KT8),'UDF 3 Output'!KT8))*1","v":0},{"$f":"(IF(ISNUMBER('UDF 3 Output'!KU8),'UDF 3 Output'!KU8))*1","v":0},{"$f":"(IF(ISNUMBER('UDF 3 Output'!KV8),'UDF 3 Output'!KV8))*1","v":0},{"$f":"(IF(ISNUMBER('UDF 3 Output'!KW8),'UDF 3 Output'!KW8))*1","v":0},{"$f":"(IF(ISNUMBER('UDF 3 Output'!KX8),'UDF 3 Output'!KX8))*1","v":0},{"$f":"(IF(ISNUMBER('UDF 3 Output'!KY8),'UDF 3 Output'!KY8))*1","v":0},{"$f":"(IF(ISNUMBER('UDF 3 Output'!KZ8),'UDF 3 Output'!KZ8))*1","v":0},{"$f":"(IF(ISNUMBER('UDF 3 Output'!LA8),'UDF 3 Output'!LA8))*1","v":0},{"$f":"(IF(ISNUMBER('UDF 3 Output'!LB8),'UDF 3 Output'!LB8))*1","v":0},{"$f":"(IF(ISNUMBER('UDF 3 Output'!LC8),'UDF 3 Output'!LC8))*1","v":0},{"$f":"(IF(ISNUMBER('UDF 3 Output'!LD8),'UDF 3 Output'!LD8))*1","v":0},{"$f":"(IF(ISNUMBER('UDF 3 Output'!LE8),'UDF 3 Output'!LE8))*1","v":0},{"$f":"(IF(ISNUMBER('UDF 3 Output'!LF8),'UDF 3 Output'!LF8))*1","v":0},{"$f":"(IF(ISNUMBER('UDF 3 Output'!LG8),'UDF 3 Output'!LG8))*1","v":0},{"$f":"(IF(ISNUMBER('UDF 3 Output'!LH8),'UDF 3 Output'!LH8))*1","v":0},{"$f":"(IF(ISNUMBER('UDF 3 Output'!LI8),'UDF 3 Output'!LI8))*1","v":0},{"$f":"(IF(ISNUMBER('UDF 3 Output'!LJ8),'UDF 3 Output'!LJ8))*1","v":0},{"$f":"(IF(ISNUMBER('UDF 3 Output'!LK8),'UDF 3 Output'!LK8))*1","v":0},{"$f":"(IF(ISNUMBER('UDF 3 Output'!LL8),'UDF 3 Output'!LL8))*1","v":0},{"$f":"(IF(ISNUMBER('UDF 3 Output'!LM8),'UDF 3 Output'!LM8))*1","v":0},{"$f":"(IF(ISNUMBER('UDF 3 Output'!LN8),'UDF 3 Output'!LN8))*1","v":0},{"$f":"(IF(ISNUMBER('UDF 3 Output'!LO8),'UDF 3 Output'!LO8))*1","v":0},{"$f":"(IF(ISNUMBER('UDF 3 Output'!LP8),'UDF 3 Output'!LP8))*1","v":0},{"$f":"(IF(ISNUMBER('UDF 3 Output'!LQ8),'UDF 3 Output'!LQ8))*1","v":0},{"$f":"(IF(ISNUMBER('UDF 3 Output'!LR8),'UDF 3 Output'!LR8))*1","v":0},{"$f":"(IF(ISNUMBER('UDF 3 Output'!LS8),'UDF 3 Output'!LS8))*1","v":0},{"$f":"(IF(ISNUMBER('UDF 3 Output'!LT8),'UDF 3 Output'!LT8))*1","v":0},{"$f":"(IF(ISNUMBER('UDF 3 Output'!LU8),'UDF 3 Output'!LU8))*1","v":0},{"$f":"(IF(ISNUMBER('UDF 3 Output'!LV8),'UDF 3 Output'!LV8))*1","v":0},{"$f":"(IF(ISNUMBER('UDF 3 Output'!LW8),'UDF 3 Output'!LW8))*1","v":0},{"$f":"(IF(ISNUMBER('UDF 3 Output'!LX8),'UDF 3 Output'!LX8))*1","v":0},{"$f":"(IF(ISNUMBER('UDF 3 Output'!LY8),'UDF 3 Output'!LY8))*1","v":0},{"$f":"(IF(ISNUMBER('UDF 3 Output'!LZ8),'UDF 3 Output'!LZ8))*1","v":0},{"$f":"(IF(ISNUMBER('UDF 3 Output'!MA8),'UDF 3 Output'!MA8))*1","v":0},{"$f":"(IF(ISNUMBER('UDF 3 Output'!MB8),'UDF 3 Output'!MB8))*1","v":0},{"$f":"(IF(ISNUMBER('UDF 3 Output'!MC8),'UDF 3 Output'!MC8))*1","v":0},{"$f":"(IF(ISNUMBER('UDF 3 Output'!MD8),'UDF 3 Output'!MD8))*1","v":0},{"$f":"(IF(ISNUMBER('UDF 3 Output'!ME8),'UDF 3 Output'!ME8))*1","v":0},{"$f":"(IF(ISNUMBER('UDF 3 Output'!MF8),'UDF 3 Output'!MF8))*1","v":0},{"$f":"(IF(ISNUMBER('UDF 3 Output'!MG8),'UDF 3 Output'!MG8))*1","v":0},{"$f":"(IF(ISNUMBER('UDF 3 Output'!MH8),'UDF 3 Output'!MH8))*1","v":0},{"$f":"(IF(ISNUMBER('UDF 3 Output'!MI8),'UDF 3 Output'!MI8))*1","v":0},{"$f":"(IF(ISNUMBER('UDF 3 Output'!MJ8),'UDF 3 Output'!MJ8))*1","v":0},{"$f":"(IF(ISNUMBER('UDF 3 Output'!MK8),'UDF 3 Output'!MK8))*1","v":0},{"$f":"(IF(ISNUMBER('UDF 3 Output'!ML8),'UDF 3 Output'!ML8))*1","v":0},{"$f":"(IF(ISNUMBER('UDF 3 Output'!MM8),'UDF 3 Output'!MM8))*1","v":0},{"$f":"(IF(ISNUMBER('UDF 3 Output'!MN8),'UDF 3 Output'!MN8))*1","v":0},{"$f":"(IF(ISNUMBER('UDF 3 Output'!MO8),'UDF 3 Output'!MO8))*1","v":0},{"$f":"(IF(ISNUMBER('UDF 3 Output'!MP8),'UDF 3 Output'!MP8))*1","v":0},{"$f":"(IF(ISNUMBER('UDF 3 Output'!MQ8),'UDF 3 Output'!MQ8))*1","v":0},{"$f":"(IF(ISNUMBER('UDF 3 Output'!MR8),'UDF 3 Output'!MR8))*1","v":0},{"$f":"(IF(ISNUMBER('UDF 3 Output'!MS8),'UDF 3 Output'!MS8))*1","v":0},{"$f":"(IF(ISNUMBER('UDF 3 Output'!MT8),'UDF 3 Output'!MT8))*1","v":0},{"$f":"(IF(ISNUMBER('UDF 3 Output'!MU8),'UDF 3 Output'!MU8))*1","v":0},{"$f":"(IF(ISNUMBER('UDF 3 Output'!MV8),'UDF 3 Output'!MV8))*1","v":0},{"$f":"(IF(ISNUMBER('UDF 3 Output'!MW8),'UDF 3 Output'!MW8))*1","v":0},{"$f":"(IF(ISNUMBER('UDF 3 Output'!MX8),'UDF 3 Output'!MX8))*1","v":0},{"$f":"(IF(ISNUMBER('UDF 3 Output'!MY8),'UDF 3 Output'!MY8))*1","v":0},{"$f":"(IF(ISNUMBER('UDF 3 Output'!MZ8),'UDF 3 Output'!MZ8))*1","v":0},{"$f":"(IF(ISNUMBER('UDF 3 Output'!NA8),'UDF 3 Output'!NA8))*1","v":0},{"$f":"(IF(ISNUMBER('UDF 3 Output'!NB8),'UDF 3 Output'!NB8))*1","v":0},{"$f":"(IF(ISNUMBER('UDF 3 Output'!NC8),'UDF 3 Output'!NC8))*1","v":0},{"$f":"(IF(ISNUMBER('UDF 3 Output'!ND8),'UDF 3 Output'!ND8))*1","v":0},{"$f":"(IF(ISNUMBER('UDF 3 Output'!NE8),'UDF 3 Output'!NE8))*1","v":0},{"$f":"(IF(ISNUMBER('UDF 3 Output'!NF8),'UDF 3 Output'!NF8))*1","v":0},{"$f":"(IF(ISNUMBER('UDF 3 Output'!NG8),'UDF 3 Output'!NG8))*1","v":0},{"$f":"(IF(ISNUMBER('UDF 3 Output'!NH8),'UDF 3 Output'!NH8))*1","v":0},{"$f":"(IF(ISNUMBER('UDF 3 Output'!NI8),'UDF 3 Output'!NI8))*1","v":0},{"$f":"(IF(ISNUMBER('UDF 3 Output'!NJ8),'UDF 3 Output'!NJ8))*1","v":0},{"$f":"(IF(ISNUMBER('UDF 3 Output'!NK8),'UDF 3 Output'!NK8))*1","v":0},{"$f":"(IF(ISNUMBER('UDF 3 Output'!NL8),'UDF 3 Output'!NL8))*1","v":0},{"$f":"(IF(ISNUMBER('UDF 3 Output'!NM8),'UDF 3 Output'!NM8))*1","v":0},{"$f":"(IF(ISNUMBER('UDF 3 Output'!NN8),'UDF 3 Output'!NN8))*1","v":0},{"$f":"(IF(ISNUMBER('UDF 3 Output'!NO8),'UDF 3 Output'!NO8))*1","v":0},{"$f":"(IF(ISNUMBER('UDF 3 Output'!NP8),'UDF 3 Output'!NP8))*1","v":0},{"$f":"(IF(ISNUMBER('UDF 3 Output'!NQ8),'UDF 3 Output'!NQ8))*1","v":0},{"$f":"(IF(ISNUMBER('UDF 3 Output'!NR8),'UDF 3 Output'!NR8))*1","v":0},{"$f":"(IF(ISNUMBER('UDF 3 Output'!NS8),'UDF 3 Output'!NS8))*1","v":0},{"$f":"(IF(ISNUMBER('UDF 3 Output'!NT8),'UDF 3 Output'!NT8))*1","v":0},{"$f":"(IF(ISNUMBER('UDF 3 Output'!NU8),'UDF 3 Output'!NU8))*1","v":0},{"$f":"(IF(ISNUMBER('UDF 3 Output'!NV8),'UDF 3 Output'!NV8))*1","v":0},{"$f":"(IF(ISNUMBER('UDF 3 Output'!NW8),'UDF 3 Output'!NW8))*1","v":0},{"$f":"(IF(ISNUMBER('UDF 3 Output'!NX8),'UDF 3 Output'!NX8))*1","v":0},{"$f":"(IF(ISNUMBER('UDF 3 Output'!NY8),'UDF 3 Output'!NY8))*1","v":0},{"$f":"(IF(ISNUMBER('UDF 3 Output'!NZ8),'UDF 3 Output'!NZ8))*1","v":0},{"$f":"(IF(ISNUMBER('UDF 3 Output'!OA8),'UDF 3 Output'!OA8))*1","v":0},{"$f":"(IF(ISNUMBER('UDF 3 Output'!OB8),'UDF 3 Output'!OB8))*1","v":0},{"$f":"(IF(ISNUMBER('UDF 3 Output'!OC8),'UDF 3 Output'!OC8))*1","v":0},{"$f":"(IF(ISNUMBER('UDF 3 Output'!OD8),'UDF 3 Output'!OD8))*1","v":0},{"$f":"(IF(ISNUMBER('UDF 3 Output'!OE8),'UDF 3 Output'!OE8))*1","v":0},{"$f":"(IF(ISNUMBER('UDF 3 Output'!OF8),'UDF 3 Output'!OF8))*1","v":0},{"$f":"(IF(ISNUMBER('UDF 3 Output'!OG8),'UDF 3 Output'!OG8))*1","v":0},{"$f":"(IF(ISNUMBER('UDF 3 Output'!OH8),'UDF 3 Output'!OH8))*1","v":0},{"$f":"(IF(ISNUMBER('UDF 3 Output'!OI8),'UDF 3 Output'!OI8))*1","v":0},{"$f":"(IF(ISNUMBER('UDF 3 Output'!OJ8),'UDF 3 Output'!OJ8))*1","v":0},{"$f":"(IF(ISNUMBER('UDF 3 Output'!OK8),'UDF 3 Output'!OK8))*1","v":0},{"$f":"(IF(ISNUMBER('UDF 3 Output'!OL8),'UDF 3 Output'!OL8))*1","v":0},{"$f":"(IF(ISNUMBER('UDF 3 Output'!OM8),'UDF 3 Output'!OM8))*1","v":0},{"$f":"(IF(ISNUMBER('UDF 3 Output'!ON8),'UDF 3 Output'!ON8))*1","v":0},{"$f":"(IF(ISNUMBER('UDF 3 Output'!OO8),'UDF 3 Output'!OO8))*1","v":0},{"$f":"(IF(ISNUMBER('UDF 3 Output'!OP8),'UDF 3 Output'!OP8))*1","v":0},{"$f":"(IF(ISNUMBER('UDF 3 Output'!OQ8),'UDF 3 Output'!OQ8))*1","v":0},{"$f":"(IF(ISNUMBER('UDF 3 Output'!OR8),'UDF 3 Output'!OR8))*1","v":0},{"$f":"(IF(ISNUMBER('UDF 3 Output'!OS8),'UDF 3 Output'!OS8))*1","v":0},{"$f":"(IF(ISNUMBER('UDF 3 Output'!OT8),'UDF 3 Output'!OT8))*1","v":0},{"$f":"(IF(ISNUMBER('UDF 3 Output'!OU8),'UDF 3 Output'!OU8))*1","v":0},{"$f":"(IF(ISNUMBER('UDF 3 Output'!OV8),'UDF 3 Output'!OV8))*1","v":0},{"$f":"(IF(ISNUMBER('UDF 3 Output'!OW8),'UDF 3 Output'!OW8))*1","v":0},{"$f":"(IF(ISNUMBER('UDF 3 Output'!OX8),'UDF 3 Output'!OX8))*1","v":0},{"$f":"(IF(ISNUMBER('UDF 3 Output'!OY8),'UDF 3 Output'!OY8))*1","v":0},{"$f":"(IF(ISNUMBER('UDF 3 Output'!OZ8),'UDF 3 Output'!OZ8))*1","v":0},{"$f":"(IF(ISNUMBER('UDF 3 Output'!PA8),'UDF 3 Output'!PA8))*1","v":0},{"$f":"(IF(ISNUMBER('UDF 3 Output'!PB8),'UDF 3 Output'!PB8))*1","v":0},{"$f":"(IF(ISNUMBER('UDF 3 Output'!PC8),'UDF 3 Output'!PC8))*1","v":0},{"$f":"(IF(ISNUMBER('UDF 3 Output'!PD8),'UDF 3 Output'!PD8))*1","v":0},{"$f":"(IF(ISNUMBER('UDF 3 Output'!PE8),'UDF 3 Output'!PE8))*1","v":0},{"$f":"(IF(ISNUMBER('UDF 3 Output'!PF8),'UDF 3 Output'!PF8))*1","v":0},{"$f":"(IF(ISNUMBER('UDF 3 Output'!PG8),'UDF 3 Output'!PG8))*1","v":0},{"$f":"(IF(ISNUMBER('UDF 3 Output'!PH8),'UDF 3 Output'!PH8))*1","v":0},{"$f":"(IF(ISNUMBER('UDF 3 Output'!PI8),'UDF 3 Output'!PI8))*1","v":0},{"$f":"(IF(ISNUMBER('UDF 3 Output'!PJ8),'UDF 3 Output'!PJ8))*1","v":0},{"$f":"(IF(ISNUMBER('UDF 3 Output'!PK8),'UDF 3 Output'!PK8))*1","v":0},{"$f":"(IF(ISNUMBER('UDF 3 Output'!PL8),'UDF 3 Output'!PL8))*1","v":0},{"$f":"(IF(ISNUMBER('UDF 3 Output'!PM8),'UDF 3 Output'!PM8))*1","v":0},{"$f":"(IF(ISNUMBER('UDF 3 Output'!PN8),'UDF 3 Output'!PN8))*1","v":0},{"$f":"(IF(ISNUMBER('UDF 3 Output'!PO8),'UDF 3 Output'!PO8))*1","v":0},{"$f":"(IF(ISNUMBER('UDF 3 Output'!PP8),'UDF 3 Output'!PP8))*1","v":0},{"$f":"(IF(ISNUMBER('UDF 3 Output'!PQ8),'UDF 3 Output'!PQ8))*1","v":0},{"$f":"(IF(ISNUMBER('UDF 3 Output'!PR8),'UDF 3 Output'!PR8))*1","v":0},{"$f":"(IF(ISNUMBER('UDF 3 Output'!PS8),'UDF 3 Output'!PS8))*1","v":0},{"$f":"(IF(ISNUMBER('UDF 3 Output'!PT8),'UDF 3 Output'!PT8))*1","v":0},{"$f":"(IF(ISNUMBER('UDF 3 Output'!PU8),'UDF 3 Output'!PU8))*1","v":0},{"$f":"(IF(ISNUMBER('UDF 3 Output'!PV8),'UDF 3 Output'!PV8))*1","v":0},{"$f":"(IF(ISNUMBER('UDF 3 Output'!PW8),'UDF 3 Output'!PW8))*1","v":0},{"$f":"(IF(ISNUMBER('UDF 3 Output'!PX8),'UDF 3 Output'!PX8))*1","v":0},{"$f":"(IF(ISNUMBER('UDF 3 Output'!PY8),'UDF 3 Output'!PY8))*1","v":0},{"$f":"(IF(ISNUMBER('UDF 3 Output'!PZ8),'UDF 3 Output'!PZ8))*1","v":0},{"$f":"(IF(ISNUMBER('UDF 3 Output'!QA8),'UDF 3 Output'!QA8))*1","v":0},{"$f":"(IF(ISNUMBER('UDF 3 Output'!QB8),'UDF 3 Output'!QB8))*1","v":0},{"$f":"(IF(ISNUMBER('UDF 3 Output'!QC8),'UDF 3 Output'!QC8))*1","v":0},{"$f":"(IF(ISNUMBER('UDF 3 Output'!QD8),'UDF 3 Output'!QD8))*1","v":0},{"$f":"(IF(ISNUMBER('UDF 3 Output'!QE8),'UDF 3 Output'!QE8))*1","v":0},{"$f":"(IF(ISNUMBER('UDF 3 Output'!QF8),'UDF 3 Output'!QF8))*1","v":0},{"$f":"(IF(ISNUMBER('UDF 3 Output'!QG8),'UDF 3 Output'!QG8))*1","v":0},{"$f":"(IF(ISNUMBER('UDF 3 Output'!QH8),'UDF 3 Output'!QH8))*1","v":0},{"$f":"(IF(ISNUMBER('UDF 3 Output'!QI8),'UDF 3 Output'!QI8))*1","v":0},{"$f":"(IF(ISNUMBER('UDF 3 Output'!QJ8),'UDF 3 Output'!QJ8))*1","v":0},{"$f":"(IF(ISNUMBER('UDF 3 Output'!QK8),'UDF 3 Output'!QK8))*1","v":0},{"$f":"(IF(ISNUMBER('UDF 3 Output'!QL8),'UDF 3 Output'!QL8))*1","v":0},{"$f":"(IF(ISNUMBER('UDF 3 Output'!QM8),'UDF 3 Output'!QM8))*1","v":0},{"$f":"(IF(ISNUMBER('UDF 3 Output'!QN8),'UDF 3 Output'!QN8))*1","v":0},{"$f":"(IF(ISNUMBER('UDF 3 Output'!QO8),'UDF 3 Output'!QO8))*1","v":0},{"$f":"(IF(ISNUMBER('UDF 3 Output'!QP8),'UDF 3 Output'!QP8))*1","v":0},{"$f":"(IF(ISNUMBER('UDF 3 Output'!QQ8),'UDF 3 Output'!QQ8))*1","v":0},{"$f":"(IF(ISNUMBER('UDF 3 Output'!QR8),'UDF 3 Output'!QR8))*1","v":0},{"$f":"(IF(ISNUMBER('UDF 3 Output'!QS8),'UDF 3 Output'!QS8))*1","v":0},{"$f":"(IF(ISNUMBER('UDF 3 Output'!QT8),'UDF 3 Output'!QT8))*1","v":0},{"$f":"(IF(ISNUMBER('UDF 3 Output'!QU8),'UDF 3 Output'!QU8))*1","v":0},{"$f":"(IF(ISNUMBER('UDF 3 Output'!QV8),'UDF 3 Output'!QV8))*1","v":0},{"$f":"(IF(ISNUMBER('UDF 3 Output'!QW8),'UDF 3 Output'!QW8))*1","v":0},{"$f":"(IF(ISNUMBER('UDF 3 Output'!QX8),'UDF 3 Output'!QX8))*1","v":0},{"$f":"(IF(ISNUMBER('UDF 3 Output'!QY8),'UDF 3 Output'!QY8))*1","v":0},{"$f":"(IF(ISNUMBER('UDF 3 Output'!QZ8),'UDF 3 Output'!QZ8))*1","v":0},{"$f":"(IF(ISNUMBER('UDF 3 Output'!RA8),'UDF 3 Output'!RA8))*1","v":0},{"$f":"(IF(ISNUMBER('UDF 3 Output'!RB8),'UDF 3 Output'!RB8))*1","v":0},{"$f":"(IF(ISNUMBER('UDF 3 Output'!RC8),'UDF 3 Output'!RC8))*1","v":0},{"$f":"(IF(ISNUMBER('UDF 3 Output'!RD8),'UDF 3 Output'!RD8))*1","v":0},{"$f":"(IF(ISNUMBER('UDF 3 Output'!RE8),'UDF 3 Output'!RE8))*1","v":0},{"$f":"(IF(ISNUMBER('UDF 3 Output'!RF8),'UDF 3 Output'!RF8))*1","v":0},{"$f":"(IF(ISNUMBER('UDF 3 Output'!RG8),'UDF 3 Output'!RG8))*1","v":0},{"$f":"(IF(ISNUMBER('UDF 3 Output'!RH8),'UDF 3 Output'!RH8))*1","v":0},{"$f":"(IF(ISNUMBER('UDF 3 Output'!RI8),'UDF 3 Output'!RI8))*1","v":0},{"$f":"(IF(ISNUMBER('UDF 3 Output'!RJ8),'UDF 3 Output'!RJ8))*1","v":0},{"$f":"(IF(ISNUMBER('UDF 3 Output'!RK8),'UDF 3 Output'!RK8))*1","v":0},{"$f":"(IF(ISNUMBER('UDF 3 Output'!RL8),'UDF 3 Output'!RL8))*1","v":0},{"$f":"(IF(ISNUMBER('UDF 3 Output'!RM8),'UDF 3 Output'!RM8))*1","v":0},{"$f":"(IF(ISNUMBER('UDF 3 Output'!RN8),'UDF 3 Output'!RN8))*1","v":0},{"$f":"(IF(ISNUMBER('UDF 3 Output'!RO8),'UDF 3 Output'!RO8))*1","v":0},{"$f":"(IF(ISNUMBER('UDF 3 Output'!RP8),'UDF 3 Output'!RP8))*1","v":0},{"$f":"(IF(ISNUMBER('UDF 3 Output'!RQ8),'UDF 3 Output'!RQ8))*1","v":0},{"$f":"(IF(ISNUMBER('UDF 3 Output'!RR8),'UDF 3 Output'!RR8))*1","v":0},{"$f":"(IF(ISNUMBER('UDF 3 Output'!RS8),'UDF 3 Output'!RS8))*1","v":0},{"$f":"(IF(ISNUMBER('UDF 3 Output'!RT8),'UDF 3 Output'!RT8))*1","v":0},{"$f":"(IF(ISNUMBER('UDF 3 Output'!RU8),'UDF 3 Output'!RU8))*1","v":0},{"$f":"(IF(ISNUMBER('UDF 3 Output'!RV8),'UDF 3 Output'!RV8))*1","v":0},{"$f":"(IF(ISNUMBER('UDF 3 Output'!RW8),'UDF 3 Output'!RW8))*1","v":0},{"$f":"(IF(ISNUMBER('UDF 3 Output'!RX8),'UDF 3 Output'!RX8))*1","v":0},{"$f":"(IF(ISNUMBER('UDF 3 Output'!RY8),'UDF 3 Output'!RY8))*1","v":0}]
[null,null,null,"Taxes",null,null,null,{"$f":"SUM(K234:XFD234)","v":0},null,null,{"$f":"(IF(ISNUMBER('UDF 3 Output'!G11),'UDF 3 Output'!G11))*1","v":0},{"$f":"(IF(ISNUMBER('UDF 3 Output'!H11),'UDF 3 Output'!H11))*1","v":0},{"$f":"(IF(ISNUMBER('UDF 3 Output'!I11),'UDF 3 Output'!I11))*1","v":0},{"$f":"(IF(ISNUMBER('UDF 3 Output'!J11),'UDF 3 Output'!J11))*1","v":0},{"$f":"(IF(ISNUMBER('UDF 3 Output'!K11),'UDF 3 Output'!K11))*1","v":0},{"$f":"(IF(ISNUMBER('UDF 3 Output'!L11),'UDF 3 Output'!L11))*1","v":0},{"$f":"(IF(ISNUMBER('UDF 3 Output'!M11),'UDF 3 Output'!M11))*1","v":0},{"$f":"(IF(ISNUMBER('UDF 3 Output'!N11),'UDF 3 Output'!N11))*1","v":0},{"$f":"(IF(ISNUMBER('UDF 3 Output'!O11),'UDF 3 Output'!O11))*1","v":0},{"$f":"(IF(ISNUMBER('UDF 3 Output'!P11),'UDF 3 Output'!P11))*1","v":0},{"$f":"(IF(ISNUMBER('UDF 3 Output'!Q11),'UDF 3 Output'!Q11))*1","v":0},{"$f":"(IF(ISNUMBER('UDF 3 Output'!R11),'UDF 3 Output'!R11))*1","v":0},{"$f":"(IF(ISNUMBER('UDF 3 Output'!S11),'UDF 3 Output'!S11))*1","v":0},{"$f":"(IF(ISNUMBER('UDF 3 Output'!T11),'UDF 3 Output'!T11))*1","v":0},{"$f":"(IF(ISNUMBER('UDF 3 Output'!U11),'UDF 3 Output'!U11))*1","v":0},{"$f":"(IF(ISNUMBER('UDF 3 Output'!V11),'UDF 3 Output'!V11))*1","v":0},{"$f":"(IF(ISNUMBER('UDF 3 Output'!W11),'UDF 3 Output'!W11))*1","v":0},{"$f":"(IF(ISNUMBER('UDF 3 Output'!X11),'UDF 3 Output'!X11))*1","v":0},{"$f":"(IF(ISNUMBER('UDF 3 Output'!Y11),'UDF 3 Output'!Y11))*1","v":0},{"$f":"(IF(ISNUMBER('UDF 3 Output'!Z11),'UDF 3 Output'!Z11))*1","v":0},{"$f":"(IF(ISNUMBER('UDF 3 Output'!AA11),'UDF 3 Output'!AA11))*1","v":0},{"$f":"(IF(ISNUMBER('UDF 3 Output'!AB11),'UDF 3 Output'!AB11))*1","v":0},{"$f":"(IF(ISNUMBER('UDF 3 Output'!AC11),'UDF 3 Output'!AC11))*1","v":0},{"$f":"(IF(ISNUMBER('UDF 3 Output'!AD11),'UDF 3 Output'!AD11))*1","v":0},{"$f":"(IF(ISNUMBER('UDF 3 Output'!AE11),'UDF 3 Output'!AE11))*1","v":0},{"$f":"(IF(ISNUMBER('UDF 3 Output'!AF11),'UDF 3 Output'!AF11))*1","v":0},{"$f":"(IF(ISNUMBER('UDF 3 Output'!AG11),'UDF 3 Output'!AG11))*1","v":0},{"$f":"(IF(ISNUMBER('UDF 3 Output'!AH11),'UDF 3 Output'!AH11))*1","v":0},{"$f":"(IF(ISNUMBER('UDF 3 Output'!AI11),'UDF 3 Output'!AI11))*1","v":0},{"$f":"(IF(ISNUMBER('UDF 3 Output'!AJ11),'UDF 3 Output'!AJ11))*1","v":0},{"$f":"(IF(ISNUMBER('UDF 3 Output'!AK11),'UDF 3 Output'!AK11))*1","v":0},{"$f":"(IF(ISNUMBER('UDF 3 Output'!AL11),'UDF 3 Output'!AL11))*1","v":0},{"$f":"(IF(ISNUMBER('UDF 3 Output'!AM11),'UDF 3 Output'!AM11))*1","v":0},{"$f":"(IF(ISNUMBER('UDF 3 Output'!AN11),'UDF 3 Output'!AN11))*1","v":0},{"$f":"(IF(ISNUMBER('UDF 3 Output'!AO11),'UDF 3 Output'!AO11))*1","v":0},{"$f":"(IF(ISNUMBER('UDF 3 Output'!AP11),'UDF 3 Output'!AP11))*1","v":0},{"$f":"(IF(ISNUMBER('UDF 3 Output'!AQ11),'UDF 3 Output'!AQ11))*1","v":0},{"$f":"(IF(ISNUMBER('UDF 3 Output'!AR11),'UDF 3 Output'!AR11))*1","v":0},{"$f":"(IF(ISNUMBER('UDF 3 Output'!AS11),'UDF 3 Output'!AS11))*1","v":0},{"$f":"(IF(ISNUMBER('UDF 3 Output'!AT11),'UDF 3 Output'!AT11))*1","v":0},{"$f":"(IF(ISNUMBER('UDF 3 Output'!AU11),'UDF 3 Output'!AU11))*1","v":0},{"$f":"(IF(ISNUMBER('UDF 3 Output'!AV11),'UDF 3 Output'!AV11))*1","v":0},{"$f":"(IF(ISNUMBER('UDF 3 Output'!AW11),'UDF 3 Output'!AW11))*1","v":0},{"$f":"(IF(ISNUMBER('UDF 3 Output'!AX11),'UDF 3 Output'!AX11))*1","v":0},{"$f":"(IF(ISNUMBER('UDF 3 Output'!AY11),'UDF 3 Output'!AY11))*1","v":0},{"$f":"(IF(ISNUMBER('UDF 3 Output'!AZ11),'UDF 3 Output'!AZ11))*1","v":0},{"$f":"(IF(ISNUMBER('UDF 3 Output'!BA11),'UDF 3 Output'!BA11))*1","v":0},{"$f":"(IF(ISNUMBER('UDF 3 Output'!BB11),'UDF 3 Output'!BB11))*1","v":0},{"$f":"(IF(ISNUMBER('UDF 3 Output'!BC11),'UDF 3 Output'!BC11))*1","v":0},{"$f":"(IF(ISNUMBER('UDF 3 Output'!BD11),'UDF 3 Output'!BD11))*1","v":0},{"$f":"(IF(ISNUMBER('UDF 3 Output'!BE11),'UDF 3 Output'!BE11))*1","v":0},{"$f":"(IF(ISNUMBER('UDF 3 Output'!BF11),'UDF 3 Output'!BF11))*1","v":0},{"$f":"(IF(ISNUMBER('UDF 3 Output'!BG11),'UDF 3 Output'!BG11))*1","v":0},{"$f":"(IF(ISNUMBER('UDF 3 Output'!BH11),'UDF 3 Output'!BH11))*1","v":0},{"$f":"(IF(ISNUMBER('UDF 3 Output'!BI11),'UDF 3 Output'!BI11))*1","v":0},{"$f":"(IF(ISNUMBER('UDF 3 Output'!BJ11),'UDF 3 Output'!BJ11))*1","v":0},{"$f":"(IF(ISNUMBER('UDF 3 Output'!BK11),'UDF 3 Output'!BK11))*1","v":0},{"$f":"(IF(ISNUMBER('UDF 3 Output'!BL11),'UDF 3 Output'!BL11))*1","v":0},{"$f":"(IF(ISNUMBER('UDF 3 Output'!BM11),'UDF 3 Output'!BM11))*1","v":0},{"$f":"(IF(ISNUMBER('UDF 3 Output'!BN11),'UDF 3 Output'!BN11))*1","v":0},{"$f":"(IF(ISNUMBER('UDF 3 Output'!BO11),'UDF 3 Output'!BO11))*1","v":0},{"$f":"(IF(ISNUMBER('UDF 3 Output'!BP11),'UDF 3 Output'!BP11))*1","v":0},{"$f":"(IF(ISNUMBER('UDF 3 Output'!BQ11),'UDF 3 Output'!BQ11))*1","v":0},{"$f":"(IF(ISNUMBER('UDF 3 Output'!BR11),'UDF 3 Output'!BR11))*1","v":0},{"$f":"(IF(ISNUMBER('UDF 3 Output'!BS11),'UDF 3 Output'!BS11))*1","v":0},{"$f":"(IF(ISNUMBER('UDF 3 Output'!BT11),'UDF 3 Output'!BT11))*1","v":0},{"$f":"(IF(ISNUMBER('UDF 3 Output'!BU11),'UDF 3 Output'!BU11))*1","v":0},{"$f":"(IF(ISNUMBER('UDF 3 Output'!BV11),'UDF 3 Output'!BV11))*1","v":0},{"$f":"(IF(ISNUMBER('UDF 3 Output'!BW11),'UDF 3 Output'!BW11))*1","v":0},{"$f":"(IF(ISNUMBER('UDF 3 Output'!BX11),'UDF 3 Output'!BX11))*1","v":0},{"$f":"(IF(ISNUMBER('UDF 3 Output'!BY11),'UDF 3 Output'!BY11))*1","v":0},{"$f":"(IF(ISNUMBER('UDF 3 Output'!BZ11),'UDF 3 Output'!BZ11))*1","v":0},{"$f":"(IF(ISNUMBER('UDF 3 Output'!CA11),'UDF 3 Output'!CA11))*1","v":0},{"$f":"(IF(ISNUMBER('UDF 3 Output'!CB11),'UDF 3 Output'!CB11))*1","v":0},{"$f":"(IF(ISNUMBER('UDF 3 Output'!CC11),'UDF 3 Output'!CC11))*1","v":0},{"$f":"(IF(ISNUMBER('UDF 3 Output'!CD11),'UDF 3 Output'!CD11))*1","v":0},{"$f":"(IF(ISNUMBER('UDF 3 Output'!CE11),'UDF 3 Output'!CE11))*1","v":0},{"$f":"(IF(ISNUMBER('UDF 3 Output'!CF11),'UDF 3 Output'!CF11))*1","v":0},{"$f":"(IF(ISNUMBER('UDF 3 Output'!CG11),'UDF 3 Output'!CG11))*1","v":0},{"$f":"(IF(ISNUMBER('UDF 3 Output'!CH11),'UDF 3 Output'!CH11))*1","v":0},{"$f":"(IF(ISNUMBER('UDF 3 Output'!CI11),'UDF 3 Output'!CI11))*1","v":0},{"$f":"(IF(ISNUMBER('UDF 3 Output'!CJ11),'UDF 3 Output'!CJ11))*1","v":0},{"$f":"(IF(ISNUMBER('UDF 3 Output'!CK11),'UDF 3 Output'!CK11))*1","v":0},{"$f":"(IF(ISNUMBER('UDF 3 Output'!CL11),'UDF 3 Output'!CL11))*1","v":0},{"$f":"(IF(ISNUMBER('UDF 3 Output'!CM11),'UDF 3 Output'!CM11))*1","v":0},{"$f":"(IF(ISNUMBER('UDF 3 Output'!CN11),'UDF 3 Output'!CN11))*1","v":0},{"$f":"(IF(ISNUMBER('UDF 3 Output'!CO11),'UDF 3 Output'!CO11))*1","v":0},{"$f":"(IF(ISNUMBER('UDF 3 Output'!CP11),'UDF 3 Output'!CP11))*1","v":0},{"$f":"(IF(ISNUMBER('UDF 3 Output'!CQ11),'UDF 3 Output'!CQ11))*1","v":0},{"$f":"(IF(ISNUMBER('UDF 3 Output'!CR11),'UDF 3 Output'!CR11))*1","v":0},{"$f":"(IF(ISNUMBER('UDF 3 Output'!CS11),'UDF 3 Output'!CS11))*1","v":0},{"$f":"(IF(ISNUMBER('UDF 3 Output'!CT11),'UDF 3 Output'!CT11))*1","v":0},{"$f":"(IF(ISNUMBER('UDF 3 Output'!CU11),'UDF 3 Output'!CU11))*1","v":0},{"$f":"(IF(ISNUMBER('UDF 3 Output'!CV11),'UDF 3 Output'!CV11))*1","v":0},{"$f":"(IF(ISNUMBER('UDF 3 Output'!CW11),'UDF 3 Output'!CW11))*1","v":0},{"$f":"(IF(ISNUMBER('UDF 3 Output'!CX11),'UDF 3 Output'!CX11))*1","v":0},{"$f":"(IF(ISNUMBER('UDF 3 Output'!CY11),'UDF 3 Output'!CY11))*1","v":0},{"$f":"(IF(ISNUMBER('UDF 3 Output'!CZ11),'UDF 3 Output'!CZ11))*1","v":0},{"$f":"(IF(ISNUMBER('UDF 3 Output'!DA11),'UDF 3 Output'!DA11))*1","v":0},{"$f":"(IF(ISNUMBER('UDF 3 Output'!DB11),'UDF 3 Output'!DB11))*1","v":0},{"$f":"(IF(ISNUMBER('UDF 3 Output'!DC11),'UDF 3 Output'!DC11))*1","v":0},{"$f":"(IF(ISNUMBER('UDF 3 Output'!DD11),'UDF 3 Output'!DD11))*1","v":0},{"$f":"(IF(ISNUMBER('UDF 3 Output'!DE11),'UDF 3 Output'!DE11))*1","v":0},{"$f":"(IF(ISNUMBER('UDF 3 Output'!DF11),'UDF 3 Output'!DF11))*1","v":0},{"$f":"(IF(ISNUMBER('UDF 3 Output'!DG11),'UDF 3 Output'!DG11))*1","v":0},{"$f":"(IF(ISNUMBER('UDF 3 Output'!DH11),'UDF 3 Output'!DH11))*1","v":0},{"$f":"(IF(ISNUMBER('UDF 3 Output'!DI11),'UDF 3 Output'!DI11))*1","v":0},{"$f":"(IF(ISNUMBER('UDF 3 Output'!DJ11),'UDF 3 Output'!DJ11))*1","v":0},{"$f":"(IF(ISNUMBER('UDF 3 Output'!DK11),'UDF 3 Output'!DK11))*1","v":0},{"$f":"(IF(ISNUMBER('UDF 3 Output'!DL11),'UDF 3 Output'!DL11))*1","v":0},{"$f":"(IF(ISNUMBER('UDF 3 Output'!DM11),'UDF 3 Output'!DM11))*1","v":0},{"$f":"(IF(ISNUMBER('UDF 3 Output'!DN11),'UDF 3 Output'!DN11))*1","v":0},{"$f":"(IF(ISNUMBER('UDF 3 Output'!DO11),'UDF 3 Output'!DO11))*1","v":0},{"$f":"(IF(ISNUMBER('UDF 3 Output'!DP11),'UDF 3 Output'!DP11))*1","v":0},{"$f":"(IF(ISNUMBER('UDF 3 Output'!DQ11),'UDF 3 Output'!DQ11))*1","v":0},{"$f":"(IF(ISNUMBER('UDF 3 Output'!DR11),'UDF 3 Output'!DR11))*1","v":0},{"$f":"(IF(ISNUMBER('UDF 3 Output'!DS11),'UDF 3 Output'!DS11))*1","v":0},{"$f":"(IF(ISNUMBER('UDF 3 Output'!DT11),'UDF 3 Output'!DT11))*1","v":0},{"$f":"(IF(ISNUMBER('UDF 3 Output'!DU11),'UDF 3 Output'!DU11))*1","v":0},{"$f":"(IF(ISNUMBER('UDF 3 Output'!DV11),'UDF 3 Output'!DV11))*1","v":0},{"$f":"(IF(ISNUMBER('UDF 3 Output'!DW11),'UDF 3 Output'!DW11))*1","v":0},{"$f":"(IF(ISNUMBER('UDF 3 Output'!DX11),'UDF 3 Output'!DX11))*1","v":0},{"$f":"(IF(ISNUMBER('UDF 3 Output'!DY11),'UDF 3 Output'!DY11))*1","v":0},{"$f":"(IF(ISNUMBER('UDF 3 Output'!DZ11),'UDF 3 Output'!DZ11))*1","v":0},{"$f":"(IF(ISNUMBER('UDF 3 Output'!EA11),'UDF 3 Output'!EA11))*1","v":0},{"$f":"(IF(ISNUMBER('UDF 3 Output'!EB11),'UDF 3 Output'!EB11))*1","v":0},{"$f":"(IF(ISNUMBER('UDF 3 Output'!EC11),'UDF 3 Output'!EC11))*1","v":0},{"$f":"(IF(ISNUMBER('UDF 3 Output'!ED11),'UDF 3 Output'!ED11))*1","v":0},{"$f":"(IF(ISNUMBER('UDF 3 Output'!EE11),'UDF 3 Output'!EE11))*1","v":0},{"$f":"(IF(ISNUMBER('UDF 3 Output'!EF11),'UDF 3 Output'!EF11))*1","v":0},{"$f":"(IF(ISNUMBER('UDF 3 Output'!EG11),'UDF 3 Output'!EG11))*1","v":0},{"$f":"(IF(ISNUMBER('UDF 3 Output'!EH11),'UDF 3 Output'!EH11))*1","v":0},{"$f":"(IF(ISNUMBER('UDF 3 Output'!EI11),'UDF 3 Output'!EI11))*1","v":0},{"$f":"(IF(ISNUMBER('UDF 3 Output'!EJ11),'UDF 3 Output'!EJ11))*1","v":0},{"$f":"(IF(ISNUMBER('UDF 3 Output'!EK11),'UDF 3 Output'!EK11))*1","v":0},{"$f":"(IF(ISNUMBER('UDF 3 Output'!EL11),'UDF 3 Output'!EL11))*1","v":0},{"$f":"(IF(ISNUMBER('UDF 3 Output'!EM11),'UDF 3 Output'!EM11))*1","v":0},{"$f":"(IF(ISNUMBER('UDF 3 Output'!EN11),'UDF 3 Output'!EN11))*1","v":0},{"$f":"(IF(ISNUMBER('UDF 3 Output'!EO11),'UDF 3 Output'!EO11))*1","v":0},{"$f":"(IF(ISNUMBER('UDF 3 Output'!EP11),'UDF 3 Output'!EP11))*1","v":0},{"$f":"(IF(ISNUMBER('UDF 3 Output'!EQ11),'UDF 3 Output'!EQ11))*1","v":0},{"$f":"(IF(ISNUMBER('UDF 3 Output'!ER11),'UDF 3 Output'!ER11))*1","v":0},{"$f":"(IF(ISNUMBER('UDF 3 Output'!ES11),'UDF 3 Output'!ES11))*1","v":0},{"$f":"(IF(ISNUMBER('UDF 3 Output'!ET11),'UDF 3 Output'!ET11))*1","v":0},{"$f":"(IF(ISNUMBER('UDF 3 Output'!EU11),'UDF 3 Output'!EU11))*1","v":0},{"$f":"(IF(ISNUMBER('UDF 3 Output'!EV11),'UDF 3 Output'!EV11))*1","v":0},{"$f":"(IF(ISNUMBER('UDF 3 Output'!EW11),'UDF 3 Output'!EW11))*1","v":0},{"$f":"(IF(ISNUMBER('UDF 3 Output'!EX11),'UDF 3 Output'!EX11))*1","v":0},{"$f":"(IF(ISNUMBER('UDF 3 Output'!EY11),'UDF 3 Output'!EY11))*1","v":0},{"$f":"(IF(ISNUMBER('UDF 3 Output'!EZ11),'UDF 3 Output'!EZ11))*1","v":0},{"$f":"(IF(ISNUMBER('UDF 3 Output'!FA11),'UDF 3 Output'!FA11))*1","v":0},{"$f":"(IF(ISNUMBER('UDF 3 Output'!FB11),'UDF 3 Output'!FB11))*1","v":0},{"$f":"(IF(ISNUMBER('UDF 3 Output'!FC11),'UDF 3 Output'!FC11))*1","v":0},{"$f":"(IF(ISNUMBER('UDF 3 Output'!FD11),'UDF 3 Output'!FD11))*1","v":0},{"$f":"(IF(ISNUMBER('UDF 3 Output'!FE11),'UDF 3 Output'!FE11))*1","v":0},{"$f":"(IF(ISNUMBER('UDF 3 Output'!FF11),'UDF 3 Output'!FF11))*1","v":0},{"$f":"(IF(ISNUMBER('UDF 3 Output'!FG11),'UDF 3 Output'!FG11))*1","v":0},{"$f":"(IF(ISNUMBER('UDF 3 Output'!FH11),'UDF 3 Output'!FH11))*1","v":0},{"$f":"(IF(ISNUMBER('UDF 3 Output'!FI11),'UDF 3 Output'!FI11))*1","v":0},{"$f":"(IF(ISNUMBER('UDF 3 Output'!FJ11),'UDF 3 Output'!FJ11))*1","v":0},{"$f":"(IF(ISNUMBER('UDF 3 Output'!FK11),'UDF 3 Output'!FK11))*1","v":0},{"$f":"(IF(ISNUMBER('UDF 3 Output'!FL11),'UDF 3 Output'!FL11))*1","v":0},{"$f":"(IF(ISNUMBER('UDF 3 Output'!FM11),'UDF 3 Output'!FM11))*1","v":0},{"$f":"(IF(ISNUMBER('UDF 3 Output'!FN11),'UDF 3 Output'!FN11))*1","v":0},{"$f":"(IF(ISNUMBER('UDF 3 Output'!FO11),'UDF 3 Output'!FO11))*1","v":0},{"$f":"(IF(ISNUMBER('UDF 3 Output'!FP11),'UDF 3 Output'!FP11))*1","v":0},{"$f":"(IF(ISNUMBER('UDF 3 Output'!FQ11),'UDF 3 Output'!FQ11))*1","v":0},{"$f":"(IF(ISNUMBER('UDF 3 Output'!FR11),'UDF 3 Output'!FR11))*1","v":0},{"$f":"(IF(ISNUMBER('UDF 3 Output'!FS11),'UDF 3 Output'!FS11))*1","v":0},{"$f":"(IF(ISNUMBER('UDF 3 Output'!FT11),'UDF 3 Output'!FT11))*1","v":0},{"$f":"(IF(ISNUMBER('UDF 3 Output'!FU11),'UDF 3 Output'!FU11))*1","v":0},{"$f":"(IF(ISNUMBER('UDF 3 Output'!FV11),'UDF 3 Output'!FV11))*1","v":0},{"$f":"(IF(ISNUMBER('UDF 3 Output'!FW11),'UDF 3 Output'!FW11))*1","v":0},{"$f":"(IF(ISNUMBER('UDF 3 Output'!FX11),'UDF 3 Output'!FX11))*1","v":0},{"$f":"(IF(ISNUMBER('UDF 3 Output'!FY11),'UDF 3 Output'!FY11))*1","v":0},{"$f":"(IF(ISNUMBER('UDF 3 Output'!FZ11),'UDF 3 Output'!FZ11))*1","v":0},{"$f":"(IF(ISNUMBER('UDF 3 Output'!GA11),'UDF 3 Output'!GA11))*1","v":0},{"$f":"(IF(ISNUMBER('UDF 3 Output'!GB11),'UDF 3 Output'!GB11))*1","v":0},{"$f":"(IF(ISNUMBER('UDF 3 Output'!GC11),'UDF 3 Output'!GC11))*1","v":0},{"$f":"(IF(ISNUMBER('UDF 3 Output'!GD11),'UDF 3 Output'!GD11))*1","v":0},{"$f":"(IF(ISNUMBER('UDF 3 Output'!GE11),'UDF 3 Output'!GE11))*1","v":0},{"$f":"(IF(ISNUMBER('UDF 3 Output'!GF11),'UDF 3 Output'!GF11))*1","v":0},{"$f":"(IF(ISNUMBER('UDF 3 Output'!GG11),'UDF 3 Output'!GG11))*1","v":0},{"$f":"(IF(ISNUMBER('UDF 3 Output'!GH11),'UDF 3 Output'!GH11))*1","v":0},{"$f":"(IF(ISNUMBER('UDF 3 Output'!GI11),'UDF 3 Output'!GI11))*1","v":0},{"$f":"(IF(ISNUMBER('UDF 3 Output'!GJ11),'UDF 3 Output'!GJ11))*1","v":0},{"$f":"(IF(ISNUMBER('UDF 3 Output'!GK11),'UDF 3 Output'!GK11))*1","v":0},{"$f":"(IF(ISNUMBER('UDF 3 Output'!GL11),'UDF 3 Output'!GL11))*1","v":0},{"$f":"(IF(ISNUMBER('UDF 3 Output'!GM11),'UDF 3 Output'!GM11))*1","v":0},{"$f":"(IF(ISNUMBER('UDF 3 Output'!GN11),'UDF 3 Output'!GN11))*1","v":0},{"$f":"(IF(ISNUMBER('UDF 3 Output'!GO11),'UDF 3 Output'!GO11))*1","v":0},{"$f":"(IF(ISNUMBER('UDF 3 Output'!GP11),'UDF 3 Output'!GP11))*1","v":0},{"$f":"(IF(ISNUMBER('UDF 3 Output'!GQ11),'UDF 3 Output'!GQ11))*1","v":0},{"$f":"(IF(ISNUMBER('UDF 3 Output'!GR11),'UDF 3 Output'!GR11))*1","v":0},{"$f":"(IF(ISNUMBER('UDF 3 Output'!GS11),'UDF 3 Output'!GS11))*1","v":0},{"$f":"(IF(ISNUMBER('UDF 3 Output'!GT11),'UDF 3 Output'!GT11))*1","v":0},{"$f":"(IF(ISNUMBER('UDF 3 Output'!GU11),'UDF 3 Output'!GU11))*1","v":0},{"$f":"(IF(ISNUMBER('UDF 3 Output'!GV11),'UDF 3 Output'!GV11))*1","v":0},{"$f":"(IF(ISNUMBER('UDF 3 Output'!GW11),'UDF 3 Output'!GW11))*1","v":0},{"$f":"(IF(ISNUMBER('UDF 3 Output'!GX11),'UDF 3 Output'!GX11))*1","v":0},{"$f":"(IF(ISNUMBER('UDF 3 Output'!GY11),'UDF 3 Output'!GY11))*1","v":0},{"$f":"(IF(ISNUMBER('UDF 3 Output'!GZ11),'UDF 3 Output'!GZ11))*1","v":0},{"$f":"(IF(ISNUMBER('UDF 3 Output'!HA11),'UDF 3 Output'!HA11))*1","v":0},{"$f":"(IF(ISNUMBER('UDF 3 Output'!HB11),'UDF 3 Output'!HB11))*1","v":0},{"$f":"(IF(ISNUMBER('UDF 3 Output'!HC11),'UDF 3 Output'!HC11))*1","v":0},{"$f":"(IF(ISNUMBER('UDF 3 Output'!HD11),'UDF 3 Output'!HD11))*1","v":0},{"$f":"(IF(ISNUMBER('UDF 3 Output'!HE11),'UDF 3 Output'!HE11))*1","v":0},{"$f":"(IF(ISNUMBER('UDF 3 Output'!HF11),'UDF 3 Output'!HF11))*1","v":0},{"$f":"(IF(ISNUMBER('UDF 3 Output'!HG11),'UDF 3 Output'!HG11))*1","v":0},{"$f":"(IF(ISNUMBER('UDF 3 Output'!HH11),'UDF 3 Output'!HH11))*1","v":0},{"$f":"(IF(ISNUMBER('UDF 3 Output'!HI11),'UDF 3 Output'!HI11))*1","v":0},{"$f":"(IF(ISNUMBER('UDF 3 Output'!HJ11),'UDF 3 Output'!HJ11))*1","v":0},{"$f":"(IF(ISNUMBER('UDF 3 Output'!HK11),'UDF 3 Output'!HK11))*1","v":0},{"$f":"(IF(ISNUMBER('UDF 3 Output'!HL11),'UDF 3 Output'!HL11))*1","v":0},{"$f":"(IF(ISNUMBER('UDF 3 Output'!HM11),'UDF 3 Output'!HM11))*1","v":0},{"$f":"(IF(ISNUMBER('UDF 3 Output'!HN11),'UDF 3 Output'!HN11))*1","v":0},{"$f":"(IF(ISNUMBER('UDF 3 Output'!HO11),'UDF 3 Output'!HO11))*1","v":0},{"$f":"(IF(ISNUMBER('UDF 3 Output'!HP11),'UDF 3 Output'!HP11))*1","v":0},{"$f":"(IF(ISNUMBER('UDF 3 Output'!HQ11),'UDF 3 Output'!HQ11))*1","v":0},{"$f":"(IF(ISNUMBER('UDF 3 Output'!HR11),'UDF 3 Output'!HR11))*1","v":0},{"$f":"(IF(ISNUMBER('UDF 3 Output'!HS11),'UDF 3 Output'!HS11))*1","v":0},{"$f":"(IF(ISNUMBER('UDF 3 Output'!HT11),'UDF 3 Output'!HT11))*1","v":0},{"$f":"(IF(ISNUMBER('UDF 3 Output'!HU11),'UDF 3 Output'!HU11))*1","v":0},{"$f":"(IF(ISNUMBER('UDF 3 Output'!HV11),'UDF 3 Output'!HV11))*1","v":0},{"$f":"(IF(ISNUMBER('UDF 3 Output'!HW11),'UDF 3 Output'!HW11))*1","v":0},{"$f":"(IF(ISNUMBER('UDF 3 Output'!HX11),'UDF 3 Output'!HX11))*1","v":0},{"$f":"(IF(ISNUMBER('UDF 3 Output'!HY11),'UDF 3 Output'!HY11))*1","v":0},{"$f":"(IF(ISNUMBER('UDF 3 Output'!HZ11),'UDF 3 Output'!HZ11))*1","v":0},{"$f":"(IF(ISNUMBER('UDF 3 Output'!IA11),'UDF 3 Output'!IA11))*1","v":0},{"$f":"(IF(ISNUMBER('UDF 3 Output'!IB11),'UDF 3 Output'!IB11))*1","v":0},{"$f":"(IF(ISNUMBER('UDF 3 Output'!IC11),'UDF 3 Output'!IC11))*1","v":0},{"$f":"(IF(ISNUMBER('UDF 3 Output'!ID11),'UDF 3 Output'!ID11))*1","v":0},{"$f":"(IF(ISNUMBER('UDF 3 Output'!IE11),'UDF 3 Output'!IE11))*1","v":0},{"$f":"(IF(ISNUMBER('UDF 3 Output'!IF11),'UDF 3 Output'!IF11))*1","v":0},{"$f":"(IF(ISNUMBER('UDF 3 Output'!IG11),'UDF 3 Output'!IG11))*1","v":0},{"$f":"(IF(ISNUMBER('UDF 3 Output'!IH11),'UDF 3 Output'!IH11))*1","v":0},{"$f":"(IF(ISNUMBER('UDF 3 Output'!II11),'UDF 3 Output'!II11))*1","v":0},{"$f":"(IF(ISNUMBER('UDF 3 Output'!IJ11),'UDF 3 Output'!IJ11))*1","v":0},{"$f":"(IF(ISNUMBER('UDF 3 Output'!IK11),'UDF 3 Output'!IK11))*1","v":0},{"$f":"(IF(ISNUMBER('UDF 3 Output'!IL11),'UDF 3 Output'!IL11))*1","v":0},{"$f":"(IF(ISNUMBER('UDF 3 Output'!IM11),'UDF 3 Output'!IM11))*1","v":0},{"$f":"(IF(ISNUMBER('UDF 3 Output'!IN11),'UDF 3 Output'!IN11))*1","v":0},{"$f":"(IF(ISNUMBER('UDF 3 Output'!IO11),'UDF 3 Output'!IO11))*1","v":0},{"$f":"(IF(ISNUMBER('UDF 3 Output'!IP11),'UDF 3 Output'!IP11))*1","v":0},{"$f":"(IF(ISNUMBER('UDF 3 Output'!IQ11),'UDF 3 Output'!IQ11))*1","v":0},{"$f":"(IF(ISNUMBER('UDF 3 Output'!IR11),'UDF 3 Output'!IR11))*1","v":0},{"$f":"(IF(ISNUMBER('UDF 3 Output'!IS11),'UDF 3 Output'!IS11))*1","v":0},{"$f":"(IF(ISNUMBER('UDF 3 Output'!IT11),'UDF 3 Output'!IT11))*1","v":0},{"$f":"(IF(ISNUMBER('UDF 3 Output'!IU11),'UDF 3 Output'!IU11))*1","v":0},{"$f":"(IF(ISNUMBER('UDF 3 Output'!IV11),'UDF 3 Output'!IV11))*1","v":0},{"$f":"(IF(ISNUMBER('UDF 3 Output'!IW11),'UDF 3 Output'!IW11))*1","v":0},{"$f":"(IF(ISNUMBER('UDF 3 Output'!IX11),'UDF 3 Output'!IX11))*1","v":0},{"$f":"(IF(ISNUMBER('UDF 3 Output'!IY11),'UDF 3 Output'!IY11))*1","v":0},{"$f":"(IF(ISNUMBER('UDF 3 Output'!IZ11),'UDF 3 Output'!IZ11))*1","v":0},{"$f":"(IF(ISNUMBER('UDF 3 Output'!JA11),'UDF 3 Output'!JA11))*1","v":0},{"$f":"(IF(ISNUMBER('UDF 3 Output'!JB11),'UDF 3 Output'!JB11))*1","v":0},{"$f":"(IF(ISNUMBER('UDF 3 Output'!JC11),'UDF 3 Output'!JC11))*1","v":0},{"$f":"(IF(ISNUMBER('UDF 3 Output'!JD11),'UDF 3 Output'!JD11))*1","v":0},{"$f":"(IF(ISNUMBER('UDF 3 Output'!JE11),'UDF 3 Output'!JE11))*1","v":0},{"$f":"(IF(ISNUMBER('UDF 3 Output'!JF11),'UDF 3 Output'!JF11))*1","v":0},{"$f":"(IF(ISNUMBER('UDF 3 Output'!JG11),'UDF 3 Output'!JG11))*1","v":0},{"$f":"(IF(ISNUMBER('UDF 3 Output'!JH11),'UDF 3 Output'!JH11))*1","v":0},{"$f":"(IF(ISNUMBER('UDF 3 Output'!JI11),'UDF 3 Output'!JI11))*1","v":0},{"$f":"(IF(ISNUMBER('UDF 3 Output'!JJ11),'UDF 3 Output'!JJ11))*1","v":0},{"$f":"(IF(ISNUMBER('UDF 3 Output'!JK11),'UDF 3 Output'!JK11))*1","v":0},{"$f":"(IF(ISNUMBER('UDF 3 Output'!JL11),'UDF 3 Output'!JL11))*1","v":0},{"$f":"(IF(ISNUMBER('UDF 3 Output'!JM11),'UDF 3 Output'!JM11))*1","v":0},{"$f":"(IF(ISNUMBER('UDF 3 Output'!JN11),'UDF 3 Output'!JN11))*1","v":0},{"$f":"(IF(ISNUMBER('UDF 3 Output'!JO11),'UDF 3 Output'!JO11))*1","v":0},{"$f":"(IF(ISNUMBER('UDF 3 Output'!JP11),'UDF 3 Output'!JP11))*1","v":0},{"$f":"(IF(ISNUMBER('UDF 3 Output'!JQ11),'UDF 3 Output'!JQ11))*1","v":0},{"$f":"(IF(ISNUMBER('UDF 3 Output'!JR11),'UDF 3 Output'!JR11))*1","v":0},{"$f":"(IF(ISNUMBER('UDF 3 Output'!JS11),'UDF 3 Output'!JS11))*1","v":0},{"$f":"(IF(ISNUMBER('UDF 3 Output'!JT11),'UDF 3 Output'!JT11))*1","v":0},{"$f":"(IF(ISNUMBER('UDF 3 Output'!JU11),'UDF 3 Output'!JU11))*1","v":0},{"$f":"(IF(ISNUMBER('UDF 3 Output'!JV11),'UDF 3 Output'!JV11))*1","v":0},{"$f":"(IF(ISNUMBER('UDF 3 Output'!JW11),'UDF 3 Output'!JW11))*1","v":0},{"$f":"(IF(ISNUMBER('UDF 3 Output'!JX11),'UDF 3 Output'!JX11))*1","v":0},{"$f":"(IF(ISNUMBER('UDF 3 Output'!JY11),'UDF 3 Output'!JY11))*1","v":0},{"$f":"(IF(ISNUMBER('UDF 3 Output'!JZ11),'UDF 3 Output'!JZ11))*1","v":0},{"$f":"(IF(ISNUMBER('UDF 3 Output'!KA11),'UDF 3 Output'!KA11))*1","v":0},{"$f":"(IF(ISNUMBER('UDF 3 Output'!KB11),'UDF 3 Output'!KB11))*1","v":0},{"$f":"(IF(ISNUMBER('UDF 3 Output'!KC11),'UDF 3 Output'!KC11))*1","v":0},{"$f":"(IF(ISNUMBER('UDF 3 Output'!KD11),'UDF 3 Output'!KD11))*1","v":0},{"$f":"(IF(ISNUMBER('UDF 3 Output'!KE11),'UDF 3 Output'!KE11))*1","v":0},{"$f":"(IF(ISNUMBER('UDF 3 Output'!KF11),'UDF 3 Output'!KF11))*1","v":0},{"$f":"(IF(ISNUMBER('UDF 3 Output'!KG11),'UDF 3 Output'!KG11))*1","v":0},{"$f":"(IF(ISNUMBER('UDF 3 Output'!KH11),'UDF 3 Output'!KH11))*1","v":0},{"$f":"(IF(ISNUMBER('UDF 3 Output'!KI11),'UDF 3 Output'!KI11))*1","v":0},{"$f":"(IF(ISNUMBER('UDF 3 Output'!KJ11),'UDF 3 Output'!KJ11))*1","v":0},{"$f":"(IF(ISNUMBER('UDF 3 Output'!KK11),'UDF 3 Output'!KK11))*1","v":0},{"$f":"(IF(ISNUMBER('UDF 3 Output'!KL11),'UDF 3 Output'!KL11))*1","v":0},{"$f":"(IF(ISNUMBER('UDF 3 Output'!KM11),'UDF 3 Output'!KM11))*1","v":0},{"$f":"(IF(ISNUMBER('UDF 3 Output'!KN11),'UDF 3 Output'!KN11))*1","v":0},{"$f":"(IF(ISNUMBER('UDF 3 Output'!KO11),'UDF 3 Output'!KO11))*1","v":0},{"$f":"(IF(ISNUMBER('UDF 3 Output'!KP11),'UDF 3 Output'!KP11))*1","v":0},{"$f":"(IF(ISNUMBER('UDF 3 Output'!KQ11),'UDF 3 Output'!KQ11))*1","v":0},{"$f":"(IF(ISNUMBER('UDF 3 Output'!KR11),'UDF 3 Output'!KR11))*1","v":0},{"$f":"(IF(ISNUMBER('UDF 3 Output'!KS11),'UDF 3 Output'!KS11))*1","v":0},{"$f":"(IF(ISNUMBER('UDF 3 Output'!KT11),'UDF 3 Output'!KT11))*1","v":0},{"$f":"(IF(ISNUMBER('UDF 3 Output'!KU11),'UDF 3 Output'!KU11))*1","v":0},{"$f":"(IF(ISNUMBER('UDF 3 Output'!KV11),'UDF 3 Output'!KV11))*1","v":0},{"$f":"(IF(ISNUMBER('UDF 3 Output'!KW11),'UDF 3 Output'!KW11))*1","v":0},{"$f":"(IF(ISNUMBER('UDF 3 Output'!KX11),'UDF 3 Output'!KX11))*1","v":0},{"$f":"(IF(ISNUMBER('UDF 3 Output'!KY11),'UDF 3 Output'!KY11))*1","v":0},{"$f":"(IF(ISNUMBER('UDF 3 Output'!KZ11),'UDF 3 Output'!KZ11))*1","v":0},{"$f":"(IF(ISNUMBER('UDF 3 Output'!LA11),'UDF 3 Output'!LA11))*1","v":0},{"$f":"(IF(ISNUMBER('UDF 3 Output'!LB11),'UDF 3 Output'!LB11))*1","v":0},{"$f":"(IF(ISNUMBER('UDF 3 Output'!LC11),'UDF 3 Output'!LC11))*1","v":0},{"$f":"(IF(ISNUMBER('UDF 3 Output'!LD11),'UDF 3 Output'!LD11))*1","v":0},{"$f":"(IF(ISNUMBER('UDF 3 Output'!LE11),'UDF 3 Output'!LE11))*1","v":0},{"$f":"(IF(ISNUMBER('UDF 3 Output'!LF11),'UDF 3 Output'!LF11))*1","v":0},{"$f":"(IF(ISNUMBER('UDF 3 Output'!LG11),'UDF 3 Output'!LG11))*1","v":0},{"$f":"(IF(ISNUMBER('UDF 3 Output'!LH11),'UDF 3 Output'!LH11))*1","v":0},{"$f":"(IF(ISNUMBER('UDF 3 Output'!LI11),'UDF 3 Output'!LI11))*1","v":0},{"$f":"(IF(ISNUMBER('UDF 3 Output'!LJ11),'UDF 3 Output'!LJ11))*1","v":0},{"$f":"(IF(ISNUMBER('UDF 3 Output'!LK11),'UDF 3 Output'!LK11))*1","v":0},{"$f":"(IF(ISNUMBER('UDF 3 Output'!LL11),'UDF 3 Output'!LL11))*1","v":0},{"$f":"(IF(ISNUMBER('UDF 3 Output'!LM11),'UDF 3 Output'!LM11))*1","v":0},{"$f":"(IF(ISNUMBER('UDF 3 Output'!LN11),'UDF 3 Output'!LN11))*1","v":0},{"$f":"(IF(ISNUMBER('UDF 3 Output'!LO11),'UDF 3 Output'!LO11))*1","v":0},{"$f":"(IF(ISNUMBER('UDF 3 Output'!LP11),'UDF 3 Output'!LP11))*1","v":0},{"$f":"(IF(ISNUMBER('UDF 3 Output'!LQ11),'UDF 3 Output'!LQ11))*1","v":0},{"$f":"(IF(ISNUMBER('UDF 3 Output'!LR11),'UDF 3 Output'!LR11))*1","v":0},{"$f":"(IF(ISNUMBER('UDF 3 Output'!LS11),'UDF 3 Output'!LS11))*1","v":0},{"$f":"(IF(ISNUMBER('UDF 3 Output'!LT11),'UDF 3 Output'!LT11))*1","v":0},{"$f":"(IF(ISNUMBER('UDF 3 Output'!LU11),'UDF 3 Output'!LU11))*1","v":0},{"$f":"(IF(ISNUMBER('UDF 3 Output'!LV11),'UDF 3 Output'!LV11))*1","v":0},{"$f":"(IF(ISNUMBER('UDF 3 Output'!LW11),'UDF 3 Output'!LW11))*1","v":0},{"$f":"(IF(ISNUMBER('UDF 3 Output'!LX11),'UDF 3 Output'!LX11))*1","v":0},{"$f":"(IF(ISNUMBER('UDF 3 Output'!LY11),'UDF 3 Output'!LY11))*1","v":0},{"$f":"(IF(ISNUMBER('UDF 3 Output'!LZ11),'UDF 3 Output'!LZ11))*1","v":0},{"$f":"(IF(ISNUMBER('UDF 3 Output'!MA11),'UDF 3 Output'!MA11))*1","v":0},{"$f":"(IF(ISNUMBER('UDF 3 Output'!MB11),'UDF 3 Output'!MB11))*1","v":0},{"$f":"(IF(ISNUMBER('UDF 3 Output'!MC11),'UDF 3 Output'!MC11))*1","v":0},{"$f":"(IF(ISNUMBER('UDF 3 Output'!MD11),'UDF 3 Output'!MD11))*1","v":0},{"$f":"(IF(ISNUMBER('UDF 3 Output'!ME11),'UDF 3 Output'!ME11))*1","v":0},{"$f":"(IF(ISNUMBER('UDF 3 Output'!MF11),'UDF 3 Output'!MF11))*1","v":0},{"$f":"(IF(ISNUMBER('UDF 3 Output'!MG11),'UDF 3 Output'!MG11))*1","v":0},{"$f":"(IF(ISNUMBER('UDF 3 Output'!MH11),'UDF 3 Output'!MH11))*1","v":0},{"$f":"(IF(ISNUMBER('UDF 3 Output'!MI11),'UDF 3 Output'!MI11))*1","v":0},{"$f":"(IF(ISNUMBER('UDF 3 Output'!MJ11),'UDF 3 Output'!MJ11))*1","v":0},{"$f":"(IF(ISNUMBER('UDF 3 Output'!MK11),'UDF 3 Output'!MK11))*1","v":0},{"$f":"(IF(ISNUMBER('UDF 3 Output'!ML11),'UDF 3 Output'!ML11))*1","v":0},{"$f":"(IF(ISNUMBER('UDF 3 Output'!MM11),'UDF 3 Output'!MM11))*1","v":0},{"$f":"(IF(ISNUMBER('UDF 3 Output'!MN11),'UDF 3 Output'!MN11))*1","v":0},{"$f":"(IF(ISNUMBER('UDF 3 Output'!MO11),'UDF 3 Output'!MO11))*1","v":0},{"$f":"(IF(ISNUMBER('UDF 3 Output'!MP11),'UDF 3 Output'!MP11))*1","v":0},{"$f":"(IF(ISNUMBER('UDF 3 Output'!MQ11),'UDF 3 Output'!MQ11))*1","v":0},{"$f":"(IF(ISNUMBER('UDF 3 Output'!MR11),'UDF 3 Output'!MR11))*1","v":0},{"$f":"(IF(ISNUMBER('UDF 3 Output'!MS11),'UDF 3 Output'!MS11))*1","v":0},{"$f":"(IF(ISNUMBER('UDF 3 Output'!MT11),'UDF 3 Output'!MT11))*1","v":0},{"$f":"(IF(ISNUMBER('UDF 3 Output'!MU11),'UDF 3 Output'!MU11))*1","v":0},{"$f":"(IF(ISNUMBER('UDF 3 Output'!MV11),'UDF 3 Output'!MV11))*1","v":0},{"$f":"(IF(ISNUMBER('UDF 3 Output'!MW11),'UDF 3 Output'!MW11))*1","v":0},{"$f":"(IF(ISNUMBER('UDF 3 Output'!MX11),'UDF 3 Output'!MX11))*1","v":0},{"$f":"(IF(ISNUMBER('UDF 3 Output'!MY11),'UDF 3 Output'!MY11))*1","v":0},{"$f":"(IF(ISNUMBER('UDF 3 Output'!MZ11),'UDF 3 Output'!MZ11))*1","v":0},{"$f":"(IF(ISNUMBER('UDF 3 Output'!NA11),'UDF 3 Output'!NA11))*1","v":0},{"$f":"(IF(ISNUMBER('UDF 3 Output'!NB11),'UDF 3 Output'!NB11))*1","v":0},{"$f":"(IF(ISNUMBER('UDF 3 Output'!NC11),'UDF 3 Output'!NC11))*1","v":0},{"$f":"(IF(ISNUMBER('UDF 3 Output'!ND11),'UDF 3 Output'!ND11))*1","v":0},{"$f":"(IF(ISNUMBER('UDF 3 Output'!NE11),'UDF 3 Output'!NE11))*1","v":0},{"$f":"(IF(ISNUMBER('UDF 3 Output'!NF11),'UDF 3 Output'!NF11))*1","v":0},{"$f":"(IF(ISNUMBER('UDF 3 Output'!NG11),'UDF 3 Output'!NG11))*1","v":0},{"$f":"(IF(ISNUMBER('UDF 3 Output'!NH11),'UDF 3 Output'!NH11))*1","v":0},{"$f":"(IF(ISNUMBER('UDF 3 Output'!NI11),'UDF 3 Output'!NI11))*1","v":0},{"$f":"(IF(ISNUMBER('UDF 3 Output'!NJ11),'UDF 3 Output'!NJ11))*1","v":0},{"$f":"(IF(ISNUMBER('UDF 3 Output'!NK11),'UDF 3 Output'!NK11))*1","v":0},{"$f":"(IF(ISNUMBER('UDF 3 Output'!NL11),'UDF 3 Output'!NL11))*1","v":0},{"$f":"(IF(ISNUMBER('UDF 3 Output'!NM11),'UDF 3 Output'!NM11))*1","v":0},{"$f":"(IF(ISNUMBER('UDF 3 Output'!NN11),'UDF 3 Output'!NN11))*1","v":0},{"$f":"(IF(ISNUMBER('UDF 3 Output'!NO11),'UDF 3 Output'!NO11))*1","v":0},{"$f":"(IF(ISNUMBER('UDF 3 Output'!NP11),'UDF 3 Output'!NP11))*1","v":0},{"$f":"(IF(ISNUMBER('UDF 3 Output'!NQ11),'UDF 3 Output'!NQ11))*1","v":0},{"$f":"(IF(ISNUMBER('UDF 3 Output'!NR11),'UDF 3 Output'!NR11))*1","v":0},{"$f":"(IF(ISNUMBER('UDF 3 Output'!NS11),'UDF 3 Output'!NS11))*1","v":0},{"$f":"(IF(ISNUMBER('UDF 3 Output'!NT11),'UDF 3 Output'!NT11))*1","v":0},{"$f":"(IF(ISNUMBER('UDF 3 Output'!NU11),'UDF 3 Output'!NU11))*1","v":0},{"$f":"(IF(ISNUMBER('UDF 3 Output'!NV11),'UDF 3 Output'!NV11))*1","v":0},{"$f":"(IF(ISNUMBER('UDF 3 Output'!NW11),'UDF 3 Output'!NW11))*1","v":0},{"$f":"(IF(ISNUMBER('UDF 3 Output'!NX11),'UDF 3 Output'!NX11))*1","v":0},{"$f":"(IF(ISNUMBER('UDF 3 Output'!NY11),'UDF 3 Output'!NY11))*1","v":0},{"$f":"(IF(ISNUMBER('UDF 3 Output'!NZ11),'UDF 3 Output'!NZ11))*1","v":0},{"$f":"(IF(ISNUMBER('UDF 3 Output'!OA11),'UDF 3 Output'!OA11))*1","v":0},{"$f":"(IF(ISNUMBER('UDF 3 Output'!OB11),'UDF 3 Output'!OB11))*1","v":0},{"$f":"(IF(ISNUMBER('UDF 3 Output'!OC11),'UDF 3 Output'!OC11))*1","v":0},{"$f":"(IF(ISNUMBER('UDF 3 Output'!OD11),'UDF 3 Output'!OD11))*1","v":0},{"$f":"(IF(ISNUMBER('UDF 3 Output'!OE11),'UDF 3 Output'!OE11))*1","v":0},{"$f":"(IF(ISNUMBER('UDF 3 Output'!OF11),'UDF 3 Output'!OF11))*1","v":0},{"$f":"(IF(ISNUMBER('UDF 3 Output'!OG11),'UDF 3 Output'!OG11))*1","v":0},{"$f":"(IF(ISNUMBER('UDF 3 Output'!OH11),'UDF 3 Output'!OH11))*1","v":0},{"$f":"(IF(ISNUMBER('UDF 3 Output'!OI11),'UDF 3 Output'!OI11))*1","v":0},{"$f":"(IF(ISNUMBER('UDF 3 Output'!OJ11),'UDF 3 Output'!OJ11))*1","v":0},{"$f":"(IF(ISNUMBER('UDF 3 Output'!OK11),'UDF 3 Output'!OK11))*1","v":0},{"$f":"(IF(ISNUMBER('UDF 3 Output'!OL11),'UDF 3 Output'!OL11))*1","v":0},{"$f":"(IF(ISNUMBER('UDF 3 Output'!OM11),'UDF 3 Output'!OM11))*1","v":0},{"$f":"(IF(ISNUMBER('UDF 3 Output'!ON11),'UDF 3 Output'!ON11))*1","v":0},{"$f":"(IF(ISNUMBER('UDF 3 Output'!OO11),'UDF 3 Output'!OO11))*1","v":0},{"$f":"(IF(ISNUMBER('UDF 3 Output'!OP11),'UDF 3 Output'!OP11))*1","v":0},{"$f":"(IF(ISNUMBER('UDF 3 Output'!OQ11),'UDF 3 Output'!OQ11))*1","v":0},{"$f":"(IF(ISNUMBER('UDF 3 Output'!OR11),'UDF 3 Output'!OR11))*1","v":0},{"$f":"(IF(ISNUMBER('UDF 3 Output'!OS11),'UDF 3 Output'!OS11))*1","v":0},{"$f":"(IF(ISNUMBER('UDF 3 Output'!OT11),'UDF 3 Output'!OT11))*1","v":0},{"$f":"(IF(ISNUMBER('UDF 3 Output'!OU11),'UDF 3 Output'!OU11))*1","v":0},{"$f":"(IF(ISNUMBER('UDF 3 Output'!OV11),'UDF 3 Output'!OV11))*1","v":0},{"$f":"(IF(ISNUMBER('UDF 3 Output'!OW11),'UDF 3 Output'!OW11))*1","v":0},{"$f":"(IF(ISNUMBER('UDF 3 Output'!OX11),'UDF 3 Output'!OX11))*1","v":0},{"$f":"(IF(ISNUMBER('UDF 3 Output'!OY11),'UDF 3 Output'!OY11))*1","v":0},{"$f":"(IF(ISNUMBER('UDF 3 Output'!OZ11),'UDF 3 Output'!OZ11))*1","v":0},{"$f":"(IF(ISNUMBER('UDF 3 Output'!PA11),'UDF 3 Output'!PA11))*1","v":0},{"$f":"(IF(ISNUMBER('UDF 3 Output'!PB11),'UDF 3 Output'!PB11))*1","v":0},{"$f":"(IF(ISNUMBER('UDF 3 Output'!PC11),'UDF 3 Output'!PC11))*1","v":0},{"$f":"(IF(ISNUMBER('UDF 3 Output'!PD11),'UDF 3 Output'!PD11))*1","v":0},{"$f":"(IF(ISNUMBER('UDF 3 Output'!PE11),'UDF 3 Output'!PE11))*1","v":0},{"$f":"(IF(ISNUMBER('UDF 3 Output'!PF11),'UDF 3 Output'!PF11))*1","v":0},{"$f":"(IF(ISNUMBER('UDF 3 Output'!PG11),'UDF 3 Output'!PG11))*1","v":0},{"$f":"(IF(ISNUMBER('UDF 3 Output'!PH11),'UDF 3 Output'!PH11))*1","v":0},{"$f":"(IF(ISNUMBER('UDF 3 Output'!PI11),'UDF 3 Output'!PI11))*1","v":0},{"$f":"(IF(ISNUMBER('UDF 3 Output'!PJ11),'UDF 3 Output'!PJ11))*1","v":0},{"$f":"(IF(ISNUMBER('UDF 3 Output'!PK11),'UDF 3 Output'!PK11))*1","v":0},{"$f":"(IF(ISNUMBER('UDF 3 Output'!PL11),'UDF 3 Output'!PL11))*1","v":0},{"$f":"(IF(ISNUMBER('UDF 3 Output'!PM11),'UDF 3 Output'!PM11))*1","v":0},{"$f":"(IF(ISNUMBER('UDF 3 Output'!PN11),'UDF 3 Output'!PN11))*1","v":0},{"$f":"(IF(ISNUMBER('UDF 3 Output'!PO11),'UDF 3 Output'!PO11))*1","v":0},{"$f":"(IF(ISNUMBER('UDF 3 Output'!PP11),'UDF 3 Output'!PP11))*1","v":0},{"$f":"(IF(ISNUMBER('UDF 3 Output'!PQ11),'UDF 3 Output'!PQ11))*1","v":0},{"$f":"(IF(ISNUMBER('UDF 3 Output'!PR11),'UDF 3 Output'!PR11))*1","v":0},{"$f":"(IF(ISNUMBER('UDF 3 Output'!PS11),'UDF 3 Output'!PS11))*1","v":0},{"$f":"(IF(ISNUMBER('UDF 3 Output'!PT11),'UDF 3 Output'!PT11))*1","v":0},{"$f":"(IF(ISNUMBER('UDF 3 Output'!PU11),'UDF 3 Output'!PU11))*1","v":0},{"$f":"(IF(ISNUMBER('UDF 3 Output'!PV11),'UDF 3 Output'!PV11))*1","v":0},{"$f":"(IF(ISNUMBER('UDF 3 Output'!PW11),'UDF 3 Output'!PW11))*1","v":0},{"$f":"(IF(ISNUMBER('UDF 3 Output'!PX11),'UDF 3 Output'!PX11))*1","v":0},{"$f":"(IF(ISNUMBER('UDF 3 Output'!PY11),'UDF 3 Output'!PY11))*1","v":0},{"$f":"(IF(ISNUMBER('UDF 3 Output'!PZ11),'UDF 3 Output'!PZ11))*1","v":0},{"$f":"(IF(ISNUMBER('UDF 3 Output'!QA11),'UDF 3 Output'!QA11))*1","v":0},{"$f":"(IF(ISNUMBER('UDF 3 Output'!QB11),'UDF 3 Output'!QB11))*1","v":0},{"$f":"(IF(ISNUMBER('UDF 3 Output'!QC11),'UDF 3 Output'!QC11))*1","v":0},{"$f":"(IF(ISNUMBER('UDF 3 Output'!QD11),'UDF 3 Output'!QD11))*1","v":0},{"$f":"(IF(ISNUMBER('UDF 3 Output'!QE11),'UDF 3 Output'!QE11))*1","v":0},{"$f":"(IF(ISNUMBER('UDF 3 Output'!QF11),'UDF 3 Output'!QF11))*1","v":0},{"$f":"(IF(ISNUMBER('UDF 3 Output'!QG11),'UDF 3 Output'!QG11))*1","v":0},{"$f":"(IF(ISNUMBER('UDF 3 Output'!QH11),'UDF 3 Output'!QH11))*1","v":0},{"$f":"(IF(ISNUMBER('UDF 3 Output'!QI11),'UDF 3 Output'!QI11))*1","v":0},{"$f":"(IF(ISNUMBER('UDF 3 Output'!QJ11),'UDF 3 Output'!QJ11))*1","v":0},{"$f":"(IF(ISNUMBER('UDF 3 Output'!QK11),'UDF 3 Output'!QK11))*1","v":0},{"$f":"(IF(ISNUMBER('UDF 3 Output'!QL11),'UDF 3 Output'!QL11))*1","v":0},{"$f":"(IF(ISNUMBER('UDF 3 Output'!QM11),'UDF 3 Output'!QM11))*1","v":0},{"$f":"(IF(ISNUMBER('UDF 3 Output'!QN11),'UDF 3 Output'!QN11))*1","v":0},{"$f":"(IF(ISNUMBER('UDF 3 Output'!QO11),'UDF 3 Output'!QO11))*1","v":0},{"$f":"(IF(ISNUMBER('UDF 3 Output'!QP11),'UDF 3 Output'!QP11))*1","v":0},{"$f":"(IF(ISNUMBER('UDF 3 Output'!QQ11),'UDF 3 Output'!QQ11))*1","v":0},{"$f":"(IF(ISNUMBER('UDF 3 Output'!QR11),'UDF 3 Output'!QR11))*1","v":0},{"$f":"(IF(ISNUMBER('UDF 3 Output'!QS11),'UDF 3 Output'!QS11))*1","v":0},{"$f":"(IF(ISNUMBER('UDF 3 Output'!QT11),'UDF 3 Output'!QT11))*1","v":0},{"$f":"(IF(ISNUMBER('UDF 3 Output'!QU11),'UDF 3 Output'!QU11))*1","v":0},{"$f":"(IF(ISNUMBER('UDF 3 Output'!QV11),'UDF 3 Output'!QV11))*1","v":0},{"$f":"(IF(ISNUMBER('UDF 3 Output'!QW11),'UDF 3 Output'!QW11))*1","v":0},{"$f":"(IF(ISNUMBER('UDF 3 Output'!QX11),'UDF 3 Output'!QX11))*1","v":0},{"$f":"(IF(ISNUMBER('UDF 3 Output'!QY11),'UDF 3 Output'!QY11))*1","v":0},{"$f":"(IF(ISNUMBER('UDF 3 Output'!QZ11),'UDF 3 Output'!QZ11))*1","v":0},{"$f":"(IF(ISNUMBER('UDF 3 Output'!RA11),'UDF 3 Output'!RA11))*1","v":0},{"$f":"(IF(ISNUMBER('UDF 3 Output'!RB11),'UDF 3 Output'!RB11))*1","v":0},{"$f":"(IF(ISNUMBER('UDF 3 Output'!RC11),'UDF 3 Output'!RC11))*1","v":0},{"$f":"(IF(ISNUMBER('UDF 3 Output'!RD11),'UDF 3 Output'!RD11))*1","v":0},{"$f":"(IF(ISNUMBER('UDF 3 Output'!RE11),'UDF 3 Output'!RE11))*1","v":0},{"$f":"(IF(ISNUMBER('UDF 3 Output'!RF11),'UDF 3 Output'!RF11))*1","v":0},{"$f":"(IF(ISNUMBER('UDF 3 Output'!RG11),'UDF 3 Output'!RG11))*1","v":0},{"$f":"(IF(ISNUMBER('UDF 3 Output'!RH11),'UDF 3 Output'!RH11))*1","v":0},{"$f":"(IF(ISNUMBER('UDF 3 Output'!RI11),'UDF 3 Output'!RI11))*1","v":0},{"$f":"(IF(ISNUMBER('UDF 3 Output'!RJ11),'UDF 3 Output'!RJ11))*1","v":0},{"$f":"(IF(ISNUMBER('UDF 3 Output'!RK11),'UDF 3 Output'!RK11))*1","v":0},{"$f":"(IF(ISNUMBER('UDF 3 Output'!RL11),'UDF 3 Output'!RL11))*1","v":0},{"$f":"(IF(ISNUMBER('UDF 3 Output'!RM11),'UDF 3 Output'!RM11))*1","v":0},{"$f":"(IF(ISNUMBER('UDF 3 Output'!RN11),'UDF 3 Output'!RN11))*1","v":0},{"$f":"(IF(ISNUMBER('UDF 3 Output'!RO11),'UDF 3 Output'!RO11))*1","v":0},{"$f":"(IF(ISNUMBER('UDF 3 Output'!RP11),'UDF 3 Output'!RP11))*1","v":0},{"$f":"(IF(ISNUMBER('UDF 3 Output'!RQ11),'UDF 3 Output'!RQ11))*1","v":0},{"$f":"(IF(ISNUMBER('UDF 3 Output'!RR11),'UDF 3 Output'!RR11))*1","v":0},{"$f":"(IF(ISNUMBER('UDF 3 Output'!RS11),'UDF 3 Output'!RS11))*1","v":0},{"$f":"(IF(ISNUMBER('UDF 3 Output'!RT11),'UDF 3 Output'!RT11))*1","v":0},{"$f":"(IF(ISNUMBER('UDF 3 Output'!RU11),'UDF 3 Output'!RU11))*1","v":0},{"$f":"(IF(ISNUMBER('UDF 3 Output'!RV11),'UDF 3 Output'!RV11))*1","v":0},{"$f":"(IF(ISNUMBER('UDF 3 Output'!RW11),'UDF 3 Output'!RW11))*1","v":0},{"$f":"(IF(ISNUMBER('UDF 3 Output'!RX11),'UDF 3 Output'!RX11))*1","v":0},{"$f":"(IF(ISNUMBER('UDF 3 Output'!RY11),'UDF 3 Output'!RY11))*1","v":0}]
[]
[null,"Cash Flow Statements"]
[]
[null,null,null,"EBITDA",null,null,null,86850.689880049569,"Lakhs",null,{"$f":"K242-K243","v":0},{"$f":"L242-L243","v":1996.2293257986116},2082.6940881280998,2172.8848235718328,2266.9611031766731,2365.0892804813293,2467.442777117245,2574.2023802943349,2685.5565526586561,2801.7017550285864,2922.8427825364943,3049.1931147239011,3180.9752801601389,3318.4212361772652,3461.7727643376566,3611.281882275297,3767.211272577325,3929.8347293988782,4099.4376235318814,4276.3173866769575,4460.7840156973771,4653.1605976647907,4853.7838565384964,5063.0047223532074,5281.1889238248596,5508.7176053196836,0,0,0,0,0,0,0,0,0,0,0,0,0,0,0,0,0,0,0,0,0,0,0,0,0,0,0,0,0,0,0,0,0,0,0,0,0,0,0,{"$f":"BX242-BX243","v":0},0,0,0,0,0,0,0,0,0,0,0,0,0,0,0,0,0,0,0,0,0,0,0,0,0,0,0,0,0,0,0,0,0,0,0,0,0,0,0,0,0,0,0,0,0,0,0,0,0,0,0,0,0,0,0,0,0,0,0,0,0,0,0,{"$f":"EJ242-EJ243","v":0},0,0,0,0,0,0,0,0,0,0,0,0,0,0,0,0,0,0,0,0,0,0,0,0,0,0,0,0,0,0,0,0,0,0,0,0,0,0,0,0,0,0,0,0,0,0,0,0,0,0,0,0,0,0,0,0,0,0,0,0,0,0,0,{"$f":"GV242-GV243","v":0},0,0,0,0,0,0,0,0,0,0,0,0,0,0,0,0,0,0,0,0,0,0,0,0,0,0,0,0,0,0,0,0,0,0,0,0,0,0,0,0,0,0,0,0,0,0,0,0,0,0,0,0,0,0,0,0,0,0,0,0,0,0,0,{"$f":"JH242-JH243","v":0},0,0,0,0,0,0,0,0,0,0,0,0,0,0,0,0,0,0,0,0,0,0,0,0,0,0,0,0,0,0,0,0,0,0,0,0,0,0,0,0,0,0,0,0,0,0,0,0,0,0,0,0,0,0,0,0,0,0,0,0,0,0,0,{"$f":"LT242-LT243","v":0},0,0,0,0,0,0,0,0,0,0,0,0,0,0,0,0,0,0,0,0,0,0,0,0,0,0,0,0,0,0,0,0,0,0,0,0,0,0,0,0,0,0,0,0,0,0,0,0,0,0,0,0,0,0,0,0,0,0,0,0,0,0,0,{"$f":"OF242-OF243","v":0},0,0,0,0,0,0,0,0,0,0,0,0,0,0,0,0,0,0,0,0,0,0,0,0,0,0,0,0,0,0,0,0,0,0,0,0,0,0,0,0,0,0,0,0,0,0,0,0,0,0,0,0,0,0,0,0,0,0,0,0,0,0,0,{"$f":"QR242-QR243","v":0},0,0,0,0,0,0,0,0,0,0,0,0,0,0,0,0,0,0,0,0,0,0,0,0,0,0,0,0,0,0,0,0,0,0,0,0,0]
[null,null,null,"Total Depreciation with IDC and Fees",null,null,null,26000,"Lakhs",null,{"$f":"K158+K159","v":0},{"$f":"L158+L159","v":1040},1040,1040,1040,1040,1040,1040,1040,1040,1040,1040,1040,1040,1040,1040,1040,1040,1040,1040,1040,1040,1040,1040,1040,1040,0,0,0,0,0,0,0,0,0,0,0,0,0,0,0,0,0,0,0,0,0,0,0,0,0,0,0,0,0,0,0,0,0,0,0,0,0,0,0,{"$f":"BX158+BX159","v":0},0,0,0,0,0,0,0,0,0,0,0,0,0,0,0,0,0,0,0,0,0,0,0,0,0,0,0,0,0,0,0,0,0,0,0,0,0,0,0,0,0,0,0,0,0,0,0,0,0,0,0,0,0,0,0,0,0,0,0,0,0,0,0,{"$f":"EJ158+EJ159","v":0},0,0,0,0,0,0,0,0,0,0,0,0,0,0,0,0,0,0,0,0,0,0,0,0,0,0,0,0,0,0,0,0,0,0,0,0,0,0,0,0,0,0,0,0,0,0,0,0,0,0,0,0,0,0,0,0,0,0,0,0,0,0,0,{"$f":"GV158+GV159","v":0},0,0,0,0,0,0,0,0,0,0,0,0,0,0,0,0,0,0,0,0,0,0,0,0,0,0,0,0,0,0,0,0,0,0,0,0,0,0,0,0,0,0,0,0,0,0,0,0,0,0,0,0,0,0,0,0,0,0,0,0,0,0,0,{"$f":"JH158+JH159","v":0},0,0,0,0,0,0,0,0,0,0,0,0,0,0,0,0,0,0,0,0,0,0,0,0,0,0,0,0,0,0,0,0,0,0,0,0,0,0,0,0,0,0,0,0,0,0,0,0,0,0,0,0,0,0,0,0,0,0,0,0,0,0,0,{"$f":"LT158+LT159","v":0},0,0,0,0,0,0,0,0,0,0,0,0,0,0,0,0,0,0,0,0,0,0,0,0,0,0,0,0,0,0,0,0,0,0,0,0,0,0,0,0,0,0,0,0,0,0,0,0,0,0,0,0,0,0,0,0,0,0,0,0,0,0,0,{"$f":"OF158+OF159","v":0},0,0,0,0,0,0,0,0,0,0,0,0,0,0,0,0,0,0,0,0,0,0,0,0,0,0,0,0,0,0,0,0,0,0,0,0,0,0,0,0,0,0,0,0,0,0,0,0,0,0,0,0,0,0,0,0,0,0,0,0,0,0,0,{"$f":"QR158+QR159","v":0},0,0,0,0,0,0,0,0,0,0,0,0,0,0,0,0,0,0,0,0,0,0,0,0,0,0,0,0,0,0,0,0,0,0,0,0,0]
[null,null,null,"EBT before NOL",null,null,null,{"$f":"SUM(K248:XFD248)","v":36197.390278341802},"Lakhs",null,{"$f":"K246-K247","v":0},{"$f":"L246-L247","v":-603.77067420138837},-527.16272511944408,-442.66348056972402,-349.56795016002843,-247.11170639749116,-134.4660067565203,-10.732520658579688,125.06237042801899,273.97373411006492,437.14474650917327,615.81389009000986,811.32273316075793,1025.1243377997996,1258.7923467106741,1514.0308035555745,1792.6847656899581,2096.7517729431456,2428.3942411902317,2789.9528549692513,3183.9610393472499,3613.1605976647952,3813.7838565385014,4023.0047223532129,4241.188923824865,4468.7176053196899,0,0,0,0,0,0,0,0,0,0,0,0,0,0,0,0,0,0,0,0,0,0,0,0,0,0,0,0,0,0,0,0,0,0,0,0,0,0,0,{"$f":"BX246-BX247","v":0},0,0,0,0,0,0,0,0,0,0,0,0,0,0,0,0,0,0,0,0,0,0,0,0,0,0,0,0,0,0,0,0,0,0,0,0,0,0,0,0,0,0,0,0,0,0,0,0,0,0,0,0,0,0,0,0,0,0,0,0,0,0,0,{"$f":"EJ246-EJ247","v":0},0,0,0,0,0,0,0,0,0,0,0,0,0,0,0,0,0,0,0,0,0,0,0,0,0,0,0,0,0,0,0,0,0,0,0,0,0,0,0,0,0,0,0,0,0,0,0,0,0,0,0,0,0,0,0,0,0,0,0,0,0,0,0,{"$f":"GV246-GV247","v":0},0,0,0,0,0,0,0,0,0,0,0,0,0,0,0,0,0,0,0,0,0,0,0,0,0,0,0,0,0,0,0,0,0,0,0,0,0,0,0,0,0,0,0,0,0,0,0,0,0,0,0,0,0,0,0,0,0,0,0,0,0,0,0,{"$f":"JH246-JH247","v":0},0,0,0,0,0,0,0,0,0,0,0,0,0,0,0,0,0,0,0,0,0,0,0,0,0,0,0,0,0,0,0,0,0,0,0,0,0,0,0,0,0,0,0,0,0,0,0,0,0,0,0,0,0,0,0,0,0,0,0,0,0,0,0,{"$f":"LT246-LT247","v":0},0,0,0,0,0,0,0,0,0,0,0,0,0,0,0,0,0,0,0,0,0,0,0,0,0,0,0,0,0,0,0,0,0,0,0,0,0,0,0,0,0,0,0,0,0,0,0,0,0,0,0,0,0,0,0,0,0,0,0,0,0,0,0,{"$f":"OF246-OF247","v":0},0,0,0,0,0,0,0,0,0,0,0,0,0,0,0,0,0,0,0,0,0,0,0,0,0,0,0,0,0,0,0,0,0,0,0,0,0,0,0,0,0,0,0,0,0,0,0,0,0,0,0,0,0,0,0,0,0,0,0,0,0,0,0,{"$f":"QR246-QR247","v":0},0,0,0,0,0,0,0,0,0,0,0,0,0,0,0,0,0,0,0,0,0,0,0,0,0,0,0,0,0,0,0,0,0,0,0,0,0]
[]
[null,null,null,"NOL Balance Used",null,null,null,2315.4750638631758,"Lakhs",null,{"$f":"MIN(K250,MAX(K248,0))","v":0},{"$f":"MIN(L250,MAX(L248,0))","v":0},0,0,0,0,0,0,125.06237042801899,273.97373411006492,437.14474650917327,615.81389009000986,811.32273316075793,52.157589565151056,0,0,0,0,0,0,0,0,0,0,0,0,0,0,0,0,0,0,0,0,0,0,0,0,0,0,0,0,0,0,0,0,0,0,0,0,0,0,0,0,0,0,0,0,0,0,0,0,0,0,0,{"$f":"MIN(BX250,MAX(BX248,0))","v":0},0,0,0,0,0,0,0,0,0,0,0,0,0,0,0,0,0,0,0,0,0,0,0,0,0,0,0,0,0,0,0,0,0,0,0,0,0,0,0,0,0,0,0,0,0,0,0,0,0,0,0,0,0,0,0,0,0,0,0,0,0,0,0,{"$f":"MIN(EJ250,MAX(EJ248,0))","v":0},0,0,0,0,0,0,0,0,0,0,0,0,0,0,0,0,0,0,0,0,0,0,0,0,0,0,0,0,0,0,0,0,0,0,0,0,0,0,0,0,0,0,0,0,0,0,0,0,0,0,0,0,0,0,0,0,0,0,0,0,0,0,0,{"$f":"MIN(GV250,MAX(GV248,0))","v":0},0,0,0,0,0,0,0,0,0,0,0,0,0,0,0,0,0,0,0,0,0,0,0,0,0,0,0,0,0,0,0,0,0,0,0,0,0,0,0,0,0,0,0,0,0,0,0,0,0,0,0,0,0,0,0,0,0,0,0,0,0,0,0,{"$f":"MIN(JH250,MAX(JH248,0))","v":0},0,0,0,0,0,0,0,0,0,0,0,0,0,0,0,0,0,0,0,0,0,0,0,0,0,0,0,0,0,0,0,0,0,0,0,0,0,0,0,0,0,0,0,0,0,0,0,0,0,0,0,0,0,0,0,0,0,0,0,0,0,0,0,{"$f":"MIN(LT250,MAX(LT248,0))","v":0},0,0,0,0,0,0,0,0,0,0,0,0,0,0,0,0,0,0,0,0,0,0,0,0,0,0,0,0,0,0,0,0,0,0,0,0,0,0,0,0,0,0,0,0,0,0,0,0,0,0,0,0,0,0,0,0,0,0,0,0,0,0,0,{"$f":"MIN(OF250,MAX(OF248,0))","v":0},0,0,0,0,0,0,0,0,0,0,0,0,0,0,0,0,0,0,0,0,0,0,0,0,0,0,0,0,0,0,0,0,0,0,0,0,0,0,0,0,0,0,0,0,0,0,0,0,0,0,0,0,0,0,0,0,0,0,0,0,0,0,0,{"$f":"MIN(QR250,MAX(QR248,0))","v":0},0,0,0,0,0,0,0,0,0,0,0,0,0,0,0,0,0,0,0,0,0,0,0,0,0,0,0,0,0,0,0,0,0,0,0,0,0]
[]
[]
[null,null,"Cash Flow After COD"]
[null,null,null,"Taxes",null,null,null,9049.3475695854504,"Lakhs",null,{"$f":"K256","v":0},{"$f":"L256","v":0},0,0,0,0,0,0,0,0,0,0,0,243.24168705866214,314.69808667766853,378.50770088889362,448.17119142248953,524.18794323578641,607.09856029755792,697.48821374231284,795.99025983681247,903.2901494161988,953.44596413462534,1005.7511805883032,1060.2972309562163,1117.1794013299225,0,0,0,0,0,0,0,0,0,0,0,0,0,0,0,0,0,0,0,0,0,0,0,0,0,0,0,0,0,0,0,0,0,0,0,0,0,0,0,{"$f":"BX256","v":0},0,0,0,0,0,0,0,0,0,0,0,0,0,0,0,0,0,0,0,0,0,0,0,0,0,0,0,0,0,0,0,0,0,0,0,0,0,0,0,0,0,0,0,0,0,0,0,0,0,0,0,0,0,0,0,0,0,0,0,0,0,0,0,{"$f":"EJ256","v":0},0,0,0,0,0,0,0,0,0,0,0,0,0,0,0,0,0,0,0,0,0,0,0,0,0,0,0,0,0,0,0,0,0,0,0,0,0,0,0,0,0,0,0,0,0,0,0,0,0,0,0,0,0,0,0,0,0,0,0,0,0,0,0,{"$f":"GV256","v":0},0,0,0,0,0,0,0,0,0,0,0,0,0,0,0,0,0,0,0,0,0,0,0,0,0,0,0,0,0,0,0,0,0,0,0,0,0,0,0,0,0,0,0,0,0,0,0,0,0,0,0,0,0,0,0,0,0,0,0,0,0,0,0,{"$f":"JH256","v":0},0,0,0,0,0,0,0,0,0,0,0,0,0,0,0,0,0,0,0,0,0,0,0,0,0,0,0,0,0,0,0,0,0,0,0,0,0,0,0,0,0,0,0,0,0,0,0,0,0,0,0,0,0,0,0,0,0,0,0,0,0,0,0,{"$f":"LT256","v":0},0,0,0,0,0,0,0,0,0,0,0,0,0,0,0,0,0,0,0,0,0,0,0,0,0,0,0,0,0,0,0,0,0,0,0,0,0,0,0,0,0,0,0,0,0,0,0,0,0,0,0,0,0,0,0,0,0,0,0,0,0,0,0,{"$f":"OF256","v":0},0,0,0,0,0,0,0,0,0,0,0,0,0,0,0,0,0,0,0,0,0,0,0,0,0,0,0,0,0,0,0,0,0,0,0,0,0,0,0,0,0,0,0,0,0,0,0,0,0,0,0,0,0,0,0,0,0,0,0,0,0,0,0,{"$f":"QR256","v":0},0,0,0,0,0,0,0,0,0,0,0,0,0,0,0,0,0,0,0,0,0,0,0,0,0,0,0,0,0,0,0,0,0,0,0,0,0]
[null,null,null,"Debt Service",null,null,null,44153.299601707862,"Lakhs",null,{"$f":"K194+K190","v":0},1436.7898344057044,1498.7131770723829,1563.2889392022462,1630.6298840602146,1700.8535244420109,1774.082320384397,1850.4438849813853,1930.0711986320787,2013.1028320585285,2099.6831784451952,2189.9626950652682,2284.0981547733218,2382.252907758505,2484.5971539677298,2591.3082266241677,2702.5708872828,2818.5776328817678,2939.5290152659413,3065.6339736774421,3197.1101807267764,0,0,0,0,0,0,0,0,0,0,0,0,0,0,0,0,0,0,0,0,0,0,0,0,0,0,0,0,0,0,0,0,0,0,0,0,0,0,0,0,0,0,0,{"$f":"BW194+BW190","v":0},0,0,0,0,0,0,0,0,0,0,0,0,0,0,0,0,0,0,0,0,0,0,0,0,0,0,0,0,0,0,0,0,0,0,0,0,0,0,0,0,0,0,0,0,0,0,0,0,0,0,0,0,0,0,0,0,0,0,0,0,0,0,0,{"$f":"EI194+EI190","v":0},0,0,0,0,0,0,0,0,0,0,0,0,0,0,0,0,0,0,0,0,0,0,0,0,0,0,0,0,0,0,0,0,0,0,0,0,0,0,0,0,0,0,0,0,0,0,0,0,0,0,0,0,0,0,0,0,0,0,0,0,0,0,0,{"$f":"GU194+GU190","v":0},0,0,0,0,0,0,0,0,0,0,0,0,0,0,0,0,0,0,0,0,0,0,0,0,0,0,0,0,0,0,0,0,0,0,0,0,0,0,0,0,0,0,0,0,0,0,0,0,0,0,0,0,0,0,0,0,0,0,0,0,0,0,0,{"$f":"JG194+JG190","v":0},0,0,0,0,0,0,0,0,0,0,0,0,0,0,0,0,0,0,0,0,0,0,0,0,0,0,0,0,0,0,0,0,0,0,0,0,0,0,0,0,0,0,0,0,0,0,0,0,0,0,0,0,0,0,0,0,0,0,0,0,0,0,0,{"$f":"LS194+LS190","v":0},0,0,0,0,0,0,0,0,0,0,0,0,0,0,0,0,0,0,0,0,0,0,0,0,0,0,0,0,0,0,0,0,0,0,0,0,0,0,0,0,0,0,0,0,0,0,0,0,0,0,0,0,0,0,0,0,0,0,0,0,0,0,0,{"$f":"OE194+OE190","v":0},0,0,0,0,0,0,0,0,0,0,0,0,0,0,0,0,0,0,0,0,0,0,0,0,0,0,0,0,0,0,0,0,0,0,0,0,0,0,0,0,0,0,0,0,0,0,0,0,0,0,0,0,0,0,0,0,0,0,0,0,0,0,0,{"$f":"QQ194+QQ190","v":0},0,0,0,0,0,0,0,0,0,0,0,0,0,0,0,0,0,0,0,0,0,0,0,0,0,0,0,0,0,0,0,0,0,0,0,0,0,0]
[null,null,null,"Net Equity Cash Flow",null,null,null,{"$f":"SUM(K266:XFD266)","v":27148.042708756264},"Lakhs",null,{"$f":"K264-K184","v":-6500},559.43949139290726,583.98091105571689,609.59588436958666,636.33121911645844,664.2357560393184,693.36045673284798,723.75849531294966,755.4853540265774,788.59892297005786,823.15960409129912,859.23041965863285,896.87712538681717,692.92664136009807,662.47752369225827,641.46595476223547,616.46919387203525,587.06915328132391,552.81004796838215,513.1951992572026,467.68357513378805,3749.8704482485919,3900.3378924038711,4057.2535417649042,4220.8916928686431,4391.5382039897613,0,0,0,0,0,0,0,0,0,0,0,0,0,0,0,0,0,0,0,0,0,0,0,0,0,0,0,0,0,0,0,0,0,0,0,0,0,0,{"$f":"BW264-BW184","v":0},0,0,0,0,0,0,0,0,0,0,0,0,0,0,0,0,0,0,0,0,0,0,0,0,0,0,0,0,0,0,0,0,0,0,0,0,0,0,0,0,0,0,0,0,0,0,0,0,0,0,0,0,0,0,0,0,0,0,0,0,0,0,0,{"$f":"EI264-EI184","v":0},0,0,0,0,0,0,0,0,0,0,0,0,0,0,0,0,0,0,0,0,0,0,0,0,0,0,0,0,0,0,0,0,0,0,0,0,0,0,0,0,0,0,0,0,0,0,0,0,0,0,0,0,0,0,0,0,0,0,0,0,0,0,0,{"$f":"GU264-GU184","v":0},0,0,0,0,0,0,0,0,0,0,0,0,0,0,0,0,0,0,0,0,0,0,0,0,0,0,0,0,0,0,0,0,0,0,0,0,0,0,0,0,0,0,0,0,0,0,0,0,0,0,0,0,0,0,0,0,0,0,0,0,0,0,0,{"$f":"JG264-JG184","v":0},0,0,0,0,0,0,0,0,0,0,0,0,0,0,0,0,0,0,0,0,0,0,0,0,0,0,0,0,0,0,0,0,0,0,0,0,0,0,0,0,0,0,0,0,0,0,0,0,0,0,0,0,0,0,0,0,0,0,0,0,0,0,0,{"$f":"LS264-LS184","v":0},0,0,0,0,0,0,0,0,0,0,0,0,0,0,0,0,0,0,0,0,0,0,0,0,0,0,0,0,0,0,0,0,0,0,0,0,0,0,0,0,0,0,0,0,0,0,0,0,0,0,0,0,0,0,0,0,0,0,0,0,0,0,0,{"$f":"OE264-OE184","v":0},0,0,0,0,0,0,0,0,0,0,0,0,0,0,0,0,0,0,0,0,0,0,0,0,0,0,0,0,0,0,0,0,0,0,0,0,0,0,0,0,0,0,0,0,0,0,0,0,0,0,0,0,0,0,0,0,0,0,0,0,0,0,0,{"$f":"QQ264-QQ184","v":0},0,0,0,0,0,0,0,0,0,0,0,0,0,0,0,0,0,0,0,0,0,0,0,0,0,0,0,0,0,0,0,0,0,0,0,0,0,0]
[null,null,null,"Equity IRR","% p.a.",{"$f":"XIRR(K266:SC266,K9:SC9)","v":0.1194887101650238}]
[null,null,null,"Target IRR","% p.a.",{"$f":"(1+'Input C'!F50)^(G7/Months)-1","v":0.1100000000000001}]
[null,null,null,"Apply Equity NPV in Goal Seek","Flag",{"$f":"'Input C'!F52","v":true},"Apply Equity IRR"]
[null,null,null,"Price","Rs. In Lakhs/Mwy",{"$f":"F47","v":1.0529680119726969E-2}]
[]
[null,null,null,"Expenses",null,null,null,26058.995954621296,"Lakhs",null,{"$f":"K260","v":0},{"$f":"L260","v":546},573.30000000000007,601.96500000000003,632.06325000000015,663.66641250000021,696.84973312500017,731.69221978125029,768.27683077031281,806.69067230882843,847.0252059242697,889.37646622048339,933.84528953150777,980.53755400808302,1029.5644317084873,1081.0426532939118,1135.0947859586074,1191.8495252565378,1251.4420015193648,1314.0141015953329,1379.7148066750997,1448.700547008855,1521.1355743592978,1597.1923530772626,1677.0519707311259,1760.9045692676821,0,0,0,0,0,0,0,0,0,0,0,0,0,0,0,0,0,0,0,0,0,0,0,0,0,0,0,0,0,0,0,0,0,0,0,0,0,0,0,{"$f":"BX260","v":0},0,0,0,0,0,0,0,0,0,0,0,0,0,0,0,0,0,0,0,0,0,0,0,0,0,0,0,0,0,0,0,0,0,0,0,0,0,0,0,0,0,0,0,0,0,0,0,0,0,0,0,0,0,0,0,0,0,0,0,0,0,0,0,{"$f":"EJ260","v":0},0,0,0,0,0,0,0,0,0,0,0,0,0,0,0,0,0,0,0,0,{"$f":"FE260","v":0},0,0,0,0,0,0,0,0,0,0,0,0,0,0,0,0,0,0,0,0,0,0,0,0,0,0,0,0,0,0,0,0,0,0,0,0,0,0,0,0,0,0,0,0,0,0,0,0,0,0,0,{"$f":"HE260","v":0},0,0,0,0,0,0,0,0,0,0,0,0,0,0,0,0,0,0,0,0,0,0,0,0,0,0,0,0,0,0,0,0,0,0,0,0,0,0,0,0,0,0,0,0,0,0,0,0,0,0,0,0,0,0,0,0,0,0,0,0,0,0,0,{"$f":"JQ260","v":0},0,0,0,0,0,0,0,0,0,0,0,0,0,0,0,0,0,0,0,0,0,0,0,0,0,{"$f":"KQ260","v":0},0,0,0,0,0,0,0,0,0,0,0,0,0,0,0,0,0,0,0,0,0,0,0,0,0,0,0,0,0,{"$f":"LU260","v":0},0,0,0,0,0,0,{"$f":"MB260","v":0},0,0,0,0,0,0,0,0,0,0,0,0,0,0,0,0,0,0,{"$f":"MU260","v":0},0,0,0,0,0,0,{"$f":"NB260","v":0},0,0,0,0,0,0,0,0,0,0,0,0,0,0,{"$f":"NQ260","v":0},0,0,0,0,0,0,0,0,0,0,0,0,0,0,0,0,0,0,0,0,0,0,0,0,0,0,0,0,0,0,0,0,0,0,0,0,0,0,0,0,0,0,0,0,0,0,0,0,0,0,0,0,0,0,0,0,0,0,0,0,0,0,0,{"$f":"QC260","v":0},0,0,0,0,0,0,0,0,0,0,0,0,0,0,0,0,0,0,0,0,0,0,0,0,0,0,0,0,0,0,0,0,0,0,0,0,0,0,0,0,0,0,0,0,0,0,0,0,0,0,0,0]
[null,null,null,"EBITDA",null,null,null,86850.689880049569,"Lakhs",null,{"$f":"K279-K280","v":0},{"$f":"L279-L280","v":1996.2293257986116},2082.6940881280998,2172.8848235718328,2266.9611031766731,2365.0892804813293,2467.442777117245,2574.2023802943349,2685.5565526586561,2801.7017550285864,2922.8427825364943,3049.1931147239011,3180.9752801601389,3318.4212361772652,3461.7727643376566,3611.281882275297,3767.211272577325,3929.8347293988782,4099.4376235318814,4276.3173866769575,4460.7840156973771,4653.1605976647907,4853.7838565384964,5063.0047223532074,5281.1889238248596,5508.7176053196836,0,0,0,0,0,0,0,0,0,0,0,0,0,0,0,0,0,0,0,0,0,0,0,0,0,0,0,0,0,0,0,0,0,0,0,0,0,0,0,{"$f":"BX279-BX280","v":0},0,0,0,0,0,0,0,0,0,0,0,0,0,0,0,0,0,0,0,0,0,0,0,0,0,0,0,0,0,0,0,0,0,0,0,0,0,0,0,0,0,0,0,0,0,0,0,0,0,0,0,0,0,0,0,0,0,0,0,0,0,0,0,{"$f":"EJ279-EJ280","v":0},0,0,0,0,0,0,0,0,0,0,0,0,0,0,0,0,0,0,0,0,{"$f":"FE279-FE280","v":0},0,0,0,0,0,0,0,0,0,0,0,0,0,0,0,0,0,0,0,0,0,0,0,0,0,0,0,0,0,0,0,0,0,0,0,0,0,0,0,0,0,0,0,0,0,0,0,0,0,0,0,{"$f":"HE279-HE280","v":0},0,0,0,0,0,0,0,0,0,0,0,0,0,0,0,0,0,0,0,0,0,0,0,0,0,0,0,0,0,0,0,0,0,0,0,0,0,0,0,0,0,0,0,0,0,0,0,0,0,0,0,0,0,0,0,0,0,0,0,0,0,0,0,{"$f":"JQ279-JQ280","v":0},0,0,0,0,0,0,0,0,0,0,0,0,0,0,0,0,0,0,0,0,0,0,0,0,0,{"$f":"KQ279-KQ280","v":0},0,0,0,0,0,0,0,0,0,0,0,0,0,0,0,0,0,0,0,0,0,0,0,0,0,0,0,0,0,{"$f":"LU279-LU280","v":0},0,0,0,0,0,0,{"$f":"MB279-MB280","v":0},0,0,0,0,0,0,0,0,0,0,0,0,0,0,0,0,0,0,{"$f":"MU279-MU280","v":0},0,0,0,0,0,0,{"$f":"NB279-NB280","v":0},0,0,0,0,0,0,0,0,0,0,0,0,0,0,{"$f":"NQ279-NQ280","v":0},0,0,0,0,0,0,0,0,0,0,0,0,0,0,0,0,0,0,0,0,0,0,0,0,0,0,0,0,0,0,0,0,0,0,0,0,0,0,0,0,0,0,0,0,0,0,0,0,0,0,0,0,0,0,0,0,0,0,0,0,0,0,0,{"$f":"QC279-QC280","v":0},0,0,0,0,0,0,0,0,0,0,0,0,0,0,0,0,0,0,0,0,0,0,0,0,0,0,0,0,0,0,0,0,0,0,0,0,0,0,0,0,0,0,0,0,0,0,0,0,0,0,0,0]
[null,null,null,"Interest Expense",null,null,null,24653.299601707775,"Lakhs",null,{"$f":"K194","v":0},1560,1569.8568132475439,1575.5483041415569,1576.5290533367015,1572.2009868788205,1561.9087838737653,1544.9349009529146,1520.4941822306371,1487.7280209185215,1445.698036027321,1393.3792246338912,1329.652546999381,1253.2968983774656,1162.9804176269824,1057.2510787197225,934.52650688736696,793.08295645573241,631.04338234164959,446.36453170770619,236.82297635012733,-4.6202330850064755E-12,-4.9898517318069932E-12,-5.3890398703515529E-12,-5.8201630599796775E-12,-6.2857761047780518E-12,0,0,0,0,0,0,0,0,0,0,0,0,0,0,0,0,0,0,0,0,0,0,0,0,0,0,0,0,0,0,0,0,0,0,0,0,0,0,{"$f":"BW194","v":0},0,0,0,0,0,0,0,0,0,0,0,0,0,0,0,0,0,0,0,0,0,0,0,0,0,0,0,0,0,0,0,0,0,0,0,0,0,0,0,0,0,0,0,0,0,0,0,0,0,0,0,0,0,0,0,0,0,0,0,0,0,0,0,{"$f":"EI194","v":0},0,0,0,0,0,0,0,0,0,0,0,0,0,0,0,0,0,0,0,0,0,0,0,0,0,0,0,0,0,0,0,0,0,0,0,0,0,0,0,0,0,0,0,0,0,0,0,0,0,0,0,0,0,0,0,0,0,0,0,0,0,0,0,{"$f":"GU194","v":0},0,0,0,0,0,0,0,0,0,0,0,0,0,0,0,0,0,0,0,0,0,0,0,0,0,0,0,0,0,0,0,0,0,0,0,0,0,0,0,0,0,0,0,0,0,0,0,0,0,0,0,0,0,0,0,0,0,0,0,0,0,0,0,{"$f":"JG194","v":0},0,0,0,0,0,0,0,0,0,0,0,0,0,0,0,0,0,0,0,0,0,0,0,0,0,0,0,0,0,0,0,0,0,0,0,0,0,0,0,0,0,0,0,0,0,0,0,0,0,0,0,0,0,0,0,0,0,0,0,0,0,0,0,{"$f":"LS194","v":0},0,0,0,0,0,0,0,0,0,0,0,0,0,0,0,0,0,0,0,0,0,0,0,0,0,0,0,0,0,0,0,0,0,0,0,0,0,0,0,0,0,0,0,0,0,0,0,0,0,0,0,0,0,0,0,0,0,0,0,0,0,0,0,{"$f":"OE194","v":0},0,0,0,0,0,0,0,0,0,0,0,0,0,0,0,0,0,0,0,0,0,0,0,0,0,0,0,0,0,0,0,0,0,0,0,0,0,0,0,0,0,0,0,0,0,0,0,0,0,0,0,0,0,0,0,0,0,0,0,0,0,0,0,{"$f":"QQ194","v":0},0,0,0,0,0,0,0,0,0,0,0,0,0,0,0,0,0,0,0,0,0,0,0,0,0,0,0,0,0,0,0,0,0,0,0,0,0,0]
[null,null,null,"EBT",null,null,null,36197.390278341802,"Lakhs",null,{"$f":"K283-K284","v":0},{"$f":"L283-L284","v":-603.77067420138837},-527.16272511944408,-442.66348056972402,-349.56795016002843,-247.11170639749116,-134.4660067565203,-10.732520658579688,125.06237042801899,273.97373411006492,437.14474650917327,615.81389009000986,811.32273316075793,1025.1243377997996,1258.7923467106741,1514.0308035555745,1792.6847656899581,2096.7517729431456,2428.3942411902317,2789.9528549692513,3183.9610393472499,3613.1605976647952,3813.7838565385014,4023.0047223532129,4241.188923824865,4468.7176053196899,0,0,0,0,0,0,0,0,0,0,0,0,0,0,0,0,0,0,0,0,0,0,0,0,0,0,0,0,0,0,0,0,0,0,0,0,0,0,0,{"$f":"BX283-BX284","v":0},0,0,0,0,0,0,0,0,0,0,0,0,0,0,0,0,0,0,0,0,0,0,0,0,0,0,0,0,0,0,0,0,0,0,0,0,0,0,0,0,0,0,0,0,0,0,0,0,0,0,0,0,0,0,0,0,0,0,0,0,0,0,0,{"$f":"EJ283-EJ284","v":0},0,0,0,0,0,0,0,0,0,0,0,0,0,0,0,0,0,0,0,0,{"$f":"FE283-FE284","v":0},0,0,0,0,0,0,0,0,0,0,0,0,0,0,0,0,0,0,0,0,0,0,0,0,0,0,0,0,0,0,0,0,0,0,0,0,0,0,0,0,0,0,0,0,0,0,0,0,0,0,0,{"$f":"HE283-HE284","v":0},0,0,0,0,0,0,0,0,0,0,0,0,0,0,0,0,0,0,0,0,0,0,0,0,0,0,0,0,0,0,0,0,0,0,0,0,0,0,0,0,0,0,0,0,0,0,0,0,0,0,0,0,0,0,0,0,0,0,0,0,0,0,0,{"$f":"JQ283-JQ284","v":0},0,0,0,0,0,0,0,0,0,0,0,0,0,0,0,0,0,0,0,0,0,0,0,0,0,{"$f":"KQ283-KQ284","v":0},0,0,0,0,0,0,0,0,0,0,0,0,0,0,0,0,0,0,0,0,0,0,0,0,0,0,0,0,0,{"$f":"LU283-LU284","v":0},0,0,0,0,0,0,{"$f":"MB283-MB284","v":0},0,0,0,0,0,0,0,0,0,0,0,0,0,0,0,0,0,0,{"$f":"MU283-MU284","v":0},0,0,0,0,0,0,{"$f":"NB283-NB284","v":0},0,0,0,0,0,0,0,0,0,0,0,0,0,0,{"$f":"NQ283-NQ284","v":0},0,0,0,0,0,0,0,0,0,0,0,0,0,0,0,0,0,0,0,0,0,0,0,0,0,0,0,0,0,0,0,0,0,0,0,0,0,0,0,0,0,0,0,0,0,0,0,0,0,0,0,0,0,0,0,0,0,0,0,0,0,0,0,{"$f":"QC283-QC284","v":0},0,0,0,0,0,0,0,0,0,0,0,0,0,0,0,0,0,0,0,0,0,0,0,0,0,0,0,0,0,0,0,0,0,0,0,0,0,0,0,0,0,0,0,0,0,0,0,0,0,0,0,0]
[]
[null,null,"Cash from Operations"]
[null,null,null,"Cash from Operation",null,null,null,{"$f":"SUM(K293:XFD293)","v":77801.342310464126},"Lakhs",null,{"$f":"SUM(K291:K292)","v":0},{"$f":"SUM(L291:L292)","v":1996.2293257986116},2082.6940881280998,2172.8848235718328,2266.9611031766731,2365.0892804813293,2467.442777117245,2574.2023802943349,2685.5565526586561,2801.7017550285864,2922.8427825364943,3049.1931147239011,3180.9752801601389,3075.1795491186031,3147.0746776599881,3232.7741813864031,3319.0400811548352,3405.6467861630917,3492.3390632343235,3578.8291729346447,3664.7937558605645,3749.8704482485919,3900.3378924038711,4057.2535417649042,4220.8916928686431,4391.5382039897613,0,0,0,0,0,0,0,0,0,0,0,0,0,0,0,0,0,0,0,0,0,0,0,0,0,0,0,0,0,0,0,0,0,0,0,0,0,0,0,{"$f":"SUM(BX291:BX292)","v":0},0,0,0,0,0,0,0,0,0,0,0,0,0,0,0,0,0,0,0,0,0,0,0,0,0,0,0,0,0,0,0,0,0,0,0,0,0,0,0,0,0,0,0,0,0,0,0,0,0,0,0,0,0,0,0,0,0,0,0,0,0,0,0,{"$f":"SUM(EJ291:EJ292)","v":0},0,0,0,0,0,0,0,0,0,0,0,0,0,0,0,0,0,0,0,0,{"$f":"SUM(FE291:FE292)","v":0},0,0,0,0,0,0,0,0,0,0,0,0,0,0,0,0,0,0,0,0,0,0,0,0,0,0,0,0,0,0,0,0,0,0,0,0,0,0,0,0,0,0,0,0,0,0,0,0,0,0,0,{"$f":"SUM(HE291:HE292)","v":0},0,0,0,0,0,0,0,0,0,0,0,0,0,0,0,0,0,0,0,0,0,0,0,0,0,0,0,0,0,0,0,0,0,0,0,0,0,0,0,0,0,0,0,0,0,0,0,0,0,0,0,0,0,0,0,0,0,0,0,0,0,0,0,{"$f":"SUM(JQ291:JQ292)","v":0},0,0,0,0,0,0,0,0,0,0,0,0,0,0,0,0,0,0,0,0,0,0,0,0,0,{"$f":"SUM(KQ291:KQ292)","v":0},0,0,0,0,0,0,0,0,0,0,0,0,0,0,0,0,0,0,0,0,0,0,0,0,0,0,0,0,0,{"$f":"SUM(LU291:LU292)","v":0},0,0,0,0,0,0,{"$f":"SUM(MB291:MB292)","v":0},0,0,0,0,0,0,0,0,0,0,0,0,0,0,0,0,0,0,{"$f":"SUM(MU291:MU292)","v":0},0,0,0,0,0,0,{"$f":"SUM(NB291:NB292)","v":0},0,0,0,0,0,0,0,0,0,0,0,0,0,0,{"$f":"SUM(NQ291:NQ292)","v":0},0,0,0,0,0,0,0,0,0,0,0,0,0,0,0,0,0,0,0,0,0,0,0,0,0,0,0,0,0,0,0,0,0,0,0,0,0,0,0,0,0,0,0,0,0,0,0,0,0,0,0,0,0,0,0,0,0,0,0,0,0,0,0,{"$f":"SUM(QC291:QC292)","v":0},0,0,0,0,0,0,0,0,0,0,0,0,0,0,0,0,0,0,0,0,0,0,0,0,0,0,0,0,0,0,0,0,0,0,0,0,0,0,0,0,0,0,0,0,0,0,0,0,0,0,0,0]
[]
[null,null,null,"Capital Expenditure",null,null,null,{"$f":"SUM(K296:XFD296)","v":-26000},"Lakhs",null,{"$f":"-K175","v":-26000},0,0,0,0,0,0,0,0,0,0,0,0,0,0,0,0,0,0,0,0,0,0,0,0,0,0,0,0,0,0,0,0,0,0,0,0,0,0,0,0,0,0,0,0,0,0,0,0,0,0,0,0,0,0,0,0,0,0,0,0,0,0,0,{"$f":"-BW175","v":0},0,0,0,0,0,0,0,0,0,0,0,0,0,0,0,0,0,0,0,0,0,0,0,0,0,0,0,0,0,0,0,0,0,0,0,0,0,0,0,0,0,0,0,0,0,0,0,0,0,0,0,0,0,0,0,0,0,0,0,0,0,0,0,{"$f":"-EI175","v":0},0,0,0,0,0,0,0,0,0,0,0,0,0,0,0,0,0,0,0,0,0,0,0,0,0,0,0,0,0,0,0,0,0,0,0,0,0,0,0,0,0,0,0,0,0,0,0,0,0,0,0,0,0,0,0,0,0,0,0,0,0,0,0,{"$f":"-GU175","v":0},0,0,0,0,0,0,0,0,0,0,0,0,0,0,0,0,0,0,0,0,0,0,0,0,0,0,0,0,0,0,0,0,0,0,0,0,0,0,0,0,0,0,0,0,0,0,0,0,0,0,0,0,0,0,0,0,0,0,0,0,0,0,0,{"$f":"-JG175","v":0},0,0,0,0,0,0,0,0,0,0,0,0,0,0,0,0,0,0,0,0,0,0,0,0,0,0,0,0,0,0,0,0,0,0,0,0,0,0,0,0,0,0,0,0,0,0,0,0,0,0,0,0,0,0,0,0,0,0,0,0,0,0,0,{"$f":"-LS175","v":0},0,0,0,0,0,0,0,0,0,0,0,0,0,0,0,0,0,0,0,0,0,0,0,0,0,0,0,0,0,0,0,0,0,0,0,0,0,0,0,0,0,0,0,0,0,0,0,0,0,0,0,0,0,0,0,0,0,0,0,0,0,0,0,{"$f":"-OE175","v":0},0,0,0,0,0,0,0,0,0,0,0,0,0,0,0,0,0,0,0,0,0,0,0,0,0,0,0,0,0,0,0,0,0,0,0,0,0,0,0,0,0,0,0,0,0,0,0,0,0,0,0,0,0,0,0,0,0,0,0,0,0,0,0,{"$f":"-QQ175","v":0},0,0,0,0,0,0,0,0,0,0,0,0,0,0,0,0,0,0,0,0,0,0,0,0,0,0,0,0,0,0,0,0,0,0,0,0,0,0]
[null,null,null,"Commitment Fees",null,null,null,0,"Lakhs",null,{"$f":"-K178","v":0},0,0,0,0,0,0,0,0,0,0,0,0,0,0,0,0,0,0,0,0,0,0,0,0,0,0,0,0,0,0,0,0,0,0,0,0,0,0,0,0,0,0,0,0,0,0,0,0,0,0,0,0,0,0,0,0,0,0,0,0,0,0,0,{"$f":"-BW178","v":0},0,0,0,0,0,0,0,0,0,0,0,0,0,0,0,0,0,0,0,0,0,0,0,0,0,0,0,0,0,0,0,0,0,0,0,0,0,0,0,0,0,0,0,0,0,0,0,0,0,0,0,0,0,0,0,0,0,0,0,0,0,0,0,{"$f":"-EI178","v":0},0,0,0,0,0,0,0,0,0,0,0,0,0,0,0,0,0,0,0,0,0,0,0,0,0,0,0,0,0,0,0,0,0,0,0,0,0,0,0,0,0,0,0,0,0,0,0,0,0,0,0,0,0,0,0,0,0,0,0,0,0,0,0,{"$f":"-GU178","v":0},0,0,0,0,0,0,0,0,0,0,0,0,0,0,0,0,0,0,0,0,0,0,0,0,0,0,0,0,0,0,0,0,0,0,0,0,0,0,0,0,0,0,0,0,0,0,0,0,0,0,0,0,0,0,0,0,0,0,0,0,0,0,0,{"$f":"-JG178","v":0},0,0,0,0,0,0,0,0,0,0,0,0,0,0,0,0,0,0,0,0,0,0,0,0,0,0,0,0,0,0,0,0,0,0,0,0,0,0,0,0,0,0,0,0,0,0,0,0,0,0,0,0,0,0,0,0,0,0,0,0,0,0,0,{"$f":"-LS178","v":0},0,0,0,0,0,0,0,0,0,0,0,0,0,0,0,0,0,0,0,0,0,0,0,0,0,0,0,0,0,0,0,0,0,0,0,0,0,0,0,0,0,0,0,0,0,0,0,0,0,0,0,0,0,0,0,0,0,0,0,0,0,0,0,{"$f":"-OE178","v":0},0,0,0,0,0,0,0,0,0,0,0,0,0,0,0,0,0,0,0,0,0,0,0,0,0,0,0,0,0,0,0,0,0,0,0,0,0,0,0,0,0,0,0,0,0,0,0,0,0,0,0,0,0,0,0,0,0,0,0,0,0,0,0,{"$f":"-QQ178","v":0},0,0,0,0,0,0,0,0,0,0,0,0,0,0,0,0,0,0,0,0,0,0,0,0,0,0,0,0,0,0,0,0,0,0,0,0,0,0]
[null,null,null,"Cash from Financing "]
[null,null,null,"Equity Raised",null,null,null,{"$f":"SUM(K303:XFD303)","v":6500},"Lakhs",null,{"$f":"K184","v":6500},0,0,0,0,0,0,0,0,0,0,0,0,0,0,0,0,0,0,0,0,0,0,0,0,0,0,0,0,0,0,0,0,0,0,0,0,0,0,0,0,0,0,0,0,0,0,0,0,0,0,0,0,0,0,0,0,0,0,0,0,0,0,0,{"$f":"BW184","v":0},0,0,0,0,0,0,0,0,0,0,0,0,0,0,0,0,0,0,0,0,0,0,0,0,0,0,0,0,0,0,0,0,0,0,0,0,0,0,0,0,0,0,0,0,0,0,0,0,0,0,0,0,0,0,0,0,0,0,0,0,0,0,0,{"$f":"EI184","v":0},0,0,0,0,0,0,0,0,0,0,0,0,0,0,0,0,0,0,0,0,0,0,0,0,0,0,0,0,0,0,0,0,0,0,0,0,0,0,0,0,0,0,0,0,0,0,0,0,0,0,0,0,0,0,0,0,0,0,0,0,0,0,0,{"$f":"GU184","v":0},0,0,0,0,0,0,0,0,0,0,0,0,0,0,0,0,0,0,0,0,0,0,0,0,0,0,0,0,0,0,0,0,0,0,0,0,0,0,0,0,0,0,0,0,0,0,0,0,0,0,0,0,0,0,0,0,0,0,0,0,0,0,0,{"$f":"JG184","v":0},0,0,0,0,0,0,0,0,0,0,0,0,0,0,0,0,0,0,0,0,0,0,0,0,0,0,0,0,0,0,0,0,0,0,0,0,0,0,0,0,0,0,0,0,0,0,0,0,0,0,0,0,0,0,0,0,0,0,0,0,0,0,0,{"$f":"LS184","v":0},0,0,0,0,0,0,0,0,0,0,0,0,0,0,0,0,0,0,0,0,0,0,0,0,0,0,0,0,0,0,0,0,0,0,0,0,0,0,0,0,0,0,0,0,0,0,0,0,0,0,0,0,0,0,0,0,0,0,0,0,0,0,0,{"$f":"OE184","v":0},0,0,0,0,0,0,0,0,0,0,0,0,0,0,0,0,0,0,0,0,0,0,0,0,0,0,0,0,0,0,0,0,0,0,0,0,0,0,0,0,0,0,0,0,0,0,0,0,0,0,0,0,0,0,0,0,0,0,0,0,0,0,0,{"$f":"QQ184","v":0},0,0,0,0,0,0,0,0,0,0,0,0,0,0,0,0,0,0,0,0,0,0,0,0,0,0,0,0,0,0,0,0,0,0,0,0,0,0]
[null,null,null,"Debt Service Paid",null,null,null,-44153.299601707862,"Lakhs",null,{"$f":"-K263","v":0},{"$f":"-L263","v":-1436.7898344057044},-1498.7131770723829,-1563.2889392022462,-1630.6298840602146,-1700.8535244420109,-1774.082320384397,-1850.4438849813853,-1930.0711986320787,-2013.1028320585285,-2099.6831784451952,-2189.9626950652682,-2284.0981547733218,-2382.252907758505,-2484.5971539677298,-2591.3082266241677,-2702.5708872828,-2818.5776328817678,-2939.5290152659413,-3065.6339736774421,-3197.1101807267764,0,0,0,0,0,0,0,0,0,0,0,0,0,0,0,0,0,0,0,0,0,0,0,0,0,0,0,0,0,0,0,0,0,0,0,0,0,0,0,0,0,0,0,0,{"$f":"-BX263","v":0},0,0,0,0,0,0,0,0,0,0,0,0,0,0,0,0,0,0,0,0,0,0,0,0,0,0,0,0,0,0,0,0,0,0,0,0,0,0,0,0,0,0,0,0,0,0,0,0,0,0,0,0,0,0,0,0,0,0,0,0,0,0,0,{"$f":"-EJ263","v":0},0,0,0,0,0,0,0,0,0,0,0,0,0,0,0,0,0,0,0,0,0,0,0,0,0,0,0,0,0,0,0,0,0,0,0,0,0,0,0,0,0,0,0,0,0,0,0,0,0,0,0,0,0,0,0,0,0,0,0,0,0,0,0,{"$f":"-GV263","v":0},0,0,0,0,0,0,0,0,0,0,0,0,0,0,0,0,0,0,0,0,0,0,0,0,0,0,0,0,0,0,0,0,0,0,0,0,0,0,0,0,0,0,0,0,0,0,0,0,0,0,0,0,0,0,0,0,0,0,0,0,0,0,0,{"$f":"-JH263","v":0},0,0,0,0,0,0,0,0,0,0,0,0,0,0,0,0,0,0,0,0,0,0,0,0,0,0,0,0,0,0,0,0,0,0,0,0,0,0,0,0,0,0,0,0,0,0,0,0,0,0,0,0,0,0,0,0,0,0,0,0,0,0,0,{"$f":"-LT263","v":0},0,0,0,0,0,0,0,{"$f":"-MB263","v":0},0,0,0,0,0,0,0,0,0,0,0,0,0,0,0,0,0,0,{"$f":"-MU263","v":0},0,0,0,0,0,0,{"$f":"-NB263","v":0},0,0,0,0,0,0,0,0,0,0,0,0,0,0,{"$f":"-NQ263","v":0},0,0,0,0,0,0,0,0,0,0,0,0,0,0,0,0,0,0,0,0,0,0,0,0,0,0,0,0,0,0,0,0,0,0,0,0,0,0,0,0,0,0,0,0,0,0,0,0,0,0,0,0,0,0,0,0,0,0,0,0,0,0,0,{"$f":"-QC263","v":0},0,0,0,0,0,0,0,0,0,0,0,0,0,0,0,0,0,0,0,0,0,0,0,0,0,0,0,0,0,0,0,0,0,0,0,0,0,0,0,0,0,0,0,0,0,0,0,0,0,0,0,0]
[]
[null,null,"Balance Sheet"]
[null,null,"Assets"]
[null,null,null,"Accumulated Depreciation",null,null,null,null,"Lakhs",null,{"$f":"J314+K282","v":0},{"$f":"K314+L282","v":1040},2080,3120,4160,5200,6240,7280,8320,9360,10400,11440,12480,13520,14560,15600,16640,17680,18720,19760,20800,21840,22880,23920,24960,26000,26000,26000,26000,26000,26000,26000,26000,26000,26000,26000,26000,26000,26000,26000,26000,26000,26000,26000,26000,26000,26000,26000,26000,26000,26000,26000,26000,26000,26000,26000,26000,26000,26000,26000,26000,26000,26000,26000,26000,{"$f":"BW314+BX282","v":26000},26000,26000,26000,26000,26000,26000,26000,26000,26000,26000,26000,26000,26000,26000,26000,26000,26000,26000,26000,26000,26000,26000,26000,26000,26000,26000,26000,26000,26000,26000,26000,26000,26000,26000,26000,26000,26000,26000,26000,26000,26000,26000,26000,26000,26000,26000,26000,26000,26000,26000,26000,26000,26000,26000,26000,26000,26000,26000,26000,26000,26000,26000,26000,{"$f":"EI314+EJ282","v":26000},26000,26000,26000,26000,26000,26000,26000,26000,26000,26000,26000,26000,26000,26000,26000,26000,26000,26000,26000,26000,26000,26000,26000,26000,26000,26000,26000,26000,26000,26000,26000,26000,26000,26000,26000,26000,26000,26000,26000,26000,26000,26000,26000,26000,26000,26000,26000,26000,26000,26000,26000,26000,26000,26000,26000,26000,26000,26000,26000,26000,26000,26000,26000,{"$f":"GU314+GV282","v":26000},26000,26000,26000,26000,26000,26000,26000,26000,26000,26000,26000,26000,26000,26000,26000,26000,26000,26000,26000,26000,26000,26000,26000,26000,26000,26000,26000,26000,26000,26000,26000,26000,26000,26000,26000,26000,26000,26000,26000,26000,26000,26000,26000,26000,26000,26000,26000,26000,26000,26000,26000,26000,26000,26000,26000,26000,26000,26000,26000,26000,26000,26000,26000,{"$f":"JG314+JH282","v":26000},26000,26000,26000,26000,26000,26000,26000,26000,26000,26000,26000,26000,26000,26000,26000,26000,26000,26000,26000,26000,26000,26000,26000,26000,26000,26000,26000,26000,26000,26000,26000,26000,26000,26000,26000,26000,26000,26000,26000,26000,26000,26000,26000,26000,26000,26000,26000,26000,26000,26000,26000,26000,26000,26000,26000,26000,26000,26000,26000,26000,26000,26000,26000,{"$f":"LS314+LT282","v":26000},{"$f":"LT314+LU282","v":26000},{"$f":"LU314+LV282","v":26000},{"$f":"LV314+LW282","v":26000},{"$f":"LW314+LX282","v":26000},{"$f":"LX314+LY282","v":26000},{"$f":"LY314+LZ282","v":26000},{"$f":"LZ314+MA282","v":26000},{"$f":"MA314+MB282","v":26000},{"$f":"MB314+MC282","v":26000},{"$f":"MC314+MD282","v":26000},{"$f":"MD314+ME282","v":26000},{"$f":"ME314+MF282","v":26000},{"$f":"MF314+MG282","v":26000},{"$f":"MG314+MH282","v":26000},{"$f":"MH314+MI282","v":26000},{"$f":"MI314+MJ282","v":26000},{"$f":"MJ314+MK282","v":26000},{"$f":"MK314+ML282","v":26000},{"$f":"ML314+MM282","v":26000},{"$f":"MM314+MN282","v":26000},{"$f":"MN314+MO282","v":26000},{"$f":"MO314+MP282","v":26000},{"$f":"MP314+MQ282","v":26000},{"$f":"MQ314+MR282","v":26000},{"$f":"MR314+MS282","v":26000},{"$f":"MS314+MT282","v":26000},{"$f":"MT314+MU282","v":26000},{"$f":"MU314+MV282","v":26000},{"$f":"MV314+MW282","v":26000},{"$f":"MW314+MX282","v":26000},{"$f":"MX314+MY282","v":26000},{"$f":"MY314+MZ282","v":26000},{"$f":"MZ314+NA282","v":26000},{"$f":"NA314+NB282","v":26000},{"$f":"NB314+NC282","v":26000},{"$f":"NC314+ND282","v":26000},{"$f":"ND314+NE282","v":26000},{"$f":"NE314+NF282","v":26000},{"$f":"NF314+NG282","v":26000},{"$f":"NG314+NH282","v":26000},{"$f":"NH314+NI282","v":26000},{"$f":"NI314+NJ282","v":26000},{"$f":"NJ314+NK282","v":26000},{"$f":"NK314+NL282","v":26000},{"$f":"NL314+NM282","v":26000},{"$f":"NM314+NN282","v":26000},{"$f":"NN314+NO282","v":26000},{"$f":"NO314+NP282","v":26000},{"$f":"NP314+NQ282","v":26000},{"$f":"NQ314+NR282","v":26000},{"$f":"NR314+NS282","v":26000},{"$f":"NS314+NT282","v":26000},{"$f":"NT314+NU282","v":26000},{"$f":"NU314+NV282","v":26000},{"$f":"NV314+NW282","v":26000},{"$f":"NW314+NX282","v":26000},{"$f":"NX314+NY282","v":26000},{"$f":"NY314+NZ282","v":26000},{"$f":"NZ314+OA282","v":26000},{"$f":"OA314+OB282","v":26000},{"$f":"OB314+OC282","v":26000},{"$f":"OC314+OD282","v":26000},{"$f":"OD314+OE282","v":26000},{"$f":"OE314+OF282","v":26000},{"$f":"OF314+OG282","v":26000},{"$f":"OG314+OH282","v":26000},{"$f":"OH314+OI282","v":26000},{"$f":"OI314+OJ282","v":26000},{"$f":"OJ314+OK282","v":26000},{"$f":"OK314+OL282","v":26000},{"$f":"OL314+OM282","v":26000},{"$f":"OM314+ON282","v":26000},{"$f":"ON314+OO282","v":26000},{"$f":"OO314+OP282","v":26000},{"$f":"OP314+OQ282","v":26000},{"$f":"OQ314+OR282","v":26000},{"$f":"OR314+OS282","v":26000},{"$f":"OS314+OT282","v":26000},{"$f":"OT314+OU282","v":26000},{"$f":"OU314+OV282","v":26000},{"$f":"OV314+OW282","v":26000},{"$f":"OW314+OX282","v":26000},{"$f":"OX314+OY282","v":26000},{"$f":"OY314+OZ282","v":26000},{"$f":"OZ314+PA282","v":26000},{"$f":"PA314+PB282","v":26000},{"$f":"PB314+PC282","v":26000},{"$f":"PC314+PD282","v":26000},{"$f":"PD314+PE282","v":26000},{"$f":"PE314+PF282","v":26000},{"$f":"PF314+PG282","v":26000},{"$f":"PG314+PH282","v":26000},{"$f":"PH314+PI282","v":26000},{"$f":"PI314+PJ282","v":26000},{"$f":"PJ314+PK282","v":26000},{"$f":"PK314+PL282","v":26000},{"$f":"PL314+PM282","v":26000},{"$f":"PM314+PN282","v":26000},{"$f":"PN314+PO282","v":26000},{"$f":"PO314+PP282","v":26000},{"$f":"PP314+PQ282","v":26000},{"$f":"PQ314+PR282","v":26000},{"$f":"PR314+PS282","v":26000},{"$f":"PS314+PT282","v":26000},{"$f":"PT314+PU282","v":26000},{"$f":"PU314+PV282","v":26000},{"$f":"PV314+PW282","v":26000},{"$f":"PW314+PX282","v":26000},{"$f":"PX314+PY282","v":26000},{"$f":"PY314+PZ282","v":26000},{"$f":"PZ314+QA282","v":26000},{"$f":"QA314+QB282","v":26000},{"$f":"QB314+QC282","v":26000},{"$f":"QC314+QD282","v":26000},{"$f":"QD314+QE282","v":26000},{"$f":"QE314+QF282","v":26000},{"$f":"QF314+QG282","v":26000},{"$f":"QG314+QH282","v":26000},{"$f":"QH314+QI282","v":26000},{"$f":"QI314+QJ282","v":26000},{"$f":"QJ314+QK282","v":26000},{"$f":"QK314+QL282","v":26000},{"$f":"QL314+QM282","v":26000},{"$f":"QM314+QN282","v":26000},{"$f":"QN314+QO282","v":26000},{"$f":"QO314+QP282","v":26000},{"$f":"QP314+QQ282","v":26000},{"$f":"QQ314+QR282","v":26000},{"$f":"QR314+QS282","v":26000},{"$f":"QS314+QT282","v":26000},{"$f":"QT314+QU282","v":26000},{"$f":"QU314+QV282","v":26000},{"$f":"QV314+QW282","v":26000},{"$f":"QW314+QX282","v":26000},{"$f":"QX314+QY282","v":26000},{"$f":"QY314+QZ282","v":26000},{"$f":"QZ314+RA282","v":26000},{"$f":"RA314+RB282","v":26000},{"$f":"RB314+RC282","v":26000},{"$f":"RC314+RD282","v":26000},{"$f":"RD314+RE282","v":26000},{"$f":"RE314+RF282","v":26000},{"$f":"RF314+RG282","v":26000},{"$f":"RG314+RH282","v":26000},{"$f":"RH314+RI282","v":26000},{"$f":"RI314+RJ282","v":26000},{"$f":"RJ314+RK282","v":26000},{"$f":"RK314+RL282","v":26000},{"$f":"RL314+RM282","v":26000},{"$f":"RM314+RN282","v":26000},{"$f":"RN314+RO282","v":26000},{"$f":"RO314+RP282","v":26000},{"$f":"RP314+RQ282","v":26000},{"$f":"RQ314+RR282","v":26000},{"$f":"RR314+RS282","v":26000},{"$f":"RS314+RT282","v":26000},{"$f":"RT314+RU282","v":26000},{"$f":"RU314+RV282","v":26000},{"$f":"RV314+RW282","v":26000},{"$f":"RW314+RX282","v":26000},{"$f":"RX314+RY282","v":26000},{"$f":"RY314+RZ282","v":26000},{"$f":"RZ314+SA282","v":26000},{"$f":"SA314+SB282","v":26000},{"$f":"SB314+SC282","v":26000}]
[null,null,null,"Total Assets",null,null,null,null,null,null,{"$f":"K315+K316","v":26000},{"$f":"L315+L316","v":24960},23920,22880,21840,20800,19760,18720,17680,16640,15600,14560,13520,12480,11440,10400,9360,8320,7280,6240,5200,4160,3120,2080,1040,0,0,0,0,0,0,0,0,0,0,0,0,0,0,0,0,0,0,0,0,0,0,0,0,0,0,0,0,0,0,0,0,0,0,0,0,0,0,0,0,{"$f":"BX315+BX316","v":0},0,0,0,0,0,0,0,0,0,0,0,0,0,0,0,0,0,0,0,0,0,0,0,0,0,0,0,0,0,0,0,0,0,0,0,0,0,0,0,0,0,0,0,0,0,0,0,0,0,0,0,0,0,0,0,0,0,0,0,0,0,0,0,{"$f":"EJ315+EJ316","v":0},0,0,0,0,0,0,0,0,0,0,0,0,0,0,0,0,0,0,0,0,0,0,0,0,0,0,0,0,0,0,0,0,0,0,0,0,0,0,0,0,0,0,0,0,0,0,0,0,0,0,0,0,0,0,0,0,0,0,0,0,0,0,0,{"$f":"GV315+GV316","v":0},0,0,0,0,0,0,0,0,0,0,0,0,0,0,0,0,0,0,0,0,0,0,0,0,0,0,0,0,0,0,0,0,0,0,0,0,0,0,0,0,0,0,0,0,0,0,0,0,0,0,0,0,0,0,0,0,0,0,0,0,0,0,0,{"$f":"JH315+JH316","v":0},0,0,0,0,0,0,0,0,0,0,0,0,0,0,0,0,0,0,0,0,0,0,0,0,0,0,0,0,0,0,0,0,0,0,0,0,0,0,0,0,0,0,0,0,0,0,0,0,0,0,0,0,0,0,0,0,0,0,0,0,0,0,0,{"$f":"LT315+LT316","v":0},0,0,0,0,0,0,0,{"$f":"MB315+MB316","v":0},0,0,0,0,0,0,0,0,0,0,0,0,0,0,0,0,0,0,{"$f":"MU315+MU316","v":0},0,0,0,0,0,0,{"$f":"NB315+NB316","v":0},0,0,0,0,0,0,0,0,0,0,0,0,0,0,{"$f":"NQ315+NQ316","v":0},0,0,0,0,0,0,0,0,0,0,0,0,0,0,0,0,0,0,0,0,0,0,0,0,0,0,0,0,0,0,0,0,0,0,0,0,0,0,0,0,0,0,0,0,0,0,0,0,0,0,0,0,0,0,0,0,0,0,0,0,0,0,0,{"$f":"QC315+QC316","v":0},0,0,0,0,0,0,0,0,0,0,0,0,0,0,0,0,0,0,0,0,0,0,0,0,0,0,0,0,0,0,0,0,0,0,0,0,0,0,0,0,0,0,0,0,0,0,0,0,0,0,0,0]
[null,null,null,"Debt",null,null,null,null,"Lakhs",null,{"$f":"K191","v":19500},19623.210165594297,19694.353801769459,19706.613166708768,19652.512335985255,19523.859798422065,19311.686261911433,19006.177277882962,18596.600261481519,18071.225450341513,17417.240307923639,16620.656837492261,15666.211229718319,14537.25522033728,13215.638483996532,11681.581336092087,9913.5369556966543,7888.0422792706195,5579.5566463463274,2960.2872043765915,-5.7752913562580943E-11,-6.2373146647587417E-11,-6.7362998379394413E-11,-7.2752038249745971E-11,-7.8572201309725648E-11,-8.4857977414503701E-11,-8.4857977414503701E-11,-8.4857977414503701E-11,-8.4857977414503701E-11,-8.4857977414503701E-11,-8.4857977414503701E-11,-8.4857977414503701E-11,-8.4857977414503701E-11,-8.4857977414503701E-11,-8.4857977414503701E-11,-8.4857977414503701E-11,-8.4857977414503701E-11,-8.4857977414503701E-11,-8.4857977414503701E-11,-8.4857977414503701E-11,-8.4857977414503701E-11,-8.4857977414503701E-11,-8.4857977414503701E-11,-8.4857977414503701E-11,-8.4857977414503701E-11,-8.4857977414503701E-11,-8.4857977414503701E-11,-8.4857977414503701E-11,-8.4857977414503701E-11,-8.4857977414503701E-11,-8.4857977414503701E-11,-8.4857977414503701E-11,-8.4857977414503701E-11,-8.4857977414503701E-11,-8.4857977414503701E-11,-8.4857977414503701E-11,-8.4857977414503701E-11,-8.4857977414503701E-11,-8.4857977414503701E-11,-8.4857977414503701E-11,-8.4857977414503701E-11,-8.4857977414503701E-11,-8.4857977414503701E-11,-8.4857977414503701E-11,{"$f":"BW191","v":-8.4857977414503701E-11},-8.4857977414503701E-11,-8.4857977414503701E-11,-8.4857977414503701E-11,-8.4857977414503701E-11,-8.4857977414503701E-11,-8.4857977414503701E-11,-8.4857977414503701E-11,-8.4857977414503701E-11,-8.4857977414503701E-11,-8.4857977414503701E-11,-8.4857977414503701E-11,-8.4857977414503701E-11,-8.4857977414503701E-11,-8.4857977414503701E-11,-8.4857977414503701E-11,-8.4857977414503701E-11,-8.4857977414503701E-11,-8.4857977414503701E-11,-8.4857977414503701E-11,-8.4857977414503701E-11,-8.4857977414503701E-11,-8.4857977414503701E-11,-8.4857977414503701E-11,-8.4857977414503701E-11,-8.4857977414503701E-11,-8.4857977414503701E-11,-8.4857977414503701E-11,-8.4857977414503701E-11,-8.4857977414503701E-11,-8.4857977414503701E-11,-8.4857977414503701E-11,-8.4857977414503701E-11,-8.4857977414503701E-11,-8.4857977414503701E-11,-8.4857977414503701E-11,-8.4857977414503701E-11,-8.4857977414503701E-11,-8.4857977414503701E-11,-8.4857977414503701E-11,-8.4857977414503701E-11,-8.4857977414503701E-11,-8.4857977414503701E-11,-8.4857977414503701E-11,-8.4857977414503701E-11,-8.4857977414503701E-11,-8.4857977414503701E-11,-8.4857977414503701E-11,-8.4857977414503701E-11,-8.4857977414503701E-11,-8.4857977414503701E-11,-8.4857977414503701E-11,-8.4857977414503701E-11,-8.4857977414503701E-11,-8.4857977414503701E-11,-8.4857977414503701E-11,-8.4857977414503701E-11,-8.4857977414503701E-11,-8.4857977414503701E-11,-8.4857977414503701E-11,-8.4857977414503701E-11,-8.4857977414503701E-11,-8.4857977414503701E-11,-8.4857977414503701E-11,{"$f":"EI191","v":-8.4857977414503701E-11},-8.4857977414503701E-11,-8.4857977414503701E-11,-8.4857977414503701E-11,-8.4857977414503701E-11,-8.4857977414503701E-11,-8.4857977414503701E-11,-8.4857977414503701E-11,-8.4857977414503701E-11,-8.4857977414503701E-11,-8.4857977414503701E-11,-8.4857977414503701E-11,-8.4857977414503701E-11,-8.4857977414503701E-11,-8.4857977414503701E-11,-8.4857977414503701E-11,-8.4857977414503701E-11,-8.4857977414503701E-11,-8.4857977414503701E-11,-8.4857977414503701E-11,-8.4857977414503701E-11,-8.4857977414503701E-11,-8.4857977414503701E-11,-8.4857977414503701E-11,-8.4857977414503701E-11,-8.4857977414503701E-11,-8.4857977414503701E-11,-8.4857977414503701E-11,-8.4857977414503701E-11,-8.4857977414503701E-11,-8.4857977414503701E-11,-8.4857977414503701E-11,-8.4857977414503701E-11,-8.4857977414503701E-11,-8.4857977414503701E-11,-8.4857977414503701E-11,-8.4857977414503701E-11,-8.4857977414503701E-11,-8.4857977414503701E-11,-8.4857977414503701E-11,-8.4857977414503701E-11,-8.4857977414503701E-11,-8.4857977414503701E-11,-8.4857977414503701E-11,-8.4857977414503701E-11,-8.4857977414503701E-11,-8.4857977414503701E-11,-8.4857977414503701E-11,-8.4857977414503701E-11,-8.4857977414503701E-11,-8.4857977414503701E-11,-8.4857977414503701E-11,-8.4857977414503701E-11,-8.4857977414503701E-11,-8.4857977414503701E-11,-8.4857977414503701E-11,-8.4857977414503701E-11,-8.4857977414503701E-11,-8.4857977414503701E-11,-8.4857977414503701E-11,-8.4857977414503701E-11,-8.4857977414503701E-11,-8.4857977414503701E-11,-8.4857977414503701E-11,{"$f":"GU191","v":-8.4857977414503701E-11},-8.4857977414503701E-11,-8.4857977414503701E-11,-8.4857977414503701E-11,-8.4857977414503701E-11,-8.4857977414503701E-11,-8.4857977414503701E-11,-8.4857977414503701E-11,-8.4857977414503701E-11,-8.4857977414503701E-11,-8.4857977414503701E-11,-8.4857977414503701E-11,-8.4857977414503701E-11,-8.4857977414503701E-11,-8.4857977414503701E-11,-8.4857977414503701E-11,-8.4857977414503701E-11,-8.4857977414503701E-11,-8.4857977414503701E-11,-8.4857977414503701E-11,-8.4857977414503701E-11,-8.4857977414503701E-11,-8.4857977414503701E-11,-8.4857977414503701E-11,-8.4857977414503701E-11,-8.4857977414503701E-11,-8.4857977414503701E-11,-8.4857977414503701E-11,-8.4857977414503701E-11,-8.4857977414503701E-11,-8.4857977414503701E-11,-8.4857977414503701E-11,-8.4857977414503701E-11,-8.4857977414503701E-11,-8.4857977414503701E-11,-8.4857977414503701E-11,-8.4857977414503701E-11,-8.4857977414503701E-11,-8.4857977414503701E-11,-8.4857977414503701E-11,-8.4857977414503701E-11,-8.4857977414503701E-11,-8.4857977414503701E-11,-8.4857977414503701E-11,-8.4857977414503701E-11,-8.4857977414503701E-11,-8.4857977414503701E-11,-8.4857977414503701E-11,-8.4857977414503701E-11,-8.4857977414503701E-11,-8.4857977414503701E-11,-8.4857977414503701E-11,-8.4857977414503701E-11,-8.4857977414503701E-11,-8.4857977414503701E-11,-8.4857977414503701E-11,-8.4857977414503701E-11,-8.4857977414503701E-11,-8.4857977414503701E-11,-8.4857977414503701E-11,-8.4857977414503701E-11,-8.4857977414503701E-11,-8.4857977414503701E-11,-8.4857977414503701E-11,{"$f":"JG191","v":-8.4857977414503701E-11},-8.4857977414503701E-11,-8.4857977414503701E-11,-8.4857977414503701E-11,-8.4857977414503701E-11,-8.4857977414503701E-11,-8.4857977414503701E-11,-8.4857977414503701E-11,-8.4857977414503701E-11,-8.4857977414503701E-11,-8.4857977414503701E-11,-8.4857977414503701E-11,-8.4857977414503701E-11,-8.4857977414503701E-11,-8.4857977414503701E-11,-8.4857977414503701E-11,-8.4857977414503701E-11,-8.4857977414503701E-11,-8.4857977414503701E-11,-8.4857977414503701E-11,-8.4857977414503701E-11,-8.4857977414503701E-11,-8.4857977414503701E-11,-8.4857977414503701E-11,-8.4857977414503701E-11,-8.4857977414503701E-11,-8.4857977414503701E-11,-8.4857977414503701E-11,-8.4857977414503701E-11,-8.4857977414503701E-11,-8.4857977414503701E-11,-8.4857977414503701E-11,-8.4857977414503701E-11,-8.4857977414503701E-11,-8.4857977414503701E-11,-8.4857977414503701E-11,-8.4857977414503701E-11,-8.4857977414503701E-11,-8.4857977414503701E-11,-8.4857977414503701E-11,-8.4857977414503701E-11,-8.4857977414503701E-11,-8.4857977414503701E-11,-8.4857977414503701E-11,-8.4857977414503701E-11,-8.4857977414503701E-11,-8.4857977414503701E-11,-8.4857977414503701E-11,-8.4857977414503701E-11,-8.4857977414503701E-11,-8.4857977414503701E-11,-8.4857977414503701E-11,-8.4857977414503701E-11,-8.4857977414503701E-11,-8.4857977414503701E-11,-8.4857977414503701E-11,-8.4857977414503701E-11,-8.4857977414503701E-11,-8.4857977414503701E-11,-8.4857977414503701E-11,-8.4857977414503701E-11,-8.4857977414503701E-11,-8.4857977414503701E-11,-8.4857977414503701E-11,{"$f":"LS191","v":-8.4857977414503701E-11},-8.4857977414503701E-11,-8.4857977414503701E-11,-8.4857977414503701E-11,-8.4857977414503701E-11,-8.4857977414503701E-11,-8.4857977414503701E-11,-8.4857977414503701E-11,-8.4857977414503701E-11,-8.4857977414503701E-11,-8.4857977414503701E-11,-8.4857977414503701E-11,-8.4857977414503701E-11,-8.4857977414503701E-11,-8.4857977414503701E-11,-8.4857977414503701E-11,-8.4857977414503701E-11,-8.4857977414503701E-11,-8.4857977414503701E-11,-8.4857977414503701E-11,-8.4857977414503701E-11,-8.4857977414503701E-11,-8.4857977414503701E-11,-8.4857977414503701E-11,-8.4857977414503701E-11,-8.4857977414503701E-11,-8.4857977414503701E-11,-8.4857977414503701E-11,-8.4857977414503701E-11,-8.4857977414503701E-11,-8.4857977414503701E-11,-8.4857977414503701E-11,-8.4857977414503701E-11,-8.4857977414503701E-11,-8.4857977414503701E-11,-8.4857977414503701E-11,-8.4857977414503701E-11,-8.4857977414503701E-11,-8.4857977414503701E-11,-8.4857977414503701E-11,-8.4857977414503701E-11,-8.4857977414503701E-11,-8.4857977414503701E-11,-8.4857977414503701E-11,-8.4857977414503701E-11,-8.4857977414503701E-11,-8.4857977414503701E-11,-8.4857977414503701E-11,-8.4857977414503701E-11,-8.4857977414503701E-11,-8.4857977414503701E-11,-8.4857977414503701E-11,-8.4857977414503701E-11,-8.4857977414503701E-11,-8.4857977414503701E-11,-8.4857977414503701E-11,-8.4857977414503701E-11,-8.4857977414503701E-11,-8.4857977414503701E-11,-8.4857977414503701E-11,-8.4857977414503701E-11,-8.4857977414503701E-11,-8.4857977414503701E-11,-8.4857977414503701E-11,{"$f":"OE191","v":-8.4857977414503701E-11},-8.4857977414503701E-11,-8.4857977414503701E-11,-8.4857977414503701E-11,-8.4857977414503701E-11,-8.4857977414503701E-11,-8.4857977414503701E-11,-8.4857977414503701E-11,-8.4857977414503701E-11,-8.4857977414503701E-11,-8.4857977414503701E-11,-8.4857977414503701E-11,-8.4857977414503701E-11,-8.4857977414503701E-11,-8.4857977414503701E-11,-8.4857977414503701E-11,-8.4857977414503701E-11,-8.4857977414503701E-11,-8.4857977414503701E-11,-8.4857977414503701E-11,-8.4857977414503701E-11,-8.4857977414503701E-11,-8.4857977414503701E-11,-8.4857977414503701E-11,-8.4857977414503701E-11,-8.4857977414503701E-11,-8.4857977414503701E-11,-8.4857977414503701E-11,-8.4857977414503701E-11,-8.4857977414503701E-11,-8.4857977414503701E-11,-8.4857977414503701E-11,-8.4857977414503701E-11,-8.4857977414503701E-11,-8.4857977414503701E-11,-8.4857977414503701E-11,-8.4857977414503701E-11,-8.4857977414503701E-11,-8.4857977414503701E-11,-8.4857977414503701E-11,-8.4857977414503701E-11,-8.4857977414503701E-11,-8.4857977414503701E-11,-8.4857977414503701E-11,-8.4857977414503701E-11,-8.4857977414503701E-11,-8.4857977414503701E-11,-8.4857977414503701E-11,-8.4857977414503701E-11,-8.4857977414503701E-11,-8.4857977414503701E-11,-8.4857977414503701E-11,-8.4857977414503701E-11,-8.4857977414503701E-11,-8.4857977414503701E-11,-8.4857977414503701E-11,-8.4857977414503701E-11,-8.4857977414503701E-11,-8.4857977414503701E-11,-8.4857977414503701E-11,-8.4857977414503701E-11,-8.4857977414503701E-11,-8.4857977414503701E-11,-8.4857977414503701E-11,{"$f":"QQ191","v":-8.4857977414503701E-11},-8.4857977414503701E-11,-8.4857977414503701E-11,-8.4857977414503701E-11,-8.4857977414503701E-11,-8.4857977414503701E-11,-8.4857977414503701E-11,-8.4857977414503701E-11,-8.4857977414503701E-11,-8.4857977414503701E-11,-8.4857977414503701E-11,-8.4857977414503701E-11,-8.4857977414503701E-11,-8.4857977414503701E-11,-8.4857977414503701E-11,-8.4857977414503701E-11,-8.4857977414503701E-11,-8.4857977414503701E-11,-8.4857977414503701E-11,-8.4857977414503701E-11,-8.4857977414503701E-11,-8.4857977414503701E-11,-8.4857977414503701E-11,-8.4857977414503701E-11,-8.4857977414503701E-11,-8.4857977414503701E-11,-8.4857977414503701E-11,-8.4857977414503701E-11,-8.4857977414503701E-11,-8.4857977414503701E-11,-8.4857977414503701E-11,-8.4857977414503701E-11,-8.4857977414503701E-11,-8.4857977414503701E-11,-8.4857977414503701E-11,-8.4857977414503701E-11,-8.4857977414503701E-11,-8.4857977414503701E-11,-8.4857977414503701E-11]
[]
[null,null,null,"Add: Paid in Capital",null,null,null,null,"Lakhs",null,{"$f":"K303","v":6500},0,0,0,0,0,0,0,0,0,0,0,0,0,0,0,0,0,0,0,0,0,0,0,0,0,0,0,0,0,0,0,0,0,0,0,0,0,0,0,0,0,0,0,0,0,0,0,0,0,0,0,0,0,0,0,0,0,0,0,0,0,0,0,{"$f":"BW303","v":0},0,0,0,0,0,0,0,0,0,0,0,0,0,0,0,0,0,0,0,0,0,0,0,0,0,0,0,0,0,0,0,0,0,0,0,0,0,0,0,0,0,0,0,0,0,0,0,0,0,0,0,0,0,0,0,0,0,0,0,0,0,0,0,{"$f":"EI303","v":0},0,0,0,0,0,0,0,0,0,0,0,0,0,0,0,0,0,0,0,0,0,0,0,0,0,0,0,0,0,0,0,0,0,0,0,0,0,0,0,0,0,0,0,0,0,0,0,0,0,0,0,0,0,0,0,0,0,0,0,0,0,0,0,{"$f":"GU303","v":0},0,0,0,0,0,0,0,0,0,0,0,0,0,0,0,0,0,0,0,0,0,0,0,0,0,0,0,0,0,0,0,0,0,0,0,0,0,0,0,0,0,0,0,0,0,0,0,0,0,0,0,0,0,0,0,0,0,0,0,0,0,0,0,{"$f":"JG303","v":0},0,0,0,0,0,0,0,0,0,0,0,0,0,0,0,0,0,0,0,0,0,0,0,0,0,0,0,0,0,0,0,0,0,0,0,0,0,0,0,0,0,0,0,0,0,0,0,0,0,0,0,0,0,0,0,0,0,0,0,0,0,0,0,0,0,{"$f":"LU303","v":0},0,0,0,0,0,0,{"$f":"MB303","v":0},0,0,0,0,0,0,0,0,0,0,0,0,0,0,0,0,0,0,{"$f":"MU303","v":0},0,0,0,0,0,0,{"$f":"NB303","v":0},0,0,0,0,0,0,0,0,0,0,0,0,0,0,{"$f":"NQ303","v":0},0,0,0,0,0,0,0,0,0,0,0,0,0,0,0,0,0,0,0,0,0,0,0,0,0,0,0,0,0,0,0,0,0,0,0,0,0,0,0,0,0,0,0,0,0,0,0,0,0,0,0,0,0,0,0,0,0,0,0,0,0,0,0,{"$f":"QC303","v":0},0,0,0,0,0,0,0,0,0,0,0,0,0,0,0,0,0,0,0,0,0,0,0,0,0,0,0,0,0,0,0,0,0,0,0,0,0,0,0,0,0,0,0,0,0,0,0,0,0,0,0,0]
[null,null,null,"Less : Dividend",null,null,null,null,"Lakhs",null,{"$f":"-K304","v":0},559.43949139290726,583.98091105571689,609.59588436958666,636.33121911645844,664.2357560393184,693.36045673284798,723.75849531294966,755.4853540265774,788.59892297005786,823.15960409129912,859.23041965863285,896.87712538681717,692.92664136009807,662.47752369225827,641.46595476223547,616.46919387203525,587.06915328132391,552.81004796838215,513.1951992572026,467.68357513378805,3749.8704482485919,3900.3378924038711,4057.2535417649042,4220.8916928686431,4391.5382039897613,0,0,0,0,0,0,0,0,0,0,0,0,0,0,0,0,0,0,0,0,0,0,0,0,0,0,0,0,0,0,0,0,0,0,0,0,0,0,{"$f":"-BW304","v":0},0,0,0,0,0,0,0,0,0,0,0,0,0,0,0,0,0,0,0,0,0,0,0,0,0,0,0,0,0,0,0,0,0,0,0,0,0,0,0,0,0,0,0,0,0,0,0,0,0,0,0,0,0,0,0,0,0,0,0,0,0,0,0,{"$f":"-EI304","v":0},0,0,0,0,0,0,0,0,0,0,0,0,0,0,0,0,0,0,0,0,0,0,0,0,0,0,0,0,0,0,0,0,0,0,0,0,0,0,0,0,0,0,0,0,0,0,0,0,0,0,0,0,0,0,0,0,0,0,0,0,0,0,0,{"$f":"-GU304","v":0},0,0,0,0,0,0,0,0,0,0,0,0,0,0,0,0,0,0,0,0,0,0,0,0,0,0,0,0,0,0,0,0,0,0,0,0,0,0,0,0,0,0,0,0,0,0,0,0,0,0,0,0,0,0,0,0,0,0,0,0,0,0,0,{"$f":"-JG304","v":0},0,0,0,0,0,0,0,0,0,0,0,0,0,0,0,0,0,0,0,0,0,0,0,0,0,0,0,0,0,0,0,0,0,0,0,0,0,0,0,0,0,0,0,0,0,0,0,0,0,0,0,0,0,0,0,0,0,0,0,0,0,0,0,0,0,{"$f":"-LU304","v":0},0,0,0,0,0,0,{"$f":"-MB304","v":0},0,0,0,0,0,0,0,0,0,0,0,0,0,0,0,0,0,0,{"$f":"-MU304","v":0},0,0,0,0,0,0,{"$f":"-NB304","v":0},0,0,0,0,0,0,0,0,0,0,0,0,0,0,{"$f":"-NQ304","v":0},0,0,0,0,0,0,0,0,0,0,0,0,0,0,0,0,0,0,0,0,0,0,0,0,0,0,0,0,0,0,0,0,0,0,0,0,0,0,0,0,0,0,0,0,0,0,0,0,0,0,0,0,0,0,0,0,0,0,0,0,0,0,0,{"$f":"-QC304","v":0},0,0,0,0,0,0,0,0,0,0,0,0,0,0,0,0,0,0,0,0,0,0,0,0,0,0,0,0,0,0,0,0,0,0,0,0,0,0,0,0,0,0,0,0,0,0,0,0,0,0,0,0]
[null,null,null,"Total Liabilities and Capital",null,null,null,null,null,null,{"$f":"K327+K320","v":26000},{"$f":"L327+L320","v":24960},23920,22880,21840,20800,19760,18720,17680,16640,15600,14559.999999999998,13519.999999999996,12479.999999999996,11439.999999999996,10399.999999999998,9359.9999999999982,8319.9999999999982,7279.9999999999982,6239.9999999999982,5199.9999999999982,4159.9999999999982,3119.9999999999986,2079.9999999999991,1039.9999999999986,-1.1844648513943034E-12,-1.1844648513943034E-12,-1.1844648513943034E-12,-1.1844648513943034E-12,-1.1844648513943034E-12,-1.1844648513943034E-12,-1.1844648513943034E-12,-1.1844648513943034E-12,-1.1844648513943034E-12,-1.1844648513943034E-12,-1.1844648513943034E-12,-1.1844648513943034E-12,-1.1844648513943034E-12,-1.1844648513943034E-12,-1.1844648513943034E-12,-1.1844648513943034E-12,-1.1844648513943034E-12,-1.1844648513943034E-12,-1.1844648513943034E-12,-1.1844648513943034E-12,-1.1844648513943034E-12,-1.1844648513943034E-12,-1.1844648513943034E-12,-1.1844648513943034E-12,-1.1844648513943034E-12,-1.1844648513943034E-12,-1.1844648513943034E-12,-1.1844648513943034E-12,-1.1844648513943034E-12,-1.1844648513943034E-12,-1.1844648513943034E-12,-1.1844648513943034E-12,-1.1844648513943034E-12,-1.1844648513943034E-12,-1.1844648513943034E-12,-1.1844648513943034E-12,-1.1844648513943034E-12,-1.1844648513943034E-12,-1.1844648513943034E-12,-1.1844648513943034E-12,{"$f":"BX327+BX320","v":-1.1844648513943034E-12},-1.1844648513943034E-12,-1.1844648513943034E-12,-1.1844648513943034E-12,-1.1844648513943034E-12,-1.1844648513943034E-12,-1.1844648513943034E-12,-1.1844648513943034E-12,-1.1844648513943034E-12,-1.1844648513943034E-12,-1.1844648513943034E-12,-1.1844648513943034E-12,-1.1844648513943034E-12,-1.1844648513943034E-12,-1.1844648513943034E-12,-1.1844648513943034E-12,-1.1844648513943034E-12,-1.1844648513943034E-12,-1.1844648513943034E-12,-1.1844648513943034E-12,-1.1844648513943034E-12,-1.1844648513943034E-12,-1.1844648513943034E-12,-1.1844648513943034E-12,-1.1844648513943034E-12,-1.1844648513943034E-12,-1.1844648513943034E-12,-1.1844648513943034E-12,-1.1844648513943034E-12,-1.1844648513943034E-12,-1.1844648513943034E-12,-1.1844648513943034E-12,-1.1844648513943034E-12,-1.1844648513943034E-12,-1.1844648513943034E-12,-1.1844648513943034E-12,-1.1844648513943034E-12,-1.1844648513943034E-12,-1.1844648513943034E-12,-1.1844648513943034E-12,-1.1844648513943034E-12,-1.1844648513943034E-12,-1.1844648513943034E-12,-1.1844648513943034E-12,-1.1844648513943034E-12,-1.1844648513943034E-12,-1.1844648513943034E-12,-1.1844648513943034E-12,-1.1844648513943034E-12,-1.1844648513943034E-12,-1.1844648513943034E-12,-1.1844648513943034E-12,-1.1844648513943034E-12,-1.1844648513943034E-12,-1.1844648513943034E-12,-1.1844648513943034E-12,-1.1844648513943034E-12,-1.1844648513943034E-12,-1.1844648513943034E-12,-1.1844648513943034E-12,-1.1844648513943034E-12,-1.1844648513943034E-12,-1.1844648513943034E-12,-1.1844648513943034E-12,{"$f":"EJ327+EJ320","v":-1.1844648513943034E-12},-1.1844648513943034E-12,-1.1844648513943034E-12,-1.1844648513943034E-12,-1.1844648513943034E-12,-1.1844648513943034E-12,-1.1844648513943034E-12,-1.1844648513943034E-12,-1.1844648513943034E-12,-1.1844648513943034E-12,-1.1844648513943034E-12,-1.1844648513943034E-12,-1.1844648513943034E-12,-1.1844648513943034E-12,-1.1844648513943034E-12,-1.1844648513943034E-12,-1.1844648513943034E-12,-1.1844648513943034E-12,-1.1844648513943034E-12,-1.1844648513943034E-12,-1.1844648513943034E-12,{"$f":"FE327+FE320","v":-1.1844648513943034E-12},-1.1844648513943034E-12,-1.1844648513943034E-12,-1.1844648513943034E-12,-1.1844648513943034E-12,-1.1844648513943034E-12,-1.1844648513943034E-12,-1.1844648513943034E-12,-1.1844648513943034E-12,-1.1844648513943034E-12,-1.1844648513943034E-12,-1.1844648513943034E-12,-1.1844648513943034E-12,-1.1844648513943034E-12,-1.1844648513943034E-12,-1.1844648513943034E-12,-1.1844648513943034E-12,-1.1844648513943034E-12,-1.1844648513943034E-12,-1.1844648513943034E-12,-1.1844648513943034E-12,-1.1844648513943034E-12,-1.1844648513943034E-12,-1.1844648513943034E-12,-1.1844648513943034E-12,-1.1844648513943034E-12,-1.1844648513943034E-12,-1.1844648513943034E-12,-1.1844648513943034E-12,-1.1844648513943034E-12,-1.1844648513943034E-12,-1.1844648513943034E-12,-1.1844648513943034E-12,-1.1844648513943034E-12,-1.1844648513943034E-12,-1.1844648513943034E-12,-1.1844648513943034E-12,-1.1844648513943034E-12,-1.1844648513943034E-12,-1.1844648513943034E-12,-1.1844648513943034E-12,-1.1844648513943034E-12,-1.1844648513943034E-12,-1.1844648513943034E-12,-1.1844648513943034E-12,-1.1844648513943034E-12,-1.1844648513943034E-12,-1.1844648513943034E-12,-1.1844648513943034E-12,-1.1844648513943034E-12,-1.1844648513943034E-12,-1.1844648513943034E-12,{"$f":"HE327+HE320","v":-1.1844648513943034E-12},-1.1844648513943034E-12,-1.1844648513943034E-12,-1.1844648513943034E-12,-1.1844648513943034E-12,-1.1844648513943034E-12,-1.1844648513943034E-12,-1.1844648513943034E-12,-1.1844648513943034E-12,-1.1844648513943034E-12,-1.1844648513943034E-12,-1.1844648513943034E-12,-1.1844648513943034E-12,-1.1844648513943034E-12,-1.1844648513943034E-12,-1.1844648513943034E-12,-1.1844648513943034E-12,-1.1844648513943034E-12,-1.1844648513943034E-12,-1.1844648513943034E-12,-1.1844648513943034E-12,-1.1844648513943034E-12,-1.1844648513943034E-12,-1.1844648513943034E-12,-1.1844648513943034E-12,-1.1844648513943034E-12,-1.1844648513943034E-12,-1.1844648513943034E-12,-1.1844648513943034E-12,-1.1844648513943034E-12,-1.1844648513943034E-12,-1.1844648513943034E-12,-1.1844648513943034E-12,-1.1844648513943034E-12,-1.1844648513943034E-12,-1.1844648513943034E-12,-1.1844648513943034E-12,-1.1844648513943034E-12,-1.1844648513943034E-12,-1.1844648513943034E-12,-1.1844648513943034E-12,-1.1844648513943034E-12,-1.1844648513943034E-12,-1.1844648513943034E-12,-1.1844648513943034E-12,-1.1844648513943034E-12,-1.1844648513943034E-12,-1.1844648513943034E-12,-1.1844648513943034E-12,-1.1844648513943034E-12,-1.1844648513943034E-12,-1.1844648513943034E-12,-1.1844648513943034E-12,-1.1844648513943034E-12,-1.1844648513943034E-12,-1.1844648513943034E-12,-1.1844648513943034E-12,-1.1844648513943034E-12,-1.1844648513943034E-12,-1.1844648513943034E-12,-1.1844648513943034E-12,-1.1844648513943034E-12,-1.1844648513943034E-12,-1.1844648513943034E-12,{"$f":"JQ327+JQ320","v":-1.1844648513943034E-12},-1.1844648513943034E-12,-1.1844648513943034E-12,-1.1844648513943034E-12,-1.1844648513943034E-12,-1.1844648513943034E-12,-1.1844648513943034E-12,-1.1844648513943034E-12,-1.1844648513943034E-12,-1.1844648513943034E-12,-1.1844648513943034E-12,-1.1844648513943034E-12,-1.1844648513943034E-12,-1.1844648513943034E-12,-1.1844648513943034E-12,-1.1844648513943034E-12,-1.1844648513943034E-12,-1.1844648513943034E-12,-1.1844648513943034E-12,-1.1844648513943034E-12,-1.1844648513943034E-12,-1.1844648513943034E-12,-1.1844648513943034E-12,-1.1844648513943034E-12,-1.1844648513943034E-12,-1.1844648513943034E-12,{"$f":"KQ327+KQ320","v":-1.1844648513943034E-12},-1.1844648513943034E-12,-1.1844648513943034E-12,-1.1844648513943034E-12,-1.1844648513943034E-12,-1.1844648513943034E-12,-1.1844648513943034E-12,-1.1844648513943034E-12,-1.1844648513943034E-12,-1.1844648513943034E-12,-1.1844648513943034E-12,-1.1844648513943034E-12,-1.1844648513943034E-12,-1.1844648513943034E-12,-1.1844648513943034E-12,-1.1844648513943034E-12,-1.1844648513943034E-12,-1.1844648513943034E-12,-1.1844648513943034E-12,-1.1844648513943034E-12,-1.1844648513943034E-12,-1.1844648513943034E-12,-1.1844648513943034E-12,-1.1844648513943034E-12,-1.1844648513943034E-12,-1.1844648513943034E-12,-1.1844648513943034E-12,-1.1844648513943034E-12,-1.1844648513943034E-12,-1.1844648513943034E-12,{"$f":"LU327+LU320","v":-1.1844648513943034E-12},-1.1844648513943034E-12,-1.1844648513943034E-12,-1.1844648513943034E-12,-1.1844648513943034E-12,-1.1844648513943034E-12,-1.1844648513943034E-12,{"$f":"MB327+MB320","v":-1.1844648513943034E-12},-1.1844648513943034E-12,-1.1844648513943034E-12,-1.1844648513943034E-12,-1.1844648513943034E-12,-1.1844648513943034E-12,-1.1844648513943034E-12,-1.1844648513943034E-12,-1.1844648513943034E-12,-1.1844648513943034E-12,-1.1844648513943034E-12,-1.1844648513943034E-12,-1.1844648513943034E-12,-1.1844648513943034E-12,-1.1844648513943034E-12,-1.1844648513943034E-12,-1.1844648513943034E-12,-1.1844648513943034E-12,-1.1844648513943034E-12,{"$f":"MU327+MU320","v":-1.1844648513943034E-12},-1.1844648513943034E-12,-1.1844648513943034E-12,-1.1844648513943034E-12,-1.1844648513943034E-12,-1.1844648513943034E-12,-1.1844648513943034E-12,{"$f":"NB327+NB320","v":-1.1844648513943034E-12},-1.1844648513943034E-12,-1.1844648513943034E-12,-1.1844648513943034E-12,-1.1844648513943034E-12,-1.1844648513943034E-12,-1.1844648513943034E-12,-1.1844648513943034E-12,-1.1844648513943034E-12,-1.1844648513943034E-12,-1.1844648513943034E-12,-1.1844648513943034E-12,-1.1844648513943034E-12,-1.1844648513943034E-12,-1.1844648513943034E-12,{"$f":"NQ327+NQ320","v":-1.1844648513943034E-12},-1.1844648513943034E-12,-1.1844648513943034E-12,-1.1844648513943034E-12,-1.1844648513943034E-12,-1.1844648513943034E-12,-1.1844648513943034E-12,-1.1844648513943034E-12,-1.1844648513943034E-12,-1.1844648513943034E-12,-1.1844648513943034E-12,-1.1844648513943034E-12,-1.1844648513943034E-12,-1.1844648513943034E-12,-1.1844648513943034E-12,-1.1844648513943034E-12,-1.1844648513943034E-12,-1.1844648513943034E-12,-1.1844648513943034E-12,-1.1844648513943034E-12,-1.1844648513943034E-12,-1.1844648513943034E-12,-1.1844648513943034E-12,-1.1844648513943034E-12,-1.1844648513943034E-12,-1.1844648513943034E-12,-1.1844648513943034E-12,-1.1844648513943034E-12,-1.1844648513943034E-12,-1.1844648513943034E-12,-1.1844648513943034E-12,-1.1844648513943034E-12,-1.1844648513943034E-12,-1.1844648513943034E-12,-1.1844648513943034E-12,-1.1844648513943034E-12,-1.1844648513943034E-12,-1.1844648513943034E-12,-1.1844648513943034E-12,-1.1844648513943034E-12,-1.1844648513943034E-12,-1.1844648513943034E-12,-1.1844648513943034E-12,-1.1844648513943034E-12,-1.1844648513943034E-12,-1.1844648513943034E-12,-1.1844648513943034E-12,-1.1844648513943034E-12,-1.1844648513943034E-12,-1.1844648513943034E-12,-1.1844648513943034E-12,-1.1844648513943034E-12,-1.1844648513943034E-12,-1.1844648513943034E-12,-1.1844648513943034E-12,-1.1844648513943034E-12,-1.1844648513943034E-12,-1.1844648513943034E-12,-1.1844648513943034E-12,-1.1844648513943034E-12,-1.1844648513943034E-12,-1.1844648513943034E-12,-1.1844648513943034E-12,-1.1844648513943034E-12,{"$f":"QC327+QC320","v":-1.1844648513943034E-12},-1.1844648513943034E-12,-1.1844648513943034E-12,-1.1844648513943034E-12,-1.1844648513943034E-12,-1.1844648513943034E-12,-1.1844648513943034E-12,-1.1844648513943034E-12,-1.1844648513943034E-12,-1.1844648513943034E-12,-1.1844648513943034E-12,-1.1844648513943034E-12,-1.1844648513943034E-12,-1.1844648513943034E-12,-1.1844648513943034E-12,-1.1844648513943034E-12,-1.1844648513943034E-12,-1.1844648513943034E-12,-1.1844648513943034E-12,-1.1844648513943034E-12,-1.1844648513943034E-12,-1.1844648513943034E-12,-1.1844648513943034E-12,-1.1844648513943034E-12,-1.1844648513943034E-12,-1.1844648513943034E-12,-1.1844648513943034E-12,-1.1844648513943034E-12,-1.1844648513943034E-12,-1.1844648513943034E-12,-1.1844648513943034E-12,-1.1844648513943034E-12,-1.1844648513943034E-12,-1.1844648513943034E-12,-1.1844648513943034E-12,-1.1844648513943034E-12,-1.1844648513943034E-12,-1.1844648513943034E-12,-1.1844648513943034E-12,-1.1844648513943034E-12,-1.1844648513943034E-12,-1.1844648513943034E-12,-1.1844648513943034E-12,-1.1844648513943034E-12,-1.1844648513943034E-12,-1.1844648513943034E-12,-1.1844648513943034E-12,-1.1844648513943034E-12,-1.1844648513943034E-12,-1.1844648513943034E-12,-1.1844648513943034E-12,-1.1844648513943034E-12,-1.1844648513943034E-12]
[]
[null,null,null,"Test",null,null,null,{"$f":"AND(K332:FD332)","v":true},"flag",null,{"$f":"ROUND(K331,0)=0","v":true},{"$f":"ROUND(L331,0)=0","v":true},true,true,true,true,true,true,true,true,true,true,true,true,true,true,true,true,true,true,true,true,true,true,true,true,true,true,true,true,true,true,true,true,true,true,true,true,true,true,true,true,true,true,true,true,true,true,true,true,true,true,true,true,true,true,true,true,true,true,true,true,true,true,true,{"$f":"ROUND(BX331,0)=0","v":true},true,true,true,true,true,true,true,true,true,true,true,true,true,true,true,true,true,true,true,true,true,true,true,true,true,true,true,true,true,true,true,true,true,true,true,true,true,true,true,true,true,true,true,true,true,true,true,true,true,true,true,true,true,true,true,true,true,true,true,true,true,true,true,{"$f":"ROUND(EJ331,0)=0","v":true},true,true,true,true,true,true,true,true,true,true,true,true,true,true,true,true,true,true,true,true,{"$f":"ROUND(FE331,0)=0","v":true},true,true,true,true,true,true,true,true,true,true,true,true,true,true,true,true,true,true,true,true,true,true,true,true,true,true,true,true,true,true,true,true,true,true,true,true,true,true,true,true,true,true,true,true,true,true,true,true,true,true,true,{"$f":"ROUND(HE331,0)=0","v":true},true,true,true,true,true,true,true,true,true,true,true,true,true,true,true,true,true,true,true,true,true,true,true,true,true,true,true,true,true,true,true,true,true,true,true,true,true,true,true,true,true,true,true,true,true,true,true,true,true,true,true,true,true,true,true,true,true,true,true,true,true,true,true,{"$f":"ROUND(JQ331,0)=0","v":true},true,true,true,true,true,true,true,true,true,true,true,true,true,true,true,true,true,true,true,true,true,true,true,true,true,{"$f":"ROUND(KQ331,0)=0","v":true},true,true,true,true,true,true,true,true,true,true,true,true,true,true,true,true,true,true,true,true,true,true,true,true,true,true,true,true,true,{"$f":"ROUND(LU331,0)=0","v":true},true,true,true,true,true,true,{"$f":"ROUND(MB331,0)=0","v":true},true,true,true,true,true,true,true,true,true,true,true,true,true,true,true,true,true,true,{"$f":"ROUND(MU331,0)=0","v":true},true,true,true,true,true,true,{"$f":"ROUND(NB331,0)=0","v":true},true,true,true,true,true,true,true,true,true,true,true,true,true,true,{"$f":"ROUND(NQ331,0)=0","v":true},true,true,true,true,true,true,true,true,true,true,true,true,true,true,true,true,true,true,true,true,true,true,true,true,true,true,true,true,true,true,true,true,true,true,true,true,true,true,true,true,true,true,true,true,true,true,true,true,true,true,true,true,true,true,true,true,true,true,true,true,true,true,true,{"$f":"ROUND(QC331,0)=0","v":true},true,true,true,true,true,true,true,true,true,true,true,true,true,true,true,true,true,true,true,true,true,true,true,true,true,true,true,true,true,true,true,true,true,true,true,true,true,true,true,true,true,true,true,true,true,true,true,true,true,true,true,true]
[null,null,null,"Net Income",null,null,null,null,"Lakhs",null,{"$f":"K287","v":0},{"$f":"L287","v":-603.77067420138837},-527.16272511944408,-442.66348056972402,-349.56795016002843,-247.11170639749116,-134.4660067565203,-10.732520658579688,125.06237042801899,273.97373411006492,437.14474650917327,615.81389009000986,811.32273316075793,781.88265074113747,944.09426003300564,1135.5231026666809,1344.5135742674686,1572.5638297073592,1821.2956808926738,2092.4646412269385,2387.9707795104373,2709.8704482485964,2860.3378924038761,3017.2535417649096,3180.8916928686485,3351.5382039897677,0,0,0,0,0,0,0,0,0,0,0,0,0,0,0,0,0,0,0,0,0,0,0,0,0,0,0,0,0,0,0,0,0,0,0,0,0,0,0,{"$f":"BX287","v":0},0,0,0,0,0,0,0,0,0,0,0,0,0,0,0,0,0,0,0,0,0,0,0,0,0,0,0,0,0,0,0,0,0,0,0,0,0,0,0,0,0,0,0,0,0,0,0,0,0,0,0,0,0,0,0,0,0,0,0,0,0,0,0,{"$f":"EJ287","v":0},0,0,0,0,0,0,0,0,0,0,0,0,0,0,0,0,0,0,0,0,0,0,0,0,0,0,0,0,0,0,0,0,0,0,0,0,0,0,0,0,0,0,0,0,0,0,0,0,0,0,0,0,0,0,0,0,0,0,0,0,0,0,0,{"$f":"GV287","v":0},0,0,0,0,0,0,0,0,0,0,0,0,0,0,0,0,0,0,0,0,0,0,0,0,0,0,0,0,0,0,0,0,0,0,0,0,0,0,0,0,0,0,0,0,0,0,0,0,0,0,0,0,0,0,0,0,0,0,0,0,0,0,0,{"$f":"JH287","v":0},0,0,0,0,0,0,0,0,0,0,0,0,0,0,0,0,0,0,0,0,0,0,0,0,0,0,0,0,0,0,0,0,0,0,0,0,0,0,0,0,0,0,0,0,0,0,0,0,0,0,0,0,0,0,0,0,0,0,0,0,0,0,0,{"$f":"LT287","v":0},0,0,0,0,0,0,0,0,0,0,0,0,0,0,0,0,0,0,0,0,0,0,0,0,0,0,0,0,0,0,0,0,0,0,0,0,0,0,0,0,0,0,0,0,0,0,0,0,0,0,0,0,0,0,0,0,0,0,0,0,0,0,0,{"$f":"OF287","v":0},0,0,0,0,0,0,0,0,0,0,0,0,0,0,0,0,0,0,0,0,0,0,0,0,0,0,0,0,0,0,0,0,0,0,0,0,0,0,0,0,0,0,0,0,0,0,0,0,0,0,0,0,0,0,0,0,0,0,0,0,0,0,0,{"$f":"QR287","v":0},0,0,0,0,0,0,0,0,0,0,0,0,0,0,0,0,0,0,0,0,0,0,0,0,0,0,0,0,0,0,0,0,0,0,0,0,0]
[]
[null,null,null,"EBIT",null,null,null,null,"Lakhs",null,{"$f":"K283","v":0},{"$f":"L283","v":956.22932579861163},1042.6940881280998,1132.8848235718328,1226.9611031766731,1325.0892804813293,1427.442777117245,1534.2023802943349,1645.5565526586561,1761.7017550285864,1882.8427825364943,2009.1931147239011,2140.9752801601389,2278.4212361772652,2421.7727643376566,2571.281882275297,2727.211272577325,2889.8347293988782,3059.4376235318814,3236.3173866769575,3420.7840156973771,3613.1605976647907,3813.7838565384964,4023.0047223532074,4241.1889238248596,4468.7176053196836,0,0,0,0,0,0,0,0,0,0,0,0,0,0,0,0,0,0,0,0,0,0,0,0,0,0,0,0,0,0,0,0,0,0,0,0,0,0,0,{"$f":"BX283","v":0},0,0,0,0,0,0,0,0,0,0,0,0,0,0,0,0,0,0,0,0,0,0,0,0,0,0,0,0,0,0,0,0,0,0,0,0,0,0,0,0,0,0,0,0,0,0,0,0,0,0,0,0,0,0,0,0,0,0,0,0,0,0,0,{"$f":"EJ283","v":0},0,0,0,0,0,0,0,0,0,0,0,0,0,0,0,0,0,0,0,0,0,0,0,0,0,0,0,0,0,0,0,0,0,0,0,0,0,0,0,0,0,0,0,0,0,0,0,0,0,0,0,0,0,0,0,0,0,0,0,0,0,0,0,{"$f":"GV283","v":0},0,0,0,0,0,0,0,0,0,0,0,0,0,0,0,0,0,0,0,0,0,0,0,0,0,0,0,0,0,0,0,0,0,0,0,0,0,0,0,0,0,0,0,0,0,0,0,0,0,0,0,0,0,0,0,0,0,0,0,0,0,0,0,{"$f":"JH283","v":0},0,0,0,0,0,0,0,0,0,0,0,0,0,0,0,0,0,0,0,0,0,0,0,0,0,0,0,0,0,0,0,0,0,0,0,0,0,0,0,0,0,0,0,0,0,0,0,0,0,0,0,0,0,0,0,0,0,0,0,0,0,0,0,{"$f":"LT283","v":0},0,0,0,0,0,0,0,0,0,0,0,0,0,0,0,0,0,0,0,0,0,0,0,0,0,0,0,0,0,0,0,0,0,0,0,0,0,0,0,0,0,0,0,0,0,0,0,0,0,0,0,0,0,0,0,0,0,0,0,0,0,0,0,{"$f":"OF283","v":0},0,0,0,0,0,0,0,0,0,0,0,0,0,0,0,0,0,0,0,0,0,0,0,0,0,0,0,0,0,0,0,0,0,0,0,0,0,0,0,0,0,0,0,0,0,0,0,0,0,0,0,0,0,0,0,0,0,0,0,0,0,0,0,{"$f":"QR283","v":0},0,0,0,0,0,0,0,0,0,0,0,0,0,0,0,0,0,0,0,0,0,0,0,0,0,0,0,0,0,0,0,0,0,0,0,0,0]
[null,null,null,"Return on Invested Capital",null,null,null,null,"%",null,{"$f":"K340/K341","v":0},{"$f":"L340/L341","v":2.814646759611298E-2},3.1997568170870495E-2,3.6310411011917718E-2,4.1154777611024367E-2,4.6614303956894795E-2,5.2790043532442495E-2,5.9805186342034883E-2,6.7811396400768789E-2,7.6997454328172482E-2,8.7601246085755008E-2,9.9926713265446013E-2,0.11436833761539207,0.13144737901022688,0.15186702117502032,0.17659903037605068,0.20702514720981721,0.2451782858652895,0.29417669457037326,0.35905888165794658,0.44852937268759335,0.57903214706166539,0.78580711329776753,1.1604821314480409,2.0390331364542611,6.4452657769034056,0,0,0,0,0,0,0,0,0,0,0,0,0,0,0,0,0,0,0,0,0,0,0,0,0,0,0,0,0,0,0,0,0,0,0,0,0,0,0,{"$f":"BX340/BX341","v":0},0,0,0,0,0,0,0,0,0,0,0,0,0,0,0,0,0,0,0,0,0,0,0,0,0,0,0,0,0,0,0,0,0,0,0,0,0,0,0,0,0,0,0,0,0,0,0,0,0,0,0,0,0,0,0,0,0,0,0,0,0,0,0,{"$f":"EJ340/EJ341","v":0},0,0,0,0,0,0,0,0,0,0,0,0,0,0,0,0,0,0,0,0,0,0,0,0,0,0,0,0,0,0,0,0,0,0,0,0,0,0,0,0,0,0,0,0,0,0,0,0,0,0,0,0,0,0,0,0,0,0,0,0,0,0,0,{"$f":"GV340/GV341","v":0},0,0,0,0,0,0,0,0,0,0,0,0,0,0,0,0,0,0,0,0,0,0,0,0,0,0,0,0,0,0,0,0,0,0,0,0,0,0,0,0,0,0,0,0,0,0,0,0,0,0,0,0,0,0,0,0,0,0,0,0,0,0,0,{"$f":"JH340/JH341","v":0},0,0,0,0,0,0,0,0,0,0,0,0,0,0,0,0,0,0,0,0,0,0,0,0,0,0,0,0,0,0,0,0,0,0,0,0,0,0,0,0,0,0,0,0,0,0,0,0,0,0,0,0,0,0,0,0,0,0,0,0,0,0,0,{"$f":"LT340/LT341","v":0},0,0,0,0,0,0,0,0,0,0,0,0,0,0,0,0,0,0,0,0,0,0,0,0,0,0,0,0,0,0,0,0,0,0,0,0,0,0,0,0,0,0,0,0,0,0,0,0,0,0,0,0,0,0,0,0,0,0,0,0,0,0,0,{"$f":"OF340/OF341","v":0},0,0,0,0,0,0,0,0,0,0,0,0,0,0,0,0,0,0,0,0,0,0,0,0,0,0,0,0,0,0,0,0,0,0,0,0,0,0,0,0,0,0,0,0,0,0,0,0,0,0,0,0,0,0,0,0,0,0,0,0,0,0,0,{"$f":"QR340/QR341","v":0},0,0,0,0,0,0,0,0,0,0,0,0,0,0,0,0,0,0,0,0,0,0,0,0,0,0,0,0,0,0,0,0,0,0,0,0,0]
[null,null,null,"Debt to Capital",null,null,null,null,"%",null,{"$f":"IF(K320+K327>0.1,K320/(K320+K327))","v":0.75},{"$f":"IF(L320+L327>0.1,L320/(L320+L327))","v":0.78618630471131001},0.82334255024119807,0.86130302302048811,0.89984030842423324,0.93864710569336851,0.97731205778904007,1.0152872477501582,1.0518439061923937,1.0860111448522545,1.1164897633284383,1.1415286289486444,1.1587434341507636,1.1648441682962567,1.1552131541955015,1.1232289746242394,1.0591385636428052,0.94808200472002657,0.76642261625636388,0.47440500070137698,-1.110632953126557E-14,-1.499354486720852E-14,-2.159070460878027E-14,-3.4976941466224041E-14,-7.5550193567043986E-14,false,false,false,false,false,false,false,false,false,false,false,false,false,false,false,false,false,false,false,false,false,false,false,false,false,false,false,false,false,false,false,false,false,false,false,false,false,false,false,false,{"$f":"IF(BX320+BX327>0.1,BX320/(BX320+BX327))","v":false},false,false,false,false,false,false,false,false,false,false,false,false,false,false,false,false,false,false,false,false,false,false,false,false,false,false,false,false,false,false,false,false,false,false,false,false,false,false,false,false,false,false,false,false,false,false,false,false,false,false,false,false,false,false,false,false,false,false,false,false,false,false,false,{"$f":"IF(EJ320+EJ327>0.1,EJ320/(EJ320+EJ327))","v":false},false,false,false,false,false,false,false,false,false,false,false,false,false,false,false,false,false,false,false,false,false,false,false,false,false,false,false,false,false,false,false,false,false,false,false,false,false,false,false,false,false,false,false,false,false,false,false,false,false,false,false,false,false,false,false,false,false,false,false,false,false,false,false,{"$f":"IF(GV320+GV327>0.1,GV320/(GV320+GV327))","v":false},false,false,false,false,false,false,false,false,false,false,false,false,false,false,false,false,false,false,false,false,false,false,false,false,false,false,false,false,false,false,false,false,false,false,false,false,false,false,false,false,false,false,false,false,false,false,false,false,false,false,false,false,false,false,false,false,false,false,false,false,false,false,false,{"$f":"IF(JH320+JH327>0.1,JH320/(JH320+JH327))","v":false},false,false,false,false,false,false,false,false,false,false,false,false,false,false,false,false,false,false,false,false,false,false,false,false,false,false,false,false,false,false,false,false,false,false,false,false,false,false,false,false,false,false,false,false,false,false,false,false,false,false,false,false,false,false,false,false,false,false,false,false,false,false,false,{"$f":"IF(LT320+LT327>0.1,LT320/(LT320+LT327))","v":false},false,false,false,false,false,false,false,false,false,false,false,false,false,false,false,false,false,false,false,false,false,false,false,false,false,false,false,false,false,false,false,false,false,false,false,false,false,false,false,false,false,false,false,false,false,false,false,false,false,false,false,false,false,false,false,false,false,false,false,false,false,false,false,{"$f":"IF(OF320+OF327>0.1,OF320/(OF320+OF327))","v":false},false,false,false,false,false,false,false,false,false,false,false,false,false,false,false,false,false,false,false,false,false,false,false,false,false,false,false,false,false,false,false,false,false,false,false,false,false,false,false,false,false,false,false,false,false,false,false,false,false,false,false,false,false,false,false,false,false,false,false,false,false,false,false,{"$f":"IF(QR320+QR327>0.1,QR320/(QR320+QR327))","v":false},false,false,false,false,false,false,false,false,false,false,false,false,false,false,false,false,false,false,false,false,false,false,false,false,false,false,false,false,false,false,false,false,false,false,false,false,false]
[null,"Valuation and Project sale"]
[]
[null,null,null,"Project Cash Flow Pre-tax",null,null,null,null,"Lakhs",null,{"$f":"K54","v":-26000},1996.2293257986116,2082.6940881280998,2172.8848235718328,2266.9611031766731,2365.0892804813293,2467.442777117245,2574.2023802943349,2685.5565526586561,2801.7017550285864,2922.8427825364943,3049.1931147239011,3180.9752801601389,3318.4212361772652,3461.7727643376566,3611.281882275297,3767.211272577325,3929.8347293988782,4099.4376235318814,4276.3173866769575,4460.7840156973771,4653.1605976647907,4853.7838565384964,5063.0047223532074,5281.1889238248596,5508.7176053196836,0,0,0,0,0,0,0,0,0,0,0,0,0,0,0,0,0,0,0,0,0,0,0,0,0,0,0,0,0,0,0,0,0,0,0,0,0,0,{"$f":"BW54","v":0},0,0,0,0,0,0,0,0,0,0,0,0,0,0,0,0,0,0,0,0,0,0,0,0,0,0,0,0,0,0,0,0,0,0,0,0,0,0,0,0,0,0,0,0,0,0,0,0,0,0,0,0,0,0,0,0,0,0,0,0,0,0,0,{"$f":"EI54","v":0},0,0,0,0,0,0,0,0,0,0,0,0,0,0,0,0,0,0,0,0,0,0,0,0,0,0,0,0,0,0,0,0,0,0,0,0,0,0,0,0,0,0,0,0,0,0,0,0,0,0,0,0,0,0,0,0,0,0,0,0,0,0,0,{"$f":"GU54","v":0},0,0,0,0,0,0,0,0,0,0,0,0,0,0,0,0,0,0,0,0,0,0,0,0,0,0,0,0,0,0,0,0,0,0,0,0,0,0,0,0,0,0,0,0,0,0,0,0,0,0,0,0,0,0,0,0,0,0,0,0,0,0,0,{"$f":"JG54","v":0},0,0,0,0,0,0,0,0,0,0,0,0,0,0,0,0,0,0,0,0,0,0,0,0,0,0,0,0,0,0,0,0,0,0,0,0,0,0,0,0,0,0,0,0,0,0,0,0,0,0,0,0,0,0,0,0,0,0,0,0,0,0,0,{"$f":"LS54","v":0},0,0,0,0,0,0,0,0,0,0,0,0,0,0,0,0,0,0,0,0,0,0,0,0,0,0,0,0,0,0,0,0,0,0,0,0,0,0,0,0,0,0,0,0,0,0,0,0,0,0,0,0,0,0,0,0,0,0,0,0,0,0,0,{"$f":"OE54","v":0},0,0,0,0,0,0,0,0,0,0,0,0,0,0,0,0,0,0,0,0,0,0,0,0,0,0,0,0,0,0,0,0,0,0,0,0,0,0,0,0,0,0,0,0,0,0,0,0,0,0,0,0,0,0,0,0,0,0,0,0,0,0,0,{"$f":"QQ54","v":0},0,0,0,0,0,0,0,0,0,0,0,0,0,0,0,0,0,0,0,0,0,0,0,0,0,0,0,0,0,0,0,0,0,0,0,0,0,0]
[null,null,"Project value",null,null,"EOP","Adjusted"]
[null,null,null,"Equity IRR","%",{"$f":"XIRR(K385:SC385,K9:SC9)","v":0.1194887101650238},{"$f":"XIRR(K385:SC385,K349:SC349)","v":0.12567459940910342}]
[]
[null,null,null,"Sale Date","Years/Periods",{"$f":"'Input C'!F84","v":4},{"$f":"F360*Months/G7","v":4},null,"Flag",null,{"$f":"K359=$G$360","v":false},false,false,false,true,false,false,false,false,false,false,false,false,false,false,false,false,false,false,false,false,false,false,false,false,false,false,false,false,false,false,false,false,false,false,false,false,false,false,false,false,false,false,false,false,false,false,false,false,false,false,false,false,false,false,false,false,false,false,false,false,false,false,false,{"$f":"BW359=$G$360","v":false},false,false,false,false,false,false,false,false,false,false,false,false,false,false,false,false,false,false,false,false,false,false,false,false,false,false,false,false,false,false,false,false,false,false,false,false,false,false,false,false,false,false,false,false,false,false,false,false,false,false,false,false,false,false,false,false,false,false,false,false,false,false,false,{"$f":"EI359=$G$360","v":false},false,false,false,false,false,false,false,false,false,false,false,false,false,false,false,false,false,false,false,false,false,false,false,false,false,false,false,false,false,false,false,false,false,false,false,false,false,false,false,false,false,false,false,false,false,false,false,false,false,false,false,false,false,false,false,false,false,false,false,false,false,false,false,{"$f":"GU359=$G$360","v":false},false,false,false,false,false,false,false,false,false,false,false,false,false,false,false,false,false,false,false,false,false,false,false,false,false,false,false,false,false,false,false,false,false,false,false,false,false,false,false,false,false,false,false,false,false,false,false,false,false,false,false,false,false,false,false,false,false,false,false,false,false,false,false,{"$f":"JG359=$G$360","v":false},false,false,false,false,false,false,false,false,false,false,false,false,false,false,false,false,false,false,false,false,false,false,false,false,false,false,false,false,false,false,false,false,false,false,false,false,false,false,false,false,false,false,false,false,false,false,false,false,false,false,false,false,false,false,false,false,false,false,false,false,false,false,false,{"$f":"LS359=$G$360","v":false},false,false,false,false,false,false,false,false,false,false,false,false,false,false,false,false,false,false,false,false,false,false,false,false,false,false,false,false,false,false,false,false,false,false,false,false,false,false,false,false,false,false,false,false,false,false,false,false,false,false,false,false,false,false,false,false,false,false,false,false,false,false,false,{"$f":"OE359=$G$360","v":false},false,false,false,false,false,false,false,false,false,false,false,false,false,false,false,false,false,false,false,false,false,false,false,false,false,false,false,false,false,false,false,false,false,false,false,false,false,false,false,false,false,false,false,false,false,false,false,false,false,false,false,false,false,false,false,false,false,false,false,false,false,false,false,{"$f":"QQ359=$G$360","v":false},false,false,false,false,false,false,false,false,false,false,false,false,false,false,false,false,false,false,false,false,false,false,false,false,false,false,false,false,false,false,false,false,false,false,false,false,false,false]
[]
[]
[null,null,null,"Cash flow over holding period",null,null,null,{"$f":"SUM(K366:XFD366)","v":-17481.230659324781},"Lakhs",null,{"$f":"K361*K84","v":-26000},1996.2293257986116,2082.6940881280998,2172.8848235718328,2266.9611031766731,0,0,0,0,0,0,0,0,0,0,0,0,0,0,0,0,0,0,0,0,0,0,0,0,0,0,0,0,0,0,0,0,0,0,0,0,0,0,0,0,0,0,0,0,0,0,0,0,0,0,0,0,0,0,0,0,0,0,0,{"$f":"BW361*BW84","v":0},0,0,0,0,0,0,0,0,0,0,0,0,0,0,0,0,0,0,0,0,0,0,0,0,0,0,0,0,0,0,0,0,0,0,0,0,0,0,0,0,0,0,0,0,0,0,0,0,0,0,0,0,0,0,0,0,0,0,0,0,0,0,0,{"$f":"EI361*EI84","v":0},0,0,0,0,0,0,0,0,0,0,0,0,0,0,0,0,0,0,0,0,0,0,0,0,0,0,0,0,0,0,0,0,0,0,0,0,0,0,0,0,0,0,0,0,0,0,0,0,0,0,0,0,0,0,0,0,0,0,0,0,0,0,0,{"$f":"GU361*GU84","v":0},0,0,0,0,0,0,0,0,0,0,0,0,0,0,0,0,0,0,0,0,0,0,0,0,0,0,0,0,0,0,0,0,0,0,0,0,0,0,0,0,0,0,0,0,0,0,0,0,0,0,0,0,0,0,0,0,0,0,0,0,0,0,0,{"$f":"JG361*JG84","v":0},0,0,0,0,0,0,0,0,0,0,0,0,0,0,0,0,0,0,0,0,0,0,0,0,0,0,0,0,0,0,0,0,0,0,0,0,0,0,0,0,0,0,0,0,0,0,0,0,0,0,0,0,0,0,0,0,0,0,0,0,0,0,0,{"$f":"LS361*LS84","v":0},0,0,0,0,0,0,0,0,0,0,0,0,0,0,0,0,0,0,0,0,0,0,0,0,0,0,0,0,0,0,0,0,0,0,0,0,0,0,0,0,0,0,0,0,0,0,0,0,0,0,0,0,0,0,0,0,0,0,0,0,0,0,0,{"$f":"OE361*OE84","v":0},0,0,0,0,0,0,0,0,0,0,0,0,0,0,0,0,0,0,0,0,0,0,0,0,0,0,0,0,0,0,0,0,0,0,0,0,0,0,0,0,0,0,0,0,0,0,0,0,0,0,0,0,0,0,0,0,0,0,0,0,0,0,0,{"$f":"QQ361*QQ84","v":0},0,0,0,0,0,0,0,0,0,0,0,0,0,0,0,0,0,0,0,0,0,0,0,0,0,0,0,0,0,0,0,0,0,0,0,0,0,0]
[null,null,null,"Total cash flow with sale",null,null,null,{"$f":"SUM(K368:XFD368)","v":11850.865903733669},"Lakhs",null,{"$f":"K366+K367","v":-26000},{"$f":"L366+L367","v":1996.2293257986116},2082.6940881280998,2172.8848235718328,31599.057666235123,0,0,0,0,0,0,0,0,0,0,0,0,0,0,0,0,0,0,0,0,0,0,0,0,0,0,0,0,0,0,0,0,0,0,0,0,0,0,0,0,0,0,0,0,0,0,0,0,0,0,0,0,0,0,0,0,0,0,0,0,{"$f":"BX366+BX367","v":0},0,0,0,0,0,0,0,0,0,0,0,0,0,0,0,0,0,0,0,0,0,0,0,0,0,0,0,0,0,0,0,0,0,0,0,0,0,0,0,0,0,0,0,0,0,0,0,0,0,0,0,0,0,0,0,0,0,0,0,0,0,0,0,{"$f":"EJ366+EJ367","v":0},0,0,0,0,0,0,0,0,0,0,0,0,0,0,0,0,0,0,0,0,{"$f":"FE366+FE367","v":0},0,0,0,0,0,0,0,0,0,0,0,0,0,0,0,0,0,0,0,0,0,0,0,0,0,0,0,0,0,0,0,0,0,0,0,0,0,0,0,0,0,0,0,0,0,0,0,0,0,0,0,{"$f":"HE366+HE367","v":0},0,0,0,0,0,0,0,0,0,0,0,0,0,0,0,0,0,0,0,0,0,0,0,0,0,0,0,0,0,0,0,0,0,0,0,0,0,0,0,0,0,0,0,0,0,0,0,0,0,0,0,0,0,0,0,0,0,0,0,0,0,0,0,{"$f":"JQ366+JQ367","v":0},0,0,0,0,0,0,0,0,0,0,0,0,0,0,0,0,0,0,0,0,0,0,0,0,0,{"$f":"KQ366+KQ367","v":0},0,0,0,0,0,0,0,0,0,0,0,0,0,0,0,0,0,0,0,0,0,0,0,0,0,0,0,0,0,{"$f":"LU366+LU367","v":0},0,0,0,0,0,0,{"$f":"MB366+MB367","v":0},0,0,0,0,0,0,0,0,0,0,0,0,0,0,0,0,0,0,{"$f":"MU366+MU367","v":0},0,0,0,0,0,0,{"$f":"NB366+NB367","v":0},0,0,0,0,0,0,0,0,0,0,0,0,0,0,{"$f":"NQ366+NQ367","v":0},0,0,0,0,0,0,0,0,0,0,0,0,0,0,0,0,0,0,0,0,0,0,0,0,0,0,0,0,0,0,0,0,0,0,0,0,0,0,0,0,0,0,0,0,0,0,0,0,0,0,0,0,0,0,0,0,0,0,0,0,0,0,0,{"$f":"QC366+QC367","v":0},0,0,0,0,0,0,0,0,0,0,0,0,0,0,0,0,0,0,0,0,0,0,0,0,0,0,0,0,0,0,0,0,0,0,0,0,0,0,0,0,0,0,0,0,0,0,0,0,0,0,0]
[]
[null,null,null,"NPV of Cash Fow Adjusted for 1/2 Year",null,null,null,null,"Lakhs",null,{"$f":"NPV(K373,L351:SC351)*(1+K373)^(1/2)","v":27403.721305187395},27769.912306492672,28098.005975263797,28382.050416264367,28615.493209316795,28791.128080877817,28901.037086736142,28936.527937458752,28888.066068362765,28745.201023537065,28496.48668858915,28129.394869139593,27630.22167140391,26983.986097246929,26174.320218605,25183.350244863461,23991.567741344228,22577.690197170625,20918.510076076047,18988.731413824793,16760.792950399489,14204.676703530864,11287.700802015563,7974.2953020614514,4225.7596070500258,0,0,0,0,0,0,0,0,0,0,0,0,0,0,0,0,0,0,0,0,0,0,0,0,0,0,0,0,0,0,0,0,0,0,0,0,0,0,0,{"$f":"NPV(BW373,BX351:UO351)*(1+BW373)^(1/2)","v":0},0,0,0,0,0,0,0,0,0,0,0,0,0,0,0,0,0,0,0,0,0,0,0,0,0,0,0,0,0,0,0,0,0,0,0,0,0,0,0,0,0,0,0,0,0,0,0,0,0,0,0,0,0,0,0,0,0,0,0,0,0,0,0,{"$f":"NPV(EI373,EJ351:XA351)*(1+EI373)^(1/2)","v":0},0,0,0,0,0,0,0,0,0,0,0,0,0,0,0,0,0,0,0,0,0,0,0,0,0,0,0,0,0,0,0,0,0,0,0,0,0,0,0,0,0,0,0,0,0,0,0,0,0,0,0,0,0,0,0,0,0,0,0,0,0,0,0,{"$f":"NPV(GU373,GV351:ZM351)*(1+GU373)^(1/2)","v":0},0,0,0,0,0,0,0,0,0,0,0,0,0,0,0,0,0,0,0,0,0,0,0,0,0,0,0,0,0,0,0,0,0,0,0,0,0,0,0,0,0,0,0,0,0,0,0,0,0,0,0,0,0,0,0,0,0,0,0,0,0,0,0,{"$f":"NPV(JG373,JH351:ABY351)*(1+JG373)^(1/2)","v":0},0,0,0,0,0,0,0,0,0,0,0,0,0,0,0,0,0,0,0,0,0,0,0,0,0,0,0,0,0,0,0,0,0,0,0,0,0,0,0,0,0,0,0,0,0,0,0,0,0,0,0,0,0,0,0,0,0,0,0,0,0,0,0,{"$f":"NPV(LS373,LT351:AEK351)*(1+LS373)^(1/2)","v":0},0,0,0,0,0,0,0,0,0,0,0,0,0,0,0,0,0,0,0,0,0,0,0,0,0,0,0,0,0,0,0,0,0,0,0,0,0,0,0,0,0,0,0,0,0,0,0,0,0,0,0,0,0,0,0,0,0,0,0,0,0,0,0,{"$f":"NPV(OE373,OF351:AGW351)*(1+OE373)^(1/2)","v":0},0,0,0,0,0,0,0,0,0,0,0,0,0,0,0,0,0,0,0,0,0,0,0,0,0,0,0,0,0,0,0,0,0,0,0,0,0,0,0,0,0,0,0,0,0,0,0,0,0,0,0,0,0,0,0,0,0,0,0,0,0,0,0,{"$f":"NPV(QQ373,QR351:AJI351)*(1+QQ373)^(1/2)","v":0},0,0,0,0,0,0,0,0,0,0,0,0,0,0,0,0,0,0,0,0,0,0,0,0,0,0,0,0,0,0,0,0,0,0,0,0,0]
[]
[null,null,null,"Total cash flow with sale",null,null,null,null,"Lakhs",null,{"$f":"K376+K377","v":-26000},{"$f":"L376+L377","v":1757.1719943489588},1822.0205660960748,1889.6636176788747,30575.714036699301,0,0,0,0,0,0,0,0,0,0,0,0,0,0,0,0,0,0,0,0,0,0,0,0,0,0,0,0,0,0,0,0,0,0,0,0,0,0,0,0,0,0,0,0,0,0,0,0,0,0,0,0,0,0,0,0,0,0,0,0,{"$f":"BX376+BX377","v":0},0,0,0,0,0,0,0,0,0,0,0,0,0,0,0,0,0,0,0,0,0,0,0,0,0,0,0,0,0,0,0,0,0,0,0,0,0,0,0,0,0,0,0,0,0,0,0,0,0,0,0,0,0,0,0,0,0,0,0,0,0,0,0,{"$f":"EJ376+EJ377","v":0},0,0,0,0,0,0,0,0,0,0,0,0,0,0,0,0,0,0,0,0,0,0,0,0,0,0,0,0,0,0,0,0,0,0,0,0,0,0,0,0,0,0,0,0,0,0,0,0,0,0,0,0,0,0,0,0,0,0,0,0,0,0,0,{"$f":"GV376+GV377","v":0},0,0,0,0,0,0,0,0,0,0,0,0,0,0,0,0,0,0,0,0,0,0,0,0,0,0,0,0,0,0,0,0,0,0,0,0,0,0,0,0,0,0,0,0,0,0,0,0,0,0,0,0,0,0,0,0,0,0,0,0,0,0,0,{"$f":"JH376+JH377","v":0},0,0,0,0,0,0,0,0,0,0,0,0,0,0,0,0,0,0,0,0,0,0,0,0,0,0,0,0,0,0,0,0,0,0,0,0,0,0,0,0,0,0,0,0,0,0,0,0,0,0,0,0,0,0,0,0,0,0,0,0,0,0,0,{"$f":"LT376+LT377","v":0},0,0,0,0,0,0,0,0,0,0,0,0,0,0,0,0,0,0,0,0,0,0,0,0,0,0,0,0,0,0,0,0,0,0,0,0,0,0,0,0,0,0,0,0,0,0,0,0,0,0,0,0,0,0,0,0,0,0,0,0,0,0,0,{"$f":"OF376+OF377","v":0},0,0,0,0,0,0,0,0,0,0,0,0,0,0,0,0,0,0,0,0,0,0,0,0,0,0,0,0,0,0,0,0,0,0,0,0,0,0,0,0,0,0,0,0,0,0,0,0,0,0,0,0,0,0,0,0,0,0,0,0,0,0,0,{"$f":"QR376+QR377","v":0},0,0,0,0,0,0,0,0,0,0,0,0,0,0,0,0,0,0,0,0,0,0,0,0,0,0,0,0,0,0,0,0,0,0,0,0]
[null,null,null,"Timeline for Holding Period IRR","IRR",{"$f":"XIRR(K378:SB378,K370:SB370)","v":9.5438584685325609E-2}]
[null,null,null,"Transaction Date","Date",{"$f":"'Input C'!F85","v":"2030-12-31"},null,{"$f":"G360","v":4}]
[]
[null,null,null,"After-tax Discount Rate","%",{"$f":"H386","v":0.11},{"$f":"F356","v":0.1194887101650238},{"$f":"'Input C'!F89","v":0.11},null,null,{"$f":"$F$386","v":0.11},{"$f":"$F$386","v":0.11},0.11,0.11,0.11,0.11,0.11,0.11,0.11,0.11,0.11,0.11,0.11,0.11,0.11,0.11,0.11,0.11,0.11,0.11,0.11,0.11,0.11,0.11,0.11,0.11,0.11,0.11,0.11,0.11,0.11,0.11,0.11,0.11,0.11,0.11,0.11,0.11,0.11,0.11,0.11,0.11,0.11,0.11,0.11,0.11,0.11,0.11,0.11,0.11,0.11,0.11,0.11,0.11,0.11,0.11,0.11,0.11,0.11,0.11,0.11,0.11,0.11,0.11,0.11,{"$f":"$F$386","v":0.11},0.11,0.11,0.11,0.11,0.11,0.11,0.11,0.11,0.11,0.11,0.11,0.11,0.11,0.11,0.11,0.11,0.11,0.11,0.11,0.11,0.11,0.11,0.11,0.11,0.11,0.11,0.11,0.11,0.11,0.11,0.11,0.11,0.11,0.11,0.11,0.11,0.11,0.11,0.11,0.11,0.11,0.11,0.11,0.11,0.11,0.11,0.11,0.11,0.11,0.11,0.11,0.11,0.11,0.11,0.11,0.11,0.11,0.11,0.11,0.11,0.11,0.11,0.11,{"$f":"$F$386","v":0.11},0.11,0.11,0.11,0.11,0.11,0.11,0.11,0.11,0.11,0.11,0.11,0.11,0.11,0.11,0.11,0.11,0.11,0.11,0.11,0.11,0.11,0.11,0.11,0.11,0.11,0.11,0.11,0.11,0.11,0.11,0.11,0.11,0.11,0.11,0.11,0.11,0.11,0.11,0.11,0.11,0.11,0.11,0.11,0.11,0.11,0.11,0.11,0.11,0.11,0.11,0.11,0.11,0.11,0.11,0.11,0.11,0.11,0.11,0.11,0.11,0.11,0.11,0.11,{"$f":"$F$386","v":0.11},0.11,0.11,0.11,0.11,0.11,0.11,0.11,0.11,0.11,0.11,0.11,0.11,0.11,0.11,0.11,0.11,0.11,0.11,0.11,0.11,0.11,0.11,0.11,0.11,0.11,0.11,0.11,0.11,0.11,0.11,0.11,0.11,0.11,0.11,0.11,0.11,0.11,0.11,0.11,0.11,0.11,0.11,0.11,0.11,0.11,0.11,0.11,0.11,0.11,0.11,0.11,0.11,0.11,0.11,0.11,0.11,0.11,0.11,0.11,0.11,0.11,0.11,0.11,{"$f":"$F$386","v":0.11},0.11,0.11,0.11,0.11,0.11,0.11,0.11,0.11,0.11,0.11,0.11,0.11,0.11,0.11,0.11,0.11,0.11,0.11,0.11,0.11,0.11,0.11,0.11,0.11,0.11,0.11,0.11,0.11,0.11,0.11,0.11,0.11,0.11,0.11,0.11,0.11,0.11,0.11,0.11,0.11,0.11,0.11,0.11,0.11,0.11,0.11,0.11,0.11,0.11,0.11,0.11,0.11,0.11,0.11,0.11,0.11,0.11,0.11,0.11,0.11,0.11,0.11,0.11,{"$f":"$F$386","v":0.11},0.11,0.11,0.11,0.11,0.11,0.11,0.11,0.11,0.11,0.11,0.11,0.11,0.11,0.11,0.11,0.11,0.11,0.11,0.11,0.11,0.11,0.11,0.11,0.11,0.11,0.11,0.11,0.11,0.11,0.11,0.11,0.11,0.11,0.11,0.11,0.11,0.11,0.11,0.11,0.11,0.11,0.11,0.11,0.11,0.11,0.11,0.11,0.11,0.11,0.11,0.11,0.11,0.11,0.11,0.11,0.11,0.11,0.11,0.11,0.11,0.11,0.11,0.11,{"$f":"$F$386","v":0.11},0.11,0.11,0.11,0.11,0.11,0.11,0.11,0.11,0.11,0.11,0.11,0.11,0.11,0.11,0.11,0.11,0.11,0.11,0.11,0.11,0.11,0.11,0.11,0.11,0.11,0.11,0.11,0.11,0.11,0.11,0.11,0.11,0.11,0.11,0.11,0.11,0.11,0.11,0.11,0.11,0.11,0.11,0.11,0.11,0.11,0.11,0.11,0.11,0.11,0.11,0.11,0.11,0.11,0.11,0.11,0.11,0.11,0.11,0.11,0.11,0.11,0.11,0.11,{"$f":"$F$386","v":0.11},0.11,0.11,0.11,0.11,0.11,0.11,0.11,0.11,0.11,0.11,0.11,0.11,0.11,0.11,0.11,0.11,0.11,0.11,0.11,0.11,0.11,0.11,0.11,0.11,0.11,0.11,0.11,0.11,0.11,0.11,0.11,0.11,0.11,0.11,0.11,0.11]
[]
[null,null,null,"Total cash flow with sale",null,null,null,null,"Lakhs",null,{"$f":"K390+K391","v":-6500},{"$f":"L390+L391","v":559.43949139290726},583.98091105571689,609.59588436958666,8699.1699821138827,0,0,0,0,0,0,0,0,0,0,0,0,0,0,0,0,0,0,0,0,0,0,0,0,0,0,0,0,0,0,0,0,0,0,0,0,0,0,0,0,0,0,0,0,0,0,0,0,0,0,0,0,0,0,0,0,0,0,0,0,{"$f":"BX390+BX391","v":0},0,0,0,0,0,0,0,0,0,0,0,0,0,0,0,0,0,0,0,0,0,0,0,0,0,0,0,0,0,0,0,0,0,0,0,0,0,0,0,0,0,0,0,0,0,0,0,0,0,0,0,0,0,0,0,0,0,0,0,0,0,0,0,{"$f":"EJ390+EJ391","v":0},0,0,0,0,0,0,0,0,0,0,0,0,0,0,0,0,0,0,0,0,0,0,0,0,0,0,0,0,0,0,0,0,0,0,0,0,0,0,0,0,0,0,0,0,0,0,0,0,0,0,0,0,0,0,0,0,0,0,0,0,0,0,0,{"$f":"GV390+GV391","v":0},0,0,0,0,0,0,0,0,0,0,0,0,0,0,0,0,0,0,0,0,0,0,0,0,0,0,0,0,0,0,0,0,0,0,0,0,0,0,0,0,0,0,0,0,0,0,0,0,0,0,0,0,0,0,0,0,0,0,0,0,0,0,0,{"$f":"JH390+JH391","v":0},0,0,0,0,0,0,0,0,0,0,0,0,0,0,0,0,0,0,0,0,0,0,0,0,0,0,0,0,0,0,0,0,0,0,0,0,0,0,0,0,0,0,0,0,0,0,0,0,0,0,0,0,0,0,0,0,0,0,0,0,0,0,0,{"$f":"LT390+LT391","v":0},0,0,0,0,0,0,0,0,0,0,0,0,0,0,0,0,0,0,0,0,0,0,0,0,0,0,0,0,0,0,0,0,0,0,0,0,0,0,0,0,0,0,0,0,0,0,0,0,0,0,0,0,0,0,0,0,0,0,0,0,0,0,0,{"$f":"OF390+OF391","v":0},0,0,0,0,0,0,0,0,0,0,0,0,0,0,0,0,0,0,0,0,0,0,0,0,0,0,0,0,0,0,0,0,0,0,0,0,0,0,0,0,0,0,0,0,0,0,0,0,0,0,0,0,0,0,0,0,0,0,0,0,0,0,0,{"$f":"QR390+QR391","v":0},0,0,0,0,0,0,0,0,0,0,0,0,0,0,0,0,0,0,0,0,0,0,0,0,0,0,0,0,0,0,0,0,0,0,0,0]
[]
[null,null,null,"NPV over Holding Period","Lakhs",{"$f":"XNPV(F395,K392:SB392,K9:SB9)","v":-2.3439511096512433E-5}]
[]
[null,null,null,"Price to Earnings"]
[null,null,null,"Equity Value",null,null,null,null,"Lakhs",null,{"$f":"K387","v":7934.3496378668297},{"$f":"L387","v":8188.4911637073337},8441.0063804432975,8692.865650641821,8942.7532189931535,9191.7821027833506,9433.2480271160584,9667.5333803014491,9892.373309165112,10108.079235837913,10306.260791238738,10486.20371245392,10644.152511644483,11049.019376302398,11529.061456397258,12085.231006814876,12730.325612366554,13482.869111482409,14352.36556050057,15361.479100980139,16532.113033689449,14192.346535000077,11424.129593281788,8177.2324171837427,4391.5382039897613,0,0,0,0,0,0,0,0,0,0,0,0,0,0,0,0,0,0,0,0,0,0,0,0,0,0,0,0,0,0,0,0,0,0,0,0,0,0,0,0,{"$f":"BX387","v":0},0,0,0,0,0,0,0,0,0,0,0,0,0,0,0,0,0,0,0,0,0,0,0,0,0,0,0,0,0,0,0,0,0,0,0,0,0,0,0,0,0,0,0,0,0,0,0,0,0,0,0,0,0,0,0,0,0,0,0,0,0,0,0,{"$f":"EJ387","v":0},0,0,0,0,0,0,0,0,0,0,0,0,0,0,0,0,0,0,0,0,0,0,0,0,0,0,0,0,0,0,0,0,0,0,0,0,0,0,0,0,0,0,0,0,0,0,0,0,0,0,0,0,0,0,0,0,0,0,0,0,0,0,0,{"$f":"GV387","v":0},0,0,0,0,0,0,0,0,0,0,0,0,0,0,0,0,0,0,0,0,0,0,0,0,0,0,0,0,0,0,0,0,0,0,0,0,0,0,0,0,0,0,0,0,0,0,0,0,0,0,0,0,0,0,0,0,0,0,0,0,0,0,0,{"$f":"JH387","v":0},0,0,0,0,0,0,0,0,0,0,0,0,0,0,0,0,0,0,0,0,0,0,0,0,0,0,0,0,0,0,0,0,0,0,0,0,0,0,0,0,0,0,0,0,0,0,0,0,0,0,0,0,0,0,0,0,0,0,0,0,0,0,0,{"$f":"LT387","v":0},0,0,0,0,0,0,0,0,0,0,0,0,0,0,0,0,0,0,0,0,0,0,0,0,0,0,0,0,0,0,0,0,0,0,0,0,0,0,0,0,0,0,0,0,0,0,0,0,0,0,0,0,0,0,0,0,0,0,0,0,0,0,0,{"$f":"OF387","v":0},0,0,0,0,0,0,0,0,0,0,0,0,0,0,0,0,0,0,0,0,0,0,0,0,0,0,0,0,0,0,0,0,0,0,0,0,0,0,0,0,0,0,0,0,0,0,0,0,0,0,0,0,0,0,0,0,0,0,0,0,0,0,0,{"$f":"QR387","v":0},0,0,0,0,0,0,0,0,0,0,0,0,0,0,0,0,0,0,0,0,0,0,0,0,0,0,0,0,0,0,0,0,0,0,0,0]
[null,null,null,"P/E",null,null,null,null,"Lakhs",null,{"$f":"IF(K403>0.1,K402/K403)","v":false},{"$f":"IF(L403>0.1,L402/L403)","v":false},false,false,false,false,false,false,79.099518706618269,36.894336855580256,23.576311676028492,17.0282026456422,13.119504824149207,14.131301373459509,12.211769464623375,10.642875498027054,9.4683503803986646,8.5738135754982086,7.8803050548420712,7.3413327032244498,6.9230801212227275,5.237278610190633,3.9939790412945784,2.7101575336624046,1.3805997273768558,0,false,false,false,false,false,false,false,false,false,false,false,false,false,false,false,false,false,false,false,false,false,false,false,false,false,false,false,false,false,false,false,false,false,false,false,false,false,false,false,{"$f":"IF(BX403>0.1,BX402/BX403)","v":false},false,false,false,false,false,false,false,false,false,false,false,false,false,false,false,false,false,false,false,false,false,false,false,false,false,false,false,false,false,false,false,false,false,false,false,false,false,false,false,false,false,false,false,false,false,false,false,false,false,false,false,false,false,false,false,false,false,false,false,false,false,false,false,{"$f":"IF(EJ403>0.1,EJ402/EJ403)","v":false},false,false,false,false,false,false,false,false,false,false,false,false,false,false,false,false,false,false,false,false,false,false,false,false,false,false,false,false,false,false,false,false,false,false,false,false,false,false,false,false,false,false,false,false,false,false,false,false,false,false,false,false,false,false,false,false,false,false,false,false,false,false,false,{"$f":"IF(GV403>0.1,GV402/GV403)","v":false},false,false,false,false,false,false,false,false,false,false,false,false,false,false,false,false,false,false,false,false,false,false,false,false,false,false,false,false,false,false,false,false,false,false,false,false,false,false,false,false,false,false,false,false,false,false,false,false,false,false,false,false,false,false,false,false,false,false,false,false,false,false,false,{"$f":"IF(JH403>0.1,JH402/JH403)","v":false},false,false,false,false,false,false,false,false,false,false,false,false,false,false,false,false,false,false,false,false,false,false,false,false,false,false,false,false,false,false,false,false,false,false,false,false,false,false,false,false,false,false,false,false,false,false,false,false,false,false,false,false,false,false,false,false,false,false,false,false,false,false,false,{"$f":"IF(LT403>0.1,LT402/LT403)","v":false},false,false,false,false,false,false,false,false,false,false,false,false,false,false,false,false,false,false,false,false,false,false,false,false,false,false,false,false,false,false,false,false,false,false,false,false,false,false,false,false,false,false,false,false,false,false,false,false,false,false,false,false,false,false,false,false,false,false,false,false,false,false,false,{"$f":"IF(OF403>0.1,OF402/OF403)","v":false},false,false,false,false,false,false,false,false,false,false,false,false,false,false,false,false,false,false,false,false,false,false,false,false,false,false,false,false,false,false,false,false,false,false,false,false,false,false,false,false,false,false,false,false,false,false,false,false,false,false,false,false,false,false,false,false,false,false,false,false,false,false,false,{"$f":"IF(QR403>0.1,QR402/QR403)","v":false},false,false,false,false,false,false,false,false,false,false,false,false,false,false,false,false,false,false,false,false,false,false,false,false,false,false,false,false,false,false,false,false,false,false,false,false]
[null,null,null,"Enterprise Value",null,null,null,null,"Lakhs",null,{"$f":"K374","v":27403.721305187395},{"$f":"L374","v":27769.912306492672},28098.005975263797,28382.050416264367,28615.493209316795,28791.128080877817,28901.037086736142,28936.527937458752,28888.066068362765,28745.201023537065,28496.48668858915,28129.394869139593,27630.22167140391,26983.986097246929,26174.320218605,25183.350244863461,23991.567741344228,22577.690197170625,20918.510076076047,18988.731413824793,16760.792950399489,14204.676703530864,11287.700802015563,7974.2953020614514,4225.7596070500258,0,0,0,0,0,0,0,0,0,0,0,0,0,0,0,0,0,0,0,0,0,0,0,0,0,0,0,0,0,0,0,0,0,0,0,0,0,0,0,0,{"$f":"BX374","v":0},0,0,0,0,0,0,0,0,0,0,0,0,0,0,0,0,0,0,0,0,0,0,0,0,0,0,0,0,0,0,0,0,0,0,0,0,0,0,0,0,0,0,0,0,0,0,0,0,0,0,0,0,0,0,0,0,0,0,0,0,0,0,0,{"$f":"EJ374","v":0},0,0,0,0,0,0,0,0,0,0,0,0,0,0,0,0,0,0,0,0,0,0,0,0,0,0,0,0,0,0,0,0,0,0,0,0,0,0,0,0,0,0,0,0,0,0,0,0,0,0,0,0,0,0,0,0,0,0,0,0,0,0,0,{"$f":"GV374","v":0},0,0,0,0,0,0,0,0,0,0,0,0,0,0,0,0,0,0,0,0,0,0,0,0,0,0,0,0,0,0,0,0,0,0,0,0,0,0,0,0,0,0,0,0,0,0,0,0,0,0,0,0,0,0,0,0,0,0,0,0,0,0,0,{"$f":"JH374","v":0},0,0,0,0,0,0,0,0,0,0,0,0,0,0,0,0,0,0,0,0,0,0,0,0,0,0,0,0,0,0,0,0,0,0,0,0,0,0,0,0,0,0,0,0,0,0,0,0,0,0,0,0,0,0,0,0,0,0,0,0,0,0,0,{"$f":"LT374","v":0},0,0,0,0,0,0,0,0,0,0,0,0,0,0,0,0,0,0,0,0,0,0,0,0,0,0,0,0,0,0,0,0,0,0,0,0,0,0,0,0,0,0,0,0,0,0,0,0,0,0,0,0,0,0,0,0,0,0,0,0,0,0,0,{"$f":"OF374","v":0},0,0,0,0,0,0,0,0,0,0,0,0,0,0,0,0,0,0,0,0,0,0,0,0,0,0,0,0,0,0,0,0,0,0,0,0,0,0,0,0,0,0,0,0,0,0,0,0,0,0,0,0,0,0,0,0,0,0,0,0,0,0,0,{"$f":"QR374","v":0},0,0,0,0,0,0,0,0,0,0,0,0,0,0,0,0,0,0,0,0,0,0,0,0,0,0,0,0,0,0,0,0,0,0,0,0]
[null,null,null,"EBITDA",null,null,null,null,"Lakhs",null,{"$f":"K281","v":0},1996.2293257986116,2082.6940881280998,2172.8848235718328,2266.9611031766731,2365.0892804813293,2467.442777117245,2574.2023802943349,2685.5565526586561,2801.7017550285864,2922.8427825364943,3049.1931147239011,3180.9752801601389,3318.4212361772652,3461.7727643376566,3611.281882275297,3767.211272577325,3929.8347293988782,4099.4376235318814,4276.3173866769575,4460.7840156973771,4653.1605976647907,4853.7838565384964,5063.0047223532074,5281.1889238248596,5508.7176053196836,0,0,0,0,0,0,0,0,0,0,0,0,0,0,0,0,0,0,0,0,0,0,0,0,0,0,0,0,0,0,0,0,0,0,0,0,0,0,{"$f":"BW281","v":0},0,0,0,0,0,0,0,0,0,0,0,0,0,0,0,0,0,0,0,0,0,0,0,0,0,0,0,0,0,0,0,0,0,0,0,0,0,0,0,0,0,0,0,0,0,0,0,0,0,0,0,0,0,0,0,0,0,0,0,0,0,0,0,{"$f":"EI281","v":0},0,0,0,0,0,0,0,0,0,0,0,0,0,0,0,0,0,0,0,0,0,0,0,0,0,0,0,0,0,0,0,0,0,0,0,0,0,0,0,0,0,0,0,0,0,0,0,0,0,0,0,0,0,0,0,0,0,0,0,0,0,0,0,{"$f":"GU281","v":0},0,0,0,0,0,0,0,0,0,0,0,0,0,0,0,0,0,0,0,0,0,0,0,0,0,0,0,0,0,0,0,0,0,0,0,0,0,0,0,0,0,0,0,0,0,0,0,0,0,0,0,0,0,0,0,0,0,0,0,0,0,0,0,{"$f":"JG281","v":0},0,0,0,0,0,0,0,0,0,0,0,0,0,0,0,0,0,0,0,0,0,0,0,0,0,0,0,0,0,0,0,0,0,0,0,0,0,0,0,0,0,0,0,0,0,0,0,0,0,0,0,0,0,0,0,0,0,0,0,0,0,0,0,{"$f":"LS281","v":0},0,0,0,0,0,0,0,0,0,0,0,0,0,0,0,0,0,0,0,0,0,0,0,0,0,0,0,0,0,0,0,0,0,0,0,0,0,0,0,0,0,0,0,0,0,0,0,0,0,0,0,0,0,0,0,0,0,0,0,0,0,0,0,{"$f":"OE281","v":0},0,0,0,0,0,0,0,0,0,0,0,0,0,0,0,0,0,0,0,0,0,0,0,0,0,0,0,0,0,0,0,0,0,0,0,0,0,0,0,0,0,0,0,0,0,0,0,0,0,0,0,0,0,0,0,0,0,0,0,0,0,0,0,{"$f":"QQ281","v":0},0,0,0,0,0,0,0,0,0,0,0,0,0,0,0,0,0,0,0,0,0,0,0,0,0,0,0,0,0,0,0,0,0,0,0,0,0]
[null,null,null,"EV/EBITDA",null,null,null,null,"x",null,{"$f":"IF(K408>0.1,K407/K408)","v":false},{"$f":"IF(L408>0.1,L407/L408)","v":13.911183423469165},13.491182471506386,13.061921234098993,12.622842610408336,12.17337895803173,11.712951301144949,11.240968526394628,10.756826565340456,10.259907562232216,9.7495790258891031,9.2251929644300859,8.6860850015825743,8.1315734732736278,7.5609585031826754,6.9735210559073364,6.3685219663643862,5.7452009440163376,5.1027755504799339,4.4404401490368715,3.7573648245283153,3.0526942720738126,2.3255466530117497,1.5750124164125054,0.8001530844667365,0,false,false,false,false,false,false,false,false,false,false,false,false,false,false,false,false,false,false,false,false,false,false,false,false,false,false,false,false,false,false,false,false,false,false,false,false,false,false,false,{"$f":"IF(BX408>0.1,BX407/BX408)","v":false},false,false,false,false,false,false,false,false,false,false,false,false,false,false,false,false,false,false,false,false,false,false,false,false,false,false,false,false,false,false,false,false,false,false,false,false,false,false,false,false,false,false,false,false,false,false,false,false,false,false,false,false,false,false,false,false,false,false,false,false,false,false,false,{"$f":"IF(EJ408>0.1,EJ407/EJ408)","v":false},false,false,false,false,false,false,false,false,false,false,false,false,false,false,false,false,false,false,false,false,false,false,false,false,false,false,false,false,false,false,false,false,false,false,false,false,false,false,false,false,false,false,false,false,false,false,false,false,false,false,false,false,false,false,false,false,false,false,false,false,false,false,false,{"$f":"IF(GV408>0.1,GV407/GV408)","v":false},false,false,false,false,false,false,false,false,false,false,false,false,false,false,false,false,false,false,false,false,false,false,false,false,false,false,false,false,false,false,false,false,false,false,false,false,false,false,false,false,false,false,false,false,false,false,false,false,false,false,false,false,false,false,false,false,false,false,false,false,false,false,false,{"$f":"IF(JH408>0.1,JH407/JH408)","v":false},false,false,false,false,false,false,false,false,false,false,false,false,false,false,false,false,false,false,false,false,false,false,false,false,false,false,false,false,false,false,false,false,false,false,false,false,false,false,false,false,false,false,false,false,false,false,false,false,false,false,false,false,false,false,false,false,false,false,false,false,false,false,false,{"$f":"IF(LT408>0.1,LT407/LT408)","v":false},false,false,false,false,false,false,false,false,false,false,false,false,false,false,false,false,false,false,false,false,false,false,false,false,false,false,false,false,false,false,false,false,false,false,false,false,false,false,false,false,false,false,false,false,false,false,false,false,false,false,false,false,false,false,false,false,false,false,false,false,false,false,false,{"$f":"IF(OF408>0.1,OF407/OF408)","v":false},false,false,false,false,false,false,false,false,false,false,false,false,false,false,false,false,false,false,false,false,false,false,false,false,false,false,false,false,false,false,false,false,false,false,false,false,false,false,false,false,false,false,false,false,false,false,false,false,false,false,false,false,false,false,false,false,false,false,false,false,false,false,false,{"$f":"IF(QR408>0.1,QR407/QR408)","v":false},false,false,false,false,false,false,false,false,false,false,false,false,false,false,false,false,false,false,false,false,false,false,false,false,false,false,false,false,false,false,false,false,false,false,false,false]
[]
[null,null,null,"Price to Book Value"]
[null,null,null,"Equity Value",null,null,null,null,"Lakhs",null,{"$f":"K402","v":7934.3496378668297},{"$f":"L402","v":8188.4911637073337},8441.0063804432975,8692.865650641821,8942.7532189931535,9191.7821027833506,9433.2480271160584,9667.5333803014491,9892.373309165112,10108.079235837913,10306.260791238738,10486.20371245392,10644.152511644483,11049.019376302398,11529.061456397258,12085.231006814876,12730.325612366554,13482.869111482409,14352.36556050057,15361.479100980139,16532.113033689449,14192.346535000077,11424.129593281788,8177.2324171837427,4391.5382039897613,0,0,0,0,0,0,0,0,0,0,0,0,0,0,0,0,0,0,0,0,0,0,0,0,0,0,0,0,0,0,0,0,0,0,0,0,0,0,0,0,{"$f":"BX402","v":0},0,0,0,0,0,0,0,0,0,0,0,0,0,0,0,0,0,0,0,0,0,0,0,0,0,0,0,0,0,0,0,0,0,0,0,0,0,0,0,0,0,0,0,0,0,0,0,0,0,0,0,0,0,0,0,0,0,0,0,0,0,0,0,{"$f":"EJ402","v":0},0,0,0,0,0,0,0,0,0,0,0,0,0,0,0,0,0,0,0,0,0,0,0,0,0,0,0,0,0,0,0,0,0,0,0,0,0,0,0,0,0,0,0,0,0,0,0,0,0,0,0,0,0,0,0,0,0,0,0,0,0,0,0,{"$f":"GV402","v":0},0,0,0,0,0,0,0,0,0,0,0,0,0,0,0,0,0,0,0,0,0,0,0,0,0,0,0,0,0,0,0,0,0,0,0,0,0,0,0,0,0,0,0,0,0,0,0,0,0,0,0,0,0,0,0,0,0,0,0,0,0,0,0,{"$f":"JH402","v":0},0,0,0,0,0,0,0,0,0,0,0,0,0,0,0,0,0,0,0,0,0,0,0,0,0,0,0,0,0,0,0,0,0,0,0,0,0,0,0,0,0,0,0,0,0,0,0,0,0,0,0,0,0,0,0,0,0,0,0,0,0,0,0,{"$f":"LT402","v":0},0,0,0,0,0,0,0,0,0,0,0,0,0,0,0,0,0,0,0,0,0,0,0,0,0,0,0,0,0,0,0,0,0,0,0,0,0,0,0,0,0,0,0,0,0,0,0,0,0,0,0,0,0,0,0,0,0,0,0,0,0,0,0,{"$f":"OF402","v":0},0,0,0,0,0,0,0,0,0,0,0,0,0,0,0,0,0,0,0,0,0,0,0,0,0,0,0,0,0,0,0,0,0,0,0,0,0,0,0,0,0,0,0,0,0,0,0,0,0,0,0,0,0,0,0,0,0,0,0,0,0,0,0,{"$f":"QR402","v":0},0,0,0,0,0,0,0,0,0,0,0,0,0,0,0,0,0,0,0,0,0,0,0,0,0,0,0,0,0,0,0,0,0,0,0,0]
[null,null,null,"Equity Book Value",null,null,null,null,"Lakhs",null,{"$f":"K327","v":6500},5336.7898344057039,4225.6461982305427,3173.3868332912321,2187.487664014745,1276.1402015779354,448.31373808856711,-286.17727788296224,-916.60026148152065,-1431.2254503415136,-1817.2403079236394,-2060.6568374922626,-2146.2112297183221,-2057.2552203372825,-1775.6384839965351,-1281.5813360920897,-553.53695569665638,431.95772072937893,1700.4433536536703,3279.7127956234062,5200.0000000000564,4160.0000000000609,3120.0000000000659,2080.0000000000719,1040.0000000000773,8.3673512563109398E-11,8.3673512563109398E-11,8.3673512563109398E-11,8.3673512563109398E-11,8.3673512563109398E-11,8.3673512563109398E-11,8.3673512563109398E-11,8.3673512563109398E-11,8.3673512563109398E-11,8.3673512563109398E-11,8.3673512563109398E-11,8.3673512563109398E-11,8.3673512563109398E-11,8.3673512563109398E-11,8.3673512563109398E-11,8.3673512563109398E-11,8.3673512563109398E-11,8.3673512563109398E-11,8.3673512563109398E-11,8.3673512563109398E-11,8.3673512563109398E-11,8.3673512563109398E-11,8.3673512563109398E-11,8.3673512563109398E-11,8.3673512563109398E-11,8.3673512563109398E-11,8.3673512563109398E-11,8.3673512563109398E-11,8.3673512563109398E-11,8.3673512563109398E-11,8.3673512563109398E-11,8.3673512563109398E-11,8.3673512563109398E-11,8.3673512563109398E-11,8.3673512563109398E-11,8.3673512563109398E-11,8.3673512563109398E-11,8.3673512563109398E-11,8.3673512563109398E-11,{"$f":"BW327","v":8.3673512563109398E-11},8.3673512563109398E-11,8.3673512563109398E-11,8.3673512563109398E-11,8.3673512563109398E-11,8.3673512563109398E-11,8.3673512563109398E-11,8.3673512563109398E-11,8.3673512563109398E-11,8.3673512563109398E-11,8.3673512563109398E-11,8.3673512563109398E-11,8.3673512563109398E-11,8.3673512563109398E-11,8.3673512563109398E-11,8.3673512563109398E-11,8.3673512563109398E-11,8.3673512563109398E-11,8.3673512563109398E-11,8.3673512563109398E-11,8.3673512563109398E-11,8.3673512563109398E-11,8.3673512563109398E-11,8.3673512563109398E-11,8.3673512563109398E-11,8.3673512563109398E-11,8.3673512563109398E-11,8.3673512563109398E-11,8.3673512563109398E-11,8.3673512563109398E-11,8.3673512563109398E-11,8.3673512563109398E-11,8.3673512563109398E-11,8.3673512563109398E-11,8.3673512563109398E-11,8.3673512563109398E-11,8.3673512563109398E-11,8.3673512563109398E-11,8.3673512563109398E-11,8.3673512563109398E-11,8.3673512563109398E-11,8.3673512563109398E-11,8.3673512563109398E-11,8.3673512563109398E-11,8.3673512563109398E-11,8.3673512563109398E-11,8.3673512563109398E-11,8.3673512563109398E-11,8.3673512563109398E-11,8.3673512563109398E-11,8.3673512563109398E-11,8.3673512563109398E-11,8.3673512563109398E-11,8.3673512563109398E-11,8.3673512563109398E-11,8.3673512563109398E-11,8.3673512563109398E-11,8.3673512563109398E-11,8.3673512563109398E-11,8.3673512563109398E-11,8.3673512563109398E-11,8.3673512563109398E-11,8.3673512563109398E-11,8.3673512563109398E-11,{"$f":"EI327","v":8.3673512563109398E-11},8.3673512563109398E-11,8.3673512563109398E-11,8.3673512563109398E-11,8.3673512563109398E-11,8.3673512563109398E-11,8.3673512563109398E-11,8.3673512563109398E-11,8.3673512563109398E-11,8.3673512563109398E-11,8.3673512563109398E-11,8.3673512563109398E-11,8.3673512563109398E-11,8.3673512563109398E-11,8.3673512563109398E-11,8.3673512563109398E-11,8.3673512563109398E-11,8.3673512563109398E-11,8.3673512563109398E-11,8.3673512563109398E-11,8.3673512563109398E-11,8.3673512563109398E-11,8.3673512563109398E-11,8.3673512563109398E-11,8.3673512563109398E-11,8.3673512563109398E-11,8.3673512563109398E-11,8.3673512563109398E-11,8.3673512563109398E-11,8.3673512563109398E-11,8.3673512563109398E-11,8.3673512563109398E-11,8.3673512563109398E-11,8.3673512563109398E-11,8.3673512563109398E-11,8.3673512563109398E-11,8.3673512563109398E-11,8.3673512563109398E-11,8.3673512563109398E-11,8.3673512563109398E-11,8.3673512563109398E-11,8.3673512563109398E-11,8.3673512563109398E-11,8.3673512563109398E-11,8.3673512563109398E-11,8.3673512563109398E-11,8.3673512563109398E-11,8.3673512563109398E-11,8.3673512563109398E-11,8.3673512563109398E-11,8.3673512563109398E-11,8.3673512563109398E-11,8.3673512563109398E-11,8.3673512563109398E-11,8.3673512563109398E-11,8.3673512563109398E-11,8.3673512563109398E-11,8.3673512563109398E-11,8.3673512563109398E-11,8.3673512563109398E-11,8.3673512563109398E-11,8.3673512563109398E-11,8.3673512563109398E-11,8.3673512563109398E-11,{"$f":"GU327","v":8.3673512563109398E-11},8.3673512563109398E-11,8.3673512563109398E-11,8.3673512563109398E-11,8.3673512563109398E-11,8.3673512563109398E-11,8.3673512563109398E-11,8.3673512563109398E-11,8.3673512563109398E-11,8.3673512563109398E-11,8.3673512563109398E-11,8.3673512563109398E-11,8.3673512563109398E-11,8.3673512563109398E-11,8.3673512563109398E-11,8.3673512563109398E-11,8.3673512563109398E-11,8.3673512563109398E-11,8.3673512563109398E-11,8.3673512563109398E-11,8.3673512563109398E-11,8.3673512563109398E-11,8.3673512563109398E-11,8.3673512563109398E-11,8.3673512563109398E-11,8.3673512563109398E-11,8.3673512563109398E-11,8.3673512563109398E-11,8.3673512563109398E-11,8.3673512563109398E-11,8.3673512563109398E-11,8.3673512563109398E-11,8.3673512563109398E-11,8.3673512563109398E-11,8.3673512563109398E-11,8.3673512563109398E-11,8.3673512563109398E-11,8.3673512563109398E-11,8.3673512563109398E-11,8.3673512563109398E-11,8.3673512563109398E-11,8.3673512563109398E-11,8.3673512563109398E-11,8.3673512563109398E-11,8.3673512563109398E-11,8.3673512563109398E-11,8.3673512563109398E-11,8.3673512563109398E-11,8.3673512563109398E-11,8.3673512563109398E-11,8.3673512563109398E-11,8.3673512563109398E-11,8.3673512563109398E-11,8.3673512563109398E-11,8.3673512563109398E-11,8.3673512563109398E-11,8.3673512563109398E-11,8.3673512563109398E-11,8.3673512563109398E-11,8.3673512563109398E-11,8.3673512563109398E-11,8.3673512563109398E-11,8.3673512563109398E-11,8.3673512563109398E-11,{"$f":"JG327","v":8.3673512563109398E-11},8.3673512563109398E-11,8.3673512563109398E-11,8.3673512563109398E-11,8.3673512563109398E-11,8.3673512563109398E-11,8.3673512563109398E-11,8.3673512563109398E-11,8.3673512563109398E-11,8.3673512563109398E-11,8.3673512563109398E-11,8.3673512563109398E-11,8.3673512563109398E-11,8.3673512563109398E-11,8.3673512563109398E-11,8.3673512563109398E-11,8.3673512563109398E-11,8.3673512563109398E-11,8.3673512563109398E-11,8.3673512563109398E-11,8.3673512563109398E-11,8.3673512563109398E-11,8.3673512563109398E-11,8.3673512563109398E-11,8.3673512563109398E-11,8.3673512563109398E-11,8.3673512563109398E-11,8.3673512563109398E-11,8.3673512563109398E-11,8.3673512563109398E-11,8.3673512563109398E-11,8.3673512563109398E-11,8.3673512563109398E-11,8.3673512563109398E-11,8.3673512563109398E-11,8.3673512563109398E-11,8.3673512563109398E-11,8.3673512563109398E-11,8.3673512563109398E-11,8.3673512563109398E-11,8.3673512563109398E-11,8.3673512563109398E-11,8.3673512563109398E-11,8.3673512563109398E-11,8.3673512563109398E-11,8.3673512563109398E-11,8.3673512563109398E-11,8.3673512563109398E-11,8.3673512563109398E-11,8.3673512563109398E-11,8.3673512563109398E-11,8.3673512563109398E-11,8.3673512563109398E-11,8.3673512563109398E-11,8.3673512563109398E-11,8.3673512563109398E-11,8.3673512563109398E-11,8.3673512563109398E-11,8.3673512563109398E-11,8.3673512563109398E-11,8.3673512563109398E-11,8.3673512563109398E-11,8.3673512563109398E-11,8.3673512563109398E-11,{"$f":"LS327","v":8.3673512563109398E-11},8.3673512563109398E-11,8.3673512563109398E-11,8.3673512563109398E-11,8.3673512563109398E-11,8.3673512563109398E-11,8.3673512563109398E-11,8.3673512563109398E-11,8.3673512563109398E-11,8.3673512563109398E-11,8.3673512563109398E-11,8.3673512563109398E-11,8.3673512563109398E-11,8.3673512563109398E-11,8.3673512563109398E-11,8.3673512563109398E-11,8.3673512563109398E-11,8.3673512563109398E-11,8.3673512563109398E-11,8.3673512563109398E-11,8.3673512563109398E-11,8.3673512563109398E-11,8.3673512563109398E-11,8.3673512563109398E-11,8.3673512563109398E-11,8.3673512563109398E-11,8.3673512563109398E-11,8.3673512563109398E-11,8.3673512563109398E-11,8.3673512563109398E-11,8.3673512563109398E-11,8.3673512563109398E-11,8.3673512563109398E-11,8.3673512563109398E-11,8.3673512563109398E-11,8.3673512563109398E-11,8.3673512563109398E-11,8.3673512563109398E-11,8.3673512563109398E-11,8.3673512563109398E-11,8.3673512563109398E-11,8.3673512563109398E-11,8.3673512563109398E-11,8.3673512563109398E-11,8.3673512563109398E-11,8.3673512563109398E-11,8.3673512563109398E-11,8.3673512563109398E-11,8.3673512563109398E-11,8.3673512563109398E-11,8.3673512563109398E-11,8.3673512563109398E-11,8.3673512563109398E-11,8.3673512563109398E-11,8.3673512563109398E-11,8.3673512563109398E-11,8.3673512563109398E-11,8.3673512563109398E-11,8.3673512563109398E-11,8.3673512563109398E-11,8.3673512563109398E-11,8.3673512563109398E-11,8.3673512563109398E-11,8.3673512563109398E-11,{"$f":"OE327","v":8.3673512563109398E-11},8.3673512563109398E-11,8.3673512563109398E-11,8.3673512563109398E-11,8.3673512563109398E-11,8.3673512563109398E-11,8.3673512563109398E-11,8.3673512563109398E-11,8.3673512563109398E-11,8.3673512563109398E-11,8.3673512563109398E-11,8.3673512563109398E-11,8.3673512563109398E-11,8.3673512563109398E-11,8.3673512563109398E-11,8.3673512563109398E-11,8.3673512563109398E-11,8.3673512563109398E-11,8.3673512563109398E-11,8.3673512563109398E-11,8.3673512563109398E-11,8.3673512563109398E-11,8.3673512563109398E-11,8.3673512563109398E-11,8.3673512563109398E-11,8.3673512563109398E-11,8.3673512563109398E-11,8.3673512563109398E-11,8.3673512563109398E-11,8.3673512563109398E-11,8.3673512563109398E-11,8.3673512563109398E-11,8.3673512563109398E-11,8.3673512563109398E-11,8.3673512563109398E-11,8.3673512563109398E-11,8.3673512563109398E-11,8.3673512563109398E-11,8.3673512563109398E-11,8.3673512563109398E-11,8.3673512563109398E-11,8.3673512563109398E-11,8.3673512563109398E-11,8.3673512563109398E-11,8.3673512563109398E-11,8.3673512563109398E-11,8.3673512563109398E-11,8.3673512563109398E-11,8.3673512563109398E-11,8.3673512563109398E-11,8.3673512563109398E-11,8.3673512563109398E-11,8.3673512563109398E-11,8.3673512563109398E-11,8.3673512563109398E-11,8.3673512563109398E-11,8.3673512563109398E-11,8.3673512563109398E-11,8.3673512563109398E-11,8.3673512563109398E-11,8.3673512563109398E-11,8.3673512563109398E-11,8.3673512563109398E-11,8.3673512563109398E-11,{"$f":"QQ327","v":8.3673512563109398E-11},8.3673512563109398E-11,8.3673512563109398E-11,8.3673512563109398E-11,8.3673512563109398E-11,8.3673512563109398E-11,8.3673512563109398E-11,8.3673512563109398E-11,8.3673512563109398E-11,8.3673512563109398E-11,8.3673512563109398E-11,8.3673512563109398E-11,8.3673512563109398E-11,8.3673512563109398E-11,8.3673512563109398E-11,8.3673512563109398E-11,8.3673512563109398E-11,8.3673512563109398E-11,8.3673512563109398E-11,8.3673512563109398E-11,8.3673512563109398E-11,8.3673512563109398E-11,8.3673512563109398E-11,8.3673512563109398E-11,8.3673512563109398E-11,8.3673512563109398E-11,8.3673512563109398E-11,8.3673512563109398E-11,8.3673512563109398E-11,8.3673512563109398E-11,8.3673512563109398E-11,8.3673512563109398E-11,8.3673512563109398E-11,8.3673512563109398E-11,8.3673512563109398E-11,8.3673512563109398E-11,8.3673512563109398E-11,8.3673512563109398E-11]
[null,null,null,"P/B Ratio",null,null,null,null,"Lakhs",null,{"$f":"IF(K413>0.1,K412/K413)","v":1.2206691750564354},{"$f":"IF(L413>0.1,L412/L413)","v":1.5343476917372727},1.9975658122958577,2.7393022367922732,4.0881388115260586,7.2027995759539571,21.041621582545531,false,false,false,false,false,false,false,false,false,false,31.213399979785088,8.4403667606229007,4.6837878979766696,3.1792525064787056,3.4116217632211225,3.6615799978466494,3.9313617390305096,4.22263288845138,false,false,false,false,false,false,false,false,false,false,false,false,false,false,false,false,false,false,false,false,false,false,false,false,false,false,false,false,false,false,false,false,false,false,false,false,false,false,false,false,{"$f":"IF(BX413>0.1,BX412/BX413)","v":false},false,false,false,false,false,false,false,false,false,false,false,false,false,false,false,false,false,false,false,false,false,false,false,false,false,false,false,false,false,false,false,false,false,false,false,false,false,false,false,false,false,false,false,false,false,false,false,false,false,false,false,false,false,false,false,false,false,false,false,false,false,false,false,{"$f":"IF(EJ413>0.1,EJ412/EJ413)","v":false},false,false,false,false,false,false,false,false,false,false,false,false,false,false,false,false,false,false,false,false,false,false,false,false,false,false,false,false,false,false,false,false,false,false,false,false,false,false,false,false,false,false,false,false,false,false,false,false,false,false,false,false,false,false,false,false,false,false,false,false,false,false,false,{"$f":"IF(GV413>0.1,GV412/GV413)","v":false},false,false,false,false,false,false,false,false,false,false,false,false,false,false,false,false,false,false,false,false,false,false,false,false,false,false,false,false,false,false,false,false,false,false,false,false,false,false,false,false,false,false,false,false,false,false,false,false,false,false,false,false,false,false,false,false,false,false,false,false,false,false,false,{"$f":"IF(JH413>0.1,JH412/JH413)","v":false},false,false,false,false,false,false,false,false,false,false,false,false,false,false,false,false,false,false,false,false,false,false,false,false,false,false,false,false,false,false,false,false,false,false,false,false,false,false,false,false,false,false,false,false,false,false,false,false,false,false,false,false,false,false,false,false,false,false,false,false,false,false,false,{"$f":"IF(LT413>0.1,LT412/LT413)","v":false},false,false,false,false,false,false,false,false,false,false,false,false,false,false,false,false,false,false,false,false,false,false,false,false,false,false,false,false,false,false,false,false,false,false,false,false,false,false,false,false,false,false,false,false,false,false,false,false,false,false,false,false,false,false,false,false,false,false,false,false,false,false,false,{"$f":"IF(OF413>0.1,OF412/OF413)","v":false},false,false,false,false,false,false,false,false,false,false,false,false,false,false,false,false,false,false,false,false,false,false,false,false,false,false,false,false,false,false,false,false,false,false,false,false,false,false,false,false,false,false,false,false,false,false,false,false,false,false,false,false,false,false,false,false,false,false,false,false,false,false,false,{"$f":"IF(QR413>0.1,QR412/QR413)","v":false},false,false,false,false,false,false,false,false,false,false,false,false,false,false,false,false,false,false,false,false,false,false,false,false,false,false,false,false,false,false,false,false,false,false,false,false]
[]
[null,null,null,"EV to Invested Capital"]
[null,null,null,"Enterprise Value",null,null,null,null,"Lakhs",null,{"$f":"K374","v":27403.721305187395},{"$f":"L374","v":27769.912306492672},28098.005975263797,28382.050416264367,28615.493209316795,28791.128080877817,28901.037086736142,28936.527937458752,28888.066068362765,28745.201023537065,28496.48668858915,28129.394869139593,27630.22167140391,26983.986097246929,26174.320218605,25183.350244863461,23991.567741344228,22577.690197170625,20918.510076076047,18988.731413824793,16760.792950399489,14204.676703530864,11287.700802015563,7974.2953020614514,4225.7596070500258,0,0,0,0,0,0,0,0,0,0,0,0,0,0,0,0,0,0,0,0,0,0,0,0,0,0,0,0,0,0,0,0,0,0,0,0,0,0,0,0,{"$f":"BX374","v":0},0,0,0,0,0,0,0,0,0,0,0,0,0,0,0,0,0,0,0,0,0,0,0,0,0,0,0,0,0,0,0,0,0,0,0,0,0,0,0,0,0,0,0,0,0,0,0,0,0,0,0,0,0,0,0,0,0,0,0,0,0,0,0,{"$f":"EJ374","v":0},0,0,0,0,0,0,0,0,0,0,0,0,0,0,0,0,0,0,0,0,0,0,0,0,0,0,0,0,0,0,0,0,0,0,0,0,0,0,0,0,0,0,0,0,0,0,0,0,0,0,0,0,0,0,0,0,0,0,0,0,0,0,0,{"$f":"GV374","v":0},0,0,0,0,0,0,0,0,0,0,0,0,0,0,0,0,0,0,0,0,0,0,0,0,0,0,0,0,0,0,0,0,0,0,0,0,0,0,0,0,0,0,0,0,0,0,0,0,0,0,0,0,0,0,0,0,0,0,0,0,0,0,0,{"$f":"JH374","v":0},0,0,0,0,0,0,0,0,0,0,0,0,0,0,0,0,0,0,0,0,0,0,0,0,0,0,0,0,0,0,0,0,0,0,0,0,0,0,0,0,0,0,0,0,0,0,0,0,0,0,0,0,0,0,0,0,0,0,0,0,0,0,0,{"$f":"LT374","v":0},0,0,0,0,0,0,0,0,0,0,0,0,0,0,0,0,0,0,0,0,0,0,0,0,0,0,0,0,0,0,0,0,0,0,0,0,0,0,0,0,0,0,0,0,0,0,0,0,0,0,0,0,0,0,0,0,0,0,0,0,0,0,0,{"$f":"OF374","v":0},0,0,0,0,0,0,0,0,0,0,0,0,0,0,0,0,0,0,0,0,0,0,0,0,0,0,0,0,0,0,0,0,0,0,0,0,0,0,0,0,0,0,0,0,0,0,0,0,0,0,0,0,0,0,0,0,0,0,0,0,0,0,0,{"$f":"QR374","v":0},0,0,0,0,0,0,0,0,0,0,0,0,0,0,0,0,0,0,0,0,0,0,0,0,0,0,0,0,0,0,0,0,0,0,0,0]
[null,null,null,"Invested Capital",null,null,null,null,"Lakhs",null,{"$f":"K329","v":26000},24960,23920,22880,21840,20800,19760,18720,17680,16640,15600,14559.999999999998,13519.999999999996,12479.999999999996,11439.999999999996,10399.999999999998,9359.9999999999982,8319.9999999999982,7279.9999999999982,6239.9999999999982,5199.9999999999982,4159.9999999999982,3119.9999999999986,2079.9999999999991,1039.9999999999986,-1.1844648513943034E-12,-1.1844648513943034E-12,-1.1844648513943034E-12,-1.1844648513943034E-12,-1.1844648513943034E-12,-1.1844648513943034E-12,-1.1844648513943034E-12,-1.1844648513943034E-12,-1.1844648513943034E-12,-1.1844648513943034E-12,-1.1844648513943034E-12,-1.1844648513943034E-12,-1.1844648513943034E-12,-1.1844648513943034E-12,-1.1844648513943034E-12,-1.1844648513943034E-12,-1.1844648513943034E-12,-1.1844648513943034E-12,-1.1844648513943034E-12,-1.1844648513943034E-12,-1.1844648513943034E-12,-1.1844648513943034E-12,-1.1844648513943034E-12,-1.1844648513943034E-12,-1.1844648513943034E-12,-1.1844648513943034E-12,-1.1844648513943034E-12,-1.1844648513943034E-12,-1.1844648513943034E-12,-1.1844648513943034E-12,-1.1844648513943034E-12,-1.1844648513943034E-12,-1.1844648513943034E-12,-1.1844648513943034E-12,-1.1844648513943034E-12,-1.1844648513943034E-12,-1.1844648513943034E-12,-1.1844648513943034E-12,-1.1844648513943034E-12,{"$f":"BW329","v":-1.1844648513943034E-12},-1.1844648513943034E-12,-1.1844648513943034E-12,-1.1844648513943034E-12,-1.1844648513943034E-12,-1.1844648513943034E-12,-1.1844648513943034E-12,-1.1844648513943034E-12,-1.1844648513943034E-12,-1.1844648513943034E-12,-1.1844648513943034E-12,-1.1844648513943034E-12,-1.1844648513943034E-12,-1.1844648513943034E-12,-1.1844648513943034E-12,-1.1844648513943034E-12,-1.1844648513943034E-12,-1.1844648513943034E-12,-1.1844648513943034E-12,-1.1844648513943034E-12,-1.1844648513943034E-12,-1.1844648513943034E-12,-1.1844648513943034E-12,-1.1844648513943034E-12,-1.1844648513943034E-12,-1.1844648513943034E-12,-1.1844648513943034E-12,-1.1844648513943034E-12,-1.1844648513943034E-12,-1.1844648513943034E-12,-1.1844648513943034E-12,-1.1844648513943034E-12,-1.1844648513943034E-12,-1.1844648513943034E-12,-1.1844648513943034E-12,-1.1844648513943034E-12,-1.1844648513943034E-12,-1.1844648513943034E-12,-1.1844648513943034E-12,-1.1844648513943034E-12,-1.1844648513943034E-12,-1.1844648513943034E-12,-1.1844648513943034E-12,-1.1844648513943034E-12,-1.1844648513943034E-12,-1.1844648513943034E-12,-1.1844648513943034E-12,-1.1844648513943034E-12,-1.1844648513943034E-12,-1.1844648513943034E-12,-1.1844648513943034E-12,-1.1844648513943034E-12,-1.1844648513943034E-12,-1.1844648513943034E-12,-1.1844648513943034E-12,-1.1844648513943034E-12,-1.1844648513943034E-12,-1.1844648513943034E-12,-1.1844648513943034E-12,-1.1844648513943034E-12,-1.1844648513943034E-12,-1.1844648513943034E-12,-1.1844648513943034E-12,-1.1844648513943034E-12,{"$f":"EI329","v":-1.1844648513943034E-12},-1.1844648513943034E-12,-1.1844648513943034E-12,-1.1844648513943034E-12,-1.1844648513943034E-12,-1.1844648513943034E-12,-1.1844648513943034E-12,-1.1844648513943034E-12,-1.1844648513943034E-12,-1.1844648513943034E-12,-1.1844648513943034E-12,-1.1844648513943034E-12,-1.1844648513943034E-12,-1.1844648513943034E-12,-1.1844648513943034E-12,-1.1844648513943034E-12,-1.1844648513943034E-12,-1.1844648513943034E-12,-1.1844648513943034E-12,-1.1844648513943034E-12,-1.1844648513943034E-12,-1.1844648513943034E-12,-1.1844648513943034E-12,-1.1844648513943034E-12,-1.1844648513943034E-12,-1.1844648513943034E-12,-1.1844648513943034E-12,-1.1844648513943034E-12,-1.1844648513943034E-12,-1.1844648513943034E-12,-1.1844648513943034E-12,-1.1844648513943034E-12,-1.1844648513943034E-12,-1.1844648513943034E-12,-1.1844648513943034E-12,-1.1844648513943034E-12,-1.1844648513943034E-12,-1.1844648513943034E-12,-1.1844648513943034E-12,-1.1844648513943034E-12,-1.1844648513943034E-12,-1.1844648513943034E-12,-1.1844648513943034E-12,-1.1844648513943034E-12,-1.1844648513943034E-12,-1.1844648513943034E-12,-1.1844648513943034E-12,-1.1844648513943034E-12,-1.1844648513943034E-12,-1.1844648513943034E-12,-1.1844648513943034E-12,-1.1844648513943034E-12,-1.1844648513943034E-12,-1.1844648513943034E-12,-1.1844648513943034E-12,-1.1844648513943034E-12,-1.1844648513943034E-12,-1.1844648513943034E-12,-1.1844648513943034E-12,-1.1844648513943034E-12,-1.1844648513943034E-12,-1.1844648513943034E-12,-1.1844648513943034E-12,-1.1844648513943034E-12,{"$f":"GU329","v":-1.1844648513943034E-12},-1.1844648513943034E-12,-1.1844648513943034E-12,-1.1844648513943034E-12,-1.1844648513943034E-12,-1.1844648513943034E-12,-1.1844648513943034E-12,-1.1844648513943034E-12,-1.1844648513943034E-12,-1.1844648513943034E-12,-1.1844648513943034E-12,-1.1844648513943034E-12,-1.1844648513943034E-12,-1.1844648513943034E-12,-1.1844648513943034E-12,-1.1844648513943034E-12,-1.1844648513943034E-12,-1.1844648513943034E-12,-1.1844648513943034E-12,-1.1844648513943034E-12,-1.1844648513943034E-12,-1.1844648513943034E-12,-1.1844648513943034E-12,-1.1844648513943034E-12,-1.1844648513943034E-12,-1.1844648513943034E-12,-1.1844648513943034E-12,-1.1844648513943034E-12,-1.1844648513943034E-12,-1.1844648513943034E-12,-1.1844648513943034E-12,-1.1844648513943034E-12,-1.1844648513943034E-12,-1.1844648513943034E-12,-1.1844648513943034E-12,-1.1844648513943034E-12,-1.1844648513943034E-12,-1.1844648513943034E-12,-1.1844648513943034E-12,-1.1844648513943034E-12,-1.1844648513943034E-12,-1.1844648513943034E-12,-1.1844648513943034E-12,-1.1844648513943034E-12,-1.1844648513943034E-12,-1.1844648513943034E-12,-1.1844648513943034E-12,-1.1844648513943034E-12,-1.1844648513943034E-12,-1.1844648513943034E-12,-1.1844648513943034E-12,-1.1844648513943034E-12,-1.1844648513943034E-12,-1.1844648513943034E-12,-1.1844648513943034E-12,-1.1844648513943034E-12,-1.1844648513943034E-12,-1.1844648513943034E-12,-1.1844648513943034E-12,-1.1844648513943034E-12,-1.1844648513943034E-12,-1.1844648513943034E-12,-1.1844648513943034E-12,-1.1844648513943034E-12,{"$f":"JG329","v":-1.1844648513943034E-12},-1.1844648513943034E-12,-1.1844648513943034E-12,-1.1844648513943034E-12,-1.1844648513943034E-12,-1.1844648513943034E-12,-1.1844648513943034E-12,-1.1844648513943034E-12,-1.1844648513943034E-12,-1.1844648513943034E-12,-1.1844648513943034E-12,-1.1844648513943034E-12,-1.1844648513943034E-12,-1.1844648513943034E-12,-1.1844648513943034E-12,-1.1844648513943034E-12,-1.1844648513943034E-12,-1.1844648513943034E-12,-1.1844648513943034E-12,-1.1844648513943034E-12,-1.1844648513943034E-12,-1.1844648513943034E-12,-1.1844648513943034E-12,-1.1844648513943034E-12,-1.1844648513943034E-12,-1.1844648513943034E-12,-1.1844648513943034E-12,-1.1844648513943034E-12,-1.1844648513943034E-12,-1.1844648513943034E-12,-1.1844648513943034E-12,-1.1844648513943034E-12,-1.1844648513943034E-12,-1.1844648513943034E-12,-1.1844648513943034E-12,-1.1844648513943034E-12,-1.1844648513943034E-12,-1.1844648513943034E-12,-1.1844648513943034E-12,-1.1844648513943034E-12,-1.1844648513943034E-12,-1.1844648513943034E-12,-1.1844648513943034E-12,-1.1844648513943034E-12,-1.1844648513943034E-12,-1.1844648513943034E-12,-1.1844648513943034E-12,-1.1844648513943034E-12,-1.1844648513943034E-12,-1.1844648513943034E-12,-1.1844648513943034E-12,-1.1844648513943034E-12,-1.1844648513943034E-12,-1.1844648513943034E-12,-1.1844648513943034E-12,-1.1844648513943034E-12,-1.1844648513943034E-12,-1.1844648513943034E-12,-1.1844648513943034E-12,-1.1844648513943034E-12,-1.1844648513943034E-12,-1.1844648513943034E-12,-1.1844648513943034E-12,-1.1844648513943034E-12,{"$f":"LS329","v":-1.1844648513943034E-12},-1.1844648513943034E-12,-1.1844648513943034E-12,-1.1844648513943034E-12,-1.1844648513943034E-12,-1.1844648513943034E-12,-1.1844648513943034E-12,-1.1844648513943034E-12,-1.1844648513943034E-12,-1.1844648513943034E-12,-1.1844648513943034E-12,-1.1844648513943034E-12,-1.1844648513943034E-12,-1.1844648513943034E-12,-1.1844648513943034E-12,-1.1844648513943034E-12,-1.1844648513943034E-12,-1.1844648513943034E-12,-1.1844648513943034E-12,-1.1844648513943034E-12,-1.1844648513943034E-12,-1.1844648513943034E-12,-1.1844648513943034E-12,-1.1844648513943034E-12,-1.1844648513943034E-12,-1.1844648513943034E-12,-1.1844648513943034E-12,-1.1844648513943034E-12,-1.1844648513943034E-12,-1.1844648513943034E-12,-1.1844648513943034E-12,-1.1844648513943034E-12,-1.1844648513943034E-12,-1.1844648513943034E-12,-1.1844648513943034E-12,-1.1844648513943034E-12,-1.1844648513943034E-12,-1.1844648513943034E-12,-1.1844648513943034E-12,-1.1844648513943034E-12,-1.1844648513943034E-12,-1.1844648513943034E-12,-1.1844648513943034E-12,-1.1844648513943034E-12,-1.1844648513943034E-12,-1.1844648513943034E-12,-1.1844648513943034E-12,-1.1844648513943034E-12,-1.1844648513943034E-12,-1.1844648513943034E-12,-1.1844648513943034E-12,-1.1844648513943034E-12,-1.1844648513943034E-12,-1.1844648513943034E-12,-1.1844648513943034E-12,-1.1844648513943034E-12,-1.1844648513943034E-12,-1.1844648513943034E-12,-1.1844648513943034E-12,-1.1844648513943034E-12,-1.1844648513943034E-12,-1.1844648513943034E-12,-1.1844648513943034E-12,-1.1844648513943034E-12,{"$f":"OE329","v":-1.1844648513943034E-12},-1.1844648513943034E-12,-1.1844648513943034E-12,-1.1844648513943034E-12,-1.1844648513943034E-12,-1.1844648513943034E-12,-1.1844648513943034E-12,-1.1844648513943034E-12,-1.1844648513943034E-12,-1.1844648513943034E-12,-1.1844648513943034E-12,-1.1844648513943034E-12,-1.1844648513943034E-12,-1.1844648513943034E-12,-1.1844648513943034E-12,-1.1844648513943034E-12,-1.1844648513943034E-12,-1.1844648513943034E-12,-1.1844648513943034E-12,-1.1844648513943034E-12,-1.1844648513943034E-12,-1.1844648513943034E-12,-1.1844648513943034E-12,-1.1844648513943034E-12,-1.1844648513943034E-12,-1.1844648513943034E-12,-1.1844648513943034E-12,-1.1844648513943034E-12,-1.1844648513943034E-12,-1.1844648513943034E-12,-1.1844648513943034E-12,-1.1844648513943034E-12,-1.1844648513943034E-12,-1.1844648513943034E-12,-1.1844648513943034E-12,-1.1844648513943034E-12,-1.1844648513943034E-12,-1.1844648513943034E-12,-1.1844648513943034E-12,-1.1844648513943034E-12,-1.1844648513943034E-12,-1.1844648513943034E-12,-1.1844648513943034E-12,-1.1844648513943034E-12,-1.1844648513943034E-12,-1.1844648513943034E-12,-1.1844648513943034E-12,-1.1844648513943034E-12,-1.1844648513943034E-12,-1.1844648513943034E-12,-1.1844648513943034E-12,-1.1844648513943034E-12,-1.1844648513943034E-12,-1.1844648513943034E-12,-1.1844648513943034E-12,-1.1844648513943034E-12,-1.1844648513943034E-12,-1.1844648513943034E-12,-1.1844648513943034E-12,-1.1844648513943034E-12,-1.1844648513943034E-12,-1.1844648513943034E-12,-1.1844648513943034E-12,-1.1844648513943034E-12,{"$f":"QQ329","v":-1.1844648513943034E-12},-1.1844648513943034E-12,-1.1844648513943034E-12,-1.1844648513943034E-12,-1.1844648513943034E-12,-1.1844648513943034E-12,-1.1844648513943034E-12,-1.1844648513943034E-12,-1.1844648513943034E-12,-1.1844648513943034E-12,-1.1844648513943034E-12,-1.1844648513943034E-12,-1.1844648513943034E-12,-1.1844648513943034E-12,-1.1844648513943034E-12,-1.1844648513943034E-12,-1.1844648513943034E-12,-1.1844648513943034E-12,-1.1844648513943034E-12,-1.1844648513943034E-12,-1.1844648513943034E-12,-1.1844648513943034E-12,-1.1844648513943034E-12,-1.1844648513943034E-12,-1.1844648513943034E-12,-1.1844648513943034E-12,-1.1844648513943034E-12,-1.1844648513943034E-12,-1.1844648513943034E-12,-1.1844648513943034E-12,-1.1844648513943034E-12,-1.1844648513943034E-12,-1.1844648513943034E-12,-1.1844648513943034E-12,-1.1844648513943034E-12,-1.1844648513943034E-12,-1.1844648513943034E-12,-1.1844648513943034E-12]
[null,null,null,"EV/Inv Cap",null,null,null,null,"x",null,{"$f":"K417/K418","v":1.0539892809687459},{"$f":"L417/L418","v":1.1125766148434564},1.1746658016414631,1.2404742314800858,1.3102332055547983,1.3841888500422028,1.4626030914340153,1.5457546975138221,1.6339403884820569,1.7274760230491024,1.8266978646531506,1.9319639333200271,2.043655449068337,2.1621783731768378,2.2879650540738643,2.4214759850830254,2.5632016817675463,2.7136646871599313,2.8734217137467106,3.0430659317026922,3.2232294135383643,3.4145857460410745,3.6178528211588357,3.8337958182987766,4.0632303913942609,0,0,0,0,0,0,0,0,0,0,0,0,0,0,0,0,0,0,0,0,0,0,0,0,0,0,0,0,0,0,0,0,0,0,0,0,0,0,0,0,{"$f":"BX417/BX418","v":0},0,0,0,0,0,0,0,0,0,0,0,0,0,0,0,0,0,0,0,0,0,0,0,0,0,0,0,0,0,0,0,0,0,0,0,0,0,0,0,0,0,0,0,0,0,0,0,0,0,0,0,0,0,0,0,0,0,0,0,0,0,0,0,{"$f":"EJ417/EJ418","v":0},0,0,0,0,0,0,0,0,0,0,0,0,0,0,0,0,0,0,0,0,0,0,0,0,0,0,0,0,0,0,0,0,0,0,0,0,0,0,0,0,0,0,0,0,0,0,0,0,0,0,0,0,0,0,0,0,0,0,0,0,0,0,0,{"$f":"GV417/GV418","v":0},0,0,0,0,0,0,0,0,0,0,0,0,0,0,0,0,0,0,0,0,0,0,0,0,0,0,0,0,0,0,0,0,0,0,0,0,0,0,0,0,0,0,0,0,0,0,0,0,0,0,0,0,0,0,0,0,0,0,0,0,0,0,0,{"$f":"JH417/JH418","v":0},0,0,0,0,0,0,0,0,0,0,0,0,0,0,0,0,0,0,0,0,0,0,0,0,0,0,0,0,0,0,0,0,0,0,0,0,0,0,0,0,0,0,0,0,0,0,0,0,0,0,0,0,0,0,0,0,0,0,0,0,0,0,0,{"$f":"LT417/LT418","v":0},0,0,0,0,0,0,0,0,0,0,0,0,0,0,0,0,0,0,0,0,0,0,0,0,0,0,0,0,0,0,0,0,0,0,0,0,0,0,0,0,0,0,0,0,0,0,0,0,0,0,0,0,0,0,0,0,0,0,0,0,0,0,0,{"$f":"OF417/OF418","v":0},0,0,0,0,0,0,0,0,0,0,0,0,0,0,0,0,0,0,0,0,0,0,0,0,0,0,0,0,0,0,0,0,0,0,0,0,0,0,0,0,0,0,0,0,0,0,0,0,0,0,0,0,0,0,0,0,0,0,0,0,0,0,0,{"$f":"QR417/QR418","v":0},0,0,0,0,0,0,0,0,0,0,0,0,0,0,0,0,0,0,0,0,0,0,0,0,0,0,0,0,0,0,0,0,0,0,0,0]
[]
[null,"Graphs"]
[null,null,null,null,null,null,null,null,null,null,{"$f":"IF(K10,K9,NA())","v":{"$error":"#N/A"}},"2027-12-31","2028-12-31","2029-12-31","2030-12-31","2031-12-31","2032-12-31","2033-12-31","2034-12-31","2035-12-31","2036-12-31","2037-12-31","2038-12-31","2039-12-31","2040-12-31","2041-12-31","2042-12-31","2043-12-31","2044-12-31","2045-12-31","2046-12-31","2047-12-31","2048-12-31","2049-12-31","2050-12-31","2051-12-31",{"$error":"#N/A"},{"$error":"#N/A"},{"$error":"#N/A"},{"$error":"#N/A"},{"$error":"#N/A"},{"$error":"#N/A"},{"$error":"#N/A"},{"$error":"#N/A"},{"$error":"#N/A"},{"$error":"#N/A"},{"$error":"#N/A"},{"$error":"#N/A"},{"$error":"#N/A"},{"$error":"#N/A"},{"$error":"#N/A"},{"$error":"#N/A"},{"$error":"#N/A"},{"$error":"#N/A"},{"$error":"#N/A"},{"$error":"#N/A"},{"$error":"#N/A"},{"$error":"#N/A"},{"$error":"#N/A"},{"$error":"#N/A"},{"$error":"#N/A"},{"$error":"#N/A"},{"$error":"#N/A"},{"$error":"#N/A"},{"$error":"#N/A"},{"$error":"#N/A"},{"$error":"#N/A"},{"$error":"#N/A"},{"$error":"#N/A"},{"$error":"#N/A"},{"$error":"#N/A"},{"$error":"#N/A"},{"$error":"#N/A"},{"$error":"#N/A"},{"$f":"IF(BW10,BW9,NA())","v":{"$error":"#N/A"}},{"$error":"#N/A"},{"$error":"#N/A"},{"$error":"#N/A"},{"$error":"#N/A"},{"$error":"#N/A"},{"$error":"#N/A"},{"$error":"#N/A"},{"$error":"#N/A"},{"$error":"#N/A"},{"$error":"#N/A"},{"$error":"#N/A"},{"$error":"#N/A"},{"$error":"#N/A"},{"$error":"#N/A"},{"$error":"#N/A"},{"$error":"#N/A"},{"$error":"#N/A"},{"$error":"#N/A"},{"$error":"#N/A"},{"$error":"#N/A"},{"$error":"#N/A"},{"$error":"#N/A"},{"$error":"#N/A"},{"$error":"#N/A"},{"$error":"#N/A"},{"$error":"#N/A"},{"$error":"#N/A"},{"$error":"#N/A"},{"$error":"#N/A"},{"$error":"#N/A"},{"$error":"#N/A"},{"$error":"#N/A"},{"$error":"#N/A"},{"$error":"#N/A"},{"$error":"#N/A"},{"$error":"#N/A"},{"$error":"#N/A"},{"$error":"#N/A"},{"$error":"#N/A"},{"$error":"#N/A"},{"$error":"#N/A"},{"$error":"#N/A"},{"$error":"#N/A"},{"$error":"#N/A"},{"$error":"#N/A"},{"$error":"#N/A"},{"$error":"#N/A"},{"$error":"#N/A"},{"$error":"#N/A"},{"$error":"#N/A"},{"$error":"#N/A"},{"$error":"#N/A"},{"$error":"#N/A"},{"$error":"#N/A"},{"$error":"#N/A"},{"$error":"#N/A"},{"$error":"#N/A"},{"$error":"#N/A"},{"$error":"#N/A"},{"$error":"#N/A"},{"$error":"#N/A"},{"$error":"#N/A"},{"$error":"#N/A"},{"$f":"IF(EI10,EI9,NA())","v":{"$error":"#N/A"}},{"$error":"#N/A"},{"$error":"#N/A"},{"$error":"#N/A"},{"$error":"#N/A"},{"$error":"#N/A"},{"$error":"#N/A"},{"$error":"#N/A"},{"$error":"#N/A"},{"$error":"#N/A"},{"$error":"#N/A"},{"$error":"#N/A"},{"$error":"#N/A"},{"$error":"#N/A"},{"$error":"#N/A"},{"$error":"#N/A"},{"$error":"#N/A"},{"$error":"#N/A"},{"$error":"#N/A"},{"$error":"#N/A"},{"$error":"#N/A"},{"$error":"#N/A"},{"$error":"#N/A"},{"$error":"#N/A"},{"$error":"#N/A"},{"$error":"#N/A"},{"$error":"#N/A"},{"$error":"#N/A"},{"$error":"#N/A"},{"$error":"#N/A"},{"$error":"#N/A"},{"$error":"#N/A"},{"$error":"#N/A"},{"$error":"#N/A"},{"$error":"#N/A"},{"$error":"#N/A"},{"$error":"#N/A"},{"$error":"#N/A"},{"$error":"#N/A"},{"$error":"#N/A"},{"$error":"#N/A"},{"$error":"#N/A"},{"$error":"#N/A"},{"$error":"#N/A"},{"$error":"#N/A"},{"$error":"#N/A"},{"$error":"#N/A"},{"$error":"#N/A"},{"$error":"#N/A"},{"$error":"#N/A"},{"$error":"#N/A"},{"$error":"#N/A"},{"$error":"#N/A"},{"$error":"#N/A"},{"$error":"#N/A"},{"$error":"#N/A"},{"$error":"#N/A"},{"$error":"#N/A"},{"$error":"#N/A"},{"$error":"#N/A"},{"$error":"#N/A"},{"$error":"#N/A"},{"$error":"#N/A"},{"$error":"#N/A"},{"$f":"IF(GU10,GU9,NA())","v":{"$error":"#N/A"}},{"$error":"#N/A"},{"$error":"#N/A"},{"$error":"#N/A"},{"$error":"#N/A"},{"$error":"#N/A"},{"$error":"#N/A"},{"$error":"#N/A"},{"$error":"#N/A"},{"$error":"#N/A"},{"$error":"#N/A"},{"$error":"#N/A"},{"$error":"#N/A"},{"$error":"#N/A"},{"$error":"#N/A"},{"$error":"#N/A"},{"$error":"#N/A"},{"$error":"#N/A"},{"$error":"#N/A"},{"$error":"#N/A"},{"$error":"#N/A"},{"$error":"#N/A"},{"$error":"#N/A"},{"$error":"#N/A"},{"$error":"#N/A"},{"$error":"#N/A"},{"$error":"#N/A"},{"$error":"#N/A"},{"$error":"#N/A"},{"$error":"#N/A"},{"$error":"#N/A"},{"$error":"#N/A"},{"$error":"#N/A"},{"$error":"#N/A"},{"$error":"#N/A"},{"$error":"#N/A"},{"$error":"#N/A"},{"$error":"#N/A"},{"$error":"#N/A"},{"$error":"#N/A"},{"$error":"#N/A"},{"$error":"#N/A"},{"$error":"#N/A"},{"$error":"#N/A"},{"$error":"#N/A"},{"$error":"#N/A"},{"$error":"#N/A"},{"$error":"#N/A"},{"$error":"#N/A"},{"$error":"#N/A"},{"$error":"#N/A"},{"$error":"#N/A"},{"$error":"#N/A"},{"$error":"#N/A"},{"$error":"#N/A"},{"$error":"#N/A"},{"$error":"#N/A"},{"$error":"#N/A"},{"$error":"#N/A"},{"$error":"#N/A"},{"$error":"#N/A"},{"$error":"#N/A"},{"$error":"#N/A"},{"$error":"#N/A"},{"$f":"IF(JG10,JG9,NA())","v":{"$error":"#N/A"}},{"$error":"#N/A"},{"$error":"#N/A"},{"$error":"#N/A"},{"$error":"#N/A"},{"$error":"#N/A"},{"$error":"#N/A"},{"$error":"#N/A"},{"$error":"#N/A"},{"$error":"#N/A"},{"$error":"#N/A"},{"$error":"#N/A"},{"$error":"#N/A"},{"$error":"#N/A"},{"$error":"#N/A"},{"$error":"#N/A"},{"$error":"#N/A"},{"$error":"#N/A"},{"$error":"#N/A"},{"$error":"#N/A"},{"$error":"#N/A"},{"$error":"#N/A"},{"$error":"#N/A"},{"$error":"#N/A"},{"$error":"#N/A"},{"$error":"#N/A"},{"$error":"#N/A"},{"$error":"#N/A"},{"$error":"#N/A"},{"$error":"#N/A"},{"$error":"#N/A"},{"$error":"#N/A"},{"$error":"#N/A"},{"$error":"#N/A"},{"$error":"#N/A"},{"$error":"#N/A"},{"$error":"#N/A"},{"$error":"#N/A"},{"$error":"#N/A"},{"$error":"#N/A"},{"$error":"#N/A"},{"$error":"#N/A"},{"$error":"#N/A"},{"$error":"#N/A"},{"$error":"#N/A"},{"$error":"#N/A"},{"$error":"#N/A"},{"$error":"#N/A"},{"$error":"#N/A"},{"$error":"#N/A"},{"$error":"#N/A"},{"$error":"#N/A"},{"$error":"#N/A"},{"$error":"#N/A"},{"$error":"#N/A"},{"$error":"#N/A"},{"$error":"#N/A"},{"$error":"#N/A"},{"$error":"#N/A"},{"$error":"#N/A"},{"$error":"#N/A"},{"$error":"#N/A"},{"$error":"#N/A"},{"$error":"#N/A"},{"$f":"IF(LS10,LS9,NA())","v":{"$error":"#N/A"}},{"$error":"#N/A"},{"$error":"#N/A"},{"$error":"#N/A"},{"$error":"#N/A"},{"$error":"#N/A"},{"$error":"#N/A"},{"$error":"#N/A"},{"$error":"#N/A"},{"$error":"#N/A"},{"$error":"#N/A"},{"$error":"#N/A"},{"$error":"#N/A"},{"$error":"#N/A"},{"$error":"#N/A"},{"$error":"#N/A"},{"$error":"#N/A"},{"$error":"#N/A"},{"$error":"#N/A"},{"$error":"#N/A"},{"$error":"#N/A"},{"$error":"#N/A"},{"$error":"#N/A"},{"$error":"#N/A"},{"$error":"#N/A"},{"$error":"#N/A"},{"$error":"#N/A"},{"$error":"#N/A"},{"$error":"#N/A"},{"$error":"#N/A"},{"$error":"#N/A"},{"$error":"#N/A"},{"$error":"#N/A"},{"$error":"#N/A"},{"$error":"#N/A"},{"$error":"#N/A"},{"$error":"#N/A"},{"$error":"#N/A"},{"$error":"#N/A"},{"$error":"#N/A"},{"$error":"#N/A"},{"$error":"#N/A"},{"$error":"#N/A"},{"$error":"#N/A"},{"$error":"#N/A"},{"$error":"#N/A"},{"$error":"#N/A"},{"$error":"#N/A"},{"$error":"#N/A"},{"$error":"#N/A"},{"$error":"#N/A"},{"$error":"#N/A"},{"$error":"#N/A"},{"$error":"#N/A"},{"$error":"#N/A"},{"$error":"#N/A"},{"$error":"#N/A"},{"$error":"#N/A"},{"$error":"#N/A"},{"$error":"#N/A"},{"$error":"#N/A"},{"$error":"#N/A"},{"$error":"#N/A"},{"$error":"#N/A"},{"$f":"IF(OE10,OE9,NA())","v":{"$error":"#N/A"}},{"$error":"#N/A"},{"$error":"#N/A"},{"$error":"#N/A"},{"$error":"#N/A"},{"$error":"#N/A"},{"$error":"#N/A"},{"$error":"#N/A"},{"$error":"#N/A"},{"$error":"#N/A"},{"$error":"#N/A"},{"$error":"#N/A"},{"$error":"#N/A"},{"$error":"#N/A"},{"$error":"#N/A"},{"$error":"#N/A"},{"$error":"#N/A"},{"$error":"#N/A"},{"$error":"#N/A"},{"$error":"#N/A"},{"$error":"#N/A"},{"$error":"#N/A"},{"$error":"#N/A"},{"$error":"#N/A"},{"$error":"#N/A"},{"$error":"#N/A"},{"$error":"#N/A"},{"$error":"#N/A"},{"$error":"#N/A"},{"$error":"#N/A"},{"$error":"#N/A"},{"$error":"#N/A"},{"$error":"#N/A"},{"$error":"#N/A"},{"$error":"#N/A"},{"$error":"#N/A"},{"$error":"#N/A"},{"$error":"#N/A"},{"$error":"#N/A"},{"$error":"#N/A"},{"$error":"#N/A"},{"$error":"#N/A"},{"$error":"#N/A"},{"$error":"#N/A"},{"$error":"#N/A"},{"$error":"#N/A"},{"$error":"#N/A"},{"$error":"#N/A"},{"$error":"#N/A"},{"$error":"#N/A"},{"$error":"#N/A"},{"$error":"#N/A"},{"$error":"#N/A"},{"$error":"#N/A"},{"$error":"#N/A"},{"$error":"#N/A"},{"$error":"#N/A"},{"$error":"#N/A"},{"$error":"#N/A"},{"$error":"#N/A"},{"$error":"#N/A"},{"$error":"#N/A"},{"$error":"#N/A"},{"$error":"#N/A"},{"$f":"IF(QQ10,QQ9,NA())","v":{"$error":"#N/A"}},{"$error":"#N/A"},{"$error":"#N/A"},{"$error":"#N/A"},{"$error":"#N/A"},{"$error":"#N/A"},{"$error":"#N/A"},{"$error":"#N/A"},{"$error":"#N/A"},{"$error":"#N/A"},{"$error":"#N/A"},{"$error":"#N/A"},{"$error":"#N/A"},{"$error":"#N/A"},{"$error":"#N/A"},{"$error":"#N/A"},{"$error":"#N/A"},{"$error":"#N/A"},{"$error":"#N/A"},{"$error":"#N/A"},{"$error":"#N/A"},{"$error":"#N/A"},{"$error":"#N/A"},{"$error":"#N/A"},{"$error":"#N/A"},{"$error":"#N/A"},{"$error":"#N/A"},{"$error":"#N/A"},{"$error":"#N/A"},{"$error":"#N/A"},{"$error":"#N/A"},{"$error":"#N/A"},{"$error":"#N/A"},{"$error":"#N/A"},{"$error":"#N/A"},{"$error":"#N/A"},{"$error":"#N/A"},{"$error":"#N/A"},{"$error":"#N/A"}]
[null,null,null,"Project value"]
[null,null,null,null,null,null,null,null,null,null,{"$f":"K422","v":{"$error":"#N/A"}},{"$f":"L422","v":"2027-12-31"},"2028-12-31","2029-12-31","2030-12-31","2031-12-31","2032-12-31","2033-12-31","2034-12-31","2035-12-31","2036-12-31","2037-12-31","2038-12-31","2039-12-31","2040-12-31","2041-12-31","2042-12-31","2043-12-31","2044-12-31","2045-12-31","2046-12-31","2047-12-31","2048-12-31","2049-12-31","2050-12-31","2051-12-31",{"$error":"#N/A"},{"$error":"#N/A"},{"$error":"#N/A"},{"$error":"#N/A"},{"$error":"#N/A"},{"$error":"#N/A"},{"$error":"#N/A"},{"$error":"#N/A"},{"$error":"#N/A"},{"$error":"#N/A"},{"$error":"#N/A"},{"$error":"#N/A"},{"$error":"#N/A"},{"$error":"#N/A"},{"$error":"#N/A"},{"$error":"#N/A"},{"$error":"#N/A"},{"$error":"#N/A"},{"$error":"#N/A"},{"$error":"#N/A"},{"$error":"#N/A"},{"$error":"#N/A"},{"$error":"#N/A"},{"$error":"#N/A"},{"$error":"#N/A"},{"$error":"#N/A"},{"$error":"#N/A"},{"$error":"#N/A"},{"$error":"#N/A"},{"$error":"#N/A"},{"$error":"#N/A"},{"$error":"#N/A"},{"$error":"#N/A"},{"$error":"#N/A"},{"$error":"#N/A"},{"$error":"#N/A"},{"$error":"#N/A"},{"$error":"#N/A"},{"$error":"#N/A"},{"$f":"BX422","v":{"$error":"#N/A"}},{"$error":"#N/A"},{"$error":"#N/A"},{"$error":"#N/A"},{"$error":"#N/A"},{"$error":"#N/A"},{"$error":"#N/A"},{"$error":"#N/A"},{"$error":"#N/A"},{"$error":"#N/A"},{"$error":"#N/A"},{"$error":"#N/A"},{"$error":"#N/A"},{"$error":"#N/A"},{"$error":"#N/A"},{"$error":"#N/A"},{"$error":"#N/A"},{"$error":"#N/A"},{"$error":"#N/A"},{"$error":"#N/A"},{"$error":"#N/A"},{"$error":"#N/A"},{"$error":"#N/A"},{"$error":"#N/A"},{"$error":"#N/A"},{"$error":"#N/A"},{"$error":"#N/A"},{"$error":"#N/A"},{"$error":"#N/A"},{"$error":"#N/A"},{"$error":"#N/A"},{"$error":"#N/A"},{"$error":"#N/A"},{"$error":"#N/A"},{"$error":"#N/A"},{"$error":"#N/A"},{"$error":"#N/A"},{"$error":"#N/A"},{"$error":"#N/A"},{"$error":"#N/A"},{"$error":"#N/A"},{"$error":"#N/A"},{"$error":"#N/A"},{"$error":"#N/A"},{"$error":"#N/A"},{"$error":"#N/A"},{"$error":"#N/A"},{"$error":"#N/A"},{"$error":"#N/A"},{"$error":"#N/A"},{"$error":"#N/A"},{"$error":"#N/A"},{"$error":"#N/A"},{"$error":"#N/A"},{"$error":"#N/A"},{"$error":"#N/A"},{"$error":"#N/A"},{"$error":"#N/A"},{"$error":"#N/A"},{"$error":"#N/A"},{"$error":"#N/A"},{"$error":"#N/A"},{"$error":"#N/A"},{"$error":"#N/A"},{"$f":"EJ422","v":{"$error":"#N/A"}},{"$error":"#N/A"},{"$error":"#N/A"},{"$error":"#N/A"},{"$error":"#N/A"},{"$error":"#N/A"},{"$error":"#N/A"},{"$error":"#N/A"},{"$error":"#N/A"},{"$error":"#N/A"},{"$error":"#N/A"},{"$error":"#N/A"},{"$error":"#N/A"},{"$error":"#N/A"},{"$error":"#N/A"},{"$error":"#N/A"},{"$error":"#N/A"},{"$error":"#N/A"},{"$error":"#N/A"},{"$error":"#N/A"},{"$error":"#N/A"},{"$f":"FE422","v":{"$error":"#N/A"}},{"$error":"#N/A"},{"$error":"#N/A"},{"$error":"#N/A"},{"$error":"#N/A"},{"$error":"#N/A"},{"$error":"#N/A"},{"$error":"#N/A"},{"$error":"#N/A"},{"$error":"#N/A"},{"$error":"#N/A"},{"$error":"#N/A"},{"$error":"#N/A"},{"$error":"#N/A"},{"$error":"#N/A"},{"$error":"#N/A"},{"$error":"#N/A"},{"$error":"#N/A"},{"$error":"#N/A"},{"$error":"#N/A"},{"$error":"#N/A"},{"$error":"#N/A"},{"$error":"#N/A"},{"$error":"#N/A"},{"$error":"#N/A"},{"$error":"#N/A"},{"$error":"#N/A"},{"$error":"#N/A"},{"$error":"#N/A"},{"$error":"#N/A"},{"$error":"#N/A"},{"$error":"#N/A"},{"$error":"#N/A"},{"$error":"#N/A"},{"$error":"#N/A"},{"$error":"#N/A"},{"$error":"#N/A"},{"$error":"#N/A"},{"$error":"#N/A"},{"$error":"#N/A"},{"$error":"#N/A"},{"$error":"#N/A"},{"$error":"#N/A"},{"$error":"#N/A"},{"$error":"#N/A"},{"$error":"#N/A"},{"$error":"#N/A"},{"$error":"#N/A"},{"$error":"#N/A"},{"$error":"#N/A"},{"$error":"#N/A"},{"$error":"#N/A"},{"$f":"HE422","v":{"$error":"#N/A"}},{"$error":"#N/A"},{"$error":"#N/A"},{"$error":"#N/A"},{"$error":"#N/A"},{"$error":"#N/A"},{"$error":"#N/A"},{"$error":"#N/A"},{"$error":"#N/A"},{"$error":"#N/A"},{"$error":"#N/A"},{"$error":"#N/A"},{"$error":"#N/A"},{"$error":"#N/A"},{"$error":"#N/A"},{"$error":"#N/A"},{"$error":"#N/A"},{"$error":"#N/A"},{"$error":"#N/A"},{"$error":"#N/A"},{"$error":"#N/A"},{"$error":"#N/A"},{"$error":"#N/A"},{"$error":"#N/A"},{"$error":"#N/A"},{"$error":"#N/A"},{"$error":"#N/A"},{"$error":"#N/A"},{"$error":"#N/A"},{"$error":"#N/A"},{"$error":"#N/A"},{"$error":"#N/A"},{"$error":"#N/A"},{"$error":"#N/A"},{"$error":"#N/A"},{"$error":"#N/A"},{"$error":"#N/A"},{"$error":"#N/A"},{"$error":"#N/A"},{"$error":"#N/A"},{"$error":"#N/A"},{"$error":"#N/A"},{"$error":"#N/A"},{"$error":"#N/A"},{"$error":"#N/A"},{"$error":"#N/A"},{"$error":"#N/A"},{"$error":"#N/A"},{"$error":"#N/A"},{"$error":"#N/A"},{"$error":"#N/A"},{"$error":"#N/A"},{"$error":"#N/A"},{"$error":"#N/A"},{"$error":"#N/A"},{"$error":"#N/A"},{"$error":"#N/A"},{"$error":"#N/A"},{"$error":"#N/A"},{"$error":"#N/A"},{"$error":"#N/A"},{"$error":"#N/A"},{"$error":"#N/A"},{"$error":"#N/A"},{"$f":"JQ422","v":{"$error":"#N/A"}},{"$error":"#N/A"},{"$error":"#N/A"},{"$error":"#N/A"},{"$error":"#N/A"},{"$error":"#N/A"},{"$error":"#N/A"},{"$error":"#N/A"},{"$error":"#N/A"},{"$error":"#N/A"},{"$error":"#N/A"},{"$error":"#N/A"},{"$error":"#N/A"},{"$error":"#N/A"},{"$error":"#N/A"},{"$error":"#N/A"},{"$error":"#N/A"},{"$error":"#N/A"},{"$error":"#N/A"},{"$error":"#N/A"},{"$error":"#N/A"},{"$error":"#N/A"},{"$error":"#N/A"},{"$error":"#N/A"},{"$error":"#N/A"},{"$error":"#N/A"},{"$f":"KQ422","v":{"$error":"#N/A"}},{"$error":"#N/A"},{"$error":"#N/A"},{"$error":"#N/A"},{"$error":"#N/A"},{"$error":"#N/A"},{"$error":"#N/A"},{"$error":"#N/A"},{"$error":"#N/A"},{"$error":"#N/A"},{"$error":"#N/A"},{"$error":"#N/A"},{"$error":"#N/A"},{"$error":"#N/A"},{"$error":"#N/A"},{"$error":"#N/A"},{"$error":"#N/A"},{"$error":"#N/A"},{"$error":"#N/A"},{"$error":"#N/A"},{"$error":"#N/A"},{"$error":"#N/A"},{"$error":"#N/A"},{"$error":"#N/A"},{"$error":"#N/A"},{"$error":"#N/A"},{"$error":"#N/A"},{"$error":"#N/A"},{"$error":"#N/A"},{"$error":"#N/A"},{"$f":"LU422","v":{"$error":"#N/A"}},{"$error":"#N/A"},{"$error":"#N/A"},{"$error":"#N/A"},{"$error":"#N/A"},{"$error":"#N/A"},{"$error":"#N/A"},{"$f":"MB422","v":{"$error":"#N/A"}},{"$error":"#N/A"},{"$error":"#N/A"},{"$error":"#N/A"},{"$error":"#N/A"},{"$error":"#N/A"},{"$error":"#N/A"},{"$error":"#N/A"},{"$error":"#N/A"},{"$error":"#N/A"},{"$error":"#N/A"},{"$error":"#N/A"},{"$error":"#N/A"},{"$error":"#N/A"},{"$error":"#N/A"},{"$error":"#N/A"},{"$error":"#N/A"},{"$error":"#N/A"},{"$error":"#N/A"},{"$f":"MU422","v":{"$error":"#N/A"}},{"$error":"#N/A"},{"$error":"#N/A"},{"$error":"#N/A"},{"$error":"#N/A"},{"$error":"#N/A"},{"$error":"#N/A"},{"$f":"NB422","v":{"$error":"#N/A"}},{"$error":"#N/A"},{"$error":"#N/A"},{"$error":"#N/A"},{"$error":"#N/A"},{"$error":"#N/A"},{"$error":"#N/A"},{"$error":"#N/A"},{"$error":"#N/A"},{"$error":"#N/A"},{"$error":"#N/A"},{"$error":"#N/A"},{"$error":"#N/A"},{"$error":"#N/A"},{"$error":"#N/A"},{"$f":"NQ422","v":{"$error":"#N/A"}},{"$error":"#N/A"},{"$error":"#N/A"},{"$error":"#N/A"},{"$error":"#N/A"},{"$error":"#N/A"},{"$error":"#N/A"},{"$error":"#N/A"},{"$error":"#N/A"},{"$error":"#N/A"},{"$error":"#N/A"},{"$error":"#N/A"},{"$error":"#N/A"},{"$error":"#N/A"},{"$error":"#N/A"},{"$error":"#N/A"},{"$error":"#N/A"},{"$error":"#N/A"},{"$error":"#N/A"},{"$error":"#N/A"},{"$error":"#N/A"},{"$error":"#N/A"},{"$error":"#N/A"},{"$error":"#N/A"},{"$error":"#N/A"},{"$error":"#N/A"},{"$error":"#N/A"},{"$error":"#N/A"},{"$error":"#N/A"},{"$error":"#N/A"},{"$error":"#N/A"},{"$error":"#N/A"},{"$error":"#N/A"},{"$error":"#N/A"},{"$error":"#N/A"},{"$error":"#N/A"},{"$error":"#N/A"},{"$error":"#N/A"},{"$error":"#N/A"},{"$error":"#N/A"},{"$error":"#N/A"},{"$error":"#N/A"},{"$error":"#N/A"},{"$error":"#N/A"},{"$error":"#N/A"},{"$error":"#N/A"},{"$error":"#N/A"},{"$error":"#N/A"},{"$error":"#N/A"},{"$error":"#N/A"},{"$error":"#N/A"},{"$error":"#N/A"},{"$error":"#N/A"},{"$error":"#N/A"},{"$error":"#N/A"},{"$error":"#N/A"},{"$error":"#N/A"},{"$error":"#N/A"},{"$error":"#N/A"},{"$error":"#N/A"},{"$error":"#N/A"},{"$error":"#N/A"},{"$error":"#N/A"},{"$error":"#N/A"},{"$f":"QC422","v":{"$error":"#N/A"}},{"$error":"#N/A"},{"$error":"#N/A"},{"$error":"#N/A"},{"$error":"#N/A"},{"$error":"#N/A"},{"$error":"#N/A"},{"$error":"#N/A"},{"$error":"#N/A"},{"$error":"#N/A"},{"$error":"#N/A"},{"$error":"#N/A"},{"$error":"#N/A"},{"$error":"#N/A"},{"$error":"#N/A"},{"$error":"#N/A"},{"$error":"#N/A"},{"$error":"#N/A"},{"$error":"#N/A"},{"$error":"#N/A"},{"$error":"#N/A"},{"$error":"#N/A"},{"$error":"#N/A"},{"$error":"#N/A"},{"$error":"#N/A"},{"$error":"#N/A"},{"$error":"#N/A"},{"$error":"#N/A"},{"$error":"#N/A"},{"$error":"#N/A"},{"$error":"#N/A"},{"$error":"#N/A"},{"$error":"#N/A"},{"$error":"#N/A"},{"$error":"#N/A"},{"$error":"#N/A"},{"$error":"#N/A"},{"$error":"#N/A"},{"$error":"#N/A"},{"$error":"#N/A"},{"$error":"#N/A"},{"$error":"#N/A"},{"$error":"#N/A"},{"$error":"#N/A"},{"$error":"#N/A"},{"$error":"#N/A"},{"$error":"#N/A"},{"$error":"#N/A"},{"$error":"#N/A"},{"$error":"#N/A"},{"$error":"#N/A"},{"$error":"#N/A"},{"$error":"#N/A"}]
[null,null,null,"CFADS",null,null,null,null,null,null,{"$f":"IF(K10,K84)","v":false},1996.2293257986116,2082.6940881280998,2172.8848235718328,2266.9611031766731,2365.0892804813293,2467.442777117245,2574.2023802943349,2685.5565526586561,2801.7017550285864,2922.8427825364943,3049.1931147239011,3180.9752801601389,3318.4212361772652,3461.7727643376566,3611.281882275297,3767.211272577325,3929.8347293988782,4099.4376235318814,4276.3173866769575,4460.7840156973771,4653.1605976647907,4853.7838565384964,5063.0047223532074,5281.1889238248596,5508.7176053196836,false,false,false,false,false,false,false,false,false,false,false,false,false,false,false,false,false,false,false,false,false,false,false,false,false,false,false,false,false,false,false,false,false,false,false,false,false,false,{"$f":"IF(BW10,BW84)","v":false},false,false,false,false,false,false,false,false,false,false,false,false,false,false,false,false,false,false,false,false,false,false,false,false,false,false,false,false,false,false,false,false,false,false,false,false,false,false,false,false,false,false,false,false,false,false,false,false,false,false,false,false,false,false,false,false,false,false,false,false,false,false,false,{"$f":"IF(EI10,EI84)","v":false},false,false,false,false,false,false,false,false,false,false,false,false,false,false,false,false,false,false,false,false,false,false,false,false,false,false,false,false,false,false,false,false,false,false,false,false,false,false,false,false,false,false,false,false,false,false,false,false,false,false,false,false,false,false,false,false,false,false,false,false,false,false,false,{"$f":"IF(GU10,GU84)","v":false},false,false,false,false,false,false,false,false,false,false,false,false,false,false,false,false,false,false,false,false,false,false,false,false,false,false,false,false,false,false,false,false,false,false,false,false,false,false,false,false,false,false,false,false,false,false,false,false,false,false,false,false,false,false,false,false,false,false,false,false,false,false,false,{"$f":"IF(JG10,JG84)","v":false},false,false,false,false,false,false,false,false,false,false,false,false,false,false,false,false,false,false,false,false,false,false,false,false,false,false,false,false,false,false,false,false,false,false,false,false,false,false,false,false,false,false,false,false,false,false,false,false,false,false,false,false,false,false,false,false,false,false,false,false,false,false,false,{"$f":"IF(LS10,LS84)","v":false},false,false,false,false,false,false,false,false,false,false,false,false,false,false,false,false,false,false,false,false,false,false,false,false,false,false,false,false,false,false,false,false,false,false,false,false,false,false,false,false,false,false,false,false,false,false,false,false,false,false,false,false,false,false,false,false,false,false,false,false,false,false,false,{"$f":"IF(OE10,OE84)","v":false},false,false,false,false,false,false,false,false,false,false,false,false,false,false,false,false,false,false,false,false,false,false,false,false,false,false,false,false,false,false,false,false,false,false,false,false,false,false,false,false,false,false,false,false,false,false,false,false,false,false,false,false,false,false,false,false,false,false,false,false,false,false,false,{"$f":"IF(QQ10,QQ84)","v":false},false,false,false,false,false,false,false,false,false,false,false,false,false,false,false,false,false,false,false,false,false,false,false,false,false,false,false,false,false,false,false,false,false,false,false,false,false,false]
[null,null,null,"Debt Service",null,null,null,null,null,null,{"$f":"K133","v":0},1436.7898344057044,1498.7131770723829,1563.2889392022462,1630.6298840602146,1700.8535244420109,1774.082320384397,1850.4438849813853,1930.0711986320787,2013.1028320585285,2099.6831784451952,2189.9626950652682,2284.0981547733218,2382.252907758505,2484.5971539677298,2591.3082266241677,2702.5708872828,2818.5776328817678,2939.5290152659413,3065.6339736774421,3197.1101807267764,0,0,0,0,0,0,0,0,0,0,0,0,0,0,0,0,0,0,0,0,0,0,0,0,0,0,0,0,0,0,0,0,0,0,0,0,0,0,0,0,0,0,0,{"$f":"BW133","v":0},0,0,0,0,0,0,0,0,0,0,0,0,0,0,0,0,0,0,0,0,0,0,0,0,0,0,0,0,0,0,0,0,0,0,0,0,0,0,0,0,0,0,0,0,0,0,0,0,0,0,0,0,0,0,0,0,0,0,0,0,0,0,0,{"$f":"EI133","v":0},0,0,0,0,0,0,0,0,0,0,0,0,0,0,0,0,0,0,0,0,0,0,0,0,0,0,0,0,0,0,0,0,0,0,0,0,0,0,0,0,0,0,0,0,0,0,0,0,0,0,0,0,0,0,0,0,0,0,0,0,0,0,0,{"$f":"GU133","v":0},0,0,0,0,0,0,0,0,0,0,0,0,0,0,0,0,0,0,0,0,0,0,0,0,0,0,0,0,0,0,0,0,0,0,0,0,0,0,0,0,0,0,0,0,0,0,0,0,0,0,0,0,0,0,0,0,0,0,0,0,0,0,0,{"$f":"JG133","v":0},0,0,0,0,0,0,0,0,0,0,0,0,0,0,0,0,0,0,0,0,0,0,0,0,0,0,0,0,0,0,0,0,0,0,0,0,0,0,0,0,0,0,0,0,0,0,0,0,0,0,0,0,0,0,0,0,0,0,0,0,0,0,0,{"$f":"LS133","v":0},0,0,0,0,0,0,0,0,0,0,0,0,0,0,0,0,0,0,0,0,0,0,0,0,0,0,0,0,0,0,0,0,0,0,0,0,0,0,0,0,0,0,0,0,0,0,0,0,0,0,0,0,0,0,0,0,0,0,0,0,0,0,0,{"$f":"OE133","v":0},0,0,0,0,0,0,0,0,0,0,0,0,0,0,0,0,0,0,0,0,0,0,0,0,0,0,0,0,0,0,0,0,0,0,0,0,0,0,0,0,0,0,0,0,0,0,0,0,0,0,0,0,0,0,0,0,0,0,0,0,0,0,0,{"$f":"QQ133","v":0},0,0,0,0,0,0,0,0,0,0,0,0,0,0,0,0,0,0,0,0,0,0,0,0,0,0,0,0,0,0,0,0,0,0,0,0,0,0]
[]
[null,null,null,null,null,null,null,null,null,null,{"$f":"K422","v":{"$error":"#N/A"}},{"$f":"L422","v":"2027-12-31"},"2028-12-31","2029-12-31","2030-12-31","2031-12-31","2032-12-31","2033-12-31","2034-12-31","2035-12-31","2036-12-31","2037-12-31","2038-12-31","2039-12-31","2040-12-31","2041-12-31","2042-12-31","2043-12-31","2044-12-31","2045-12-31","2046-12-31","2047-12-31","2048-12-31","2049-12-31","2050-12-31","2051-12-31",{"$error":"#N/A"},{"$error":"#N/A"},{"$error":"#N/A"},{"$error":"#N/A"},{"$error":"#N/A"},{"$error":"#N/A"},{"$error":"#N/A"},{"$error":"#N/A"},{"$error":"#N/A"},{"$error":"#N/A"},{"$error":"#N/A"},{"$error":"#N/A"},{"$error":"#N/A"},{"$error":"#N/A"},{"$error":"#N/A"},{"$error":"#N/A"},{"$error":"#N/A"},{"$error":"#N/A"},{"$error":"#N/A"},{"$error":"#N/A"},{"$error":"#N/A"},{"$error":"#N/A"},{"$error":"#N/A"},{"$error":"#N/A"},{"$error":"#N/A"},{"$error":"#N/A"},{"$error":"#N/A"},{"$error":"#N/A"},{"$error":"#N/A"},{"$error":"#N/A"},{"$error":"#N/A"},{"$error":"#N/A"},{"$error":"#N/A"},{"$error":"#N/A"},{"$error":"#N/A"},{"$error":"#N/A"},{"$error":"#N/A"},{"$error":"#N/A"},{"$error":"#N/A"},{"$f":"BX422","v":{"$error":"#N/A"}},{"$error":"#N/A"},{"$error":"#N/A"},{"$error":"#N/A"},{"$error":"#N/A"},{"$error":"#N/A"},{"$error":"#N/A"},{"$error":"#N/A"},{"$error":"#N/A"},{"$error":"#N/A"},{"$error":"#N/A"},{"$error":"#N/A"},{"$error":"#N/A"},{"$error":"#N/A"},{"$error":"#N/A"},{"$error":"#N/A"},{"$error":"#N/A"},{"$error":"#N/A"},{"$error":"#N/A"},{"$error":"#N/A"},{"$error":"#N/A"},{"$error":"#N/A"},{"$error":"#N/A"},{"$error":"#N/A"},{"$error":"#N/A"},{"$error":"#N/A"},{"$error":"#N/A"},{"$error":"#N/A"},{"$error":"#N/A"},{"$error":"#N/A"},{"$error":"#N/A"},{"$error":"#N/A"},{"$error":"#N/A"},{"$error":"#N/A"},{"$error":"#N/A"},{"$error":"#N/A"},{"$error":"#N/A"},{"$error":"#N/A"},{"$error":"#N/A"},{"$error":"#N/A"},{"$error":"#N/A"},{"$error":"#N/A"},{"$error":"#N/A"},{"$error":"#N/A"},{"$error":"#N/A"},{"$error":"#N/A"},{"$error":"#N/A"},{"$error":"#N/A"},{"$error":"#N/A"},{"$error":"#N/A"},{"$error":"#N/A"},{"$error":"#N/A"},{"$error":"#N/A"},{"$error":"#N/A"},{"$error":"#N/A"},{"$error":"#N/A"},{"$error":"#N/A"},{"$error":"#N/A"},{"$error":"#N/A"},{"$error":"#N/A"},{"$error":"#N/A"},{"$error":"#N/A"},{"$error":"#N/A"},{"$error":"#N/A"},{"$f":"EJ422","v":{"$error":"#N/A"}},{"$error":"#N/A"},{"$error":"#N/A"},{"$error":"#N/A"},{"$error":"#N/A"},{"$error":"#N/A"},{"$error":"#N/A"},{"$error":"#N/A"},{"$error":"#N/A"},{"$error":"#N/A"},{"$error":"#N/A"},{"$error":"#N/A"},{"$error":"#N/A"},{"$error":"#N/A"},{"$error":"#N/A"},{"$error":"#N/A"},{"$error":"#N/A"},{"$error":"#N/A"},{"$error":"#N/A"},{"$error":"#N/A"},{"$error":"#N/A"},{"$error":"#N/A"},{"$error":"#N/A"},{"$error":"#N/A"},{"$error":"#N/A"},{"$error":"#N/A"},{"$error":"#N/A"},{"$error":"#N/A"},{"$error":"#N/A"},{"$error":"#N/A"},{"$error":"#N/A"},{"$error":"#N/A"},{"$error":"#N/A"},{"$error":"#N/A"},{"$error":"#N/A"},{"$error":"#N/A"},{"$error":"#N/A"},{"$error":"#N/A"},{"$error":"#N/A"},{"$error":"#N/A"},{"$error":"#N/A"},{"$error":"#N/A"},{"$error":"#N/A"},{"$error":"#N/A"},{"$error":"#N/A"},{"$error":"#N/A"},{"$error":"#N/A"},{"$error":"#N/A"},{"$error":"#N/A"},{"$error":"#N/A"},{"$error":"#N/A"},{"$error":"#N/A"},{"$error":"#N/A"},{"$error":"#N/A"},{"$error":"#N/A"},{"$error":"#N/A"},{"$error":"#N/A"},{"$error":"#N/A"},{"$error":"#N/A"},{"$error":"#N/A"},{"$error":"#N/A"},{"$error":"#N/A"},{"$error":"#N/A"},{"$error":"#N/A"},{"$f":"GV422","v":{"$error":"#N/A"}},{"$error":"#N/A"},{"$error":"#N/A"},{"$error":"#N/A"},{"$error":"#N/A"},{"$error":"#N/A"},{"$error":"#N/A"},{"$error":"#N/A"},{"$error":"#N/A"},{"$error":"#N/A"},{"$error":"#N/A"},{"$error":"#N/A"},{"$error":"#N/A"},{"$error":"#N/A"},{"$error":"#N/A"},{"$error":"#N/A"},{"$error":"#N/A"},{"$error":"#N/A"},{"$error":"#N/A"},{"$error":"#N/A"},{"$error":"#N/A"},{"$error":"#N/A"},{"$error":"#N/A"},{"$error":"#N/A"},{"$error":"#N/A"},{"$error":"#N/A"},{"$error":"#N/A"},{"$error":"#N/A"},{"$error":"#N/A"},{"$error":"#N/A"},{"$error":"#N/A"},{"$error":"#N/A"},{"$error":"#N/A"},{"$error":"#N/A"},{"$error":"#N/A"},{"$error":"#N/A"},{"$error":"#N/A"},{"$error":"#N/A"},{"$error":"#N/A"},{"$error":"#N/A"},{"$error":"#N/A"},{"$error":"#N/A"},{"$error":"#N/A"},{"$error":"#N/A"},{"$error":"#N/A"},{"$error":"#N/A"},{"$error":"#N/A"},{"$error":"#N/A"},{"$error":"#N/A"},{"$error":"#N/A"},{"$error":"#N/A"},{"$error":"#N/A"},{"$error":"#N/A"},{"$error":"#N/A"},{"$error":"#N/A"},{"$error":"#N/A"},{"$error":"#N/A"},{"$error":"#N/A"},{"$error":"#N/A"},{"$error":"#N/A"},{"$error":"#N/A"},{"$error":"#N/A"},{"$error":"#N/A"},{"$error":"#N/A"},{"$f":"JH422","v":{"$error":"#N/A"}},{"$error":"#N/A"},{"$error":"#N/A"},{"$error":"#N/A"},{"$error":"#N/A"},{"$error":"#N/A"},{"$error":"#N/A"},{"$error":"#N/A"},{"$error":"#N/A"},{"$error":"#N/A"},{"$error":"#N/A"},{"$error":"#N/A"},{"$error":"#N/A"},{"$error":"#N/A"},{"$error":"#N/A"},{"$error":"#N/A"},{"$error":"#N/A"},{"$error":"#N/A"},{"$error":"#N/A"},{"$error":"#N/A"},{"$error":"#N/A"},{"$error":"#N/A"},{"$error":"#N/A"},{"$error":"#N/A"},{"$error":"#N/A"},{"$error":"#N/A"},{"$error":"#N/A"},{"$error":"#N/A"},{"$error":"#N/A"},{"$error":"#N/A"},{"$error":"#N/A"},{"$error":"#N/A"},{"$error":"#N/A"},{"$error":"#N/A"},{"$error":"#N/A"},{"$error":"#N/A"},{"$error":"#N/A"},{"$error":"#N/A"},{"$error":"#N/A"},{"$error":"#N/A"},{"$error":"#N/A"},{"$error":"#N/A"},{"$error":"#N/A"},{"$error":"#N/A"},{"$error":"#N/A"},{"$error":"#N/A"},{"$error":"#N/A"},{"$error":"#N/A"},{"$error":"#N/A"},{"$error":"#N/A"},{"$error":"#N/A"},{"$error":"#N/A"},{"$error":"#N/A"},{"$error":"#N/A"},{"$error":"#N/A"},{"$error":"#N/A"},{"$error":"#N/A"},{"$error":"#N/A"},{"$error":"#N/A"},{"$error":"#N/A"},{"$error":"#N/A"},{"$error":"#N/A"},{"$error":"#N/A"},{"$error":"#N/A"},{"$f":"LT422","v":{"$error":"#N/A"}},{"$error":"#N/A"},{"$error":"#N/A"},{"$error":"#N/A"},{"$error":"#N/A"},{"$error":"#N/A"},{"$error":"#N/A"},{"$error":"#N/A"},{"$error":"#N/A"},{"$error":"#N/A"},{"$error":"#N/A"},{"$error":"#N/A"},{"$error":"#N/A"},{"$error":"#N/A"},{"$error":"#N/A"},{"$error":"#N/A"},{"$error":"#N/A"},{"$error":"#N/A"},{"$error":"#N/A"},{"$error":"#N/A"},{"$error":"#N/A"},{"$error":"#N/A"},{"$error":"#N/A"},{"$error":"#N/A"},{"$error":"#N/A"},{"$error":"#N/A"},{"$error":"#N/A"},{"$error":"#N/A"},{"$error":"#N/A"},{"$error":"#N/A"},{"$error":"#N/A"},{"$error":"#N/A"},{"$error":"#N/A"},{"$error":"#N/A"},{"$error":"#N/A"},{"$error":"#N/A"},{"$error":"#N/A"},{"$error":"#N/A"},{"$error":"#N/A"},{"$error":"#N/A"},{"$error":"#N/A"},{"$error":"#N/A"},{"$error":"#N/A"},{"$error":"#N/A"},{"$error":"#N/A"},{"$error":"#N/A"},{"$error":"#N/A"},{"$error":"#N/A"},{"$error":"#N/A"},{"$error":"#N/A"},{"$error":"#N/A"},{"$error":"#N/A"},{"$error":"#N/A"},{"$error":"#N/A"},{"$error":"#N/A"},{"$error":"#N/A"},{"$error":"#N/A"},{"$error":"#N/A"},{"$error":"#N/A"},{"$error":"#N/A"},{"$error":"#N/A"},{"$error":"#N/A"},{"$error":"#N/A"},{"$error":"#N/A"},{"$f":"OF422","v":{"$error":"#N/A"}},{"$error":"#N/A"},{"$error":"#N/A"},{"$error":"#N/A"},{"$error":"#N/A"},{"$error":"#N/A"},{"$error":"#N/A"},{"$error":"#N/A"},{"$error":"#N/A"},{"$error":"#N/A"},{"$error":"#N/A"},{"$error":"#N/A"},{"$error":"#N/A"},{"$error":"#N/A"},{"$error":"#N/A"},{"$error":"#N/A"},{"$error":"#N/A"},{"$error":"#N/A"},{"$error":"#N/A"},{"$error":"#N/A"},{"$error":"#N/A"},{"$error":"#N/A"},{"$error":"#N/A"},{"$error":"#N/A"},{"$error":"#N/A"},{"$error":"#N/A"},{"$error":"#N/A"},{"$error":"#N/A"},{"$error":"#N/A"},{"$error":"#N/A"},{"$error":"#N/A"},{"$error":"#N/A"},{"$error":"#N/A"},{"$error":"#N/A"},{"$error":"#N/A"},{"$error":"#N/A"},{"$error":"#N/A"},{"$error":"#N/A"},{"$error":"#N/A"},{"$error":"#N/A"},{"$error":"#N/A"},{"$error":"#N/A"},{"$error":"#N/A"},{"$error":"#N/A"},{"$error":"#N/A"},{"$error":"#N/A"},{"$error":"#N/A"},{"$error":"#N/A"},{"$error":"#N/A"},{"$error":"#N/A"},{"$error":"#N/A"},{"$error":"#N/A"},{"$error":"#N/A"},{"$error":"#N/A"},{"$error":"#N/A"},{"$error":"#N/A"},{"$error":"#N/A"},{"$error":"#N/A"},{"$error":"#N/A"},{"$error":"#N/A"},{"$error":"#N/A"},{"$error":"#N/A"},{"$error":"#N/A"},{"$error":"#N/A"},{"$f":"QR422","v":{"$error":"#N/A"}},{"$error":"#N/A"},{"$error":"#N/A"},{"$error":"#N/A"},{"$error":"#N/A"},{"$error":"#N/A"},{"$error":"#N/A"},{"$error":"#N/A"},{"$error":"#N/A"},{"$error":"#N/A"},{"$error":"#N/A"},{"$error":"#N/A"},{"$error":"#N/A"},{"$error":"#N/A"},{"$error":"#N/A"},{"$error":"#N/A"},{"$error":"#N/A"},{"$error":"#N/A"},{"$error":"#N/A"},{"$error":"#N/A"},{"$error":"#N/A"},{"$error":"#N/A"},{"$error":"#N/A"},{"$error":"#N/A"},{"$error":"#N/A"},{"$error":"#N/A"},{"$error":"#N/A"},{"$error":"#N/A"},{"$error":"#N/A"},{"$error":"#N/A"},{"$error":"#N/A"},{"$error":"#N/A"},{"$error":"#N/A"},{"$error":"#N/A"},{"$error":"#N/A"},{"$error":"#N/A"},{"$error":"#N/A"},{"$error":"#N/A"}]
[null,null,null,"Value - Pre-tax Cash Flow",null,null,null,null,null,null,{"$f":"K364","v":27078.933699698096},27693.164089793594,28278.13251111253,28827.004933207008,29332.096563058451,29784.779655283102,30175.381803817319,30493.073750765689,30725.745651152538,30859.870625659969,30880.354316091423,30770.369029198639,30511.170912476024,30081.89844926518,29459.350388599923,28617.741036093026,27528.430624096894,26159.628250466692,24476.064623431506,22438.631573044011,20003.984984909021,17124.107476612382,13745.826768430605,9810.2852941423625,5252.3561513908844,0,0,0,0,0,0,0,0,0,0,0,0,0,0,0,0,0,0,0,0,0,0,0,0,0,0,0,0,0,0,0,0,0,0,0,0,0,0,0,{"$f":"BW364","v":0},0,0,0,0,0,0,0,0,0,0,0,0,0,0,0,0,0,0,0,0,0,0,0,0,0,0,0,0,0,0,0,0,0,0,0,0,0,0,0,0,0,0,0,0,0,0,0,0,0,0,0,0,0,0,0,0,0,0,0,0,0,0,0,{"$f":"EI364","v":0},0,0,0,0,0,0,0,0,0,0,0,0,0,0,0,0,0,0,0,0,0,0,0,0,0,0,0,0,0,0,0,0,0,0,0,0,0,0,0,0,0,0,0,0,0,0,0,0,0,0,0,0,0,0,0,0,0,0,0,0,0,0,0,{"$f":"GU364","v":0},0,0,0,0,0,0,0,0,0,0,0,0,0,0,0,0,0,0,0,0,0,0,0,0,0,0,0,0,0,0,0,0,0,0,0,0,0,0,0,0,0,0,0,0,0,0,0,0,0,0,0,0,0,0,0,0,0,0,0,0,0,0,0,{"$f":"JG364","v":0},0,0,0,0,0,0,0,0,0,0,0,0,0,0,0,0,0,0,0,0,0,0,0,0,0,0,0,0,0,0,0,0,0,0,0,0,0,0,0,0,0,0,0,0,0,0,0,0,0,0,0,0,0,0,0,0,0,0,0,0,0,0,0,{"$f":"LS364","v":0},0,0,0,0,0,0,0,0,0,0,0,0,0,0,0,0,0,0,0,0,0,0,0,0,0,0,0,0,0,0,0,0,0,0,0,0,0,0,0,0,0,0,0,0,0,0,0,0,0,0,0,0,0,0,0,0,0,0,0,0,0,0,0,{"$f":"OE364","v":0},0,0,0,0,0,0,0,0,0,0,0,0,0,0,0,0,0,0,0,0,0,0,0,0,0,0,0,0,0,0,0,0,0,0,0,0,0,0,0,0,0,0,0,0,0,0,0,0,0,0,0,0,0,0,0,0,0,0,0,0,0,0,0,{"$f":"QQ364","v":0},0,0,0,0,0,0,0,0,0,0,0,0,0,0,0,0,0,0,0,0,0,0,0,0,0,0,0,0,0,0,0,0,0,0,0,0,0,0]
[null,null,null,"Value - After-tax Cash Flow",null,null,null,null,null,null,{"$f":"K374","v":27403.721305187395},27769.912306492672,28098.005975263797,28382.050416264367,28615.493209316795,28791.128080877817,28901.037086736142,28936.527937458752,28888.066068362765,28745.201023537065,28496.48668858915,28129.394869139593,27630.22167140391,26983.986097246929,26174.320218605,25183.350244863461,23991.567741344228,22577.690197170625,20918.510076076047,18988.731413824793,16760.792950399489,14204.676703530864,11287.700802015563,7974.2953020614514,4225.7596070500258,0,0,0,0,0,0,0,0,0,0,0,0,0,0,0,0,0,0,0,0,0,0,0,0,0,0,0,0,0,0,0,0,0,0,0,0,0,0,0,{"$f":"BW374","v":0},0,0,0,0,0,0,0,0,0,0,0,0,0,0,0,0,0,0,0,0,0,0,0,0,0,0,0,0,0,0,0,0,0,0,0,0,0,0,0,0,0,0,0,0,0,0,0,0,0,0,0,0,0,0,0,0,0,0,0,0,0,0,0,{"$f":"EI374","v":0},0,0,0,0,0,0,0,0,0,0,0,0,0,0,0,0,0,0,0,0,0,0,0,0,0,0,0,0,0,0,0,0,0,0,0,0,0,0,0,0,0,0,0,0,0,0,0,0,0,0,0,0,0,0,0,0,0,0,0,0,0,0,0,{"$f":"GU374","v":0},0,0,0,0,0,0,0,0,0,0,0,0,0,0,0,0,0,0,0,0,0,0,0,0,0,0,0,0,0,0,0,0,0,0,0,0,0,0,0,0,0,0,0,0,0,0,0,0,0,0,0,0,0,0,0,0,0,0,0,0,0,0,0,{"$f":"JG374","v":0},0,0,0,0,0,0,0,0,0,0,0,0,0,0,0,0,0,0,0,0,0,0,0,0,0,0,0,0,0,0,0,0,0,0,0,0,0,0,0,0,0,0,0,0,0,0,0,0,0,0,0,0,0,0,0,0,0,0,0,0,0,0,0,{"$f":"LS374","v":0},0,0,0,0,0,0,0,0,0,0,0,0,0,0,0,0,0,0,0,0,0,0,0,0,0,0,0,0,0,0,0,0,0,0,0,0,0,0,0,0,0,0,0,0,0,0,0,0,0,0,0,0,0,0,0,0,0,0,0,0,0,0,0,{"$f":"OE374","v":0},0,0,0,0,0,0,0,0,0,0,0,0,0,0,0,0,0,0,0,0,0,0,0,0,0,0,0,0,0,0,0,0,0,0,0,0,0,0,0,0,0,0,0,0,0,0,0,0,0,0,0,0,0,0,0,0,0,0,0,0,0,0,0,{"$f":"QQ374","v":0},0,0,0,0,0,0,0,0,0,0,0,0,0,0,0,0,0,0,0,0,0,0,0,0,0,0,0,0,0,0,0,0,0,0,0,0,0,0]
[null,null,null,"Value - Equity Cash Flow",null,null,null,null,null,null,{"$f":"K387","v":7934.3496378668297},8188.4911637073337,8441.0063804432975,8692.865650641821,8942.7532189931535,9191.7821027833506,9433.2480271160584,9667.5333803014491,9892.373309165112,10108.079235837913,10306.260791238738,10486.20371245392,10644.152511644483,11049.019376302398,11529.061456397258,12085.231006814876,12730.325612366554,13482.869111482409,14352.36556050057,15361.479100980139,16532.113033689449,14192.346535000077,11424.129593281788,8177.2324171837427,4391.5382039897613,0,0,0,0,0,0,0,0,0,0,0,0,0,0,0,0,0,0,0,0,0,0,0,0,0,0,0,0,0,0,0,0,0,0,0,0,0,0,0,{"$f":"BW387","v":0},0,0,0,0,0,0,0,0,0,0,0,0,0,0,0,0,0,0,0,0,0,0,0,0,0,0,0,0,0,0,0,0,0,0,0,0,0,0,0,0,0,0,0,0,0,0,0,0,0,0,0,0,0,0,0,0,0,0,0,0,0,0,0,{"$f":"EI387","v":0},0,0,0,0,0,0,0,0,0,0,0,0,0,0,0,0,0,0,0,0,0,0,0,0,0,0,0,0,0,0,0,0,0,0,0,0,0,0,0,0,0,0,0,0,0,0,0,0,0,0,0,0,0,0,0,0,0,0,0,0,0,0,0,{"$f":"GU387","v":0},0,0,0,0,0,0,0,0,0,0,0,0,0,0,0,0,0,0,0,0,0,0,0,0,0,0,0,0,0,0,0,0,0,0,0,0,0,0,0,0,0,0,0,0,0,0,0,0,0,0,0,0,0,0,0,0,0,0,0,0,0,0,0,{"$f":"JG387","v":0},0,0,0,0,0,0,0,0,0,0,0,0,0,0,0,0,0,0,0,0,0,0,0,0,0,0,0,0,0,0,0,0,0,0,0,0,0,0,0,0,0,0,0,0,0,0,0,0,0,0,0,0,0,0,0,0,0,0,0,0,0,0,0,{"$f":"LS387","v":0},0,0,0,0,0,0,0,0,0,0,0,0,0,0,0,0,0,0,0,0,0,0,0,0,0,0,0,0,0,0,0,0,0,0,0,0,0,0,0,0,0,0,0,0,0,0,0,0,0,0,0,0,0,0,0,0,0,0,0,0,0,0,0,{"$f":"OE387","v":0},0,0,0,0,0,0,0,0,0,0,0,0,0,0,0,0,0,0,0,0,0,0,0,0,0,0,0,0,0,0,0,0,0,0,0,0,0,0,0,0,0,0,0,0,0,0,0,0,0,0,0,0,0,0,0,0,0,0,0,0,0,0,0,{"$f":"QQ387","v":0},0,0,0,0,0,0,0,0,0,0,0,0,0,0,0,0,0,0,0,0,0,0,0,0,0,0,0,0,0,0,0,0,0,0,0,0,0,0]
[]
[null,null,null,"Life Period Counter",null,null,null,{"$f":"H10","v":25},null,0,{"$f":"J433+K10","v":0},1,2,3,4,5,6,7,8,9,10,11,12,13,14,15,16,17,18,19,20,21,22,23,24,25,25,25,25,25,25,25,25,25,25,25,25,25,25,25,25,25,25,25,25,25,25,25,25,25,25,25,25,25,25,25,25,25,25,25,25,25,25,25,{"$f":"BV433+BW10","v":25},25,25,25,25,25,25,25,25,25,25,25,25,25,25,25,25,25,25,25,25,25,25,25,25,25,25,25,25,25,25,25,25,25,25,25,25,25,25,25,25,25,25,25,25,25,25,25,25,25,25,25,25,25,25,25,25,25,25,25,25,25,25,25,{"$f":"EH433+EI10","v":25},25,25,25,25,25,25,25,25,25,25,25,25,25,25,25,25,25,25,25,25,25,25,25,25,25,25,25,25,25,25,25,25,25,25,25,25,25,25,25,25,25,25,25,25,25,25,25,25,25,25,25,25,25,25,25,25,25,25,25,25,25,25,25,{"$f":"GT433+GU10","v":25},25,25,25,25,25,25,25,25,25,25,25,25,25,25,25,25,25,25,25,25,25,25,25,25,25,25,25,25,25,25,25,25,25,25,25,25,25,25,25,25,25,25,25,25,25,25,25,25,25,25,25,25,25,25,25,25,25,25,25,25,25,25,25,{"$f":"JF433+JG10","v":25},25,25,25,25,25,25,25,25,25,25,25,25,25,25,25,25,25,25,25,25,25,25,25,25,25,25,25,25,25,25,25,25,25,25,25,25,25,25,25,25,25,25,25,25,25,25,25,25,25,25,25,25,25,25,25,25,25,25,25,25,25,25,25,{"$f":"LR433+LS10","v":25},25,25,25,25,25,25,25,25,25,25,25,25,25,25,25,25,25,25,25,25,25,25,25,25,25,25,25,25,25,25,25,25,25,25,25,25,25,25,25,25,25,25,25,25,25,25,25,25,25,25,25,25,25,25,25,25,25,25,25,25,25,25,25,{"$f":"OD433+OE10","v":25},25,25,25,25,25,25,25,25,25,25,25,25,25,25,25,25,25,25,25,25,25,25,25,25,25,25,25,25,25,25,25,25,25,25,25,25,25,25,25,25,25,25,25,25,25,25,25,25,25,25,25,25,25,25,25,25,25,25,25,25,25,25,25,{"$f":"QP433+QQ10","v":25},25,25,25,25,25,25,25,25,25,25,25,25,25,25,25,25,25,25,25,25,25,25,25,25,25,25,25,25,25,25,25,25,25,25,25,25,25,25]
[]
[null,null,null,null,null,null,null,null,null,null,{"$f":"_xlfn.SEQUENCE(,H433)","v":1},2,3,4,5,6,7,8,9,10,11,12,13,14,15,16,17,18,19,20,21,22,23,24,25]
[null,null,null,"CFADS",null,null,null,null,null,null,{"$f":"_xlfn.XLOOKUP(K435,433:433,425:425,0,-1)","v":1996.2293257986116},{"$f":"_xlfn.XLOOKUP(L435,433:433,425:425,0,-1)","v":2082.6940881280998},2172.8848235718328,2266.9611031766731,2365.0892804813293,2467.442777117245,2574.2023802943349,2685.5565526586561,2801.7017550285864,2922.8427825364943,3049.1931147239011,3180.9752801601389,3318.4212361772652,3461.7727643376566,3611.281882275297,3767.211272577325,3929.8347293988782,4099.4376235318814,4276.3173866769575,4460.7840156973771,4653.1605976647907,4853.7838565384964,5063.0047223532074,5281.1889238248596,0,0,0,0,0,0,0,0,0,0,0,{"$f":"_xlfn.XLOOKUP(AT435,433:433,425:425,0,-1)","v":0},{"$f":"_xlfn.XLOOKUP(AU435,433:433,425:425,0,-1)","v":0},{"$f":"_xlfn.XLOOKUP(AV435,433:433,425:425,0,-1)","v":0},{"$f":"_xlfn.XLOOKUP(AW435,433:433,425:425,0,-1)","v":0},{"$f":"_xlfn.XLOOKUP(AX435,433:433,425:425,0,-1)","v":0},{"$f":"_xlfn.XLOOKUP(AY435,433:433,425:425,0,-1)","v":0},{"$f":"_xlfn.XLOOKUP(AZ435,433:433,425:425,0,-1)","v":0},{"$f":"_xlfn.XLOOKUP(BA435,433:433,425:425,0,-1)","v":0},{"$f":"_xlfn.XLOOKUP(BB435,433:433,425:425,0,-1)","v":0},{"$f":"_xlfn.XLOOKUP(BC435,433:433,425:425,0,-1)","v":0},{"$f":"_xlfn.XLOOKUP(BD435,433:433,425:425,0,-1)","v":0},{"$f":"_xlfn.XLOOKUP(BE435,433:433,425:425,0,-1)","v":0},{"$f":"_xlfn.XLOOKUP(BF435,433:433,425:425,0,-1)","v":0},{"$f":"_xlfn.XLOOKUP(BG435,433:433,425:425,0,-1)","v":0},{"$f":"_xlfn.XLOOKUP(BH435,433:433,425:425,0,-1)","v":0},{"$f":"_xlfn.XLOOKUP(BI435,433:433,425:425,0,-1)","v":0},{"$f":"_xlfn.XLOOKUP(BJ435,433:433,425:425,0,-1)","v":0},{"$f":"_xlfn.XLOOKUP(BK435,433:433,425:425,0,-1)","v":0},{"$f":"_xlfn.XLOOKUP(BL435,433:433,425:425,0,-1)","v":0},{"$f":"_xlfn.XLOOKUP(BM435,433:433,425:425,0,-1)","v":0},{"$f":"_xlfn.XLOOKUP(BN435,433:433,425:425,0,-1)","v":0},{"$f":"_xlfn.XLOOKUP(BO435,433:433,425:425,0,-1)","v":0},{"$f":"_xlfn.XLOOKUP(BP435,433:433,425:425,0,-1)","v":0},{"$f":"_xlfn.XLOOKUP(BQ435,433:433,425:425,0,-1)","v":0},{"$f":"_xlfn.XLOOKUP(BR435,433:433,425:425,0,-1)","v":0},{"$f":"_xlfn.XLOOKUP(BS435,433:433,425:425,0,-1)","v":0},{"$f":"_xlfn.XLOOKUP(BT435,433:433,425:425,0,-1)","v":0},{"$f":"_xlfn.XLOOKUP(BU435,433:433,425:425,0,-1)","v":0},{"$f":"_xlfn.XLOOKUP(BV435,433:433,425:425,0,-1)","v":0},{"$f":"_xlfn.XLOOKUP(BW435,433:433,425:425,0,-1)","v":0},{"$f":"_xlfn.XLOOKUP(BX435,433:433,425:425,0,-1)","v":0},{"$f":"_xlfn.XLOOKUP(BY435,433:433,425:425,0,-1)","v":0},{"$f":"_xlfn.XLOOKUP(BZ435,433:433,425:425,0,-1)","v":0},{"$f":"_xlfn.XLOOKUP(CA435,433:433,425:425,0,-1)","v":0},{"$f":"_xlfn.XLOOKUP(CB435,433:433,425:425,0,-1)","v":0},{"$f":"_xlfn.XLOOKUP(CC435,433:433,425:425,0,-1)","v":0},{"$f":"_xlfn.XLOOKUP(CD435,433:433,425:425,0,-1)","v":0},{"$f":"_xlfn.XLOOKUP(CE435,433:433,425:425,0,-1)","v":0},{"$f":"_xlfn.XLOOKUP(CF435,433:433,425:425,0,-1)","v":0},{"$f":"_xlfn.XLOOKUP(CG435,433:433,425:425,0,-1)","v":0},{"$f":"_xlfn.XLOOKUP(CH435,433:433,425:425,0,-1)","v":0},{"$f":"_xlfn.XLOOKUP(CI435,433:433,425:425,0,-1)","v":0},{"$f":"_xlfn.XLOOKUP(CJ435,433:433,425:425,0,-1)","v":0},{"$f":"_xlfn.XLOOKUP(CK435,433:433,425:425,0,-1)","v":0},{"$f":"_xlfn.XLOOKUP(CL435,433:433,425:425,0,-1)","v":0},{"$f":"_xlfn.XLOOKUP(CM435,433:433,425:425,0,-1)","v":0},{"$f":"_xlfn.XLOOKUP(CN435,433:433,425:425,0,-1)","v":0},{"$f":"_xlfn.XLOOKUP(CO435,433:433,425:425,0,-1)","v":0},{"$f":"_xlfn.XLOOKUP(CP435,433:433,425:425,0,-1)","v":0},{"$f":"_xlfn.XLOOKUP(CQ435,433:433,425:425,0,-1)","v":0},{"$f":"_xlfn.XLOOKUP(CR435,433:433,425:425,0,-1)","v":0},{"$f":"_xlfn.XLOOKUP(CS435,433:433,425:425,0,-1)","v":0},{"$f":"_xlfn.XLOOKUP(CT435,433:433,425:425,0,-1)","v":0},{"$f":"_xlfn.XLOOKUP(CU435,433:433,425:425,0,-1)","v":0},{"$f":"_xlfn.XLOOKUP(CV435,433:433,425:425,0,-1)","v":0},{"$f":"_xlfn.XLOOKUP(CW435,433:433,425:425,0,-1)","v":0},{"$f":"_xlfn.XLOOKUP(CX435,433:433,425:425,0,-1)","v":0},{"$f":"_xlfn.XLOOKUP(CY435,433:433,425:425,0,-1)","v":0},{"$f":"_xlfn.XLOOKUP(CZ435,433:433,425:425,0,-1)","v":0},{"$f":"_xlfn.XLOOKUP(DA435,433:433,425:425,0,-1)","v":0},{"$f":"_xlfn.XLOOKUP(DB435,433:433,425:425,0,-1)","v":0},{"$f":"_xlfn.XLOOKUP(DC435,433:433,425:425,0,-1)","v":0},{"$f":"_xlfn.XLOOKUP(DD435,433:433,425:425,0,-1)","v":0},{"$f":"_xlfn.XLOOKUP(DE435,433:433,425:425,0,-1)","v":0},{"$f":"_xlfn.XLOOKUP(DF435,433:433,425:425,0,-1)","v":0},{"$f":"_xlfn.XLOOKUP(DG435,433:433,425:425,0,-1)","v":0},{"$f":"_xlfn.XLOOKUP(DH435,433:433,425:425,0,-1)","v":0},{"$f":"_xlfn.XLOOKUP(DI435,433:433,425:425,0,-1)","v":0},{"$f":"_xlfn.XLOOKUP(DJ435,433:433,425:425,0,-1)","v":0},{"$f":"_xlfn.XLOOKUP(DK435,433:433,425:425,0,-1)","v":0},{"$f":"_xlfn.XLOOKUP(DL435,433:433,425:425,0,-1)","v":0},{"$f":"_xlfn.XLOOKUP(DM435,433:433,425:425,0,-1)","v":0},{"$f":"_xlfn.XLOOKUP(DN435,433:433,425:425,0,-1)","v":0},{"$f":"_xlfn.XLOOKUP(DO435,433:433,425:425,0,-1)","v":0},{"$f":"_xlfn.XLOOKUP(DP435,433:433,425:425,0,-1)","v":0},{"$f":"_xlfn.XLOOKUP(DQ435,433:433,425:425,0,-1)","v":0},{"$f":"_xlfn.XLOOKUP(DR435,433:433,425:425,0,-1)","v":0},{"$f":"_xlfn.XLOOKUP(DS435,433:433,425:425,0,-1)","v":0},{"$f":"_xlfn.XLOOKUP(DT435,433:433,425:425,0,-1)","v":0},{"$f":"_xlfn.XLOOKUP(DU435,433:433,425:425,0,-1)","v":0},{"$f":"_xlfn.XLOOKUP(DV435,433:433,425:425,0,-1)","v":0},{"$f":"_xlfn.XLOOKUP(DW435,433:433,425:425,0,-1)","v":0},{"$f":"_xlfn.XLOOKUP(DX435,433:433,425:425,0,-1)","v":0},{"$f":"_xlfn.XLOOKUP(DY435,433:433,425:425,0,-1)","v":0},{"$f":"_xlfn.XLOOKUP(DZ435,433:433,425:425,0,-1)","v":0},{"$f":"_xlfn.XLOOKUP(EA435,433:433,425:425,0,-1)","v":0},{"$f":"_xlfn.XLOOKUP(EB435,433:433,425:425,0,-1)","v":0},{"$f":"_xlfn.XLOOKUP(EC435,433:433,425:425,0,-1)","v":0},{"$f":"_xlfn.XLOOKUP(ED435,433:433,425:425,0,-1)","v":0},{"$f":"_xlfn.XLOOKUP(EE435,433:433,425:425,0,-1)","v":0},{"$f":"_xlfn.XLOOKUP(EF435,433:433,425:425,0,-1)","v":0},{"$f":"_xlfn.XLOOKUP(EG435,433:433,425:425,0,-1)","v":0},{"$f":"_xlfn.XLOOKUP(EH435,433:433,425:425,0,-1)","v":0},{"$f":"_xlfn.XLOOKUP(EI435,433:433,425:425,0,-1)","v":0},{"$f":"_xlfn.XLOOKUP(EJ435,433:433,425:425,0,-1)","v":0},{"$f":"_xlfn.XLOOKUP(EK435,433:433,425:425,0,-1)","v":0},{"$f":"_xlfn.XLOOKUP(EL435,433:433,425:425,0,-1)","v":0},{"$f":"_xlfn.XLOOKUP(EM435,433:433,425:425,0,-1)","v":0},{"$f":"_xlfn.XLOOKUP(EN435,433:433,425:425,0,-1)","v":0},{"$f":"_xlfn.XLOOKUP(EO435,433:433,425:425,0,-1)","v":0},{"$f":"_xlfn.XLOOKUP(EP435,433:433,425:425,0,-1)","v":0},{"$f":"_xlfn.XLOOKUP(EQ435,433:433,425:425,0,-1)","v":0},{"$f":"_xlfn.XLOOKUP(ER435,433:433,425:425,0,-1)","v":0},{"$f":"_xlfn.XLOOKUP(ES435,433:433,425:425,0,-1)","v":0},{"$f":"_xlfn.XLOOKUP(ET435,433:433,425:425,0,-1)","v":0},{"$f":"_xlfn.XLOOKUP(EU435,433:433,425:425,0,-1)","v":0},{"$f":"_xlfn.XLOOKUP(EV435,433:433,425:425,0,-1)","v":0},{"$f":"_xlfn.XLOOKUP(EW435,433:433,425:425,0,-1)","v":0},{"$f":"_xlfn.XLOOKUP(EX435,433:433,425:425,0,-1)","v":0},{"$f":"_xlfn.XLOOKUP(EY435,433:433,425:425,0,-1)","v":0},{"$f":"_xlfn.XLOOKUP(EZ435,433:433,425:425,0,-1)","v":0},{"$f":"_xlfn.XLOOKUP(FA435,433:433,425:425,0,-1)","v":0},{"$f":"_xlfn.XLOOKUP(FB435,433:433,425:425,0,-1)","v":0},{"$f":"_xlfn.XLOOKUP(FC435,433:433,425:425,0,-1)","v":0},{"$f":"_xlfn.XLOOKUP(FD435,433:433,425:425,0,-1)","v":0},{"$f":"_xlfn.XLOOKUP(FE435,433:433,425:425,0,-1)","v":0},{"$f":"_xlfn.XLOOKUP(FF435,433:433,425:425,0,-1)","v":0},{"$f":"_xlfn.XLOOKUP(FG435,433:433,425:425,0,-1)","v":0},{"$f":"_xlfn.XLOOKUP(FH435,433:433,425:425,0,-1)","v":0},{"$f":"_xlfn.XLOOKUP(FI435,433:433,425:425,0,-1)","v":0},{"$f":"_xlfn.XLOOKUP(FJ435,433:433,425:425,0,-1)","v":0},{"$f":"_xlfn.XLOOKUP(FK435,433:433,425:425,0,-1)","v":0},{"$f":"_xlfn.XLOOKUP(FL435,433:433,425:425,0,-1)","v":0},{"$f":"_xlfn.XLOOKUP(FM435,433:433,425:425,0,-1)","v":0},{"$f":"_xlfn.XLOOKUP(FN435,433:433,425:425,0,-1)","v":0},{"$f":"_xlfn.XLOOKUP(FO435,433:433,425:425,0,-1)","v":0},{"$f":"_xlfn.XLOOKUP(FP435,433:433,425:425,0,-1)","v":0},{"$f":"_xlfn.XLOOKUP(FQ435,433:433,425:425,0,-1)","v":0},{"$f":"_xlfn.XLOOKUP(FR435,433:433,425:425,0,-1)","v":0},{"$f":"_xlfn.XLOOKUP(FS435,433:433,425:425,0,-1)","v":0},{"$f":"_xlfn.XLOOKUP(FT435,433:433,425:425,0,-1)","v":0},{"$f":"_xlfn.XLOOKUP(FU435,433:433,425:425,0,-1)","v":0},{"$f":"_xlfn.XLOOKUP(FV435,433:433,425:425,0,-1)","v":0},{"$f":"_xlfn.XLOOKUP(FW435,433:433,425:425,0,-1)","v":0},{"$f":"_xlfn.XLOOKUP(FX435,433:433,425:425,0,-1)","v":0},{"$f":"_xlfn.XLOOKUP(FY435,433:433,425:425,0,-1)","v":0},{"$f":"_xlfn.XLOOKUP(FZ435,433:433,425:425,0,-1)","v":0},{"$f":"_xlfn.XLOOKUP(GA435,433:433,425:425,0,-1)","v":0},{"$f":"_xlfn.XLOOKUP(GB435,433:433,425:425,0,-1)","v":0},{"$f":"_xlfn.XLOOKUP(GC435,433:433,425:425,0,-1)","v":0},{"$f":"_xlfn.XLOOKUP(GD435,433:433,425:425,0,-1)","v":0},{"$f":"_xlfn.XLOOKUP(GE435,433:433,425:425,0,-1)","v":0},{"$f":"_xlfn.XLOOKUP(GF435,433:433,425:425,0,-1)","v":0},{"$f":"_xlfn.XLOOKUP(GG435,433:433,425:425,0,-1)","v":0},{"$f":"_xlfn.XLOOKUP(GH435,433:433,425:425,0,-1)","v":0},{"$f":"_xlfn.XLOOKUP(GI435,433:433,425:425,0,-1)","v":0},{"$f":"_xlfn.XLOOKUP(GJ435,433:433,425:425,0,-1)","v":0},{"$f":"_xlfn.XLOOKUP(GK435,433:433,425:425,0,-1)","v":0},{"$f":"_xlfn.XLOOKUP(GL435,433:433,425:425,0,-1)","v":0},{"$f":"_xlfn.XLOOKUP(GM435,433:433,425:425,0,-1)","v":0},{"$f":"_xlfn.XLOOKUP(GN435,433:433,425:425,0,-1)","v":0},{"$f":"_xlfn.XLOOKUP(GO435,433:433,425:425,0,-1)","v":0},{"$f":"_xlfn.XLOOKUP(GP435,433:433,425:425,0,-1)","v":0},{"$f":"_xlfn.XLOOKUP(GQ435,433:433,425:425,0,-1)","v":0},{"$f":"_xlfn.XLOOKUP(GR435,433:433,425:425,0,-1)","v":0},{"$f":"_xlfn.XLOOKUP(GS435,433:433,425:425,0,-1)","v":0},{"$f":"_xlfn.XLOOKUP(GT435,433:433,425:425,0,-1)","v":0},{"$f":"_xlfn.XLOOKUP(GU435,433:433,425:425,0,-1)","v":0},{"$f":"_xlfn.XLOOKUP(GV435,433:433,425:425,0,-1)","v":0},{"$f":"_xlfn.XLOOKUP(GW435,433:433,425:425,0,-1)","v":0},{"$f":"_xlfn.XLOOKUP(GX435,433:433,425:425,0,-1)","v":0},{"$f":"_xlfn.XLOOKUP(GY435,433:433,425:425,0,-1)","v":0},{"$f":"_xlfn.XLOOKUP(GZ435,433:433,425:425,0,-1)","v":0},{"$f":"_xlfn.XLOOKUP(HA435,433:433,425:425,0,-1)","v":0},{"$f":"_xlfn.XLOOKUP(HB435,433:433,425:425,0,-1)","v":0},{"$f":"_xlfn.XLOOKUP(HC435,433:433,425:425,0,-1)","v":0},{"$f":"_xlfn.XLOOKUP(HD435,433:433,425:425,0,-1)","v":0},{"$f":"_xlfn.XLOOKUP(HE435,433:433,425:425,0,-1)","v":0},{"$f":"_xlfn.XLOOKUP(HF435,433:433,425:425,0,-1)","v":0},{"$f":"_xlfn.XLOOKUP(HG435,433:433,425:425,0,-1)","v":0},{"$f":"_xlfn.XLOOKUP(HH435,433:433,425:425,0,-1)","v":0},{"$f":"_xlfn.XLOOKUP(HI435,433:433,425:425,0,-1)","v":0},{"$f":"_xlfn.XLOOKUP(HJ435,433:433,425:425,0,-1)","v":0},{"$f":"_xlfn.XLOOKUP(HK435,433:433,425:425,0,-1)","v":0},{"$f":"_xlfn.XLOOKUP(HL435,433:433,425:425,0,-1)","v":0},{"$f":"_xlfn.XLOOKUP(HM435,433:433,425:425,0,-1)","v":0},{"$f":"_xlfn.XLOOKUP(HN435,433:433,425:425,0,-1)","v":0},{"$f":"_xlfn.XLOOKUP(HO435,433:433,425:425,0,-1)","v":0},{"$f":"_xlfn.XLOOKUP(HP435,433:433,425:425,0,-1)","v":0},{"$f":"_xlfn.XLOOKUP(HQ435,433:433,425:425,0,-1)","v":0},{"$f":"_xlfn.XLOOKUP(HR435,433:433,425:425,0,-1)","v":0},{"$f":"_xlfn.XLOOKUP(HS435,433:433,425:425,0,-1)","v":0},{"$f":"_xlfn.XLOOKUP(HT435,433:433,425:425,0,-1)","v":0},{"$f":"_xlfn.XLOOKUP(HU435,433:433,425:425,0,-1)","v":0},{"$f":"_xlfn.XLOOKUP(HV435,433:433,425:425,0,-1)","v":0},{"$f":"_xlfn.XLOOKUP(HW435,433:433,425:425,0,-1)","v":0},{"$f":"_xlfn.XLOOKUP(HX435,433:433,425:425,0,-1)","v":0},{"$f":"_xlfn.XLOOKUP(HY435,433:433,425:425,0,-1)","v":0},{"$f":"_xlfn.XLOOKUP(HZ435,433:433,425:425,0,-1)","v":0},{"$f":"_xlfn.XLOOKUP(IA435,433:433,425:425,0,-1)","v":0},{"$f":"_xlfn.XLOOKUP(IB435,433:433,425:425,0,-1)","v":0},{"$f":"_xlfn.XLOOKUP(IC435,433:433,425:425,0,-1)","v":0},{"$f":"_xlfn.XLOOKUP(ID435,433:433,425:425,0,-1)","v":0},{"$f":"_xlfn.XLOOKUP(IE435,433:433,425:425,0,-1)","v":0},{"$f":"_xlfn.XLOOKUP(IF435,433:433,425:425,0,-1)","v":0},{"$f":"_xlfn.XLOOKUP(IG435,433:433,425:425,0,-1)","v":0},{"$f":"_xlfn.XLOOKUP(IH435,433:433,425:425,0,-1)","v":0},{"$f":"_xlfn.XLOOKUP(II435,433:433,425:425,0,-1)","v":0},{"$f":"_xlfn.XLOOKUP(IJ435,433:433,425:425,0,-1)","v":0},{"$f":"_xlfn.XLOOKUP(IK435,433:433,425:425,0,-1)","v":0},{"$f":"_xlfn.XLOOKUP(IL435,433:433,425:425,0,-1)","v":0},{"$f":"_xlfn.XLOOKUP(IM435,433:433,425:425,0,-1)","v":0},{"$f":"_xlfn.XLOOKUP(IN435,433:433,425:425,0,-1)","v":0},{"$f":"_xlfn.XLOOKUP(IO435,433:433,425:425,0,-1)","v":0},{"$f":"_xlfn.XLOOKUP(IP435,433:433,425:425,0,-1)","v":0},{"$f":"_xlfn.XLOOKUP(IQ435,433:433,425:425,0,-1)","v":0},{"$f":"_xlfn.XLOOKUP(IR435,433:433,425:425,0,-1)","v":0},{"$f":"_xlfn.XLOOKUP(IS435,433:433,425:425,0,-1)","v":0},{"$f":"_xlfn.XLOOKUP(IT435,433:433,425:425,0,-1)","v":0},{"$f":"_xlfn.XLOOKUP(IU435,433:433,425:425,0,-1)","v":0},{"$f":"_xlfn.XLOOKUP(IV435,433:433,425:425,0,-1)","v":0},{"$f":"_xlfn.XLOOKUP(IW435,433:433,425:425,0,-1)","v":0},{"$f":"_xlfn.XLOOKUP(IX435,433:433,425:425,0,-1)","v":0},{"$f":"_xlfn.XLOOKUP(IY435,433:433,425:425,0,-1)","v":0},{"$f":"_xlfn.XLOOKUP(IZ435,433:433,425:425,0,-1)","v":0},{"$f":"_xlfn.XLOOKUP(JA435,433:433,425:425,0,-1)","v":0},{"$f":"_xlfn.XLOOKUP(JB435,433:433,425:425,0,-1)","v":0},{"$f":"_xlfn.XLOOKUP(JC435,433:433,425:425,0,-1)","v":0},{"$f":"_xlfn.XLOOKUP(JD435,433:433,425:425,0,-1)","v":0},{"$f":"_xlfn.XLOOKUP(JE435,433:433,425:425,0,-1)","v":0},{"$f":"_xlfn.XLOOKUP(JF435,433:433,425:425,0,-1)","v":0},{"$f":"_xlfn.XLOOKUP(JG435,433:433,425:425,0,-1)","v":0},{"$f":"_xlfn.XLOOKUP(JH435,433:433,425:425,0,-1)","v":0},{"$f":"_xlfn.XLOOKUP(JI435,433:433,425:425,0,-1)","v":0},{"$f":"_xlfn.XLOOKUP(JJ435,433:433,425:425,0,-1)","v":0},{"$f":"_xlfn.XLOOKUP(JK435,433:433,425:425,0,-1)","v":0},{"$f":"_xlfn.XLOOKUP(JL435,433:433,425:425,0,-1)","v":0},{"$f":"_xlfn.XLOOKUP(JM435,433:433,425:425,0,-1)","v":0},{"$f":"_xlfn.XLOOKUP(JN435,433:433,425:425,0,-1)","v":0},{"$f":"_xlfn.XLOOKUP(JO435,433:433,425:425,0,-1)","v":0},{"$f":"_xlfn.XLOOKUP(JP435,433:433,425:425,0,-1)","v":0},{"$f":"_xlfn.XLOOKUP(JQ435,433:433,425:425,0,-1)","v":0},{"$f":"_xlfn.XLOOKUP(JR435,433:433,425:425,0,-1)","v":0},{"$f":"_xlfn.XLOOKUP(JS435,433:433,425:425,0,-1)","v":0},{"$f":"_xlfn.XLOOKUP(JT435,433:433,425:425,0,-1)","v":0},{"$f":"_xlfn.XLOOKUP(JU435,433:433,425:425,0,-1)","v":0},{"$f":"_xlfn.XLOOKUP(JV435,433:433,425:425,0,-1)","v":0},{"$f":"_xlfn.XLOOKUP(JW435,433:433,425:425,0,-1)","v":0},{"$f":"_xlfn.XLOOKUP(JX435,433:433,425:425,0,-1)","v":0},{"$f":"_xlfn.XLOOKUP(JY435,433:433,425:425,0,-1)","v":0},{"$f":"_xlfn.XLOOKUP(JZ435,433:433,425:425,0,-1)","v":0},{"$f":"_xlfn.XLOOKUP(KA435,433:433,425:425,0,-1)","v":0},{"$f":"_xlfn.XLOOKUP(KB435,433:433,425:425,0,-1)","v":0},{"$f":"_xlfn.XLOOKUP(KC435,433:433,425:425,0,-1)","v":0},{"$f":"_xlfn.XLOOKUP(KD435,433:433,425:425,0,-1)","v":0},{"$f":"_xlfn.XLOOKUP(KE435,433:433,425:425,0,-1)","v":0},{"$f":"_xlfn.XLOOKUP(KF435,433:433,425:425,0,-1)","v":0},{"$f":"_xlfn.XLOOKUP(KG435,433:433,425:425,0,-1)","v":0},{"$f":"_xlfn.XLOOKUP(KH435,433:433,425:425,0,-1)","v":0},{"$f":"_xlfn.XLOOKUP(KI435,433:433,425:425,0,-1)","v":0},{"$f":"_xlfn.XLOOKUP(KJ435,433:433,425:425,0,-1)","v":0},{"$f":"_xlfn.XLOOKUP(KK435,433:433,425:425,0,-1)","v":0},{"$f":"_xlfn.XLOOKUP(KL435,433:433,425:425,0,-1)","v":0},{"$f":"_xlfn.XLOOKUP(KM435,433:433,425:425,0,-1)","v":0},{"$f":"_xlfn.XLOOKUP(KN435,433:433,425:425,0,-1)","v":0},{"$f":"_xlfn.XLOOKUP(KO435,433:433,425:425,0,-1)","v":0},{"$f":"_xlfn.XLOOKUP(KP435,433:433,425:425,0,-1)","v":0},{"$f":"_xlfn.XLOOKUP(KQ435,433:433,425:425,0,-1)","v":0},{"$f":"_xlfn.XLOOKUP(KR435,433:433,425:425,0,-1)","v":0},{"$f":"_xlfn.XLOOKUP(KS435,433:433,425:425,0,-1)","v":0},{"$f":"_xlfn.XLOOKUP(KT435,433:433,425:425,0,-1)","v":0},{"$f":"_xlfn.XLOOKUP(KU435,433:433,425:425,0,-1)","v":0},{"$f":"_xlfn.XLOOKUP(KV435,433:433,425:425,0,-1)","v":0},{"$f":"_xlfn.XLOOKUP(KW435,433:433,425:425,0,-1)","v":0},{"$f":"_xlfn.XLOOKUP(KX435,433:433,425:425,0,-1)","v":0},{"$f":"_xlfn.XLOOKUP(KY435,433:433,425:425,0,-1)","v":0},{"$f":"_xlfn.XLOOKUP(KZ435,433:433,425:425,0,-1)","v":0},{"$f":"_xlfn.XLOOKUP(LA435,433:433,425:425,0,-1)","v":0},{"$f":"_xlfn.XLOOKUP(LB435,433:433,425:425,0,-1)","v":0},{"$f":"_xlfn.XLOOKUP(LC435,433:433,425:425,0,-1)","v":0},{"$f":"_xlfn.XLOOKUP(LD435,433:433,425:425,0,-1)","v":0},{"$f":"_xlfn.XLOOKUP(LE435,433:433,425:425,0,-1)","v":0},{"$f":"_xlfn.XLOOKUP(LF435,433:433,425:425,0,-1)","v":0},{"$f":"_xlfn.XLOOKUP(LG435,433:433,425:425,0,-1)","v":0},{"$f":"_xlfn.XLOOKUP(LH435,433:433,425:425,0,-1)","v":0},0,0,0,0,0,0,0,0,0,0,0,0,0,0,0,0,0,0,0,0,0,0,0,0,0,0,0,0,0,0,0,0,0,0,0,0,0,0,0,0,0,0,0,0,0,0,0,0,0,0,0,0,0,0,0,0,0,0,0,0,0,0,0,{"$f":"_xlfn.XLOOKUP(NT435,433:433,425:425,0,-1)","v":0},0,0,0,0,0,0,0,0,0,0,0,0,0,0,0,0,0,0,0,0,0,0,0,0,0,0,0,0,0,0,0,0,0,0,0,0,0,0,0,0,0,0,0,0,0,0]
[null,null,null,"Debt Service",null,null,null,null,null,null,{"$f":"_xlfn.XLOOKUP(K435,433:433,426:426,0,-1)","v":1436.7898344057044},{"$f":"_xlfn.XLOOKUP(L435,433:433,426:426,0,-1)","v":1498.7131770723829},1563.2889392022462,1630.6298840602146,1700.8535244420109,1774.082320384397,1850.4438849813853,1930.0711986320787,2013.1028320585285,2099.6831784451952,2189.9626950652682,2284.0981547733218,2382.252907758505,2484.5971539677298,2591.3082266241677,2702.5708872828,2818.5776328817678,2939.5290152659413,3065.6339736774421,3197.1101807267764,0,0,0,0,0,0,0,0,0,0,0,0,0,0,0,{"$f":"_xlfn.XLOOKUP(AT435,433:433,426:426,0,-1)","v":0},0,0,0,0,0,0,0,0,0,0,0,0,0,0,0,0,0,0,0,0,0,0,0,0,0,0,0,0,0,0,0,0,0,0,0,0,0,0,0,0,0,0,0,0,0,0,0,{"$f":"_xlfn.XLOOKUP(CP435,433:433,426:426,0,-1)","v":0},0,0,0,0,0,0,0,0,0,0,0,0,0,0,0,0,0,0,0,0,0,0,0,0,0,0,0,0,0,0,0,0,0,0,0,0,0,0,0,0,0,0,0,0,0,0,0,0,0,0,0,0,0,0,{"$f":"_xlfn.XLOOKUP(ES435,433:433,426:426,0,-1)","v":0},0,0,0,0,0,0,0,0,0,0,0,0,0,0,0,0,0,0,0,0,0,0,0,0,0,0,0,0,0,0,0,0,0,0,0,0,0,0,0,0,0,0,0,0,0,0,0,0,0,0,0,0,0,0,0,0,0,0,0,0,0,0,0,{"$f":"_xlfn.XLOOKUP(HE435,433:433,426:426,0,-1)","v":0},0,0,0,0,0,0,0,0,0,0,0,0,0,0,0,0,0,0,0,0,0,0,0,0,0,0,0,0,0,0,0,0,0,0,0,0,0,0,0,0,0,0,0,0,0,0,0,0,0,0,0,0,0,0,0,0,0,0,0,0,0,0,0,{"$f":"_xlfn.XLOOKUP(JQ435,433:433,426:426,0,-1)","v":0},0,0,0,0,0,0,0,0,0,0,0,0,0,0,0,0,0,0,0,0,0,0,0,0,0,0,0,0,0,0,0,0,0,0,0,0,0,0,0,0,0,0,0,{"$f":"_xlfn.XLOOKUP(LI435,433:433,426:426,0,-1)","v":0},0,0,0,0,0,0,0,0,0,0,0,0,0,0,0,0,0,0,0,0,0,0,0,0,0,0,0,0,0,0,0,0,0,0,0,0,0,0,0,0,0,0,0,0,0,0,0,0,0,0,0,0,0,0,0,0,0,0,0,0,0,0,0,{"$f":"_xlfn.XLOOKUP(NU435,433:433,426:426,0,-1)","v":0},0,0,0,0,0,0,0,0,0,0,0,0,0,0,0,0,0,0,0,0,0,0,0,0,0,0,0,0,0,0,0,0,0,0,0,0,0,0,0,0,0,0,0,0,0]

{"sheet":"Transaction","index":5,"n_rows":53,"n_cols":6,"rows_kept":53,"cut":false,"hidden":false,"merged":[]}
[]
[null,null,null,null,"Units","Constant"]
[]
[null,"Transaction Date",null,null,"Date",{"$f":"'Financial Model'!F383","v":"2030-12-31"}]
[]
[null,"Valuation"]
[null,null,"Valuation from Free Cash Flow (Seller Perspective; No Synergies)",null,"Lakhs",{"$f":"'Sensitivity Analysis'!$D$23","v":28535.359995865347}]
[null,null,"Valuation from Equity Cash Flow (Seller Perspective; No Synergies)",null,"Lakhs",{"$f":"'Sensitivity Analysis'!$D$25","v":7820.7362936348727}]
[]
[null,null,"Existing Debt (Financial Model; Lookup)",null,"Lakhs",{"$f":"LOOKUP(F4,'Financial Model'!9:9,'Financial Model'!320:320)","v":19652.512335985255}]
[]
[null,null,"Valuation Flag (Enterprise or Equity Value Paid)",null,"Flag",{"$f":"'Input C'!H94","v":true}]
[null,null,"Enterprise Value Applied",null,"Lakhs",{"$f":"IF(F12,F8+F10,F7)","v":27473.248629620128}]
[]
[null,null,"Fee Percent on Enterprise Value",null,"%",{"$f":"'Input C'!F97","v":0}]
[null,null,"Fees on Enterprise Value",null,"Lakhs",{"$f":"F15*F13","v":0}]
[]
[null,"Financing on Transation"]
[null,null,"Flag for Assumption Debt",null,"Flag",{"$f":"'Input C'!F94","v":true}]
[null,null,"Flag for Calculation of New Debt",null,"Flag",{"$f":"'Input C'!F95","v":false}]
[]
[null,null,"New Debt Capacity from Transaction"]
[null,null,null,"Minimum DSCR","x",{"$f":"'Input C'!F99","v":1.2}]
[null,null,null,"Tenure","Years",{"$f":"'Input C'!F102","v":18}]
[null,null,null,"Interest Rate","% p.a.",{"$f":"'Input C'!F103","v":7.2499999999999995E-2}]
[null,null,null,"New Debt Computed","Flag"]
[]
[null,null,"Equity Financing on Transaction"]
[null,null,null,"Existing Share Price","Lakhs/Share",20]
[null,null,null,"Total New Shares","Shares"]
[]
[null,"Uses and Sources on Transaction"]
[null,null,"Uses of Funds at Transaction"]
[null,null,null,"Consideration for Enterprise","Lakhs",{"$f":"F13","v":27473.248629620128}]
[null,null,null,"Payment of Fees","Lakhs",{"$f":"F16","v":0}]
[null,null,null,"Debt Repayment","Lakhs",{"$f":"NOT(F19)*F10","v":0}]
[null,null,null,"Total Uses of Funds","Lakhs",{"$f":"SUM(F34:F36)","v":27473.248629620128}]
[]
[null,null,"Sources of Funds"]
[null,null,null,"Assumption of Existing Debt","Lakhs",{"$f":"F19*F10","v":19652.512335985255}]
[null,null,null,"New Debt","Lakhs",{"$f":"F26*F20","v":0}]
[null,null,null,"New Equity ","Lakhs",{"$f":"F37-F40-F41","v":7820.7362936348727}]
[null,null,null,"Total Sources of Funds","Lakhs",{"$f":"SUM(F40:F42)","v":27473.248629620128}]
[]
[null,"Accounting"]
[null,null,"Enterprise Value",null,"Lakhs",{"$f":"F34","v":27473.248629620128}]
[null,null,"Less: Existing Book Value",null,"Lakhs",{"$f":"LOOKUP(F4,'Financial Model'!9:9,'Financial Model'!317:317)","v":21840}]
[null,null,"Net Increase",null,"Lakhs",{"$f":"F46-F47","v":5633.2486296201278}]
[]
[null,null,"Fair Market Value",null,"Lakhs",{"$f":"F46","v":27473.248629620128}]
[null,null,"Less: Book Value",null,"Lakhs",{"$f":"F47","v":21840}]
[null,null,"Less: Write-up",null,"Lakhs",{"$f":"F48","v":5633.2486296201278}]
[null,null,"Goodwill",null,"Lakhs",{"$f":"F50-F51-F52","v":0}]

{"sheet":"Acquiror Model","index":6,"n_rows":171,"n_cols":50,"rows_kept":171,"cut":false,"hidden":false,"merged":[]}
[]
[null,null,null,null,"Input Unit","Constant","Constant","Model Unit"]
[null,"Timing"]
[null,null,"Period",null,null,null,null,"Period",null,0,1,2,3,4,5,6,7,8,9,10,11,12,13,14,15,16,17,18,19,20,21,22,23,24,25,26,27,28,29,30,31,32,33,34,35,36,37,38,39,40]
[null,null,"Transaction Period",null,"Flag",0,null,"Flag",null,{"$f":"(J4=$F$5)*1","v":1},0,0,0,0,0,0,0,0,0,0,0,0,0,0,0,0,0,0,0,0,0,0,0,0,0,0,0,0,0,0,0,0,0,0,0,0,0,0,0,0]
[null,null,"Prospective Period",null,null,null,null,"Flag",null,{"$f":"(J5=$F$5)*1","v":0},{"$f":"(NOT(K5))*1","v":1},1,1,1,1,1,1,1,1,1,1,1,1,1,1,1,1,1,1,1,1,1,1,1,1,1,1,1,1,1,1,1,1,1,1,1,1,1,1,1]
[null,null,"Months in Period",null,"Months",{"$f":"'Financial Model'!G7","v":12},null,"Months",null,{"$f":"IF(J5,0,$F$7)","v":0},{"$f":"IF(K5,0,$F$7)","v":12},12,12,12,12,12,12,12,12,12,12,12,12,12,12,12,12,12,12,12,12,12,12,12,12,12,12,12,12,12,12,12,12,12,12,12,12,12,12,12]
[null,null,"Start of Period",null,"Date",null,null,"Date",null,{"$f":"I9","v":"2030-12-31"},{"$f":"J9+1","v":"2031-01-01"},{"$f":"K9+1","v":"2032-01-01"},"2033-01-01","2034-01-01","2035-01-01","2036-01-01","2037-01-01","2038-01-01","2039-01-01","2040-01-01","2041-01-01","2042-01-01","2043-01-01","2044-01-01","2045-01-01","2046-01-01","2047-01-01","2048-01-01","2049-01-01","2050-01-01","2051-01-01","2052-01-01","2053-01-01","2054-01-01","2055-01-01","2056-01-01","2057-01-01","2058-01-01","2059-01-01","2060-01-01","2061-01-01","2062-01-01","2063-01-01","2064-01-01","2065-01-01","2066-01-01","2067-01-01","2068-01-01","2069-01-01","2070-01-01"]
[null,null,"End of Period",null,"Date",{"$f":"Transaction!F4","v":"2030-12-31"},null,"Date",{"$f":"F9","v":"2030-12-31"},{"$f":"EOMONTH(J8,J7-J6)","v":"2030-12-31"},{"$f":"EOMONTH(K8,K7-K6)","v":"2031-12-31"},"2032-12-31","2033-12-31","2034-12-31","2035-12-31","2036-12-31","2037-12-31","2038-12-31","2039-12-31","2040-12-31","2041-12-31","2042-12-31","2043-12-31","2044-12-31","2045-12-31","2046-12-31","2047-12-31","2048-12-31","2049-12-31","2050-12-31","2051-12-31","2052-12-31","2053-12-31","2054-12-31","2055-12-31","2056-12-31","2057-12-31","2058-12-31","2059-12-31","2060-12-31","2061-12-31","2062-12-31","2063-12-31","2064-12-31","2065-12-31","2066-12-31","2067-12-31","2068-12-31","2069-12-31","2070-12-31"]
[null,null,"Operating Period",null,null,null,null,"Flag"]
[]
[null,"Transferred Variables"]
[null,null,"Revenues",null,null,null,null,"Lakhs",null,{"$f":"LOOKUP(J$9,'Financial Model'!$9:$9,'Financial Model'!279:279)*J$6","v":0},{"$f":"LOOKUP(K$9,'Financial Model'!$9:$9,'Financial Model'!279:279)*K$6","v":3028.7556929813295},{"$f":"LOOKUP(L$9,'Financial Model'!$9:$9,'Financial Model'!279:279)*L$6","v":3164.292510242245},{"$f":"LOOKUP(M$9,'Financial Model'!$9:$9,'Financial Model'!279:279)*M$6","v":3305.8946000755855},{"$f":"LOOKUP(N$9,'Financial Model'!$9:$9,'Financial Model'!279:279)*N$6","v":3453.8333834289688},{"$f":"LOOKUP(O$9,'Financial Model'!$9:$9,'Financial Model'!279:279)*O$6","v":3608.392427337415},{"$f":"LOOKUP(P$9,'Financial Model'!$9:$9,'Financial Model'!279:279)*P$6","v":3769.8679884607641},{"$f":"LOOKUP(Q$9,'Financial Model'!$9:$9,'Financial Model'!279:279)*Q$6","v":3938.5695809443846},{"$f":"LOOKUP(R$9,'Financial Model'!$9:$9,'Financial Model'!279:279)*R$6","v":4114.8205696916466},{"$f":"LOOKUP(S$9,'Financial Model'!$9:$9,'Financial Model'!279:279)*S$6","v":4298.9587901853483},{"$f":"LOOKUP(T$9,'Financial Model'!$9:$9,'Financial Model'!279:279)*T$6","v":4491.3371960461436},{"$f":"LOOKUP(U$9,'Financial Model'!$9:$9,'Financial Model'!279:279)*U$6","v":4692.3245355692088},{"$f":"LOOKUP(V$9,'Financial Model'!$9:$9,'Financial Model'!279:279)*V$6","v":4902.3060585359326},{"$f":"LOOKUP(W$9,'Financial Model'!$9:$9,'Financial Model'!279:279)*W$6","v":5121.6842546554162},{"$f":"LOOKUP(X$9,'Financial Model'!$9:$9,'Financial Model'!279:279)*X$6","v":5350.879625051246},{"$f":"LOOKUP(Y$9,'Financial Model'!$9:$9,'Financial Model'!279:279)*Y$6","v":5590.3314882722907},{"$f":"LOOKUP(Z$9,'Financial Model'!$9:$9,'Financial Model'!279:279)*Z$6","v":5840.4988223724768},{"$f":"LOOKUP(AA$9,'Financial Model'!$9:$9,'Financial Model'!279:279)*AA$6","v":6101.8611446736459},{"$f":"LOOKUP(AB$9,'Financial Model'!$9:$9,'Financial Model'!279:279)*AB$6","v":6374.919430897794},{"$f":"LOOKUP(AC$9,'Financial Model'!$9:$9,'Financial Model'!279:279)*AC$6","v":6660.1970754304702},{"$f":"LOOKUP(AD$9,'Financial Model'!$9:$9,'Financial Model'!279:279)*AD$6","v":6958.2408945559855},{"$f":"LOOKUP(AE$9,'Financial Model'!$9:$9,'Financial Model'!279:279)*AE$6","v":7269.6221745873654},{"$f":"LOOKUP(AF$9,'Financial Model'!$9:$9,'Financial Model'!279:279)*AF$6","v":0},{"$f":"LOOKUP(AG$9,'Financial Model'!$9:$9,'Financial Model'!279:279)*AG$6","v":0},{"$f":"LOOKUP(AH$9,'Financial Model'!$9:$9,'Financial Model'!279:279)*AH$6","v":0},{"$f":"LOOKUP(AI$9,'Financial Model'!$9:$9,'Financial Model'!279:279)*AI$6","v":0},{"$f":"LOOKUP(AJ$9,'Financial Model'!$9:$9,'Financial Model'!279:279)*AJ$6","v":0},{"$f":"LOOKUP(AK$9,'Financial Model'!$9:$9,'Financial Model'!279:279)*AK$6","v":0},{"$f":"LOOKUP(AL$9,'Financial Model'!$9:$9,'Financial Model'!279:279)*AL$6","v":0},{"$f":"LOOKUP(AM$9,'Financial Model'!$9:$9,'Financial Model'!279:279)*AM$6","v":0},{"$f":"LOOKUP(AN$9,'Financial Model'!$9:$9,'Financial Model'!279:279)*AN$6","v":0},{"$f":"LOOKUP(AO$9,'Financial Model'!$9:$9,'Financial Model'!279:279)*AO$6","v":0},{"$f":"LOOKUP(AP$9,'Financial Model'!$9:$9,'Financial Model'!279:279)*AP$6","v":0},{"$f":"LOOKUP(AQ$9,'Financial Model'!$9:$9,'Financial Model'!279:279)*AQ$6","v":0},{"$f":"LOOKUP(AR$9,'Financial Model'!$9:$9,'Financial Model'!279:279)*AR$6","v":0},{"$f":"LOOKUP(AS$9,'Financial Model'!$9:$9,'Financial Model'!279:279)*AS$6","v":0},{"$f":"LOOKUP(AT$9,'Financial Model'!$9:$9,'Financial Model'!279:279)*AT$6","v":0},{"$f":"LOOKUP(AU$9,'Financial Model'!$9:$9,'Financial Model'!279:279)*AU$6","v":0},{"$f":"LOOKUP(AV$9,'Financial Model'!$9:$9,'Financial Model'!279:279)*AV$6","v":0},{"$f":"LOOKUP(AW$9,'Financial Model'!$9:$9,'Financial Model'!279:279)*AW$6","v":0},{"$f":"LOOKUP(AX$9,'Financial Model'!$9:$9,'Financial Model'!279:279)*AX$6","v":0}]
[null,null,"Operating Expenses",null,null,null,null,"Lakhs",null,{"$f":"LOOKUP(J$9,'Financial Model'!$9:$9,'Financial Model'!280:280)*J$6","v":0},{"$f":"LOOKUP(K$9,'Financial Model'!$9:$9,'Financial Model'!280:280)*K6","v":663.66641250000021},{"$f":"LOOKUP(L$9,'Financial Model'!$9:$9,'Financial Model'!280:280)*L6","v":696.84973312500017},{"$f":"LOOKUP(M$9,'Financial Model'!$9:$9,'Financial Model'!280:280)*M6","v":731.69221978125029},{"$f":"LOOKUP(N$9,'Financial Model'!$9:$9,'Financial Model'!280:280)*N6","v":768.27683077031281},{"$f":"LOOKUP(O$9,'Financial Model'!$9:$9,'Financial Model'!280:280)*O6","v":806.69067230882843},{"$f":"LOOKUP(P$9,'Financial Model'!$9:$9,'Financial Model'!280:280)*P6","v":847.0252059242697},{"$f":"LOOKUP(Q$9,'Financial Model'!$9:$9,'Financial Model'!280:280)*Q6","v":889.37646622048339},{"$f":"LOOKUP(R$9,'Financial Model'!$9:$9,'Financial Model'!280:280)*R6","v":933.84528953150777},{"$f":"LOOKUP(S$9,'Financial Model'!$9:$9,'Financial Model'!280:280)*S6","v":980.53755400808302},{"$f":"LOOKUP(T$9,'Financial Model'!$9:$9,'Financial Model'!280:280)*T6","v":1029.5644317084873},{"$f":"LOOKUP(U$9,'Financial Model'!$9:$9,'Financial Model'!280:280)*U6","v":1081.0426532939118},{"$f":"LOOKUP(V$9,'Financial Model'!$9:$9,'Financial Model'!280:280)*V6","v":1135.0947859586074},{"$f":"LOOKUP(W$9,'Financial Model'!$9:$9,'Financial Model'!280:280)*W6","v":1191.8495252565378},{"$f":"LOOKUP(X$9,'Financial Model'!$9:$9,'Financial Model'!280:280)*X6","v":1251.4420015193648},{"$f":"LOOKUP(Y$9,'Financial Model'!$9:$9,'Financial Model'!280:280)*Y6","v":1314.0141015953329},{"$f":"LOOKUP(Z$9,'Financial Model'!$9:$9,'Financial Model'!280:280)*Z6","v":1379.7148066750997},{"$f":"LOOKUP(AA$9,'Financial Model'!$9:$9,'Financial Model'!280:280)*AA6","v":1448.700547008855},{"$f":"LOOKUP(AB$9,'Financial Model'!$9:$9,'Financial Model'!280:280)*AB6","v":1521.1355743592978},{"$f":"LOOKUP(AC$9,'Financial Model'!$9:$9,'Financial Model'!280:280)*AC6","v":1597.1923530772626},{"$f":"LOOKUP(AD$9,'Financial Model'!$9:$9,'Financial Model'!280:280)*AD6","v":1677.0519707311259},{"$f":"LOOKUP(AE$9,'Financial Model'!$9:$9,'Financial Model'!280:280)*AE6","v":1760.9045692676821},{"$f":"LOOKUP(AF$9,'Financial Model'!$9:$9,'Financial Model'!280:280)*AF6","v":0},{"$f":"LOOKUP(AG$9,'Financial Model'!$9:$9,'Financial Model'!280:280)*AG6","v":0},{"$f":"LOOKUP(AH$9,'Financial Model'!$9:$9,'Financial Model'!280:280)*AH6","v":0},{"$f":"LOOKUP(AI$9,'Financial Model'!$9:$9,'Financial Model'!280:280)*AI6","v":0},{"$f":"LOOKUP(AJ$9,'Financial Model'!$9:$9,'Financial Model'!280:280)*AJ6","v":0},{"$f":"LOOKUP(AK$9,'Financial Model'!$9:$9,'Financial Model'!280:280)*AK6","v":0},{"$f":"LOOKUP(AL$9,'Financial Model'!$9:$9,'Financial Model'!280:280)*AL6","v":0},{"$f":"LOOKUP(AM$9,'Financial Model'!$9:$9,'Financial Model'!280:280)*AM6","v":0},{"$f":"LOOKUP(AN$9,'Financial Model'!$9:$9,'Financial Model'!280:280)*AN6","v":0},{"$f":"LOOKUP(AO$9,'Financial Model'!$9:$9,'Financial Model'!280:280)*AO6","v":0},{"$f":"LOOKUP(AP$9,'Financial Model'!$9:$9,'Financial Model'!280:280)*AP6","v":0},{"$f":"LOOKUP(AQ$9,'Financial Model'!$9:$9,'Financial Model'!280:280)*AQ6","v":0},{"$f":"LOOKUP(AR$9,'Financial Model'!$9:$9,'Financial Model'!280:280)*AR6","v":0},{"$f":"LOOKUP(AS$9,'Financial Model'!$9:$9,'Financial Model'!280:280)*AS6","v":0},{"$f":"LOOKUP(AT$9,'Financial Model'!$9:$9,'Financial Model'!280:280)*AT6","v":0},{"$f":"LOOKUP(AU$9,'Financial Model'!$9:$9,'Financial Model'!280:280)*AU6","v":0},{"$f":"LOOKUP(AV$9,'Financial Model'!$9:$9,'Financial Model'!280:280)*AV6","v":0},{"$f":"LOOKUP(AW$9,'Financial Model'!$9:$9,'Financial Model'!280:280)*AW6","v":0},{"$f":"LOOKUP(AX$9,'Financial Model'!$9:$9,'Financial Model'!280:280)*AX6","v":0}]
[null,null,"Depreciation",null,null,null,null,"Lakhs",null,{"$f":"LOOKUP(J$9,'Financial Model'!$9:$9,'Financial Model'!282:282)*J$6","v":0},{"$f":"LOOKUP(K$9,'Financial Model'!$9:$9,'Financial Model'!282:282)*K$6","v":1040},{"$f":"LOOKUP(L$9,'Financial Model'!$9:$9,'Financial Model'!282:282)*L$6","v":1040},{"$f":"LOOKUP(M$9,'Financial Model'!$9:$9,'Financial Model'!282:282)*M$6","v":1040},{"$f":"LOOKUP(N$9,'Financial Model'!$9:$9,'Financial Model'!282:282)*N$6","v":1040},{"$f":"LOOKUP(O$9,'Financial Model'!$9:$9,'Financial Model'!282:282)*O$6","v":1040},{"$f":"LOOKUP(P$9,'Financial Model'!$9:$9,'Financial Model'!282:282)*P$6","v":1040},{"$f":"LOOKUP(Q$9,'Financial Model'!$9:$9,'Financial Model'!282:282)*Q$6","v":1040},{"$f":"LOOKUP(R$9,'Financial Model'!$9:$9,'Financial Model'!282:282)*R$6","v":1040},{"$f":"LOOKUP(S$9,'Financial Model'!$9:$9,'Financial Model'!282:282)*S$6","v":1040},{"$f":"LOOKUP(T$9,'Financial Model'!$9:$9,'Financial Model'!282:282)*T$6","v":1040},{"$f":"LOOKUP(U$9,'Financial Model'!$9:$9,'Financial Model'!282:282)*U$6","v":1040},{"$f":"LOOKUP(V$9,'Financial Model'!$9:$9,'Financial Model'!282:282)*V$6","v":1040},{"$f":"LOOKUP(W$9,'Financial Model'!$9:$9,'Financial Model'!282:282)*W$6","v":1040},{"$f":"LOOKUP(X$9,'Financial Model'!$9:$9,'Financial Model'!282:282)*X$6","v":1040},{"$f":"LOOKUP(Y$9,'Financial Model'!$9:$9,'Financial Model'!282:282)*Y$6","v":1040},{"$f":"LOOKUP(Z$9,'Financial Model'!$9:$9,'Financial Model'!282:282)*Z$6","v":1040},{"$f":"LOOKUP(AA$9,'Financial Model'!$9:$9,'Financial Model'!282:282)*AA$6","v":1040},{"$f":"LOOKUP(AB$9,'Financial Model'!$9:$9,'Financial Model'!282:282)*AB$6","v":1040},{"$f":"LOOKUP(AC$9,'Financial Model'!$9:$9,'Financial Model'!282:282)*AC$6","v":1040},{"$f":"LOOKUP(AD$9,'Financial Model'!$9:$9,'Financial Model'!282:282)*AD$6","v":1040},{"$f":"LOOKUP(AE$9,'Financial Model'!$9:$9,'Financial Model'!282:282)*AE$6","v":1040},{"$f":"LOOKUP(AF$9,'Financial Model'!$9:$9,'Financial Model'!282:282)*AF$6","v":0},{"$f":"LOOKUP(AG$9,'Financial Model'!$9:$9,'Financial Model'!282:282)*AG$6","v":0},{"$f":"LOOKUP(AH$9,'Financial Model'!$9:$9,'Financial Model'!282:282)*AH$6","v":0},{"$f":"LOOKUP(AI$9,'Financial Model'!$9:$9,'Financial Model'!282:282)*AI$6","v":0},{"$f":"LOOKUP(AJ$9,'Financial Model'!$9:$9,'Financial Model'!282:282)*AJ$6","v":0},{"$f":"LOOKUP(AK$9,'Financial Model'!$9:$9,'Financial Model'!282:282)*AK$6","v":0},{"$f":"LOOKUP(AL$9,'Financial Model'!$9:$9,'Financial Model'!282:282)*AL$6","v":0},{"$f":"LOOKUP(AM$9,'Financial Model'!$9:$9,'Financial Model'!282:282)*AM$6","v":0},{"$f":"LOOKUP(AN$9,'Financial Model'!$9:$9,'Financial Model'!282:282)*AN$6","v":0},{"$f":"LOOKUP(AO$9,'Financial Model'!$9:$9,'Financial Model'!282:282)*AO$6","v":0},{"$f":"LOOKUP(AP$9,'Financial Model'!$9:$9,'Financial Model'!282:282)*AP$6","v":0},{"$f":"LOOKUP(AQ$9,'Financial Model'!$9:$9,'Financial Model'!282:282)*AQ$6","v":0},{"$f":"LOOKUP(AR$9,'Financial Model'!$9:$9,'Financial Model'!282:282)*AR$6","v":0},{"$f":"LOOKUP(AS$9,'Financial Model'!$9:$9,'Financial Model'!282:282)*AS$6","v":0},{"$f":"LOOKUP(AT$9,'Financial Model'!$9:$9,'Financial Model'!282:282)*AT$6","v":0},{"$f":"LOOKUP(AU$9,'Financial Model'!$9:$9,'Financial Model'!282:282)*AU$6","v":0},{"$f":"LOOKUP(AV$9,'Financial Model'!$9:$9,'Financial Model'!282:282)*AV$6","v":0},{"$f":"LOOKUP(AW$9,'Financial Model'!$9:$9,'Financial Model'!282:282)*AW$6","v":0},{"$f":"LOOKUP(AX$9,'Financial Model'!$9:$9,'Financial Model'!282:282)*AX$6","v":0}]
[null,null,"Depreciation Rate",null,null,null,null,"%"]
[]
[null,null,"Existing Debt Repayment",null,null,null,null,"Lakhs",null,{"$f":"LOOKUP(J$9,'Financial Model'!$9:$9,'Financial Model'!190:190)*J$6","v":0},{"$f":"LOOKUP(K$9,'Financial Model'!$9:$9,'Financial Model'!190:190)*K$6","v":128.65253756319044},{"$f":"LOOKUP(L$9,'Financial Model'!$9:$9,'Financial Model'!190:190)*L$6","v":212.17353651063172},{"$f":"LOOKUP(M$9,'Financial Model'!$9:$9,'Financial Model'!190:190)*M$6","v":305.50898402847065},{"$f":"LOOKUP(N$9,'Financial Model'!$9:$9,'Financial Model'!190:190)*N$6","v":409.5770164014416},{"$f":"LOOKUP(O$9,'Financial Model'!$9:$9,'Financial Model'!190:190)*O$6","v":525.37481114000707},{"$f":"LOOKUP(P$9,'Financial Model'!$9:$9,'Financial Model'!190:190)*P$6","v":653.98514241787416},{"$f":"LOOKUP(Q$9,'Financial Model'!$9:$9,'Financial Model'!190:190)*Q$6","v":796.58347043137701},{"$f":"LOOKUP(R$9,'Financial Model'!$9:$9,'Financial Model'!190:190)*R$6","v":954.44560777394076},{"$f":"LOOKUP(S$9,'Financial Model'!$9:$9,'Financial Model'!190:190)*S$6","v":1128.9560093810394},{"$f":"LOOKUP(T$9,'Financial Model'!$9:$9,'Financial Model'!190:190)*T$6","v":1321.6167363407474},{"$f":"LOOKUP(U$9,'Financial Model'!$9:$9,'Financial Model'!190:190)*U$6","v":1534.0571479044452},{"$f":"LOOKUP(V$9,'Financial Model'!$9:$9,'Financial Model'!190:190)*V$6","v":1768.0443803954331},{"$f":"LOOKUP(W$9,'Financial Model'!$9:$9,'Financial Model'!190:190)*W$6","v":2025.4946764260353},{"$f":"LOOKUP(X$9,'Financial Model'!$9:$9,'Financial Model'!190:190)*X$6","v":2308.4856329242916},{"$f":"LOOKUP(Y$9,'Financial Model'!$9:$9,'Financial Model'!190:190)*Y$6","v":2619.2694419697359},{"$f":"LOOKUP(Z$9,'Financial Model'!$9:$9,'Financial Model'!190:190)*Z$6","v":2960.2872043766492},{"$f":"LOOKUP(AA$9,'Financial Model'!$9:$9,'Financial Model'!190:190)*AA$6","v":4.6202330850064755E-12},{"$f":"LOOKUP(AB$9,'Financial Model'!$9:$9,'Financial Model'!190:190)*AB$6","v":4.9898517318069932E-12},{"$f":"LOOKUP(AC$9,'Financial Model'!$9:$9,'Financial Model'!190:190)*AC$6","v":5.3890398703515529E-12},{"$f":"LOOKUP(AD$9,'Financial Model'!$9:$9,'Financial Model'!190:190)*AD$6","v":5.8201630599796775E-12},{"$f":"LOOKUP(AE$9,'Financial Model'!$9:$9,'Financial Model'!190:190)*AE$6","v":6.2857761047780518E-12},{"$f":"LOOKUP(AF$9,'Financial Model'!$9:$9,'Financial Model'!190:190)*AF$6","v":0},{"$f":"LOOKUP(AG$9,'Financial Model'!$9:$9,'Financial Model'!190:190)*AG$6","v":0},{"$f":"LOOKUP(AH$9,'Financial Model'!$9:$9,'Financial Model'!190:190)*AH$6","v":0},{"$f":"LOOKUP(AI$9,'Financial Model'!$9:$9,'Financial Model'!190:190)*AI$6","v":0},{"$f":"LOOKUP(AJ$9,'Financial Model'!$9:$9,'Financial Model'!190:190)*AJ$6","v":0},{"$f":"LOOKUP(AK$9,'Financial Model'!$9:$9,'Financial Model'!190:190)*AK$6","v":0},{"$f":"LOOKUP(AL$9,'Financial Model'!$9:$9,'Financial Model'!190:190)*AL$6","v":0},{"$f":"LOOKUP(AM$9,'Financial Model'!$9:$9,'Financial Model'!190:190)*AM$6","v":0},{"$f":"LOOKUP(AN$9,'Financial Model'!$9:$9,'Financial Model'!190:190)*AN$6","v":0},{"$f":"LOOKUP(AO$9,'Financial Model'!$9:$9,'Financial Model'!190:190)*AO$6","v":0},{"$f":"LOOKUP(AP$9,'Financial Model'!$9:$9,'Financial Model'!190:190)*AP$6","v":0},{"$f":"LOOKUP(AQ$9,'Financial Model'!$9:$9,'Financial Model'!190:190)*AQ$6","v":0},{"$f":"LOOKUP(AR$9,'Financial Model'!$9:$9,'Financial Model'!190:190)*AR$6","v":0},{"$f":"LOOKUP(AS$9,'Financial Model'!$9:$9,'Financial Model'!190:190)*AS$6","v":0},{"$f":"LOOKUP(AT$9,'Financial Model'!$9:$9,'Financial Model'!190:190)*AT$6","v":0},{"$f":"LOOKUP(AU$9,'Financial Model'!$9:$9,'Financial Model'!190:190)*AU$6","v":0},{"$f":"LOOKUP(AV$9,'Financial Model'!$9:$9,'Financial Model'!190:190)*AV$6","v":0},{"$f":"LOOKUP(AW$9,'Financial Model'!$9:$9,'Financial Model'!190:190)*AW$6","v":0},{"$f":"LOOKUP(AX$9,'Financial Model'!$9:$9,'Financial Model'!190:190)*AX$6","v":0}]
[null,null,"Existing Debt Interest",null,null,null,null,"Lakhs",null,{"$f":"LOOKUP(J$9,'Financial Model'!$9:$9,'Financial Model'!194:194)*J$6","v":0},{"$f":"LOOKUP(K$9,'Financial Model'!$9:$9,'Financial Model'!194:194)*K$6","v":1572.2009868788205},{"$f":"LOOKUP(L$9,'Financial Model'!$9:$9,'Financial Model'!194:194)*L$6","v":1561.9087838737653},{"$f":"LOOKUP(M$9,'Financial Model'!$9:$9,'Financial Model'!194:194)*M$6","v":1544.9349009529146},{"$f":"LOOKUP(N$9,'Financial Model'!$9:$9,'Financial Model'!194:194)*N$6","v":1520.4941822306371},{"$f":"LOOKUP(O$9,'Financial Model'!$9:$9,'Financial Model'!194:194)*O$6","v":1487.7280209185215},{"$f":"LOOKUP(P$9,'Financial Model'!$9:$9,'Financial Model'!194:194)*P$6","v":1445.698036027321},{"$f":"LOOKUP(Q$9,'Financial Model'!$9:$9,'Financial Model'!194:194)*Q$6","v":1393.3792246338912},{"$f":"LOOKUP(R$9,'Financial Model'!$9:$9,'Financial Model'!194:194)*R$6","v":1329.652546999381},{"$f":"LOOKUP(S$9,'Financial Model'!$9:$9,'Financial Model'!194:194)*S$6","v":1253.2968983774656},{"$f":"LOOKUP(T$9,'Financial Model'!$9:$9,'Financial Model'!194:194)*T$6","v":1162.9804176269824},{"$f":"LOOKUP(U$9,'Financial Model'!$9:$9,'Financial Model'!194:194)*U$6","v":1057.2510787197225},{"$f":"LOOKUP(V$9,'Financial Model'!$9:$9,'Financial Model'!194:194)*V$6","v":934.52650688736696},{"$f":"LOOKUP(W$9,'Financial Model'!$9:$9,'Financial Model'!194:194)*W$6","v":793.08295645573241},{"$f":"LOOKUP(X$9,'Financial Model'!$9:$9,'Financial Model'!194:194)*X$6","v":631.04338234164959},{"$f":"LOOKUP(Y$9,'Financial Model'!$9:$9,'Financial Model'!194:194)*Y$6","v":446.36453170770619},{"$f":"LOOKUP(Z$9,'Financial Model'!$9:$9,'Financial Model'!194:194)*Z$6","v":236.82297635012733},{"$f":"LOOKUP(AA$9,'Financial Model'!$9:$9,'Financial Model'!194:194)*AA$6","v":-4.6202330850064755E-12},{"$f":"LOOKUP(AB$9,'Financial Model'!$9:$9,'Financial Model'!194:194)*AB$6","v":-4.9898517318069932E-12},{"$f":"LOOKUP(AC$9,'Financial Model'!$9:$9,'Financial Model'!194:194)*AC$6","v":-5.3890398703515529E-12},{"$f":"LOOKUP(AD$9,'Financial Model'!$9:$9,'Financial Model'!194:194)*AD$6","v":-5.8201630599796775E-12},{"$f":"LOOKUP(AE$9,'Financial Model'!$9:$9,'Financial Model'!194:194)*AE$6","v":-6.2857761047780518E-12},{"$f":"LOOKUP(AF$9,'Financial Model'!$9:$9,'Financial Model'!194:194)*AF$6","v":0},{"$f":"LOOKUP(AG$9,'Financial Model'!$9:$9,'Financial Model'!194:194)*AG$6","v":0},{"$f":"LOOKUP(AH$9,'Financial Model'!$9:$9,'Financial Model'!194:194)*AH$6","v":0},{"$f":"LOOKUP(AI$9,'Financial Model'!$9:$9,'Financial Model'!194:194)*AI$6","v":0},{"$f":"LOOKUP(AJ$9,'Financial Model'!$9:$9,'Financial Model'!194:194)*AJ$6","v":0},{"$f":"LOOKUP(AK$9,'Financial Model'!$9:$9,'Financial Model'!194:194)*AK$6","v":0},{"$f":"LOOKUP(AL$9,'Financial Model'!$9:$9,'Financial Model'!194:194)*AL$6","v":0},{"$f":"LOOKUP(AM$9,'Financial Model'!$9:$9,'Financial Model'!194:194)*AM$6","v":0},{"$f":"LOOKUP(AN$9,'Financial Model'!$9:$9,'Financial Model'!194:194)*AN$6","v":0},{"$f":"LOOKUP(AO$9,'Financial Model'!$9:$9,'Financial Model'!194:194)*AO$6","v":0},{"$f":"LOOKUP(AP$9,'Financial Model'!$9:$9,'Financial Model'!194:194)*AP$6","v":0},{"$f":"LOOKUP(AQ$9,'Financial Model'!$9:$9,'Financial Model'!194:194)*AQ$6","v":0},{"$f":"LOOKUP(AR$9,'Financial Model'!$9:$9,'Financial Model'!194:194)*AR$6","v":0},{"$f":"LOOKUP(AS$9,'Financial Model'!$9:$9,'Financial Model'!194:194)*AS$6","v":0},{"$f":"LOOKUP(AT$9,'Financial Model'!$9:$9,'Financial Model'!194:194)*AT$6","v":0},{"$f":"LOOKUP(AU$9,'Financial Model'!$9:$9,'Financial Model'!194:194)*AU$6","v":0},{"$f":"LOOKUP(AV$9,'Financial Model'!$9:$9,'Financial Model'!194:194)*AV$6","v":0},{"$f":"LOOKUP(AW$9,'Financial Model'!$9:$9,'Financial Model'!194:194)*AW$6","v":0},{"$f":"LOOKUP(AX$9,'Financial Model'!$9:$9,'Financial Model'!194:194)*AX$6","v":0}]
[]
[null,"Operations"]
[null,null,"EBITDA",null,null,null,null,"Lakhs",null,{"$f":"J13-J14","v":0},{"$f":"K13-K14","v":2365.0892804813293},2467.442777117245,2574.2023802943349,2685.5565526586561,2801.7017550285864,2922.8427825364943,3049.1931147239011,3180.9752801601389,3318.4212361772652,3461.7727643376566,3611.281882275297,3767.211272577325,3929.8347293988782,4099.4376235318814,4276.3173866769575,4460.7840156973771,4653.1605976647907,4853.7838565384964,5063.0047223532074,5281.1889238248596,5508.7176053196836,0,0,0,0,0,0,0,0,0,0,0,0,0,0,0,0,0,0,0]
[null,null,"Less: Enterprise Value Consideration",null,"Lakhs",{"$f":"Transaction!F34","v":27473.248629620128},null,"Lakhs",null,{"$f":"$F$23*J5","v":27473.248629620128},{"$f":"$F$23*K5","v":0},0,0,0,0,0,0,0,0,0,0,0,0,0,0,0,0,0,0,0,0,0,0,0,0,0,0,0,0,0,0,0,0,0,0,0,0,0,0,0]
[null,null,"Less: Fees on EV",null,"Lakhs",{"$f":"Transaction!F35","v":0},null,"Lakhs",null,{"$f":"$F$24*J5","v":0},{"$f":"$F$24*K5","v":0},0,0,0,0,0,0,0,0,0,0,0,0,0,0,0,0,0,0,0,0,0,0,0,0,0,0,0,0,0,0,0,0,0,0,0,0,0,0,0]
[null,null,"Net Cash Flow",null,null,null,null,"Lakhs",null,{"$f":"J22-J23-J24","v":-27473.248629620128},{"$f":"K22-K23-K24","v":2365.0892804813293},2467.442777117245,2574.2023802943349,2685.5565526586561,2801.7017550285864,2922.8427825364943,3049.1931147239011,3180.9752801601389,3318.4212361772652,3461.7727643376566,3611.281882275297,3767.211272577325,3929.8347293988782,4099.4376235318814,4276.3173866769575,4460.7840156973771,4653.1605976647907,4853.7838565384964,5063.0047223532074,5281.1889238248596,5508.7176053196836,0,0,0,0,0,0,0,0,0,0,0,0,0,0,0,0,0,0,0]
[null,null,"IRR",null,"%",{"$f":"IRR(J25:AX25)","v":0.10216480765885683}]
[]
[null,"Financing"]
[null,null,"Existing Debt"]
[null,null,null,"Flag for Assumption of Debt","Flag",{"$f":"Transaction!F19","v":true},null,"Flag",null,{"$f":"$F$30","v":true},true,true,true,true,true,true,true,true,true,true,true,true,true,true,true,true,true,true,true,true,true,true,true,true,true,true,true,true,true,true,true,true,true,true,true,true,true,true,true,true]
[null,null,null,"Opening Debt",null,null,null,"Lakhs",null,null,{"$f":"J33","v":19652.512335985255},{"$f":"K33","v":19523.859798422065},19311.686261911433,19006.177277882962,18596.600261481519,18071.225450341513,17417.240307923639,16620.656837492261,15666.211229718319,14537.25522033728,13215.638483996532,11681.581336092087,9913.5369556966543,7888.0422792706195,5579.5566463463274,2960.2872043765915,-5.7752913562580943E-11,-6.2373146647587417E-11,-6.7362998379394413E-11,-7.2752038249745971E-11,-7.8572201309725648E-11,-8.4857977414503701E-11,-8.4857977414503701E-11,-8.4857977414503701E-11,-8.4857977414503701E-11,-8.4857977414503701E-11,-8.4857977414503701E-11,-8.4857977414503701E-11,-8.4857977414503701E-11,-8.4857977414503701E-11,-8.4857977414503701E-11,-8.4857977414503701E-11,-8.4857977414503701E-11,-8.4857977414503701E-11,-8.4857977414503701E-11,-8.4857977414503701E-11,-8.4857977414503701E-11,-8.4857977414503701E-11,-8.4857977414503701E-11,-8.4857977414503701E-11]
[null,null,null,"Less: Repayment",null,null,null,"Lakhs",null,{"$f":"J18","v":0},{"$f":"K18","v":128.65253756319044},212.17353651063172,305.50898402847065,409.5770164014416,525.37481114000707,653.98514241787416,796.58347043137701,954.44560777394076,1128.9560093810394,1321.6167363407474,1534.0571479044452,1768.0443803954331,2025.4946764260353,2308.4856329242916,2619.2694419697359,2960.2872043766492,4.6202330850064755E-12,4.9898517318069932E-12,5.3890398703515529E-12,5.8201630599796775E-12,6.2857761047780518E-12,0,0,0,0,0,0,0,0,0,0,0,0,0,0,0,0,0,0,0]
[null,null,null,"Closing Balance","Lakhs",{"$f":"Transaction!F40","v":19652.512335985255},null,"Lakhs",null,{"$f":"IF(J5,$F$33,J31-J32)*J30","v":19652.512335985255},{"$f":"IF(K5,$F$33,K31-K32)*K30","v":19523.859798422065},19311.686261911433,19006.177277882962,18596.600261481519,18071.225450341513,17417.240307923639,16620.656837492261,15666.211229718319,14537.25522033728,13215.638483996532,11681.581336092087,9913.5369556966543,7888.0422792706195,5579.5566463463274,2960.2872043765915,-5.7752913562580943E-11,-6.2373146647587417E-11,-6.7362998379394413E-11,-7.2752038249745971E-11,-7.8572201309725648E-11,-8.4857977414503701E-11,-8.4857977414503701E-11,-8.4857977414503701E-11,-8.4857977414503701E-11,-8.4857977414503701E-11,-8.4857977414503701E-11,-8.4857977414503701E-11,-8.4857977414503701E-11,-8.4857977414503701E-11,-8.4857977414503701E-11,-8.4857977414503701E-11,-8.4857977414503701E-11,-8.4857977414503701E-11,-8.4857977414503701E-11,-8.4857977414503701E-11,-8.4857977414503701E-11,-8.4857977414503701E-11,-8.4857977414503701E-11,-8.4857977414503701E-11,-8.4857977414503701E-11]
[]
[null,null,null,"Interest",null,null,null,"Lakhs",null,{"$f":"J30*J19","v":0},{"$f":"K30*K19","v":1572.2009868788205},1561.9087838737653,1544.9349009529146,1520.4941822306371,1487.7280209185215,1445.698036027321,1393.3792246338912,1329.652546999381,1253.2968983774656,1162.9804176269824,1057.2510787197225,934.52650688736696,793.08295645573241,631.04338234164959,446.36453170770619,236.82297635012733,-4.6202330850064755E-12,-4.9898517318069932E-12,-5.3890398703515529E-12,-5.8201630599796775E-12,-6.2857761047780518E-12,0,0,0,0,0,0,0,0,0,0,0,0,0,0,0,0,0,0,0]
[]
[null,null,"New Debt - Debt Sizing"]
[null,null,null,"Flag for New Debt","Flag",{"$f":"Transaction!F20","v":false},null,"Flag",null,{"$f":"$F$38","v":false},{"$f":"$F$38","v":false},false,false,false,false,false,false,false,false,false,false,false,false,false,false,false,false,false,false,false,false,false,false,false,false,false,false,false,false,false,false,false,false,false,false,false,false,false,false,false]
[null,null,null,"CFADS",null,null,null,"Lakhs"]
[null,null,null,"Target Debt Service","x",{"$f":"Transaction!F23","v":1.2},null,"Lakhs"]
[null,null,null,"Interest Rate","% p.a.",{"$f":"Transaction!F25","v":7.2499999999999995E-2}]
[null,null,null,"Interest Rate Index",null,null,null,"Index",{"$f":"one","v":1}]
[null,null,null,"PV Rate Index",null,null,null,"Index"]
[null,null,null,"Debt Size","Lakhs"]
[]
[null,null,null,"Opening Debt Balance",null,null,null,"Lakhs"]
[null,null,null,"Add: Debt Issued","Lakhs",null,null,"Lakhs"]
[null,null,null,"Less: Repayment",null,null,null,"Lakhs"]
[null,null,null,"Closing Balance",null,null,null,"Lakhs"]
[]
[null,null,null,"Interest Expense",null,null,null,"Lakhs"]
[]
[null,null,"Total Debt"]
[null,null,null,"Total Debt Service",null,null,null,"Lakhs",null,{"$f":"J51+J48+J32+J35","v":0},{"$f":"K51+K48+K32+K35","v":1700.8535244420109},1774.082320384397,1850.4438849813853,1930.0711986320787,2013.1028320585285,2099.6831784451952,2189.9626950652682,2284.0981547733218,2382.252907758505,2484.5971539677298,2591.3082266241677,2702.5708872828,2818.5776328817678,2939.5290152659413,3065.6339736774421,3197.1101807267764,0,0,0,0,0,0,0,0,0,0,0,0,0,0,0,0,0,0,0,0,0,0,0,0]
[null,null,null,"Total Interest Expense",null,null,null,"Lakhs",null,{"$f":"J35","v":0},{"$f":"K35","v":1572.2009868788205},1561.9087838737653,1544.9349009529146,1520.4941822306371,1487.7280209185215,1445.698036027321,1393.3792246338912,1329.652546999381,1253.2968983774656,1162.9804176269824,1057.2510787197225,934.52650688736696,793.08295645573241,631.04338234164959,446.36453170770619,236.82297635012733,-4.6202330850064755E-12,-4.9898517318069932E-12,-5.3890398703515529E-12,-5.8201630599796775E-12,-6.2857761047780518E-12,0,0,0,0,0,0,0,0,0,0,0,0,0,0,0,0,0,0,0]
[null,null,null,"Total Repayment",null,null,null,"Lakhs",null,{"$f":"J48+J32","v":0},{"$f":"K48+K32","v":128.65253756319044},212.17353651063172,305.50898402847065,409.5770164014416,525.37481114000707,653.98514241787416,796.58347043137701,954.44560777394076,1128.9560093810394,1321.6167363407474,1534.0571479044452,1768.0443803954331,2025.4946764260353,2308.4856329242916,2619.2694419697359,2960.2872043766492,4.6202330850064755E-12,4.9898517318069932E-12,5.3890398703515529E-12,5.8201630599796775E-12,6.2857761047780518E-12,0,0,0,0,0,0,0,0,0,0,0,0,0,0,0,0,0,0,0]
[null,null,null,"Total Closing Balance",null,null,null,"Lakhs",null,{"$f":"J49+J33","v":19652.512335985255},{"$f":"K49+K33","v":19523.859798422065},19311.686261911433,19006.177277882962,18596.600261481519,18071.225450341513,17417.240307923639,16620.656837492261,15666.211229718319,14537.25522033728,13215.638483996532,11681.581336092087,9913.5369556966543,7888.0422792706195,5579.5566463463274,2960.2872043765915,-5.7752913562580943E-11,-6.2373146647587417E-11,-6.7362998379394413E-11,-7.2752038249745971E-11,-7.8572201309725648E-11,-8.4857977414503701E-11,-8.4857977414503701E-11,-8.4857977414503701E-11,-8.4857977414503701E-11,-8.4857977414503701E-11,-8.4857977414503701E-11,-8.4857977414503701E-11,-8.4857977414503701E-11,-8.4857977414503701E-11,-8.4857977414503701E-11,-8.4857977414503701E-11,-8.4857977414503701E-11,-8.4857977414503701E-11,-8.4857977414503701E-11,-8.4857977414503701E-11,-8.4857977414503701E-11,-8.4857977414503701E-11,-8.4857977414503701E-11,-8.4857977414503701E-11,-8.4857977414503701E-11]
[]
[null,"CFADS and Taxes"]
[null,null,null,"EBITDA",null,null,null,"Lakhs",null,{"$f":"J22","v":0},{"$f":"K22","v":2365.0892804813293},2467.442777117245,2574.2023802943349,2685.5565526586561,2801.7017550285864,2922.8427825364943,3049.1931147239011,3180.9752801601389,3318.4212361772652,3461.7727643376566,3611.281882275297,3767.211272577325,3929.8347293988782,4099.4376235318814,4276.3173866769575,4460.7840156973771,4653.1605976647907,4853.7838565384964,5063.0047223532074,5281.1889238248596,5508.7176053196836,0,0,0,0,0,0,0,0,0,0,0,0,0,0,0,0,0,0,0]
[null,null,null,"Less: Allowable Depreciation",null,null,null,"Lakhs",null,{"$f":"J15","v":0},{"$f":"K15","v":1040},1040,1040,1040,1040,1040,1040,1040,1040,1040,1040,1040,1040,1040,1040,1040,1040,1040,1040,1040,1040,0,0,0,0,0,0,0,0,0,0,0,0,0,0,0,0,0,0,0]
[null,null,null,"EBIT ",null,null,null,"Lakhs",null,{"$f":"J60-J61","v":0},{"$f":"K60-K61","v":1325.0892804813293},1427.442777117245,1534.2023802943349,1645.5565526586561,1761.7017550285864,1882.8427825364943,2009.1931147239011,2140.9752801601389,2278.4212361772652,2421.7727643376566,2571.281882275297,2727.211272577325,2889.8347293988782,3059.4376235318814,3236.3173866769575,3420.7840156973771,3613.1605976647907,3813.7838565384964,4023.0047223532074,4241.1889238248596,4468.7176053196836,0,0,0,0,0,0,0,0,0,0,0,0,0,0,0,0,0,0,0]
[null,null,null,"Less: Interest",null,null,null,"Lakhs"]
[null,null,null,"EBT Before NOL",null,null,null,"Lakhs"]
[]
[null,null,null,"NOL - Opening Balance",null,null,null,"Lakhs"]
[null,null,null,"Add: Negative EBT Carried Forward",null,null,null,"Lakhs"]
[null,null,null,"Less: NOL Used from Positive EBT",null,null,null,"Lakhs"]
[null,null,null,"NOL - Closing Balance",null,null,null,"Lakhs"]
[]
[null,null,null,"EBT After NOL",null,null,null,"Lakhs"]
[null,null,null,"Taxes","%",{"$f":"'Input C'!F58","v":0.25},null,"Lakhs"]
[]
[null,"Cash Flow Waterfall"]
[null,null,null,"EBITDA",null,null,null,"Lakhs",null,{"$f":"J22","v":0},{"$f":"K22","v":2365.0892804813293},2467.442777117245,2574.2023802943349,2685.5565526586561,2801.7017550285864,2922.8427825364943,3049.1931147239011,3180.9752801601389,3318.4212361772652,3461.7727643376566,3611.281882275297,3767.211272577325,3929.8347293988782,4099.4376235318814,4276.3173866769575,4460.7840156973771,4653.1605976647907,4853.7838565384964,5063.0047223532074,5281.1889238248596,5508.7176053196836,0,0,0,0,0,0,0,0,0,0,0,0,0,0,0,0,0,0,0]
[null,null,null,"Less: Taxes (from Paste Block)",null,null,null,"Lakhs",null,{"$f":"J72","v":0},{"$f":"K72","v":0},0,0,0,0,0,0,0,0,0,0,0,0,0,0,0,0,0,0,0,0,0,0,0,0,0,0,0,0,0,0,0,0,0,0,0,0,0,0,0]
[null,null,null,"CFADS",null,null,null,"Lakhs",null,{"$f":"J75-J76","v":0},{"$f":"K75-K76","v":2365.0892804813293},2467.442777117245,2574.2023802943349,2685.5565526586561,2801.7017550285864,2922.8427825364943,3049.1931147239011,3180.9752801601389,3318.4212361772652,3461.7727643376566,3611.281882275297,3767.211272577325,3929.8347293988782,4099.4376235318814,4276.3173866769575,4460.7840156973771,4653.1605976647907,4853.7838565384964,5063.0047223532074,5281.1889238248596,5508.7176053196836,0,0,0,0,0,0,0,0,0,0,0,0,0,0,0,0,0,0,0]
[null,null,null,"Less: Debt Service",null,null,null,"Lakhs"]
[null,null,null,"Less: Transaction Fees",null,null,null,"Lakhs"]
[null,null,null,"Equity Cash Flow",null,null,null,"Lakhs"]
[]
[null,null,null,"Less: Consideration (Equity)",null,null,null,"Lakhs"]
[null,null,null,"Net Equity Cash Flow",null,null,null,"Lakhs"]
[]
[null,null,null,"Equity IRR","%"]
[]
[null,"Financial Statements"]
[null,null,"Depreciation"]
[null,null,null,"Fair Value Write-up",null,null,null,"Lakhs"]
[null,null,null,"Depreciation Rate",null,null,null,"%"]
[null,null,null,"Depreciation on Fair Value Write-up",null,null,null,"Lakhs"]
[null,null,null,"Existing Depreciation",null,null,null,"Lakhs"]
[null,null,null,"Total Book Depreciation",null,null,null,"Lakhs"]
[]
[null,null,null,"Deferred Tax"]
[]
[null,null,"Profit and Loss"]
[null,null,null,"EBITDA",null,null,null,"Lakhs"]
[null,null,null,"Less: Depreciation",null,null,null,"Lakhs"]
[null,null,null,"EBIT ",null,null,null,"Lakhs"]
[null,null,null,"Less: Interest Expense",null,null,null,"Lakhs"]
[null,null,null,"Less: Fees for Acquisition",null,null,null,"Lakhs"]
[null,null,null,"EBT",null,null,null,"Lakhs"]
[null,null,null,"Less: Taxes Paid",null,null,null,"Lakhs"]
[null,null,null,"Earnings",null,null,null,"Lakhs"]
[]
[null,null,"Cash Flow"]
[]
[null,null,"Operating Cash Flow"]
[null,null,null,"EBITDA",null,null,null,"Lakhs",null,{"$f":"J22","v":0},{"$f":"K22","v":2365.0892804813293},2467.442777117245,2574.2023802943349,2685.5565526586561,2801.7017550285864,2922.8427825364943,3049.1931147239011,3180.9752801601389,3318.4212361772652,3461.7727643376566,3611.281882275297,3767.211272577325,3929.8347293988782,4099.4376235318814,4276.3173866769575,4460.7840156973771,4653.1605976647907,4853.7838565384964,5063.0047223532074,5281.1889238248596,5508.7176053196836,0,0,0,0,0,0,0,0,0,0,0,0,0,0,0,0,0,0,0]
[null,null,null,"Less: Taxes",null,null,null,"Lakhs",null,{"$f":"J104","v":0},{"$f":"K104","v":0},0,0,0,0,0,0,0,0,0,0,0,0,0,0,0,0,0,0,0,0,0,0,0,0,0,0,0,0,0,0,0,0,0,0,0,0,0,0,0]
[null,null,null,"CFADS",null,null,null,"Lakhs"]
[]
[null,null,"Investing Cash Flow"]
[null,null,null,"Enterprise Value Paid",null,null,null,"Lakhs"]
[null,null,null,"Fees Paid",null,null,null,"Lakhs"]
[null,null,null,"Total Investing",null,null,null,"Lakhs"]
[]
[null,null,"Financing Cash Flow"]
[null,null,null,"New Debt for Transaction",null,null,null,"Lakhs"]
[null,null,null,"Existing Debt for Transaction",null,null,null,"Lakhs"]
[null,null,null,"Equity Consideration for Transaction",null,null,null,"Lakhs"]
[]
[null,null,null,"Interest Paid",null,null,null,"Lakhs"]
[null,null,null,"Dividends Paid",null,null,null,"Lakhs"]
[null,null,null,"Total Financing",null,null,null,"Lakhs"]
[]
[null,null,"Balance Sheet"]
[]
[null,null,"Assets"]
[null,null,null,"Gross assets (FMV)","Lakhs",null,null,"Lakhs"]
[null,null,null,"Less: Accumulated Depreciation",null,null,null,"Lakhs"]
[null,null,null,"Net Assets",null,null,null,"Lakhs"]
[]
[null,null,null,"Goodwill",null,null,null,"Lakhs"]
[]
[null,null,"Liabilities and Equity"]
[null,null,null,"Total Debt",null,null,null,"Lakhs"]
[]
[null,null,null,"Opening Equity",null,null,null,"Lakhs"]
[null,null,null,"Add: Paid In Capital (Consideration)",null,null,null,"Lakhs"]
[null,null,null,"Add: Income",null,null,null,"Lakhs"]
[null,null,null,"Less: Dividends",null,null,null,"Lakhs"]
[null,null,null,"Closing Balance",null,null,null,"Lakhs"]
[]
[null,null,null,"Total Liabilities and Equity",null,null,null,"Lakhs"]
[]
[null,null,null,"Balance Sheet Test"]
[]
[null,"Earnings per Share"]
[null,null,null,"Stock Price"]
[null,null,null,"Shares Issued"]
[null,null,null,"Earnings"]
[null,null,null,"Earnings Per Share Effect"]
[]
[null,"Solver"]
[null,null,"Copy Block"]
[]
[]
[]
[]
[null,null,null,"Total Copy Block"]
[]
[null,null,"Paste Block"]
[]
[]
[]
[]
[null,null,null,"Total Paste Block"]
[]
[null,null,null,"Difference"]

{"sheet":"Sensitivity Analysis","index":7,"n_rows":30,"n_cols":10,"rows_kept":30,"cut":false,"hidden":false,"merged":[]}
["          "]
[null,null,null,{"$f":"'Input C'!H2","v":"Base Case Annual"},{"$f":"'Input C'!M2","v":"Higher Cost"},{"$f":"'Input C'!N2","v":"Higher O&M"},{"$f":"'Input C'!P2","v":"Shorter Life"},{"$f":"'Input C'!Q2","v":"P90"},{"$f":"'Input C'!R2","v":"P99"}]
[null,null,null,1,2,3,5,6,7]
[null,null,"Project IRR",0.1050000000000002,0.10499999999999976,0.11067656167367756,0.10188659813243395,0.10188659813243395,0.10188659813243395]
[null,null,"Total EBITDA",219919.32574377354,293810.46130896505,312516.01629281871,196968.22266130618,196968.22266130618,196968.22266130624]
[null,null,"Real LCOE",1.2852882034978015E-2,1.6549626868726366E-2,1.7137176046637354E-2,1.9179999328813365E-2,2.2487227283255369E-2,2.563543910291112E-2]
[null,null,"Nominal LCOE",2.1730318257418866E-2,2.7980390539666965E-2,2.8973757676558486E-2,2.9889583600491043E-2,3.5043476712555664E-2,3.9949563452313458E-2]
[]
[]
[null,null,"PPA Inflate","Flag"]
[]
[]
[]
[]
[]
[]
[null,null,null,{"$f":"D2","v":"Base Case Annual"},{"$f":"E2","v":"Higher Cost"},"Higher O&M","Shorter Life","P90","P99","Worst"]
[null,null,{"$f":"C6","v":"Real LCOE"},{"$f":"D6","v":1.2852882034978015E-2},{"$f":"E6-D6","v":3.6967448337483517E-3},{"$f":"F6-E6","v":5.8754917791098774E-4},2.0428232821760109E-3,3.307227954442004E-3,3.148211819655751E-3,{"$f":"I6","v":2.563543910291112E-2}]
[]
[]
[null,null,null,{"$f":"'Input C'!H2","v":"Base Case Annual"},{"$f":"'Input C'!I2","v":"Longer Life"},{"$f":"'Input C'!J2","v":"Improved Perfromance Ratio"},{"$f":"'Input C'!K2","v":"Improved Availability/ Degradation"},{"$f":"'Input C'!L2","v":"Reduced O&M"}]
[null,null,null,1,2,3,4,5]
[null,null,"EV - Pre-tax Project Cash Flow",28535.359995865347,30620.840410356544,30620.840410356552,30765.076382699714,30612.9511075273]
[null,null,"EV - After-tax Project Cash Flow",27911.058426233034,31571.853642059086,31571.853642059101,31763.6277748272,31573.199893527508]
[null,null,"Equity Value",7820.7362936348727,9848.0936819889121,9848.0936819889193,9947.7552900569463,9795.5569101801975]
[null,null,"Pre-tax Cash Flow Discount Rate",0.1,0.1,0.1,0.1,0.1]
[null,null,"After-tax Cash Flow Discount Rate",0.08,0.08,0.08,0.08,0.08]
[null,null,"Equity Discount Rate",0.11,0.11,0.11,0.11,0.11]
[null,null,"Interest Rate",8.0869093537330655E-2,8.086958825588228E-2,8.086958825588228E-2,8.0865159630775466E-2,8.0868813395500186E-2]
[null,null,"After-tax Interest Rate",6.0651820152997991E-2,6.065219119191171E-2,6.065219119191171E-2,6.0648869723081603E-2,6.0651610046625143E-2]

{"sheet":"Valuation Summary","index":8,"n_rows":23,"n_cols":6,"rows_kept":23,"cut":false,"hidden":false,"merged":[]}
[]
[]
[]
[null,null,null,"Pre-tax","After-tax","Equity"]
[null,null,"IRR without Sale",{"$f":"'Financial Model'!G354","v":0.10451963543891907},{"$f":"'Financial Model'!F355","v":8.1327882409095761E-2},{"$f":"'Financial Model'!F356","v":0.1194887101650238}]
[null,null,"Buyer Target IRR",{"$f":"'Financial Model'!F363","v":0.1},{"$f":"'Financial Model'!G355","v":8.5409948229789742E-2},{"$f":"'Financial Model'!G356","v":0.12567459940910342}]
[null,null,"IRR with Sale",{"$f":"'Financial Model'!F370","v":0.11192848086357116},{"$f":"'Financial Model'!F380","v":9.5438584685325609E-2},{"$f":"'Financial Model'!F394","v":0.14000000357627859}]
[null,null,"Interest Rate",{"$f":"'Input C'!F70","v":0.08},{"$f":"D8","v":0.08},{"$f":"E8","v":0.08}]
[]
[null,null,"PPA Inflate","Flag"]
[]
[null,"Sources and Uses"]
[null,null,"Sources"]
[null,null,"Assumption of Existing Debt",{"$f":"Transaction!F40","v":19652.512335985255}]
[null,null,"New Debt",{"$f":"Transaction!F41","v":0}]
[null,null,"New Equity ",{"$f":"Transaction!F42","v":7820.7362936348727}]
[null,null,"Total Sources of Funds",{"$f":"Transaction!F43","v":27473.248629620128}]
[]
[null,null,"Uses"]
[null,null,"Consideration for Enterprise"]
[null,null,"Payment of Fees"]
[null,null,"Debt Repayment"]
[null,null,"Total Uses of Funds"]

{"sheet":"Audit","index":9,"n_rows":12,"n_cols":11,"rows_kept":12,"cut":false,"hidden":false,"merged":[]}
["          "]
[null,null,null,null,null,null,null,"Model","Target","Check"]
[null,null,null,"S-Curve Check",null,null,null,{"$f":"'Financial Model'!H32","v":0.5},1,{"$f":"H3=I3","v":false},{"$f":"IF(J3,\"\",D3)","v":"S-Curve Check"}]
[null,null,null,"Operating Period Check",null,null,null,{"$f":"'Financial Model'!H10","v":25},{"$f":"'Input C'!F8*Months/'Input C'!F11","v":25},{"$f":"H4=I4","v":true},""]
[null,null,null,"Depreciation Check",null,null,null,{"$f":"'Financial Model'!J71","v":1.0000000000000002},1,{"$f":"ROUND(H5-I5,0)=0","v":true},""]
[null,null,null,"Balance Sheet Check",null,null,null,null,null,{"$f":"'Financial Model'!H332","v":true},""]
[null,null,null,"LCOE-Real",null,null,null,{"$f":"LCOE!E47","v":2.0381910654381691E-2},{"$f":"LCOE!E48","v":1.0529680119726969E-2},true,""]
[null,null,null,"Copy Paste",null,null,null,null,{"$f":"Difference","v":0},{"$f":"ROUND(I8,0)=0","v":true},""]
[]
[]
[null,null,null,"Total Errors",null,null,null,null,null,{"$f":"AND(J3:J10)","v":false},{"$f":"add_text(K3:K10)","v":" S-Curve Check       "}]
[null,null,null,null,null,null,null,null,null,{"$f":"IF(J11,\"Model Ok\",K11)","v":" S-Curve Check       "}]

{"sheet":"BESS-Augm","index":10,"n_rows":15,"n_cols":21,"rows_kept":15,"cut":false,"hidden":false,"merged":[]}
["          "]
[null,"Inputs"]
[null,null,"Required BESS capacity",null,"MWh",400]
[null,null,"Degradation",null,"%",3.5000000000000003E-2]
[null,null,"Initial Capacity Installed",null,"MWh",450]
[]
[]
[null,"Model",null,null,null,null,null,1,2,3,4,5,6,7,8,9,10,11,12,13,14]
[null,null,"Opening Balance of BESS",null,null,null,null,{"$f":"G13","v":450},{"$f":"H13","v":434.25},419.05124999999998,404.38445624999997,450,434.25,419.05124999999998,404.38445624999997,450,434.25,419.05124999999998,404.38445624999997,450,434.25]
[null,null,"Less: Degradation",null,null,null,null,{"$f":"H9*$F$4","v":15.750000000000002},{"$f":"I9*$F$4","v":15.198750000000002},14.66679375,14.15345596875,15.750000000000002,15.198750000000002,14.66679375,14.15345596875,15.750000000000002,15.198750000000002,14.66679375,14.15345596875,15.750000000000002,15.198750000000002]
[null,null,"Subtotal",null,null,null,null,{"$f":"H9-H10","v":434.25},{"$f":"I9-I10","v":419.05124999999998},404.38445624999997,390.23100028124998,434.25,419.05124999999998,404.38445624999997,390.23100028124998,434.25,419.05124999999998,404.38445624999997,390.23100028124998,434.25,419.05124999999998]
[null,null,"Augmented capacity",null,null,null,null,{"$f":"IF(H15,$F$5-H11)","v":false},false,false,59.768999718750024,false,false,{"$f":"IF(N15,$F$5-N11)","v":false},{"$f":"IF(O15,$F$5-O11)","v":59.768999718750024},false,false,false,59.768999718750024,false,false]
[null,null,"Closing balance",null,null,null,{"$f":"F5","v":450},{"$f":"H11+H12","v":434.25},{"$f":"I11+I12","v":419.05124999999998},404.38445624999997,450,434.25,419.05124999999998,404.38445624999997,450,434.25,419.05124999999998,404.38445624999997,450,434.25,419.05124999999998]
[]
[null,null,"Flag for required augmentation",null,null,null,null,{"$f":"H11<$F$3","v":false},{"$f":"I11<$F$3","v":false},false,true,false,false,false,true,false,false,false,true,false,false]

{"sheet":"LCOE","index":11,"n_rows":61,"n_cols":23,"rows_kept":61,"cut":false,"hidden":false,"merged":[]}
["          "]
[null,null,null,null,"Solar from Financial Model","Solar Best Case","Higher Capital Cost","Higher Target IRR","Lower Yield","Worse Degradation","Shorter Life","Lower Inflation","Lower Availability",null,"Wind","Coal",null,"Direct Solar Cost","Battery Cost","Added Solar to Charge Battery","Total Data Centre Cost","Wind +Battery","Solar in USD"]
[null,null,"1st Year Price",null,{"$f":"E47","v":2.0381910654381691E-2},{"$f":"F47","v":1.2308280772258177E-2},1.5846930436273228E-2,2.1177523016242625E-2,2.1177523016242625E-2,2.1177523016242625E-2,2.1177523016242625E-2,2.1177523016242625E-2,2.2069208195873893E-2,null,0.51895107936355334,3.362327139271809E-2,null,0,null,null,{"$f":"U47","v":5.9687010504237248E-2}]
[null,null,"LCOE",null,{"$f":"LCOE_Nominal","v":3.1467256342529101E-2},3.1467256342529101E-2,3.1467256342529101E-2,3.1467256342529101E-2,3.1467256342529101E-2,3.1467256342529101E-2,3.1467256342529101E-2,3.1467256342529101E-2,3.1467256342529101E-2]
[null,"Size of Project"]
[null,null,"Capacity","MW",{"$f":"'Input C'!F15","v":130},100,100,100,100,100,100,100,100,null,100,100,null,100,100,{"$f":"T14","v":531.77046221082117},{"$f":"R6","v":100}]
[null,null,"Hours per day","Hours",{"$f":"E21*24","v":5.1265753424657543},5.1265753424657543,5.1265753424657543,5.1265753424657543,5.1265753424657543,5.1265753424657543,5.1265753424657543,5.1265753424657543,5.1265753424657543,null,{"$f":"24*O21","v":12},{"$f":"24*P21","v":19.200000000000003},null,{"$f":"R21*24","v":5.1265753424657543},{"$f":"24-E7","v":18.873424657534244},{"$f":"E7","v":5.1265753424657543}]
[null,null,"Required Storage - No Minimum State of Charge","MWh",null,null,null,null,null,null,null,null,null,null,null,null,null,null,{"$f":"S6*S7","v":1887.3424657534244}]
[null,null,"Minimum State of Charge","%",null,null,null,null,null,null,null,null,null,null,null,null,null,null,0.15]
[null,null,"Required Storage - With Minimum State of Charge","MWH",null,null,null,null,null,null,null,null,null,null,null,null,null,null,{"$f":"S8*(1+S9)","v":2170.4438356164378}]
[]
[null,null,"Total Added Solar without RTE","MW",null,null,null,null,null,null,null,null,null,null,null,null,null,null,null,{"$f":"S7/E7*E6","v":478.59341598973901}]
[null,null,"Round Trip Efficiency","%",null,null,null,null,null,null,null,null,null,null,null,null,null,null,null,0.9]
[null,null,"Added Battery Adjusted for RTE","MW",null,null,null,null,null,null,null,null,null,null,null,null,null,null,null,{"$f":"T12/T13","v":531.77046221082117}]
[]
[null,null,"Battery Cost","Lakhs / MWh",null,null,null,null,null,null,null,null,null,null,null,null,null,null,100,100]
[]
[null,null,"Cost per MW","Lakhs / MW",{"$f":"'Input C'!F28","v":400},300,400,400,400,400,400,400,400,400,400,400,400,400,400,{"$f":"F18","v":300},null,null,{"$f":"'Input C'!H30","v":465.11627906976747}]
[null,null,"Total Cost","Lakhs",{"$f":"E18*E6","v":52000},30000,40000,40000,40000,40000,40000,40000,40000,null,{"$f":"O18*O6","v":40000},40000,null,{"$f":"R18*R6","v":40000},{"$f":"S16*S10","v":217044.38356164377},{"$f":"T18*T6","v":159531.13866324635}]
[null,null,"O&M Cost","Lakhs / MWy",{"$f":"'Input C'!F32","v":4},3,3,3,3,3,3,3,3,null,13,30,null,3,4,4,null,null,{"$f":"'Input C'!H34","v":4.6511627906976747}]
[null,null,"Capacity Factor","%",{"$f":"'Input C'!F21","v":0.21360730593607308},0.21360730593607308,0.21360730593607308,0.21360730593607308,0.21360730593607308,0.21360730593607308,0.21360730593607308,0.21360730593607308,0.21360730593607308,null,0.5,0.8,null,0.21360730593607308,null,null,null,null,{"$f":"E21","v":0.21360730593607308}]
[]
[null,"Returns and Adustment"]
[null,null,"Target IRR","%",{"$f":"'Input C'!F49","v":0.11},0.09,0.09,0.125,0.125,0.125,0.125,0.125,0.125,null,{"$f":"F24","v":0.09},0.09,null,9.5000000000000001E-2,0.09,0.09,null,null,0.06]
[null,null,"Inflation Rate","%",{"$f":"Summary!E16","v":5.0000000000000044E-2},{"$f":"'Input S'!G24","v":0.05},{"$f":"'Input S'!H24","v":0.05},{"$f":"'Input S'!I24","v":0.05},{"$f":"'Input S'!J24","v":0.05},{"$f":"'Input S'!K24","v":0.05},{"$f":"'Input S'!L24","v":0.05},{"$f":"'Input S'!M24","v":0.05},{"$f":"'Input S'!N24","v":0.05},null,{"$f":"F25","v":0.05},0.05,null,{"$f":"'Input S'!S24","v":0},0.05,0.05]
[null,null,"Real IRR","%",{"$f":"(1+E24)/(1+E25)-1","v":5.7142857142857162E-2},3.8095238095238182E-2,3.8095238095238182E-2,7.1428571428571397E-2,7.1428571428571397E-2,7.1428571428571397E-2,7.1428571428571397E-2,7.1428571428571397E-2,7.1428571428571397E-2,null,{"$f":"(1+O24)/(1+O25)-1","v":3.8095238095238182E-2},{"$f":"(1+P24)/(1+P25)-1","v":3.8095238095238182E-2},null,{"$f":"(1+R24)/(1+R25)-1","v":9.4999999999999973E-2},{"$f":"(1+S24)/(1+S25)-1","v":3.8095238095238182E-2},{"$f":"(1+T24)/(1+T25)-1","v":3.8095238095238182E-2}]
[null,null,"Degradation","%",{"$f":"'Input C'!F24","v":5.0000000000000001E-3},4.0000000000000001E-3,4.0000000000000001E-3,4.0000000000000001E-3,4.0000000000000001E-3,4.0000000000000001E-3,4.0000000000000001E-3,4.0000000000000001E-3,4.0000000000000001E-3,null,0,0,null,4.0000000000000001E-3,0.02,0.02]
[null,null,"Real IRR Adjusted for Degradation","%",{"$f":"(E26+1)/(1-E27)-1","v":6.2455132806891633E-2},4.2264295276343455E-2,4.2264295276343455E-2,7.5731497418244365E-2,7.5731497418244365E-2,7.5731497418244365E-2,7.5731497418244365E-2,7.5731497418244365E-2,7.5731497418244365E-2,null,{"$f":"(O26+1)/(1-O27)-1","v":3.8095238095238182E-2},{"$f":"(P26+1)/(1-P27)-1","v":3.8095238095238182E-2},null,{"$f":"(R26+1)/(1-R27)-1","v":9.9397590361445687E-2},{"$f":"(S26+1)/(1-S27)-1","v":5.9280855199222549E-2},{"$f":"(T26+1)/(1-T27)-1","v":5.9280855199222549E-2}]
[null,null,"Nominal IRR Adusted for Degradation","%",{"$f":"(1+E24)/(1-E27)-1","v":0.11557788944723635},9.4377510040160706E-2,9.4377510040160706E-2,0.12951807228915668,0.12951807228915668,0.12951807228915668,0.12951807228915668,0.12951807228915668,0.12951807228915668,null,{"$f":"(1+O24)/(1-O27)-1","v":9.000000000000008E-2},{"$f":"(1+P24)/(1-P27)-1","v":9.000000000000008E-2},null,{"$f":"(1+R24)/(1-R27)-1","v":9.9397590361445687E-2},{"$f":"(1+S24)/(1-S27)-1","v":0.11224489795918369},{"$f":"(1+T24)/(1-T27)-1","v":0.11224489795918369}]
[]
[null,null,"Life of the Project","Years",{"$f":"'Input C'!F8","v":25},25,25,25,25,25,25,25,25,null,30,25,null,25,12,12,null,null,{"$f":"E31","v":25}]
[]
[null,"Adjustments"]
[null,null,"Availability","%",{"$f":"'Financial Model'!F19","v":0.95},0.99,0.99,0.99,0.99,0.99,0.99,0.99,0.95,null,0.99,0.99,null,0.99,0.99,0.99]
[null,null,"Real O&M Adj for Degradation","%",{"$f":"PV(E26,E31,-1)/PV(E28,E31,-1)","v":1.0518321135451691},{"$f":"PV(F26,F31,-1)/PV(F28,F31,-1)","v":1.04500810495442},{"$f":"PV(G26,G31,-1)/PV(G28,G31,-1)","v":1.04500810495442},{"$f":"PV(H26,H31,-1)/PV(H28,H31,-1)","v":1.0387643265223834},1.0387643265223834,1.0387643265223834,1.0387643265223834,1.0387643265223834,{"$f":"PV(M26,M31,-1)/PV(M28,M31,-1)","v":1.0387643265223834},null,1,{"$f":"PV(P26,P31,-1)/PV(P28,P31,-1)","v":1},null,{"$f":"PV(R26,R31,-1)/PV(R28,R31,-1)","v":1.0349073968702578},1.1274396641656121,1.1274396641656121]
[null,null,"Nominal O&M Adj for Inflation","%",{"$f":"PV(E26,E31,-1)/PV(E24,E31,-1)","v":1.5599969033188343},{"$f":"PV(F26,F31,-1)/PV(F24,F31,-1)","v":1.6229350132146387},{"$f":"PV(G26,G31,-1)/PV(G24,G31,-1)","v":1.6229350132146387},{"$f":"PV(H26,H31,-1)/PV(H24,H31,-1)","v":1.5180267963443708},1.5180267963443708,1.5180267963443708,1.5180267963443708,1.5180267963443708,{"$f":"PV(M26,M31,-1)/PV(M24,M31,-1)","v":1.5180267963443708},null,1.722762915184697,{"$f":"PV(P26,P31,-1)/PV(P24,P31,-1)","v":1.6229350132146387},null,{"$f":"PV(R26,R31,-1)/PV(R24,R31,-1)","v":1.0000000000000002},1.3252367458543801,1.3252367458543801]
[null,null,"Nominal O&M Adj for Degradation","%",{"$f":"PV(E24,E31,-1)/PV(E29,E31,-1)","v":1.0409663106827747},{"$f":"PV(F24,F31,-1)/PV(F29,F31,-1)","v":1.0356853917643274},{"$f":"PV(G24,G31,-1)/PV(G29,G31,-1)","v":1.0356853917643274},{"$f":"PV(H24,H31,-1)/PV(H29,H31,-1)","v":1.0306859374762094},1.0306859374762094,1.0306859374762094,1.0306859374762094,1.0306859374762094,{"$f":"PV(M24,M31,-1)/PV(M29,M31,-1)","v":1.0306859374762094},null,1.0000000000000009,{"$f":"PV(P24,P31,-1)/PV(P29,P31,-1)","v":1.0000000000000009},null,{"$f":"PV(R24,R31,-1)/PV(R29,R31,-1)","v":1.0349073968702576},1.1147687089582896,1.1147687089582896]
[null,null,"Nominal O&M Adj for Inflation and Degrad","%",{"$f":"E36*E37","v":1.6239042211243602},{"$f":"F36*F37","v":1.6808500849692469},{"$f":"G36*G37","v":1.6808500849692469},{"$f":"H36*H37","v":1.5646088717042046},1.5646088717042046,1.5646088717042046,1.5646088717042046,1.5646088717042046,1.5646088717042046,null,1.7227629151846986,1.6229350132146401,null,{"$f":"R36*R37","v":1.0349073968702578},1.4773324562401722,1.4773324562401722]
[]
[null,"Real LCOE "]
[null,null,"Carrying Charge - Real","Lakhs ",{"$f":"PMT(E28,E31,-E18)*E6","v":4163.1682561916705},{"$f":"PMT(F28,F31,-F19)","v":1966.5918116375744},{"$f":"PMT(G28,G31,-G19)","v":2622.1224155167661},3611.4814277746113,3611.4814277746113,3611.4814277746113,3611.4814277746113,3611.4814277746113,3611.4814277746113,null,2260.0057276123639,2509.1885920168384,null,{"$f":"PMT(R28,R31,-R19)","v":4386.3263617488656},25786.439478489745,18953.450831433263,{"$f":"R41+S41+T41","v":49126.216671671878}]
[null,null,"O&M Adjusted for Degradation","Lakhs ",{"$f":"E20*E6*E35","v":546.952699043488},{"$f":"F20*F6*F35","v":313.50243148632597},{"$f":"G20*G6*G35","v":313.50243148632597},311.62929795671499,311.62929795671499,311.62929795671499,311.62929795671499,311.62929795671499,311.62929795671499,null,1300,3000,null,{"$f":"R20*R6*R35","v":310.47221906107734},450.97586566624489,2398.1564453126421,{"$f":"R42+S42+T42","v":3159.6045300399642}]
[null,null,"Fixed cost per year","Lakhs / MWy",{"$f":"E41+E42","v":4710.1209552351584},{"$f":"F41+F42","v":2280.0942431239005},{"$f":"G41+G42","v":2935.6248470030919},3923.1107257313265,3923.1107257313265,3923.1107257313265,3923.1107257313265,3923.1107257313265,3923.1107257313265,null,{"$f":"O41+O20","v":2273.0057276123639},{"$f":"P41+P20","v":2539.1885920168384},null,{"$f":"R41+R42","v":4696.7985808099429},{"$f":"S41+S42","v":26237.41534415599},21351.607276745905,52285.821201711835]
[null,null,"Yield","MWh / MW",{"$f":"E21*8760*E34","v":1777.6399999999999},{"$f":"F21*8760*F34","v":1852.4880000000001},{"$f":"G21*8760*G34","v":1852.4880000000001},1852.4880000000001,1852.4880000000001,1852.4880000000001,1852.4880000000001,1852.4880000000001,1777.6399999999999,null,{"$f":"O21*8760","v":4380},{"$f":"P21*8760","v":7008},null,null,null,null,8760]
[null,null,"Inverse of Yield","MW / MWh",{"$f":"1/E44/E6","v":4.3272584394521349E-6},{"$f":"1/F44/F6","v":5.3981456290135215E-6},{"$f":"1/G44/G6","v":5.3981456290135215E-6},5.3981456290135215E-6,5.3981456290135215E-6,5.3981456290135215E-6,5.3981456290135215E-6,5.3981456290135215E-6,5.6254359712877749E-6,null,{"$f":"1/O44","v":2.2831050228310502E-4},{"$f":"1/P44","v":1.4269406392694063E-4},null,null,null,null,{"$f":"1/U44","v":1.1415525114155251E-4}]
[null,null,"Cost of Coal","Lakhs / MWh",null,null,null,null,null,null,null,null,null,null,null,0.03]
[null,null,"LCOE - Real (First Year)","Lakhs / MWh",{"$f":"E45*E43","v":2.0381910654381691E-2},{"$f":"F45*F43","v":1.2308280772258177E-2},{"$f":"G45*G43","v":1.5846930436273228E-2},2.1177523016242625E-2,2.1177523016242625E-2,2.1177523016242625E-2,2.1177523016242625E-2,2.1177523016242625E-2,2.2069208195873893E-2,null,{"$f":"O45*O43","v":0.51895107936355334},{"$f":"P43*P45/P6+P46","v":3.362327139271809E-2},null,null,null,null,{"$f":"U43*U45/U6","v":5.9687010504237248E-2}]
[null,null,"First Year Price from Model","Lakhs / MWh",{"$f":"'Financial Model'!F63","v":1.0529680119726969E-2}]
[]
[null,"Nominal LCOE"]
[null,null,"Carrying Charge - Nominal","Lakhs / MWy",{"$f":"PMT(E29,E31,-E18)*E6","v":6427.4387684306785},{"$f":"PMT(F29,F31,-F18)*F6","v":3163.1773935715296},{"$f":"PMT(G29,G31,-G18)*G6","v":4217.5698580953731},5439.6899639481089,5439.6899639481089,5439.6899639481089,5439.6899639481089,5439.6899639481089,5439.6899639481089,null,null,null,null,{"$f":"PMT(R29,R31,-R18)*R6","v":4386.3263617488656}]
[null,null,"O&M Adjusted for Inflation and Degradation","Lakhs / MWy",{"$f":"E20*E38*E6","v":844.43019498466731},{"$f":"F20*F38*F6","v":504.25502549077407},{"$f":"G20*G38*G6","v":504.25502549077407},469.3826615112614,469.3826615112614,469.3826615112614,469.3826615112614,469.3826615112614,469.3826615112614,null,null,null,null,{"$f":"R20*R38*R6","v":310.47221906107734}]
[null,null,"Fixed cost per year","Lakhs / MWy",{"$f":"E51+E52","v":7271.8689634153461},{"$f":"F51+F52","v":3667.4324190623038},{"$f":"G51+G52","v":4721.8248835861468},5909.0726254593701,5909.0726254593701,5909.0726254593701,5909.0726254593701,5909.0726254593701,5909.0726254593701,null,null,null,null,{"$f":"R51+R52","v":4696.7985808099429}]
[null,null,"Inverse of Yield","MW / MWh",{"$f":"E45","v":4.3272584394521349E-6},{"$f":"F45","v":5.3981456290135215E-6},{"$f":"G45","v":5.3981456290135215E-6},5.3981456290135215E-6,5.3981456290135215E-6,5.3981456290135215E-6,5.3981456290135215E-6,5.3981456290135215E-6,5.6254359712877749E-6,null,null,null,null,{"$f":"R45","v":0}]
[]
[null,null,"LCOE - Nominal","Lakhs / MWh",{"$f":"E53*E54","v":3.1467256342529101E-2},{"$f":"F53*F54","v":1.979733428266366E-2},{"$f":"G53*G54","v":2.5489098356297837E-2},3.1898034564646953E-2,3.1898034564646953E-2,3.1898034564646953E-2,3.1898034564646953E-2,3.1898034564646953E-2,3.3241109704211035E-2,null,null,null,null,{"$f":"R53*R54","v":0}]
[]
[null,null,"Nominal LOCE from Model","Lakhs / MWh",{"$f":"'Financial Model'!F62","v":1.6588670865327559E-2}]
[]
[]
[null,null,"PPA Inflate","Flag"]

{"sheet":"Half Year NPV","index":12,"n_rows":12,"n_cols":26,"rows_kept":12,"cut":false,"hidden":false,"merged":[]}
[]
[null,null,null,null,null,null,1,2,3,4,5,6,7,8,9,10,11,12,13,14,15,16,17,18,19,20]
[null,null,null,null,null,null,"2025-01-01",{"$f":"EDATE(G3,12)","v":"2026-01-01"},{"$f":"EDATE(H3,12)","v":"2027-01-01"},"2028-01-01","2029-01-01","2030-01-01","2031-01-01","2032-01-01","2033-01-01","2034-01-01","2035-01-01","2036-01-01","2037-01-01","2038-01-01","2039-01-01","2040-01-01","2041-01-01","2042-01-01","2043-01-01","2044-01-01"]
[null,null,null,null,null,null,{"$f":"G3","v":"2025-01-01"},{"$f":"EDATE(G4,6)","v":"2025-07-01"},{"$f":"EDATE(H4,12)","v":"2026-07-01"},{"$f":"EDATE(I4,12)","v":"2027-07-01"},"2028-07-01","2029-07-01","2030-07-01","2031-07-01","2032-07-01","2033-07-01","2034-07-01","2035-07-01","2036-07-01","2037-07-01","2038-07-01","2039-07-01","2040-07-01","2041-07-01","2042-07-01","2043-07-01"]
[]
[null,null,null,null,null,null,0,100,100,100,100,100,100,100,100,100,100,100,100,100,100,100,100,100,100,100]
[null,null,null,"Full Year wait full end of year",0.1,{"$f":"XNPV(E7,G6:Z6,G3:Z3)","v":836.17868103238391},{"$f":"_xlfn.FORMULATEXT(F7)","v":"=XNPV(E7,G6:Z6,G3:Z3)"},null,null,"Same Dates"]
[null,null,null,"Pay and wait 1/2 Year",{"$f":"E7","v":0.1},{"$f":"XNPV(E8,G6:Z6,G4:Z4)","v":877.33517164233592},"=XNPV(E8,G6:Z6,G4:Z4)",null,null,"Adjusted Dates"]
[null,null,null,"Regular NPV - Zero",{"$f":"E8","v":0.1},{"$f":"NPV(E9,G6:Z6)","v":760.44728106676507},"=NPV(E9,G6:Z6)",null,null,"NPV with Zero"]
[null,null,null,"Regular NPV - Next",{"$f":"E9","v":0.1},{"$f":"NPV(E10,H6:Z6)","v":836.49200917344149},"=NPV(E10,H6:Z6)",null,null,"Corrected NPV for Period -1"]
[null,null,null,"Regular NPV - Adjusted",{"$f":"E10","v":0.1},{"$f":"F10*(1+$E$11)^(1/2)","v":877.32022064473313},"=F10*(1+$E$11)^(1/2)",null,null,"Corrected NPV with 1/2 year"]
[null,null,null,"Regular NPV - Formula",{"$f":"E11","v":0.1},{"$f":"NPV(E12,H6:Z6)*(1+E12)^(1/2)","v":877.32022064473313},"=NPV(E12,H6:Z6)*(1+E12)^(1/2)",null,null,null,{"$f":"_xlfn.FORMULATEXT(G12)","v":"=FORMULATEXT(F12)"}]

{"sheet":"UDF Example 1","index":13,"n_rows":20,"n_cols":17,"rows_kept":20,"cut":false,"hidden":false,"merged":[]}
["          "]
[]
[null,null,"Gearing",0.72727273157636629]
[null,null,"Fees and IDC",0.2]
[]
[null,null,"Cap Exp",null,50,70,200,100,50]
[]
[null,null,"Uses of Funds",null,null,null,null,null,null,null,null,null,null,{"$f":"M11","v":400.00000276989527},0.7,0.8,0.85]
[null,null,"Cap Exp",null,{"$f":"E6","v":50},{"$f":"F6","v":70},200,100,50,null,null,null,null,0.1]
[null,null,"Fees",{"$f":"D4","v":0.2},{"$f":"fees($D$4,$D$3,E6)","v":8.5106383568062842},{"$f":"fees($D$4,$D$3,F6)","v":11.914893699528797},{"$f":"fees($D$4,$D$3,G6)","v":34.042553427225137},{"$f":"fees($D$4,$D$3,H6)","v":17.021276713612568},{"$f":"fees($D$4,$D$3,I6)","v":8.5106383568062842},null,"Target Debt",null,400,0.2]
[null,null,"Total Uses",null,{"$f":"SUM(E9:E10)","v":58.510638356806282},81.91489369952879,234.04255342722513,117.02127671361256,58.510638356806282,null,"Computed Debt",null,{"$f":"SUM(E14:I14)","v":400.00000276989527},0.3]
[null,null,null,null,null,null,null,null,null,null,"Difference",null,{"$f":"M10-M11","v":-2.7698952749233285E-6}]
[null,null,"Source of Funds"]
[null,null,"Debt",{"$f":"D3","v":0.72727273157636629},{"$f":"E11*$D$14","v":42.553191784031419},{"$f":"F11*$D$14","v":59.574468497643977},170.21276713612568,85.106383568062839,42.553191784031419]
[null,null,"Equity",null,{"$f":"E11-E14","v":15.957446572774863},{"$f":"F11-F14","v":22.340425201884813},63.829786291099452,31.914893145549726,15.957446572774863]
[null,null,"Total",null,{"$f":"SUM(E14:E15)","v":58.510638356806282},{"$f":"SUM(F14:F15)","v":81.91489369952879},234.04255342722513,117.02127671361256,58.510638356806282]
[]
[null,null,"Computed Fee",{"$f":"D10","v":0.2},{"$f":"$D$18*E14","v":8.5106383568062842},{"$f":"$D$18*F14","v":11.914893699528797},34.042553427225137,17.021276713612568,8.5106383568062842,"Computed Fee"]
[null,null,"Fixed Fees",null,8.5106383568062842,11.914893699528797,34.042553427225137,17.021276713612568,8.5106383568062842,"Fixed Fee"]
[null,null,"Fee Difference",{"$f":"SUM(E20:XFD20)","v":0},{"$f":"E18-E19","v":0},{"$f":"F18-F19","v":0},0,0,0]

{"sheet":"UDF Example 2","index":14,"n_rows":26,"n_cols":14,"rows_kept":26,"cut":false,"hidden":false,"merged":[]}
["          "]
[]
[null,null,"Gearing",0.8]
[null,null,"Interest Rate",0.15]
[]
[null,null,"Cap Exp",null,null,50,70,200,100,50]
[]
[null,null,"Uses of Funds"]
[null,null,"Cap Exp",null,{"$f":"SUM(F9:J9)","v":470},{"$f":"F6","v":50},{"$f":"G6","v":70},200,100,50]
[null,null,"IDC",{"$f":"D4","v":0.15},{"$f":"SUM(F10:J10)","v":0},null,null,null,null,null,null,"Target Debt",null,400]
[null,null,"Total Uses",null,{"$f":"SUM(F11:J11)","v":470},{"$f":"SUM(F9:F10)","v":50},{"$f":"SUM(G9:G10)","v":70},200,100,50,null,"Computed Debt",null,{"$f":"SUM(F15:J15)","v":376}]
[null,null,"Pro-Rata",null,null,{"$f":"F11/$E$11","v":0.10638297872340426},{"$f":"G11/$E$11","v":0.14893617021276595},0.42553191489361702,0.21276595744680851,0.10638297872340426,null,"Difference",null,{"$f":"N10-N11","v":24}]
[]
[null,null,"Source of Funds"]
[null,null,"Debt",{"$f":"D3","v":0.8},{"$f":"$D$15*E11","v":376},{"$f":"$E$15*F12","v":40},{"$f":"$E$15*G12","v":56},160,80,40]
[null,null,"Equity",null,null,{"$f":"F11-F15","v":10},{"$f":"G11-G15","v":14},{"$f":"H11-H15","v":40},{"$f":"I11-I15","v":20},{"$f":"J11-J15","v":10}]
[null,null,"Total",null,{"$f":"SUM(F17:J17)","v":470},{"$f":"SUM(F15:F16)","v":50},{"$f":"SUM(G15:G16)","v":70},200,100,50]
[]
[null,null,"Opening Balance",null,null,{"$f":"D21","v":0},{"$f":"F21","v":40},96,256,336]
[null,null,"Add Funding",null,null,{"$f":"F15","v":40},{"$f":"G15","v":56},{"$f":"H15","v":160},{"$f":"I15","v":80},{"$f":"J15","v":40}]
[null,null,"Closing Balance",null,null,{"$f":"F19+F20","v":40},{"$f":"G19+G20","v":96},256,336,376]
[null,null,"IDC",{"$f":"D4","v":0.15},null,{"$f":"F19*$D$22","v":0},{"$f":"G19*$D$22","v":6},{"$f":"H19*$D$22","v":14.399999999999999},{"$f":"I19*$D$22","v":38.4},{"$f":"J19*$D$22","v":50.4}]
[]
[null,null,"Computed Fee",{"$f":"D10","v":0.15},null,{"$f":"$D$24*F15","v":6},{"$f":"$D$24*G15","v":8.4},{"$f":"$D$24*H15","v":24},{"$f":"$D$24*I15","v":12},{"$f":"$D$24*J15","v":6},"Computed IDC"]
[null,null,"Fixed Fees",null,null,8.5106383568062842,11.914893699528797,34.042553427225137,17.021276713612568,8.5106383568062842,"Fixed IDC"]
[null,null,"Fee Difference",{"$f":"SUM(F25:XFD25)","v":80.000000553979064},null,{"$f":"F24-F25","v":-2.5106383568062842},{"$f":"G24-G25","v":-3.5148936995287965},-10.042553427225137,-5.0212767136125684,-2.5106383568062842]

{"sheet":"UDF Introduction","index":15,"n_rows":7,"n_cols":2,"rows_kept":7,"cut":false,"hidden":false,"merged":[]}
["          "]
[]
[null,"=UDF_1('UDF Implement'!A6:PO17)"]
[]
[]
[null,{"$f":"UDF_First('UDF Inputs'!A6:I27)","v":9}]
[null,22]

{"sheet":"UDF Inputs","index":16,"n_rows":28,"n_cols":431,"rows_kept":28,"cut":false,"hidden":false,"merged":[]}
["          "]
[]
[]
[null,null,null,null,null,1,2,3,4,5,6,7,8,9,10,11,12,13,14,15,16,17,18,19,20,21,22,23,24,25,26,27,28,29,30,31,32,33,34,35,36,37,38,39,40,41,42,43,44,45,46,47,48,49,50,51,52,53,54,55,56,57,58,59,60,61,62,63,64,65,66,67,68,69,70,71,72,73,74,75,76,77,78,79,80,81,82,83,84,85,86,87,88,89,90,91,92,93,94,95,96,97,98,99,100,101,102,103,104,105,106,107,108,109,110,111,112,113,114,115,116,117,118,119,120,121,122,123,124,125,126,127,128,129,130,131,132,133,134,135,136,137,138,139,140,141,142,143,144,145,146,147,148,149,150,151,152,153,154,155,156,157,158,159,160,161,162,163,164,165,166,167,168,169,170,171,172,173,174,175,176,177,178,179,180,181,182,183,184,185,186,187,188,189,190,191,192,193,194,195,196,197,198,199,200,201,202,203,204,205,206,207,208,209,210,211,212,213,214,215,216,217,218,219,220,221,222,223,224,225,226,227,228,229,230,231,232,233,234,235,236,237,238,239,240,241,242,243,244,245,246,247,248,249,250,251,252,253,254,255,256,257,258,259,260,261,262,263,264,265,266,267,268,269,270,271,272,273,274,275,276,277,278,279,280,281,282,283,284,285,286,287,288,289,290,291,292,293,294,295,296,297,298,299,300,301,302,303,304,305,306,307,308,309,310,311,312,313,314,315,316,317,318,319,320,321,322,323,324,325,326,327,328,329,330,331,332,333,334,335,336,337,338,339,340,341,342,343,344,345,346,347,348,349,350,351,352,353,354,355,356,357,358,359,360,361,362,363,364,365,366,367,368,369,370,371,372,373,374,375,376,377,378,379,380,381,382,383,384,385,386,387,388,389,390,391,392,393,394,395,396,397,398,399,400,401,402,403,404,405,406,407,408,409,410,411,412,413,414,415,416,417,418,419,420,421,422,423,424,425,426]
[null,"UDF Inputs",null,null,null,{"$f":"'Financial Model'!K8","v":"2026-01-01"},{"$f":"'Financial Model'!L8","v":"2027-01-01"},{"$f":"'Financial Model'!M8","v":"2028-01-01"},{"$f":"'Financial Model'!N8","v":"2029-01-01"},{"$f":"'Financial Model'!O8","v":"2030-01-01"},{"$f":"'Financial Model'!P8","v":"2031-01-01"},{"$f":"'Financial Model'!Q8","v":"2032-01-01"},{"$f":"'Financial Model'!R8","v":"2033-01-01"},{"$f":"'Financial Model'!S8","v":"2034-01-01"},{"$f":"'Financial Model'!T8","v":"2035-01-01"},{"$f":"'Financial Model'!U8","v":"2036-01-01"},{"$f":"'Financial Model'!V8","v":"2037-01-01"},{"$f":"'Financial Model'!W8","v":"2038-01-01"},{"$f":"'Financial Model'!X8","v":"2039-01-01"},{"$f":"'Financial Model'!Y8","v":"2040-01-01"},{"$f":"'Financial Model'!Z8","v":"2041-01-01"},{"$f":"'Financial Model'!AA8","v":"2042-01-01"},{"$f":"'Financial Model'!AB8","v":"2043-01-01"},{"$f":"'Financial Model'!AC8","v":"2044-01-01"},{"$f":"'Financial Model'!AD8","v":"2045-01-01"},{"$f":"'Financial Model'!AE8","v":"2046-01-01"},{"$f":"'Financial Model'!AF8","v":"2047-01-01"},{"$f":"'Financial Model'!AG8","v":"2048-01-01"},{"$f":"'Financial Model'!AH8","v":"2049-01-01"},{"$f":"'Financial Model'!AI8","v":"2050-01-01"},{"$f":"'Financial Model'!AJ8","v":"2051-01-01"},{"$f":"'Financial Model'!AK8","v":"2052-01-01"},{"$f":"'Financial Model'!AL8","v":"2053-01-01"},{"$f":"'Financial Model'!AM8","v":"2054-01-01"},{"$f":"'Financial Model'!AN8","v":"2055-01-01"},{"$f":"'Financial Model'!AO8","v":"2056-01-01"},{"$f":"'Financial Model'!AP8","v":"2057-01-01"},{"$f":"'Financial Model'!AQ8","v":"2058-01-01"},{"$f":"'Financial Model'!AR8","v":"2059-01-01"},{"$f":"'Financial Model'!AS8","v":"2060-01-01"},{"$f":"'Financial Model'!AT8","v":"2061-01-01"},{"$f":"'Financial Model'!AU8","v":"2062-01-01"},{"$f":"'Financial Model'!AV8","v":"2063-01-01"},{"$f":"'Financial Model'!AW8","v":"2064-01-01"},{"$f":"'Financial Model'!AX8","v":"2065-01-01"},{"$f":"'Financial Model'!AY8","v":"2066-01-01"},{"$f":"'Financial Model'!AZ8","v":"2067-01-01"},{"$f":"'Financial Model'!BA8","v":"2068-01-01"},{"$f":"'Financial Model'!BB8","v":"2069-01-01"},{"$f":"'Financial Model'!BC8","v":"2070-01-01"},{"$f":"'Financial Model'!BD8","v":"2071-01-01"},{"$f":"'Financial Model'!BE8","v":"2072-01-01"},{"$f":"'Financial Model'!BF8","v":"2073-01-01"},{"$f":"'Financial Model'!BG8","v":"2074-01-01"},{"$f":"'Financial Model'!BH8","v":"2075-01-01"},{"$f":"'Financial Model'!BI8","v":"2076-01-01"},{"$f":"'Financial Model'!BJ8","v":"2077-01-01"},{"$f":"'Financial Model'!BK8","v":"2078-01-01"},{"$f":"'Financial Model'!BL8","v":"2079-01-01"},{"$f":"'Financial Model'!BM8","v":"2080-01-01"},{"$f":"'Financial Model'!BN8","v":"2081-01-01"},{"$f":"'Financial Model'!BO8","v":"2082-01-01"},{"$f":"'Financial Model'!BP8","v":"2083-01-01"},{"$f":"'Financial Model'!BQ8","v":"2084-01-01"},{"$f":"'Financial Model'!BR8","v":"2085-01-01"},{"$f":"'Financial Model'!BS8","v":"2086-01-01"},{"$f":"'Financial Model'!BT8","v":"2087-01-01"},{"$f":"'Financial Model'!BU8","v":"2088-01-01"},{"$f":"'Financial Model'!BV8","v":"2089-01-01"},{"$f":"'Financial Model'!BW8","v":"2090-01-01"},{"$f":"'Financial Model'!BX8","v":"2091-01-01"},{"$f":"'Financial Model'!BY8","v":"2092-01-01"},{"$f":"'Financial Model'!BZ8","v":"2093-01-01"},{"$f":"'Financial Model'!CA8","v":"2094-01-01"},{"$f":"'Financial Model'!CB8","v":"2095-01-01"},{"$f":"'Financial Model'!CC8","v":"2096-01-01"},{"$f":"'Financial Model'!CD8","v":"2097-01-01"},{"$f":"'Financial Model'!CE8","v":"2098-01-01"},{"$f":"'Financial Model'!CF8","v":"2099-01-01"},{"$f":"'Financial Model'!CG8","v":"2100-01-01"},{"$f":"'Financial Model'!CH8","v":"2101-01-01"},{"$f":"'Financial Model'!CI8","v":"2102-01-01"},{"$f":"'Financial Model'!CJ8","v":"2103-01-01"},{"$f":"'Financial Model'!CK8","v":"2104-01-01"},{"$f":"'Financial Model'!CL8","v":"2105-01-01"},{"$f":"'Financial Model'!CM8","v":"2106-01-01"},{"$f":"'Financial Model'!CN8","v":"2107-01-01"},{"$f":"'Financial Model'!CO8","v":"2108-01-01"},{"$f":"'Financial Model'!CP8","v":"2109-01-01"},{"$f":"'Financial Model'!CQ8","v":"2110-01-01"},{"$f":"'Financial Model'!CR8","v":"2111-01-01"},{"$f":"'Financial Model'!CS8","v":"2112-01-01"},{"$f":"'Financial Model'!CT8","v":"2113-01-01"},{"$f":"'Financial Model'!CU8","v":"2114-01-01"},{"$f":"'Financial Model'!CV8","v":"2115-01-01"},{"$f":"'Financial Model'!CW8","v":"2116-01-01"},{"$f":"'Financial Model'!CX8","v":"2117-01-01"},{"$f":"'Financial Model'!CY8","v":"2118-01-01"},{"$f":"'Financial Model'!CZ8","v":"2119-01-01"},{"$f":"'Financial Model'!DA8","v":"2120-01-01"},{"$f":"'Financial Model'!DB8","v":"2121-01-01"},{"$f":"'Financial Model'!DC8","v":"2122-01-01"},{"$f":"'Financial Model'!DD8","v":"2123-01-01"},{"$f":"'Financial Model'!DE8","v":"2124-01-01"},{"$f":"'Financial Model'!DF8","v":"2125-01-01"},{"$f":"'Financial Model'!DG8","v":"2126-01-01"},{"$f":"'Financial Model'!DH8","v":"2127-01-01"},{"$f":"'Financial Model'!DI8","v":"2128-01-01"},{"$f":"'Financial Model'!DJ8","v":"2129-01-01"},{"$f":"'Financial Model'!DK8","v":"2130-01-01"},{"$f":"'Financial Model'!DL8","v":"2131-01-01"},{"$f":"'Financial Model'!DM8","v":"2132-01-01"},{"$f":"'Financial Model'!DN8","v":"2133-01-01"},{"$f":"'Financial Model'!DO8","v":"2134-01-01"},{"$f":"'Financial Model'!DP8","v":"2135-01-01"},{"$f":"'Financial Model'!DQ8","v":"2136-01-01"},{"$f":"'Financial Model'!DR8","v":"2137-01-01"},{"$f":"'Financial Model'!DS8","v":"2138-01-01"},{"$f":"'Financial Model'!DT8","v":"2139-01-01"},{"$f":"'Financial Model'!DU8","v":"2140-01-01"},{"$f":"'Financial Model'!DV8","v":"2141-01-01"},{"$f":"'Financial Model'!DW8","v":"2142-01-01"},{"$f":"'Financial Model'!DX8","v":"2143-01-01"},{"$f":"'Financial Model'!DY8","v":"2144-01-01"},{"$f":"'Financial Model'!DZ8","v":"2145-01-01"},{"$f":"'Financial Model'!EA8","v":"2146-01-01"},{"$f":"'Financial Model'!EB8","v":"2147-01-01"},{"$f":"'Financial Model'!EC8","v":"2148-01-01"},{"$f":"'Financial Model'!ED8","v":"2149-01-01"},{"$f":"'Financial Model'!EE8","v":"2150-01-01"},{"$f":"'Financial Model'!EF8","v":"2151-01-01"},{"$f":"'Financial Model'!EG8","v":"2152-01-01"},{"$f":"'Financial Model'!EH8","v":"2153-01-01"},{"$f":"'Financial Model'!EI8","v":"2154-01-01"},{"$f":"'Financial Model'!EJ8","v":"2155-01-01"},{"$f":"'Financial Model'!EK8","v":"2156-01-01"},{"$f":"'Financial Model'!EL8","v":"2157-01-01"},{"$f":"'Financial Model'!EM8","v":"2158-01-01"},{"$f":"'Financial Model'!EN8","v":"2159-01-01"},{"$f":"'Financial Model'!EO8","v":"2160-01-01"},{"$f":"'Financial Model'!EP8","v":"2161-01-01"},{"$f":"'Financial Model'!EQ8","v":"2162-01-01"},{"$f":"'Financial Model'!ER8","v":"2163-01-01"},{"$f":"'Financial Model'!ES8","v":"2164-01-01"},{"$f":"'Financial Model'!ET8","v":"2165-01-01"},{"$f":"'Financial Model'!EU8","v":"2166-01-01"},{"$f":"'Financial Model'!EV8","v":"2167-01-01"},{"$f":"'Financial Model'!EW8","v":"2168-01-01"},{"$f":"'Financial Model'!EX8","v":"2169-01-01"},{"$f":"'Financial Model'!EY8","v":"2170-01-01"},{"$f":"'Financial Model'!EZ8","v":"2171-01-01"},{"$f":"'Financial Model'!FA8","v":"2172-01-01"},{"$f":"'Financial Model'!FB8","v":"2173-01-01"},{"$f":"'Financial Model'!FC8","v":"2174-01-01"},{"$f":"'Financial Model'!FD8","v":"2175-01-01"},{"$f":"'Financial Model'!FE8","v":"2176-01-01"},{"$f":"'Financial Model'!FF8","v":"2177-01-01"},{"$f":"'Financial Model'!FG8","v":"2178-01-01"},{"$f":"'Financial Model'!FH8","v":"2179-01-01"},{"$f":"'Financial Model'!FI8","v":"2180-01-01"},{"$f":"'Financial Model'!FJ8","v":"2181-01-01"},{"$f":"'Financial Model'!FK8","v":"2182-01-01"},{"$f":"'Financial Model'!FL8","v":"2183-01-01"},{"$f":"'Financial Model'!FM8","v":"2184-01-01"},{"$f":"'Financial Model'!FN8","v":"2185-01-01"},{"$f":"'Financial Model'!FO8","v":"2186-01-01"},{"$f":"'Financial Model'!FP8","v":"2187-01-01"},{"$f":"'Financial Model'!FQ8","v":"2188-01-01"},{"$f":"'Financial Model'!FR8","v":"2189-01-01"},{"$f":"'Financial Model'!FS8","v":"2190-01-01"},{"$f":"'Financial Model'!FT8","v":"2191-01-01"},{"$f":"'Financial Model'!FU8","v":"2192-01-01"},{"$f":"'Financial Model'!FV8","v":"2193-01-01"},{"$f":"'Financial Model'!FW8","v":"2194-01-01"},{"$f":"'Financial Model'!FX8","v":"2195-01-01"},{"$f":"'Financial Model'!FY8","v":"2196-01-01"},{"$f":"'Financial Model'!FZ8","v":"2197-01-01"},{"$f":"'Financial Model'!GA8","v":"2198-01-01"},{"$f":"'Financial Model'!GB8","v":"2199-01-01"},{"$f":"'Financial Model'!GC8","v":"2200-01-01"},{"$f":"'Financial Model'!GD8","v":"2201-01-01"},{"$f":"'Financial Model'!GE8","v":"2202-01-01"},{"$f":"'Financial Model'!GF8","v":"2203-01-01"},{"$f":"'Financial Model'!GG8","v":"2204-01-01"},{"$f":"'Financial Model'!GH8","v":"2205-01-01"},{"$f":"'Financial Model'!GI8","v":"2206-01-01"},{"$f":"'Financial Model'!GJ8","v":"2207-01-01"},{"$f":"'Financial Model'!GK8","v":"2208-01-01"},{"$f":"'Financial Model'!GL8","v":"2209-01-01"},{"$f":"'Financial Model'!GM8","v":"2210-01-01"},{"$f":"'Financial Model'!GN8","v":"2211-01-01"},{"$f":"'Financial Model'!GO8","v":"2212-01-01"},{"$f":"'Financial Model'!GP8","v":"2213-01-01"},{"$f":"'Financial Model'!GQ8","v":"2214-01-01"},{"$f":"'Financial Model'!GR8","v":"2215-01-01"},{"$f":"'Financial Model'!GS8","v":"2216-01-01"},{"$f":"'Financial Model'!GT8","v":"2217-01-01"},{"$f":"'Financial Model'!GU8","v":"2218-01-01"},{"$f":"'Financial Model'!GV8","v":"2219-01-01"},{"$f":"'Financial Model'!GW8","v":"2220-01-01"},{"$f":"'Financial Model'!GX8","v":"2221-01-01"},{"$f":"'Financial Model'!GY8","v":"2222-01-01"},{"$f":"'Financial Model'!GZ8","v":"2223-01-01"},{"$f":"'Financial Model'!HA8","v":"2224-01-01"},{"$f":"'Financial Model'!HB8","v":"2225-01-01"},{"$f":"'Financial Model'!HC8","v":"2226-01-01"},{"$f":"'Financial Model'!HD8","v":"2227-01-01"},{"$f":"'Financial Model'!HE8","v":"2228-01-01"},{"$f":"'Financial Model'!HF8","v":"2229-01-01"},{"$f":"'Financial Model'!HG8","v":"2230-01-01"},{"$f":"'Financial Model'!HH8","v":"2231-01-01"},{"$f":"'Financial Model'!HI8","v":"2232-01-01"},{"$f":"'Financial Model'!HJ8","v":"2233-01-01"},{"$f":"'Financial Model'!HK8","v":"2234-01-01"},{"$f":"'Financial Model'!HL8","v":"2235-01-01"},{"$f":"'Financial Model'!HM8","v":"2236-01-01"},{"$f":"'Financial Model'!HN8","v":"2237-01-01"},{"$f":"'Financial Model'!HO8","v":"2238-01-01"},{"$f":"'Financial Model'!HP8","v":"2239-01-01"},{"$f":"'Financial Model'!HQ8","v":"2240-01-01"},{"$f":"'Financial Model'!HR8","v":"2241-01-01"},{"$f":"'Financial Model'!HS8","v":"2242-01-01"},{"$f":"'Financial Model'!HT8","v":"2243-01-01"},{"$f":"'Financial Model'!HU8","v":"2244-01-01"},{"$f":"'Financial Model'!HV8","v":"2245-01-01"},{"$f":"'Financial Model'!HW8","v":"2246-01-01"},{"$f":"'Financial Model'!HX8","v":"2247-01-01"},{"$f":"'Financial Model'!HY8","v":"2248-01-01"},{"$f":"'Financial Model'!HZ8","v":"2249-01-01"},{"$f":"'Financial Model'!IA8","v":"2250-01-01"},{"$f":"'Financial Model'!IB8","v":"2251-01-01"},{"$f":"'Financial Model'!IC8","v":"2252-01-01"},{"$f":"'Financial Model'!ID8","v":"2253-01-01"},{"$f":"'Financial Model'!IE8","v":"2254-01-01"},{"$f":"'Financial Model'!IF8","v":"2255-01-01"},{"$f":"'Financial Model'!IG8","v":"2256-01-01"},{"$f":"'Financial Model'!IH8","v":"2257-01-01"},{"$f":"'Financial Model'!II8","v":"2258-01-01"},{"$f":"'Financial Model'!IJ8","v":"2259-01-01"},{"$f":"'Financial Model'!IK8","v":"2260-01-01"},{"$f":"'Financial Model'!IL8","v":"2261-01-01"},{"$f":"'Financial Model'!IM8","v":"2262-01-01"},{"$f":"'Financial Model'!IN8","v":"2263-01-01"},{"$f":"'Financial Model'!IO8","v":"2264-01-01"},{"$f":"'Financial Model'!IP8","v":"2265-01-01"},{"$f":"'Financial Model'!IQ8","v":"2266-01-01"},{"$f":"'Financial Model'!IR8","v":"2267-01-01"},{"$f":"'Financial Model'!IS8","v":"2268-01-01"},{"$f":"'Financial Model'!IT8","v":"2269-01-01"},{"$f":"'Financial Model'!IU8","v":"2270-01-01"},{"$f":"'Financial Model'!IV8","v":"2271-01-01"},{"$f":"'Financial Model'!IW8","v":"2272-01-01"},{"$f":"'Financial Model'!IX8","v":"2273-01-01"},{"$f":"'Financial Model'!IY8","v":"2274-01-01"},{"$f":"'Financial Model'!IZ8","v":"2275-01-01"},{"$f":"'Financial Model'!JA8","v":"2276-01-01"},{"$f":"'Financial Model'!JB8","v":"2277-01-01"},{"$f":"'Financial Model'!JC8","v":"2278-01-01"},{"$f":"'Financial Model'!JD8","v":"2279-01-01"},{"$f":"'Financial Model'!JE8","v":"2280-01-01"},{"$f":"'Financial Model'!JF8","v":"2281-01-01"},{"$f":"'Financial Model'!JG8","v":"2282-01-01"},{"$f":"'Financial Model'!JH8","v":"2283-01-01"},{"$f":"'Financial Model'!JI8","v":"2284-01-01"},{"$f":"'Financial Model'!JJ8","v":"2285-01-01"},{"$f":"'Financial Model'!JK8","v":"2286-01-01"},{"$f":"'Financial Model'!JL8","v":"2287-01-01"},{"$f":"'Financial Model'!JM8","v":"2288-01-01"},{"$f":"'Financial Model'!JN8","v":"2289-01-01"},{"$f":"'Financial Model'!JO8","v":"2290-01-01"},{"$f":"'Financial Model'!JP8","v":"2291-01-01"},{"$f":"'Financial Model'!JQ8","v":"2292-01-01"},{"$f":"'Financial Model'!JR8","v":"2293-01-01"},{"$f":"'Financial Model'!JS8","v":"2294-01-01"},{"$f":"'Financial Model'!JT8","v":"2295-01-01"},{"$f":"'Financial Model'!JU8","v":"2296-01-01"},{"$f":"'Financial Model'!JV8","v":"2297-01-01"},{"$f":"'Financial Model'!JW8","v":"2298-01-01"},{"$f":"'Financial Model'!JX8","v":"2299-01-01"},{"$f":"'Financial Model'!JY8","v":"2300-01-01"},{"$f":"'Financial Model'!JZ8","v":"2301-01-01"},{"$f":"'Financial Model'!KA8","v":"2302-01-01"},{"$f":"'Financial Model'!KB8","v":"2303-01-01"},{"$f":"'Financial Model'!KC8","v":"2304-01-01"},{"$f":"'Financial Model'!KD8","v":"2305-01-01"},{"$f":"'Financial Model'!KE8","v":"2306-01-01"},{"$f":"'Financial Model'!KF8","v":"2307-01-01"},{"$f":"'Financial Model'!KG8","v":"2308-01-01"},{"$f":"'Financial Model'!KH8","v":"2309-01-01"},{"$f":"'Financial Model'!KI8","v":"2310-01-01"},{"$f":"'Financial Model'!KJ8","v":"2311-01-01"},{"$f":"'Financial Model'!KK8","v":"2312-01-01"},{"$f":"'Financial Model'!KL8","v":"2313-01-01"},{"$f":"'Financial Model'!KM8","v":"2314-01-01"},{"$f":"'Financial Model'!KN8","v":"2315-01-01"},{"$f":"'Financial Model'!KO8","v":"2316-01-01"},{"$f":"'Financial Model'!KP8","v":"2317-01-01"},{"$f":"'Financial Model'!KQ8","v":"2318-01-01"},{"$f":"'Financial Model'!KR8","v":"2319-01-01"},{"$f":"'Financial Model'!KS8","v":"2320-01-01"},{"$f":"'Financial Model'!KT8","v":"2321-01-01"},{"$f":"'Financial Model'!KU8","v":"2322-01-01"},{"$f":"'Financial Model'!KV8","v":"2323-01-01"},{"$f":"'Financial Model'!KW8","v":"2324-01-01"},{"$f":"'Financial Model'!KX8","v":"2325-01-01"},{"$f":"'Financial Model'!KY8","v":"2326-01-01"},{"$f":"'Financial Model'!KZ8","v":"2327-01-01"},{"$f":"'Financial Model'!LA8","v":"2328-01-01"},{"$f":"'Financial Model'!LB8","v":"2329-01-01"},{"$f":"'Financial Model'!LC8","v":"2330-01-01"},{"$f":"'Financial Model'!LD8","v":"2331-01-01"},{"$f":"'Financial Model'!LE8","v":"2332-01-01"},{"$f":"'Financial Model'!LF8","v":"2333-01-01"},{"$f":"'Financial Model'!LG8","v":"2334-01-01"},{"$f":"'Financial Model'!LH8","v":"2335-01-01"},{"$f":"'Financial Model'!LI8","v":"2336-01-01"},{"$f":"'Financial Model'!LJ8","v":"2337-01-01"},{"$f":"'Financial Model'!LK8","v":"2338-01-01"},{"$f":"'Financial Model'!LL8","v":"2339-01-01"},{"$f":"'Financial Model'!LM8","v":"2340-01-01"},{"$f":"'Financial Model'!LN8","v":"2341-01-01"},{"$f":"'Financial Model'!LO8","v":"2342-01-01"},{"$f":"'Financial Model'!LP8","v":"2343-01-01"},{"$f":"'Financial Model'!LQ8","v":"2344-01-01"},{"$f":"'Financial Model'!LR8","v":"2345-01-01"},{"$f":"'Financial Model'!LS8","v":"2346-01-01"},{"$f":"'Financial Model'!LT8","v":"2347-01-01"},{"$f":"'Financial Model'!LU8","v":"2348-01-01"},{"$f":"'Financial Model'!LV8","v":"2349-01-01"},{"$f":"'Financial Model'!LW8","v":"2350-01-01"},{"$f":"'Financial Model'!LX8","v":"2351-01-01"},{"$f":"'Financial Model'!LY8","v":"2352-01-01"},{"$f":"'Financial Model'!LZ8","v":"2353-01-01"},{"$f":"'Financial Model'!MA8","v":"2354-01-01"},{"$f":"'Financial Model'!MB8","v":"2355-01-01"},{"$f":"'Financial Model'!MC8","v":"2356-01-01"},{"$f":"'Financial Model'!MD8","v":"2357-01-01"},{"$f":"'Financial Model'!ME8","v":"2358-01-01"},{"$f":"'Financial Model'!MF8","v":"2359-01-01"},{"$f":"'Financial Model'!MG8","v":"2360-01-01"},{"$f":"'Financial Model'!MH8","v":"2361-01-01"},{"$f":"'Financial Model'!MI8","v":"2362-01-01"},{"$f":"'Financial Model'!MJ8","v":"2363-01-01"},{"$f":"'Financial Model'!MK8","v":"2364-01-01"},{"$f":"'Financial Model'!ML8","v":"2365-01-01"},{"$f":"'Financial Model'!MM8","v":"2366-01-01"},{"$f":"'Financial Model'!MN8","v":"2367-01-01"},{"$f":"'Financial Model'!MO8","v":"2368-01-01"},{"$f":"'Financial Model'!MP8","v":"2369-01-01"},{"$f":"'Financial Model'!MQ8","v":"2370-01-01"},{"$f":"'Financial Model'!MR8","v":"2371-01-01"},{"$f":"'Financial Model'!MS8","v":"2372-01-01"},{"$f":"'Financial Model'!MT8","v":"2373-01-01"},{"$f":"'Financial Model'!MU8","v":"2374-01-01"},{"$f":"'Financial Model'!MV8","v":"2375-01-01"},{"$f":"'Financial Model'!MW8","v":"2376-01-01"},{"$f":"'Financial Model'!MX8","v":"2377-01-01"},{"$f":"'Financial Model'!MY8","v":"2378-01-01"},{"$f":"'Financial Model'!MZ8","v":"2379-01-01"},{"$f":"'Financial Model'!NA8","v":"2380-01-01"},{"$f":"'Financial Model'!NB8","v":"2381-01-01"},{"$f":"'Financial Model'!NC8","v":"2382-01-01"},{"$f":"'Financial Model'!ND8","v":"2383-01-01"},{"$f":"'Financial Model'!NE8","v":"2384-01-01"},{"$f":"'Financial Model'!NF8","v":"2385-01-01"},{"$f":"'Financial Model'!NG8","v":"2386-01-01"},{"$f":"'Financial Model'!NH8","v":"2387-01-01"},{"$f":"'Financial Model'!NI8","v":"2388-01-01"},{"$f":"'Financial Model'!NJ8","v":"2389-01-01"},{"$f":"'Financial Model'!NK8","v":"2390-01-01"},{"$f":"'Financial Model'!NL8","v":"2391-01-01"},{"$f":"'Financial Model'!NM8","v":"2392-01-01"},{"$f":"'Financial Model'!NN8","v":"2393-01-01"},{"$f":"'Financial Model'!NO8","v":"2394-01-01"},{"$f":"'Financial Model'!NP8","v":"2395-01-01"},{"$f":"'Financial Model'!NQ8","v":"2396-01-01"},{"$f":"'Financial Model'!NR8","v":"2397-01-01"},{"$f":"'Financial Model'!NS8","v":"2398-01-01"},{"$f":"'Financial Model'!NT8","v":"2399-01-01"},{"$f":"'Financial Model'!NU8","v":"2400-01-01"},{"$f":"'Financial Model'!NV8","v":"2401-01-01"},{"$f":"'Financial Model'!NW8","v":"2402-01-01"},{"$f":"'Financial Model'!NX8","v":"2403-01-01"},{"$f":"'Financial Model'!NY8","v":"2404-01-01"},{"$f":"'Financial Model'!NZ8","v":"2405-01-01"},{"$f":"'Financial Model'!OA8","v":"2406-01-01"},{"$f":"'Financial Model'!OB8","v":"2407-01-01"},{"$f":"'Financial Model'!OC8","v":"2408-01-01"},{"$f":"'Financial Model'!OD8","v":"2409-01-01"},{"$f":"'Financial Model'!OE8","v":"2410-01-01"},{"$f":"'Financial Model'!OF8","v":"2411-01-01"},{"$f":"'Financial Model'!OG8","v":"2412-01-01"},{"$f":"'Financial Model'!OH8","v":"2413-01-01"},{"$f":"'Financial Model'!OI8","v":"2414-01-01"},{"$f":"'Financial Model'!OJ8","v":"2415-01-01"},{"$f":"'Financial Model'!OK8","v":"2416-01-01"},{"$f":"'Financial Model'!OL8","v":"2417-01-01"},{"$f":"'Financial Model'!OM8","v":"2418-01-01"},{"$f":"'Financial Model'!ON8","v":"2419-01-01"},{"$f":"'Financial Model'!OO8","v":"2420-01-01"},{"$f":"'Financial Model'!OP8","v":"2421-01-01"},{"$f":"'Financial Model'!OQ8","v":"2422-01-01"},{"$f":"'Financial Model'!OR8","v":"2423-01-01"},{"$f":"'Financial Model'!OS8","v":"2424-01-01"},{"$f":"'Financial Model'!OT8","v":"2425-01-01"},{"$f":"'Financial Model'!OU8","v":"2426-01-01"},{"$f":"'Financial Model'!OV8","v":"2427-01-01"},{"$f":"'Financial Model'!OW8","v":"2428-01-01"},{"$f":"'Financial Model'!OX8","v":"2429-01-01"},{"$f":"'Financial Model'!OY8","v":"2430-01-01"},{"$f":"'Financial Model'!OZ8","v":"2431-01-01"},{"$f":"'Financial Model'!PA8","v":"2432-01-01"},{"$f":"'Financial Model'!PB8","v":"2433-01-01"},{"$f":"'Financial Model'!PC8","v":"2434-01-01"},{"$f":"'Financial Model'!PD8","v":"2435-01-01"},{"$f":"'Financial Model'!PE8","v":"2436-01-01"},{"$f":"'Financial Model'!PF8","v":"2437-01-01"},{"$f":"'Financial Model'!PG8","v":"2438-01-01"},{"$f":"'Financial Model'!PH8","v":"2439-01-01"},{"$f":"'Financial Model'!PI8","v":"2440-01-01"},{"$f":"'Financial Model'!PJ8","v":"2441-01-01"},{"$f":"'Financial Model'!PK8","v":"2442-01-01"},{"$f":"'Financial Model'!PL8","v":"2443-01-01"},{"$f":"'Financial Model'!PM8","v":"2444-01-01"},{"$f":"'Financial Model'!PN8","v":"2445-01-01"},{"$f":"'Financial Model'!PO8","v":"2446-01-01"},{"$f":"'Financial Model'!PP8","v":"2447-01-01"},{"$f":"'Financial Model'!PQ8","v":"2448-01-01"},{"$f":"'Financial Model'!PR8","v":"2449-01-01"},{"$f":"'Financial Model'!PS8","v":"2450-01-01"},{"$f":"'Financial Model'!PT8","v":"2451-01-01"}]
[null,null,"Skip Flag",null,"InputC",1]
[null,null,"Construction_Flag",null,"InputS",{"$f":"'Financial Model'!K6","v":1},{"$f":"'Financial Model'!L6","v":0},{"$f":"'Financial Model'!M6","v":0},{"$f":"'Financial Model'!N6","v":0},{"$f":"'Financial Model'!O6","v":0},{"$f":"'Financial Model'!P6","v":0},{"$f":"'Financial Model'!Q6","v":0},{"$f":"'Financial Model'!R6","v":0},{"$f":"'Financial Model'!S6","v":0},{"$f":"'Financial Model'!T6","v":0},{"$f":"'Financial Model'!U6","v":0},{"$f":"'Financial Model'!V6","v":0},{"$f":"'Financial Model'!W6","v":0},{"$f":"'Financial Model'!X6","v":0},{"$f":"'Financial Model'!Y6","v":0},{"$f":"'Financial Model'!Z6","v":0},{"$f":"'Financial Model'!AA6","v":0},{"$f":"'Financial Model'!AB6","v":0},{"$f":"'Financial Model'!AC6","v":0},{"$f":"'Financial Model'!AD6","v":0},{"$f":"'Financial Model'!AE6","v":0},{"$f":"'Financial Model'!AF6","v":0},{"$f":"'Financial Model'!AG6","v":0},{"$f":"'Financial Model'!AH6","v":0},{"$f":"'Financial Model'!AI6","v":0},{"$f":"'Financial Model'!AJ6","v":0},{"$f":"'Financial Model'!AK6","v":0},{"$f":"'Financial Model'!AL6","v":0},{"$f":"'Financial Model'!AM6","v":0},{"$f":"'Financial Model'!AN6","v":0},{"$f":"'Financial Model'!AO6","v":0},{"$f":"'Financial Model'!AP6","v":0},{"$f":"'Financial Model'!AQ6","v":0},{"$f":"'Financial Model'!AR6","v":0},{"$f":"'Financial Model'!AS6","v":0},{"$f":"'Financial Model'!AT6","v":0},{"$f":"'Financial Model'!AU6","v":0},{"$f":"'Financial Model'!AV6","v":0},{"$f":"'Financial Model'!AW6","v":0},{"$f":"'Financial Model'!AX6","v":0},{"$f":"'Financial Model'!AY6","v":0},{"$f":"'Financial Model'!AZ6","v":0},{"$f":"'Financial Model'!BA6","v":0},{"$f":"'Financial Model'!BB6","v":0},{"$f":"'Financial Model'!BC6","v":0},{"$f":"'Financial Model'!BD6","v":0},{"$f":"'Financial Model'!BE6","v":0},{"$f":"'Financial Model'!BF6","v":0},{"$f":"'Financial Model'!BG6","v":0},{"$f":"'Financial Model'!BH6","v":0},{"$f":"'Financial Model'!BI6","v":0},{"$f":"'Financial Model'!BJ6","v":0},{"$f":"'Financial Model'!BK6","v":0},{"$f":"'Financial Model'!BL6","v":0},{"$f":"'Financial Model'!BM6","v":0},{"$f":"'Financial Model'!BN6","v":0},{"$f":"'Financial Model'!BO6","v":0},{"$f":"'Financial Model'!BP6","v":0},{"$f":"'Financial Model'!BQ6","v":0},{"$f":"'Financial Model'!BR6","v":0},{"$f":"'Financial Model'!BS6","v":0},{"$f":"'Financial Model'!BT6","v":0},{"$f":"'Financial Model'!BU6","v":0},{"$f":"'Financial Model'!BV6","v":0},{"$f":"'Financial Model'!BW6","v":0},{"$f":"'Financial Model'!BX6","v":0},{"$f":"'Financial Model'!BY6","v":0},{"$f":"'Financial Model'!BZ6","v":0},{"$f":"'Financial Model'!CA6","v":0},{"$f":"'Financial Model'!CB6","v":0},{"$f":"'Financial Model'!CC6","v":0},{"$f":"'Financial Model'!CD6","v":0},{"$f":"'Financial Model'!CE6","v":0},{"$f":"'Financial Model'!CF6","v":0},{"$f":"'Financial Model'!CG6","v":0},{"$f":"'Financial Model'!CH6","v":0},{"$f":"'Financial Model'!CI6","v":0},{"$f":"'Financial Model'!CJ6","v":0},{"$f":"'Financial Model'!CK6","v":0},{"$f":"'Financial Model'!CL6","v":0},{"$f":"'Financial Model'!CM6","v":0},{"$f":"'Financial Model'!CN6","v":0},{"$f":"'Financial Model'!CO6","v":0},{"$f":"'Financial Model'!CP6","v":0},{"$f":"'Financial Model'!CQ6","v":0},{"$f":"'Financial Model'!CR6","v":0},{"$f":"'Financial Model'!CS6","v":0},{"$f":"'Financial Model'!CT6","v":0},{"$f":"'Financial Model'!CU6","v":0},{"$f":"'Financial Model'!CV6","v":0},{"$f":"'Financial Model'!CW6","v":0},{"$f":"'Financial Model'!CX6","v":0},{"$f":"'Financial Model'!CY6","v":0},{"$f":"'Financial Model'!CZ6","v":0},{"$f":"'Financial Model'!DA6","v":0},{"$f":"'Financial Model'!DB6","v":0},{"$f":"'Financial Model'!DC6","v":0},{"$f":"'Financial Model'!DD6","v":0},{"$f":"'Financial Model'!DE6","v":0},{"$f":"'Financial Model'!DF6","v":0},{"$f":"'Financial Model'!DG6","v":0},{"$f":"'Financial Model'!DH6","v":0},{"$f":"'Financial Model'!DI6","v":0},{"$f":"'Financial Model'!DJ6","v":0},{"$f":"'Financial Model'!DK6","v":0},{"$f":"'Financial Model'!DL6","v":0},{"$f":"'Financial Model'!DM6","v":0},{"$f":"'Financial Model'!DN6","v":0},{"$f":"'Financial Model'!DO6","v":0},{"$f":"'Financial Model'!DP6","v":0},{"$f":"'Financial Model'!DQ6","v":0},{"$f":"'Financial Model'!DR6","v":0},{"$f":"'Financial Model'!DS6","v":0},{"$f":"'Financial Model'!DT6","v":0},{"$f":"'Financial Model'!DU6","v":0},{"$f":"'Financial Model'!DV6","v":0},{"$f":"'Financial Model'!DW6","v":0},{"$f":"'Financial Model'!DX6","v":0},{"$f":"'Financial Model'!DY6","v":0},{"$f":"'Financial Model'!DZ6","v":0},{"$f":"'Financial Model'!EA6","v":0},{"$f":"'Financial Model'!EB6","v":0},{"$f":"'Financial Model'!EC6","v":0},{"$f":"'Financial Model'!ED6","v":0},{"$f":"'Financial Model'!EE6","v":0},{"$f":"'Financial Model'!EF6","v":0},{"$f":"'Financial Model'!EG6","v":0},{"$f":"'Financial Model'!EH6","v":0},{"$f":"'Financial Model'!EI6","v":0},{"$f":"'Financial Model'!EJ6","v":0},{"$f":"'Financial Model'!EK6","v":0},{"$f":"'Financial Model'!EL6","v":0},{"$f":"'Financial Model'!EM6","v":0},{"$f":"'Financial Model'!EN6","v":0},{"$f":"'Financial Model'!EO6","v":0},{"$f":"'Financial Model'!EP6","v":0},{"$f":"'Financial Model'!EQ6","v":0},{"$f":"'Financial Model'!ER6","v":0},{"$f":"'Financial Model'!ES6","v":0},{"$f":"'Financial Model'!ET6","v":0},{"$f":"'Financial Model'!EU6","v":0},{"$f":"'Financial Model'!EV6","v":0},{"$f":"'Financial Model'!EW6","v":0},{"$f":"'Financial Model'!EX6","v":0},{"$f":"'Financial Model'!EY6","v":0},{"$f":"'Financial Model'!EZ6","v":0},{"$f":"'Financial Model'!FA6","v":0},{"$f":"'Financial Model'!FB6","v":0},{"$f":"'Financial Model'!FC6","v":0},{"$f":"'Financial Model'!FD6","v":0},{"$f":"'Financial Model'!FE6","v":0},{"$f":"'Financial Model'!FF6","v":0},{"$f":"'Financial Model'!FG6","v":0},{"$f":"'Financial Model'!FH6","v":0},{"$f":"'Financial Model'!FI6","v":0},{"$f":"'Financial Model'!FJ6","v":0},{"$f":"'Financial Model'!FK6","v":0},{"$f":"'Financial Model'!FL6","v":0},{"$f":"'Financial Model'!FM6","v":0},{"$f":"'Financial Model'!FN6","v":0},{"$f":"'Financial Model'!FO6","v":0},{"$f":"'Financial Model'!FP6","v":0},{"$f":"'Financial Model'!FQ6","v":0},{"$f":"'Financial Model'!FR6","v":0},{"$f":"'Financial Model'!FS6","v":0},{"$f":"'Financial Model'!FT6","v":0},{"$f":"'Financial Model'!FU6","v":0},{"$f":"'Financial Model'!FV6","v":0},{"$f":"'Financial Model'!FW6","v":0},{"$f":"'Financial Model'!FX6","v":0},{"$f":"'Financial Model'!FY6","v":0},{"$f":"'Financial Model'!FZ6","v":0},{"$f":"'Financial Model'!GA6","v":0},{"$f":"'Financial Model'!GB6","v":0},{"$f":"'Financial Model'!GC6","v":0},{"$f":"'Financial Model'!GD6","v":0},{"$f":"'Financial Model'!GE6","v":0},{"$f":"'Financial Model'!GF6","v":0},{"$f":"'Financial Model'!GG6","v":0},{"$f":"'Financial Model'!GH6","v":0},{"$f":"'Financial Model'!GI6","v":0},{"$f":"'Financial Model'!GJ6","v":0},{"$f":"'Financial Model'!GK6","v":0},{"$f":"'Financial Model'!GL6","v":0},{"$f":"'Financial Model'!GM6","v":0},{"$f":"'Financial Model'!GN6","v":0},{"$f":"'Financial Model'!GO6","v":0},{"$f":"'Financial Model'!GP6","v":0},{"$f":"'Financial Model'!GQ6","v":0},{"$f":"'Financial Model'!GR6","v":0},{"$f":"'Financial Model'!GS6","v":0},{"$f":"'Financial Model'!GT6","v":0},{"$f":"'Financial Model'!GU6","v":0},{"$f":"'Financial Model'!GV6","v":0},{"$f":"'Financial Model'!GW6","v":0},{"$f":"'Financial Model'!GX6","v":0},{"$f":"'Financial Model'!GY6","v":0},{"$f":"'Financial Model'!GZ6","v":0},{"$f":"'Financial Model'!HA6","v":0},{"$f":"'Financial Model'!HB6","v":0},{"$f":"'Financial Model'!HC6","v":0},{"$f":"'Financial Model'!HD6","v":0},{"$f":"'Financial Model'!HE6","v":0},{"$f":"'Financial Model'!HF6","v":0},{"$f":"'Financial Model'!HG6","v":0},{"$f":"'Financial Model'!HH6","v":0},{"$f":"'Financial Model'!HI6","v":0},{"$f":"'Financial Model'!HJ6","v":0},{"$f":"'Financial Model'!HK6","v":0},{"$f":"'Financial Model'!HL6","v":0},{"$f":"'Financial Model'!HM6","v":0},{"$f":"'Financial Model'!HN6","v":0},{"$f":"'Financial Model'!HO6","v":0},{"$f":"'Financial Model'!HP6","v":0},{"$f":"'Financial Model'!HQ6","v":0},{"$f":"'Financial Model'!HR6","v":0},{"$f":"'Financial Model'!HS6","v":0},{"$f":"'Financial Model'!HT6","v":0},{"$f":"'Financial Model'!HU6","v":0},{"$f":"'Financial Model'!HV6","v":0},{"$f":"'Financial Model'!HW6","v":0},{"$f":"'Financial Model'!HX6","v":0},{"$f":"'Financial Model'!HY6","v":0},{"$f":"'Financial Model'!HZ6","v":0},{"$f":"'Financial Model'!IA6","v":0},{"$f":"'Financial Model'!IB6","v":0},{"$f":"'Financial Model'!IC6","v":0},{"$f":"'Financial Model'!ID6","v":0},{"$f":"'Financial Model'!IE6","v":0},{"$f":"'Financial Model'!IF6","v":0},{"$f":"'Financial Model'!IG6","v":0},{"$f":"'Financial Model'!IH6","v":0},{"$f":"'Financial Model'!II6","v":0},{"$f":"'Financial Model'!IJ6","v":0},{"$f":"'Financial Model'!IK6","v":0},{"$f":"'Financial Model'!IL6","v":0},{"$f":"'Financial Model'!IM6","v":0},{"$f":"'Financial Model'!IN6","v":0},{"$f":"'Financial Model'!IO6","v":0},{"$f":"'Financial Model'!IP6","v":0},{"$f":"'Financial Model'!IQ6","v":0},{"$f":"'Financial Model'!IR6","v":0},{"$f":"'Financial Model'!IS6","v":0},{"$f":"'Financial Model'!IT6","v":0},{"$f":"'Financial Model'!IU6","v":0},{"$f":"'Financial Model'!IV6","v":0},{"$f":"'Financial Model'!IW6","v":0},{"$f":"'Financial Model'!IX6","v":0},{"$f":"'Financial Model'!IY6","v":0},{"$f":"'Financial Model'!IZ6","v":0},{"$f":"'Financial Model'!JA6","v":0},{"$f":"'Financial Model'!JB6","v":0},{"$f":"'Financial Model'!JC6","v":0},{"$f":"'Financial Model'!JD6","v":0},{"$f":"'Financial Model'!JE6","v":0},{"$f":"'Financial Model'!JF6","v":0},{"$f":"'Financial Model'!JG6","v":0},{"$f":"'Financial Model'!JH6","v":0},{"$f":"'Financial Model'!JI6","v":0},{"$f":"'Financial Model'!JJ6","v":0},{"$f":"'Financial Model'!JK6","v":0},{"$f":"'Financial Model'!JL6","v":0},{"$f":"'Financial Model'!JM6","v":0},{"$f":"'Financial Model'!JN6","v":0},{"$f":"'Financial Model'!JO6","v":0},{"$f":"'Financial Model'!JP6","v":0},{"$f":"'Financial Model'!JQ6","v":0},{"$f":"'Financial Model'!JR6","v":0},{"$f":"'Financial Model'!JS6","v":0},{"$f":"'Financial Model'!JT6","v":0},{"$f":"'Financial Model'!JU6","v":0},{"$f":"'Financial Model'!JV6","v":0},{"$f":"'Financial Model'!JW6","v":0},{"$f":"'Financial Model'!JX6","v":0},{"$f":"'Financial Model'!JY6","v":0},{"$f":"'Financial Model'!JZ6","v":0},{"$f":"'Financial Model'!KA6","v":0},{"$f":"'Financial Model'!KB6","v":0},{"$f":"'Financial Model'!KC6","v":0},{"$f":"'Financial Model'!KD6","v":0},{"$f":"'Financial Model'!KE6","v":0},{"$f":"'Financial Model'!KF6","v":0},{"$f":"'Financial Model'!KG6","v":0},{"$f":"'Financial Model'!KH6","v":0},{"$f":"'Financial Model'!KI6","v":0},{"$f":"'Financial Model'!KJ6","v":0},{"$f":"'Financial Model'!KK6","v":0},{"$f":"'Financial Model'!KL6","v":0},{"$f":"'Financial Model'!KM6","v":0},{"$f":"'Financial Model'!KN6","v":0},{"$f":"'Financial Model'!KO6","v":0},{"$f":"'Financial Model'!KP6","v":0},{"$f":"'Financial Model'!KQ6","v":0},{"$f":"'Financial Model'!KR6","v":0},{"$f":"'Financial Model'!KS6","v":0},{"$f":"'Financial Model'!KT6","v":0},{"$f":"'Financial Model'!KU6","v":0},{"$f":"'Financial Model'!KV6","v":0},{"$f":"'Financial Model'!KW6","v":0},{"$f":"'Financial Model'!KX6","v":0},{"$f":"'Financial Model'!KY6","v":0},{"$f":"'Financial Model'!KZ6","v":0},{"$f":"'Financial Model'!LA6","v":0},{"$f":"'Financial Model'!LB6","v":0},{"$f":"'Financial Model'!LC6","v":0},{"$f":"'Financial Model'!LD6","v":0},{"$f":"'Financial Model'!LE6","v":0},{"$f":"'Financial Model'!LF6","v":0},{"$f":"'Financial Model'!LG6","v":0},{"$f":"'Financial Model'!LH6","v":0},{"$f":"'Financial Model'!LI6","v":0},{"$f":"'Financial Model'!LJ6","v":0},{"$f":"'Financial Model'!LK6","v":0},{"$f":"'Financial Model'!LL6","v":0},{"$f":"'Financial Model'!LM6","v":0},{"$f":"'Financial Model'!LN6","v":0},{"$f":"'Financial Model'!LO6","v":0},{"$f":"'Financial Model'!LP6","v":0},{"$f":"'Financial Model'!LQ6","v":0},{"$f":"'Financial Model'!LR6","v":0},{"$f":"'Financial Model'!LS6","v":0},{"$f":"'Financial Model'!LT6","v":0},{"$f":"'Financial Model'!LU6","v":0},{"$f":"'Financial Model'!LV6","v":0},{"$f":"'Financial Model'!LW6","v":0},{"$f":"'Financial Model'!LX6","v":0},{"$f":"'Financial Model'!LY6","v":0},{"$f":"'Financial Model'!LZ6","v":0},{"$f":"'Financial Model'!MA6","v":0},{"$f":"'Financial Model'!MB6","v":0},{"$f":"'Financial Model'!MC6","v":0},{"$f":"'Financial Model'!MD6","v":0},{"$f":"'Financial Model'!ME6","v":0},{"$f":"'Financial Model'!MF6","v":0},{"$f":"'Financial Model'!MG6","v":0},{"$f":"'Financial Model'!MH6","v":0},{"$f":"'Financial Model'!MI6","v":0},{"$f":"'Financial Model'!MJ6","v":0},{"$f":"'Financial Model'!MK6","v":0},{"$f":"'Financial Model'!ML6","v":0},{"$f":"'Financial Model'!MM6","v":0},{"$f":"'Financial Model'!MN6","v":0},{"$f":"'Financial Model'!MO6","v":0},{"$f":"'Financial Model'!MP6","v":0},{"$f":"'Financial Model'!MQ6","v":0},{"$f":"'Financial Model'!MR6","v":0},{"$f":"'Financial Model'!MS6","v":0},{"$f":"'Financial Model'!MT6","v":0},{"$f":"'Financial Model'!MU6","v":0},{"$f":"'Financial Model'!MV6","v":0},{"$f":"'Financial Model'!MW6","v":0},{"$f":"'Financial Model'!MX6","v":0},{"$f":"'Financial Model'!MY6","v":0},{"$f":"'Financial Model'!MZ6","v":0},{"$f":"'Financial Model'!NA6","v":0},{"$f":"'Financial Model'!NB6","v":0},{"$f":"'Financial Model'!NC6","v":0},{"$f":"'Financial Model'!ND6","v":0},{"$f":"'Financial Model'!NE6","v":0},{"$f":"'Financial Model'!NF6","v":0},{"$f":"'Financial Model'!NG6","v":0},{"$f":"'Financial Model'!NH6","v":0},{"$f":"'Financial Model'!NI6","v":0},{"$f":"'Financial Model'!NJ6","v":0},{"$f":"'Financial Model'!NK6","v":0},{"$f":"'Financial Model'!NL6","v":0},{"$f":"'Financial Model'!NM6","v":0},{"$f":"'Financial Model'!NN6","v":0},{"$f":"'Financial Model'!NO6","v":0},{"$f":"'Financial Model'!NP6","v":0},{"$f":"'Financial Model'!NQ6","v":0},{"$f":"'Financial Model'!NR6","v":0},{"$f":"'Financial Model'!NS6","v":0},{"$f":"'Financial Model'!NT6","v":0},{"$f":"'Financial Model'!NU6","v":0},{"$f":"'Financial Model'!NV6","v":0},{"$f":"'Financial Model'!NW6","v":0},{"$f":"'Financial Model'!NX6","v":0},{"$f":"'Financial Model'!NY6","v":0},{"$f":"'Financial Model'!NZ6","v":0},{"$f":"'Financial Model'!OA6","v":0},{"$f":"'Financial Model'!OB6","v":0},{"$f":"'Financial Model'!OC6","v":0},{"$f":"'Financial Model'!OD6","v":0},{"$f":"'Financial Model'!OE6","v":0},{"$f":"'Financial Model'!OF6","v":0},{"$f":"'Financial Model'!OG6","v":0},{"$f":"'Financial Model'!OH6","v":0},{"$f":"'Financial Model'!OI6","v":0},{"$f":"'Financial Model'!OJ6","v":0},{"$f":"'Financial Model'!OK6","v":0},{"$f":"'Financial Model'!OL6","v":0},{"$f":"'Financial Model'!OM6","v":0},{"$f":"'Financial Model'!ON6","v":0},{"$f":"'Financial Model'!OO6","v":0},{"$f":"'Financial Model'!OP6","v":0},{"$f":"'Financial Model'!OQ6","v":0},{"$f":"'Financial Model'!OR6","v":0},{"$f":"'Financial Model'!OS6","v":0},{"$f":"'Financial Model'!OT6","v":0},{"$f":"'Financial Model'!OU6","v":0},{"$f":"'Financial Model'!OV6","v":0},{"$f":"'Financial Model'!OW6","v":0},{"$f":"'Financial Model'!OX6","v":0},{"$f":"'Financial Model'!OY6","v":0},{"$f":"'Financial Model'!OZ6","v":0},{"$f":"'Financial Model'!PA6","v":0},{"$f":"'Financial Model'!PB6","v":0},{"$f":"'Financial Model'!PC6","v":0},{"$f":"'Financial Model'!PD6","v":0},{"$f":"'Financial Model'!PE6","v":0},{"$f":"'Financial Model'!PF6","v":0},{"$f":"'Financial Model'!PG6","v":0},{"$f":"'Financial Model'!PH6","v":0},{"$f":"'Financial Model'!PI6","v":0},{"$f":"'Financial Model'!PJ6","v":0},{"$f":"'Financial Model'!PK6","v":0},{"$f":"'Financial Model'!PL6","v":0},{"$f":"'Financial Model'!PM6","v":0},{"$f":"'Financial Model'!PN6","v":0},{"$f":"'Financial Model'!PO6","v":0},{"$f":"'Financial Model'!PP6","v":0},{"$f":"'Financial Model'!PQ6","v":0},{"$f":"'Financial Model'!PR6","v":0},{"$f":"'Financial Model'!PS6","v":0},{"$f":"'Financial Model'!PT6","v":0}]
[null,null,"Operation_Flag",null,"InputS",{"$f":"'Financial Model'!K10","v":0},{"$f":"'Financial Model'!L10","v":1},{"$f":"'Financial Model'!M10","v":1},{"$f":"'Financial Model'!N10","v":1},{"$f":"'Financial Model'!O10","v":1},{"$f":"'Financial Model'!P10","v":1},{"$f":"'Financial Model'!Q10","v":1},{"$f":"'Financial Model'!R10","v":1},{"$f":"'Financial Model'!S10","v":1},{"$f":"'Financial Model'!T10","v":1},{"$f":"'Financial Model'!U10","v":1},{"$f":"'Financial Model'!V10","v":1},{"$f":"'Financial Model'!W10","v":1},{"$f":"'Financial Model'!X10","v":1},{"$f":"'Financial Model'!Y10","v":1},{"$f":"'Financial Model'!Z10","v":1},{"$f":"'Financial Model'!AA10","v":1},{"$f":"'Financial Model'!AB10","v":1},{"$f":"'Financial Model'!AC10","v":1},{"$f":"'Financial Model'!AD10","v":1},{"$f":"'Financial Model'!AE10","v":1},{"$f":"'Financial Model'!AF10","v":1},{"$f":"'Financial Model'!AG10","v":1},{"$f":"'Financial Model'!AH10","v":1},{"$f":"'Financial Model'!AI10","v":1},{"$f":"'Financial Model'!AJ10","v":1},{"$f":"'Financial Model'!AK10","v":0},{"$f":"'Financial Model'!AL10","v":0},{"$f":"'Financial Model'!AM10","v":0},{"$f":"'Financial Model'!AN10","v":0},{"$f":"'Financial Model'!AO10","v":0},{"$f":"'Financial Model'!AP10","v":0},{"$f":"'Financial Model'!AQ10","v":0},{"$f":"'Financial Model'!AR10","v":0},{"$f":"'Financial Model'!AS10","v":0},{"$f":"'Financial Model'!AT10","v":0},{"$f":"'Financial Model'!AU10","v":0},{"$f":"'Financial Model'!AV10","v":0},{"$f":"'Financial Model'!AW10","v":0},{"$f":"'Financial Model'!AX10","v":0},{"$f":"'Financial Model'!AY10","v":0},{"$f":"'Financial Model'!AZ10","v":0},{"$f":"'Financial Model'!BA10","v":0},{"$f":"'Financial Model'!BB10","v":0},{"$f":"'Financial Model'!BC10","v":0},{"$f":"'Financial Model'!BD10","v":0},{"$f":"'Financial Model'!BE10","v":0},{"$f":"'Financial Model'!BF10","v":0},{"$f":"'Financial Model'!BG10","v":0},{"$f":"'Financial Model'!BH10","v":0},{"$f":"'Financial Model'!BI10","v":0},{"$f":"'Financial Model'!BJ10","v":0},{"$f":"'Financial Model'!BK10","v":0},{"$f":"'Financial Model'!BL10","v":0},{"$f":"'Financial Model'!BM10","v":0},{"$f":"'Financial Model'!BN10","v":0},{"$f":"'Financial Model'!BO10","v":0},{"$f":"'Financial Model'!BP10","v":0},{"$f":"'Financial Model'!BQ10","v":0},{"$f":"'Financial Model'!BR10","v":0},{"$f":"'Financial Model'!BS10","v":0},{"$f":"'Financial Model'!BT10","v":0},{"$f":"'Financial Model'!BU10","v":0},{"$f":"'Financial Model'!BV10","v":0},{"$f":"'Financial Model'!BW10","v":0},{"$f":"'Financial Model'!BX10","v":0},{"$f":"'Financial Model'!BY10","v":0},{"$f":"'Financial Model'!BZ10","v":0},{"$f":"'Financial Model'!CA10","v":0},{"$f":"'Financial Model'!CB10","v":0},{"$f":"'Financial Model'!CC10","v":0},{"$f":"'Financial Model'!CD10","v":0},{"$f":"'Financial Model'!CE10","v":0},{"$f":"'Financial Model'!CF10","v":0},{"$f":"'Financial Model'!CG10","v":0},{"$f":"'Financial Model'!CH10","v":0},{"$f":"'Financial Model'!CI10","v":0},{"$f":"'Financial Model'!CJ10","v":0},{"$f":"'Financial Model'!CK10","v":0},{"$f":"'Financial Model'!CL10","v":0},{"$f":"'Financial Model'!CM10","v":0},{"$f":"'Financial Model'!CN10","v":0},{"$f":"'Financial Model'!CO10","v":0},{"$f":"'Financial Model'!CP10","v":0},{"$f":"'Financial Model'!CQ10","v":0},{"$f":"'Financial Model'!CR10","v":0},{"$f":"'Financial Model'!CS10","v":0},{"$f":"'Financial Model'!CT10","v":0},{"$f":"'Financial Model'!CU10","v":0},{"$f":"'Financial Model'!CV10","v":0},{"$f":"'Financial Model'!CW10","v":0},{"$f":"'Financial Model'!CX10","v":0},{"$f":"'Financial Model'!CY10","v":0},{"$f":"'Financial Model'!CZ10","v":0},{"$f":"'Financial Model'!DA10","v":0},{"$f":"'Financial Model'!DB10","v":0},{"$f":"'Financial Model'!DC10","v":0},{"$f":"'Financial Model'!DD10","v":0},{"$f":"'Financial Model'!DE10","v":0},{"$f":"'Financial Model'!DF10","v":0},{"$f":"'Financial Model'!DG10","v":0},{"$f":"'Financial Model'!DH10","v":0},{"$f":"'Financial Model'!DI10","v":0},{"$f":"'Financial Model'!DJ10","v":0},{"$f":"'Financial Model'!DK10","v":0},{"$f":"'Financial Model'!DL10","v":0},{"$f":"'Financial Model'!DM10","v":0},{"$f":"'Financial Model'!DN10","v":0},{"$f":"'Financial Model'!DO10","v":0},{"$f":"'Financial Model'!DP10","v":0},{"$f":"'Financial Model'!DQ10","v":0},{"$f":"'Financial Model'!DR10","v":0},{"$f":"'Financial Model'!DS10","v":0},{"$f":"'Financial Model'!DT10","v":0},{"$f":"'Financial Model'!DU10","v":0},{"$f":"'Financial Model'!DV10","v":0},{"$f":"'Financial Model'!DW10","v":0},{"$f":"'Financial Model'!DX10","v":0},{"$f":"'Financial Model'!DY10","v":0},{"$f":"'Financial Model'!DZ10","v":0},{"$f":"'Financial Model'!EA10","v":0},{"$f":"'Financial Model'!EB10","v":0},{"$f":"'Financial Model'!EC10","v":0},{"$f":"'Financial Model'!ED10","v":0},{"$f":"'Financial Model'!EE10","v":0},{"$f":"'Financial Model'!EF10","v":0},{"$f":"'Financial Model'!EG10","v":0},{"$f":"'Financial Model'!EH10","v":0},{"$f":"'Financial Model'!EI10","v":0},{"$f":"'Financial Model'!EJ10","v":0},{"$f":"'Financial Model'!EK10","v":0},{"$f":"'Financial Model'!EL10","v":0},{"$f":"'Financial Model'!EM10","v":0},{"$f":"'Financial Model'!EN10","v":0},{"$f":"'Financial Model'!EO10","v":0},{"$f":"'Financial Model'!EP10","v":0},{"$f":"'Financial Model'!EQ10","v":0},{"$f":"'Financial Model'!ER10","v":0},{"$f":"'Financial Model'!ES10","v":0},{"$f":"'Financial Model'!ET10","v":0},{"$f":"'Financial Model'!EU10","v":0},{"$f":"'Financial Model'!EV10","v":0},{"$f":"'Financial Model'!EW10","v":0},{"$f":"'Financial Model'!EX10","v":0},{"$f":"'Financial Model'!EY10","v":0},{"$f":"'Financial Model'!EZ10","v":0},{"$f":"'Financial Model'!FA10","v":0},{"$f":"'Financial Model'!FB10","v":0},{"$f":"'Financial Model'!FC10","v":0},{"$f":"'Financial Model'!FD10","v":0},{"$f":"'Financial Model'!FE10","v":0},{"$f":"'Financial Model'!FF10","v":0},{"$f":"'Financial Model'!FG10","v":0},{"$f":"'Financial Model'!FH10","v":0},{"$f":"'Financial Model'!FI10","v":0},{"$f":"'Financial Model'!FJ10","v":0},{"$f":"'Financial Model'!FK10","v":0},{"$f":"'Financial Model'!FL10","v":0},{"$f":"'Financial Model'!FM10","v":0},{"$f":"'Financial Model'!FN10","v":0},{"$f":"'Financial Model'!FO10","v":0},{"$f":"'Financial Model'!FP10","v":0},{"$f":"'Financial Model'!FQ10","v":0},{"$f":"'Financial Model'!FR10","v":0},{"$f":"'Financial Model'!FS10","v":0},{"$f":"'Financial Model'!FT10","v":0},{"$f":"'Financial Model'!FU10","v":0},{"$f":"'Financial Model'!FV10","v":0},{"$f":"'Financial Model'!FW10","v":0},{"$f":"'Financial Model'!FX10","v":0},{"$f":"'Financial Model'!FY10","v":0},{"$f":"'Financial Model'!FZ10","v":0},{"$f":"'Financial Model'!GA10","v":0},{"$f":"'Financial Model'!GB10","v":0},{"$f":"'Financial Model'!GC10","v":0},{"$f":"'Financial Model'!GD10","v":0},{"$f":"'Financial Model'!GE10","v":0},{"$f":"'Financial Model'!GF10","v":0},{"$f":"'Financial Model'!GG10","v":0},{"$f":"'Financial Model'!GH10","v":0},{"$f":"'Financial Model'!GI10","v":0},{"$f":"'Financial Model'!GJ10","v":0},{"$f":"'Financial Model'!GK10","v":0},{"$f":"'Financial Model'!GL10","v":0},{"$f":"'Financial Model'!GM10","v":0},{"$f":"'Financial Model'!GN10","v":0},{"$f":"'Financial Model'!GO10","v":0},{"$f":"'Financial Model'!GP10","v":0},{"$f":"'Financial Model'!GQ10","v":0},{"$f":"'Financial Model'!GR10","v":0},{"$f":"'Financial Model'!GS10","v":0},{"$f":"'Financial Model'!GT10","v":0},{"$f":"'Financial Model'!GU10","v":0},{"$f":"'Financial Model'!GV10","v":0},{"$f":"'Financial Model'!GW10","v":0},{"$f":"'Financial Model'!GX10","v":0},{"$f":"'Financial Model'!GY10","v":0},{"$f":"'Financial Model'!GZ10","v":0},{"$f":"'Financial Model'!HA10","v":0},{"$f":"'Financial Model'!HB10","v":0},{"$f":"'Financial Model'!HC10","v":0},{"$f":"'Financial Model'!HD10","v":0},{"$f":"'Financial Model'!HE10","v":0},{"$f":"'Financial Model'!HF10","v":0},{"$f":"'Financial Model'!HG10","v":0},{"$f":"'Financial Model'!HH10","v":0},{"$f":"'Financial Model'!HI10","v":0},{"$f":"'Financial Model'!HJ10","v":0},{"$f":"'Financial Model'!HK10","v":0},{"$f":"'Financial Model'!HL10","v":0},{"$f":"'Financial Model'!HM10","v":0},{"$f":"'Financial Model'!HN10","v":0},{"$f":"'Financial Model'!HO10","v":0},{"$f":"'Financial Model'!HP10","v":0},{"$f":"'Financial Model'!HQ10","v":0},{"$f":"'Financial Model'!HR10","v":0},{"$f":"'Financial Model'!HS10","v":0},{"$f":"'Financial Model'!HT10","v":0},{"$f":"'Financial Model'!HU10","v":0},{"$f":"'Financial Model'!HV10","v":0},{"$f":"'Financial Model'!HW10","v":0},{"$f":"'Financial Model'!HX10","v":0},{"$f":"'Financial Model'!HY10","v":0},{"$f":"'Financial Model'!HZ10","v":0},{"$f":"'Financial Model'!IA10","v":0},{"$f":"'Financial Model'!IB10","v":0},{"$f":"'Financial Model'!IC10","v":0},{"$f":"'Financial Model'!ID10","v":0},{"$f":"'Financial Model'!IE10","v":0},{"$f":"'Financial Model'!IF10","v":0},{"$f":"'Financial Model'!IG10","v":0},{"$f":"'Financial Model'!IH10","v":0},{"$f":"'Financial Model'!II10","v":0},{"$f":"'Financial Model'!IJ10","v":0},{"$f":"'Financial Model'!IK10","v":0},{"$f":"'Financial Model'!IL10","v":0},{"$f":"'Financial Model'!IM10","v":0},{"$f":"'Financial Model'!IN10","v":0},{"$f":"'Financial Model'!IO10","v":0},{"$f":"'Financial Model'!IP10","v":0},{"$f":"'Financial Model'!IQ10","v":0},{"$f":"'Financial Model'!IR10","v":0},{"$f":"'Financial Model'!IS10","v":0},{"$f":"'Financial Model'!IT10","v":0},{"$f":"'Financial Model'!IU10","v":0},{"$f":"'Financial Model'!IV10","v":0},{"$f":"'Financial Model'!IW10","v":0},{"$f":"'Financial Model'!IX10","v":0},{"$f":"'Financial Model'!IY10","v":0},{"$f":"'Financial Model'!IZ10","v":0},{"$f":"'Financial Model'!JA10","v":0},{"$f":"'Financial Model'!JB10","v":0},{"$f":"'Financial Model'!JC10","v":0},{"$f":"'Financial Model'!JD10","v":0},{"$f":"'Financial Model'!JE10","v":0},{"$f":"'Financial Model'!JF10","v":0},{"$f":"'Financial Model'!JG10","v":0},{"$f":"'Financial Model'!JH10","v":0},{"$f":"'Financial Model'!JI10","v":0},{"$f":"'Financial Model'!JJ10","v":0},{"$f":"'Financial Model'!JK10","v":0},{"$f":"'Financial Model'!JL10","v":0},{"$f":"'Financial Model'!JM10","v":0},{"$f":"'Financial Model'!JN10","v":0},{"$f":"'Financial Model'!JO10","v":0},{"$f":"'Financial Model'!JP10","v":0},{"$f":"'Financial Model'!JQ10","v":0},{"$f":"'Financial Model'!JR10","v":0},{"$f":"'Financial Model'!JS10","v":0},{"$f":"'Financial Model'!JT10","v":0},{"$f":"'Financial Model'!JU10","v":0},{"$f":"'Financial Model'!JV10","v":0},{"$f":"'Financial Model'!JW10","v":0},{"$f":"'Financial Model'!JX10","v":0},{"$f":"'Financial Model'!JY10","v":0},{"$f":"'Financial Model'!JZ10","v":0},{"$f":"'Financial Model'!KA10","v":0},{"$f":"'Financial Model'!KB10","v":0},{"$f":"'Financial Model'!KC10","v":0},{"$f":"'Financial Model'!KD10","v":0},{"$f":"'Financial Model'!KE10","v":0},{"$f":"'Financial Model'!KF10","v":0},{"$f":"'Financial Model'!KG10","v":0},{"$f":"'Financial Model'!KH10","v":0},{"$f":"'Financial Model'!KI10","v":0},{"$f":"'Financial Model'!KJ10","v":0},{"$f":"'Financial Model'!KK10","v":0},{"$f":"'Financial Model'!KL10","v":0},{"$f":"'Financial Model'!KM10","v":0},{"$f":"'Financial Model'!KN10","v":0},{"$f":"'Financial Model'!KO10","v":0},{"$f":"'Financial Model'!KP10","v":0},{"$f":"'Financial Model'!KQ10","v":0},{"$f":"'Financial Model'!KR10","v":0},{"$f":"'Financial Model'!KS10","v":0},{"$f":"'Financial Model'!KT10","v":0},{"$f":"'Financial Model'!KU10","v":0},{"$f":"'Financial Model'!KV10","v":0},{"$f":"'Financial Model'!KW10","v":0},{"$f":"'Financial Model'!KX10","v":0},{"$f":"'Financial Model'!KY10","v":0},{"$f":"'Financial Model'!KZ10","v":0},{"$f":"'Financial Model'!LA10","v":0},{"$f":"'Financial Model'!LB10","v":0},{"$f":"'Financial Model'!LC10","v":0},{"$f":"'Financial Model'!LD10","v":0},{"$f":"'Financial Model'!LE10","v":0},{"$f":"'Financial Model'!LF10","v":0},{"$f":"'Financial Model'!LG10","v":0},{"$f":"'Financial Model'!LH10","v":0},{"$f":"'Financial Model'!LI10","v":0},{"$f":"'Financial Model'!LJ10","v":0},{"$f":"'Financial Model'!LK10","v":0},{"$f":"'Financial Model'!LL10","v":0},{"$f":"'Financial Model'!LM10","v":0},{"$f":"'Financial Model'!LN10","v":0},{"$f":"'Financial Model'!LO10","v":0},{"$f":"'Financial Model'!LP10","v":0},{"$f":"'Financial Model'!LQ10","v":0},{"$f":"'Financial Model'!LR10","v":0},{"$f":"'Financial Model'!LS10","v":0},{"$f":"'Financial Model'!LT10","v":0},{"$f":"'Financial Model'!LU10","v":0},{"$f":"'Financial Model'!LV10","v":0},{"$f":"'Financial Model'!LW10","v":0},{"$f":"'Financial Model'!LX10","v":0},{"$f":"'Financial Model'!LY10","v":0},{"$f":"'Financial Model'!LZ10","v":0},{"$f":"'Financial Model'!MA10","v":0},{"$f":"'Financial Model'!MB10","v":0},{"$f":"'Financial Model'!MC10","v":0},{"$f":"'Financial Model'!MD10","v":0},{"$f":"'Financial Model'!ME10","v":0},{"$f":"'Financial Model'!MF10","v":0},{"$f":"'Financial Model'!MG10","v":0},{"$f":"'Financial Model'!MH10","v":0},{"$f":"'Financial Model'!MI10","v":0},{"$f":"'Financial Model'!MJ10","v":0},{"$f":"'Financial Model'!MK10","v":0},{"$f":"'Financial Model'!ML10","v":0},{"$f":"'Financial Model'!MM10","v":0},{"$f":"'Financial Model'!MN10","v":0},{"$f":"'Financial Model'!MO10","v":0},{"$f":"'Financial Model'!MP10","v":0},{"$f":"'Financial Model'!MQ10","v":0},{"$f":"'Financial Model'!MR10","v":0},{"$f":"'Financial Model'!MS10","v":0},{"$f":"'Financial Model'!MT10","v":0},{"$f":"'Financial Model'!MU10","v":0},{"$f":"'Financial Model'!MV10","v":0},{"$f":"'Financial Model'!MW10","v":0},{"$f":"'Financial Model'!MX10","v":0},{"$f":"'Financial Model'!MY10","v":0},{"$f":"'Financial Model'!MZ10","v":0},{"$f":"'Financial Model'!NA10","v":0},{"$f":"'Financial Model'!NB10","v":0},{"$f":"'Financial Model'!NC10","v":0},{"$f":"'Financial Model'!ND10","v":0},{"$f":"'Financial Model'!NE10","v":0},{"$f":"'Financial Model'!NF10","v":0},{"$f":"'Financial Model'!NG10","v":0},{"$f":"'Financial Model'!NH10","v":0},{"$f":"'Financial Model'!NI10","v":0},{"$f":"'Financial Model'!NJ10","v":0},{"$f":"'Financial Model'!NK10","v":0},{"$f":"'Financial Model'!NL10","v":0},{"$f":"'Financial Model'!NM10","v":0},{"$f":"'Financial Model'!NN10","v":0},{"$f":"'Financial Model'!NO10","v":0},{"$f":"'Financial Model'!NP10","v":0},{"$f":"'Financial Model'!NQ10","v":0},{"$f":"'Financial Model'!NR10","v":0},{"$f":"'Financial Model'!NS10","v":0},{"$f":"'Financial Model'!NT10","v":0},{"$f":"'Financial Model'!NU10","v":0},{"$f":"'Financial Model'!NV10","v":0},{"$f":"'Financial Model'!NW10","v":0},{"$f":"'Financial Model'!NX10","v":0},{"$f":"'Financial Model'!NY10","v":0},{"$f":"'Financial Model'!NZ10","v":0},{"$f":"'Financial Model'!OA10","v":0},{"$f":"'Financial Model'!OB10","v":0},{"$f":"'Financial Model'!OC10","v":0},{"$f":"'Financial Model'!OD10","v":0},{"$f":"'Financial Model'!OE10","v":0},{"$f":"'Financial Model'!OF10","v":0},{"$f":"'Financial Model'!OG10","v":0},{"$f":"'Financial Model'!OH10","v":0},{"$f":"'Financial Model'!OI10","v":0},{"$f":"'Financial Model'!OJ10","v":0},{"$f":"'Financial Model'!OK10","v":0},{"$f":"'Financial Model'!OL10","v":0},{"$f":"'Financial Model'!OM10","v":0},{"$f":"'Financial Model'!ON10","v":0},{"$f":"'Financial Model'!OO10","v":0},{"$f":"'Financial Model'!OP10","v":0},{"$f":"'Financial Model'!OQ10","v":0},{"$f":"'Financial Model'!OR10","v":0},{"$f":"'Financial Model'!OS10","v":0},{"$f":"'Financial Model'!OT10","v":0},{"$f":"'Financial Model'!OU10","v":0},{"$f":"'Financial Model'!OV10","v":0},{"$f":"'Financial Model'!OW10","v":0},{"$f":"'Financial Model'!OX10","v":0},{"$f":"'Financial Model'!OY10","v":0},{"$f":"'Financial Model'!OZ10","v":0},{"$f":"'Financial Model'!PA10","v":0},{"$f":"'Financial Model'!PB10","v":0},{"$f":"'Financial Model'!PC10","v":0},{"$f":"'Financial Model'!PD10","v":0},{"$f":"'Financial Model'!PE10","v":0},{"$f":"'Financial Model'!PF10","v":0},{"$f":"'Financial Model'!PG10","v":0},{"$f":"'Financial Model'!PH10","v":0},{"$f":"'Financial Model'!PI10","v":0},{"$f":"'Financial Model'!PJ10","v":0},{"$f":"'Financial Model'!PK10","v":0},{"$f":"'Financial Model'!PL10","v":0},{"$f":"'Financial Model'!PM10","v":0},{"$f":"'Financial Model'!PN10","v":0},{"$f":"'Financial Model'!PO10","v":0},{"$f":"'Financial Model'!PP10","v":0},{"$f":"'Financial Model'!PQ10","v":0},{"$f":"'Financial Model'!PR10","v":0},{"$f":"'Financial Model'!PS10","v":0},{"$f":"'Financial Model'!PT10","v":0}]
[null,null,"Capital_Expenditure",null,"InputS",{"$f":"'Financial Model'!K33","v":26000},{"$f":"'Financial Model'!L33","v":0},{"$f":"'Financial Model'!M33","v":0},{"$f":"'Financial Model'!N33","v":0},{"$f":"'Financial Model'!O33","v":0},{"$f":"'Financial Model'!P33","v":0},{"$f":"'Financial Model'!Q33","v":0},{"$f":"'Financial Model'!R33","v":0},{"$f":"'Financial Model'!S33","v":0},{"$f":"'Financial Model'!T33","v":0},{"$f":"'Financial Model'!U33","v":0},{"$f":"'Financial Model'!V33","v":0},{"$f":"'Financial Model'!W33","v":0},{"$f":"'Financial Model'!X33","v":0},{"$f":"'Financial Model'!Y33","v":0},{"$f":"'Financial Model'!Z33","v":0},{"$f":"'Financial Model'!AA33","v":0},{"$f":"'Financial Model'!AB33","v":0},{"$f":"'Financial Model'!AC33","v":0},{"$f":"'Financial Model'!AD33","v":0},{"$f":"'Financial Model'!AE33","v":0},{"$f":"'Financial Model'!AF33","v":0},{"$f":"'Financial Model'!AG33","v":0},{"$f":"'Financial Model'!AH33","v":0},{"$f":"'Financial Model'!AI33","v":0},{"$f":"'Financial Model'!AJ33","v":0},{"$f":"'Financial Model'!AK33","v":0},{"$f":"'Financial Model'!AL33","v":0},{"$f":"'Financial Model'!AM33","v":0},{"$f":"'Financial Model'!AN33","v":0},{"$f":"'Financial Model'!AO33","v":0},{"$f":"'Financial Model'!AP33","v":0},{"$f":"'Financial Model'!AQ33","v":0},{"$f":"'Financial Model'!AR33","v":0},{"$f":"'Financial Model'!AS33","v":0},{"$f":"'Financial Model'!AT33","v":0},{"$f":"'Financial Model'!AU33","v":0},{"$f":"'Financial Model'!AV33","v":0},{"$f":"'Financial Model'!AW33","v":0},{"$f":"'Financial Model'!AX33","v":0},{"$f":"'Financial Model'!AY33","v":0},{"$f":"'Financial Model'!AZ33","v":0},{"$f":"'Financial Model'!BA33","v":0},{"$f":"'Financial Model'!BB33","v":0},{"$f":"'Financial Model'!BC33","v":0},{"$f":"'Financial Model'!BD33","v":0},{"$f":"'Financial Model'!BE33","v":0},{"$f":"'Financial Model'!BF33","v":0},{"$f":"'Financial Model'!BG33","v":0},{"$f":"'Financial Model'!BH33","v":0},{"$f":"'Financial Model'!BI33","v":0},{"$f":"'Financial Model'!BJ33","v":0},{"$f":"'Financial Model'!BK33","v":0},{"$f":"'Financial Model'!BL33","v":0},{"$f":"'Financial Model'!BM33","v":0},{"$f":"'Financial Model'!BN33","v":0},{"$f":"'Financial Model'!BO33","v":0},{"$f":"'Financial Model'!BP33","v":0},{"$f":"'Financial Model'!BQ33","v":0},{"$f":"'Financial Model'!BR33","v":0},{"$f":"'Financial Model'!BS33","v":0},{"$f":"'Financial Model'!BT33","v":0},{"$f":"'Financial Model'!BU33","v":0},{"$f":"'Financial Model'!BV33","v":0},{"$f":"'Financial Model'!BW33","v":0},{"$f":"'Financial Model'!BX33","v":0},{"$f":"'Financial Model'!BY33","v":0},{"$f":"'Financial Model'!BZ33","v":0},{"$f":"'Financial Model'!CA33","v":0},{"$f":"'Financial Model'!CB33","v":0},{"$f":"'Financial Model'!CC33","v":0},{"$f":"'Financial Model'!CD33","v":0},{"$f":"'Financial Model'!CE33","v":0},{"$f":"'Financial Model'!CF33","v":0},{"$f":"'Financial Model'!CG33","v":0},{"$f":"'Financial Model'!CH33","v":0},{"$f":"'Financial Model'!CI33","v":0},{"$f":"'Financial Model'!CJ33","v":0},{"$f":"'Financial Model'!CK33","v":0},{"$f":"'Financial Model'!CL33","v":0},{"$f":"'Financial Model'!CM33","v":0},{"$f":"'Financial Model'!CN33","v":0},{"$f":"'Financial Model'!CO33","v":0},{"$f":"'Financial Model'!CP33","v":0},{"$f":"'Financial Model'!CQ33","v":0},{"$f":"'Financial Model'!CR33","v":0},{"$f":"'Financial Model'!CS33","v":0},{"$f":"'Financial Model'!CT33","v":0},{"$f":"'Financial Model'!CU33","v":0},{"$f":"'Financial Model'!CV33","v":0},{"$f":"'Financial Model'!CW33","v":0},{"$f":"'Financial Model'!CX33","v":0},{"$f":"'Financial Model'!CY33","v":0},{"$f":"'Financial Model'!CZ33","v":0},{"$f":"'Financial Model'!DA33","v":0},{"$f":"'Financial Model'!DB33","v":0},{"$f":"'Financial Model'!DC33","v":0},{"$f":"'Financial Model'!DD33","v":0},{"$f":"'Financial Model'!DE33","v":0},{"$f":"'Financial Model'!DF33","v":0},{"$f":"'Financial Model'!DG33","v":0},{"$f":"'Financial Model'!DH33","v":0},{"$f":"'Financial Model'!DI33","v":0},{"$f":"'Financial Model'!DJ33","v":0},{"$f":"'Financial Model'!DK33","v":0},{"$f":"'Financial Model'!DL33","v":0},{"$f":"'Financial Model'!DM33","v":0},{"$f":"'Financial Model'!DN33","v":0},{"$f":"'Financial Model'!DO33","v":0},{"$f":"'Financial Model'!DP33","v":0},{"$f":"'Financial Model'!DQ33","v":0},{"$f":"'Financial Model'!DR33","v":0},{"$f":"'Financial Model'!DS33","v":0},{"$f":"'Financial Model'!DT33","v":0},{"$f":"'Financial Model'!DU33","v":0},{"$f":"'Financial Model'!DV33","v":0},{"$f":"'Financial Model'!DW33","v":0},{"$f":"'Financial Model'!DX33","v":0},{"$f":"'Financial Model'!DY33","v":0},{"$f":"'Financial Model'!DZ33","v":0},{"$f":"'Financial Model'!EA33","v":0},{"$f":"'Financial Model'!EB33","v":0},{"$f":"'Financial Model'!EC33","v":0},{"$f":"'Financial Model'!ED33","v":0},{"$f":"'Financial Model'!EE33","v":0},{"$f":"'Financial Model'!EF33","v":0},{"$f":"'Financial Model'!EG33","v":0},{"$f":"'Financial Model'!EH33","v":0},{"$f":"'Financial Model'!EI33","v":0},{"$f":"'Financial Model'!EJ33","v":0},{"$f":"'Financial Model'!EK33","v":0},{"$f":"'Financial Model'!EL33","v":0},{"$f":"'Financial Model'!EM33","v":0},{"$f":"'Financial Model'!EN33","v":0},{"$f":"'Financial Model'!EO33","v":0},{"$f":"'Financial Model'!EP33","v":0},{"$f":"'Financial Model'!EQ33","v":0},{"$f":"'Financial Model'!ER33","v":0},{"$f":"'Financial Model'!ES33","v":0},{"$f":"'Financial Model'!ET33","v":0},{"$f":"'Financial Model'!EU33","v":0},{"$f":"'Financial Model'!EV33","v":0},{"$f":"'Financial Model'!EW33","v":0},{"$f":"'Financial Model'!EX33","v":0},{"$f":"'Financial Model'!EY33","v":0},{"$f":"'Financial Model'!EZ33","v":0},{"$f":"'Financial Model'!FA33","v":0},{"$f":"'Financial Model'!FB33","v":0},{"$f":"'Financial Model'!FC33","v":0},{"$f":"'Financial Model'!FD33","v":0},{"$f":"'Financial Model'!FE33","v":0},{"$f":"'Financial Model'!FF33","v":0},{"$f":"'Financial Model'!FG33","v":0},{"$f":"'Financial Model'!FH33","v":0},{"$f":"'Financial Model'!FI33","v":0},{"$f":"'Financial Model'!FJ33","v":0},{"$f":"'Financial Model'!FK33","v":0},{"$f":"'Financial Model'!FL33","v":0},{"$f":"'Financial Model'!FM33","v":0},{"$f":"'Financial Model'!FN33","v":0},{"$f":"'Financial Model'!FO33","v":0},{"$f":"'Financial Model'!FP33","v":0},{"$f":"'Financial Model'!FQ33","v":0},{"$f":"'Financial Model'!FR33","v":0},{"$f":"'Financial Model'!FS33","v":0},{"$f":"'Financial Model'!FT33","v":0},{"$f":"'Financial Model'!FU33","v":0},{"$f":"'Financial Model'!FV33","v":0},{"$f":"'Financial Model'!FW33","v":0},{"$f":"'Financial Model'!FX33","v":0},{"$f":"'Financial Model'!FY33","v":0},{"$f":"'Financial Model'!FZ33","v":0},{"$f":"'Financial Model'!GA33","v":0},{"$f":"'Financial Model'!GB33","v":0},{"$f":"'Financial Model'!GC33","v":0},{"$f":"'Financial Model'!GD33","v":0},{"$f":"'Financial Model'!GE33","v":0},{"$f":"'Financial Model'!GF33","v":0},{"$f":"'Financial Model'!GG33","v":0},{"$f":"'Financial Model'!GH33","v":0},{"$f":"'Financial Model'!GI33","v":0},{"$f":"'Financial Model'!GJ33","v":0},{"$f":"'Financial Model'!GK33","v":0},{"$f":"'Financial Model'!GL33","v":0},{"$f":"'Financial Model'!GM33","v":0},{"$f":"'Financial Model'!GN33","v":0},{"$f":"'Financial Model'!GO33","v":0},{"$f":"'Financial Model'!GP33","v":0},{"$f":"'Financial Model'!GQ33","v":0},{"$f":"'Financial Model'!GR33","v":0},{"$f":"'Financial Model'!GS33","v":0},{"$f":"'Financial Model'!GT33","v":0},{"$f":"'Financial Model'!GU33","v":0},{"$f":"'Financial Model'!GV33","v":0},{"$f":"'Financial Model'!GW33","v":0},{"$f":"'Financial Model'!GX33","v":0},{"$f":"'Financial Model'!GY33","v":0},{"$f":"'Financial Model'!GZ33","v":0},{"$f":"'Financial Model'!HA33","v":0},{"$f":"'Financial Model'!HB33","v":0},{"$f":"'Financial Model'!HC33","v":0},{"$f":"'Financial Model'!HD33","v":0},{"$f":"'Financial Model'!HE33","v":0},{"$f":"'Financial Model'!HF33","v":0},{"$f":"'Financial Model'!HG33","v":0},{"$f":"'Financial Model'!HH33","v":0},{"$f":"'Financial Model'!HI33","v":0},{"$f":"'Financial Model'!HJ33","v":0},{"$f":"'Financial Model'!HK33","v":0},{"$f":"'Financial Model'!HL33","v":0},{"$f":"'Financial Model'!HM33","v":0},{"$f":"'Financial Model'!HN33","v":0},{"$f":"'Financial Model'!HO33","v":0},{"$f":"'Financial Model'!HP33","v":0},{"$f":"'Financial Model'!HQ33","v":0},{"$f":"'Financial Model'!HR33","v":0},{"$f":"'Financial Model'!HS33","v":0},{"$f":"'Financial Model'!HT33","v":0},{"$f":"'Financial Model'!HU33","v":0},{"$f":"'Financial Model'!HV33","v":0},{"$f":"'Financial Model'!HW33","v":0},{"$f":"'Financial Model'!HX33","v":0},{"$f":"'Financial Model'!HY33","v":0},{"$f":"'Financial Model'!HZ33","v":0},{"$f":"'Financial Model'!IA33","v":0},{"$f":"'Financial Model'!IB33","v":0},{"$f":"'Financial Model'!IC33","v":0},{"$f":"'Financial Model'!ID33","v":0},{"$f":"'Financial Model'!IE33","v":0},{"$f":"'Financial Model'!IF33","v":0},{"$f":"'Financial Model'!IG33","v":0},{"$f":"'Financial Model'!IH33","v":0},{"$f":"'Financial Model'!II33","v":0},{"$f":"'Financial Model'!IJ33","v":0},{"$f":"'Financial Model'!IK33","v":0},{"$f":"'Financial Model'!IL33","v":0},{"$f":"'Financial Model'!IM33","v":0},{"$f":"'Financial Model'!IN33","v":0},{"$f":"'Financial Model'!IO33","v":0},{"$f":"'Financial Model'!IP33","v":0},{"$f":"'Financial Model'!IQ33","v":0},{"$f":"'Financial Model'!IR33","v":0},{"$f":"'Financial Model'!IS33","v":0},{"$f":"'Financial Model'!IT33","v":0},{"$f":"'Financial Model'!IU33","v":0},{"$f":"'Financial Model'!IV33","v":0},{"$f":"'Financial Model'!IW33","v":0},{"$f":"'Financial Model'!IX33","v":0},{"$f":"'Financial Model'!IY33","v":0},{"$f":"'Financial Model'!IZ33","v":0},{"$f":"'Financial Model'!JA33","v":0},{"$f":"'Financial Model'!JB33","v":0},{"$f":"'Financial Model'!JC33","v":0},{"$f":"'Financial Model'!JD33","v":0},{"$f":"'Financial Model'!JE33","v":0},{"$f":"'Financial Model'!JF33","v":0},{"$f":"'Financial Model'!JG33","v":0},{"$f":"'Financial Model'!JH33","v":0},{"$f":"'Financial Model'!JI33","v":0},{"$f":"'Financial Model'!JJ33","v":0},{"$f":"'Financial Model'!JK33","v":0},{"$f":"'Financial Model'!JL33","v":0},{"$f":"'Financial Model'!JM33","v":0},{"$f":"'Financial Model'!JN33","v":0},{"$f":"'Financial Model'!JO33","v":0},{"$f":"'Financial Model'!JP33","v":0},{"$f":"'Financial Model'!JQ33","v":0},{"$f":"'Financial Model'!JR33","v":0},{"$f":"'Financial Model'!JS33","v":0},{"$f":"'Financial Model'!JT33","v":0},{"$f":"'Financial Model'!JU33","v":0},{"$f":"'Financial Model'!JV33","v":0},{"$f":"'Financial Model'!JW33","v":0},{"$f":"'Financial Model'!JX33","v":0},{"$f":"'Financial Model'!JY33","v":0},{"$f":"'Financial Model'!JZ33","v":0},{"$f":"'Financial Model'!KA33","v":0},{"$f":"'Financial Model'!KB33","v":0},{"$f":"'Financial Model'!KC33","v":0},{"$f":"'Financial Model'!KD33","v":0},{"$f":"'Financial Model'!KE33","v":0},{"$f":"'Financial Model'!KF33","v":0},{"$f":"'Financial Model'!KG33","v":0},{"$f":"'Financial Model'!KH33","v":0},{"$f":"'Financial Model'!KI33","v":0},{"$f":"'Financial Model'!KJ33","v":0},{"$f":"'Financial Model'!KK33","v":0},{"$f":"'Financial Model'!KL33","v":0},{"$f":"'Financial Model'!KM33","v":0},{"$f":"'Financial Model'!KN33","v":0},{"$f":"'Financial Model'!KO33","v":0},{"$f":"'Financial Model'!KP33","v":0},{"$f":"'Financial Model'!KQ33","v":0},{"$f":"'Financial Model'!KR33","v":0},{"$f":"'Financial Model'!KS33","v":0},{"$f":"'Financial Model'!KT33","v":0},{"$f":"'Financial Model'!KU33","v":0},{"$f":"'Financial Model'!KV33","v":0},{"$f":"'Financial Model'!KW33","v":0},{"$f":"'Financial Model'!KX33","v":0},{"$f":"'Financial Model'!KY33","v":0},{"$f":"'Financial Model'!KZ33","v":0},{"$f":"'Financial Model'!LA33","v":0},{"$f":"'Financial Model'!LB33","v":0},{"$f":"'Financial Model'!LC33","v":0},{"$f":"'Financial Model'!LD33","v":0},{"$f":"'Financial Model'!LE33","v":0},{"$f":"'Financial Model'!LF33","v":0},{"$f":"'Financial Model'!LG33","v":0},{"$f":"'Financial Model'!LH33","v":0},{"$f":"'Financial Model'!LI33","v":0},{"$f":"'Financial Model'!LJ33","v":0},{"$f":"'Financial Model'!LK33","v":0},{"$f":"'Financial Model'!LL33","v":0},{"$f":"'Financial Model'!LM33","v":0},{"$f":"'Financial Model'!LN33","v":0},{"$f":"'Financial Model'!LO33","v":0},{"$f":"'Financial Model'!LP33","v":0},{"$f":"'Financial Model'!LQ33","v":0},{"$f":"'Financial Model'!LR33","v":0},{"$f":"'Financial Model'!LS33","v":0},{"$f":"'Financial Model'!LT33","v":0},{"$f":"'Financial Model'!LU33","v":0},{"$f":"'Financial Model'!LV33","v":0},{"$f":"'Financial Model'!LW33","v":0},{"$f":"'Financial Model'!LX33","v":0},{"$f":"'Financial Model'!LY33","v":0},{"$f":"'Financial Model'!LZ33","v":0},{"$f":"'Financial Model'!MA33","v":0},{"$f":"'Financial Model'!MB33","v":0},{"$f":"'Financial Model'!MC33","v":0},{"$f":"'Financial Model'!MD33","v":0},{"$f":"'Financial Model'!ME33","v":0},{"$f":"'Financial Model'!MF33","v":0},{"$f":"'Financial Model'!MG33","v":0},{"$f":"'Financial Model'!MH33","v":0},{"$f":"'Financial Model'!MI33","v":0},{"$f":"'Financial Model'!MJ33","v":0},{"$f":"'Financial Model'!MK33","v":0},{"$f":"'Financial Model'!ML33","v":0},{"$f":"'Financial Model'!MM33","v":0},{"$f":"'Financial Model'!MN33","v":0},{"$f":"'Financial Model'!MO33","v":0},{"$f":"'Financial Model'!MP33","v":0},{"$f":"'Financial Model'!MQ33","v":0},{"$f":"'Financial Model'!MR33","v":0},{"$f":"'Financial Model'!MS33","v":0},{"$f":"'Financial Model'!MT33","v":0},{"$f":"'Financial Model'!MU33","v":0},{"$f":"'Financial Model'!MV33","v":0},{"$f":"'Financial Model'!MW33","v":0},{"$f":"'Financial Model'!MX33","v":0},{"$f":"'Financial Model'!MY33","v":0},{"$f":"'Financial Model'!MZ33","v":0},{"$f":"'Financial Model'!NA33","v":0},{"$f":"'Financial Model'!NB33","v":0},{"$f":"'Financial Model'!NC33","v":0},{"$f":"'Financial Model'!ND33","v":0},{"$f":"'Financial Model'!NE33","v":0},{"$f":"'Financial Model'!NF33","v":0},{"$f":"'Financial Model'!NG33","v":0},{"$f":"'Financial Model'!NH33","v":0},{"$f":"'Financial Model'!NI33","v":0},{"$f":"'Financial Model'!NJ33","v":0},{"$f":"'Financial Model'!NK33","v":0},{"$f":"'Financial Model'!NL33","v":0},{"$f":"'Financial Model'!NM33","v":0},{"$f":"'Financial Model'!NN33","v":0},{"$f":"'Financial Model'!NO33","v":0},{"$f":"'Financial Model'!NP33","v":0},{"$f":"'Financial Model'!NQ33","v":0},{"$f":"'Financial Model'!NR33","v":0},{"$f":"'Financial Model'!NS33","v":0},{"$f":"'Financial Model'!NT33","v":0},{"$f":"'Financial Model'!NU33","v":0},{"$f":"'Financial Model'!NV33","v":0},{"$f":"'Financial Model'!NW33","v":0},{"$f":"'Financial Model'!NX33","v":0},{"$f":"'Financial Model'!NY33","v":0},{"$f":"'Financial Model'!NZ33","v":0},{"$f":"'Financial Model'!OA33","v":0},{"$f":"'Financial Model'!OB33","v":0},{"$f":"'Financial Model'!OC33","v":0},{"$f":"'Financial Model'!OD33","v":0},{"$f":"'Financial Model'!OE33","v":0},{"$f":"'Financial Model'!OF33","v":0},{"$f":"'Financial Model'!OG33","v":0},{"$f":"'Financial Model'!OH33","v":0},{"$f":"'Financial Model'!OI33","v":0},{"$f":"'Financial Model'!OJ33","v":0},{"$f":"'Financial Model'!OK33","v":0},{"$f":"'Financial Model'!OL33","v":0},{"$f":"'Financial Model'!OM33","v":0},{"$f":"'Financial Model'!ON33","v":0},{"$f":"'Financial Model'!OO33","v":0},{"$f":"'Financial Model'!OP33","v":0},{"$f":"'Financial Model'!OQ33","v":0},{"$f":"'Financial Model'!OR33","v":0},{"$f":"'Financial Model'!OS33","v":0},{"$f":"'Financial Model'!OT33","v":0},{"$f":"'Financial Model'!OU33","v":0},{"$f":"'Financial Model'!OV33","v":0},{"$f":"'Financial Model'!OW33","v":0},{"$f":"'Financial Model'!OX33","v":0},{"$f":"'Financial Model'!OY33","v":0},{"$f":"'Financial Model'!OZ33","v":0},{"$f":"'Financial Model'!PA33","v":0},{"$f":"'Financial Model'!PB33","v":0},{"$f":"'Financial Model'!PC33","v":0},{"$f":"'Financial Model'!PD33","v":0},{"$f":"'Financial Model'!PE33","v":0},{"$f":"'Financial Model'!PF33","v":0},{"$f":"'Financial Model'!PG33","v":0},{"$f":"'Financial Model'!PH33","v":0},{"$f":"'Financial Model'!PI33","v":0},{"$f":"'Financial Model'!PJ33","v":0},{"$f":"'Financial Model'!PK33","v":0},{"$f":"'Financial Model'!PL33","v":0},{"$f":"'Financial Model'!PM33","v":0},{"$f":"'Financial Model'!PN33","v":0},{"$f":"'Financial Model'!PO33","v":0},{"$f":"'Financial Model'!PP33","v":0},{"$f":"'Financial Model'!PQ33","v":0},{"$f":"'Financial Model'!PR33","v":0},{"$f":"'Financial Model'!PS33","v":0},{"$f":"'Financial Model'!PT33","v":0}]
[null,null,"EBITDA",null,"InputS",0,0,0,0,0,0,0,0,0,0,0,0,0,0,0,0,0,0,0,0,0,0,0,0,0,0,0,0,0,0,0,0,0,0,0,0,0,0,0,0,0,0,0,0,0,0,0,0,0,0,0,0,0,0,0,0,0,0,0,0,0,0,0,0,0,0,0,0,0,0,0,0,0,0,0,0,0,0,0,0,0,0,0,0,0,0,0,0,0,0,0,0,0,0,0,0,0,0,0,0,0,0,0,0,0,0,0,0,0,0,0,0,0,0,0,0,0,0,0,0,0,0,0,0,0,0,0,0,0,0,0,0,0,0,0,0,0,0,0,0,0,0,0,0,0,0,0,0,0,0,0,0,0,0,0,0,0,0,0,0,0,0,0,0,0,0,0,0,0,0,0,0,0,0,0,0,0,0,0,0,0,0,0,0,0,0,0,0,0,0,0,0,0,0,0,0,0,0,0,0,0,0,0,0,0,0,0,0,0,0,0,0,0,0,0,0,0,0,0,0,0,0,0,0,0,0,0,0,0,0,0,0,0,0,0,0,0,0,0,0,0,0,0,0,0,0,0,0,0,0,0,0,0,0,0,0,0,0,0,0,0,0,0,0,0,0,0,0,0,0,0,0,0,0,0,0,0,0,0,0,0,0,0,0,0,0,0,0,0,0,0,0,0,0,0,0,0,0,0,0,0,0,0,0,0,0,0,0,0,0,0,0,0,0,0,0,0,0,0,0,0,0,0,0,0,0,0,0,0,0,0,0,0,0,0,0,0,0,0,0,0,0,0,0,0,0,0,0,0,0,0,0,0,0,0,0,0,0,0,0,0,0,0,0,0,0,0,0,0,0,0,0,0,0,0,0,0,0,0,0,0,0,0,0,0,0,0,0,0,0,0,0,0,0,0,0,0,0,0,0,0,0,0,0,0,0,0,0,0,0,0,0,0,0,0,0,0,0,0,0,0,0,0,0,0,0]
[null,null,"Base_Depreciation",null,"InputS",{"$f":"'Financial Model'!K72","v":0},{"$f":"'Financial Model'!L72","v":1040},{"$f":"'Financial Model'!M72","v":1040},{"$f":"'Financial Model'!N72","v":1040},{"$f":"'Financial Model'!O72","v":1040},{"$f":"'Financial Model'!P72","v":1040},{"$f":"'Financial Model'!Q72","v":1040},{"$f":"'Financial Model'!R72","v":1040},{"$f":"'Financial Model'!S72","v":1040},{"$f":"'Financial Model'!T72","v":1040},{"$f":"'Financial Model'!U72","v":1040},{"$f":"'Financial Model'!V72","v":1040},{"$f":"'Financial Model'!W72","v":1040},{"$f":"'Financial Model'!X72","v":1040},{"$f":"'Financial Model'!Y72","v":1040},{"$f":"'Financial Model'!Z72","v":1040},{"$f":"'Financial Model'!AA72","v":1040},{"$f":"'Financial Model'!AB72","v":1040},{"$f":"'Financial Model'!AC72","v":1040},{"$f":"'Financial Model'!AD72","v":1040},{"$f":"'Financial Model'!AE72","v":1040},{"$f":"'Financial Model'!AF72","v":1040},{"$f":"'Financial Model'!AG72","v":1040},{"$f":"'Financial Model'!AH72","v":1040},{"$f":"'Financial Model'!AI72","v":1040},{"$f":"'Financial Model'!AJ72","v":1040},{"$f":"'Financial Model'!AK72","v":0},{"$f":"'Financial Model'!AL72","v":0},{"$f":"'Financial Model'!AM72","v":0},{"$f":"'Financial Model'!AN72","v":0},{"$f":"'Financial Model'!AO72","v":0},{"$f":"'Financial Model'!AP72","v":0},{"$f":"'Financial Model'!AQ72","v":0},{"$f":"'Financial Model'!AR72","v":0},{"$f":"'Financial Model'!AS72","v":0},{"$f":"'Financial Model'!AT72","v":0},{"$f":"'Financial Model'!AU72","v":0},{"$f":"'Financial Model'!AV72","v":0},{"$f":"'Financial Model'!AW72","v":0},{"$f":"'Financial Model'!AX72","v":0},{"$f":"'Financial Model'!AY72","v":0},{"$f":"'Financial Model'!AZ72","v":0},{"$f":"'Financial Model'!BA72","v":0},{"$f":"'Financial Model'!BB72","v":0},{"$f":"'Financial Model'!BC72","v":0},{"$f":"'Financial Model'!BD72","v":0},{"$f":"'Financial Model'!BE72","v":0},{"$f":"'Financial Model'!BF72","v":0},{"$f":"'Financial Model'!BG72","v":0},{"$f":"'Financial Model'!BH72","v":0},{"$f":"'Financial Model'!BI72","v":0},{"$f":"'Financial Model'!BJ72","v":0},{"$f":"'Financial Model'!BK72","v":0},{"$f":"'Financial Model'!BL72","v":0},{"$f":"'Financial Model'!BM72","v":0},{"$f":"'Financial Model'!BN72","v":0},{"$f":"'Financial Model'!BO72","v":0},{"$f":"'Financial Model'!BP72","v":0},{"$f":"'Financial Model'!BQ72","v":0},{"$f":"'Financial Model'!BR72","v":0},{"$f":"'Financial Model'!BS72","v":0},{"$f":"'Financial Model'!BT72","v":0},{"$f":"'Financial Model'!BU72","v":0},{"$f":"'Financial Model'!BV72","v":0},{"$f":"'Financial Model'!BW72","v":0},{"$f":"'Financial Model'!BX72","v":0},{"$f":"'Financial Model'!BY72","v":0},{"$f":"'Financial Model'!BZ72","v":0},{"$f":"'Financial Model'!CA72","v":0},{"$f":"'Financial Model'!CB72","v":0},{"$f":"'Financial Model'!CC72","v":0},{"$f":"'Financial Model'!CD72","v":0},{"$f":"'Financial Model'!CE72","v":0},{"$f":"'Financial Model'!CF72","v":0},{"$f":"'Financial Model'!CG72","v":0},{"$f":"'Financial Model'!CH72","v":0},{"$f":"'Financial Model'!CI72","v":0},{"$f":"'Financial Model'!CJ72","v":0},{"$f":"'Financial Model'!CK72","v":0},{"$f":"'Financial Model'!CL72","v":0},{"$f":"'Financial Model'!CM72","v":0},{"$f":"'Financial Model'!CN72","v":0},{"$f":"'Financial Model'!CO72","v":0},{"$f":"'Financial Model'!CP72","v":0},{"$f":"'Financial Model'!CQ72","v":0},{"$f":"'Financial Model'!CR72","v":0},{"$f":"'Financial Model'!CS72","v":0},{"$f":"'Financial Model'!CT72","v":0},{"$f":"'Financial Model'!CU72","v":0},{"$f":"'Financial Model'!CV72","v":0},{"$f":"'Financial Model'!CW72","v":0},{"$f":"'Financial Model'!CX72","v":0},{"$f":"'Financial Model'!CY72","v":0},{"$f":"'Financial Model'!CZ72","v":0},{"$f":"'Financial Model'!DA72","v":0},{"$f":"'Financial Model'!DB72","v":0},{"$f":"'Financial Model'!DC72","v":0},{"$f":"'Financial Model'!DD72","v":0},{"$f":"'Financial Model'!DE72","v":0},{"$f":"'Financial Model'!DF72","v":0},{"$f":"'Financial Model'!DG72","v":0},{"$f":"'Financial Model'!DH72","v":0},{"$f":"'Financial Model'!DI72","v":0},{"$f":"'Financial Model'!DJ72","v":0},{"$f":"'Financial Model'!DK72","v":0},{"$f":"'Financial Model'!DL72","v":0},{"$f":"'Financial Model'!DM72","v":0},{"$f":"'Financial Model'!DN72","v":0},{"$f":"'Financial Model'!DO72","v":0},{"$f":"'Financial Model'!DP72","v":0},{"$f":"'Financial Model'!DQ72","v":0},{"$f":"'Financial Model'!DR72","v":0},{"$f":"'Financial Model'!DS72","v":0},{"$f":"'Financial Model'!DT72","v":0},{"$f":"'Financial Model'!DU72","v":0},{"$f":"'Financial Model'!DV72","v":0},{"$f":"'Financial Model'!DW72","v":0},{"$f":"'Financial Model'!DX72","v":0},{"$f":"'Financial Model'!DY72","v":0},{"$f":"'Financial Model'!DZ72","v":0},{"$f":"'Financial Model'!EA72","v":0},{"$f":"'Financial Model'!EB72","v":0},{"$f":"'Financial Model'!EC72","v":0},{"$f":"'Financial Model'!ED72","v":0},{"$f":"'Financial Model'!EE72","v":0},{"$f":"'Financial Model'!EF72","v":0},{"$f":"'Financial Model'!EG72","v":0},{"$f":"'Financial Model'!EH72","v":0},{"$f":"'Financial Model'!EI72","v":0},{"$f":"'Financial Model'!EJ72","v":0},{"$f":"'Financial Model'!EK72","v":0},{"$f":"'Financial Model'!EL72","v":0},{"$f":"'Financial Model'!EM72","v":0},{"$f":"'Financial Model'!EN72","v":0},{"$f":"'Financial Model'!EO72","v":0},{"$f":"'Financial Model'!EP72","v":0},{"$f":"'Financial Model'!EQ72","v":0},{"$f":"'Financial Model'!ER72","v":0},{"$f":"'Financial Model'!ES72","v":0},{"$f":"'Financial Model'!ET72","v":0},{"$f":"'Financial Model'!EU72","v":0},{"$f":"'Financial Model'!EV72","v":0},{"$f":"'Financial Model'!EW72","v":0},{"$f":"'Financial Model'!EX72","v":0},{"$f":"'Financial Model'!EY72","v":0},{"$f":"'Financial Model'!EZ72","v":0},{"$f":"'Financial Model'!FA72","v":0},{"$f":"'Financial Model'!FB72","v":0},{"$f":"'Financial Model'!FC72","v":0},{"$f":"'Financial Model'!FD72","v":0},{"$f":"'Financial Model'!FE72","v":0},{"$f":"'Financial Model'!FF72","v":0},{"$f":"'Financial Model'!FG72","v":0},{"$f":"'Financial Model'!FH72","v":0},{"$f":"'Financial Model'!FI72","v":0},{"$f":"'Financial Model'!FJ72","v":0},{"$f":"'Financial Model'!FK72","v":0},{"$f":"'Financial Model'!FL72","v":0},{"$f":"'Financial Model'!FM72","v":0},{"$f":"'Financial Model'!FN72","v":0},{"$f":"'Financial Model'!FO72","v":0},{"$f":"'Financial Model'!FP72","v":0},{"$f":"'Financial Model'!FQ72","v":0},{"$f":"'Financial Model'!FR72","v":0},{"$f":"'Financial Model'!FS72","v":0},{"$f":"'Financial Model'!FT72","v":0},{"$f":"'Financial Model'!FU72","v":0},{"$f":"'Financial Model'!FV72","v":0},{"$f":"'Financial Model'!FW72","v":0},{"$f":"'Financial Model'!FX72","v":0},{"$f":"'Financial Model'!FY72","v":0},{"$f":"'Financial Model'!FZ72","v":0},{"$f":"'Financial Model'!GA72","v":0},{"$f":"'Financial Model'!GB72","v":0},{"$f":"'Financial Model'!GC72","v":0},{"$f":"'Financial Model'!GD72","v":0},{"$f":"'Financial Model'!GE72","v":0},{"$f":"'Financial Model'!GF72","v":0},{"$f":"'Financial Model'!GG72","v":0},{"$f":"'Financial Model'!GH72","v":0},{"$f":"'Financial Model'!GI72","v":0},{"$f":"'Financial Model'!GJ72","v":0},{"$f":"'Financial Model'!GK72","v":0},{"$f":"'Financial Model'!GL72","v":0},{"$f":"'Financial Model'!GM72","v":0},{"$f":"'Financial Model'!GN72","v":0},{"$f":"'Financial Model'!GO72","v":0},{"$f":"'Financial Model'!GP72","v":0},{"$f":"'Financial Model'!GQ72","v":0},{"$f":"'Financial Model'!GR72","v":0},{"$f":"'Financial Model'!GS72","v":0},{"$f":"'Financial Model'!GT72","v":0},{"$f":"'Financial Model'!GU72","v":0},{"$f":"'Financial Model'!GV72","v":0},{"$f":"'Financial Model'!GW72","v":0},{"$f":"'Financial Model'!GX72","v":0},{"$f":"'Financial Model'!GY72","v":0},{"$f":"'Financial Model'!GZ72","v":0},{"$f":"'Financial Model'!HA72","v":0},{"$f":"'Financial Model'!HB72","v":0},{"$f":"'Financial Model'!HC72","v":0},{"$f":"'Financial Model'!HD72","v":0},{"$f":"'Financial Model'!HE72","v":0},{"$f":"'Financial Model'!HF72","v":0},{"$f":"'Financial Model'!HG72","v":0},{"$f":"'Financial Model'!HH72","v":0},{"$f":"'Financial Model'!HI72","v":0},{"$f":"'Financial Model'!HJ72","v":0},{"$f":"'Financial Model'!HK72","v":0},{"$f":"'Financial Model'!HL72","v":0},{"$f":"'Financial Model'!HM72","v":0},{"$f":"'Financial Model'!HN72","v":0},{"$f":"'Financial Model'!HO72","v":0},{"$f":"'Financial Model'!HP72","v":0},{"$f":"'Financial Model'!HQ72","v":0},{"$f":"'Financial Model'!HR72","v":0},{"$f":"'Financial Model'!HS72","v":0},{"$f":"'Financial Model'!HT72","v":0},{"$f":"'Financial Model'!HU72","v":0},{"$f":"'Financial Model'!HV72","v":0},{"$f":"'Financial Model'!HW72","v":0},{"$f":"'Financial Model'!HX72","v":0},{"$f":"'Financial Model'!HY72","v":0},{"$f":"'Financial Model'!HZ72","v":0},{"$f":"'Financial Model'!IA72","v":0},{"$f":"'Financial Model'!IB72","v":0},{"$f":"'Financial Model'!IC72","v":0},{"$f":"'Financial Model'!ID72","v":0},{"$f":"'Financial Model'!IE72","v":0},{"$f":"'Financial Model'!IF72","v":0},{"$f":"'Financial Model'!IG72","v":0},{"$f":"'Financial Model'!IH72","v":0},{"$f":"'Financial Model'!II72","v":0},{"$f":"'Financial Model'!IJ72","v":0},{"$f":"'Financial Model'!IK72","v":0},{"$f":"'Financial Model'!IL72","v":0},{"$f":"'Financial Model'!IM72","v":0},{"$f":"'Financial Model'!IN72","v":0},{"$f":"'Financial Model'!IO72","v":0},{"$f":"'Financial Model'!IP72","v":0},{"$f":"'Financial Model'!IQ72","v":0},{"$f":"'Financial Model'!IR72","v":0},{"$f":"'Financial Model'!IS72","v":0},{"$f":"'Financial Model'!IT72","v":0},{"$f":"'Financial Model'!IU72","v":0},{"$f":"'Financial Model'!IV72","v":0},{"$f":"'Financial Model'!IW72","v":0},{"$f":"'Financial Model'!IX72","v":0},{"$f":"'Financial Model'!IY72","v":0},{"$f":"'Financial Model'!IZ72","v":0},{"$f":"'Financial Model'!JA72","v":0},{"$f":"'Financial Model'!JB72","v":0},{"$f":"'Financial Model'!JC72","v":0},{"$f":"'Financial Model'!JD72","v":0},{"$f":"'Financial Model'!JE72","v":0},{"$f":"'Financial Model'!JF72","v":0},{"$f":"'Financial Model'!JG72","v":0},{"$f":"'Financial Model'!JH72","v":0},{"$f":"'Financial Model'!JI72","v":0},{"$f":"'Financial Model'!JJ72","v":0},{"$f":"'Financial Model'!JK72","v":0},{"$f":"'Financial Model'!JL72","v":0},{"$f":"'Financial Model'!JM72","v":0},{"$f":"'Financial Model'!JN72","v":0},{"$f":"'Financial Model'!JO72","v":0},{"$f":"'Financial Model'!JP72","v":0},{"$f":"'Financial Model'!JQ72","v":0},{"$f":"'Financial Model'!JR72","v":0},{"$f":"'Financial Model'!JS72","v":0},{"$f":"'Financial Model'!JT72","v":0},{"$f":"'Financial Model'!JU72","v":0},{"$f":"'Financial Model'!JV72","v":0},{"$f":"'Financial Model'!JW72","v":0},{"$f":"'Financial Model'!JX72","v":0},{"$f":"'Financial Model'!JY72","v":0},{"$f":"'Financial Model'!JZ72","v":0},{"$f":"'Financial Model'!KA72","v":0},{"$f":"'Financial Model'!KB72","v":0},{"$f":"'Financial Model'!KC72","v":0},{"$f":"'Financial Model'!KD72","v":0},{"$f":"'Financial Model'!KE72","v":0},{"$f":"'Financial Model'!KF72","v":0},{"$f":"'Financial Model'!KG72","v":0},{"$f":"'Financial Model'!KH72","v":0},{"$f":"'Financial Model'!KI72","v":0},{"$f":"'Financial Model'!KJ72","v":0},{"$f":"'Financial Model'!KK72","v":0},{"$f":"'Financial Model'!KL72","v":0},{"$f":"'Financial Model'!KM72","v":0},{"$f":"'Financial Model'!KN72","v":0},{"$f":"'Financial Model'!KO72","v":0},{"$f":"'Financial Model'!KP72","v":0},{"$f":"'Financial Model'!KQ72","v":0},{"$f":"'Financial Model'!KR72","v":0},{"$f":"'Financial Model'!KS72","v":0},{"$f":"'Financial Model'!KT72","v":0},{"$f":"'Financial Model'!KU72","v":0},{"$f":"'Financial Model'!KV72","v":0},{"$f":"'Financial Model'!KW72","v":0},{"$f":"'Financial Model'!KX72","v":0},{"$f":"'Financial Model'!KY72","v":0},{"$f":"'Financial Model'!KZ72","v":0},{"$f":"'Financial Model'!LA72","v":0},{"$f":"'Financial Model'!LB72","v":0},{"$f":"'Financial Model'!LC72","v":0},{"$f":"'Financial Model'!LD72","v":0},{"$f":"'Financial Model'!LE72","v":0},{"$f":"'Financial Model'!LF72","v":0},{"$f":"'Financial Model'!LG72","v":0},{"$f":"'Financial Model'!LH72","v":0},{"$f":"'Financial Model'!LI72","v":0},{"$f":"'Financial Model'!LJ72","v":0},{"$f":"'Financial Model'!LK72","v":0},{"$f":"'Financial Model'!LL72","v":0},{"$f":"'Financial Model'!LM72","v":0},{"$f":"'Financial Model'!LN72","v":0},{"$f":"'Financial Model'!LO72","v":0},{"$f":"'Financial Model'!LP72","v":0},{"$f":"'Financial Model'!LQ72","v":0},{"$f":"'Financial Model'!LR72","v":0},{"$f":"'Financial Model'!LS72","v":0},{"$f":"'Financial Model'!LT72","v":0},{"$f":"'Financial Model'!LU72","v":0},{"$f":"'Financial Model'!LV72","v":0},{"$f":"'Financial Model'!LW72","v":0},{"$f":"'Financial Model'!LX72","v":0},{"$f":"'Financial Model'!LY72","v":0},{"$f":"'Financial Model'!LZ72","v":0},{"$f":"'Financial Model'!MA72","v":0},{"$f":"'Financial Model'!MB72","v":0},{"$f":"'Financial Model'!MC72","v":0},{"$f":"'Financial Model'!MD72","v":0},{"$f":"'Financial Model'!ME72","v":0},{"$f":"'Financial Model'!MF72","v":0},{"$f":"'Financial Model'!MG72","v":0},{"$f":"'Financial Model'!MH72","v":0},{"$f":"'Financial Model'!MI72","v":0},{"$f":"'Financial Model'!MJ72","v":0},{"$f":"'Financial Model'!MK72","v":0},{"$f":"'Financial Model'!ML72","v":0},{"$f":"'Financial Model'!MM72","v":0},{"$f":"'Financial Model'!MN72","v":0},{"$f":"'Financial Model'!MO72","v":0},{"$f":"'Financial Model'!MP72","v":0},{"$f":"'Financial Model'!MQ72","v":0},{"$f":"'Financial Model'!MR72","v":0},{"$f":"'Financial Model'!MS72","v":0},{"$f":"'Financial Model'!MT72","v":0},{"$f":"'Financial Model'!MU72","v":0},{"$f":"'Financial Model'!MV72","v":0},{"$f":"'Financial Model'!MW72","v":0},{"$f":"'Financial Model'!MX72","v":0},{"$f":"'Financial Model'!MY72","v":0},{"$f":"'Financial Model'!MZ72","v":0},{"$f":"'Financial Model'!NA72","v":0},{"$f":"'Financial Model'!NB72","v":0},{"$f":"'Financial Model'!NC72","v":0},{"$f":"'Financial Model'!ND72","v":0},{"$f":"'Financial Model'!NE72","v":0},{"$f":"'Financial Model'!NF72","v":0},{"$f":"'Financial Model'!NG72","v":0},{"$f":"'Financial Model'!NH72","v":0},{"$f":"'Financial Model'!NI72","v":0},{"$f":"'Financial Model'!NJ72","v":0},{"$f":"'Financial Model'!NK72","v":0},{"$f":"'Financial Model'!NL72","v":0},{"$f":"'Financial Model'!NM72","v":0},{"$f":"'Financial Model'!NN72","v":0},{"$f":"'Financial Model'!NO72","v":0},{"$f":"'Financial Model'!NP72","v":0},{"$f":"'Financial Model'!NQ72","v":0},{"$f":"'Financial Model'!NR72","v":0},{"$f":"'Financial Model'!NS72","v":0},{"$f":"'Financial Model'!NT72","v":0},{"$f":"'Financial Model'!NU72","v":0},{"$f":"'Financial Model'!NV72","v":0},{"$f":"'Financial Model'!NW72","v":0},{"$f":"'Financial Model'!NX72","v":0},{"$f":"'Financial Model'!NY72","v":0},{"$f":"'Financial Model'!NZ72","v":0},{"$f":"'Financial Model'!OA72","v":0},{"$f":"'Financial Model'!OB72","v":0},{"$f":"'Financial Model'!OC72","v":0},{"$f":"'Financial Model'!OD72","v":0},{"$f":"'Financial Model'!OE72","v":0},{"$f":"'Financial Model'!OF72","v":0},{"$f":"'Financial Model'!OG72","v":0},{"$f":"'Financial Model'!OH72","v":0},{"$f":"'Financial Model'!OI72","v":0},{"$f":"'Financial Model'!OJ72","v":0},{"$f":"'Financial Model'!OK72","v":0},{"$f":"'Financial Model'!OL72","v":0},{"$f":"'Financial Model'!OM72","v":0},{"$f":"'Financial Model'!ON72","v":0},{"$f":"'Financial Model'!OO72","v":0},{"$f":"'Financial Model'!OP72","v":0},{"$f":"'Financial Model'!OQ72","v":0},{"$f":"'Financial Model'!OR72","v":0},{"$f":"'Financial Model'!OS72","v":0},{"$f":"'Financial Model'!OT72","v":0},{"$f":"'Financial Model'!OU72","v":0},{"$f":"'Financial Model'!OV72","v":0},{"$f":"'Financial Model'!OW72","v":0},{"$f":"'Financial Model'!OX72","v":0},{"$f":"'Financial Model'!OY72","v":0},{"$f":"'Financial Model'!OZ72","v":0},{"$f":"'Financial Model'!PA72","v":0},{"$f":"'Financial Model'!PB72","v":0},{"$f":"'Financial Model'!PC72","v":0},{"$f":"'Financial Model'!PD72","v":0},{"$f":"'Financial Model'!PE72","v":0},{"$f":"'Financial Model'!PF72","v":0},{"$f":"'Financial Model'!PG72","v":0},{"$f":"'Financial Model'!PH72","v":0},{"$f":"'Financial Model'!PI72","v":0},{"$f":"'Financial Model'!PJ72","v":0},{"$f":"'Financial Model'!PK72","v":0},{"$f":"'Financial Model'!PL72","v":0},{"$f":"'Financial Model'!PM72","v":0},{"$f":"'Financial Model'!PN72","v":0},{"$f":"'Financial Model'!PO72","v":0},{"$f":"'Financial Model'!PP72","v":0},{"$f":"'Financial Model'!PQ72","v":0},{"$f":"'Financial Model'!PR72","v":0},{"$f":"'Financial Model'!PS72","v":0},{"$f":"'Financial Model'!PT72","v":0}]
[null,null,"P90_EBITDA",null,"InputS",0,0,0,0,0,0,0,0,0,0,0,0,0,0,0,0,0,0,0,0,0,0,0,0,0,0,0,0,0,0,0,0,0,0,0,0,0,0,0,0,0,0,0,0,0,0,0,0,0,0,0,0,0,0,0,0,0,0,0,0,0,0,0,0,0,0,0,0,0,0,0,0,0,0,0,0,0,0,0,0,0,0,0,0,0,0,0,0,0,0,0,0,0,0,0,0,0,0,0,0,0,0,0,0,0,0,0,0,0,0,0,0,0,0,0,0,0,0,0,0,0,0,0,0,0,0,0,0,0,0,0,0,0,0,0,0,0,0,0,0,0,0,0,0,0,0,0,0,0,0,0,0,0,0,0,0,0,0,0,0,0,0,0,0,0,0,0,0,0,0,0,0,0,0,0,0,0,0,0,0,0,0,0,0,0,0,0,0,0,0,0,0,0,0,0,0,0,0,0,0,0,0,0,0,0,0,0,0,0,0,0,0,0,0,0,0,0,0,0,0,0,0,0,0,0,0,0,0,0,0,0,0,0,0,0,0,0,0,0,0,0,0,0,0,0,0,0,0,0,0,0,0,0,0,0,0,0,0,0,0,0,0,0,0,0,0,0,0,0,0,0,0,0,0,0,0,0,0,0,0,0,0,0,0,0,0,0,0,0,0,0,0,0,0,0,0,0,0,0,0,0,0,0,0,0,0,0,0,0,0,0,0,0,0,0,0,0,0,0,0,0,0,0,0,0,0,0,0,0,0,0,0,0,0,0,0,0,0,0,0,0,0,0,0,0,0,0,0,0,0,0,0,0,0,0,0,0,0,0,0,0,0,0,0,0,0,0,0,0,0,0,0,0,0,0,0,0,0,0,0,0,0,0,0,0,0,0,0,0,0,0,0,0,0,0,0,0,0,0,0,0,0,0,0,0,0,0,0,0,0,0,0,0,0,0,0,0,0,0,0,0,0,0,0,0,0]
[null,null,"Max_Debt_Capital",null,"InputC",{"$f":"'Financial Model'!F112","v":0.75}]
[null,null,"Min_DSCR",null,"InputC",{"$f":"'Financial Model'!F121","v":1.2}]
[null,null,"Tax_Rate",null,"InputC",{"$f":"'Financial Model'!F170","v":0.25}]
[null,null,"Up_Front_Fee",null,"InputC",{"$f":"'Financial Model'!F196","v":5.0000000000000001E-3}]
[null,null,"Periodic_Interest_Rate",null,"InputS",{"$f":"'Financial Model'!K192","v":0.08},{"$f":"'Financial Model'!L192","v":0.08},{"$f":"'Financial Model'!M192","v":0.08},{"$f":"'Financial Model'!N192","v":0.08},{"$f":"'Financial Model'!O192","v":0.08},{"$f":"'Financial Model'!P192","v":0.08},{"$f":"'Financial Model'!Q192","v":0.08},{"$f":"'Financial Model'!R192","v":0.08},{"$f":"'Financial Model'!S192","v":0.08},{"$f":"'Financial Model'!T192","v":0.08},{"$f":"'Financial Model'!U192","v":0.08},{"$f":"'Financial Model'!V192","v":0.08},{"$f":"'Financial Model'!W192","v":0.08},{"$f":"'Financial Model'!X192","v":0.08},{"$f":"'Financial Model'!Y192","v":0.08},{"$f":"'Financial Model'!Z192","v":0.08},{"$f":"'Financial Model'!AA192","v":0.08},{"$f":"'Financial Model'!AB192","v":0.08},{"$f":"'Financial Model'!AC192","v":0.08},{"$f":"'Financial Model'!AD192","v":0.08},{"$f":"'Financial Model'!AE192","v":0.08},{"$f":"'Financial Model'!AF192","v":0.08},{"$f":"'Financial Model'!AG192","v":0.08},{"$f":"'Financial Model'!AH192","v":0.08},{"$f":"'Financial Model'!AI192","v":0.08},{"$f":"'Financial Model'!AJ192","v":0.08},{"$f":"'Financial Model'!AK192","v":0.08},{"$f":"'Financial Model'!AL192","v":0.08},{"$f":"'Financial Model'!AM192","v":0.08},{"$f":"'Financial Model'!AN192","v":0.08},{"$f":"'Financial Model'!AO192","v":0.08},{"$f":"'Financial Model'!AP192","v":0.08},{"$f":"'Financial Model'!AQ192","v":0.08},{"$f":"'Financial Model'!AR192","v":0.08},{"$f":"'Financial Model'!AS192","v":0.08},{"$f":"'Financial Model'!AT192","v":0.08},{"$f":"'Financial Model'!AU192","v":0.08},{"$f":"'Financial Model'!AV192","v":0.08},{"$f":"'Financial Model'!AW192","v":0.08},{"$f":"'Financial Model'!AX192","v":0.08},{"$f":"'Financial Model'!AY192","v":0.08},{"$f":"'Financial Model'!AZ192","v":0.08},{"$f":"'Financial Model'!BA192","v":0.08},{"$f":"'Financial Model'!BB192","v":0.08},{"$f":"'Financial Model'!BC192","v":0.08},{"$f":"'Financial Model'!BD192","v":0.08},{"$f":"'Financial Model'!BE192","v":0.08},{"$f":"'Financial Model'!BF192","v":0.08},{"$f":"'Financial Model'!BG192","v":0.08},{"$f":"'Financial Model'!BH192","v":0.08},{"$f":"'Financial Model'!BI192","v":0.08},{"$f":"'Financial Model'!BJ192","v":0.08},{"$f":"'Financial Model'!BK192","v":0.08},{"$f":"'Financial Model'!BL192","v":0.08},{"$f":"'Financial Model'!BM192","v":0.08},{"$f":"'Financial Model'!BN192","v":0.08},{"$f":"'Financial Model'!BO192","v":0.08},{"$f":"'Financial Model'!BP192","v":0.08},{"$f":"'Financial Model'!BQ192","v":0.08},{"$f":"'Financial Model'!BR192","v":0.08},{"$f":"'Financial Model'!BS192","v":0.08},{"$f":"'Financial Model'!BT192","v":0.08},{"$f":"'Financial Model'!BU192","v":0.08},{"$f":"'Financial Model'!BV192","v":0.08},{"$f":"'Financial Model'!BW192","v":0.08},{"$f":"'Financial Model'!BX192","v":0.08},{"$f":"'Financial Model'!BY192","v":0.08},{"$f":"'Financial Model'!BZ192","v":0.08},{"$f":"'Financial Model'!CA192","v":0.08},{"$f":"'Financial Model'!CB192","v":0.08},{"$f":"'Financial Model'!CC192","v":0.08},{"$f":"'Financial Model'!CD192","v":0.08},{"$f":"'Financial Model'!CE192","v":0.08},{"$f":"'Financial Model'!CF192","v":0.08},{"$f":"'Financial Model'!CG192","v":0.08},{"$f":"'Financial Model'!CH192","v":0.08},{"$f":"'Financial Model'!CI192","v":0.08},{"$f":"'Financial Model'!CJ192","v":0.08},{"$f":"'Financial Model'!CK192","v":0.08},{"$f":"'Financial Model'!CL192","v":0.08},{"$f":"'Financial Model'!CM192","v":0.08},{"$f":"'Financial Model'!CN192","v":0.08},{"$f":"'Financial Model'!CO192","v":0.08},{"$f":"'Financial Model'!CP192","v":0.08},{"$f":"'Financial Model'!CQ192","v":0.08},{"$f":"'Financial Model'!CR192","v":0.08},{"$f":"'Financial Model'!CS192","v":0.08},{"$f":"'Financial Model'!CT192","v":0.08},{"$f":"'Financial Model'!CU192","v":0.08},{"$f":"'Financial Model'!CV192","v":0.08},{"$f":"'Financial Model'!CW192","v":0.08},{"$f":"'Financial Model'!CX192","v":0.08},{"$f":"'Financial Model'!CY192","v":0.08},{"$f":"'Financial Model'!CZ192","v":0.08},{"$f":"'Financial Model'!DA192","v":0.08},{"$f":"'Financial Model'!DB192","v":0.08},{"$f":"'Financial Model'!DC192","v":0.08},{"$f":"'Financial Model'!DD192","v":0.08},{"$f":"'Financial Model'!DE192","v":0.08},{"$f":"'Financial Model'!DF192","v":0.08},{"$f":"'Financial Model'!DG192","v":0.08},{"$f":"'Financial Model'!DH192","v":0.08},{"$f":"'Financial Model'!DI192","v":0.08},{"$f":"'Financial Model'!DJ192","v":0.08},{"$f":"'Financial Model'!DK192","v":0.08},{"$f":"'Financial Model'!DL192","v":0.08},{"$f":"'Financial Model'!DM192","v":0.08},{"$f":"'Financial Model'!DN192","v":0.08},{"$f":"'Financial Model'!DO192","v":0.08},{"$f":"'Financial Model'!DP192","v":0.08},{"$f":"'Financial Model'!DQ192","v":0.08},{"$f":"'Financial Model'!DR192","v":0.08},{"$f":"'Financial Model'!DS192","v":0.08},{"$f":"'Financial Model'!DT192","v":0.08},{"$f":"'Financial Model'!DU192","v":0.08},{"$f":"'Financial Model'!DV192","v":0.08},{"$f":"'Financial Model'!DW192","v":0.08},{"$f":"'Financial Model'!DX192","v":0.08},{"$f":"'Financial Model'!DY192","v":0.08},{"$f":"'Financial Model'!DZ192","v":0.08},{"$f":"'Financial Model'!EA192","v":0.08},{"$f":"'Financial Model'!EB192","v":0.08},{"$f":"'Financial Model'!EC192","v":0.08},{"$f":"'Financial Model'!ED192","v":0.08},{"$f":"'Financial Model'!EE192","v":0.08},{"$f":"'Financial Model'!EF192","v":0.08},{"$f":"'Financial Model'!EG192","v":0.08},{"$f":"'Financial Model'!EH192","v":0.08},{"$f":"'Financial Model'!EI192","v":0.08},{"$f":"'Financial Model'!EJ192","v":0.08},{"$f":"'Financial Model'!EK192","v":0.08},{"$f":"'Financial Model'!EL192","v":0.08},{"$f":"'Financial Model'!EM192","v":0.08},{"$f":"'Financial Model'!EN192","v":0.08},{"$f":"'Financial Model'!EO192","v":0.08},{"$f":"'Financial Model'!EP192","v":0.08},{"$f":"'Financial Model'!EQ192","v":0.08},{"$f":"'Financial Model'!ER192","v":0.08},{"$f":"'Financial Model'!ES192","v":0.08},{"$f":"'Financial Model'!ET192","v":0.08},{"$f":"'Financial Model'!EU192","v":0.08},{"$f":"'Financial Model'!EV192","v":0.08},{"$f":"'Financial Model'!EW192","v":0.08},{"$f":"'Financial Model'!EX192","v":0.08},{"$f":"'Financial Model'!EY192","v":0.08},{"$f":"'Financial Model'!EZ192","v":0.08},{"$f":"'Financial Model'!FA192","v":0.08},{"$f":"'Financial Model'!FB192","v":0.08},{"$f":"'Financial Model'!FC192","v":0.08},{"$f":"'Financial Model'!FD192","v":0.08},{"$f":"'Financial Model'!FE192","v":0.08},{"$f":"'Financial Model'!FF192","v":0.08},{"$f":"'Financial Model'!FG192","v":0.08},{"$f":"'Financial Model'!FH192","v":0.08},{"$f":"'Financial Model'!FI192","v":0.08},{"$f":"'Financial Model'!FJ192","v":0.08},{"$f":"'Financial Model'!FK192","v":0.08},{"$f":"'Financial Model'!FL192","v":0.08},{"$f":"'Financial Model'!FM192","v":0.08},{"$f":"'Financial Model'!FN192","v":0.08},{"$f":"'Financial Model'!FO192","v":0.08},{"$f":"'Financial Model'!FP192","v":0.08},{"$f":"'Financial Model'!FQ192","v":0.08},{"$f":"'Financial Model'!FR192","v":0.08},{"$f":"'Financial Model'!FS192","v":0.08},{"$f":"'Financial Model'!FT192","v":0.08},{"$f":"'Financial Model'!FU192","v":0.08},{"$f":"'Financial Model'!FV192","v":0.08},{"$f":"'Financial Model'!FW192","v":0.08},{"$f":"'Financial Model'!FX192","v":0.08},{"$f":"'Financial Model'!FY192","v":0.08},{"$f":"'Financial Model'!FZ192","v":0.08},{"$f":"'Financial Model'!GA192","v":0.08},{"$f":"'Financial Model'!GB192","v":0.08},{"$f":"'Financial Model'!GC192","v":0.08},{"$f":"'Financial Model'!GD192","v":0.08},{"$f":"'Financial Model'!GE192","v":0.08},{"$f":"'Financial Model'!GF192","v":0.08},{"$f":"'Financial Model'!GG192","v":0.08},{"$f":"'Financial Model'!GH192","v":0.08},{"$f":"'Financial Model'!GI192","v":0.08},{"$f":"'Financial Model'!GJ192","v":0.08},{"$f":"'Financial Model'!GK192","v":0.08},{"$f":"'Financial Model'!GL192","v":0.08},{"$f":"'Financial Model'!GM192","v":0.08},{"$f":"'Financial Model'!GN192","v":0.08},{"$f":"'Financial Model'!GO192","v":0.08},{"$f":"'Financial Model'!GP192","v":0.08},{"$f":"'Financial Model'!GQ192","v":0.08},{"$f":"'Financial Model'!GR192","v":0.08},{"$f":"'Financial Model'!GS192","v":0.08},{"$f":"'Financial Model'!GT192","v":0.08},{"$f":"'Financial Model'!GU192","v":0.08},{"$f":"'Financial Model'!GV192","v":0.08},{"$f":"'Financial Model'!GW192","v":0.08},{"$f":"'Financial Model'!GX192","v":0.08},{"$f":"'Financial Model'!GY192","v":0.08},{"$f":"'Financial Model'!GZ192","v":0.08},{"$f":"'Financial Model'!HA192","v":0.08},{"$f":"'Financial Model'!HB192","v":0.08},{"$f":"'Financial Model'!HC192","v":0.08},{"$f":"'Financial Model'!HD192","v":0.08},{"$f":"'Financial Model'!HE192","v":0.08},{"$f":"'Financial Model'!HF192","v":0.08},{"$f":"'Financial Model'!HG192","v":0.08},{"$f":"'Financial Model'!HH192","v":0.08},{"$f":"'Financial Model'!HI192","v":0.08},{"$f":"'Financial Model'!HJ192","v":0.08},{"$f":"'Financial Model'!HK192","v":0.08},{"$f":"'Financial Model'!HL192","v":0.08},{"$f":"'Financial Model'!HM192","v":0.08},{"$f":"'Financial Model'!HN192","v":0.08},{"$f":"'Financial Model'!HO192","v":0.08},{"$f":"'Financial Model'!HP192","v":0.08},{"$f":"'Financial Model'!HQ192","v":0.08},{"$f":"'Financial Model'!HR192","v":0.08},{"$f":"'Financial Model'!HS192","v":0.08},{"$f":"'Financial Model'!HT192","v":0.08},{"$f":"'Financial Model'!HU192","v":0.08},{"$f":"'Financial Model'!HV192","v":0.08},{"$f":"'Financial Model'!HW192","v":0.08},{"$f":"'Financial Model'!HX192","v":0.08},{"$f":"'Financial Model'!HY192","v":0.08},{"$f":"'Financial Model'!HZ192","v":0.08},{"$f":"'Financial Model'!IA192","v":0.08},{"$f":"'Financial Model'!IB192","v":0.08},{"$f":"'Financial Model'!IC192","v":0.08},{"$f":"'Financial Model'!ID192","v":0.08},{"$f":"'Financial Model'!IE192","v":0.08},{"$f":"'Financial Model'!IF192","v":0.08},{"$f":"'Financial Model'!IG192","v":0.08},{"$f":"'Financial Model'!IH192","v":0.08},{"$f":"'Financial Model'!II192","v":0.08},{"$f":"'Financial Model'!IJ192","v":0.08},{"$f":"'Financial Model'!IK192","v":0.08},{"$f":"'Financial Model'!IL192","v":0.08},{"$f":"'Financial Model'!IM192","v":0.08},{"$f":"'Financial Model'!IN192","v":0.08},{"$f":"'Financial Model'!IO192","v":0.08},{"$f":"'Financial Model'!IP192","v":0.08},{"$f":"'Financial Model'!IQ192","v":0.08},{"$f":"'Financial Model'!IR192","v":0.08},{"$f":"'Financial Model'!IS192","v":0.08},{"$f":"'Financial Model'!IT192","v":0.08},{"$f":"'Financial Model'!IU192","v":0.08},{"$f":"'Financial Model'!IV192","v":0.08},{"$f":"'Financial Model'!IW192","v":0.08},{"$f":"'Financial Model'!IX192","v":0.08},{"$f":"'Financial Model'!IY192","v":0.08},{"$f":"'Financial Model'!IZ192","v":0.08},{"$f":"'Financial Model'!JA192","v":0.08},{"$f":"'Financial Model'!JB192","v":0.08},{"$f":"'Financial Model'!JC192","v":0.08},{"$f":"'Financial Model'!JD192","v":0.08},{"$f":"'Financial Model'!JE192","v":0.08},{"$f":"'Financial Model'!JF192","v":0.08},{"$f":"'Financial Model'!JG192","v":0.08},{"$f":"'Financial Model'!JH192","v":0.08},{"$f":"'Financial Model'!JI192","v":0.08},{"$f":"'Financial Model'!JJ192","v":0.08},{"$f":"'Financial Model'!JK192","v":0.08},{"$f":"'Financial Model'!JL192","v":0.08},{"$f":"'Financial Model'!JM192","v":0.08},{"$f":"'Financial Model'!JN192","v":0.08},{"$f":"'Financial Model'!JO192","v":0.08},{"$f":"'Financial Model'!JP192","v":0.08},{"$f":"'Financial Model'!JQ192","v":0.08},{"$f":"'Financial Model'!JR192","v":0.08},{"$f":"'Financial Model'!JS192","v":0.08},{"$f":"'Financial Model'!JT192","v":0.08},{"$f":"'Financial Model'!JU192","v":0.08},{"$f":"'Financial Model'!JV192","v":0.08},{"$f":"'Financial Model'!JW192","v":0.08},{"$f":"'Financial Model'!JX192","v":0.08},{"$f":"'Financial Model'!JY192","v":0.08},{"$f":"'Financial Model'!JZ192","v":0.08},{"$f":"'Financial Model'!KA192","v":0.08},{"$f":"'Financial Model'!KB192","v":0.08},{"$f":"'Financial Model'!KC192","v":0.08},{"$f":"'Financial Model'!KD192","v":0.08},{"$f":"'Financial Model'!KE192","v":0.08},{"$f":"'Financial Model'!KF192","v":0.08},{"$f":"'Financial Model'!KG192","v":0.08},{"$f":"'Financial Model'!KH192","v":0.08},{"$f":"'Financial Model'!KI192","v":0.08},{"$f":"'Financial Model'!KJ192","v":0.08},{"$f":"'Financial Model'!KK192","v":0.08},{"$f":"'Financial Model'!KL192","v":0.08},{"$f":"'Financial Model'!KM192","v":0.08},{"$f":"'Financial Model'!KN192","v":0.08},{"$f":"'Financial Model'!KO192","v":0.08},{"$f":"'Financial Model'!KP192","v":0.08},{"$f":"'Financial Model'!KQ192","v":0.08},{"$f":"'Financial Model'!KR192","v":0.08},{"$f":"'Financial Model'!KS192","v":0.08},{"$f":"'Financial Model'!KT192","v":0.08},{"$f":"'Financial Model'!KU192","v":0.08},{"$f":"'Financial Model'!KV192","v":0.08},{"$f":"'Financial Model'!KW192","v":0.08},{"$f":"'Financial Model'!KX192","v":0.08},{"$f":"'Financial Model'!KY192","v":0.08},{"$f":"'Financial Model'!KZ192","v":0.08},{"$f":"'Financial Model'!LA192","v":0.08},{"$f":"'Financial Model'!LB192","v":0.08},{"$f":"'Financial Model'!LC192","v":0.08},{"$f":"'Financial Model'!LD192","v":0.08},{"$f":"'Financial Model'!LE192","v":0.08},{"$f":"'Financial Model'!LF192","v":0.08},{"$f":"'Financial Model'!LG192","v":0.08},{"$f":"'Financial Model'!LH192","v":0.08},{"$f":"'Financial Model'!LI192","v":0.08},{"$f":"'Financial Model'!LJ192","v":0.08},{"$f":"'Financial Model'!LK192","v":0.08},{"$f":"'Financial Model'!LL192","v":0.08},{"$f":"'Financial Model'!LM192","v":0.08},{"$f":"'Financial Model'!LN192","v":0.08},{"$f":"'Financial Model'!LO192","v":0.08},{"$f":"'Financial Model'!LP192","v":0.08},{"$f":"'Financial Model'!LQ192","v":0.08},{"$f":"'Financial Model'!LR192","v":0.08},{"$f":"'Financial Model'!LS192","v":0.08},{"$f":"'Financial Model'!LT192","v":0.08},{"$f":"'Financial Model'!LU192","v":0.08},{"$f":"'Financial Model'!LV192","v":0.08},{"$f":"'Financial Model'!LW192","v":0.08},{"$f":"'Financial Model'!LX192","v":0.08},{"$f":"'Financial Model'!LY192","v":0.08},{"$f":"'Financial Model'!LZ192","v":0.08},{"$f":"'Financial Model'!MA192","v":0.08},{"$f":"'Financial Model'!MB192","v":0.08},{"$f":"'Financial Model'!MC192","v":0.08},{"$f":"'Financial Model'!MD192","v":0.08},{"$f":"'Financial Model'!ME192","v":0.08},{"$f":"'Financial Model'!MF192","v":0.08},{"$f":"'Financial Model'!MG192","v":0.08},{"$f":"'Financial Model'!MH192","v":0.08},{"$f":"'Financial Model'!MI192","v":0.08},{"$f":"'Financial Model'!MJ192","v":0.08},{"$f":"'Financial Model'!MK192","v":0.08},{"$f":"'Financial Model'!ML192","v":0.08},{"$f":"'Financial Model'!MM192","v":0.08},{"$f":"'Financial Model'!MN192","v":0.08},{"$f":"'Financial Model'!MO192","v":0.08},{"$f":"'Financial Model'!MP192","v":0.08},{"$f":"'Financial Model'!MQ192","v":0.08},{"$f":"'Financial Model'!MR192","v":0.08},{"$f":"'Financial Model'!MS192","v":0.08},{"$f":"'Financial Model'!MT192","v":0.08},{"$f":"'Financial Model'!MU192","v":0.08},{"$f":"'Financial Model'!MV192","v":0.08},{"$f":"'Financial Model'!MW192","v":0.08},{"$f":"'Financial Model'!MX192","v":0.08},{"$f":"'Financial Model'!MY192","v":0.08},{"$f":"'Financial Model'!MZ192","v":0.08},{"$f":"'Financial Model'!NA192","v":0.08},{"$f":"'Financial Model'!NB192","v":0.08},{"$f":"'Financial Model'!NC192","v":0.08},{"$f":"'Financial Model'!ND192","v":0.08},{"$f":"'Financial Model'!NE192","v":0.08},{"$f":"'Financial Model'!NF192","v":0.08},{"$f":"'Financial Model'!NG192","v":0.08},{"$f":"'Financial Model'!NH192","v":0.08},{"$f":"'Financial Model'!NI192","v":0.08},{"$f":"'Financial Model'!NJ192","v":0.08},{"$f":"'Financial Model'!NK192","v":0.08},{"$f":"'Financial Model'!NL192","v":0.08},{"$f":"'Financial Model'!NM192","v":0.08},{"$f":"'Financial Model'!NN192","v":0.08},{"$f":"'Financial Model'!NO192","v":0.08},{"$f":"'Financial Model'!NP192","v":0.08},{"$f":"'Financial Model'!NQ192","v":0.08},{"$f":"'Financial Model'!NR192","v":0.08},{"$f":"'Financial Model'!NS192","v":0.08},{"$f":"'Financial Model'!NT192","v":0.08},{"$f":"'Financial Model'!NU192","v":0.08},{"$f":"'Financial Model'!NV192","v":0.08},{"$f":"'Financial Model'!NW192","v":0.08},{"$f":"'Financial Model'!NX192","v":0.08},{"$f":"'Financial Model'!NY192","v":0.08},{"$f":"'Financial Model'!NZ192","v":0.08},{"$f":"'Financial Model'!OA192","v":0.08},{"$f":"'Financial Model'!OB192","v":0.08},{"$f":"'Financial Model'!OC192","v":0.08},{"$f":"'Financial Model'!OD192","v":0.08},{"$f":"'Financial Model'!OE192","v":0.08},{"$f":"'Financial Model'!OF192","v":0.08},{"$f":"'Financial Model'!OG192","v":0.08},{"$f":"'Financial Model'!OH192","v":0.08},{"$f":"'Financial Model'!OI192","v":0.08},{"$f":"'Financial Model'!OJ192","v":0.08},{"$f":"'Financial Model'!OK192","v":0.08},{"$f":"'Financial Model'!OL192","v":0.08},{"$f":"'Financial Model'!OM192","v":0.08},{"$f":"'Financial Model'!ON192","v":0.08},{"$f":"'Financial Model'!OO192","v":0.08},{"$f":"'Financial Model'!OP192","v":0.08},{"$f":"'Financial Model'!OQ192","v":0.08},{"$f":"'Financial Model'!OR192","v":0.08},{"$f":"'Financial Model'!OS192","v":0.08},{"$f":"'Financial Model'!OT192","v":0.08},{"$f":"'Financial Model'!OU192","v":0.08},{"$f":"'Financial Model'!OV192","v":0.08},{"$f":"'Financial Model'!OW192","v":0.08},{"$f":"'Financial Model'!OX192","v":0.08},{"$f":"'Financial Model'!OY192","v":0.08},{"$f":"'Financial Model'!OZ192","v":0.08},{"$f":"'Financial Model'!PA192","v":0.08},{"$f":"'Financial Model'!PB192","v":0.08},{"$f":"'Financial Model'!PC192","v":0.08},{"$f":"'Financial Model'!PD192","v":0.08},{"$f":"'Financial Model'!PE192","v":0.08},{"$f":"'Financial Model'!PF192","v":0.08},{"$f":"'Financial Model'!PG192","v":0.08},{"$f":"'Financial Model'!PH192","v":0.08},{"$f":"'Financial Model'!PI192","v":0.08},{"$f":"'Financial Model'!PJ192","v":0.08},{"$f":"'Financial Model'!PK192","v":0.08},{"$f":"'Financial Model'!PL192","v":0.08},{"$f":"'Financial Model'!PM192","v":0.08},{"$f":"'Financial Model'!PN192","v":0.08},{"$f":"'Financial Model'!PO192","v":0.08},{"$f":"'Financial Model'!PP192","v":0.08},{"$f":"'Financial Model'!PQ192","v":0.08},{"$f":"'Financial Model'!PR192","v":0.08},{"$f":"'Financial Model'!PS192","v":0.08},{"$f":"'Financial Model'!PT192","v":0.08}]
[null,null,"Periodic_Commitment_Fee",null,"InputS",{"$f":"'Financial Model'!K202","v":3.0000000000000001E-3},{"$f":"'Financial Model'!L202","v":3.0000000000000001E-3},{"$f":"'Financial Model'!M202","v":3.0000000000000001E-3},{"$f":"'Financial Model'!N202","v":3.0000000000000001E-3},{"$f":"'Financial Model'!O202","v":3.0000000000000001E-3},{"$f":"'Financial Model'!P202","v":3.0000000000000001E-3},{"$f":"'Financial Model'!Q202","v":3.0000000000000001E-3},{"$f":"'Financial Model'!R202","v":3.0000000000000001E-3},{"$f":"'Financial Model'!S202","v":3.0000000000000001E-3},{"$f":"'Financial Model'!T202","v":3.0000000000000001E-3},{"$f":"'Financial Model'!U202","v":3.0000000000000001E-3},{"$f":"'Financial Model'!V202","v":3.0000000000000001E-3},{"$f":"'Financial Model'!W202","v":3.0000000000000001E-3},{"$f":"'Financial Model'!X202","v":3.0000000000000001E-3},{"$f":"'Financial Model'!Y202","v":3.0000000000000001E-3},{"$f":"'Financial Model'!Z202","v":3.0000000000000001E-3},{"$f":"'Financial Model'!AA202","v":3.0000000000000001E-3},{"$f":"'Financial Model'!AB202","v":3.0000000000000001E-3},{"$f":"'Financial Model'!AC202","v":3.0000000000000001E-3},{"$f":"'Financial Model'!AD202","v":3.0000000000000001E-3},{"$f":"'Financial Model'!AE202","v":3.0000000000000001E-3},{"$f":"'Financial Model'!AF202","v":3.0000000000000001E-3},{"$f":"'Financial Model'!AG202","v":3.0000000000000001E-3},{"$f":"'Financial Model'!AH202","v":3.0000000000000001E-3},{"$f":"'Financial Model'!AI202","v":3.0000000000000001E-3},{"$f":"'Financial Model'!AJ202","v":3.0000000000000001E-3},{"$f":"'Financial Model'!AK202","v":3.0000000000000001E-3},{"$f":"'Financial Model'!AL202","v":3.0000000000000001E-3},{"$f":"'Financial Model'!AM202","v":3.0000000000000001E-3},{"$f":"'Financial Model'!AN202","v":3.0000000000000001E-3},{"$f":"'Financial Model'!AO202","v":3.0000000000000001E-3},{"$f":"'Financial Model'!AP202","v":3.0000000000000001E-3},{"$f":"'Financial Model'!AQ202","v":3.0000000000000001E-3},{"$f":"'Financial Model'!AR202","v":3.0000000000000001E-3},{"$f":"'Financial Model'!AS202","v":3.0000000000000001E-3},{"$f":"'Financial Model'!AT202","v":3.0000000000000001E-3},{"$f":"'Financial Model'!AU202","v":3.0000000000000001E-3},{"$f":"'Financial Model'!AV202","v":3.0000000000000001E-3},{"$f":"'Financial Model'!AW202","v":3.0000000000000001E-3},{"$f":"'Financial Model'!AX202","v":3.0000000000000001E-3},{"$f":"'Financial Model'!AY202","v":3.0000000000000001E-3},{"$f":"'Financial Model'!AZ202","v":3.0000000000000001E-3},{"$f":"'Financial Model'!BA202","v":3.0000000000000001E-3},{"$f":"'Financial Model'!BB202","v":3.0000000000000001E-3},{"$f":"'Financial Model'!BC202","v":3.0000000000000001E-3},{"$f":"'Financial Model'!BD202","v":3.0000000000000001E-3},{"$f":"'Financial Model'!BE202","v":3.0000000000000001E-3},{"$f":"'Financial Model'!BF202","v":3.0000000000000001E-3},{"$f":"'Financial Model'!BG202","v":3.0000000000000001E-3},{"$f":"'Financial Model'!BH202","v":3.0000000000000001E-3},{"$f":"'Financial Model'!BI202","v":3.0000000000000001E-3},{"$f":"'Financial Model'!BJ202","v":3.0000000000000001E-3},{"$f":"'Financial Model'!BK202","v":3.0000000000000001E-3},{"$f":"'Financial Model'!BL202","v":3.0000000000000001E-3},{"$f":"'Financial Model'!BM202","v":3.0000000000000001E-3},{"$f":"'Financial Model'!BN202","v":3.0000000000000001E-3},{"$f":"'Financial Model'!BO202","v":3.0000000000000001E-3},{"$f":"'Financial Model'!BP202","v":3.0000000000000001E-3},{"$f":"'Financial Model'!BQ202","v":3.0000000000000001E-3},{"$f":"'Financial Model'!BR202","v":3.0000000000000001E-3},{"$f":"'Financial Model'!BS202","v":3.0000000000000001E-3},{"$f":"'Financial Model'!BT202","v":3.0000000000000001E-3},{"$f":"'Financial Model'!BU202","v":3.0000000000000001E-3},{"$f":"'Financial Model'!BV202","v":3.0000000000000001E-3},{"$f":"'Financial Model'!BW202","v":3.0000000000000001E-3},{"$f":"'Financial Model'!BX202","v":3.0000000000000001E-3},{"$f":"'Financial Model'!BY202","v":3.0000000000000001E-3},{"$f":"'Financial Model'!BZ202","v":3.0000000000000001E-3},{"$f":"'Financial Model'!CA202","v":3.0000000000000001E-3},{"$f":"'Financial Model'!CB202","v":3.0000000000000001E-3},{"$f":"'Financial Model'!CC202","v":3.0000000000000001E-3},{"$f":"'Financial Model'!CD202","v":3.0000000000000001E-3},{"$f":"'Financial Model'!CE202","v":3.0000000000000001E-3},{"$f":"'Financial Model'!CF202","v":3.0000000000000001E-3},{"$f":"'Financial Model'!CG202","v":3.0000000000000001E-3},{"$f":"'Financial Model'!CH202","v":3.0000000000000001E-3},{"$f":"'Financial Model'!CI202","v":3.0000000000000001E-3},{"$f":"'Financial Model'!CJ202","v":3.0000000000000001E-3},{"$f":"'Financial Model'!CK202","v":3.0000000000000001E-3},{"$f":"'Financial Model'!CL202","v":3.0000000000000001E-3},{"$f":"'Financial Model'!CM202","v":3.0000000000000001E-3},{"$f":"'Financial Model'!CN202","v":3.0000000000000001E-3},{"$f":"'Financial Model'!CO202","v":3.0000000000000001E-3},{"$f":"'Financial Model'!CP202","v":3.0000000000000001E-3},{"$f":"'Financial Model'!CQ202","v":3.0000000000000001E-3},{"$f":"'Financial Model'!CR202","v":3.0000000000000001E-3},{"$f":"'Financial Model'!CS202","v":3.0000000000000001E-3},{"$f":"'Financial Model'!CT202","v":3.0000000000000001E-3},{"$f":"'Financial Model'!CU202","v":3.0000000000000001E-3},{"$f":"'Financial Model'!CV202","v":3.0000000000000001E-3},{"$f":"'Financial Model'!CW202","v":3.0000000000000001E-3},{"$f":"'Financial Model'!CX202","v":3.0000000000000001E-3},{"$f":"'Financial Model'!CY202","v":3.0000000000000001E-3},{"$f":"'Financial Model'!CZ202","v":3.0000000000000001E-3},{"$f":"'Financial Model'!DA202","v":3.0000000000000001E-3},{"$f":"'Financial Model'!DB202","v":3.0000000000000001E-3},{"$f":"'Financial Model'!DC202","v":3.0000000000000001E-3},{"$f":"'Financial Model'!DD202","v":3.0000000000000001E-3},{"$f":"'Financial Model'!DE202","v":3.0000000000000001E-3},{"$f":"'Financial Model'!DF202","v":3.0000000000000001E-3},{"$f":"'Financial Model'!DG202","v":3.0000000000000001E-3},{"$f":"'Financial Model'!DH202","v":3.0000000000000001E-3},{"$f":"'Financial Model'!DI202","v":3.0000000000000001E-3},{"$f":"'Financial Model'!DJ202","v":3.0000000000000001E-3},{"$f":"'Financial Model'!DK202","v":3.0000000000000001E-3},{"$f":"'Financial Model'!DL202","v":3.0000000000000001E-3},{"$f":"'Financial Model'!DM202","v":3.0000000000000001E-3},{"$f":"'Financial Model'!DN202","v":3.0000000000000001E-3},{"$f":"'Financial Model'!DO202","v":3.0000000000000001E-3},{"$f":"'Financial Model'!DP202","v":3.0000000000000001E-3},{"$f":"'Financial Model'!DQ202","v":3.0000000000000001E-3},{"$f":"'Financial Model'!DR202","v":3.0000000000000001E-3},{"$f":"'Financial Model'!DS202","v":3.0000000000000001E-3},{"$f":"'Financial Model'!DT202","v":3.0000000000000001E-3},{"$f":"'Financial Model'!DU202","v":3.0000000000000001E-3},{"$f":"'Financial Model'!DV202","v":3.0000000000000001E-3},{"$f":"'Financial Model'!DW202","v":3.0000000000000001E-3},{"$f":"'Financial Model'!DX202","v":3.0000000000000001E-3},{"$f":"'Financial Model'!DY202","v":3.0000000000000001E-3},{"$f":"'Financial Model'!DZ202","v":3.0000000000000001E-3},{"$f":"'Financial Model'!EA202","v":3.0000000000000001E-3},{"$f":"'Financial Model'!EB202","v":3.0000000000000001E-3},{"$f":"'Financial Model'!EC202","v":3.0000000000000001E-3},{"$f":"'Financial Model'!ED202","v":3.0000000000000001E-3},{"$f":"'Financial Model'!EE202","v":3.0000000000000001E-3},{"$f":"'Financial Model'!EF202","v":3.0000000000000001E-3},{"$f":"'Financial Model'!EG202","v":3.0000000000000001E-3},{"$f":"'Financial Model'!EH202","v":3.0000000000000001E-3},{"$f":"'Financial Model'!EI202","v":3.0000000000000001E-3},{"$f":"'Financial Model'!EJ202","v":3.0000000000000001E-3},{"$f":"'Financial Model'!EK202","v":3.0000000000000001E-3},{"$f":"'Financial Model'!EL202","v":3.0000000000000001E-3},{"$f":"'Financial Model'!EM202","v":3.0000000000000001E-3},{"$f":"'Financial Model'!EN202","v":3.0000000000000001E-3},{"$f":"'Financial Model'!EO202","v":3.0000000000000001E-3},{"$f":"'Financial Model'!EP202","v":3.0000000000000001E-3},{"$f":"'Financial Model'!EQ202","v":3.0000000000000001E-3},{"$f":"'Financial Model'!ER202","v":3.0000000000000001E-3},{"$f":"'Financial Model'!ES202","v":3.0000000000000001E-3},{"$f":"'Financial Model'!ET202","v":3.0000000000000001E-3},{"$f":"'Financial Model'!EU202","v":3.0000000000000001E-3},{"$f":"'Financial Model'!EV202","v":3.0000000000000001E-3},{"$f":"'Financial Model'!EW202","v":3.0000000000000001E-3},{"$f":"'Financial Model'!EX202","v":3.0000000000000001E-3},{"$f":"'Financial Model'!EY202","v":3.0000000000000001E-3},{"$f":"'Financial Model'!EZ202","v":3.0000000000000001E-3},{"$f":"'Financial Model'!FA202","v":3.0000000000000001E-3},{"$f":"'Financial Model'!FB202","v":3.0000000000000001E-3},{"$f":"'Financial Model'!FC202","v":3.0000000000000001E-3},{"$f":"'Financial Model'!FD202","v":3.0000000000000001E-3},{"$f":"'Financial Model'!FE202","v":3.0000000000000001E-3},{"$f":"'Financial Model'!FF202","v":3.0000000000000001E-3},{"$f":"'Financial Model'!FG202","v":3.0000000000000001E-3},{"$f":"'Financial Model'!FH202","v":3.0000000000000001E-3},{"$f":"'Financial Model'!FI202","v":3.0000000000000001E-3},{"$f":"'Financial Model'!FJ202","v":3.0000000000000001E-3},{"$f":"'Financial Model'!FK202","v":3.0000000000000001E-3},{"$f":"'Financial Model'!FL202","v":3.0000000000000001E-3},{"$f":"'Financial Model'!FM202","v":3.0000000000000001E-3},{"$f":"'Financial Model'!FN202","v":3.0000000000000001E-3},{"$f":"'Financial Model'!FO202","v":3.0000000000000001E-3},{"$f":"'Financial Model'!FP202","v":3.0000000000000001E-3},{"$f":"'Financial Model'!FQ202","v":3.0000000000000001E-3},{"$f":"'Financial Model'!FR202","v":3.0000000000000001E-3},{"$f":"'Financial Model'!FS202","v":3.0000000000000001E-3},{"$f":"'Financial Model'!FT202","v":3.0000000000000001E-3},{"$f":"'Financial Model'!FU202","v":3.0000000000000001E-3},{"$f":"'Financial Model'!FV202","v":3.0000000000000001E-3},{"$f":"'Financial Model'!FW202","v":3.0000000000000001E-3},{"$f":"'Financial Model'!FX202","v":3.0000000000000001E-3},{"$f":"'Financial Model'!FY202","v":3.0000000000000001E-3},{"$f":"'Financial Model'!FZ202","v":3.0000000000000001E-3},{"$f":"'Financial Model'!GA202","v":3.0000000000000001E-3},{"$f":"'Financial Model'!GB202","v":3.0000000000000001E-3},{"$f":"'Financial Model'!GC202","v":3.0000000000000001E-3},{"$f":"'Financial Model'!GD202","v":3.0000000000000001E-3},{"$f":"'Financial Model'!GE202","v":3.0000000000000001E-3},{"$f":"'Financial Model'!GF202","v":3.0000000000000001E-3},{"$f":"'Financial Model'!GG202","v":3.0000000000000001E-3},{"$f":"'Financial Model'!GH202","v":3.0000000000000001E-3},{"$f":"'Financial Model'!GI202","v":3.0000000000000001E-3},{"$f":"'Financial Model'!GJ202","v":3.0000000000000001E-3},{"$f":"'Financial Model'!GK202","v":3.0000000000000001E-3},{"$f":"'Financial Model'!GL202","v":3.0000000000000001E-3},{"$f":"'Financial Model'!GM202","v":3.0000000000000001E-3},{"$f":"'Financial Model'!GN202","v":3.0000000000000001E-3},{"$f":"'Financial Model'!GO202","v":3.0000000000000001E-3},{"$f":"'Financial Model'!GP202","v":3.0000000000000001E-3},{"$f":"'Financial Model'!GQ202","v":3.0000000000000001E-3},{"$f":"'Financial Model'!GR202","v":3.0000000000000001E-3},{"$f":"'Financial Model'!GS202","v":3.0000000000000001E-3},{"$f":"'Financial Model'!GT202","v":3.0000000000000001E-3},{"$f":"'Financial Model'!GU202","v":3.0000000000000001E-3},{"$f":"'Financial Model'!GV202","v":3.0000000000000001E-3},{"$f":"'Financial Model'!GW202","v":3.0000000000000001E-3},{"$f":"'Financial Model'!GX202","v":3.0000000000000001E-3},{"$f":"'Financial Model'!GY202","v":3.0000000000000001E-3},{"$f":"'Financial Model'!GZ202","v":3.0000000000000001E-3},{"$f":"'Financial Model'!HA202","v":3.0000000000000001E-3},{"$f":"'Financial Model'!HB202","v":3.0000000000000001E-3},{"$f":"'Financial Model'!HC202","v":3.0000000000000001E-3},{"$f":"'Financial Model'!HD202","v":3.0000000000000001E-3},{"$f":"'Financial Model'!HE202","v":3.0000000000000001E-3},{"$f":"'Financial Model'!HF202","v":3.0000000000000001E-3},{"$f":"'Financial Model'!HG202","v":3.0000000000000001E-3},{"$f":"'Financial Model'!HH202","v":3.0000000000000001E-3},{"$f":"'Financial Model'!HI202","v":3.0000000000000001E-3},{"$f":"'Financial Model'!HJ202","v":3.0000000000000001E-3},{"$f":"'Financial Model'!HK202","v":3.0000000000000001E-3},{"$f":"'Financial Model'!HL202","v":3.0000000000000001E-3},{"$f":"'Financial Model'!HM202","v":3.0000000000000001E-3},{"$f":"'Financial Model'!HN202","v":3.0000000000000001E-3},{"$f":"'Financial Model'!HO202","v":3.0000000000000001E-3},{"$f":"'Financial Model'!HP202","v":3.0000000000000001E-3},{"$f":"'Financial Model'!HQ202","v":3.0000000000000001E-3},{"$f":"'Financial Model'!HR202","v":3.0000000000000001E-3},{"$f":"'Financial Model'!HS202","v":3.0000000000000001E-3},{"$f":"'Financial Model'!HT202","v":3.0000000000000001E-3},{"$f":"'Financial Model'!HU202","v":3.0000000000000001E-3},{"$f":"'Financial Model'!HV202","v":3.0000000000000001E-3},{"$f":"'Financial Model'!HW202","v":3.0000000000000001E-3},{"$f":"'Financial Model'!HX202","v":3.0000000000000001E-3},{"$f":"'Financial Model'!HY202","v":3.0000000000000001E-3},{"$f":"'Financial Model'!HZ202","v":3.0000000000000001E-3},{"$f":"'Financial Model'!IA202","v":3.0000000000000001E-3},{"$f":"'Financial Model'!IB202","v":3.0000000000000001E-3},{"$f":"'Financial Model'!IC202","v":3.0000000000000001E-3},{"$f":"'Financial Model'!ID202","v":3.0000000000000001E-3},{"$f":"'Financial Model'!IE202","v":3.0000000000000001E-3},{"$f":"'Financial Model'!IF202","v":3.0000000000000001E-3},{"$f":"'Financial Model'!IG202","v":3.0000000000000001E-3},{"$f":"'Financial Model'!IH202","v":3.0000000000000001E-3},{"$f":"'Financial Model'!II202","v":3.0000000000000001E-3},{"$f":"'Financial Model'!IJ202","v":3.0000000000000001E-3},{"$f":"'Financial Model'!IK202","v":3.0000000000000001E-3},{"$f":"'Financial Model'!IL202","v":3.0000000000000001E-3},{"$f":"'Financial Model'!IM202","v":3.0000000000000001E-3},{"$f":"'Financial Model'!IN202","v":3.0000000000000001E-3},{"$f":"'Financial Model'!IO202","v":3.0000000000000001E-3},{"$f":"'Financial Model'!IP202","v":3.0000000000000001E-3},{"$f":"'Financial Model'!IQ202","v":3.0000000000000001E-3},{"$f":"'Financial Model'!IR202","v":3.0000000000000001E-3},{"$f":"'Financial Model'!IS202","v":3.0000000000000001E-3},{"$f":"'Financial Model'!IT202","v":3.0000000000000001E-3},{"$f":"'Financial Model'!IU202","v":3.0000000000000001E-3},{"$f":"'Financial Model'!IV202","v":3.0000000000000001E-3},{"$f":"'Financial Model'!IW202","v":3.0000000000000001E-3},{"$f":"'Financial Model'!IX202","v":3.0000000000000001E-3},{"$f":"'Financial Model'!IY202","v":3.0000000000000001E-3},{"$f":"'Financial Model'!IZ202","v":3.0000000000000001E-3},{"$f":"'Financial Model'!JA202","v":3.0000000000000001E-3},{"$f":"'Financial Model'!JB202","v":3.0000000000000001E-3},{"$f":"'Financial Model'!JC202","v":3.0000000000000001E-3},{"$f":"'Financial Model'!JD202","v":3.0000000000000001E-3},{"$f":"'Financial Model'!JE202","v":3.0000000000000001E-3},{"$f":"'Financial Model'!JF202","v":3.0000000000000001E-3},{"$f":"'Financial Model'!JG202","v":3.0000000000000001E-3},{"$f":"'Financial Model'!JH202","v":3.0000000000000001E-3},{"$f":"'Financial Model'!JI202","v":3.0000000000000001E-3},{"$f":"'Financial Model'!JJ202","v":3.0000000000000001E-3},{"$f":"'Financial Model'!JK202","v":3.0000000000000001E-3},{"$f":"'Financial Model'!JL202","v":3.0000000000000001E-3},{"$f":"'Financial Model'!JM202","v":3.0000000000000001E-3},{"$f":"'Financial Model'!JN202","v":3.0000000000000001E-3},{"$f":"'Financial Model'!JO202","v":3.0000000000000001E-3},{"$f":"'Financial Model'!JP202","v":3.0000000000000001E-3},{"$f":"'Financial Model'!JQ202","v":3.0000000000000001E-3},{"$f":"'Financial Model'!JR202","v":3.0000000000000001E-3},{"$f":"'Financial Model'!JS202","v":3.0000000000000001E-3},{"$f":"'Financial Model'!JT202","v":3.0000000000000001E-3},{"$f":"'Financial Model'!JU202","v":3.0000000000000001E-3},{"$f":"'Financial Model'!JV202","v":3.0000000000000001E-3},{"$f":"'Financial Model'!JW202","v":3.0000000000000001E-3},{"$f":"'Financial Model'!JX202","v":3.0000000000000001E-3},{"$f":"'Financial Model'!JY202","v":3.0000000000000001E-3},{"$f":"'Financial Model'!JZ202","v":3.0000000000000001E-3},{"$f":"'Financial Model'!KA202","v":3.0000000000000001E-3},{"$f":"'Financial Model'!KB202","v":3.0000000000000001E-3},{"$f":"'Financial Model'!KC202","v":3.0000000000000001E-3},{"$f":"'Financial Model'!KD202","v":3.0000000000000001E-3},{"$f":"'Financial Model'!KE202","v":3.0000000000000001E-3},{"$f":"'Financial Model'!KF202","v":3.0000000000000001E-3},{"$f":"'Financial Model'!KG202","v":3.0000000000000001E-3},{"$f":"'Financial Model'!KH202","v":3.0000000000000001E-3},{"$f":"'Financial Model'!KI202","v":3.0000000000000001E-3},{"$f":"'Financial Model'!KJ202","v":3.0000000000000001E-3},{"$f":"'Financial Model'!KK202","v":3.0000000000000001E-3},{"$f":"'Financial Model'!KL202","v":3.0000000000000001E-3},{"$f":"'Financial Model'!KM202","v":3.0000000000000001E-3},{"$f":"'Financial Model'!KN202","v":3.0000000000000001E-3},{"$f":"'Financial Model'!KO202","v":3.0000000000000001E-3},{"$f":"'Financial Model'!KP202","v":3.0000000000000001E-3},{"$f":"'Financial Model'!KQ202","v":3.0000000000000001E-3},{"$f":"'Financial Model'!KR202","v":3.0000000000000001E-3},{"$f":"'Financial Model'!KS202","v":3.0000000000000001E-3},{"$f":"'Financial Model'!KT202","v":3.0000000000000001E-3},{"$f":"'Financial Model'!KU202","v":3.0000000000000001E-3},{"$f":"'Financial Model'!KV202","v":3.0000000000000001E-3},{"$f":"'Financial Model'!KW202","v":3.0000000000000001E-3},{"$f":"'Financial Model'!KX202","v":3.0000000000000001E-3},{"$f":"'Financial Model'!KY202","v":3.0000000000000001E-3},{"$f":"'Financial Model'!KZ202","v":3.0000000000000001E-3},{"$f":"'Financial Model'!LA202","v":3.0000000000000001E-3},{"$f":"'Financial Model'!LB202","v":3.0000000000000001E-3},{"$f":"'Financial Model'!LC202","v":3.0000000000000001E-3},{"$f":"'Financial Model'!LD202","v":3.0000000000000001E-3},{"$f":"'Financial Model'!LE202","v":3.0000000000000001E-3},{"$f":"'Financial Model'!LF202","v":3.0000000000000001E-3},{"$f":"'Financial Model'!LG202","v":3.0000000000000001E-3},{"$f":"'Financial Model'!LH202","v":3.0000000000000001E-3},{"$f":"'Financial Model'!LI202","v":3.0000000000000001E-3},{"$f":"'Financial Model'!LJ202","v":3.0000000000000001E-3},{"$f":"'Financial Model'!LK202","v":3.0000000000000001E-3},{"$f":"'Financial Model'!LL202","v":3.0000000000000001E-3},{"$f":"'Financial Model'!LM202","v":3.0000000000000001E-3},{"$f":"'Financial Model'!LN202","v":3.0000000000000001E-3},{"$f":"'Financial Model'!LO202","v":3.0000000000000001E-3},{"$f":"'Financial Model'!LP202","v":3.0000000000000001E-3},{"$f":"'Financial Model'!LQ202","v":3.0000000000000001E-3},{"$f":"'Financial Model'!LR202","v":3.0000000000000001E-3},{"$f":"'Financial Model'!LS202","v":3.0000000000000001E-3},{"$f":"'Financial Model'!LT202","v":3.0000000000000001E-3},{"$f":"'Financial Model'!LU202","v":3.0000000000000001E-3},{"$f":"'Financial Model'!LV202","v":3.0000000000000001E-3},{"$f":"'Financial Model'!LW202","v":3.0000000000000001E-3},{"$f":"'Financial Model'!LX202","v":3.0000000000000001E-3},{"$f":"'Financial Model'!LY202","v":3.0000000000000001E-3},{"$f":"'Financial Model'!LZ202","v":3.0000000000000001E-3},{"$f":"'Financial Model'!MA202","v":3.0000000000000001E-3},{"$f":"'Financial Model'!MB202","v":3.0000000000000001E-3},{"$f":"'Financial Model'!MC202","v":3.0000000000000001E-3},{"$f":"'Financial Model'!MD202","v":3.0000000000000001E-3},{"$f":"'Financial Model'!ME202","v":3.0000000000000001E-3},{"$f":"'Financial Model'!MF202","v":3.0000000000000001E-3},{"$f":"'Financial Model'!MG202","v":3.0000000000000001E-3},{"$f":"'Financial Model'!MH202","v":3.0000000000000001E-3},{"$f":"'Financial Model'!MI202","v":3.0000000000000001E-3},{"$f":"'Financial Model'!MJ202","v":3.0000000000000001E-3},{"$f":"'Financial Model'!MK202","v":3.0000000000000001E-3},{"$f":"'Financial Model'!ML202","v":3.0000000000000001E-3},{"$f":"'Financial Model'!MM202","v":3.0000000000000001E-3},{"$f":"'Financial Model'!MN202","v":3.0000000000000001E-3},{"$f":"'Financial Model'!MO202","v":3.0000000000000001E-3},{"$f":"'Financial Model'!MP202","v":3.0000000000000001E-3},{"$f":"'Financial Model'!MQ202","v":3.0000000000000001E-3},{"$f":"'Financial Model'!MR202","v":3.0000000000000001E-3},{"$f":"'Financial Model'!MS202","v":3.0000000000000001E-3},{"$f":"'Financial Model'!MT202","v":3.0000000000000001E-3},{"$f":"'Financial Model'!MU202","v":3.0000000000000001E-3},{"$f":"'Financial Model'!MV202","v":3.0000000000000001E-3},{"$f":"'Financial Model'!MW202","v":3.0000000000000001E-3},{"$f":"'Financial Model'!MX202","v":3.0000000000000001E-3},{"$f":"'Financial Model'!MY202","v":3.0000000000000001E-3},{"$f":"'Financial Model'!MZ202","v":3.0000000000000001E-3},{"$f":"'Financial Model'!NA202","v":3.0000000000000001E-3},{"$f":"'Financial Model'!NB202","v":3.0000000000000001E-3},{"$f":"'Financial Model'!NC202","v":3.0000000000000001E-3},{"$f":"'Financial Model'!ND202","v":3.0000000000000001E-3},{"$f":"'Financial Model'!NE202","v":3.0000000000000001E-3},{"$f":"'Financial Model'!NF202","v":3.0000000000000001E-3},{"$f":"'Financial Model'!NG202","v":3.0000000000000001E-3},{"$f":"'Financial Model'!NH202","v":3.0000000000000001E-3},{"$f":"'Financial Model'!NI202","v":3.0000000000000001E-3},{"$f":"'Financial Model'!NJ202","v":3.0000000000000001E-3},{"$f":"'Financial Model'!NK202","v":3.0000000000000001E-3},{"$f":"'Financial Model'!NL202","v":3.0000000000000001E-3},{"$f":"'Financial Model'!NM202","v":3.0000000000000001E-3},{"$f":"'Financial Model'!NN202","v":3.0000000000000001E-3},{"$f":"'Financial Model'!NO202","v":3.0000000000000001E-3},{"$f":"'Financial Model'!NP202","v":3.0000000000000001E-3},{"$f":"'Financial Model'!NQ202","v":3.0000000000000001E-3},{"$f":"'Financial Model'!NR202","v":3.0000000000000001E-3},{"$f":"'Financial Model'!NS202","v":3.0000000000000001E-3},{"$f":"'Financial Model'!NT202","v":3.0000000000000001E-3},{"$f":"'Financial Model'!NU202","v":3.0000000000000001E-3},{"$f":"'Financial Model'!NV202","v":3.0000000000000001E-3},{"$f":"'Financial Model'!NW202","v":3.0000000000000001E-3},{"$f":"'Financial Model'!NX202","v":3.0000000000000001E-3},{"$f":"'Financial Model'!NY202","v":3.0000000000000001E-3},{"$f":"'Financial Model'!NZ202","v":3.0000000000000001E-3},{"$f":"'Financial Model'!OA202","v":3.0000000000000001E-3},{"$f":"'Financial Model'!OB202","v":3.0000000000000001E-3},{"$f":"'Financial Model'!OC202","v":3.0000000000000001E-3},{"$f":"'Financial Model'!OD202","v":3.0000000000000001E-3},{"$f":"'Financial Model'!OE202","v":3.0000000000000001E-3},{"$f":"'Financial Model'!OF202","v":3.0000000000000001E-3},{"$f":"'Financial Model'!OG202","v":3.0000000000000001E-3},{"$f":"'Financial Model'!OH202","v":3.0000000000000001E-3},{"$f":"'Financial Model'!OI202","v":3.0000000000000001E-3},{"$f":"'Financial Model'!OJ202","v":3.0000000000000001E-3},{"$f":"'Financial Model'!OK202","v":3.0000000000000001E-3},{"$f":"'Financial Model'!OL202","v":3.0000000000000001E-3},{"$f":"'Financial Model'!OM202","v":3.0000000000000001E-3},{"$f":"'Financial Model'!ON202","v":3.0000000000000001E-3},{"$f":"'Financial Model'!OO202","v":3.0000000000000001E-3},{"$f":"'Financial Model'!OP202","v":3.0000000000000001E-3},{"$f":"'Financial Model'!OQ202","v":3.0000000000000001E-3},{"$f":"'Financial Model'!OR202","v":3.0000000000000001E-3},{"$f":"'Financial Model'!OS202","v":3.0000000000000001E-3},{"$f":"'Financial Model'!OT202","v":3.0000000000000001E-3},{"$f":"'Financial Model'!OU202","v":3.0000000000000001E-3},{"$f":"'Financial Model'!OV202","v":3.0000000000000001E-3},{"$f":"'Financial Model'!OW202","v":3.0000000000000001E-3},{"$f":"'Financial Model'!OX202","v":3.0000000000000001E-3},{"$f":"'Financial Model'!OY202","v":3.0000000000000001E-3},{"$f":"'Financial Model'!OZ202","v":3.0000000000000001E-3},{"$f":"'Financial Model'!PA202","v":3.0000000000000001E-3},{"$f":"'Financial Model'!PB202","v":3.0000000000000001E-3},{"$f":"'Financial Model'!PC202","v":3.0000000000000001E-3},{"$f":"'Financial Model'!PD202","v":3.0000000000000001E-3},{"$f":"'Financial Model'!PE202","v":3.0000000000000001E-3},{"$f":"'Financial Model'!PF202","v":3.0000000000000001E-3},{"$f":"'Financial Model'!PG202","v":3.0000000000000001E-3},{"$f":"'Financial Model'!PH202","v":3.0000000000000001E-3},{"$f":"'Financial Model'!PI202","v":3.0000000000000001E-3},{"$f":"'Financial Model'!PJ202","v":3.0000000000000001E-3},{"$f":"'Financial Model'!PK202","v":3.0000000000000001E-3},{"$f":"'Financial Model'!PL202","v":3.0000000000000001E-3},{"$f":"'Financial Model'!PM202","v":3.0000000000000001E-3},{"$f":"'Financial Model'!PN202","v":3.0000000000000001E-3},{"$f":"'Financial Model'!PO202","v":3.0000000000000001E-3},{"$f":"'Financial Model'!PP202","v":3.0000000000000001E-3},{"$f":"'Financial Model'!PQ202","v":3.0000000000000001E-3},{"$f":"'Financial Model'!PR202","v":3.0000000000000001E-3},{"$f":"'Financial Model'!PS202","v":3.0000000000000001E-3},{"$f":"'Financial Model'!PT202","v":3.0000000000000001E-3}]
[null,null,"Repayment_Flag",null,"InputS",{"$f":"'Financial Model'!K93*1","v":0},{"$f":"'Financial Model'!L93*1","v":1},{"$f":"'Financial Model'!M93*1","v":1},{"$f":"'Financial Model'!N93*1","v":1},{"$f":"'Financial Model'!O93*1","v":1},{"$f":"'Financial Model'!P93*1","v":1},{"$f":"'Financial Model'!Q93*1","v":1},{"$f":"'Financial Model'!R93*1","v":1},{"$f":"'Financial Model'!S93*1","v":1},{"$f":"'Financial Model'!T93*1","v":1},{"$f":"'Financial Model'!U93*1","v":1},{"$f":"'Financial Model'!V93*1","v":1},{"$f":"'Financial Model'!W93*1","v":1},{"$f":"'Financial Model'!X93*1","v":1},{"$f":"'Financial Model'!Y93*1","v":1},{"$f":"'Financial Model'!Z93*1","v":1},{"$f":"'Financial Model'!AA93*1","v":1},{"$f":"'Financial Model'!AB93*1","v":1},{"$f":"'Financial Model'!AC93*1","v":1},{"$f":"'Financial Model'!AD93*1","v":1},{"$f":"'Financial Model'!AE93*1","v":1},{"$f":"'Financial Model'!AF93*1","v":0},{"$f":"'Financial Model'!AG93*1","v":0},{"$f":"'Financial Model'!AH93*1","v":0},{"$f":"'Financial Model'!AI93*1","v":0},{"$f":"'Financial Model'!AJ93*1","v":0},{"$f":"'Financial Model'!AK93*1","v":0},{"$f":"'Financial Model'!AL93*1","v":0},{"$f":"'Financial Model'!AM93*1","v":0},{"$f":"'Financial Model'!AN93*1","v":0},{"$f":"'Financial Model'!AO93*1","v":0},{"$f":"'Financial Model'!AP93*1","v":0},{"$f":"'Financial Model'!AQ93*1","v":0},{"$f":"'Financial Model'!AR93*1","v":0},{"$f":"'Financial Model'!AS93*1","v":0},{"$f":"'Financial Model'!AT93*1","v":0},{"$f":"'Financial Model'!AU93*1","v":0},{"$f":"'Financial Model'!AV93*1","v":0},{"$f":"'Financial Model'!AW93*1","v":0},{"$f":"'Financial Model'!AX93*1","v":0},{"$f":"'Financial Model'!AY93*1","v":0},{"$f":"'Financial Model'!AZ93*1","v":0},{"$f":"'Financial Model'!BA93*1","v":0},{"$f":"'Financial Model'!BB93*1","v":0},{"$f":"'Financial Model'!BC93*1","v":0},{"$f":"'Financial Model'!BD93*1","v":0},{"$f":"'Financial Model'!BE93*1","v":0},{"$f":"'Financial Model'!BF93*1","v":0},{"$f":"'Financial Model'!BG93*1","v":0},{"$f":"'Financial Model'!BH93*1","v":0},{"$f":"'Financial Model'!BI93*1","v":0},{"$f":"'Financial Model'!BJ93*1","v":0},{"$f":"'Financial Model'!BK93*1","v":0},{"$f":"'Financial Model'!BL93*1","v":0},{"$f":"'Financial Model'!BM93*1","v":0},{"$f":"'Financial Model'!BN93*1","v":0},{"$f":"'Financial Model'!BO93*1","v":0},{"$f":"'Financial Model'!BP93*1","v":0},{"$f":"'Financial Model'!BQ93*1","v":0},{"$f":"'Financial Model'!BR93*1","v":0},{"$f":"'Financial Model'!BS93*1","v":0},{"$f":"'Financial Model'!BT93*1","v":0},{"$f":"'Financial Model'!BU93*1","v":0},{"$f":"'Financial Model'!BV93*1","v":0},{"$f":"'Financial Model'!BW93*1","v":0},{"$f":"'Financial Model'!BX93*1","v":0},{"$f":"'Financial Model'!BY93*1","v":0},{"$f":"'Financial Model'!BZ93*1","v":0},{"$f":"'Financial Model'!CA93*1","v":0},{"$f":"'Financial Model'!CB93*1","v":0},{"$f":"'Financial Model'!CC93*1","v":0},{"$f":"'Financial Model'!CD93*1","v":0},{"$f":"'Financial Model'!CE93*1","v":0},{"$f":"'Financial Model'!CF93*1","v":0},{"$f":"'Financial Model'!CG93*1","v":0},{"$f":"'Financial Model'!CH93*1","v":0},{"$f":"'Financial Model'!CI93*1","v":0},{"$f":"'Financial Model'!CJ93*1","v":0},{"$f":"'Financial Model'!CK93*1","v":0},{"$f":"'Financial Model'!CL93*1","v":0},{"$f":"'Financial Model'!CM93*1","v":0},{"$f":"'Financial Model'!CN93*1","v":0},{"$f":"'Financial Model'!CO93*1","v":0},{"$f":"'Financial Model'!CP93*1","v":0},{"$f":"'Financial Model'!CQ93*1","v":0},{"$f":"'Financial Model'!CR93*1","v":0},{"$f":"'Financial Model'!CS93*1","v":0},{"$f":"'Financial Model'!CT93*1","v":0},{"$f":"'Financial Model'!CU93*1","v":0},{"$f":"'Financial Model'!CV93*1","v":0},{"$f":"'Financial Model'!CW93*1","v":0},{"$f":"'Financial Model'!CX93*1","v":0},{"$f":"'Financial Model'!CY93*1","v":0},{"$f":"'Financial Model'!CZ93*1","v":0},{"$f":"'Financial Model'!DA93*1","v":0},{"$f":"'Financial Model'!DB93*1","v":0},{"$f":"'Financial Model'!DC93*1","v":0},{"$f":"'Financial Model'!DD93*1","v":0},{"$f":"'Financial Model'!DE93*1","v":0},{"$f":"'Financial Model'!DF93*1","v":0},{"$f":"'Financial Model'!DG93*1","v":0},{"$f":"'Financial Model'!DH93*1","v":0},{"$f":"'Financial Model'!DI93*1","v":0},{"$f":"'Financial Model'!DJ93*1","v":0},{"$f":"'Financial Model'!DK93*1","v":0},{"$f":"'Financial Model'!DL93*1","v":0},{"$f":"'Financial Model'!DM93*1","v":0},{"$f":"'Financial Model'!DN93*1","v":0},{"$f":"'Financial Model'!DO93*1","v":0},{"$f":"'Financial Model'!DP93*1","v":0},{"$f":"'Financial Model'!DQ93*1","v":0},{"$f":"'Financial Model'!DR93*1","v":0},{"$f":"'Financial Model'!DS93*1","v":0},{"$f":"'Financial Model'!DT93*1","v":0},{"$f":"'Financial Model'!DU93*1","v":0},{"$f":"'Financial Model'!DV93*1","v":0},{"$f":"'Financial Model'!DW93*1","v":0},{"$f":"'Financial Model'!DX93*1","v":0},{"$f":"'Financial Model'!DY93*1","v":0},{"$f":"'Financial Model'!DZ93*1","v":0},{"$f":"'Financial Model'!EA93*1","v":0},{"$f":"'Financial Model'!EB93*1","v":0},{"$f":"'Financial Model'!EC93*1","v":0},{"$f":"'Financial Model'!ED93*1","v":0},{"$f":"'Financial Model'!EE93*1","v":0},{"$f":"'Financial Model'!EF93*1","v":0},{"$f":"'Financial Model'!EG93*1","v":0},{"$f":"'Financial Model'!EH93*1","v":0},{"$f":"'Financial Model'!EI93*1","v":0},{"$f":"'Financial Model'!EJ93*1","v":0},{"$f":"'Financial Model'!EK93*1","v":0},{"$f":"'Financial Model'!EL93*1","v":0},{"$f":"'Financial Model'!EM93*1","v":0},{"$f":"'Financial Model'!EN93*1","v":0},{"$f":"'Financial Model'!EO93*1","v":0},{"$f":"'Financial Model'!EP93*1","v":0},{"$f":"'Financial Model'!EQ93*1","v":0},{"$f":"'Financial Model'!ER93*1","v":0},{"$f":"'Financial Model'!ES93*1","v":0},{"$f":"'Financial Model'!ET93*1","v":0},{"$f":"'Financial Model'!EU93*1","v":0},{"$f":"'Financial Model'!EV93*1","v":0},{"$f":"'Financial Model'!EW93*1","v":0},{"$f":"'Financial Model'!EX93*1","v":0},{"$f":"'Financial Model'!EY93*1","v":0},{"$f":"'Financial Model'!EZ93*1","v":0},{"$f":"'Financial Model'!FA93*1","v":0},{"$f":"'Financial Model'!FB93*1","v":0},{"$f":"'Financial Model'!FC93*1","v":0},{"$f":"'Financial Model'!FD93*1","v":0},{"$f":"'Financial Model'!FE93*1","v":0},{"$f":"'Financial Model'!FF93*1","v":0},{"$f":"'Financial Model'!FG93*1","v":0},{"$f":"'Financial Model'!FH93*1","v":0},{"$f":"'Financial Model'!FI93*1","v":0},{"$f":"'Financial Model'!FJ93*1","v":0},{"$f":"'Financial Model'!FK93*1","v":0},{"$f":"'Financial Model'!FL93*1","v":0},{"$f":"'Financial Model'!FM93*1","v":0},{"$f":"'Financial Model'!FN93*1","v":0},{"$f":"'Financial Model'!FO93*1","v":0},{"$f":"'Financial Model'!FP93*1","v":0},{"$f":"'Financial Model'!FQ93*1","v":0},{"$f":"'Financial Model'!FR93*1","v":0},{"$f":"'Financial Model'!FS93*1","v":0},{"$f":"'Financial Model'!FT93*1","v":0},{"$f":"'Financial Model'!FU93*1","v":0},{"$f":"'Financial Model'!FV93*1","v":0},{"$f":"'Financial Model'!FW93*1","v":0},{"$f":"'Financial Model'!FX93*1","v":0},{"$f":"'Financial Model'!FY93*1","v":0},{"$f":"'Financial Model'!FZ93*1","v":0},{"$f":"'Financial Model'!GA93*1","v":0},{"$f":"'Financial Model'!GB93*1","v":0},{"$f":"'Financial Model'!GC93*1","v":0},{"$f":"'Financial Model'!GD93*1","v":0},{"$f":"'Financial Model'!GE93*1","v":0},{"$f":"'Financial Model'!GF93*1","v":0},{"$f":"'Financial Model'!GG93*1","v":0},{"$f":"'Financial Model'!GH93*1","v":0},{"$f":"'Financial Model'!GI93*1","v":0},{"$f":"'Financial Model'!GJ93*1","v":0},{"$f":"'Financial Model'!GK93*1","v":0},{"$f":"'Financial Model'!GL93*1","v":0},{"$f":"'Financial Model'!GM93*1","v":0},{"$f":"'Financial Model'!GN93*1","v":0},{"$f":"'Financial Model'!GO93*1","v":0},{"$f":"'Financial Model'!GP93*1","v":0},{"$f":"'Financial Model'!GQ93*1","v":0},{"$f":"'Financial Model'!GR93*1","v":0},{"$f":"'Financial Model'!GS93*1","v":0},{"$f":"'Financial Model'!GT93*1","v":0},{"$f":"'Financial Model'!GU93*1","v":0},{"$f":"'Financial Model'!GV93*1","v":0},{"$f":"'Financial Model'!GW93*1","v":0},{"$f":"'Financial Model'!GX93*1","v":0},{"$f":"'Financial Model'!GY93*1","v":0},{"$f":"'Financial Model'!GZ93*1","v":0},{"$f":"'Financial Model'!HA93*1","v":0},{"$f":"'Financial Model'!HB93*1","v":0},{"$f":"'Financial Model'!HC93*1","v":0},{"$f":"'Financial Model'!HD93*1","v":0},{"$f":"'Financial Model'!HE93*1","v":0},{"$f":"'Financial Model'!HF93*1","v":0},{"$f":"'Financial Model'!HG93*1","v":0},{"$f":"'Financial Model'!HH93*1","v":0},{"$f":"'Financial Model'!HI93*1","v":0},{"$f":"'Financial Model'!HJ93*1","v":0},{"$f":"'Financial Model'!HK93*1","v":0},{"$f":"'Financial Model'!HL93*1","v":0},{"$f":"'Financial Model'!HM93*1","v":0},{"$f":"'Financial Model'!HN93*1","v":0},{"$f":"'Financial Model'!HO93*1","v":0},{"$f":"'Financial Model'!HP93*1","v":0},{"$f":"'Financial Model'!HQ93*1","v":0},{"$f":"'Financial Model'!HR93*1","v":0},{"$f":"'Financial Model'!HS93*1","v":0},{"$f":"'Financial Model'!HT93*1","v":0},{"$f":"'Financial Model'!HU93*1","v":0},{"$f":"'Financial Model'!HV93*1","v":0},{"$f":"'Financial Model'!HW93*1","v":0},{"$f":"'Financial Model'!HX93*1","v":0},{"$f":"'Financial Model'!HY93*1","v":0},{"$f":"'Financial Model'!HZ93*1","v":0},{"$f":"'Financial Model'!IA93*1","v":0},{"$f":"'Financial Model'!IB93*1","v":0},{"$f":"'Financial Model'!IC93*1","v":0},{"$f":"'Financial Model'!ID93*1","v":0},{"$f":"'Financial Model'!IE93*1","v":0},{"$f":"'Financial Model'!IF93*1","v":0},{"$f":"'Financial Model'!IG93*1","v":0},{"$f":"'Financial Model'!IH93*1","v":0},{"$f":"'Financial Model'!II93*1","v":0},{"$f":"'Financial Model'!IJ93*1","v":0},{"$f":"'Financial Model'!IK93*1","v":0},{"$f":"'Financial Model'!IL93*1","v":0},{"$f":"'Financial Model'!IM93*1","v":0},{"$f":"'Financial Model'!IN93*1","v":0},{"$f":"'Financial Model'!IO93*1","v":0},{"$f":"'Financial Model'!IP93*1","v":0},{"$f":"'Financial Model'!IQ93*1","v":0},{"$f":"'Financial Model'!IR93*1","v":0},{"$f":"'Financial Model'!IS93*1","v":0},{"$f":"'Financial Model'!IT93*1","v":0},{"$f":"'Financial Model'!IU93*1","v":0},{"$f":"'Financial Model'!IV93*1","v":0},{"$f":"'Financial Model'!IW93*1","v":0},{"$f":"'Financial Model'!IX93*1","v":0},{"$f":"'Financial Model'!IY93*1","v":0},{"$f":"'Financial Model'!IZ93*1","v":0},{"$f":"'Financial Model'!JA93*1","v":0},{"$f":"'Financial Model'!JB93*1","v":0},{"$f":"'Financial Model'!JC93*1","v":0},{"$f":"'Financial Model'!JD93*1","v":0},{"$f":"'Financial Model'!JE93*1","v":0},{"$f":"'Financial Model'!JF93*1","v":0},{"$f":"'Financial Model'!JG93*1","v":0},{"$f":"'Financial Model'!JH93*1","v":0},{"$f":"'Financial Model'!JI93*1","v":0},{"$f":"'Financial Model'!JJ93*1","v":0},{"$f":"'Financial Model'!JK93*1","v":0},{"$f":"'Financial Model'!JL93*1","v":0},{"$f":"'Financial Model'!JM93*1","v":0},{"$f":"'Financial Model'!JN93*1","v":0},{"$f":"'Financial Model'!JO93*1","v":0},{"$f":"'Financial Model'!JP93*1","v":0},{"$f":"'Financial Model'!JQ93*1","v":0},{"$f":"'Financial Model'!JR93*1","v":0},{"$f":"'Financial Model'!JS93*1","v":0},{"$f":"'Financial Model'!JT93*1","v":0},{"$f":"'Financial Model'!JU93*1","v":0},{"$f":"'Financial Model'!JV93*1","v":0},{"$f":"'Financial Model'!JW93*1","v":0},{"$f":"'Financial Model'!JX93*1","v":0},{"$f":"'Financial Model'!JY93*1","v":0},{"$f":"'Financial Model'!JZ93*1","v":0},{"$f":"'Financial Model'!KA93*1","v":0},{"$f":"'Financial Model'!KB93*1","v":0},{"$f":"'Financial Model'!KC93*1","v":0},{"$f":"'Financial Model'!KD93*1","v":0},{"$f":"'Financial Model'!KE93*1","v":0},{"$f":"'Financial Model'!KF93*1","v":0},{"$f":"'Financial Model'!KG93*1","v":0},{"$f":"'Financial Model'!KH93*1","v":0},{"$f":"'Financial Model'!KI93*1","v":0},{"$f":"'Financial Model'!KJ93*1","v":0},{"$f":"'Financial Model'!KK93*1","v":0},{"$f":"'Financial Model'!KL93*1","v":0},{"$f":"'Financial Model'!KM93*1","v":0},{"$f":"'Financial Model'!KN93*1","v":0},{"$f":"'Financial Model'!KO93*1","v":0},{"$f":"'Financial Model'!KP93*1","v":0},{"$f":"'Financial Model'!KQ93*1","v":0},{"$f":"'Financial Model'!KR93*1","v":0},{"$f":"'Financial Model'!KS93*1","v":0},{"$f":"'Financial Model'!KT93*1","v":0},{"$f":"'Financial Model'!KU93*1","v":0},{"$f":"'Financial Model'!KV93*1","v":0},{"$f":"'Financial Model'!KW93*1","v":0},{"$f":"'Financial Model'!KX93*1","v":0},{"$f":"'Financial Model'!KY93*1","v":0},{"$f":"'Financial Model'!KZ93*1","v":0},{"$f":"'Financial Model'!LA93*1","v":0},{"$f":"'Financial Model'!LB93*1","v":0},{"$f":"'Financial Model'!LC93*1","v":0},{"$f":"'Financial Model'!LD93*1","v":0},{"$f":"'Financial Model'!LE93*1","v":0},{"$f":"'Financial Model'!LF93*1","v":0},{"$f":"'Financial Model'!LG93*1","v":0},{"$f":"'Financial Model'!LH93*1","v":0},{"$f":"'Financial Model'!LI93*1","v":0},{"$f":"'Financial Model'!LJ93*1","v":0},{"$f":"'Financial Model'!LK93*1","v":0},{"$f":"'Financial Model'!LL93*1","v":0},{"$f":"'Financial Model'!LM93*1","v":0},{"$f":"'Financial Model'!LN93*1","v":0},{"$f":"'Financial Model'!LO93*1","v":0},{"$f":"'Financial Model'!LP93*1","v":0},{"$f":"'Financial Model'!LQ93*1","v":0},{"$f":"'Financial Model'!LR93*1","v":0},{"$f":"'Financial Model'!LS93*1","v":0},{"$f":"'Financial Model'!LT93*1","v":0},{"$f":"'Financial Model'!LU93*1","v":0},{"$f":"'Financial Model'!LV93*1","v":0},{"$f":"'Financial Model'!LW93*1","v":0},{"$f":"'Financial Model'!LX93*1","v":0},{"$f":"'Financial Model'!LY93*1","v":0},{"$f":"'Financial Model'!LZ93*1","v":0},{"$f":"'Financial Model'!MA93*1","v":0},{"$f":"'Financial Model'!MB93*1","v":0},{"$f":"'Financial Model'!MC93*1","v":0},{"$f":"'Financial Model'!MD93*1","v":0},{"$f":"'Financial Model'!ME93*1","v":0},{"$f":"'Financial Model'!MF93*1","v":0},{"$f":"'Financial Model'!MG93*1","v":0},{"$f":"'Financial Model'!MH93*1","v":0},{"$f":"'Financial Model'!MI93*1","v":0},{"$f":"'Financial Model'!MJ93*1","v":0},{"$f":"'Financial Model'!MK93*1","v":0},{"$f":"'Financial Model'!ML93*1","v":0},{"$f":"'Financial Model'!MM93*1","v":0},{"$f":"'Financial Model'!MN93*1","v":0},{"$f":"'Financial Model'!MO93*1","v":0},{"$f":"'Financial Model'!MP93*1","v":0},{"$f":"'Financial Model'!MQ93*1","v":0},{"$f":"'Financial Model'!MR93*1","v":0},{"$f":"'Financial Model'!MS93*1","v":0},{"$f":"'Financial Model'!MT93*1","v":0},{"$f":"'Financial Model'!MU93*1","v":0},{"$f":"'Financial Model'!MV93*1","v":0},{"$f":"'Financial Model'!MW93*1","v":0},{"$f":"'Financial Model'!MX93*1","v":0},{"$f":"'Financial Model'!MY93*1","v":0},{"$f":"'Financial Model'!MZ93*1","v":0},{"$f":"'Financial Model'!NA93*1","v":0},{"$f":"'Financial Model'!NB93*1","v":0},{"$f":"'Financial Model'!NC93*1","v":0},{"$f":"'Financial Model'!ND93*1","v":0},{"$f":"'Financial Model'!NE93*1","v":0},{"$f":"'Financial Model'!NF93*1","v":0},{"$f":"'Financial Model'!NG93*1","v":0},{"$f":"'Financial Model'!NH93*1","v":0},{"$f":"'Financial Model'!NI93*1","v":0},{"$f":"'Financial Model'!NJ93*1","v":0},{"$f":"'Financial Model'!NK93*1","v":0},{"$f":"'Financial Model'!NL93*1","v":0},{"$f":"'Financial Model'!NM93*1","v":0},{"$f":"'Financial Model'!NN93*1","v":0},{"$f":"'Financial Model'!NO93*1","v":0},{"$f":"'Financial Model'!NP93*1","v":0},{"$f":"'Financial Model'!NQ93*1","v":0},{"$f":"'Financial Model'!NR93*1","v":0},{"$f":"'Financial Model'!NS93*1","v":0},{"$f":"'Financial Model'!NT93*1","v":0},{"$f":"'Financial Model'!NU93*1","v":0},{"$f":"'Financial Model'!NV93*1","v":0},{"$f":"'Financial Model'!NW93*1","v":0},{"$f":"'Financial Model'!NX93*1","v":0},{"$f":"'Financial Model'!NY93*1","v":0},{"$f":"'Financial Model'!NZ93*1","v":0},{"$f":"'Financial Model'!OA93*1","v":0},{"$f":"'Financial Model'!OB93*1","v":0},{"$f":"'Financial Model'!OC93*1","v":0},{"$f":"'Financial Model'!OD93*1","v":0},{"$f":"'Financial Model'!OE93*1","v":0},{"$f":"'Financial Model'!OF93*1","v":0},{"$f":"'Financial Model'!OG93*1","v":0},{"$f":"'Financial Model'!OH93*1","v":0},{"$f":"'Financial Model'!OI93*1","v":0},{"$f":"'Financial Model'!OJ93*1","v":0},{"$f":"'Financial Model'!OK93*1","v":0},{"$f":"'Financial Model'!OL93*1","v":0},{"$f":"'Financial Model'!OM93*1","v":0},{"$f":"'Financial Model'!ON93*1","v":0},{"$f":"'Financial Model'!OO93*1","v":0},{"$f":"'Financial Model'!OP93*1","v":0},{"$f":"'Financial Model'!OQ93*1","v":0},{"$f":"'Financial Model'!OR93*1","v":0},{"$f":"'Financial Model'!OS93*1","v":0},{"$f":"'Financial Model'!OT93*1","v":0},{"$f":"'Financial Model'!OU93*1","v":0},{"$f":"'Financial Model'!OV93*1","v":0},{"$f":"'Financial Model'!OW93*1","v":0},{"$f":"'Financial Model'!OX93*1","v":0},{"$f":"'Financial Model'!OY93*1","v":0},{"$f":"'Financial Model'!OZ93*1","v":0},{"$f":"'Financial Model'!PA93*1","v":0},{"$f":"'Financial Model'!PB93*1","v":0},{"$f":"'Financial Model'!PC93*1","v":0},{"$f":"'Financial Model'!PD93*1","v":0},{"$f":"'Financial Model'!PE93*1","v":0},{"$f":"'Financial Model'!PF93*1","v":0},{"$f":"'Financial Model'!PG93*1","v":0},{"$f":"'Financial Model'!PH93*1","v":0},{"$f":"'Financial Model'!PI93*1","v":0},{"$f":"'Financial Model'!PJ93*1","v":0},{"$f":"'Financial Model'!PK93*1","v":0},{"$f":"'Financial Model'!PL93*1","v":0},{"$f":"'Financial Model'!PM93*1","v":0},{"$f":"'Financial Model'!PN93*1","v":0},{"$f":"'Financial Model'!PO93*1","v":0},{"$f":"'Financial Model'!PP93*1","v":0},{"$f":"'Financial Model'!PQ93*1","v":0},{"$f":"'Financial Model'!PR93*1","v":0},{"$f":"'Financial Model'!PS93*1","v":0},{"$f":"'Financial Model'!PT93*1","v":0}]
[null,null,"Output_Report_Flag",null,"InputC",1]
[null,null,"Price",null,"InputC",{"$f":"'Input C'!F43","v":1.0529680119726969E-2}]
[null,null,"Price_Inflation_Factor",null,"InputS",{"$f":"'Financial Model'!K45","v":1},{"$f":"'Financial Model'!L45","v":1.05},{"$f":"'Financial Model'!M45","v":1.1025},{"$f":"'Financial Model'!N45","v":1.1576250000000001},{"$f":"'Financial Model'!O45","v":1.2155062500000002},{"$f":"'Financial Model'!P45","v":1.2762815625000004},{"$f":"'Financial Model'!Q45","v":1.3400956406250004},{"$f":"'Financial Model'!R45","v":1.4071004226562505},{"$f":"'Financial Model'!S45","v":1.477455443789063},{"$f":"'Financial Model'!T45","v":1.5513282159785162},{"$f":"'Financial Model'!U45","v":1.628894626777442},{"$f":"'Financial Model'!V45","v":1.7103393581163142},{"$f":"'Financial Model'!W45","v":1.7958563260221301},{"$f":"'Financial Model'!X45","v":1.8856491423232367},{"$f":"'Financial Model'!Y45","v":1.9799315994393987},{"$f":"'Financial Model'!Z45","v":2.0789281794113688},{"$f":"'Financial Model'!AA45","v":2.1828745883819374},{"$f":"'Financial Model'!AB45","v":2.2920183178010345},{"$f":"'Financial Model'!AC45","v":2.4066192336910861},{"$f":"'Financial Model'!AD45","v":2.5269501953756404},{"$f":"'Financial Model'!AE45","v":2.6532977051444226},{"$f":"'Financial Model'!AF45","v":2.7859625904016441},{"$f":"'Financial Model'!AG45","v":2.9252607199217264},{"$f":"'Financial Model'!AH45","v":3.0715237559178128},{"$f":"'Financial Model'!AI45","v":3.2250999437137038},{"$f":"'Financial Model'!AJ45","v":3.3863549408993889},{"$f":"'Financial Model'!AK45","v":3.3863549408993889},{"$f":"'Financial Model'!AL45","v":3.3863549408993889},{"$f":"'Financial Model'!AM45","v":3.3863549408993889},{"$f":"'Financial Model'!AN45","v":3.3863549408993889},{"$f":"'Financial Model'!AO45","v":3.3863549408993889},{"$f":"'Financial Model'!AP45","v":3.3863549408993889},{"$f":"'Financial Model'!AQ45","v":3.3863549408993889},{"$f":"'Financial Model'!AR45","v":3.3863549408993889},{"$f":"'Financial Model'!AS45","v":3.3863549408993889},{"$f":"'Financial Model'!AT45","v":3.3863549408993889},{"$f":"'Financial Model'!AU45","v":3.3863549408993889},{"$f":"'Financial Model'!AV45","v":3.3863549408993889},{"$f":"'Financial Model'!AW45","v":3.3863549408993889},{"$f":"'Financial Model'!AX45","v":3.3863549408993889},{"$f":"'Financial Model'!AY45","v":3.3863549408993889},{"$f":"'Financial Model'!AZ45","v":3.3863549408993889},{"$f":"'Financial Model'!BA45","v":3.3863549408993889},{"$f":"'Financial Model'!BB45","v":3.3863549408993889},{"$f":"'Financial Model'!BC45","v":3.3863549408993889},{"$f":"'Financial Model'!BD45","v":3.3863549408993889},{"$f":"'Financial Model'!BE45","v":3.3863549408993889},{"$f":"'Financial Model'!BF45","v":3.3863549408993889},{"$f":"'Financial Model'!BG45","v":3.3863549408993889},{"$f":"'Financial Model'!BH45","v":3.3863549408993889},{"$f":"'Financial Model'!BI45","v":3.3863549408993889},{"$f":"'Financial Model'!BJ45","v":3.3863549408993889},{"$f":"'Financial Model'!BK45","v":3.3863549408993889},{"$f":"'Financial Model'!BL45","v":3.3863549408993889},{"$f":"'Financial Model'!BM45","v":3.3863549408993889},{"$f":"'Financial Model'!BN45","v":3.3863549408993889},{"$f":"'Financial Model'!BO45","v":3.3863549408993889},{"$f":"'Financial Model'!BP45","v":3.3863549408993889},{"$f":"'Financial Model'!BQ45","v":3.3863549408993889},{"$f":"'Financial Model'!BR45","v":3.3863549408993889},{"$f":"'Financial Model'!BS45","v":3.3863549408993889},{"$f":"'Financial Model'!BT45","v":3.3863549408993889},{"$f":"'Financial Model'!BU45","v":3.3863549408993889},{"$f":"'Financial Model'!BV45","v":3.3863549408993889},{"$f":"'Financial Model'!BW45","v":3.3863549408993889},{"$f":"'Financial Model'!BX45","v":3.3863549408993889},{"$f":"'Financial Model'!BY45","v":3.3863549408993889},{"$f":"'Financial Model'!BZ45","v":3.3863549408993889},{"$f":"'Financial Model'!CA45","v":3.3863549408993889},{"$f":"'Financial Model'!CB45","v":3.3863549408993889},{"$f":"'Financial Model'!CC45","v":3.3863549408993889},{"$f":"'Financial Model'!CD45","v":3.3863549408993889},{"$f":"'Financial Model'!CE45","v":3.3863549408993889},{"$f":"'Financial Model'!CF45","v":3.3863549408993889},{"$f":"'Financial Model'!CG45","v":3.3863549408993889},{"$f":"'Financial Model'!CH45","v":3.3863549408993889},{"$f":"'Financial Model'!CI45","v":3.3863549408993889},{"$f":"'Financial Model'!CJ45","v":3.3863549408993889},{"$f":"'Financial Model'!CK45","v":3.3863549408993889},{"$f":"'Financial Model'!CL45","v":3.3863549408993889},{"$f":"'Financial Model'!CM45","v":3.3863549408993889},{"$f":"'Financial Model'!CN45","v":3.3863549408993889},{"$f":"'Financial Model'!CO45","v":3.3863549408993889},{"$f":"'Financial Model'!CP45","v":3.3863549408993889},{"$f":"'Financial Model'!CQ45","v":3.3863549408993889},{"$f":"'Financial Model'!CR45","v":3.3863549408993889},{"$f":"'Financial Model'!CS45","v":3.3863549408993889},{"$f":"'Financial Model'!CT45","v":3.3863549408993889},{"$f":"'Financial Model'!CU45","v":3.3863549408993889},{"$f":"'Financial Model'!CV45","v":3.3863549408993889},{"$f":"'Financial Model'!CW45","v":3.3863549408993889},{"$f":"'Financial Model'!CX45","v":3.3863549408993889},{"$f":"'Financial Model'!CY45","v":3.3863549408993889},{"$f":"'Financial Model'!CZ45","v":3.3863549408993889},{"$f":"'Financial Model'!DA45","v":3.3863549408993889},{"$f":"'Financial Model'!DB45","v":3.3863549408993889},{"$f":"'Financial Model'!DC45","v":3.3863549408993889},{"$f":"'Financial Model'!DD45","v":3.3863549408993889},{"$f":"'Financial Model'!DE45","v":3.3863549408993889},{"$f":"'Financial Model'!DF45","v":3.3863549408993889},{"$f":"'Financial Model'!DG45","v":3.3863549408993889},{"$f":"'Financial Model'!DH45","v":3.3863549408993889},{"$f":"'Financial Model'!DI45","v":3.3863549408993889},{"$f":"'Financial Model'!DJ45","v":3.3863549408993889},{"$f":"'Financial Model'!DK45","v":3.3863549408993889},{"$f":"'Financial Model'!DL45","v":3.3863549408993889},{"$f":"'Financial Model'!DM45","v":3.3863549408993889},{"$f":"'Financial Model'!DN45","v":3.3863549408993889},{"$f":"'Financial Model'!DO45","v":3.3863549408993889},{"$f":"'Financial Model'!DP45","v":3.3863549408993889},{"$f":"'Financial Model'!DQ45","v":3.3863549408993889},{"$f":"'Financial Model'!DR45","v":3.3863549408993889},{"$f":"'Financial Model'!DS45","v":3.3863549408993889},{"$f":"'Financial Model'!DT45","v":3.3863549408993889},{"$f":"'Financial Model'!DU45","v":3.3863549408993889},{"$f":"'Financial Model'!DV45","v":3.3863549408993889},{"$f":"'Financial Model'!DW45","v":3.3863549408993889},{"$f":"'Financial Model'!DX45","v":3.3863549408993889},{"$f":"'Financial Model'!DY45","v":3.3863549408993889},{"$f":"'Financial Model'!DZ45","v":3.3863549408993889},{"$f":"'Financial Model'!EA45","v":3.3863549408993889},{"$f":"'Financial Model'!EB45","v":3.3863549408993889},{"$f":"'Financial Model'!EC45","v":3.3863549408993889},{"$f":"'Financial Model'!ED45","v":3.3863549408993889},{"$f":"'Financial Model'!EE45","v":3.3863549408993889},{"$f":"'Financial Model'!EF45","v":3.3863549408993889},{"$f":"'Financial Model'!EG45","v":3.3863549408993889},{"$f":"'Financial Model'!EH45","v":3.3863549408993889},{"$f":"'Financial Model'!EI45","v":3.3863549408993889},{"$f":"'Financial Model'!EJ45","v":3.3863549408993889},{"$f":"'Financial Model'!EK45","v":3.3863549408993889},{"$f":"'Financial Model'!EL45","v":3.3863549408993889},{"$f":"'Financial Model'!EM45","v":3.3863549408993889},{"$f":"'Financial Model'!EN45","v":3.3863549408993889},{"$f":"'Financial Model'!EO45","v":3.3863549408993889},{"$f":"'Financial Model'!EP45","v":3.3863549408993889},{"$f":"'Financial Model'!EQ45","v":3.3863549408993889},{"$f":"'Financial Model'!ER45","v":3.3863549408993889},{"$f":"'Financial Model'!ES45","v":3.3863549408993889},{"$f":"'Financial Model'!ET45","v":3.3863549408993889},{"$f":"'Financial Model'!EU45","v":3.3863549408993889},{"$f":"'Financial Model'!EV45","v":3.3863549408993889},{"$f":"'Financial Model'!EW45","v":3.3863549408993889},{"$f":"'Financial Model'!EX45","v":3.3863549408993889},{"$f":"'Financial Model'!EY45","v":3.3863549408993889},{"$f":"'Financial Model'!EZ45","v":3.3863549408993889},{"$f":"'Financial Model'!FA45","v":3.3863549408993889},{"$f":"'Financial Model'!FB45","v":3.3863549408993889},{"$f":"'Financial Model'!FC45","v":3.3863549408993889},{"$f":"'Financial Model'!FD45","v":3.3863549408993889},{"$f":"'Financial Model'!FE45","v":3.3863549408993889},{"$f":"'Financial Model'!FF45","v":3.3863549408993889},{"$f":"'Financial Model'!FG45","v":3.3863549408993889},{"$f":"'Financial Model'!FH45","v":3.3863549408993889},{"$f":"'Financial Model'!FI45","v":3.3863549408993889},{"$f":"'Financial Model'!FJ45","v":3.3863549408993889},{"$f":"'Financial Model'!FK45","v":3.3863549408993889},{"$f":"'Financial Model'!FL45","v":3.3863549408993889},{"$f":"'Financial Model'!FM45","v":3.3863549408993889},{"$f":"'Financial Model'!FN45","v":3.3863549408993889},{"$f":"'Financial Model'!FO45","v":3.3863549408993889},{"$f":"'Financial Model'!FP45","v":3.3863549408993889},{"$f":"'Financial Model'!FQ45","v":3.3863549408993889},{"$f":"'Financial Model'!FR45","v":3.3863549408993889},{"$f":"'Financial Model'!FS45","v":3.3863549408993889},{"$f":"'Financial Model'!FT45","v":3.3863549408993889},{"$f":"'Financial Model'!FU45","v":3.3863549408993889},{"$f":"'Financial Model'!FV45","v":3.3863549408993889},{"$f":"'Financial Model'!FW45","v":3.3863549408993889},{"$f":"'Financial Model'!FX45","v":3.3863549408993889},{"$f":"'Financial Model'!FY45","v":3.3863549408993889},{"$f":"'Financial Model'!FZ45","v":3.3863549408993889},{"$f":"'Financial Model'!GA45","v":3.3863549408993889},{"$f":"'Financial Model'!GB45","v":3.3863549408993889},{"$f":"'Financial Model'!GC45","v":3.3863549408993889},{"$f":"'Financial Model'!GD45","v":3.3863549408993889},{"$f":"'Financial Model'!GE45","v":3.3863549408993889},{"$f":"'Financial Model'!GF45","v":3.3863549408993889},{"$f":"'Financial Model'!GG45","v":3.3863549408993889},{"$f":"'Financial Model'!GH45","v":3.3863549408993889},{"$f":"'Financial Model'!GI45","v":3.3863549408993889},{"$f":"'Financial Model'!GJ45","v":3.3863549408993889},{"$f":"'Financial Model'!GK45","v":3.3863549408993889},{"$f":"'Financial Model'!GL45","v":3.3863549408993889},{"$f":"'Financial Model'!GM45","v":3.3863549408993889},{"$f":"'Financial Model'!GN45","v":3.3863549408993889},{"$f":"'Financial Model'!GO45","v":3.3863549408993889},{"$f":"'Financial Model'!GP45","v":3.3863549408993889},{"$f":"'Financial Model'!GQ45","v":3.3863549408993889},{"$f":"'Financial Model'!GR45","v":3.3863549408993889},{"$f":"'Financial Model'!GS45","v":3.3863549408993889},{"$f":"'Financial Model'!GT45","v":3.3863549408993889},{"$f":"'Financial Model'!GU45","v":3.3863549408993889},{"$f":"'Financial Model'!GV45","v":3.3863549408993889},{"$f":"'Financial Model'!GW45","v":3.3863549408993889},{"$f":"'Financial Model'!GX45","v":3.3863549408993889},{"$f":"'Financial Model'!GY45","v":3.3863549408993889},{"$f":"'Financial Model'!GZ45","v":3.3863549408993889},{"$f":"'Financial Model'!HA45","v":3.3863549408993889},{"$f":"'Financial Model'!HB45","v":3.3863549408993889},{"$f":"'Financial Model'!HC45","v":3.3863549408993889},{"$f":"'Financial Model'!HD45","v":3.3863549408993889},{"$f":"'Financial Model'!HE45","v":3.3863549408993889},{"$f":"'Financial Model'!HF45","v":3.3863549408993889},{"$f":"'Financial Model'!HG45","v":3.3863549408993889},{"$f":"'Financial Model'!HH45","v":3.3863549408993889},{"$f":"'Financial Model'!HI45","v":3.3863549408993889},{"$f":"'Financial Model'!HJ45","v":3.3863549408993889},{"$f":"'Financial Model'!HK45","v":3.3863549408993889},{"$f":"'Financial Model'!HL45","v":3.3863549408993889},{"$f":"'Financial Model'!HM45","v":3.3863549408993889},{"$f":"'Financial Model'!HN45","v":3.3863549408993889},{"$f":"'Financial Model'!HO45","v":3.3863549408993889},{"$f":"'Financial Model'!HP45","v":3.3863549408993889},{"$f":"'Financial Model'!HQ45","v":3.3863549408993889},{"$f":"'Financial Model'!HR45","v":3.3863549408993889},{"$f":"'Financial Model'!HS45","v":3.3863549408993889},{"$f":"'Financial Model'!HT45","v":3.3863549408993889},{"$f":"'Financial Model'!HU45","v":3.3863549408993889},{"$f":"'Financial Model'!HV45","v":3.3863549408993889},{"$f":"'Financial Model'!HW45","v":3.3863549408993889},{"$f":"'Financial Model'!HX45","v":3.3863549408993889},{"$f":"'Financial Model'!HY45","v":3.3863549408993889},{"$f":"'Financial Model'!HZ45","v":3.3863549408993889},{"$f":"'Financial Model'!IA45","v":3.3863549408993889},{"$f":"'Financial Model'!IB45","v":3.3863549408993889},{"$f":"'Financial Model'!IC45","v":3.3863549408993889},{"$f":"'Financial Model'!ID45","v":3.3863549408993889},{"$f":"'Financial Model'!IE45","v":3.3863549408993889},{"$f":"'Financial Model'!IF45","v":3.3863549408993889},{"$f":"'Financial Model'!IG45","v":3.3863549408993889},{"$f":"'Financial Model'!IH45","v":3.3863549408993889},{"$f":"'Financial Model'!II45","v":3.3863549408993889},{"$f":"'Financial Model'!IJ45","v":3.3863549408993889},{"$f":"'Financial Model'!IK45","v":3.3863549408993889},{"$f":"'Financial Model'!IL45","v":3.3863549408993889},{"$f":"'Financial Model'!IM45","v":3.3863549408993889},{"$f":"'Financial Model'!IN45","v":3.3863549408993889},{"$f":"'Financial Model'!IO45","v":3.3863549408993889},{"$f":"'Financial Model'!IP45","v":3.3863549408993889},{"$f":"'Financial Model'!IQ45","v":3.3863549408993889},{"$f":"'Financial Model'!IR45","v":3.3863549408993889},{"$f":"'Financial Model'!IS45","v":3.3863549408993889},{"$f":"'Financial Model'!IT45","v":3.3863549408993889},{"$f":"'Financial Model'!IU45","v":3.3863549408993889},{"$f":"'Financial Model'!IV45","v":3.3863549408993889},{"$f":"'Financial Model'!IW45","v":3.3863549408993889},{"$f":"'Financial Model'!IX45","v":3.3863549408993889},{"$f":"'Financial Model'!IY45","v":3.3863549408993889},{"$f":"'Financial Model'!IZ45","v":3.3863549408993889},{"$f":"'Financial Model'!JA45","v":3.3863549408993889},{"$f":"'Financial Model'!JB45","v":3.3863549408993889},{"$f":"'Financial Model'!JC45","v":3.3863549408993889},{"$f":"'Financial Model'!JD45","v":3.3863549408993889},{"$f":"'Financial Model'!JE45","v":3.3863549408993889},{"$f":"'Financial Model'!JF45","v":3.3863549408993889},{"$f":"'Financial Model'!JG45","v":3.3863549408993889},{"$f":"'Financial Model'!JH45","v":3.3863549408993889},{"$f":"'Financial Model'!JI45","v":3.3863549408993889},{"$f":"'Financial Model'!JJ45","v":3.3863549408993889},{"$f":"'Financial Model'!JK45","v":3.3863549408993889},{"$f":"'Financial Model'!JL45","v":3.3863549408993889},{"$f":"'Financial Model'!JM45","v":3.3863549408993889},{"$f":"'Financial Model'!JN45","v":3.3863549408993889},{"$f":"'Financial Model'!JO45","v":3.3863549408993889},{"$f":"'Financial Model'!JP45","v":3.3863549408993889},{"$f":"'Financial Model'!JQ45","v":3.3863549408993889},{"$f":"'Financial Model'!JR45","v":3.3863549408993889},{"$f":"'Financial Model'!JS45","v":3.3863549408993889},{"$f":"'Financial Model'!JT45","v":3.3863549408993889},{"$f":"'Financial Model'!JU45","v":3.3863549408993889},{"$f":"'Financial Model'!JV45","v":3.3863549408993889},{"$f":"'Financial Model'!JW45","v":3.3863549408993889},{"$f":"'Financial Model'!JX45","v":3.3863549408993889},{"$f":"'Financial Model'!JY45","v":3.3863549408993889},{"$f":"'Financial Model'!JZ45","v":3.3863549408993889},{"$f":"'Financial Model'!KA45","v":3.3863549408993889},{"$f":"'Financial Model'!KB45","v":3.3863549408993889},{"$f":"'Financial Model'!KC45","v":3.3863549408993889},{"$f":"'Financial Model'!KD45","v":3.3863549408993889},{"$f":"'Financial Model'!KE45","v":3.3863549408993889},{"$f":"'Financial Model'!KF45","v":3.3863549408993889},{"$f":"'Financial Model'!KG45","v":3.3863549408993889},{"$f":"'Financial Model'!KH45","v":3.3863549408993889},{"$f":"'Financial Model'!KI45","v":3.3863549408993889},{"$f":"'Financial Model'!KJ45","v":3.3863549408993889},{"$f":"'Financial Model'!KK45","v":3.3863549408993889},{"$f":"'Financial Model'!KL45","v":3.3863549408993889},{"$f":"'Financial Model'!KM45","v":3.3863549408993889},{"$f":"'Financial Model'!KN45","v":3.3863549408993889},{"$f":"'Financial Model'!KO45","v":3.3863549408993889},{"$f":"'Financial Model'!KP45","v":3.3863549408993889},{"$f":"'Financial Model'!KQ45","v":3.3863549408993889},{"$f":"'Financial Model'!KR45","v":3.3863549408993889},{"$f":"'Financial Model'!KS45","v":3.3863549408993889},{"$f":"'Financial Model'!KT45","v":3.3863549408993889},{"$f":"'Financial Model'!KU45","v":3.3863549408993889},{"$f":"'Financial Model'!KV45","v":3.3863549408993889},{"$f":"'Financial Model'!KW45","v":3.3863549408993889},{"$f":"'Financial Model'!KX45","v":3.3863549408993889},{"$f":"'Financial Model'!KY45","v":3.3863549408993889},{"$f":"'Financial Model'!KZ45","v":3.3863549408993889},{"$f":"'Financial Model'!LA45","v":3.3863549408993889},{"$f":"'Financial Model'!LB45","v":3.3863549408993889},{"$f":"'Financial Model'!LC45","v":3.3863549408993889},{"$f":"'Financial Model'!LD45","v":3.3863549408993889},{"$f":"'Financial Model'!LE45","v":3.3863549408993889},{"$f":"'Financial Model'!LF45","v":3.3863549408993889},{"$f":"'Financial Model'!LG45","v":3.3863549408993889},{"$f":"'Financial Model'!LH45","v":3.3863549408993889},{"$f":"'Financial Model'!LI45","v":3.3863549408993889},{"$f":"'Financial Model'!LJ45","v":3.3863549408993889},{"$f":"'Financial Model'!LK45","v":3.3863549408993889},{"$f":"'Financial Model'!LL45","v":3.3863549408993889},{"$f":"'Financial Model'!LM45","v":3.3863549408993889},{"$f":"'Financial Model'!LN45","v":3.3863549408993889},{"$f":"'Financial Model'!LO45","v":3.3863549408993889},{"$f":"'Financial Model'!LP45","v":3.3863549408993889},{"$f":"'Financial Model'!LQ45","v":3.3863549408993889},{"$f":"'Financial Model'!LR45","v":3.3863549408993889},{"$f":"'Financial Model'!LS45","v":3.3863549408993889},{"$f":"'Financial Model'!LT45","v":3.3863549408993889},{"$f":"'Financial Model'!LU45","v":3.3863549408993889},{"$f":"'Financial Model'!LV45","v":3.3863549408993889},{"$f":"'Financial Model'!LW45","v":3.3863549408993889},{"$f":"'Financial Model'!LX45","v":3.3863549408993889},{"$f":"'Financial Model'!LY45","v":3.3863549408993889},{"$f":"'Financial Model'!LZ45","v":3.3863549408993889},{"$f":"'Financial Model'!MA45","v":3.3863549408993889},{"$f":"'Financial Model'!MB45","v":3.3863549408993889},{"$f":"'Financial Model'!MC45","v":3.3863549408993889},{"$f":"'Financial Model'!MD45","v":3.3863549408993889},{"$f":"'Financial Model'!ME45","v":3.3863549408993889},{"$f":"'Financial Model'!MF45","v":3.3863549408993889},{"$f":"'Financial Model'!MG45","v":3.3863549408993889},{"$f":"'Financial Model'!MH45","v":3.3863549408993889},{"$f":"'Financial Model'!MI45","v":3.3863549408993889},{"$f":"'Financial Model'!MJ45","v":3.3863549408993889},{"$f":"'Financial Model'!MK45","v":3.3863549408993889},{"$f":"'Financial Model'!ML45","v":3.3863549408993889},{"$f":"'Financial Model'!MM45","v":3.3863549408993889},{"$f":"'Financial Model'!MN45","v":3.3863549408993889},{"$f":"'Financial Model'!MO45","v":3.3863549408993889},{"$f":"'Financial Model'!MP45","v":3.3863549408993889},{"$f":"'Financial Model'!MQ45","v":3.3863549408993889},{"$f":"'Financial Model'!MR45","v":3.3863549408993889},{"$f":"'Financial Model'!MS45","v":3.3863549408993889},{"$f":"'Financial Model'!MT45","v":3.3863549408993889},{"$f":"'Financial Model'!MU45","v":3.3863549408993889},{"$f":"'Financial Model'!MV45","v":3.3863549408993889},{"$f":"'Financial Model'!MW45","v":3.3863549408993889},{"$f":"'Financial Model'!MX45","v":3.3863549408993889},{"$f":"'Financial Model'!MY45","v":3.3863549408993889},{"$f":"'Financial Model'!MZ45","v":3.3863549408993889},{"$f":"'Financial Model'!NA45","v":3.3863549408993889},{"$f":"'Financial Model'!NB45","v":3.3863549408993889},{"$f":"'Financial Model'!NC45","v":3.3863549408993889},{"$f":"'Financial Model'!ND45","v":3.3863549408993889},{"$f":"'Financial Model'!NE45","v":3.3863549408993889},{"$f":"'Financial Model'!NF45","v":3.3863549408993889},{"$f":"'Financial Model'!NG45","v":3.3863549408993889},{"$f":"'Financial Model'!NH45","v":3.3863549408993889},{"$f":"'Financial Model'!NI45","v":3.3863549408993889},{"$f":"'Financial Model'!NJ45","v":3.3863549408993889},{"$f":"'Financial Model'!NK45","v":3.3863549408993889},{"$f":"'Financial Model'!NL45","v":3.3863549408993889},{"$f":"'Financial Model'!NM45","v":3.3863549408993889},{"$f":"'Financial Model'!NN45","v":3.3863549408993889},{"$f":"'Financial Model'!NO45","v":3.3863549408993889},{"$f":"'Financial Model'!NP45","v":3.3863549408993889},{"$f":"'Financial Model'!NQ45","v":3.3863549408993889},{"$f":"'Financial Model'!NR45","v":3.3863549408993889},{"$f":"'Financial Model'!NS45","v":3.3863549408993889},{"$f":"'Financial Model'!NT45","v":3.3863549408993889},{"$f":"'Financial Model'!NU45","v":3.3863549408993889},{"$f":"'Financial Model'!NV45","v":3.3863549408993889},{"$f":"'Financial Model'!NW45","v":3.3863549408993889},{"$f":"'Financial Model'!NX45","v":3.3863549408993889},{"$f":"'Financial Model'!NY45","v":3.3863549408993889},{"$f":"'Financial Model'!NZ45","v":3.3863549408993889},{"$f":"'Financial Model'!OA45","v":3.3863549408993889},{"$f":"'Financial Model'!OB45","v":3.3863549408993889},{"$f":"'Financial Model'!OC45","v":3.3863549408993889},{"$f":"'Financial Model'!OD45","v":3.3863549408993889},{"$f":"'Financial Model'!OE45","v":3.3863549408993889},{"$f":"'Financial Model'!OF45","v":3.3863549408993889},{"$f":"'Financial Model'!OG45","v":3.3863549408993889},{"$f":"'Financial Model'!OH45","v":3.3863549408993889},{"$f":"'Financial Model'!OI45","v":3.3863549408993889},{"$f":"'Financial Model'!OJ45","v":3.3863549408993889},{"$f":"'Financial Model'!OK45","v":3.3863549408993889},{"$f":"'Financial Model'!OL45","v":3.3863549408993889},{"$f":"'Financial Model'!OM45","v":3.3863549408993889},{"$f":"'Financial Model'!ON45","v":3.3863549408993889},{"$f":"'Financial Model'!OO45","v":3.3863549408993889},{"$f":"'Financial Model'!OP45","v":3.3863549408993889},{"$f":"'Financial Model'!OQ45","v":3.3863549408993889},{"$f":"'Financial Model'!OR45","v":3.3863549408993889},{"$f":"'Financial Model'!OS45","v":3.3863549408993889},{"$f":"'Financial Model'!OT45","v":3.3863549408993889},{"$f":"'Financial Model'!OU45","v":3.3863549408993889},{"$f":"'Financial Model'!OV45","v":3.3863549408993889},{"$f":"'Financial Model'!OW45","v":3.3863549408993889},{"$f":"'Financial Model'!OX45","v":3.3863549408993889},{"$f":"'Financial Model'!OY45","v":3.3863549408993889},{"$f":"'Financial Model'!OZ45","v":3.3863549408993889},{"$f":"'Financial Model'!PA45","v":3.3863549408993889},{"$f":"'Financial Model'!PB45","v":3.3863549408993889},{"$f":"'Financial Model'!PC45","v":3.3863549408993889},{"$f":"'Financial Model'!PD45","v":3.3863549408993889},{"$f":"'Financial Model'!PE45","v":3.3863549408993889},{"$f":"'Financial Model'!PF45","v":3.3863549408993889},{"$f":"'Financial Model'!PG45","v":3.3863549408993889},{"$f":"'Financial Model'!PH45","v":3.3863549408993889},{"$f":"'Financial Model'!PI45","v":3.3863549408993889},{"$f":"'Financial Model'!PJ45","v":3.3863549408993889},{"$f":"'Financial Model'!PK45","v":3.3863549408993889},{"$f":"'Financial Model'!PL45","v":3.3863549408993889},{"$f":"'Financial Model'!PM45","v":3.3863549408993889},{"$f":"'Financial Model'!PN45","v":3.3863549408993889},{"$f":"'Financial Model'!PO45","v":3.3863549408993889},{"$f":"'Financial Model'!PP45","v":3.3863549408993889},{"$f":"'Financial Model'!PQ45","v":3.3863549408993889},{"$f":"'Financial Model'!PR45","v":3.3863549408993889},{"$f":"'Financial Model'!PS45","v":3.3863549408993889},{"$f":"'Financial Model'!PT45","v":3.3863549408993889}]
[null,null,"Quantity_P50",null,"InputS",{"$f":"'Financial Model'!K23","v":0},{"$f":"'Financial Model'!L23","v":229937.734},{"$f":"'Financial Model'!M23","v":228788.04533000005},{"$f":"'Financial Model'!N23","v":227644.10510335007},{"$f":"'Financial Model'!O23","v":226505.88457783335},{"$f":"'Financial Model'!P23","v":225373.35515494421},{"$f":"'Financial Model'!Q23","v":224246.48837916952},{"$f":"'Financial Model'!R23","v":223125.2559372737},{"$f":"'Financial Model'!S23","v":222009.62965758736},{"$f":"'Financial Model'!T23","v":220899.58150929943},{"$f":"'Financial Model'!U23","v":219795.08360175294},{"$f":"'Financial Model'!V23","v":218696.10818374419},{"$f":"'Financial Model'!W23","v":217602.62764282551},{"$f":"'Financial Model'!X23","v":216514.61450461138},{"$f":"'Financial Model'!Y23","v":215432.04143208836},{"$f":"'Financial Model'!Z23","v":214354.88122492793},{"$f":"'Financial Model'!AA23","v":213283.10681880332},{"$f":"'Financial Model'!AB23","v":212216.69128470932},{"$f":"'Financial Model'!AC23","v":211155.60782828581},{"$f":"'Financial Model'!AD23","v":210099.82978914439},{"$f":"'Financial Model'!AE23","v":209049.33064019869},{"$f":"'Financial Model'!AF23","v":208004.08398699772},{"$f":"'Financial Model'!AG23","v":206964.06356706278},{"$f":"'Financial Model'!AH23","v":205929.24324922747},{"$f":"'Financial Model'!AI23","v":204899.59703298137},{"$f":"'Financial Model'!AJ23","v":203875.09904781647},{"$f":"'Financial Model'!AK23","v":0},{"$f":"'Financial Model'!AL23","v":0},{"$f":"'Financial Model'!AM23","v":0},{"$f":"'Financial Model'!AN23","v":0},{"$f":"'Financial Model'!AO23","v":0},{"$f":"'Financial Model'!AP23","v":0},{"$f":"'Financial Model'!AQ23","v":0},{"$f":"'Financial Model'!AR23","v":0},{"$f":"'Financial Model'!AS23","v":0},{"$f":"'Financial Model'!AT23","v":0},{"$f":"'Financial Model'!AU23","v":0},{"$f":"'Financial Model'!AV23","v":0},{"$f":"'Financial Model'!AW23","v":0},{"$f":"'Financial Model'!AX23","v":0},{"$f":"'Financial Model'!AY23","v":0},{"$f":"'Financial Model'!AZ23","v":0},{"$f":"'Financial Model'!BA23","v":0},{"$f":"'Financial Model'!BB23","v":0},{"$f":"'Financial Model'!BC23","v":0},{"$f":"'Financial Model'!BD23","v":0},{"$f":"'Financial Model'!BE23","v":0},{"$f":"'Financial Model'!BF23","v":0},{"$f":"'Financial Model'!BG23","v":0},{"$f":"'Financial Model'!BH23","v":0},{"$f":"'Financial Model'!BI23","v":0},{"$f":"'Financial Model'!BJ23","v":0},{"$f":"'Financial Model'!BK23","v":0},{"$f":"'Financial Model'!BL23","v":0},{"$f":"'Financial Model'!BM23","v":0},{"$f":"'Financial Model'!BN23","v":0},{"$f":"'Financial Model'!BO23","v":0},{"$f":"'Financial Model'!BP23","v":0},{"$f":"'Financial Model'!BQ23","v":0},{"$f":"'Financial Model'!BR23","v":0},{"$f":"'Financial Model'!BS23","v":0},{"$f":"'Financial Model'!BT23","v":0},{"$f":"'Financial Model'!BU23","v":0},{"$f":"'Financial Model'!BV23","v":0},{"$f":"'Financial Model'!BW23","v":0},{"$f":"'Financial Model'!BX23","v":0},{"$f":"'Financial Model'!BY23","v":0},{"$f":"'Financial Model'!BZ23","v":0},{"$f":"'Financial Model'!CA23","v":0},{"$f":"'Financial Model'!CB23","v":0},{"$f":"'Financial Model'!CC23","v":0},{"$f":"'Financial Model'!CD23","v":0},{"$f":"'Financial Model'!CE23","v":0},{"$f":"'Financial Model'!CF23","v":0},{"$f":"'Financial Model'!CG23","v":0},{"$f":"'Financial Model'!CH23","v":0},{"$f":"'Financial Model'!CI23","v":0},{"$f":"'Financial Model'!CJ23","v":0},{"$f":"'Financial Model'!CK23","v":0},{"$f":"'Financial Model'!CL23","v":0},{"$f":"'Financial Model'!CM23","v":0},{"$f":"'Financial Model'!CN23","v":0},{"$f":"'Financial Model'!CO23","v":0},{"$f":"'Financial Model'!CP23","v":0},{"$f":"'Financial Model'!CQ23","v":0},{"$f":"'Financial Model'!CR23","v":0},{"$f":"'Financial Model'!CS23","v":0},{"$f":"'Financial Model'!CT23","v":0},{"$f":"'Financial Model'!CU23","v":0},{"$f":"'Financial Model'!CV23","v":0},{"$f":"'Financial Model'!CW23","v":0},{"$f":"'Financial Model'!CX23","v":0},{"$f":"'Financial Model'!CY23","v":0},{"$f":"'Financial Model'!CZ23","v":0},{"$f":"'Financial Model'!DA23","v":0},{"$f":"'Financial Model'!DB23","v":0},{"$f":"'Financial Model'!DC23","v":0},{"$f":"'Financial Model'!DD23","v":0},{"$f":"'Financial Model'!DE23","v":0},{"$f":"'Financial Model'!DF23","v":0},{"$f":"'Financial Model'!DG23","v":0},{"$f":"'Financial Model'!DH23","v":0},{"$f":"'Financial Model'!DI23","v":0},{"$f":"'Financial Model'!DJ23","v":0},{"$f":"'Financial Model'!DK23","v":0},{"$f":"'Financial Model'!DL23","v":0},{"$f":"'Financial Model'!DM23","v":0},{"$f":"'Financial Model'!DN23","v":0},{"$f":"'Financial Model'!DO23","v":0},{"$f":"'Financial Model'!DP23","v":0},{"$f":"'Financial Model'!DQ23","v":0},{"$f":"'Financial Model'!DR23","v":0},{"$f":"'Financial Model'!DS23","v":0},{"$f":"'Financial Model'!DT23","v":0},{"$f":"'Financial Model'!DU23","v":0},{"$f":"'Financial Model'!DV23","v":0},{"$f":"'Financial Model'!DW23","v":0},{"$f":"'Financial Model'!DX23","v":0},{"$f":"'Financial Model'!DY23","v":0},{"$f":"'Financial Model'!DZ23","v":0},{"$f":"'Financial Model'!EA23","v":0},{"$f":"'Financial Model'!EB23","v":0},{"$f":"'Financial Model'!EC23","v":0},{"$f":"'Financial Model'!ED23","v":0},{"$f":"'Financial Model'!EE23","v":0},{"$f":"'Financial Model'!EF23","v":0},{"$f":"'Financial Model'!EG23","v":0},{"$f":"'Financial Model'!EH23","v":0},{"$f":"'Financial Model'!EI23","v":0},{"$f":"'Financial Model'!EJ23","v":0},{"$f":"'Financial Model'!EK23","v":0},{"$f":"'Financial Model'!EL23","v":0},{"$f":"'Financial Model'!EM23","v":0},{"$f":"'Financial Model'!EN23","v":0},{"$f":"'Financial Model'!EO23","v":0},{"$f":"'Financial Model'!EP23","v":0},{"$f":"'Financial Model'!EQ23","v":0},{"$f":"'Financial Model'!ER23","v":0},{"$f":"'Financial Model'!ES23","v":0},{"$f":"'Financial Model'!ET23","v":0},{"$f":"'Financial Model'!EU23","v":0},{"$f":"'Financial Model'!EV23","v":0},{"$f":"'Financial Model'!EW23","v":0},{"$f":"'Financial Model'!EX23","v":0},{"$f":"'Financial Model'!EY23","v":0},{"$f":"'Financial Model'!EZ23","v":0},{"$f":"'Financial Model'!FA23","v":0},{"$f":"'Financial Model'!FB23","v":0},{"$f":"'Financial Model'!FC23","v":0},{"$f":"'Financial Model'!FD23","v":0},{"$f":"'Financial Model'!FE23","v":0},{"$f":"'Financial Model'!FF23","v":0},{"$f":"'Financial Model'!FG23","v":0},{"$f":"'Financial Model'!FH23","v":0},{"$f":"'Financial Model'!FI23","v":0},{"$f":"'Financial Model'!FJ23","v":0},{"$f":"'Financial Model'!FK23","v":0},{"$f":"'Financial Model'!FL23","v":0},{"$f":"'Financial Model'!FM23","v":0},{"$f":"'Financial Model'!FN23","v":0},{"$f":"'Financial Model'!FO23","v":0},{"$f":"'Financial Model'!FP23","v":0},{"$f":"'Financial Model'!FQ23","v":0},{"$f":"'Financial Model'!FR23","v":0},{"$f":"'Financial Model'!FS23","v":0},{"$f":"'Financial Model'!FT23","v":0},{"$f":"'Financial Model'!FU23","v":0},{"$f":"'Financial Model'!FV23","v":0},{"$f":"'Financial Model'!FW23","v":0},{"$f":"'Financial Model'!FX23","v":0},{"$f":"'Financial Model'!FY23","v":0},{"$f":"'Financial Model'!FZ23","v":0},{"$f":"'Financial Model'!GA23","v":0},{"$f":"'Financial Model'!GB23","v":0},{"$f":"'Financial Model'!GC23","v":0},{"$f":"'Financial Model'!GD23","v":0},{"$f":"'Financial Model'!GE23","v":0},{"$f":"'Financial Model'!GF23","v":0},{"$f":"'Financial Model'!GG23","v":0},{"$f":"'Financial Model'!GH23","v":0},{"$f":"'Financial Model'!GI23","v":0},{"$f":"'Financial Model'!GJ23","v":0},{"$f":"'Financial Model'!GK23","v":0},{"$f":"'Financial Model'!GL23","v":0},{"$f":"'Financial Model'!GM23","v":0},{"$f":"'Financial Model'!GN23","v":0},{"$f":"'Financial Model'!GO23","v":0},{"$f":"'Financial Model'!GP23","v":0},{"$f":"'Financial Model'!GQ23","v":0},{"$f":"'Financial Model'!GR23","v":0},{"$f":"'Financial Model'!GS23","v":0},{"$f":"'Financial Model'!GT23","v":0},{"$f":"'Financial Model'!GU23","v":0},{"$f":"'Financial Model'!GV23","v":0},{"$f":"'Financial Model'!GW23","v":0},{"$f":"'Financial Model'!GX23","v":0},{"$f":"'Financial Model'!GY23","v":0},{"$f":"'Financial Model'!GZ23","v":0},{"$f":"'Financial Model'!HA23","v":0},{"$f":"'Financial Model'!HB23","v":0},{"$f":"'Financial Model'!HC23","v":0},{"$f":"'Financial Model'!HD23","v":0},{"$f":"'Financial Model'!HE23","v":0},{"$f":"'Financial Model'!HF23","v":0},{"$f":"'Financial Model'!HG23","v":0},{"$f":"'Financial Model'!HH23","v":0},{"$f":"'Financial Model'!HI23","v":0},{"$f":"'Financial Model'!HJ23","v":0},{"$f":"'Financial Model'!HK23","v":0},{"$f":"'Financial Model'!HL23","v":0},{"$f":"'Financial Model'!HM23","v":0},{"$f":"'Financial Model'!HN23","v":0},{"$f":"'Financial Model'!HO23","v":0},{"$f":"'Financial Model'!HP23","v":0},{"$f":"'Financial Model'!HQ23","v":0},{"$f":"'Financial Model'!HR23","v":0},{"$f":"'Financial Model'!HS23","v":0},{"$f":"'Financial Model'!HT23","v":0},{"$f":"'Financial Model'!HU23","v":0},{"$f":"'Financial Model'!HV23","v":0},{"$f":"'Financial Model'!HW23","v":0},{"$f":"'Financial Model'!HX23","v":0},{"$f":"'Financial Model'!HY23","v":0},{"$f":"'Financial Model'!HZ23","v":0},{"$f":"'Financial Model'!IA23","v":0},{"$f":"'Financial Model'!IB23","v":0},{"$f":"'Financial Model'!IC23","v":0},{"$f":"'Financial Model'!ID23","v":0},{"$f":"'Financial Model'!IE23","v":0},{"$f":"'Financial Model'!IF23","v":0},{"$f":"'Financial Model'!IG23","v":0},{"$f":"'Financial Model'!IH23","v":0},{"$f":"'Financial Model'!II23","v":0},{"$f":"'Financial Model'!IJ23","v":0},{"$f":"'Financial Model'!IK23","v":0},{"$f":"'Financial Model'!IL23","v":0},{"$f":"'Financial Model'!IM23","v":0},{"$f":"'Financial Model'!IN23","v":0},{"$f":"'Financial Model'!IO23","v":0},{"$f":"'Financial Model'!IP23","v":0},{"$f":"'Financial Model'!IQ23","v":0},{"$f":"'Financial Model'!IR23","v":0},{"$f":"'Financial Model'!IS23","v":0},{"$f":"'Financial Model'!IT23","v":0},{"$f":"'Financial Model'!IU23","v":0},{"$f":"'Financial Model'!IV23","v":0},{"$f":"'Financial Model'!IW23","v":0},{"$f":"'Financial Model'!IX23","v":0},{"$f":"'Financial Model'!IY23","v":0},{"$f":"'Financial Model'!IZ23","v":0},{"$f":"'Financial Model'!JA23","v":0},{"$f":"'Financial Model'!JB23","v":0},{"$f":"'Financial Model'!JC23","v":0},{"$f":"'Financial Model'!JD23","v":0},{"$f":"'Financial Model'!JE23","v":0},{"$f":"'Financial Model'!JF23","v":0},{"$f":"'Financial Model'!JG23","v":0},{"$f":"'Financial Model'!JH23","v":0},{"$f":"'Financial Model'!JI23","v":0},{"$f":"'Financial Model'!JJ23","v":0},{"$f":"'Financial Model'!JK23","v":0},{"$f":"'Financial Model'!JL23","v":0},{"$f":"'Financial Model'!JM23","v":0},{"$f":"'Financial Model'!JN23","v":0},{"$f":"'Financial Model'!JO23","v":0},{"$f":"'Financial Model'!JP23","v":0},{"$f":"'Financial Model'!JQ23","v":0},{"$f":"'Financial Model'!JR23","v":0},{"$f":"'Financial Model'!JS23","v":0},{"$f":"'Financial Model'!JT23","v":0},{"$f":"'Financial Model'!JU23","v":0},{"$f":"'Financial Model'!JV23","v":0},{"$f":"'Financial Model'!JW23","v":0},{"$f":"'Financial Model'!JX23","v":0},{"$f":"'Financial Model'!JY23","v":0},{"$f":"'Financial Model'!JZ23","v":0},{"$f":"'Financial Model'!KA23","v":0},{"$f":"'Financial Model'!KB23","v":0},{"$f":"'Financial Model'!KC23","v":0},{"$f":"'Financial Model'!KD23","v":0},{"$f":"'Financial Model'!KE23","v":0},{"$f":"'Financial Model'!KF23","v":0},{"$f":"'Financial Model'!KG23","v":0},{"$f":"'Financial Model'!KH23","v":0},{"$f":"'Financial Model'!KI23","v":0},{"$f":"'Financial Model'!KJ23","v":0},{"$f":"'Financial Model'!KK23","v":0},{"$f":"'Financial Model'!KL23","v":0},{"$f":"'Financial Model'!KM23","v":0},{"$f":"'Financial Model'!KN23","v":0},{"$f":"'Financial Model'!KO23","v":0},{"$f":"'Financial Model'!KP23","v":0},{"$f":"'Financial Model'!KQ23","v":0},{"$f":"'Financial Model'!KR23","v":0},{"$f":"'Financial Model'!KS23","v":0},{"$f":"'Financial Model'!KT23","v":0},{"$f":"'Financial Model'!KU23","v":0},{"$f":"'Financial Model'!KV23","v":0},{"$f":"'Financial Model'!KW23","v":0},{"$f":"'Financial Model'!KX23","v":0},{"$f":"'Financial Model'!KY23","v":0},{"$f":"'Financial Model'!KZ23","v":0},{"$f":"'Financial Model'!LA23","v":0},{"$f":"'Financial Model'!LB23","v":0},{"$f":"'Financial Model'!LC23","v":0},{"$f":"'Financial Model'!LD23","v":0},{"$f":"'Financial Model'!LE23","v":0},{"$f":"'Financial Model'!LF23","v":0},{"$f":"'Financial Model'!LG23","v":0},{"$f":"'Financial Model'!LH23","v":0},{"$f":"'Financial Model'!LI23","v":0},{"$f":"'Financial Model'!LJ23","v":0},{"$f":"'Financial Model'!LK23","v":0},{"$f":"'Financial Model'!LL23","v":0},{"$f":"'Financial Model'!LM23","v":0},{"$f":"'Financial Model'!LN23","v":0},{"$f":"'Financial Model'!LO23","v":0},{"$f":"'Financial Model'!LP23","v":0},{"$f":"'Financial Model'!LQ23","v":0},{"$f":"'Financial Model'!LR23","v":0},{"$f":"'Financial Model'!LS23","v":0},{"$f":"'Financial Model'!LT23","v":0},{"$f":"'Financial Model'!LU23","v":0},{"$f":"'Financial Model'!LV23","v":0},{"$f":"'Financial Model'!LW23","v":0},{"$f":"'Financial Model'!LX23","v":0},{"$f":"'Financial Model'!LY23","v":0},{"$f":"'Financial Model'!LZ23","v":0},{"$f":"'Financial Model'!MA23","v":0},{"$f":"'Financial Model'!MB23","v":0},{"$f":"'Financial Model'!MC23","v":0},{"$f":"'Financial Model'!MD23","v":0},{"$f":"'Financial Model'!ME23","v":0},{"$f":"'Financial Model'!MF23","v":0},{"$f":"'Financial Model'!MG23","v":0},{"$f":"'Financial Model'!MH23","v":0},{"$f":"'Financial Model'!MI23","v":0},{"$f":"'Financial Model'!MJ23","v":0},{"$f":"'Financial Model'!MK23","v":0},{"$f":"'Financial Model'!ML23","v":0},{"$f":"'Financial Model'!MM23","v":0},{"$f":"'Financial Model'!MN23","v":0},{"$f":"'Financial Model'!MO23","v":0},{"$f":"'Financial Model'!MP23","v":0},{"$f":"'Financial Model'!MQ23","v":0},{"$f":"'Financial Model'!MR23","v":0},{"$f":"'Financial Model'!MS23","v":0},{"$f":"'Financial Model'!MT23","v":0},{"$f":"'Financial Model'!MU23","v":0},{"$f":"'Financial Model'!MV23","v":0},{"$f":"'Financial Model'!MW23","v":0},{"$f":"'Financial Model'!MX23","v":0},{"$f":"'Financial Model'!MY23","v":0},{"$f":"'Financial Model'!MZ23","v":0},{"$f":"'Financial Model'!NA23","v":0},{"$f":"'Financial Model'!NB23","v":0},{"$f":"'Financial Model'!NC23","v":0},{"$f":"'Financial Model'!ND23","v":0},{"$f":"'Financial Model'!NE23","v":0},{"$f":"'Financial Model'!NF23","v":0},{"$f":"'Financial Model'!NG23","v":0},{"$f":"'Financial Model'!NH23","v":0},{"$f":"'Financial Model'!NI23","v":0},{"$f":"'Financial Model'!NJ23","v":0},{"$f":"'Financial Model'!NK23","v":0},{"$f":"'Financial Model'!NL23","v":0},{"$f":"'Financial Model'!NM23","v":0},{"$f":"'Financial Model'!NN23","v":0},{"$f":"'Financial Model'!NO23","v":0},{"$f":"'Financial Model'!NP23","v":0},{"$f":"'Financial Model'!NQ23","v":0},{"$f":"'Financial Model'!NR23","v":0},{"$f":"'Financial Model'!NS23","v":0},{"$f":"'Financial Model'!NT23","v":0},{"$f":"'Financial Model'!NU23","v":0},{"$f":"'Financial Model'!NV23","v":0},{"$f":"'Financial Model'!NW23","v":0},{"$f":"'Financial Model'!NX23","v":0},{"$f":"'Financial Model'!NY23","v":0},{"$f":"'Financial Model'!NZ23","v":0},{"$f":"'Financial Model'!OA23","v":0},{"$f":"'Financial Model'!OB23","v":0},{"$f":"'Financial Model'!OC23","v":0},{"$f":"'Financial Model'!OD23","v":0},{"$f":"'Financial Model'!OE23","v":0},{"$f":"'Financial Model'!OF23","v":0},{"$f":"'Financial Model'!OG23","v":0},{"$f":"'Financial Model'!OH23","v":0},{"$f":"'Financial Model'!OI23","v":0},{"$f":"'Financial Model'!OJ23","v":0},{"$f":"'Financial Model'!OK23","v":0},{"$f":"'Financial Model'!OL23","v":0},{"$f":"'Financial Model'!OM23","v":0},{"$f":"'Financial Model'!ON23","v":0},{"$f":"'Financial Model'!OO23","v":0},{"$f":"'Financial Model'!OP23","v":0},{"$f":"'Financial Model'!OQ23","v":0},{"$f":"'Financial Model'!OR23","v":0},{"$f":"'Financial Model'!OS23","v":0},{"$f":"'Financial Model'!OT23","v":0},{"$f":"'Financial Model'!OU23","v":0},{"$f":"'Financial Model'!OV23","v":0},{"$f":"'Financial Model'!OW23","v":0},{"$f":"'Financial Model'!OX23","v":0},{"$f":"'Financial Model'!OY23","v":0},{"$f":"'Financial Model'!OZ23","v":0},{"$f":"'Financial Model'!PA23","v":0},{"$f":"'Financial Model'!PB23","v":0},{"$f":"'Financial Model'!PC23","v":0},{"$f":"'Financial Model'!PD23","v":0},{"$f":"'Financial Model'!PE23","v":0},{"$f":"'Financial Model'!PF23","v":0},{"$f":"'Financial Model'!PG23","v":0},{"$f":"'Financial Model'!PH23","v":0},{"$f":"'Financial Model'!PI23","v":0},{"$f":"'Financial Model'!PJ23","v":0},{"$f":"'Financial Model'!PK23","v":0},{"$f":"'Financial Model'!PL23","v":0},{"$f":"'Financial Model'!PM23","v":0},{"$f":"'Financial Model'!PN23","v":0},{"$f":"'Financial Model'!PO23","v":0},{"$f":"'Financial Model'!PP23","v":0},{"$f":"'Financial Model'!PQ23","v":0},{"$f":"'Financial Model'!PR23","v":0},{"$f":"'Financial Model'!PS23","v":0},{"$f":"'Financial Model'!PT23","v":0}]
[null,null,"Quantity_P90",null,"InputS",{"$f":"'Financial Model'!K102","v":0},{"$f":"'Financial Model'!L102","v":206363.5689611618},{"$f":"'Financial Model'!M102","v":205331.75111635603},{"$f":"'Financial Model'!N102","v":204305.09236077429},{"$f":"'Financial Model'!O102","v":203283.56689897043},{"$f":"'Financial Model'!P102","v":202267.14906447561},{"$f":"'Financial Model'!Q102","v":201255.81331915324},{"$f":"'Financial Model'!R102","v":200249.5342525575},{"$f":"'Financial Model'!S102","v":199248.28658129476},{"$f":"'Financial Model'!T102","v":198252.04514838831},{"$f":"'Financial Model'!U102","v":197260.78492264636},{"$f":"'Financial Model'!V102","v":196274.48099803313},{"$f":"'Financial Model'!W102","v":195293.108593043},{"$f":"'Financial Model'!X102","v":194316.64305007778},{"$f":"'Financial Model'!Y102","v":193345.05983482744},{"$f":"'Financial Model'!Z102","v":192378.3345356533},{"$f":"'Financial Model'!AA102","v":191416.44286297506},{"$f":"'Financial Model'!AB102","v":190459.36064866022},{"$f":"'Financial Model'!AC102","v":189507.06384541694},{"$f":"'Financial Model'!AD102","v":188559.52852618985},{"$f":"'Financial Model'!AE102","v":187616.73088355892},{"$f":"'Financial Model'!AF102","v":186678.64722914115},{"$f":"'Financial Model'!AG102","v":185745.25399299548},{"$f":"'Financial Model'!AH102","v":184816.52772303051},{"$f":"'Financial Model'!AI102","v":183892.44508441541},{"$f":"'Financial Model'!AJ102","v":182972.98285899335},{"$f":"'Financial Model'!AK102","v":0},{"$f":"'Financial Model'!AL102","v":0},{"$f":"'Financial Model'!AM102","v":0},{"$f":"'Financial Model'!AN102","v":0},{"$f":"'Financial Model'!AO102","v":0},{"$f":"'Financial Model'!AP102","v":0},{"$f":"'Financial Model'!AQ102","v":0},{"$f":"'Financial Model'!AR102","v":0},{"$f":"'Financial Model'!AS102","v":0},{"$f":"'Financial Model'!AT102","v":0},{"$f":"'Financial Model'!AU102","v":0},{"$f":"'Financial Model'!AV102","v":0},{"$f":"'Financial Model'!AW102","v":0},{"$f":"'Financial Model'!AX102","v":0},{"$f":"'Financial Model'!AY102","v":0},{"$f":"'Financial Model'!AZ102","v":0},{"$f":"'Financial Model'!BA102","v":0},{"$f":"'Financial Model'!BB102","v":0},{"$f":"'Financial Model'!BC102","v":0},{"$f":"'Financial Model'!BD102","v":0},{"$f":"'Financial Model'!BE102","v":0},{"$f":"'Financial Model'!BF102","v":0},{"$f":"'Financial Model'!BG102","v":0},{"$f":"'Financial Model'!BH102","v":0},{"$f":"'Financial Model'!BI102","v":0},{"$f":"'Financial Model'!BJ102","v":0},{"$f":"'Financial Model'!BK102","v":0},{"$f":"'Financial Model'!BL102","v":0},{"$f":"'Financial Model'!BM102","v":0},{"$f":"'Financial Model'!BN102","v":0},{"$f":"'Financial Model'!BO102","v":0},{"$f":"'Financial Model'!BP102","v":0},{"$f":"'Financial Model'!BQ102","v":0},{"$f":"'Financial Model'!BR102","v":0},{"$f":"'Financial Model'!BS102","v":0},{"$f":"'Financial Model'!BT102","v":0},{"$f":"'Financial Model'!BU102","v":0},{"$f":"'Financial Model'!BV102","v":0},{"$f":"'Financial Model'!BW102","v":0},{"$f":"'Financial Model'!BX102","v":0},{"$f":"'Financial Model'!BY102","v":0},{"$f":"'Financial Model'!BZ102","v":0},{"$f":"'Financial Model'!CA102","v":0},{"$f":"'Financial Model'!CB102","v":0},{"$f":"'Financial Model'!CC102","v":0},{"$f":"'Financial Model'!CD102","v":0},{"$f":"'Financial Model'!CE102","v":0},{"$f":"'Financial Model'!CF102","v":0},{"$f":"'Financial Model'!CG102","v":0},{"$f":"'Financial Model'!CH102","v":0},{"$f":"'Financial Model'!CI102","v":0},{"$f":"'Financial Model'!CJ102","v":0},{"$f":"'Financial Model'!CK102","v":0},{"$f":"'Financial Model'!CL102","v":0},{"$f":"'Financial Model'!CM102","v":0},{"$f":"'Financial Model'!CN102","v":0},{"$f":"'Financial Model'!CO102","v":0},{"$f":"'Financial Model'!CP102","v":0},{"$f":"'Financial Model'!CQ102","v":0},{"$f":"'Financial Model'!CR102","v":0},{"$f":"'Financial Model'!CS102","v":0},{"$f":"'Financial Model'!CT102","v":0},{"$f":"'Financial Model'!CU102","v":0},{"$f":"'Financial Model'!CV102","v":0},{"$f":"'Financial Model'!CW102","v":0},{"$f":"'Financial Model'!CX102","v":0},{"$f":"'Financial Model'!CY102","v":0},{"$f":"'Financial Model'!CZ102","v":0},{"$f":"'Financial Model'!DA102","v":0},{"$f":"'Financial Model'!DB102","v":0},{"$f":"'Financial Model'!DC102","v":0},{"$f":"'Financial Model'!DD102","v":0},{"$f":"'Financial Model'!DE102","v":0},{"$f":"'Financial Model'!DF102","v":0},{"$f":"'Financial Model'!DG102","v":0},{"$f":"'Financial Model'!DH102","v":0},{"$f":"'Financial Model'!DI102","v":0},{"$f":"'Financial Model'!DJ102","v":0},{"$f":"'Financial Model'!DK102","v":0},{"$f":"'Financial Model'!DL102","v":0},{"$f":"'Financial Model'!DM102","v":0},{"$f":"'Financial Model'!DN102","v":0},{"$f":"'Financial Model'!DO102","v":0},{"$f":"'Financial Model'!DP102","v":0},{"$f":"'Financial Model'!DQ102","v":0},{"$f":"'Financial Model'!DR102","v":0},{"$f":"'Financial Model'!DS102","v":0},{"$f":"'Financial Model'!DT102","v":0},{"$f":"'Financial Model'!DU102","v":0},{"$f":"'Financial Model'!DV102","v":0},{"$f":"'Financial Model'!DW102","v":0},{"$f":"'Financial Model'!DX102","v":0},{"$f":"'Financial Model'!DY102","v":0},{"$f":"'Financial Model'!DZ102","v":0},{"$f":"'Financial Model'!EA102","v":0},{"$f":"'Financial Model'!EB102","v":0},{"$f":"'Financial Model'!EC102","v":0},{"$f":"'Financial Model'!ED102","v":0},{"$f":"'Financial Model'!EE102","v":0},{"$f":"'Financial Model'!EF102","v":0},{"$f":"'Financial Model'!EG102","v":0},{"$f":"'Financial Model'!EH102","v":0},{"$f":"'Financial Model'!EI102","v":0},{"$f":"'Financial Model'!EJ102","v":0},{"$f":"'Financial Model'!EK102","v":0},{"$f":"'Financial Model'!EL102","v":0},{"$f":"'Financial Model'!EM102","v":0},{"$f":"'Financial Model'!EN102","v":0},{"$f":"'Financial Model'!EO102","v":0},{"$f":"'Financial Model'!EP102","v":0},{"$f":"'Financial Model'!EQ102","v":0},{"$f":"'Financial Model'!ER102","v":0},{"$f":"'Financial Model'!ES102","v":0},{"$f":"'Financial Model'!ET102","v":0},{"$f":"'Financial Model'!EU102","v":0},{"$f":"'Financial Model'!EV102","v":0},{"$f":"'Financial Model'!EW102","v":0},{"$f":"'Financial Model'!EX102","v":0},{"$f":"'Financial Model'!EY102","v":0},{"$f":"'Financial Model'!EZ102","v":0},{"$f":"'Financial Model'!FA102","v":0},{"$f":"'Financial Model'!FB102","v":0},{"$f":"'Financial Model'!FC102","v":0},{"$f":"'Financial Model'!FD102","v":0},{"$f":"'Financial Model'!FE102","v":0},{"$f":"'Financial Model'!FF102","v":0},{"$f":"'Financial Model'!FG102","v":0},{"$f":"'Financial Model'!FH102","v":0},{"$f":"'Financial Model'!FI102","v":0},{"$f":"'Financial Model'!FJ102","v":0},{"$f":"'Financial Model'!FK102","v":0},{"$f":"'Financial Model'!FL102","v":0},{"$f":"'Financial Model'!FM102","v":0},{"$f":"'Financial Model'!FN102","v":0},{"$f":"'Financial Model'!FO102","v":0},{"$f":"'Financial Model'!FP102","v":0},{"$f":"'Financial Model'!FQ102","v":0},{"$f":"'Financial Model'!FR102","v":0},{"$f":"'Financial Model'!FS102","v":0},{"$f":"'Financial Model'!FT102","v":0},{"$f":"'Financial Model'!FU102","v":0},{"$f":"'Financial Model'!FV102","v":0},{"$f":"'Financial Model'!FW102","v":0},{"$f":"'Financial Model'!FX102","v":0},{"$f":"'Financial Model'!FY102","v":0},{"$f":"'Financial Model'!FZ102","v":0},{"$f":"'Financial Model'!GA102","v":0},{"$f":"'Financial Model'!GB102","v":0},{"$f":"'Financial Model'!GC102","v":0},{"$f":"'Financial Model'!GD102","v":0},{"$f":"'Financial Model'!GE102","v":0},{"$f":"'Financial Model'!GF102","v":0},{"$f":"'Financial Model'!GG102","v":0},{"$f":"'Financial Model'!GH102","v":0},{"$f":"'Financial Model'!GI102","v":0},{"$f":"'Financial Model'!GJ102","v":0},{"$f":"'Financial Model'!GK102","v":0},{"$f":"'Financial Model'!GL102","v":0},{"$f":"'Financial Model'!GM102","v":0},{"$f":"'Financial Model'!GN102","v":0},{"$f":"'Financial Model'!GO102","v":0},{"$f":"'Financial Model'!GP102","v":0},{"$f":"'Financial Model'!GQ102","v":0},{"$f":"'Financial Model'!GR102","v":0},{"$f":"'Financial Model'!GS102","v":0},{"$f":"'Financial Model'!GT102","v":0},{"$f":"'Financial Model'!GU102","v":0},{"$f":"'Financial Model'!GV102","v":0},{"$f":"'Financial Model'!GW102","v":0},{"$f":"'Financial Model'!GX102","v":0},{"$f":"'Financial Model'!GY102","v":0},{"$f":"'Financial Model'!GZ102","v":0},{"$f":"'Financial Model'!HA102","v":0},{"$f":"'Financial Model'!HB102","v":0},{"$f":"'Financial Model'!HC102","v":0},{"$f":"'Financial Model'!HD102","v":0},{"$f":"'Financial Model'!HE102","v":0},{"$f":"'Financial Model'!HF102","v":0},{"$f":"'Financial Model'!HG102","v":0},{"$f":"'Financial Model'!HH102","v":0},{"$f":"'Financial Model'!HI102","v":0},{"$f":"'Financial Model'!HJ102","v":0},{"$f":"'Financial Model'!HK102","v":0},{"$f":"'Financial Model'!HL102","v":0},{"$f":"'Financial Model'!HM102","v":0},{"$f":"'Financial Model'!HN102","v":0},{"$f":"'Financial Model'!HO102","v":0},{"$f":"'Financial Model'!HP102","v":0},{"$f":"'Financial Model'!HQ102","v":0},{"$f":"'Financial Model'!HR102","v":0},{"$f":"'Financial Model'!HS102","v":0},{"$f":"'Financial Model'!HT102","v":0},{"$f":"'Financial Model'!HU102","v":0},{"$f":"'Financial Model'!HV102","v":0},{"$f":"'Financial Model'!HW102","v":0},{"$f":"'Financial Model'!HX102","v":0},{"$f":"'Financial Model'!HY102","v":0},{"$f":"'Financial Model'!HZ102","v":0},{"$f":"'Financial Model'!IA102","v":0},{"$f":"'Financial Model'!IB102","v":0},{"$f":"'Financial Model'!IC102","v":0},{"$f":"'Financial Model'!ID102","v":0},{"$f":"'Financial Model'!IE102","v":0},{"$f":"'Financial Model'!IF102","v":0},{"$f":"'Financial Model'!IG102","v":0},{"$f":"'Financial Model'!IH102","v":0},{"$f":"'Financial Model'!II102","v":0},{"$f":"'Financial Model'!IJ102","v":0},{"$f":"'Financial Model'!IK102","v":0},{"$f":"'Financial Model'!IL102","v":0},{"$f":"'Financial Model'!IM102","v":0},{"$f":"'Financial Model'!IN102","v":0},{"$f":"'Financial Model'!IO102","v":0},{"$f":"'Financial Model'!IP102","v":0},{"$f":"'Financial Model'!IQ102","v":0},{"$f":"'Financial Model'!IR102","v":0},{"$f":"'Financial Model'!IS102","v":0},{"$f":"'Financial Model'!IT102","v":0},{"$f":"'Financial Model'!IU102","v":0},{"$f":"'Financial Model'!IV102","v":0},{"$f":"'Financial Model'!IW102","v":0},{"$f":"'Financial Model'!IX102","v":0},{"$f":"'Financial Model'!IY102","v":0},{"$f":"'Financial Model'!IZ102","v":0},{"$f":"'Financial Model'!JA102","v":0},{"$f":"'Financial Model'!JB102","v":0},{"$f":"'Financial Model'!JC102","v":0},{"$f":"'Financial Model'!JD102","v":0},{"$f":"'Financial Model'!JE102","v":0},{"$f":"'Financial Model'!JF102","v":0},{"$f":"'Financial Model'!JG102","v":0},{"$f":"'Financial Model'!JH102","v":0},{"$f":"'Financial Model'!JI102","v":0},{"$f":"'Financial Model'!JJ102","v":0},{"$f":"'Financial Model'!JK102","v":0},{"$f":"'Financial Model'!JL102","v":0},{"$f":"'Financial Model'!JM102","v":0},{"$f":"'Financial Model'!JN102","v":0},{"$f":"'Financial Model'!JO102","v":0},{"$f":"'Financial Model'!JP102","v":0},{"$f":"'Financial Model'!JQ102","v":0},{"$f":"'Financial Model'!JR102","v":0},{"$f":"'Financial Model'!JS102","v":0},{"$f":"'Financial Model'!JT102","v":0},{"$f":"'Financial Model'!JU102","v":0},{"$f":"'Financial Model'!JV102","v":0},{"$f":"'Financial Model'!JW102","v":0},{"$f":"'Financial Model'!JX102","v":0},{"$f":"'Financial Model'!JY102","v":0},{"$f":"'Financial Model'!JZ102","v":0},{"$f":"'Financial Model'!KA102","v":0},{"$f":"'Financial Model'!KB102","v":0},{"$f":"'Financial Model'!KC102","v":0},{"$f":"'Financial Model'!KD102","v":0},{"$f":"'Financial Model'!KE102","v":0},{"$f":"'Financial Model'!KF102","v":0},{"$f":"'Financial Model'!KG102","v":0},{"$f":"'Financial Model'!KH102","v":0},{"$f":"'Financial Model'!KI102","v":0},{"$f":"'Financial Model'!KJ102","v":0},{"$f":"'Financial Model'!KK102","v":0},{"$f":"'Financial Model'!KL102","v":0},{"$f":"'Financial Model'!KM102","v":0},{"$f":"'Financial Model'!KN102","v":0},{"$f":"'Financial Model'!KO102","v":0},{"$f":"'Financial Model'!KP102","v":0},{"$f":"'Financial Model'!KQ102","v":0},{"$f":"'Financial Model'!KR102","v":0},{"$f":"'Financial Model'!KS102","v":0},{"$f":"'Financial Model'!KT102","v":0},{"$f":"'Financial Model'!KU102","v":0},{"$f":"'Financial Model'!KV102","v":0},{"$f":"'Financial Model'!KW102","v":0},{"$f":"'Financial Model'!KX102","v":0},{"$f":"'Financial Model'!KY102","v":0},{"$f":"'Financial Model'!KZ102","v":0},{"$f":"'Financial Model'!LA102","v":0},{"$f":"'Financial Model'!LB102","v":0},{"$f":"'Financial Model'!LC102","v":0},{"$f":"'Financial Model'!LD102","v":0},{"$f":"'Financial Model'!LE102","v":0},{"$f":"'Financial Model'!LF102","v":0},{"$f":"'Financial Model'!LG102","v":0},{"$f":"'Financial Model'!LH102","v":0},{"$f":"'Financial Model'!LI102","v":0},{"$f":"'Financial Model'!LJ102","v":0},{"$f":"'Financial Model'!LK102","v":0},{"$f":"'Financial Model'!LL102","v":0},{"$f":"'Financial Model'!LM102","v":0},{"$f":"'Financial Model'!LN102","v":0},{"$f":"'Financial Model'!LO102","v":0},{"$f":"'Financial Model'!LP102","v":0},{"$f":"'Financial Model'!LQ102","v":0},{"$f":"'Financial Model'!LR102","v":0},{"$f":"'Financial Model'!LS102","v":0},{"$f":"'Financial Model'!LT102","v":0},{"$f":"'Financial Model'!LU102","v":0},{"$f":"'Financial Model'!LV102","v":0},{"$f":"'Financial Model'!LW102","v":0},{"$f":"'Financial Model'!LX102","v":0},{"$f":"'Financial Model'!LY102","v":0},{"$f":"'Financial Model'!LZ102","v":0},{"$f":"'Financial Model'!MA102","v":0},{"$f":"'Financial Model'!MB102","v":0},{"$f":"'Financial Model'!MC102","v":0},{"$f":"'Financial Model'!MD102","v":0},{"$f":"'Financial Model'!ME102","v":0},{"$f":"'Financial Model'!MF102","v":0},{"$f":"'Financial Model'!MG102","v":0},{"$f":"'Financial Model'!MH102","v":0},{"$f":"'Financial Model'!MI102","v":0},{"$f":"'Financial Model'!MJ102","v":0},{"$f":"'Financial Model'!MK102","v":0},{"$f":"'Financial Model'!ML102","v":0},{"$f":"'Financial Model'!MM102","v":0},{"$f":"'Financial Model'!MN102","v":0},{"$f":"'Financial Model'!MO102","v":0},{"$f":"'Financial Model'!MP102","v":0},{"$f":"'Financial Model'!MQ102","v":0},{"$f":"'Financial Model'!MR102","v":0},{"$f":"'Financial Model'!MS102","v":0},{"$f":"'Financial Model'!MT102","v":0},{"$f":"'Financial Model'!MU102","v":0},{"$f":"'Financial Model'!MV102","v":0},{"$f":"'Financial Model'!MW102","v":0},{"$f":"'Financial Model'!MX102","v":0},{"$f":"'Financial Model'!MY102","v":0},{"$f":"'Financial Model'!MZ102","v":0},{"$f":"'Financial Model'!NA102","v":0},{"$f":"'Financial Model'!NB102","v":0},{"$f":"'Financial Model'!NC102","v":0},{"$f":"'Financial Model'!ND102","v":0},{"$f":"'Financial Model'!NE102","v":0},{"$f":"'Financial Model'!NF102","v":0},{"$f":"'Financial Model'!NG102","v":0},{"$f":"'Financial Model'!NH102","v":0},{"$f":"'Financial Model'!NI102","v":0},{"$f":"'Financial Model'!NJ102","v":0},{"$f":"'Financial Model'!NK102","v":0},{"$f":"'Financial Model'!NL102","v":0},{"$f":"'Financial Model'!NM102","v":0},{"$f":"'Financial Model'!NN102","v":0},{"$f":"'Financial Model'!NO102","v":0},{"$f":"'Financial Model'!NP102","v":0},{"$f":"'Financial Model'!NQ102","v":0},{"$f":"'Financial Model'!NR102","v":0},{"$f":"'Financial Model'!NS102","v":0},{"$f":"'Financial Model'!NT102","v":0},{"$f":"'Financial Model'!NU102","v":0},{"$f":"'Financial Model'!NV102","v":0},{"$f":"'Financial Model'!NW102","v":0},{"$f":"'Financial Model'!NX102","v":0},{"$f":"'Financial Model'!NY102","v":0},{"$f":"'Financial Model'!NZ102","v":0},{"$f":"'Financial Model'!OA102","v":0},{"$f":"'Financial Model'!OB102","v":0},{"$f":"'Financial Model'!OC102","v":0},{"$f":"'Financial Model'!OD102","v":0},{"$f":"'Financial Model'!OE102","v":0},{"$f":"'Financial Model'!OF102","v":0},{"$f":"'Financial Model'!OG102","v":0},{"$f":"'Financial Model'!OH102","v":0},{"$f":"'Financial Model'!OI102","v":0},{"$f":"'Financial Model'!OJ102","v":0},{"$f":"'Financial Model'!OK102","v":0},{"$f":"'Financial Model'!OL102","v":0},{"$f":"'Financial Model'!OM102","v":0},{"$f":"'Financial Model'!ON102","v":0},{"$f":"'Financial Model'!OO102","v":0},{"$f":"'Financial Model'!OP102","v":0},{"$f":"'Financial Model'!OQ102","v":0},{"$f":"'Financial Model'!OR102","v":0},{"$f":"'Financial Model'!OS102","v":0},{"$f":"'Financial Model'!OT102","v":0},{"$f":"'Financial Model'!OU102","v":0},{"$f":"'Financial Model'!OV102","v":0},{"$f":"'Financial Model'!OW102","v":0},{"$f":"'Financial Model'!OX102","v":0},{"$f":"'Financial Model'!OY102","v":0},{"$f":"'Financial Model'!OZ102","v":0},{"$f":"'Financial Model'!PA102","v":0},{"$f":"'Financial Model'!PB102","v":0},{"$f":"'Financial Model'!PC102","v":0},{"$f":"'Financial Model'!PD102","v":0},{"$f":"'Financial Model'!PE102","v":0},{"$f":"'Financial Model'!PF102","v":0},{"$f":"'Financial Model'!PG102","v":0},{"$f":"'Financial Model'!PH102","v":0},{"$f":"'Financial Model'!PI102","v":0},{"$f":"'Financial Model'!PJ102","v":0},{"$f":"'Financial Model'!PK102","v":0},{"$f":"'Financial Model'!PL102","v":0},{"$f":"'Financial Model'!PM102","v":0},{"$f":"'Financial Model'!PN102","v":0},{"$f":"'Financial Model'!PO102","v":0},{"$f":"'Financial Model'!PP102","v":0},{"$f":"'Financial Model'!PQ102","v":0},{"$f":"'Financial Model'!PR102","v":0},{"$f":"'Financial Model'!PS102","v":0},{"$f":"'Financial Model'!PT102","v":0}]
[null,null,"Operating_Expense",null,"InputS",{"$f":"'Financial Model'!K41","v":0},{"$f":"'Financial Model'!L41","v":546},{"$f":"'Financial Model'!M41","v":573.30000000000007},{"$f":"'Financial Model'!N41","v":601.96500000000003},{"$f":"'Financial Model'!O41","v":632.06325000000015},{"$f":"'Financial Model'!P41","v":663.66641250000021},{"$f":"'Financial Model'!Q41","v":696.84973312500017},{"$f":"'Financial Model'!R41","v":731.69221978125029},{"$f":"'Financial Model'!S41","v":768.27683077031281},{"$f":"'Financial Model'!T41","v":806.69067230882843},{"$f":"'Financial Model'!U41","v":847.0252059242697},{"$f":"'Financial Model'!V41","v":889.37646622048339},{"$f":"'Financial Model'!W41","v":933.84528953150777},{"$f":"'Financial Model'!X41","v":980.53755400808302},{"$f":"'Financial Model'!Y41","v":1029.5644317084873},{"$f":"'Financial Model'!Z41","v":1081.0426532939118},{"$f":"'Financial Model'!AA41","v":1135.0947859586074},{"$f":"'Financial Model'!AB41","v":1191.8495252565378},{"$f":"'Financial Model'!AC41","v":1251.4420015193648},{"$f":"'Financial Model'!AD41","v":1314.0141015953329},{"$f":"'Financial Model'!AE41","v":1379.7148066750997},{"$f":"'Financial Model'!AF41","v":1448.700547008855},{"$f":"'Financial Model'!AG41","v":1521.1355743592978},{"$f":"'Financial Model'!AH41","v":1597.1923530772626},{"$f":"'Financial Model'!AI41","v":1677.0519707311259},{"$f":"'Financial Model'!AJ41","v":1760.9045692676821},{"$f":"'Financial Model'!AK41","v":0},{"$f":"'Financial Model'!AL41","v":0},{"$f":"'Financial Model'!AM41","v":0},{"$f":"'Financial Model'!AN41","v":0},{"$f":"'Financial Model'!AO41","v":0},{"$f":"'Financial Model'!AP41","v":0},{"$f":"'Financial Model'!AQ41","v":0},{"$f":"'Financial Model'!AR41","v":0},{"$f":"'Financial Model'!AS41","v":0},{"$f":"'Financial Model'!AT41","v":0},{"$f":"'Financial Model'!AU41","v":0},{"$f":"'Financial Model'!AV41","v":0},{"$f":"'Financial Model'!AW41","v":0},{"$f":"'Financial Model'!AX41","v":0},{"$f":"'Financial Model'!AY41","v":0},{"$f":"'Financial Model'!AZ41","v":0},{"$f":"'Financial Model'!BA41","v":0},{"$f":"'Financial Model'!BB41","v":0},{"$f":"'Financial Model'!BC41","v":0},{"$f":"'Financial Model'!BD41","v":0},{"$f":"'Financial Model'!BE41","v":0},{"$f":"'Financial Model'!BF41","v":0},{"$f":"'Financial Model'!BG41","v":0},{"$f":"'Financial Model'!BH41","v":0},{"$f":"'Financial Model'!BI41","v":0},{"$f":"'Financial Model'!BJ41","v":0},{"$f":"'Financial Model'!BK41","v":0},{"$f":"'Financial Model'!BL41","v":0},{"$f":"'Financial Model'!BM41","v":0},{"$f":"'Financial Model'!BN41","v":0},{"$f":"'Financial Model'!BO41","v":0},{"$f":"'Financial Model'!BP41","v":0},{"$f":"'Financial Model'!BQ41","v":0},{"$f":"'Financial Model'!BR41","v":0},{"$f":"'Financial Model'!BS41","v":0},{"$f":"'Financial Model'!BT41","v":0},{"$f":"'Financial Model'!BU41","v":0},{"$f":"'Financial Model'!BV41","v":0},{"$f":"'Financial Model'!BW41","v":0},{"$f":"'Financial Model'!BX41","v":0},{"$f":"'Financial Model'!BY41","v":0},{"$f":"'Financial Model'!BZ41","v":0},{"$f":"'Financial Model'!CA41","v":0},{"$f":"'Financial Model'!CB41","v":0},{"$f":"'Financial Model'!CC41","v":0},{"$f":"'Financial Model'!CD41","v":0},{"$f":"'Financial Model'!CE41","v":0},{"$f":"'Financial Model'!CF41","v":0},{"$f":"'Financial Model'!CG41","v":0},{"$f":"'Financial Model'!CH41","v":0},{"$f":"'Financial Model'!CI41","v":0},{"$f":"'Financial Model'!CJ41","v":0},{"$f":"'Financial Model'!CK41","v":0},{"$f":"'Financial Model'!CL41","v":0},{"$f":"'Financial Model'!CM41","v":0},{"$f":"'Financial Model'!CN41","v":0},{"$f":"'Financial Model'!CO41","v":0},{"$f":"'Financial Model'!CP41","v":0},{"$f":"'Financial Model'!CQ41","v":0},{"$f":"'Financial Model'!CR41","v":0},{"$f":"'Financial Model'!CS41","v":0},{"$f":"'Financial Model'!CT41","v":0},{"$f":"'Financial Model'!CU41","v":0},{"$f":"'Financial Model'!CV41","v":0},{"$f":"'Financial Model'!CW41","v":0},{"$f":"'Financial Model'!CX41","v":0},{"$f":"'Financial Model'!CY41","v":0},{"$f":"'Financial Model'!CZ41","v":0},{"$f":"'Financial Model'!DA41","v":0},{"$f":"'Financial Model'!DB41","v":0},{"$f":"'Financial Model'!DC41","v":0},{"$f":"'Financial Model'!DD41","v":0},{"$f":"'Financial Model'!DE41","v":0},{"$f":"'Financial Model'!DF41","v":0},{"$f":"'Financial Model'!DG41","v":0},{"$f":"'Financial Model'!DH41","v":0},{"$f":"'Financial Model'!DI41","v":0},{"$f":"'Financial Model'!DJ41","v":0},{"$f":"'Financial Model'!DK41","v":0},{"$f":"'Financial Model'!DL41","v":0},{"$f":"'Financial Model'!DM41","v":0},{"$f":"'Financial Model'!DN41","v":0},{"$f":"'Financial Model'!DO41","v":0},{"$f":"'Financial Model'!DP41","v":0},{"$f":"'Financial Model'!DQ41","v":0},{"$f":"'Financial Model'!DR41","v":0},{"$f":"'Financial Model'!DS41","v":0},{"$f":"'Financial Model'!DT41","v":0},{"$f":"'Financial Model'!DU41","v":0},{"$f":"'Financial Model'!DV41","v":0},{"$f":"'Financial Model'!DW41","v":0},{"$f":"'Financial Model'!DX41","v":0},{"$f":"'Financial Model'!DY41","v":0},{"$f":"'Financial Model'!DZ41","v":0},{"$f":"'Financial Model'!EA41","v":0},{"$f":"'Financial Model'!EB41","v":0},{"$f":"'Financial Model'!EC41","v":0},{"$f":"'Financial Model'!ED41","v":0},{"$f":"'Financial Model'!EE41","v":0},{"$f":"'Financial Model'!EF41","v":0},{"$f":"'Financial Model'!EG41","v":0},{"$f":"'Financial Model'!EH41","v":0},{"$f":"'Financial Model'!EI41","v":0},{"$f":"'Financial Model'!EJ41","v":0},{"$f":"'Financial Model'!EK41","v":0},{"$f":"'Financial Model'!EL41","v":0},{"$f":"'Financial Model'!EM41","v":0},{"$f":"'Financial Model'!EN41","v":0},{"$f":"'Financial Model'!EO41","v":0},{"$f":"'Financial Model'!EP41","v":0},{"$f":"'Financial Model'!EQ41","v":0},{"$f":"'Financial Model'!ER41","v":0},{"$f":"'Financial Model'!ES41","v":0},{"$f":"'Financial Model'!ET41","v":0},{"$f":"'Financial Model'!EU41","v":0},{"$f":"'Financial Model'!EV41","v":0},{"$f":"'Financial Model'!EW41","v":0},{"$f":"'Financial Model'!EX41","v":0},{"$f":"'Financial Model'!EY41","v":0},{"$f":"'Financial Model'!EZ41","v":0},{"$f":"'Financial Model'!FA41","v":0},{"$f":"'Financial Model'!FB41","v":0},{"$f":"'Financial Model'!FC41","v":0},{"$f":"'Financial Model'!FD41","v":0},{"$f":"'Financial Model'!FE41","v":0},{"$f":"'Financial Model'!FF41","v":0},{"$f":"'Financial Model'!FG41","v":0},{"$f":"'Financial Model'!FH41","v":0},{"$f":"'Financial Model'!FI41","v":0},{"$f":"'Financial Model'!FJ41","v":0},{"$f":"'Financial Model'!FK41","v":0},{"$f":"'Financial Model'!FL41","v":0},{"$f":"'Financial Model'!FM41","v":0},{"$f":"'Financial Model'!FN41","v":0},{"$f":"'Financial Model'!FO41","v":0},{"$f":"'Financial Model'!FP41","v":0},{"$f":"'Financial Model'!FQ41","v":0},{"$f":"'Financial Model'!FR41","v":0},{"$f":"'Financial Model'!FS41","v":0},{"$f":"'Financial Model'!FT41","v":0},{"$f":"'Financial Model'!FU41","v":0},{"$f":"'Financial Model'!FV41","v":0},{"$f":"'Financial Model'!FW41","v":0},{"$f":"'Financial Model'!FX41","v":0},{"$f":"'Financial Model'!FY41","v":0},{"$f":"'Financial Model'!FZ41","v":0},{"$f":"'Financial Model'!GA41","v":0},{"$f":"'Financial Model'!GB41","v":0},{"$f":"'Financial Model'!GC41","v":0},{"$f":"'Financial Model'!GD41","v":0},{"$f":"'Financial Model'!GE41","v":0},{"$f":"'Financial Model'!GF41","v":0},{"$f":"'Financial Model'!GG41","v":0},{"$f":"'Financial Model'!GH41","v":0},{"$f":"'Financial Model'!GI41","v":0},{"$f":"'Financial Model'!GJ41","v":0},{"$f":"'Financial Model'!GK41","v":0},{"$f":"'Financial Model'!GL41","v":0},{"$f":"'Financial Model'!GM41","v":0},{"$f":"'Financial Model'!GN41","v":0},{"$f":"'Financial Model'!GO41","v":0},{"$f":"'Financial Model'!GP41","v":0},{"$f":"'Financial Model'!GQ41","v":0},{"$f":"'Financial Model'!GR41","v":0},{"$f":"'Financial Model'!GS41","v":0},{"$f":"'Financial Model'!GT41","v":0},{"$f":"'Financial Model'!GU41","v":0},{"$f":"'Financial Model'!GV41","v":0},{"$f":"'Financial Model'!GW41","v":0},{"$f":"'Financial Model'!GX41","v":0},{"$f":"'Financial Model'!GY41","v":0},{"$f":"'Financial Model'!GZ41","v":0},{"$f":"'Financial Model'!HA41","v":0},{"$f":"'Financial Model'!HB41","v":0},{"$f":"'Financial Model'!HC41","v":0},{"$f":"'Financial Model'!HD41","v":0},{"$f":"'Financial Model'!HE41","v":0},{"$f":"'Financial Model'!HF41","v":0},{"$f":"'Financial Model'!HG41","v":0},{"$f":"'Financial Model'!HH41","v":0},{"$f":"'Financial Model'!HI41","v":0},{"$f":"'Financial Model'!HJ41","v":0},{"$f":"'Financial Model'!HK41","v":0},{"$f":"'Financial Model'!HL41","v":0},{"$f":"'Financial Model'!HM41","v":0},{"$f":"'Financial Model'!HN41","v":0},{"$f":"'Financial Model'!HO41","v":0},{"$f":"'Financial Model'!HP41","v":0},{"$f":"'Financial Model'!HQ41","v":0},{"$f":"'Financial Model'!HR41","v":0},{"$f":"'Financial Model'!HS41","v":0},{"$f":"'Financial Model'!HT41","v":0},{"$f":"'Financial Model'!HU41","v":0},{"$f":"'Financial Model'!HV41","v":0},{"$f":"'Financial Model'!HW41","v":0},{"$f":"'Financial Model'!HX41","v":0},{"$f":"'Financial Model'!HY41","v":0},{"$f":"'Financial Model'!HZ41","v":0},{"$f":"'Financial Model'!IA41","v":0},{"$f":"'Financial Model'!IB41","v":0},{"$f":"'Financial Model'!IC41","v":0},{"$f":"'Financial Model'!ID41","v":0},{"$f":"'Financial Model'!IE41","v":0},{"$f":"'Financial Model'!IF41","v":0},{"$f":"'Financial Model'!IG41","v":0},{"$f":"'Financial Model'!IH41","v":0},{"$f":"'Financial Model'!II41","v":0},{"$f":"'Financial Model'!IJ41","v":0},{"$f":"'Financial Model'!IK41","v":0},{"$f":"'Financial Model'!IL41","v":0},{"$f":"'Financial Model'!IM41","v":0},{"$f":"'Financial Model'!IN41","v":0},{"$f":"'Financial Model'!IO41","v":0},{"$f":"'Financial Model'!IP41","v":0},{"$f":"'Financial Model'!IQ41","v":0},{"$f":"'Financial Model'!IR41","v":0},{"$f":"'Financial Model'!IS41","v":0},{"$f":"'Financial Model'!IT41","v":0},{"$f":"'Financial Model'!IU41","v":0},{"$f":"'Financial Model'!IV41","v":0},{"$f":"'Financial Model'!IW41","v":0},{"$f":"'Financial Model'!IX41","v":0},{"$f":"'Financial Model'!IY41","v":0},{"$f":"'Financial Model'!IZ41","v":0},{"$f":"'Financial Model'!JA41","v":0},{"$f":"'Financial Model'!JB41","v":0},{"$f":"'Financial Model'!JC41","v":0},{"$f":"'Financial Model'!JD41","v":0},{"$f":"'Financial Model'!JE41","v":0},{"$f":"'Financial Model'!JF41","v":0},{"$f":"'Financial Model'!JG41","v":0},{"$f":"'Financial Model'!JH41","v":0},{"$f":"'Financial Model'!JI41","v":0},{"$f":"'Financial Model'!JJ41","v":0},{"$f":"'Financial Model'!JK41","v":0},{"$f":"'Financial Model'!JL41","v":0},{"$f":"'Financial Model'!JM41","v":0},{"$f":"'Financial Model'!JN41","v":0},{"$f":"'Financial Model'!JO41","v":0},{"$f":"'Financial Model'!JP41","v":0},{"$f":"'Financial Model'!JQ41","v":0},{"$f":"'Financial Model'!JR41","v":0},{"$f":"'Financial Model'!JS41","v":0},{"$f":"'Financial Model'!JT41","v":0},{"$f":"'Financial Model'!JU41","v":0},{"$f":"'Financial Model'!JV41","v":0},{"$f":"'Financial Model'!JW41","v":0},{"$f":"'Financial Model'!JX41","v":0},{"$f":"'Financial Model'!JY41","v":0},{"$f":"'Financial Model'!JZ41","v":0},{"$f":"'Financial Model'!KA41","v":0},{"$f":"'Financial Model'!KB41","v":0},{"$f":"'Financial Model'!KC41","v":0},{"$f":"'Financial Model'!KD41","v":0},{"$f":"'Financial Model'!KE41","v":0},{"$f":"'Financial Model'!KF41","v":0},{"$f":"'Financial Model'!KG41","v":0},{"$f":"'Financial Model'!KH41","v":0},{"$f":"'Financial Model'!KI41","v":0},{"$f":"'Financial Model'!KJ41","v":0},{"$f":"'Financial Model'!KK41","v":0},{"$f":"'Financial Model'!KL41","v":0},{"$f":"'Financial Model'!KM41","v":0},{"$f":"'Financial Model'!KN41","v":0},{"$f":"'Financial Model'!KO41","v":0},{"$f":"'Financial Model'!KP41","v":0},{"$f":"'Financial Model'!KQ41","v":0},{"$f":"'Financial Model'!KR41","v":0},{"$f":"'Financial Model'!KS41","v":0},{"$f":"'Financial Model'!KT41","v":0},{"$f":"'Financial Model'!KU41","v":0},{"$f":"'Financial Model'!KV41","v":0},{"$f":"'Financial Model'!KW41","v":0},{"$f":"'Financial Model'!KX41","v":0},{"$f":"'Financial Model'!KY41","v":0},{"$f":"'Financial Model'!KZ41","v":0},{"$f":"'Financial Model'!LA41","v":0},{"$f":"'Financial Model'!LB41","v":0},{"$f":"'Financial Model'!LC41","v":0},{"$f":"'Financial Model'!LD41","v":0},{"$f":"'Financial Model'!LE41","v":0},{"$f":"'Financial Model'!LF41","v":0},{"$f":"'Financial Model'!LG41","v":0},{"$f":"'Financial Model'!LH41","v":0},{"$f":"'Financial Model'!LI41","v":0},{"$f":"'Financial Model'!LJ41","v":0},{"$f":"'Financial Model'!LK41","v":0},{"$f":"'Financial Model'!LL41","v":0},{"$f":"'Financial Model'!LM41","v":0},{"$f":"'Financial Model'!LN41","v":0},{"$f":"'Financial Model'!LO41","v":0},{"$f":"'Financial Model'!LP41","v":0},{"$f":"'Financial Model'!LQ41","v":0},{"$f":"'Financial Model'!LR41","v":0},{"$f":"'Financial Model'!LS41","v":0},{"$f":"'Financial Model'!LT41","v":0},{"$f":"'Financial Model'!LU41","v":0},{"$f":"'Financial Model'!LV41","v":0},{"$f":"'Financial Model'!LW41","v":0},{"$f":"'Financial Model'!LX41","v":0},{"$f":"'Financial Model'!LY41","v":0},{"$f":"'Financial Model'!LZ41","v":0},{"$f":"'Financial Model'!MA41","v":0},{"$f":"'Financial Model'!MB41","v":0},{"$f":"'Financial Model'!MC41","v":0},{"$f":"'Financial Model'!MD41","v":0},{"$f":"'Financial Model'!ME41","v":0},{"$f":"'Financial Model'!MF41","v":0},{"$f":"'Financial Model'!MG41","v":0},{"$f":"'Financial Model'!MH41","v":0},{"$f":"'Financial Model'!MI41","v":0},{"$f":"'Financial Model'!MJ41","v":0},{"$f":"'Financial Model'!MK41","v":0},{"$f":"'Financial Model'!ML41","v":0},{"$f":"'Financial Model'!MM41","v":0},{"$f":"'Financial Model'!MN41","v":0},{"$f":"'Financial Model'!MO41","v":0},{"$f":"'Financial Model'!MP41","v":0},{"$f":"'Financial Model'!MQ41","v":0},{"$f":"'Financial Model'!MR41","v":0},{"$f":"'Financial Model'!MS41","v":0},{"$f":"'Financial Model'!MT41","v":0},{"$f":"'Financial Model'!MU41","v":0},{"$f":"'Financial Model'!MV41","v":0},{"$f":"'Financial Model'!MW41","v":0},{"$f":"'Financial Model'!MX41","v":0},{"$f":"'Financial Model'!MY41","v":0},{"$f":"'Financial Model'!MZ41","v":0},{"$f":"'Financial Model'!NA41","v":0},{"$f":"'Financial Model'!NB41","v":0},{"$f":"'Financial Model'!NC41","v":0},{"$f":"'Financial Model'!ND41","v":0},{"$f":"'Financial Model'!NE41","v":0},{"$f":"'Financial Model'!NF41","v":0},{"$f":"'Financial Model'!NG41","v":0},{"$f":"'Financial Model'!NH41","v":0},{"$f":"'Financial Model'!NI41","v":0},{"$f":"'Financial Model'!NJ41","v":0},{"$f":"'Financial Model'!NK41","v":0},{"$f":"'Financial Model'!NL41","v":0},{"$f":"'Financial Model'!NM41","v":0},{"$f":"'Financial Model'!NN41","v":0},{"$f":"'Financial Model'!NO41","v":0},{"$f":"'Financial Model'!NP41","v":0},{"$f":"'Financial Model'!NQ41","v":0},{"$f":"'Financial Model'!NR41","v":0},{"$f":"'Financial Model'!NS41","v":0},{"$f":"'Financial Model'!NT41","v":0},{"$f":"'Financial Model'!NU41","v":0},{"$f":"'Financial Model'!NV41","v":0},{"$f":"'Financial Model'!NW41","v":0},{"$f":"'Financial Model'!NX41","v":0},{"$f":"'Financial Model'!NY41","v":0},{"$f":"'Financial Model'!NZ41","v":0},{"$f":"'Financial Model'!OA41","v":0},{"$f":"'Financial Model'!OB41","v":0},{"$f":"'Financial Model'!OC41","v":0},{"$f":"'Financial Model'!OD41","v":0},{"$f":"'Financial Model'!OE41","v":0},{"$f":"'Financial Model'!OF41","v":0},{"$f":"'Financial Model'!OG41","v":0},{"$f":"'Financial Model'!OH41","v":0},{"$f":"'Financial Model'!OI41","v":0},{"$f":"'Financial Model'!OJ41","v":0},{"$f":"'Financial Model'!OK41","v":0},{"$f":"'Financial Model'!OL41","v":0},{"$f":"'Financial Model'!OM41","v":0},{"$f":"'Financial Model'!ON41","v":0},{"$f":"'Financial Model'!OO41","v":0},{"$f":"'Financial Model'!OP41","v":0},{"$f":"'Financial Model'!OQ41","v":0},{"$f":"'Financial Model'!OR41","v":0},{"$f":"'Financial Model'!OS41","v":0},{"$f":"'Financial Model'!OT41","v":0},{"$f":"'Financial Model'!OU41","v":0},{"$f":"'Financial Model'!OV41","v":0},{"$f":"'Financial Model'!OW41","v":0},{"$f":"'Financial Model'!OX41","v":0},{"$f":"'Financial Model'!OY41","v":0},{"$f":"'Financial Model'!OZ41","v":0},{"$f":"'Financial Model'!PA41","v":0},{"$f":"'Financial Model'!PB41","v":0},{"$f":"'Financial Model'!PC41","v":0},{"$f":"'Financial Model'!PD41","v":0},{"$f":"'Financial Model'!PE41","v":0},{"$f":"'Financial Model'!PF41","v":0},{"$f":"'Financial Model'!PG41","v":0},{"$f":"'Financial Model'!PH41","v":0},{"$f":"'Financial Model'!PI41","v":0},{"$f":"'Financial Model'!PJ41","v":0},{"$f":"'Financial Model'!PK41","v":0},{"$f":"'Financial Model'!PL41","v":0},{"$f":"'Financial Model'!PM41","v":0},{"$f":"'Financial Model'!PN41","v":0},{"$f":"'Financial Model'!PO41","v":0},{"$f":"'Financial Model'!PP41","v":0},{"$f":"'Financial Model'!PQ41","v":0},{"$f":"'Financial Model'!PR41","v":0},{"$f":"'Financial Model'!PS41","v":0},{"$f":"'Financial Model'!PT41","v":0}]
[null,null,"Goal_Seek_Flag",null,"InputC",0]
[null,null,"Summary_Report_Flag",null,"InputC",1]
[null,null,"Target_Equity_IRR",null,"InputC",{"$f":"'Financial Model'!F270","v":0.1100000000000001}]

{"sheet":"UDF 3 Output","index":17,"n_rows":4,"n_cols":12,"rows_kept":4,"cut":false,"hidden":false,"merged":[]}
[null,"          "]
[null,null,null,null,null,null,null,null,null,{"$f":"NPV(8%,H35:PQ35)","v":0},{"$f":"'UDF Inputs'!F28","v":0.1100000000000001},{"$f":"NPV(K2,G139:PQ139)","v":0}]
[]
[null,null,{"$f":"UDF_3('UDF Inputs'!A6:PO28)","v":0}]

{"sheet":"Check","index":18,"n_rows":11,"n_cols":79,"rows_kept":11,"cut":false,"hidden":false,"merged":[]}
[]
[null,null,null,null,"UDF","Model"]
[]
[null,null,"Debt Size -  DSCR",null,{"$f":"'UDF 3 Output'!F66","v":0},{"$f":"'Financial Model'!F125","v":19629.404735945478}]
[null,null,"EBITDA Sum - P90",null,{"$f":"SUM('UDF 3 Output'!G52:PQ52)","v":0},{"$f":"SUM('Financial Model'!K107:SC107)","v":75274.723108323873}]
[null,null,"Taxes Sum - P90",null,{"$f":"SUM('UDF 3 Output'!G53:PQ53)","v":0},{"$f":"SUM('Financial Model'!H108)","v":0}]
[null,null,"Total Funding",null,{"$f":"SUM('UDF 3 Output'!G73:PQ73)","v":0},{"$f":"'Financial Model'!H185","v":26000}]
[null,null,null,null,null,null,{"$f":"'Financial Model'!K9","v":"2026-12-31"},{"$f":"'Financial Model'!L9","v":"2027-12-31"},{"$f":"'Financial Model'!M9","v":"2028-12-31"},{"$f":"'Financial Model'!N9","v":"2029-12-31"},{"$f":"'Financial Model'!O9","v":"2030-12-31"},{"$f":"'Financial Model'!P9","v":"2031-12-31"},{"$f":"'Financial Model'!Q9","v":"2032-12-31"},{"$f":"'Financial Model'!R9","v":"2033-12-31"},{"$f":"'Financial Model'!S9","v":"2034-12-31"},{"$f":"'Financial Model'!T9","v":"2035-12-31"},{"$f":"'Financial Model'!U9","v":"2036-12-31"},{"$f":"'Financial Model'!V9","v":"2037-12-31"},{"$f":"'Financial Model'!W9","v":"2038-12-31"},{"$f":"'Financial Model'!X9","v":"2039-12-31"},{"$f":"'Financial Model'!Y9","v":"2040-12-31"},{"$f":"'Financial Model'!Z9","v":"2041-12-31"},{"$f":"'Financial Model'!AA9","v":"2042-12-31"},{"$f":"'Financial Model'!AB9","v":"2043-12-31"},{"$f":"'Financial Model'!AC9","v":"2044-12-31"},{"$f":"'Financial Model'!AD9","v":"2045-12-31"},{"$f":"'Financial Model'!AE9","v":"2046-12-31"},{"$f":"'Financial Model'!AF9","v":"2047-12-31"},{"$f":"'Financial Model'!AG9","v":"2048-12-31"},{"$f":"'Financial Model'!AH9","v":"2049-12-31"},{"$f":"'Financial Model'!AI9","v":"2050-12-31"},{"$f":"'Financial Model'!AJ9","v":"2051-12-31"},{"$f":"'Financial Model'!AK9","v":"2052-12-31"},{"$f":"'Financial Model'!AL9","v":"2053-12-31"},{"$f":"'Financial Model'!AM9","v":"2054-12-31"},{"$f":"'Financial Model'!AN9","v":"2055-12-31"},{"$f":"'Financial Model'!AO9","v":"2056-12-31"},{"$f":"'Financial Model'!AP9","v":"2057-12-31"},{"$f":"'Financial Model'!AQ9","v":"2058-12-31"},{"$f":"'Financial Model'!AR9","v":"2059-12-31"},{"$f":"'Financial Model'!AS9","v":"2060-12-31"},{"$f":"'Financial Model'!AT9","v":"2061-12-31"},{"$f":"'Financial Model'!AU9","v":"2062-12-31"},{"$f":"'Financial Model'!AV9","v":"2063-12-31"},{"$f":"'Financial Model'!AW9","v":"2064-12-31"},{"$f":"'Financial Model'!AX9","v":"2065-12-31"},{"$f":"'Financial Model'!AY9","v":"2066-12-31"},{"$f":"'Financial Model'!AZ9","v":"2067-12-31"},{"$f":"'Financial Model'!BA9","v":"2068-12-31"},{"$f":"'Financial Model'!BB9","v":"2069-12-31"},{"$f":"'Financial Model'!BC9","v":"2070-12-31"},{"$f":"'Financial Model'!BD9","v":"2071-12-31"},{"$f":"'Financial Model'!BE9","v":"2072-12-31"},{"$f":"'Financial Model'!BF9","v":"2073-12-31"},{"$f":"'Financial Model'!BG9","v":"2074-12-31"},{"$f":"'Financial Model'!BH9","v":"2075-12-31"},{"$f":"'Financial Model'!BI9","v":"2076-12-31"},{"$f":"'Financial Model'!BJ9","v":"2077-12-31"},{"$f":"'Financial Model'!BK9","v":"2078-12-31"},{"$f":"'Financial Model'!BL9","v":"2079-12-31"},{"$f":"'Financial Model'!BM9","v":"2080-12-31"},{"$f":"'Financial Model'!BN9","v":"2081-12-31"},{"$f":"'Financial Model'!BO9","v":"2082-12-31"},{"$f":"'Financial Model'!BP9","v":"2083-12-31"},{"$f":"'Financial Model'!BQ9","v":"2084-12-31"},{"$f":"'Financial Model'!BR9","v":"2085-12-31"},{"$f":"'Financial Model'!BS9","v":"2086-12-31"},{"$f":"'Financial Model'!BT9","v":"2087-12-31"},{"$f":"'Financial Model'!BU9","v":"2088-12-31"},{"$f":"'Financial Model'!BV9","v":"2089-12-31"},{"$f":"'Financial Model'!BW9","v":"2090-12-31"},{"$f":"'Financial Model'!BX9","v":"2091-12-31"},{"$f":"'Financial Model'!BY9","v":"2092-12-31"},{"$f":"'Financial Model'!BZ9","v":"2093-12-31"},{"$f":"'Financial Model'!CA9","v":"2094-12-31"},{"$f":"'Financial Model'!CB9","v":"2095-12-31"},{"$f":"'Financial Model'!CC9","v":"2096-12-31"},{"$f":"'Financial Model'!CD9","v":"2097-12-31"},{"$f":"'Financial Model'!CE9","v":"2098-12-31"}]
[null,null,"Equity Cash Flow - UDF",null,{"$f":"SUM(G9:XFD9)","v":0},null,{"$f":"'UDF 3 Output'!G150","v":0},{"$f":"'UDF 3 Output'!H150","v":0},{"$f":"'UDF 3 Output'!I150","v":0},{"$f":"'UDF 3 Output'!J150","v":0},{"$f":"'UDF 3 Output'!K150","v":0},{"$f":"'UDF 3 Output'!L150","v":0},{"$f":"'UDF 3 Output'!M150","v":0},{"$f":"'UDF 3 Output'!N150","v":0},{"$f":"'UDF 3 Output'!O150","v":0},{"$f":"'UDF 3 Output'!P150","v":0},{"$f":"'UDF 3 Output'!Q150","v":0},{"$f":"'UDF 3 Output'!R150","v":0},{"$f":"'UDF 3 Output'!S150","v":0},{"$f":"'UDF 3 Output'!T150","v":0},{"$f":"'UDF 3 Output'!U150","v":0},{"$f":"'UDF 3 Output'!V150","v":0},{"$f":"'UDF 3 Output'!W150","v":0},{"$f":"'UDF 3 Output'!X150","v":0},{"$f":"'UDF 3 Output'!Y150","v":0},{"$f":"'UDF 3 Output'!Z150","v":0},{"$f":"'UDF 3 Output'!AA150","v":0},{"$f":"'UDF 3 Output'!AB150","v":0},{"$f":"'UDF 3 Output'!AC150","v":0},{"$f":"'UDF 3 Output'!AD150","v":0},{"$f":"'UDF 3 Output'!AE150","v":0},{"$f":"'UDF 3 Output'!AF150","v":0},{"$f":"'UDF 3 Output'!AG150","v":0},{"$f":"'UDF 3 Output'!AH150","v":0},{"$f":"'UDF 3 Output'!AI150","v":0},{"$f":"'UDF 3 Output'!AJ150","v":0},{"$f":"'UDF 3 Output'!AK150","v":0},{"$f":"'UDF 3 Output'!AL150","v":0},{"$f":"'UDF 3 Output'!AM150","v":0},{"$f":"'UDF 3 Output'!AN150","v":0},{"$f":"'UDF 3 Output'!AO150","v":0},{"$f":"'UDF 3 Output'!AP150","v":0},{"$f":"'UDF 3 Output'!AQ150","v":0},{"$f":"'UDF 3 Output'!AR150","v":0},{"$f":"'UDF 3 Output'!AS150","v":0},{"$f":"'UDF 3 Output'!AT150","v":0},{"$f":"'UDF 3 Output'!AU150","v":0},{"$f":"'UDF 3 Output'!AV150","v":0},{"$f":"'UDF 3 Output'!AW150","v":0},{"$f":"'UDF 3 Output'!AX150","v":0},{"$f":"'UDF 3 Output'!AY150","v":0},{"$f":"'UDF 3 Output'!AZ150","v":0},{"$f":"'UDF 3 Output'!BA150","v":0},{"$f":"'UDF 3 Output'!BB150","v":0},{"$f":"'UDF 3 Output'!BC150","v":0},{"$f":"'UDF 3 Output'!BD150","v":0},{"$f":"'UDF 3 Output'!BE150","v":0},{"$f":"'UDF 3 Output'!BF150","v":0},{"$f":"'UDF 3 Output'!BG150","v":0},{"$f":"'UDF 3 Output'!BH150","v":0},{"$f":"'UDF 3 Output'!BI150","v":0},{"$f":"'UDF 3 Output'!BJ150","v":0},{"$f":"'UDF 3 Output'!BK150","v":0},{"$f":"'UDF 3 Output'!BL150","v":0},{"$f":"'UDF 3 Output'!BM150","v":0},{"$f":"'UDF 3 Output'!BN150","v":0},{"$f":"'UDF 3 Output'!BO150","v":0},{"$f":"'UDF 3 Output'!BP150","v":0},{"$f":"'UDF 3 Output'!BQ150","v":0},{"$f":"'UDF 3 Output'!BR150","v":0},{"$f":"'UDF 3 Output'!BS150","v":0},{"$f":"'UDF 3 Output'!BT150","v":0},{"$f":"'UDF 3 Output'!BU150","v":0},{"$f":"'UDF 3 Output'!BV150","v":0},{"$f":"'UDF 3 Output'!BW150","v":0},{"$f":"'UDF 3 Output'!BX150","v":0},{"$f":"'UDF 3 Output'!BY150","v":0},{"$f":"'UDF 3 Output'!BZ150","v":0},{"$f":"'UDF 3 Output'!CA139","v":0}]
[null,null,"Equity Cash Flow - Model",null,{"$f":"SUM(G10:XFD10)","v":27148.042708756264},null,{"$f":"'Financial Model'!K266","v":-6500},{"$f":"'Financial Model'!L266","v":559.43949139290726},{"$f":"'Financial Model'!M266","v":583.98091105571689},{"$f":"'Financial Model'!N266","v":609.59588436958666},{"$f":"'Financial Model'!O266","v":636.33121911645844},{"$f":"'Financial Model'!P266","v":664.2357560393184},{"$f":"'Financial Model'!Q266","v":693.36045673284798},{"$f":"'Financial Model'!R266","v":723.75849531294966},{"$f":"'Financial Model'!S266","v":755.4853540265774},{"$f":"'Financial Model'!T266","v":788.59892297005786},{"$f":"'Financial Model'!U266","v":823.15960409129912},{"$f":"'Financial Model'!V266","v":859.23041965863285},{"$f":"'Financial Model'!W266","v":896.87712538681717},{"$f":"'Financial Model'!X266","v":692.92664136009807},{"$f":"'Financial Model'!Y266","v":662.47752369225827},{"$f":"'Financial Model'!Z266","v":641.46595476223547},{"$f":"'Financial Model'!AA266","v":616.46919387203525},{"$f":"'Financial Model'!AB266","v":587.06915328132391},{"$f":"'Financial Model'!AC266","v":552.81004796838215},{"$f":"'Financial Model'!AD266","v":513.1951992572026},{"$f":"'Financial Model'!AE266","v":467.68357513378805},{"$f":"'Financial Model'!AF266","v":3749.8704482485919},{"$f":"'Financial Model'!AG266","v":3900.3378924038711},{"$f":"'Financial Model'!AH266","v":4057.2535417649042},{"$f":"'Financial Model'!AI266","v":4220.8916928686431},{"$f":"'Financial Model'!AJ266","v":4391.5382039897613},{"$f":"'Financial Model'!AK266","v":0},{"$f":"'Financial Model'!AL266","v":0},{"$f":"'Financial Model'!AM266","v":0},{"$f":"'Financial Model'!AN266","v":0},{"$f":"'Financial Model'!AO266","v":0},{"$f":"'Financial Model'!AP266","v":0},{"$f":"'Financial Model'!AQ266","v":0},{"$f":"'Financial Model'!AR266","v":0},{"$f":"'Financial Model'!AS266","v":0},{"$f":"'Financial Model'!AT266","v":0},{"$f":"'Financial Model'!AU266","v":0},{"$f":"'Financial Model'!AV266","v":0},{"$f":"'Financial Model'!AW266","v":0},{"$f":"'Financial Model'!AX266","v":0},{"$f":"'Financial Model'!AY266","v":0},{"$f":"'Financial Model'!AZ266","v":0},{"$f":"'Financial Model'!BA266","v":0},{"$f":"'Financial Model'!BB266","v":0},{"$f":"'Financial Model'!BC266","v":0},{"$f":"'Financial Model'!BD266","v":0},{"$f":"'Financial Model'!BE266","v":0},{"$f":"'Financial Model'!BF266","v":0},{"$f":"'Financial Model'!BG266","v":0},{"$f":"'Financial Model'!BH266","v":0},{"$f":"'Financial Model'!BI266","v":0},{"$f":"'Financial Model'!BJ266","v":0},{"$f":"'Financial Model'!BK266","v":0},{"$f":"'Financial Model'!BL266","v":0},{"$f":"'Financial Model'!BM266","v":0},{"$f":"'Financial Model'!BN266","v":0},{"$f":"'Financial Model'!BO266","v":0},{"$f":"'Financial Model'!BP266","v":0},{"$f":"'Financial Model'!BQ266","v":0},{"$f":"'Financial Model'!BR266","v":0},{"$f":"'Financial Model'!BS266","v":0},{"$f":"'Financial Model'!BT266","v":0},{"$f":"'Financial Model'!BU266","v":0},{"$f":"'Financial Model'!BV266","v":0},{"$f":"'Financial Model'!BW266","v":0},{"$f":"'Financial Model'!BX266","v":0},{"$f":"'Financial Model'!BY266","v":0},{"$f":"'Financial Model'!BZ266","v":0},{"$f":"'Financial Model'!CA266","v":0},{"$f":"'Financial Model'!CB266","v":0},{"$f":"'Financial Model'!CC266","v":0},{"$f":"'Financial Model'!CD266","v":0},{"$f":"'Financial Model'!CE266","v":0}]
[null,null,"Difference",null,null,null,{"$f":"G9-G10","v":6500},{"$f":"H9-H10","v":-559.43949139290726},-583.98091105571689,-609.59588436958666,-636.33121911645844,-664.2357560393184,-693.36045673284798,-723.75849531294966,-755.4853540265774,-788.59892297005786,-823.15960409129912,-859.23041965863285,-896.87712538681717,-692.92664136009807,-662.47752369225827,-641.46595476223547,-616.46919387203525,-587.06915328132391,-552.81004796838215,-513.1951992572026,-467.68357513378805,-3749.8704482485919,-3900.3378924038711,-4057.2535417649042,-4220.8916928686431,-4391.5382039897613,0,0,0,0,0,0,0,0,0,0,0,0,0,0,0,0,0,0,0,0,0,0,0,0,0,0,0,0,0,0,0,0,0,0,0,0,0,0,0,{"$f":"BT9-BT10","v":0},0,0,0,0,0,0,0]

{"sheet":"Sheet1","index":19,"n_rows":0,"n_cols":0,"rows_kept":0,"cut":false,"hidden":false,"merged":[]}