{"text_format":"1","workbook":"xlsx","n_sheets":20,"sheets":["Table of Contents (Hyperlinks)","OF Asset Book","OF Asset Book (3)","OF Asset Book (2)","Chart5","Off-Shore Graph Data","OF Statistics 2011-Q3 2024","ON Asset Book","On Shore","Bio Asset Book","ON Statistics 2018-Q3 2024","BO statistics 2018-Q3 2024","Business drivers highlights","Sheet1","ON Asset Book (2)","Bio Asset Book (2)","OF Statistics 2020-Q2 2025","ON Statistics 2020-Q2 2025","BO Statistics 2020-Q2 2025","Business drivers highlights (2)"],"not_rendered":{"charts":2,"images":0,"macros":1,"external_links":2,"defined_names":630,"comments":0,"pivot_tables":0},"unopened":[{"sheet":"Chart5","index":4,"reason":"not_a_worksheet"}],"bounds":{"document_bytes":16777216,"sheet_cells":100000,"rows_first":2000,"rows_last":500,"rows_between":2000,"halvings":0,"cell_chars":16384,"cell_head_chars":4096},"cells_cut":0,"cells_raw":0,"read":"whole","date_system":"1900"}

{"sheet":"Table of Contents (Hyperlinks)","index":0,"n_rows":21,"n_cols":3,"rows_kept":21,"cut":false,"hidden":false,"merged":[]}
[]
[]
[]
[]
[]
[null,"Table of Contents"]
[]
[]
[null,"Offshore Asset Book                                      "," "]
[null,null," "]
[null,"Onshore Asset Book                                       "," "]
[null,null," "]
[null,"Bioenergy & Other Asset Book                                     "," "]
[null,null," "]
[null,"OF statistics 2011-Q3 2024               "," "]
[null,null," "]
[null,"ON statistics 2018-Q3 2024  "," "]
[null,null," "]
[null,"BO statistics 2018-Q3 2024             "," "]
[null,null," "]
[null,"Business drivers highlights               "," "]

{"sheet":"OF Asset Book","index":1,"n_rows":108,"n_cols":17,"rows_kept":108,"cut":false,"hidden":false,"merged":[]}
[]
[null,"OFFSHORE 1 - Asset Book updated as of 30 September 2024"]
[null,null,null,null,null,null,null,null,null,null,null,0.14000000000000001]
[null,null,null,"Park\ncapacity, MW2","Renewable \ncapacity15, MW","Orsted ownership\nshare, %","Generation\ncapacity, MW","Financial consolidation","Commercial operational date",null,null,"Fixed feed-in tariff, DKK/MWh"]
[null,"Denmark","Partners",null,null,null,null,null,null,"Subsidy regime","Subsidy expiry",null,"Excahnge Rate","USD/MWH"]
[null,"Anholt (111 x SWT-3.6-120)","Pension Danmark, AIP Management",399.6,399.6,"50%",199.8,"Pro rata","2013","Fixed feed-in tariff","20 TWh (17,32 TWh produced)2",1051,0.14000000000000001,{"$f":"M6*L6","v":147.14000000000001}]
[null,"Horns Rev 2 (91 x SWT-2.3-93)","-",209.3,209.3,"100%",209.3,"Full","2010","Expired 2020, market price","10 TWh",518,0.14000000000000001,{"$f":"M7*L7","v":72.52000000000001}]
[null,"Nysted (70 x (Bonus) SWT-2.3-82)","Pension Danmark, Stadtwerke Lübeck",165.5,165.5,"42.75%",81,"Pro rata","2003","Expired 2016, market price","2016 8",453,0.14000000000000001,{"$f":"M8*L8","v":63.420000000000009}]
[null,"Horns Rev 1 (8012 x Vestas V80-2.0)","Vattenfall",158,160,"40%",64,"Pro rata","2003","Market price + 100DKK/MWh3","Expiry after 20 years","-"]
[null,"Avedøre Holme (2 x SWT-3.6-120)4","-",7.2,10.8,"100%",7.2,"Full","2009 and 2011","Fixed feed-in tariff","22,000 full-load hours5","Market price + 250",0.14000000000000001,{"$f":"M10*250","v":35}]
[null,"Vindeby (11 x Bonus B35-0.45)","-",0,4.95,"100%",0,"Full","1991 (decomissioned 2017)",0,0,"-"]
[null,"Total, Installed",null,null,950.15000000000009]
[null,"Total, Divested, but constructed by Ørsted6",null,null,56]
[null,"Total, Denmark",null,null,1006.1500000000001,null,561.30000000000007]
[]
[]
[null,"United Kingdom","Partners",null,null,null,null,null,null,"Subsidy regime","Subsidy expiry","CFD Price","ROCs/MWh","ROC Price in 2023","CROC Price in 2023","Exchange","Subsidy or Contract/MWH"]
[null,"West of Duddon Sands (108 x SWT-3.6-120)","Scottish Power Renewables (Iberdrola)",388.8,388.8,0.5,194.4,"Pro rata","2014","Renewable Obligation Certificates",2034,"-",2,59.21,{"$f":"N18*M18","v":118.42},1.22,{"$f":"O18*P18","v":144.47239999999999}]
[null,"Walney 1&2 (51 x SWT-3.6-107 & 51 x SWT-3.6-120)","PGGM, Greencoat",367.2,367.2,0.501,183.96719999999999,"Full","2011 and 2012","Renewable Obligation Certificates","2031 and 2032","-",2,59.21,{"$f":"N19*M19","v":118.42},1.22,{"$f":"O19*P19","v":144.47239999999999}]
[null,"Lincs (75 x SWT-3.6-120)","Green Investment Group (GIG), Octopus Renewables",270,"-",0.25,67.5,"Pro rata","2013","Renewable Obligation Certificates",2033,"-",2,59.21,118.42,1.22,144.47239999999999]
[null,"Westermost Rough (35 x SWT-6.0-154)","Equitix, USS, Stepstone, BAE Systems Pension Funds, CLAL Insurance",210,210,0.5,105,"Pro rata","2015","Renewable Obligation Certificates",2035,"-",2,59.21,118.42,1.22,144.47239999999999]
[null,"Gunfleet Sands 1&2 (48 x SWT-3.6-107)","JERA, Development Bank of Japan (DBJ)",172.8,172.8,0.501,86.572800000000001,"Full","2010","Renewable Obligation Certificates",2029,"-",1.5,59.21,88.814999999999998,1.22,108.35429999999999]
[null,"Barrow (30 x Vestas V90-3.0)","-",90,45,1,90,"Full","2006","Renewable Obligation Certificates",2027,"-",1,59.21,59.21,1.22,72.236199999999997]
[null,"Burbo Bank (25 x SWT-3.6-107)","-",90,90,1,90,"Full","2007","Renewable Obligation Certificates",2027,"-",1.5,59.21,88.814999999999998,1.22,108.35429999999999]
[null,"Gunfleet Sands 3 (2 x SWT-6.0-120)","-",12,12,1,12,"Full","2013","Renewable Obligation Certificates",2033,"-",2,59.21,118.42,1.22,144.47239999999999]
[null,"Burbo Bank Extension (32 x MVOW V164-8.0)","LEGO (Kirkbi), Greencoat",259,259,0.5,129.5,"Pro rata",2017,"Contract for Difference",2032,150,"-",null,null,1.22,{"$f":"L26*P26","v":183}]
[null,"Race Bank (91 x SWT-6.0-154)","Macquarie (MIRA), RE Fund by Sumitomo/SMBC/DBJ, Funds managed by Arjun and Gravis",546,546,0.5,273,"Pro rata",2018,"Renewable Obligation Certificates",2037,"-",1.8,59.21,106.578,1.22,130.02516]
[null,"Walney Extension (40 x MVOW V164-8.25 & 47 x SWT-7.0-154)","AIP Management, PFA",659,659,0.5,329.5,"Pro rata",2018,"Contract for Difference","2033",150,"-",null,null,1.22,{"$f":"P28*L28","v":183}]
[null,"Hornsea 1 (174 x SWT-7.0-154)","Greencoat, TRIG & Equitix, GLIL & Octopus Renewables",1218,1218,0.5,609,"Pro rata",2019,"Contract for Difference",2036,140,"-",null,null,1.22,{"$f":"P29*L29","v":170.79999999999998}]
[null,"Hornsea 2 (165 x SGRE-8.0-167)","AXA IM Alts and Crédit Agricole Assurances",1320,1320,0.5,660,"Pro rata",2022,"Contract for Difference",2036,"57.5","-",null,null,1.22,{"$f":"L30*P30","v":70.149999999999991}]
[null,"Total, Installed",null,null,5287.8,null,2830.44,null,null,null,null,null,null,null,null,null,0]
[null,"Total, Divested, but constructed by Ørsted6",null,null,405,null,null,null,null,null,null,null,null,null,null,null,0]
[null,"Hornsea 3 18",null,2852,2852,1,0,"Full","2027 7","Contract for Difference",2042,"37.35 / 54.23","-",null,null,1.22,{"$f":"P33*37.35","v":45.567}]
[null,"Hornsea 3 BESS (ICENI)",null,300,300,"100%",0,"Full","2026 7"]
[null,"Total Decided (FID'ed)",null,null,3152]
[null,"Hornsea 4",null,null,2400,"100%",0,"Full","2030 7","Contract for Difference",2045,"58.87",null,null,null,1.22,{"$f":"L36*P36","v":71.821399999999997}]
[null,"Total, Awarded",null,null,2400,null,0]
[null,"Total, United Kingdom",null,null,11244.8,null,2830.44]
[]
[null,null,null,"Park\ncapacity, MW","Renewable \ncapacity15, MW","Orsted ownership\nshare, %","Generation\ncapacity, MW","Financial consolidation","Commercial operational date",null,"Subsidy expiry\nPeriod 1","Subsidy expiry\nPeriod 2","Fixed feed-in tariff\nPeriod 1, EUR/MWh","Fixed feed-in tariff\nPeriod 2, EUR/MWh"]
[null,"Germany","Partners",null,null,null,null,null,null,"Subsidy regime"]
[null,"Borkum Riffgrund 1 (78 x SWT-4.0-120)","Greencoat Renewables",312,312,0.5,156,"Pro rata","2015","Fixed feed-in tariff","2023","2025 9",194,154]
[null,"Borkum Riffgrund 2 (56 x MVOW V164-8.0)","Gulf Energy, Keppel Infrastructure Trust (\"KIT\")",450,450,0.5,225,"Pro rata","2018","Fixed feed-in tariff","2026",2028,184,149]
[null,"Gode Wind 1 (55 x SWT-6.0-154)","Glennmont Partners, TRIG",332,332,0.5,166,"Pro rata",2016,"Fixed feed-in tariff","2024","2026 9",194,154]
[null,"Gode Wind 2 (42 x SWT-6.0-154)","AIP, Industriens Pension, Lærerenes Pension,  Lægernes Pensionskasse",252,252,0.5,126,"Pro rata",2016,"Fixed feed-in tariff","2024","2026 9",194,154]
[null,"Total, Installed",null,null,1346,null,673]
[null,"Borkum Riffgrund 3 (83 x SGRE-11-200)","Glennmont Partners",913,913,0.5,0,"Pro rata","2026 7","Market price","-","-","-","-"]
[null,"Gode Wind 3 (23 x SGRE-11-200)","Glennmont Partners",253,253,0.5,94,"Pro rata","2024 7","Fixed feed-in tariff","2044","-",81.650000000000006,"-"]
[null,"Total, Decided (FID'ed)",null,null,1166,null,94]
[null,"Total, Germany",null,null,2512,null,767]
[]
[null,null,null,"Park\ncapacity, MW","Renewable \ncapacity15, MW","Orsted ownership\nshare, %","Generation\ncapacity, MW","Financial consolidation","Commercial operational date",null,"Subsidy expiry","Feed-in tariff, USD/MWh"]
[null,"USA","Partners",null,null,null,null,null,null,"Subsidy regime",null,null,"Price escalator, Period 1, %"]
[null,"Block Island (5 x GE-6MW)","- ",30,30,1,30,"Full",2016,"Offtake solution",2036,236,3.5]
[null,"South Fork Wind (12 x SGRE-11-200)","Global Infrastructure Partners",132,132,0.5,66,"Pro rata","2024 7","Offtake solution",2048,160,"Variable"]
[null,"Total, installed",null,null,162,null,96]
[null,"Revolution Wind","Global Infrastructure Partners",704,704,0.5,0,"Pro rata","2026 7","PPA",2045]
[null,"Sunrise Wind ",null,924,924,1,0,"Pro rata","2025 7","Offshore Renewable Energy Certificate",2050]
[null,"Total, Decided (FID'ed)",null,null,1628,null,0]
[null,"Total, USA",null,null,1790,null,96]
[]
[null,null,null,"Park\ncapacity, MW","Renewable \ncapacity15, MW","Orsted ownership\nshare, %","Generation\ncapacity, MW","Financial consolidation","Commercial operational date",null,"Subsidy expiry","Fixed feed-in tariff, EUR/MWh"]
[null,"Netherlands","Partners",null,null,null,null,null,null,"Subsidy regime"]
[null,"Borssele 1 & 2 (94 x SWT-8.0)","Norges Bank Investment Management (NBIM)",752,752,0.5,376,"Pro rata","2020 10","Fixed feed-in tariff","2035/203610",72.7]
[null,"Total, Installed",null,null,752,null,376]
[null,"Total, Netherlands",null,null,752,null,376]
[]
[null,null,null,"Park\ncapacity, MW","Renewable \ncapacity15, MW","Orsted ownership\nshare, %","Generation\ncapacity, MW","Financial consolidation","Commercial operational date",null,"Subsidy expiry\nPeriod 1","Subsidy expiry\nPeriod 2","Fixed feed-in tariff\nPeriod 1, TWD/MWh",null,null,null,"Fixed feed-in tariff\nPeriod 2, TWD/MWh"]
[null,"Taiwan","Partners",null,null,null,null,null,null,"Subsidy regime"]
[null,"Formosa 1, Phase 1 (2 x SWT-4.0-120)","JERA, Swancor Renewables, Mitsui Osk Lines (M.O.L.), Hokuriku Electric Power Company ",8,2.8,0.35,0,"One-line","2017","Fixed feed-in tariff",2027,2037,7109,null,null,null,3459]
[null,"Formosa 1, Phase 2 (20 x SWT-6.0-154)","JERA, Swancor Renewables, Mitsui Osk Lines (M.O.L.), Hokuriku Electric Power Company ",120,42,0.35,0,"One-line",2019,"Fixed feed-in tariff","2029","2039",7403,null,null,null,3595]
[null,"Greater Changhua 1 (75 x SGRE-8.0-167)","CDPQ & Cathay Private Equity",605,605,0.5,302.5,"Pro rata",2024,"Fixed feed-in tariff13","2033 13","2043 13","6,279  13",null,null,null,"4,142 13"]
[null,"Greater Changhua 2a (36 x SGRE-8.0-167)","-",295,295,1,295,"Full",2024,"Fixed feed-in tariff13","2033 13","2043 13","6,279  13",null,null,null,"4,142 13"]
[null,"Total, Installed",null,null,944.8,null,597.5]
[null,"Greater Changhua 2b and 4 (66 x SGRE-14.0)","-",920,920,1,0,"Full","2025 7","CPPA",2045,"-","-",null,null,null,"-"]
[null,"Total, Decided (FID'ed)",null,null,920,null,0]
[null,"Total, Taiwan",null,null,1864.8,null,597.5]
[]
[null,null,null,"Park\ncapacity, MW","Renewable \ncapacity15, MW","Orsted ownership\nshare, %","Generation\ncapacity, MW","Financial consolidation","Commercial operational date",null,"Subsidy expiry","Fixed feed-in tariff PLN/MWh"]
[null,"Poland","Partners",null,null,null,null,null,null,"Subsidy regime"]
[null,"Baltica 2 (107 x SGRE - 14.0)","PGE",null,1498,0.5,"-","Pro rata","2027 7","CfD",2052,319.60000000000002]
[null,"Baltica 3 17","PGE",null,1255,0.5,"-","Pro rata","By 2029 7","CfD","By 2054",319.60000000000002]
[null,"Total, Awarded",null,null,2753,null,0]
[null,"Total, Poland",null,null,2753,null,0]
[]
[null,"Totals",null,null,"MW"]
[null,"Total, Renewable capacity (installed capacity (incl. divested farms), decided capacity (parks under construction), and awarded capacity)",null,null,21921.749999999996]
[null,"Installed capacity (incl. divested farms) and decided capacity (parks under construction)",null,null,16768.749999999996]
[null,"Installed capacity (incl. divested farms)",null,null,9902.7499999999964]
[null,"Generation capacity (incl. parks under construction but excl. divested and one-line consolidated farms)",null,null,5228.24]
[]
[null,"1 Includes awarded, FID'ed and assets in operation."]
[null,"2 By 31 December 2022"]
[null,"3 The supplement depends on the development of market price and is increased pro rata – a market price below 260 DKK/MWh equals 100 DKK/MWh and over 360 DKK/MWh 0 DKK/MWh"]
[null,"4 Ørsted has installed Avedøre Holme (10,8 MW), however Ørsted has two of the three turbines on Avedøre Holme. "]
[null,"5 The first turbine reached approximately 20,019 Full Load Hours, whereas the second turbine is out of subsidy, by 31 December 2016"]
[null,"6 Denmark: Frederikshavn (11MW), Tunø Knob (5MW) and Middelgrunden (40MW); United Kingdom: Kentish Flats (90MW), London Array (315MW)"]
[null,"7 Expected year of commissioning"]
[null,"8 After expiry of fixed feed-in-tariff period expected in 2016, Nysted will receive market price + supplement dependent on the development of market price which is increased pro rata – a market price below 260 DKK/MWh equals 100 DKK/MWh and over 360 DKK/MWh 0 DKK/MWh"]
[null,"9 Floor price of 39 EUR/MWh for up to 20 years"]
[null,"10 The 15 year subsidy is based on a \"banking system\", potentially allowing for subsidy to run into year 16. 72,7/MWh Eur subsidy is the avarage subsidy price for both BSW1 and BSW2"]
[null,"12 80 turbines were constructed, however, today the wind farm consists of 79 turbines as one turbine was not replaced after a lightning incident in 2014"]
[null,"13  Developers have the option to choose between a 20-year flat tariff of TWD5,516 per MWh or a tiered tariff of TWD6,279.5 per MWh for the first 10 years and TWD4,142.2 per MWh for the subsequent 10 years. Ørsted has chosen the tiered rate."]
[null,"14  12 months window to start CfD subsidy. Expiry date dependent on start date."]
[null,"15  Renewable capacity is the sum of installed, decided (FID'ed), and awarded capacity "]
[null,"16 COD is subject to possible reconfiguration to accomodate potential schedule adjustments due to ongoing implementation of regulatory reforms to interconnectin processess, and to ensure sufficient value creation. "]
[null,"17 Includes boh Baltica 3 (1,045 MW) and the awarded lease capacity for Baltica 2+ (210 MW). Baltica 2+ has not received a CfD on the terms stated for Baltica 3 "]
[null,"18  Nameplate capacity of 2,758 MW"]

{"sheet":"OF Asset Book (3)","index":2,"n_rows":94,"n_cols":16,"rows_kept":94,"cut":false,"hidden":false,"merged":[[3,8,4,8],[3,9,4,9],[3,12,4,12],[15,2,16,2],[15,3,16,3],[15,4,16,4],[15,5,16,5],[15,6,16,6],[15,7,16,7],[15,8,16,8],[3,2,4,2],[3,3,4,3],[3,4,4,4],[3,5,4,5],[3,6,4,6],[3,7,4,7],[15,9,16,9],[15,12,16,12],[39,2,40,2],[39,3,40,3],[39,4,40,4],[39,5,40,5],[39,6,40,6],[39,7,40,7],[39,8,40,8],[39,9,40,9],[39,11,40,11],[39,12,40,12],[39,13,40,13],[39,14,40,14],[51,2,52,2],[51,3,52,3],[51,4,52,4],[51,5,52,5],[51,6,52,6],[51,7,52,7],[51,8,52,8],[51,9,52,9],[51,11,52,11],[51,12,52,12],[61,2,62,2],[61,3,62,3],[61,4,62,4],[61,5,62,5],[61,6,62,6],[61,7,62,7],[61,14,62,14],[67,2,68,2],[67,3,68,3],[67,4,68,4],[67,5,68,5],[67,6,68,6],[67,13,68,13],[61,8,62,8],[61,9,62,9],[61,11,62,11],[61,12,62,12],[79,12,80,12],[67,14,68,14],[79,2,80,2],[79,3,80,3],[79,4,80,4],[79,5,80,5],[79,6,80,6],[79,7,80,7],[79,8,80,8],[79,9,80,9],[79,11,80,11],[67,7,68,7],[67,8,68,8],[67,9,68,9],[67,11,68,11],[67,12,68,12]]}
[]
[null,"OFFSHORE  - Asset Book updated as of 30 June 2025"]
[]
[null,null,"Partners","Park\ncapacity, MW","Renewable \ncapacity, MW","Generation\ncapacity, MW","Financial consolidation","Consolidation, \n%","Ownership \ninterest, %","Commercial \noperational date",null,null,"Fixed feed-in tariff, DKK/MWh"]
[null,"Denmark","Partners",null,null,null,null,null,null,null,"Subsidy regime","Subsidy expiry",null,"Subsidy note"]
[null,"Anholt (111 x SWT-3.6-120)","Pension Danmark, AIP Management",399.6,399.6,199.8,"Pro rata","50%","50%","2013","Expired 2024, market price","20 TWh limit (Reached in 2024)",1051,"The 20 TWh subsidy expiry limit has passed and the subsidy has now expired."]
[null,"Horns Rev 2 (91 x SWT-2.3-93)","-",209.3,209.3,209.3,"Full",1,"100%","2010","Expired 2020, market price","10 TWh limit (Reached in 2020)",518,"The 10 TWh subsidy expiry limit has passed and the subsidy has now expired."]
[null,"Nysted (70 x (Bonus) SWT-2.3-82)","Pension Danmark, Stadtwerke Lübeck",165.5,165.5,80.5,"Pro rata",0.5,"42.75%","2003","Expired 2016, market price",2016,453,"Following subsidy expiry in 2016, Nysted received market price + supplement dependent on the development of market price which is increased pro rata. A market price below 260 DKK/MWh equals 100 DKK/MWh and over 360 DKK/MWh 0 DKK/MWh. The supplement has now expired."]
[null,"Horns Rev 1 (80 x Vestas V80-2.0)","Vattenfall",158,160,64,"Pro rata",0.4,"40%","2003","Fixed feed-in tariff (expired)","Expiry after 20 years (2023)","Market price + 100 DKK/MWh","The supplement depends on the development of market price and is increased pro rata – a market price below 260 DKK/MWh equals 100 DKK/MWh and over 360 DKK/MWh 0 DKK/MWh. The supplement expired in 2023."]
[null,"Avedøre Holme (2 x SWT-3.6-120)","-",7.2,10.8,7.2,"Full",1,"100%","2009 and 2011","Fixed feed-in tariff","22,000 full-load hours (2016/2018)","Market price + 250 DKK/MWh","Subsidy expiry after 22,000 FLH. The first turbine has been out of subsidy as of 2018 and the second turbine has been out of subsidy as of 2016. "]
[null,"Vindeby (11 x Bonus B35-0.45)","-",0,5,0,"Full",1,"100%","1991 (decommissioned 2017)",0,0,"-"]
[null,"Total divested, but installed by Ørsted",null,null,55.6]
[null,"Total, Installed",null,null,950.2]
[null,"Total, Denmark",null,null,1005.8000000000001,561]
[]
[null,null,"Partners","Park\ncapacity, MW","Renewable \ncapacity, MW","Generation\ncapacity, MW","Financial consolidation","Consolidation, \n%","Ownership \ninterest, %","Commercial \noperational date",null,null,"CfD,\nGBP/MWh (Real 2012)"]
[null,"United Kingdom","Partners",null,null,null,null,null,null,null,"Subsidy regime","Subsidy expiry",null,"ROCs/MWh","Subsidy note"]
[null,"West of Duddon Sands (108 x SWT-3.6-120)","Scottish Power Renewables (Iberdrola), Schroders Greencoat",388.8,388.8,99.1,"Pro rata",0.255,0.255,"2014","ROC",2034,"-",2]
[null,"Walney 1&2 (51 x SWT-3.6-107 & 51 x SWT-3.6-120)","PGGM, Greencoat",367.2,367.2,367,"Full",1,0.501,"2011 and 2012","ROC","2031 and 2032","-",2]
[null,"Lincs (75 x SWT-3.6-120)","Octopus Renewables, Macquarie",270,"-",67.5,"Pro rata",0.25,0.25,"2013","ROC",2033,"-",2]
[null,"Westermost Rough (35 x SWT-6.0-154)","Arjun Infrastructure, USS, Equitix, Macquaire",210,210,105,"Pro rata",0.5,0.5,"2015","ROC",2035,"-",2]
[null,"Gunfleet Sands 1&2 (48 x SWT-3.6-107)","JERA, Development Bank of Japan (DBJ)",172.8,172.8,172.8,"Full",1,0.501,"2010","ROC",2029,"-",1.5]
[null,"Barrow (30 x Vestas V90-3.0)",null,90,45,90,"Full",1,1,"2006","ROC",2027,"-",1]
[null,"Burbo Bank (25 x SWT-3.6-107)",null,90,90,90,"Full",1,1,"2007","ROC",2027,"-",1.5]
[null,"Gunfleet Sands 3 (2 x SWT-6.0-120)",null,12,12,12,"Full",1,1,"2013","ROC",2033,"-",2]
[null,"Burbo Bank Extension (32 x MVOW V164-8.0)","KIRKBY (LEGO), Greencoat, Brookfield Asset Management",259,259,129.5,"Pro rata",0.5,0.3755,2017,"CFD",2032,150,"-"]
[null,"Race Bank (91 x SWT-6.0-154)","Arjun Infrastructure, Norges Bank Investment Management ",546,546,273,"Pro rata",0.5,0.5,2018,"ROC",2037,"-",1.8]
[null,"Walney Extension (40 x MVOW V164-8.25 & 47 x SWT-7.0-154)","AIP Management, PFA, Brookfield Asset Management, Octopus Renewables",659,659,329.5,"Pro rata",0.5,0.3755,2018,"CFD","2033",150,"-"]
[null,"Hornsea 1 (174 x SWT-7.0-154)","Greencoat, TRIG, Equitix, GLIL & Octopus Renewables, Brookfield Asset Management, Daiwa ",1218,1218,609,"Pro rata",0.5,0.3755,2019,"CFD",2036,140,"-"]
[null,"Hornsea 2 (165 x SGRE-8.0-167)","AXA IM Alts and Crédit Agricole Assurances, Brookfield Asset Management",1320,1320,660,"Pro rata",0.5,0.3755,2022,"CFD","2038/2039","57.5","-","Phase 1 / Phase 2 and 3 expiry"]
[null,"Total, Divested but installed by Ørsted",null,null,405]
[null,"Total, Installed",null,null,5692.8]
[null,"Hornsea 3 (197 x SGRE-14.0)1",null,2852,2852,0,"Full",1,1,"expected 2027","CFD",2042,"37.35 / 54.23","-"]
[null,"Hornsea 3 BESS (ICENI)",null,300,300,0,"Full",1,"100%","expected 2026"]
[null,"Total Decided (FID'ed)",null,null,3152]
[null,"Hornsea 4",null,null,2400,0,"Full",1,"100%",null,"CFD",2045,"58.87"]
[null,"Total, Awarded",null,null,2400]
[null,"Total, United Kingdom",null,null,11244.8,3005]
[]
[null,null,"Partners","Park\ncapacity, MW","Renewable \ncapacity, MW","Generation\ncapacity, MW","Financial consolidation","Consolidation, \n%","Ownership \ninterest, %","Commercial \noperational date",null,"Subsidy expiry\nPeriod 1","Subsidy expiry\nPeriod 2","Fixed feed-in tariff\nPeriod 1, EUR/MWh","Fixed feed-in tariff\nPeriod 2, EUR/MWh"]
[null,"Germany","Partners",null,null,null,null,null,null,null,"Subsidy regime",null,null,null,null,"Subsidy note"]
[null,"Borkum Riffgrund 1 (78 x SWT-4.0-120)","Greencoat Renewables",312,312,156,"Pro rata",0.5,0.5,"2015","Fixed feed-in tariff","2023",2025,194,154,"Regarding the subsidy expiry for period 2, the floor price of 39 EUR/MWh will remain for up to 20 years"]
[null,"Borkum Riffgrund 2 (56 x MVOW V164-8.0)","Gulf Energy, Keppel Infrastructure Trust (\"KIT\")",450,450,225,"Pro rata",0.5,0.5,"2018","Fixed feed-in tariff","2026",2028,184,149]
[null,"Gode Wind 1 (55 x SWT-6.0-154)","Glennmont Partners, TRIG",332,332,166,"Pro rata",0.5,0.5,2016,"Fixed feed-in tariff","2024",2026,194,154,"Regarding the subsidy expiry for period 2, the floor price of 39 EUR/MWh will remain for up to 20 years"]
[null,"Gode Wind 2 (42 x SWT-6.0-154)","AIP, Industriens Pension, Lærerenes Pension,  Lægernes Pensionskasse",252,252,126,"Pro rata",0.5,0.5,2016,"Fixed feed-in tariff","2024",2026,194,154,"Regarding the subsidy expiry for period 2, the floor price of 39 EUR/MWh will remain for up to 20 years"]
[null,"Gode Wind 3 (23 x SGRE-11-200)","Glennmont Partners",253,253,126.5,"Pro rata",0.5,0.5,"2025","Fixed feed-in tariff","2044","-",81.650000000000006,"-"]
[null,"Total, Installed",null,null,1599]
[null,"Borkum Riffgrund 3 (83 x SGRE-11-200)","Glennmont Partners",913,913,0,"Pro rata",0.5,0.5,"expected 2026","Market price","-","-","-","-"]
[null,"Total, Decided (FID'ed)",null,null,913]
[null,"Total, Germany",null,null,2512,799]
[]
[null,null,"Partners","Park\ncapacity, MW","Renewable \ncapacity, MW","Generation\ncapacity, MW","Financial consolidation","Consolidation, \n%","Ownership \ninterest, %","Commercial \noperational date",null,"Subsidy expiry","Feed-in tariff, USD/MWh"]
[null,"USA","Partners",null,null,null,null,null,null,null,"Subsidy regime",null,null,"Price escalator, Period 1, %","Subsidy note"]
[null,"Block Island (5 x GE-6MW)",null,30,30,30,"Full",1,1,2016,"Offtake solution",2036,236,3.5]
[null,"South Fork Wind (12 x SGRE-11-200)","Global Infrastructure Partners",132,132,66,"Pro rata",0.5,0.5,2024,"Offtake solution",2048,160,"Variable"]
[null,"Total, installed",null,null,162]
[null,"Revolution Wind","Global Infrastructure Partners",704,704,0,"Pro rata",0.5,0.5,"expected 2026","PPA",2045]
[null,"Sunrise Wind ",null,924,924,0,"Full",1,1,"expected 2027","Offshore Renewable Energy Certificate",2050]
[null,"Total, Decided (FID'ed)",null,null,1628]
[null,"Total, USA",null,null,1790,96]
[]
[null,null,"Partners","Park\ncapacity, MW","Renewable \ncapacity, MW","Generation\ncapacity, MW","Financial consolidation","Consolidation, \n%","Ownership \ninterest, %","Commercial \noperational date",null,"Subsidy expiry","Fixed feed-in tariff, EUR/MWh"]
[null,"Netherlands","Partners",null,null,null,null,null,null,null,"Subsidy regime",null,null,"Subsidy note"]
[null,"Borssele 1 & 2 (94 x SWT-8.0)","Norges Bank Investment Management (NBIM)",752,752,376,"Pro rata",0.5,0.5,2020,"Fixed feed-in tariff","2035/2036",72.7,"The 15 year subsidy is based on a \"banking system\", potentially allowing for subsidy to run into year 16. The EUR 72.7/MWh subsidy is the average subsidy price for both BSW1 and BSW2"]
[null,"Total, Installed",null,null,752]
[null,"Total, Netherlands",null,null,752,376]
[]
[null,null,"Partners","Park\ncapacity, MW","Renewable \ncapacity, MW","Generation\ncapacity, MW","Financial consolidation","Consolidation, \n%","Ownership \ninterest, %","Commercial \noperational date",null,"Subsidy expiry\nPeriod 1","Subsidy expiry\nPeriod 2","Fixed feed-in tariff\nPeriod 1, TWD/MWh","Fixed feed-in tariff\nPeriod 2, TWD/MWh"]
[null,"Taiwan","Partners",null,null,null,null,null,null,null,"Subsidy regime",null,null,null,null,"Subsidy note"]
[null,"Formosa 1, Phase 1 (2 x SWT-4.0-120)","JERA, Swancor Renewables, Mitsui Osk Lines (M.O.L.), Hokuriku Electric Power Company, Toho Gas",8,2.8,0,"One-line",0,0.35,"2017","Fixed feed-in tariff",2027,2037,7109,3459]
[null,"Formosa 1, Phase 2 (20 x SWT-6.0-154)","JERA, Swancor Renewables, Mitsui Osk Lines (M.O.L.), Hokuriku Electric Power Company, Toho Gas",120,42,0,"One-line",0,0.35,2019,"Fixed feed-in tariff","2029","2039",7403,3595]
[null,"Greater Changhua 1 (75 x SGRE-8.0-167)","CDPQ & Cathay Private Equity",605,605,302.5,"Pro rata",0.5,0.5,2024,"Fixed feed-in tariff",2033,2043,6279,4142,"Developers have the option to choose between a 20-year flat tariff of TWD5,516 per MWh or a tiered tariff of TWD6,279.5 per MWh for the first 10 years and TWD4,142.2 per MWh for the subsequent 10 years. Ørsted has chosen the tiered rate."]
[null,"Greater Changhua 2a (36 x SGRE-8.0-167)","-",295,295,295,"Full",1,1,2024,"Fixed feed-in tariff",2033,2043,6279,4142,"Developers have the option to choose between a 20-year flat tariff of TWD5,516 per MWh or a tiered tariff of TWD6,279.5 per MWh for the first 10 years and TWD4,142.2 per MWh for the subsequent 10 years. Ørsted has chosen the tiered rate."]
[null,"Total, Installed",null,null,944.8]
[null,"Greater Changhua 2b (24 x SGRE-14.0)","-",337,337.1,0,"Full",1,1,"expected 2026","CPPA",2045,"-","-","-"]
[null,"Greater Changhua 4 (42 x SGRE-14.0)","Cathay Life Insurance",583,582.9,0,"Pro rata",0.5,0.5,"expected 2026","CPPA",2045,"-","-","-"]
[null,"Total, Decided (FID'ed)",null,null,920]
[null,"Total, Taiwan",null,null,1864.8,598]
[]
[null,null,"Partners","Park\ncapacity, MW","Renewable \ncapacity, MW","Generation\ncapacity, MW","Financial consolidation","Consolidation, \n%","Ownership \ninterest, %","Commercial \noperational date",null,"Subsidy expiry","Fixed feed-in tariff PLN/MWh"]
[null,"Poland","Partners",null,null,null,null,null,null,null,"Subsidy regime",null,null,"Subsidy note"]
[null,"Baltica 2 (107 x SGRE-14.0)","PGE",null,1498,0,"Pro rata",0.5,0.5,"expected 2027","CfD",2052,319.60000000000002]
[null,"Total, Decided (FID'ed)",null,null,1498]
[null,"Baltica 3","PGE",null,1255,0,"Pro rata",0.5,0.5," -","CfD","By 2054",319.60000000000002,"Renewable Capacity includes both Baltica 3 (1,045 MW) and the awarded lease capacity for Baltica 2+ (210 MW). Baltica 2+ has not received a CfD on the terms stated for Baltica 3 "]
[null,"Total, Awarded",null,null,1255]
[null,"Total, Poland",null,null,2753,0]
[]
[null,"Totals",null,null,"MW"]
[null,"Total, Renewable capacity (installed capacity (incl. divested farms), decided capacity, and awarded capacity)",null,null,21922]
[null,"Installed capacity (incl. divested farms) and decided capacity (parks under construction)",null,null,18267]
[null,"Installed capacity (incl. divested farms)",null,null,10156]
[null,"Generation capacity (incl. parks under construction but excl. divested and one-line consolidated farms)",null,null,5435]
[]
[null,"1 Nameplate capacity of 2,758 MW"]

{"sheet":"OF Asset Book (2)","index":3,"n_rows":107,"n_cols":17,"rows_kept":107,"cut":false,"hidden":false,"merged":[]}
[]
[null,"OFFSHORE 1 - Asset Book updated as of 30 September 2024"]
[null,null,null,null,null,null,null,null,null,null,null,0.14000000000000001]
[]
[null,"Denmark","Partners","Park\ncapacity, MW2","Renewable \ncapacity15, MW","Orsted ownership\nshare, %","Generation\ncapacity, MW","Financial consolidation","Commercial operational date","Subsidy regime","Subsidy expiry\nPeriod 1","Subsidy expiry\nPeriod 2","Period 1 Price Local Currency","Period 2 Price Local Currency","Excahnge Rate","Period 1 USD/MWH","Period 2 USD/MWH"]
[null,"Anholt (111 x SWT-3.6-120)","Pension Danmark, AIP Management",399.6,399.6,"50%",199.8,"Pro rata","2013","Fixed feed-in tariff","20 TWh (17,32 TWh produced)2",null,1051,null,0.14000000000000001,{"$f":"O6*M6","v":147.14000000000001}]
[null,"Horns Rev 2 (91 x SWT-2.3-93)","-",209.3,209.3,"100%",209.3,"Full","2010","Expired 2020, market price","10 TWh",null,518,null,0.14000000000000001,{"$f":"O7*M7","v":72.52000000000001}]
[null,"Nysted (70 x (Bonus) SWT-2.3-82)","Pension Danmark, Stadtwerke Lübeck",165.5,165.5,"42.75%",81,"Pro rata","2003","Expired 2016, market price","2016 8",null,453,null,0.14000000000000001,{"$f":"O8*M8","v":63.420000000000009}]
[null,"Horns Rev 1 (8012 x Vestas V80-2.0)","Vattenfall",158,160,"40%",64,"Pro rata","2003","Market price + 100DKK/MWh3","Expiry after 20 years"]
[null,"Avedøre Holme (2 x SWT-3.6-120)4","-",7.2,10.8,"100%",7.2,"Full","2009 and 2011","Fixed feed-in tariff","22,000 full-load hours5",null,"Mkt + 250"]
[null,"Vindeby (11 x Bonus B35-0.45)","-",0,4.95,"100%",0,"Full","1991 (decomissioned 2017)",0,0,null,"-"]
[null,"Total, Installed",null,null,950.15000000000009]
[null,"Total, Divested, but constructed by Ørsted6",null,null,56]
[null,"Total, Denmark",null,null,1006.1500000000001,null,561.30000000000007]
[]
[null,"United Kingdom","Partners",null,null,null,null,null,null,"Subsidy regime","Subsidy expiry",null,"CFD Price",null,"ROCs/MWh","ROC Price in 2023","Subsidy or Contract/MWH"]
[null,"West of Duddon Sands (108 x SWT-3.6-120)","Scottish Power Renewables (Iberdrola)",388.8,388.8,0.5,194.4,"Pro rata","2014","Renewable Obligation Certificates",2034,null,"-",null,2,59.21,{"$f":"#REF!*#REF!","v":{"$error":"#REF!"}}]
[null,"Walney 1&2 (51 x SWT-3.6-107 & 51 x SWT-3.6-120)","PGGM, Greencoat",367.2,367.2,0.501,183.96719999999999,"Full","2011 and 2012","Renewable Obligation Certificates","2031 and 2032",null,"-",null,2,59.21,{"$f":"#REF!*#REF!","v":{"$error":"#REF!"}}]
[null,"Lincs (75 x SWT-3.6-120)","Green Investment Group (GIG), Octopus Renewables",270,"-",0.25,67.5,"Pro rata","2013","Renewable Obligation Certificates",2033,null,"-",null,2,59.21,{"$f":"#REF!*#REF!","v":{"$error":"#REF!"}}]
[null,"Westermost Rough (35 x SWT-6.0-154)","Equitix, USS, Stepstone, BAE Systems Pension Funds, CLAL Insurance",210,210,0.5,105,"Pro rata","2015","Renewable Obligation Certificates",2035,null,"-",null,2,59.21,{"$f":"#REF!*#REF!","v":{"$error":"#REF!"}}]
[null,"Gunfleet Sands 1&2 (48 x SWT-3.6-107)","JERA, Development Bank of Japan (DBJ)",172.8,172.8,0.501,86.572800000000001,"Full","2010","Renewable Obligation Certificates",2029,null,"-",null,1.5,59.21,{"$f":"#REF!*#REF!","v":{"$error":"#REF!"}}]
[null,"Barrow (30 x Vestas V90-3.0)","-",90,45,1,90,"Full","2006","Renewable Obligation Certificates",2027,null,"-",null,1,59.21,{"$f":"#REF!*#REF!","v":{"$error":"#REF!"}}]
[null,"Burbo Bank (25 x SWT-3.6-107)","-",90,90,1,90,"Full","2007","Renewable Obligation Certificates",2027,null,"-",null,1.5,59.21,{"$f":"#REF!*#REF!","v":{"$error":"#REF!"}}]
[null,"Gunfleet Sands 3 (2 x SWT-6.0-120)","-",12,12,1,12,"Full","2013","Renewable Obligation Certificates",2033,null,"-",null,2,59.21,{"$f":"#REF!*#REF!","v":{"$error":"#REF!"}}]
[null,"Burbo Bank Extension (32 x MVOW V164-8.0)","LEGO (Kirkbi), Greencoat",259,259,0.5,129.5,"Pro rata",2017,"Contract for Difference",2032,null,150,null,"-",null,{"$f":"M25*#REF!","v":{"$error":"#REF!"}}]
[null,"Race Bank (91 x SWT-6.0-154)","Macquarie (MIRA), RE Fund by Sumitomo/SMBC/DBJ, Funds managed by Arjun and Gravis",546,546,0.5,273,"Pro rata",2018,"Renewable Obligation Certificates",2037,null,"-",null,1.8,59.21,{"$f":"#REF!*#REF!","v":{"$error":"#REF!"}}]
[null,"Walney Extension (40 x MVOW V164-8.25 & 47 x SWT-7.0-154)","AIP Management, PFA",659,659,0.5,329.5,"Pro rata",2018,"Contract for Difference","2033",null,150,null,"-",null,{"$f":"#REF!*M27","v":{"$error":"#REF!"}}]
[null,"Hornsea 1 (174 x SWT-7.0-154)","Greencoat, TRIG & Equitix, GLIL & Octopus Renewables",1218,1218,0.5,609,"Pro rata",2019,"Contract for Difference",2036,null,140,null,"-",null,{"$f":"#REF!*M28","v":{"$error":"#REF!"}}]
[null,"Hornsea 2 (165 x SGRE-8.0-167)","AXA IM Alts and Crédit Agricole Assurances",1320,1320,0.5,660,"Pro rata",2022,"Contract for Difference",2036,null,"57.5",null,"-",null,{"$f":"M29*#REF!","v":{"$error":"#REF!"}}]
[null,"Total, Installed",null,null,5287.8,null,2830.44,null,null,null,null,null,null,null,null,null,{"$f":"#REF!*#REF!","v":{"$error":"#REF!"}}]
[null,"Total, Divested, but constructed by Ørsted6",null,null,405,null,null,null,null,null,null,null,null,null,null,null,{"$f":"#REF!*#REF!","v":{"$error":"#REF!"}}]
[null,"Hornsea 3 18",null,2852,2852,1,0,"Full","2027 7","Contract for Difference",2042,null,"37.35 / 54.23",null,"-",null,{"$f":"#REF!*37.35","v":{"$error":"#REF!"}}]
[null,"Hornsea 3 BESS (ICENI)",null,300,300,"100%",0,"Full","2026 7"]
[null,"Total Decided (FID'ed)",null,null,3152]
[null,"Hornsea 4",null,null,2400,"100%",0,"Full","2030 7","Contract for Difference",2045,null,"58.87",null,null,null,{"$f":"M35*#REF!","v":{"$error":"#REF!"}}]
[null,"Total, Awarded",null,null,2400,null,0]
[null,"Total, United Kingdom",null,null,11244.8,null,2830.44]
[]
[null,null,null,"Park\ncapacity, MW","Renewable \ncapacity15, MW","Orsted ownership\nshare, %","Generation\ncapacity, MW","Financial consolidation","Commercial operational date",null,"Subsidy expiry",null,"Fixed feed-in tariff, EUR/MWh"]
[null,"Netherlands"]
[null,"Borssele 1 & 2 (94 x SWT-8.0)","Norges Bank Investment Management (NBIM)",752,752,0.5,376,"Pro rata",2020,"Fixed feed-in tariff","2035/203610",null,72.7,null,1.03,{"$f":"O41*M41","v":74.881}]
[null,"Total, Installed",null,null,752,null,376]
[null,"Total, Netherlands",null,null,752,null,376]
[null,null,null,"Park\ncapacity, MW","Renewable \ncapacity15, MW","Orsted ownership\nshare, %","Generation\ncapacity, MW","Financial consolidation","Commercial operational date",null,"Subsidy expiry",null,"Fixed feed-in tariff PLN/MWh"]
[null,"Poland"]
[null,"Baltica 2 (107 x SGRE - 14.0)","PGE",null,1498,0.5,"-","Pro rata","2027 7","Contract for Difference",2052,null,319.60000000000002,null,0.24,{"$f":"O46*M46","v":76.704000000000008}]
[null,"Baltica 3 17","PGE",null,1255,0.5,"-","Pro rata","By 2029 7","Contract for Difference","By 2054",null,319.60000000000002,null,0.24,{"$f":"O47*M47","v":76.704000000000008}]
[null,"Total, Awarded",null,null,2753,null,0]
[null,"Total, Poland",null,null,2753,null,0]
[null,null,null,null,null,null,null,null,null,null,"Subsidy expiry\nPeriod 1","Subsidy expiry\nPeriod 2","Fixed feed-in tariff\nPeriod 1, EUR/MWh","Fixed feed-in tariff\nPeriod 2, EUR/MWh"]
[null,"Germany","Partners",null,null,null,null,null,null,"Subsidy regime"]
[null,"Borkum Riffgrund 1 (78 x SWT-4.0-120)","Greencoat Renewables",312,312,0.5,156,"Pro rata","2015","Fixed feed-in tariff","2023","2025 9",194,154,1.03,{"$f":"O52*M52","v":199.82},{"$f":"N52*O52","v":158.62}]
[null,"Borkum Riffgrund 2 (56 x MVOW V164-8.0)","Gulf Energy, Keppel Infrastructure Trust (\"KIT\")",450,450,0.5,225,"Pro rata","2018","Fixed feed-in tariff","2026",2028,184,149,1.03,{"$f":"O53*M53","v":189.52},{"$f":"N53*O53","v":153.47}]
[null,"Gode Wind 1 (55 x SWT-6.0-154)","Glennmont Partners, TRIG",332,332,0.5,166,"Pro rata",2016,"Fixed feed-in tariff","2024","2026 9",194,154,1.03,199.82,158.62]
[null,"Gode Wind 2 (42 x SWT-6.0-154)","AIP, Industriens Pension, Lærerenes Pension,  Lægernes Pensionskasse",252,252,0.5,126,"Pro rata",2016,"Fixed feed-in tariff","2024","2026 9",194,154,1.03,199.82,158.62]
[null,"Total, Installed",null,null,1346,null,673]
[null,"Borkum Riffgrund 3 (83 x SGRE-11-200)","Glennmont Partners",913,913,0.5,0,"Pro rata","2026 7","Market price","-","-","-","-"]
[null,"Gode Wind 3 (23 x SGRE-11-200)","Glennmont Partners",253,253,0.5,94,"Pro rata","2024 7","Fixed feed-in tariff","2044","-",81.650000000000006,"-"]
[null,"Total, Decided (FID'ed)",null,null,1166,null,94]
[null,"Total, Germany",null,null,2512,null,767]
[]
[null,null,null,"Park\ncapacity, MW","Renewable \ncapacity15, MW","Orsted ownership\nshare, %","Generation\ncapacity, MW","Financial consolidation","Commercial operational date",null,"Subsidy expiry\nPeriod 1","Subsidy expiry\nPeriod 2","Fixed feed-in tariff\nPeriod 1, TWD/MWh",null,null,null,"Fixed feed-in tariff\nPeriod 2, TWD/MWh"]
[null,"Taiwan","Partners"]
[null,"Formosa 1, Phase 1 (2 x SWT-4.0-120)","JERA, Swancor Renewables, Mitsui Osk Lines (M.O.L.), Hokuriku Electric Power Company ",8,2.8,0.35,0,"One-line","2017","Fixed feed-in tariff",2027,2037,7109,3459,0.03,{"$f":"O64*M64","v":213.26999999999998},{"$f":"N64*O64","v":103.77}]
[null,"Formosa 1, Phase 2 (20 x SWT-6.0-154)","JERA, Swancor Renewables, Mitsui Osk Lines (M.O.L.), Hokuriku Electric Power Company ",120,42,0.35,0,"One-line",2019,"Fixed feed-in tariff","2029","2039",7403,3595,0.03,222.09,{"$f":"N65*O65","v":107.85}]
[null,"Greater Changhua 1 (75 x SGRE-8.0-167)","CDPQ & Cathay Private Equity",605,605,0.5,302.5,"Pro rata",2024,"Fixed feed-in tariff13","2033 13","2043 13",6279,4142,0.03,188.37,124.25999999999999]
[null,"Greater Changhua 2a (36 x SGRE-8.0-167)","-",295,295,1,295,"Full",2024,"Fixed feed-in tariff13","2033 13","2043 13",6279,4142,0.03,188.37,124.25999999999999]
[null,"Total, Installed",null,null,944.8,null,597.5]
[null,"Greater Changhua 2b and 4 (66 x SGRE-14.0)","-",920,920,1,0,"Full","2025 7","Corporate PPA",2045,"-","-",null,null,null,"-"]
[null,"Total, Decided (FID'ed)",null,null,920,null,0]
[null,"Total, Taiwan",null,null,1864.8,null,597.5]
[null,null,null,"Park\ncapacity, MW","Renewable \ncapacity15, MW","Orsted ownership\nshare, %","Generation\ncapacity, MW","Financial consolidation","Commercial operational date",null,"Subsidy expiry","Feed-in tariff, USD/MWh"]
[null,"USA","Partners",null,null,null,null,null,null,null,null,null,"Esclator"]
[null,"Block Island (5 x GE-6MW)","- ",30,30,1,30,"Full",2016,"Offtake solution",2036,236,3.5,null,1,{"$f":"O74*L74","v":236}]
[null,"South Fork Wind (12 x SGRE-11-200)","Global Infrastructure Partners",132,132,0.5,66,"Pro rata","2024 7","Offtake solution",2048,160,"Variable",null,1,{"$f":"O75*L75","v":160}]
[null,"Total, installed",null,null,162,null,96]
[null,"Revolution Wind","Global Infrastructure Partners",704,704,0.5,0,"Pro rata","2026 7","PPA",2045]
[null,"Sunrise Wind ",null,924,924,1,0,"Pro rata","2025 7","Renewable Energy Certificate",2050]
[null,"Total, Decided (FID'ed)",null,null,1628,null,0]
[null,"Total, USA",null,null,1790,null,96]
[]
[]
[]
[]
[null,"Totals",null,null,"MW"]
[null,"Total, Renewable capacity (installed capacity (incl. divested farms), decided capacity (parks under construction), and awarded capacity)",null,null,21921.749999999996]
[null,"Installed capacity (incl. divested farms) and decided capacity (parks under construction)",null,null,16768.749999999996]
[null,"Installed capacity (incl. divested farms)",null,null,9902.7499999999964]
[null,"Generation capacity (incl. parks under construction but excl. divested and one-line consolidated farms)",null,null,5228.24]
[]
[null,"1 Includes awarded, FID'ed and assets in operation."]
[null,"2 By 31 December 2022"]
[null,"3 The supplement depends on the development of market price and is increased pro rata – a market price below 260 DKK/MWh equals 100 DKK/MWh and over 360 DKK/MWh 0 DKK/MWh"]
[null,"4 Ørsted has installed Avedøre Holme (10,8 MW), however Ørsted has two of the three turbines on Avedøre Holme. "]
[null,"5 The first turbine reached approximately 20,019 Full Load Hours, whereas the second turbine is out of subsidy, by 31 December 2016"]
[null,"6 Denmark: Frederikshavn (11MW), Tunø Knob (5MW) and Middelgrunden (40MW); United Kingdom: Kentish Flats (90MW), London Array (315MW)"]
[null,"7 Expected year of commissioning"]
[null,"8 After expiry of fixed feed-in-tariff period expected in 2016, Nysted will receive market price + supplement dependent on the development of market price which is increased pro rata – a market price below 260 DKK/MWh equals 100 DKK/MWh and over 360 DKK/MWh 0 DKK/MWh"]
[null,"9 Floor price of 39 EUR/MWh for up to 20 years"]
[null,"10 The 15 year subsidy is based on a \"banking system\", potentially allowing for subsidy to run into year 16. 72,7/MWh Eur subsidy is the avarage subsidy price for both BSW1 and BSW2"]
[null,"12 80 turbines were constructed, however, today the wind farm consists of 79 turbines as one turbine was not replaced after a lightning incident in 2014"]
[null,"13  Developers have the option to choose between a 20-year flat tariff of TWD5,516 per MWh or a tiered tariff of TWD6,279.5 per MWh for the first 10 years and TWD4,142.2 per MWh for the subsequent 10 years. Ørsted has chosen the tiered rate."]
[null,"14  12 months window to start CfD subsidy. Expiry date dependent on start date."]
[null,"15  Renewable capacity is the sum of installed, decided (FID'ed), and awarded capacity "]
[null,"16 COD is subject to possible reconfiguration to accomodate potential schedule adjustments due to ongoing implementation of regulatory reforms to interconnectin processess, and to ensure sufficient value creation. "]
[null,"17 Includes boh Baltica 3 (1,045 MW) and the awarded lease capacity for Baltica 2+ (210 MW). Baltica 2+ has not received a CfD on the terms stated for Baltica 3 "]
[null,"18  Nameplate capacity of 2,758 MW"]

{"sheet":"Off-Shore Graph Data","index":5,"n_rows":46,"n_cols":77,"rows_kept":46,"cut":false,"hidden":false,"merged":[]}
[]
[null,null,null,null,null,null,null,null,null,null,null,null,null,null,null,"Capacity"]
[null,null,"Denmark",null,null,null,null,null,null,null,null,null,null,null,null,null,null,{"$f":"'OF Statistics 2011-Q3 2024'!E4","v":"FY\n 2025"},{"$f":"'OF Statistics 2011-Q3 2024'!F4","v":"FY\n 2024"},{"$f":"'OF Statistics 2011-Q3 2024'!G4","v":"FY\n 2023"},{"$f":"'OF Statistics 2011-Q3 2024'!H4","v":"FY\n 2022"},{"$f":"'OF Statistics 2011-Q3 2024'!I4","v":"FY\n 2021"},{"$f":"'OF Statistics 2011-Q3 2024'!J4","v":"FY\n 2020"},{"$f":"'OF Statistics 2011-Q3 2024'!K4","v":"FY\n 2019"},{"$f":"'OF Statistics 2011-Q3 2024'!L4","v":"FY\n 20181"},{"$f":"'OF Statistics 2011-Q3 2024'!M4","v":"FY\n 2017"},{"$f":"'OF Statistics 2011-Q3 2024'!N4","v":"FY\n 2016"},{"$f":"'OF Statistics 2011-Q3 2024'!O4","v":"FY\n 2015"},{"$f":"'OF Statistics 2011-Q3 2024'!P4","v":"FY\n 2014"},{"$f":"'OF Statistics 2011-Q3 2024'!Q4","v":"FY\n 2013"},{"$f":"'OF Statistics 2011-Q3 2024'!R4","v":"FY\n 2012"},{"$f":"'OF Statistics 2011-Q3 2024'!S4","v":"FY\n 2011"},{"$f":"'OF Statistics 2011-Q3 2024'!T4","v":0},{"$f":"'OF Statistics 2011-Q3 2024'!U4","v":"Q3\n 2024"},{"$f":"'OF Statistics 2011-Q3 2024'!V4","v":"Q2\n 2024"},{"$f":"'OF Statistics 2011-Q3 2024'!W4","v":"Q1\n 2024"},{"$f":"'OF Statistics 2011-Q3 2024'!X4","v":"Q4\n 2023"},{"$f":"'OF Statistics 2011-Q3 2024'!Y4","v":"Q3\n 2023"},{"$f":"'OF Statistics 2011-Q3 2024'!Z4","v":"Q2\n 2023"},{"$f":"'OF Statistics 2011-Q3 2024'!AA4","v":"Q1\n 2023"},{"$f":"'OF Statistics 2011-Q3 2024'!AB4","v":"Q4\n 2022"},{"$f":"'OF Statistics 2011-Q3 2024'!AC4","v":"Q3\n 2022"},{"$f":"'OF Statistics 2011-Q3 2024'!AD4","v":"Q2\n 2022"},{"$f":"'OF Statistics 2011-Q3 2024'!AE4","v":"Q1\n 2022"},{"$f":"'OF Statistics 2011-Q3 2024'!AF4","v":"Q4\n 2021"},{"$f":"'OF Statistics 2011-Q3 2024'!AG4","v":"Q3\n 2021"},{"$f":"'OF Statistics 2011-Q3 2024'!AH4","v":"Q2\n 2021"},{"$f":"'OF Statistics 2011-Q3 2024'!AI4","v":"Q1\n 2021"},{"$f":"'OF Statistics 2011-Q3 2024'!AJ4","v":"Q4\n 2020"},{"$f":"'OF Statistics 2011-Q3 2024'!AK4","v":"Q3\n 2020"},{"$f":"'OF Statistics 2011-Q3 2024'!AL4","v":"Q2\n 2020"},{"$f":"'OF Statistics 2011-Q3 2024'!AM4","v":"Q1\n 2020"},{"$f":"'OF Statistics 2011-Q3 2024'!AN4","v":"Q4\n 2019"},{"$f":"'OF Statistics 2011-Q3 2024'!AO4","v":"Q3\n 20192"},{"$f":"'OF Statistics 2011-Q3 2024'!AP4","v":"Q2\n 20191"},{"$f":"'OF Statistics 2011-Q3 2024'!AQ4","v":"Q1\n 20191"},{"$f":"'OF Statistics 2011-Q3 2024'!AR4","v":"Q4\n 20181"},{"$f":"'OF Statistics 2011-Q3 2024'!AS4","v":"Q3\n 20181"},{"$f":"'OF Statistics 2011-Q3 2024'!AT4","v":"Q2\n 20181"},{"$f":"'OF Statistics 2011-Q3 2024'!AU4","v":"Q1\n 20181"},{"$f":"'OF Statistics 2011-Q3 2024'!AV4","v":"Q4\n 2017"},{"$f":"'OF Statistics 2011-Q3 2024'!AW4","v":"Q3\n 2017"},{"$f":"'OF Statistics 2011-Q3 2024'!AX4","v":"Q2\n 2017"},{"$f":"'OF Statistics 2011-Q3 2024'!AY4","v":"Q1\n 2017"},{"$f":"'OF Statistics 2011-Q3 2024'!AZ4","v":"Q4\n 2016"},{"$f":"'OF Statistics 2011-Q3 2024'!BA4","v":"Q3\n 2016"},{"$f":"'OF Statistics 2011-Q3 2024'!BB4","v":"Q2\n 2016"},{"$f":"'OF Statistics 2011-Q3 2024'!BC4","v":"Q1\n 2016"},{"$f":"'OF Statistics 2011-Q3 2024'!BD4","v":"Q4\n 2015"},{"$f":"'OF Statistics 2011-Q3 2024'!BE4","v":"Q3\n 2015"},{"$f":"'OF Statistics 2011-Q3 2024'!BF4","v":"Q2\n 2015"},{"$f":"'OF Statistics 2011-Q3 2024'!BG4","v":"Q1\n 2015"},{"$f":"'OF Statistics 2011-Q3 2024'!BH4","v":"Q4\n 2014"},{"$f":"'OF Statistics 2011-Q3 2024'!BI4","v":"Q3\n 2014"},{"$f":"'OF Statistics 2011-Q3 2024'!BJ4","v":"Q2\n 2014"},{"$f":"'OF Statistics 2011-Q3 2024'!BK4","v":"Q1\n 2014"}]
[null,1,"    Anholt",null,null,null,null,null,null,1,{"$f":"_xlfn.XLOOKUP(J4,B:B,C:C)","v":"    Anholt"},{"$f":"$C$3","v":"Denmark"},null,null,null,{"$f":"_xlfn.XLOOKUP($K4,'OF Statistics 2011-Q3 2024'!$B:$B,'OF Statistics 2011-Q3 2024'!D:D,0,0)","v":199.8},null,{"$f":"_xlfn.XLOOKUP($K4,'OF Statistics 2011-Q3 2024'!$B:$B,'OF Statistics 2011-Q3 2024'!E:E,0,0)","v":0},{"$f":"_xlfn.XLOOKUP($K4,'OF Statistics 2011-Q3 2024'!$B:$B,'OF Statistics 2011-Q3 2024'!F:F,0,0)","v":802.32},{"$f":"_xlfn.XLOOKUP($K4,'OF Statistics 2011-Q3 2024'!$B:$B,'OF Statistics 2011-Q3 2024'!G:G,0,0)","v":791.18},{"$f":"_xlfn.XLOOKUP($K4,'OF Statistics 2011-Q3 2024'!$B:$B,'OF Statistics 2011-Q3 2024'!H:H,0,0)","v":827.51},{"$f":"_xlfn.XLOOKUP($K4,'OF Statistics 2011-Q3 2024'!$B:$B,'OF Statistics 2011-Q3 2024'!I:I,0,0)","v":754.18},{"$f":"_xlfn.XLOOKUP($K4,'OF Statistics 2011-Q3 2024'!$B:$B,'OF Statistics 2011-Q3 2024'!J:J,0,0)","v":913.92794400000002},{"$f":"_xlfn.XLOOKUP($K4,'OF Statistics 2011-Q3 2024'!$B:$B,'OF Statistics 2011-Q3 2024'!K:K,0,0)","v":884},{"$f":"_xlfn.XLOOKUP($K4,'OF Statistics 2011-Q3 2024'!$B:$B,'OF Statistics 2011-Q3 2024'!L:L,0,0)","v":837.3},{"$f":"_xlfn.XLOOKUP($K4,'OF Statistics 2011-Q3 2024'!$B:$B,'OF Statistics 2011-Q3 2024'!M:M,0,0)","v":944},{"$f":"_xlfn.XLOOKUP($K4,'OF Statistics 2011-Q3 2024'!$B:$B,'OF Statistics 2011-Q3 2024'!N:N,0,0)","v":839},{"$f":"_xlfn.XLOOKUP($K4,'OF Statistics 2011-Q3 2024'!$B:$B,'OF Statistics 2011-Q3 2024'!O:O,0,0)","v":797},{"$f":"_xlfn.XLOOKUP($K4,'OF Statistics 2011-Q3 2024'!$B:$B,'OF Statistics 2011-Q3 2024'!P:P,0,0)","v":908},{"$f":"_xlfn.XLOOKUP($K4,'OF Statistics 2011-Q3 2024'!$B:$B,'OF Statistics 2011-Q3 2024'!Q:Q,0,0)","v":593},{"$f":"_xlfn.XLOOKUP($K4,'OF Statistics 2011-Q3 2024'!$B:$B,'OF Statistics 2011-Q3 2024'!R:R,0,0)","v":16},{"$f":"_xlfn.XLOOKUP($K4,'OF Statistics 2011-Q3 2024'!$B:$B,'OF Statistics 2011-Q3 2024'!S:S,0,0)","v":0},{"$f":"_xlfn.XLOOKUP($K4,'OF Statistics 2011-Q3 2024'!$B:$B,'OF Statistics 2011-Q3 2024'!T:T,0,0)","v":0},{"$f":"_xlfn.XLOOKUP($K4,'OF Statistics 2011-Q3 2024'!$B:$B,'OF Statistics 2011-Q3 2024'!U:U,0,0)","v":136.63885200000004},{"$f":"_xlfn.XLOOKUP($K4,'OF Statistics 2011-Q3 2024'!$B:$B,'OF Statistics 2011-Q3 2024'!V:V,0,0)","v":166.24},{"$f":"_xlfn.XLOOKUP($K4,'OF Statistics 2011-Q3 2024'!$B:$B,'OF Statistics 2011-Q3 2024'!W:W,0,0)","v":255.44},{"$f":"_xlfn.XLOOKUP($K4,'OF Statistics 2011-Q3 2024'!$B:$B,'OF Statistics 2011-Q3 2024'!X:X,0,0)","v":259.13},{"$f":"_xlfn.XLOOKUP($K4,'OF Statistics 2011-Q3 2024'!$B:$B,'OF Statistics 2011-Q3 2024'!Y:Y,0,0)","v":150.38},{"$f":"_xlfn.XLOOKUP($K4,'OF Statistics 2011-Q3 2024'!$B:$B,'OF Statistics 2011-Q3 2024'!Z:Z,0,0)","v":143.44999999999999},{"$f":"_xlfn.XLOOKUP($K4,'OF Statistics 2011-Q3 2024'!$B:$B,'OF Statistics 2011-Q3 2024'!AA:AA,0,0)","v":238.22},{"$f":"_xlfn.XLOOKUP($K4,'OF Statistics 2011-Q3 2024'!$B:$B,'OF Statistics 2011-Q3 2024'!AB:AB,0,0)","v":257.67},{"$f":"_xlfn.XLOOKUP($K4,'OF Statistics 2011-Q3 2024'!$B:$B,'OF Statistics 2011-Q3 2024'!AC:AC,0,0)","v":155.59},{"$f":"_xlfn.XLOOKUP($K4,'OF Statistics 2011-Q3 2024'!$B:$B,'OF Statistics 2011-Q3 2024'!AD:AD,0,0)","v":157.07},{"$f":"_xlfn.XLOOKUP($K4,'OF Statistics 2011-Q3 2024'!$B:$B,'OF Statistics 2011-Q3 2024'!AE:AE,0,0)","v":257.18},{"$f":"_xlfn.XLOOKUP($K4,'OF Statistics 2011-Q3 2024'!$B:$B,'OF Statistics 2011-Q3 2024'!AF:AF,0,0)","v":234.67},{"$f":"_xlfn.XLOOKUP($K4,'OF Statistics 2011-Q3 2024'!$B:$B,'OF Statistics 2011-Q3 2024'!AG:AG,0,0)","v":157.32},{"$f":"_xlfn.XLOOKUP($K4,'OF Statistics 2011-Q3 2024'!$B:$B,'OF Statistics 2011-Q3 2024'!AH:AH,0,0)","v":150.4321535},{"$f":"_xlfn.XLOOKUP($K4,'OF Statistics 2011-Q3 2024'!$B:$B,'OF Statistics 2011-Q3 2024'!AI:AI,0,0)","v":211.8},{"$f":"_xlfn.XLOOKUP($K4,'OF Statistics 2011-Q3 2024'!$B:$B,'OF Statistics 2011-Q3 2024'!AJ:AJ,0,0)","v":261.80658700000004},{"$f":"_xlfn.XLOOKUP($K4,'OF Statistics 2011-Q3 2024'!$B:$B,'OF Statistics 2011-Q3 2024'!AK:AK,0,0)","v":190.3},{"$f":"_xlfn.XLOOKUP($K4,'OF Statistics 2011-Q3 2024'!$B:$B,'OF Statistics 2011-Q3 2024'!AL:AL,0,0)","v":162.6},{"$f":"_xlfn.XLOOKUP($K4,'OF Statistics 2011-Q3 2024'!$B:$B,'OF Statistics 2011-Q3 2024'!AM:AM,0,0)","v":299},{"$f":"_xlfn.XLOOKUP($K4,'OF Statistics 2011-Q3 2024'!$B:$B,'OF Statistics 2011-Q3 2024'!AN:AN,0,0)","v":248},{"$f":"_xlfn.XLOOKUP($K4,'OF Statistics 2011-Q3 2024'!$B:$B,'OF Statistics 2011-Q3 2024'!AO:AO,0,0)","v":194.2},{"$f":"_xlfn.XLOOKUP($K4,'OF Statistics 2011-Q3 2024'!$B:$B,'OF Statistics 2011-Q3 2024'!AP:AP,0,0)","v":190.3},{"$f":"_xlfn.XLOOKUP($K4,'OF Statistics 2011-Q3 2024'!$B:$B,'OF Statistics 2011-Q3 2024'!AQ:AQ,0,0)","v":251.1},{"$f":"_xlfn.XLOOKUP($K4,'OF Statistics 2011-Q3 2024'!$B:$B,'OF Statistics 2011-Q3 2024'!AR:AR,0,0)","v":275.8},{"$f":"_xlfn.XLOOKUP($K4,'OF Statistics 2011-Q3 2024'!$B:$B,'OF Statistics 2011-Q3 2024'!AS:AS,0,0)","v":177.3},{"$f":"_xlfn.XLOOKUP($K4,'OF Statistics 2011-Q3 2024'!$B:$B,'OF Statistics 2011-Q3 2024'!AT:AT,0,0)","v":164},{"$f":"_xlfn.XLOOKUP($K4,'OF Statistics 2011-Q3 2024'!$B:$B,'OF Statistics 2011-Q3 2024'!AU:AU,0,0)","v":220},{"$f":"_xlfn.XLOOKUP($K4,'OF Statistics 2011-Q3 2024'!$B:$B,'OF Statistics 2011-Q3 2024'!AV:AV,0,0)","v":298},{"$f":"_xlfn.XLOOKUP($K4,'OF Statistics 2011-Q3 2024'!$B:$B,'OF Statistics 2011-Q3 2024'!AW:AW,0,0)","v":173},{"$f":"_xlfn.XLOOKUP($K4,'OF Statistics 2011-Q3 2024'!$B:$B,'OF Statistics 2011-Q3 2024'!AX:AX,0,0)","v":224},{"$f":"_xlfn.XLOOKUP($K4,'OF Statistics 2011-Q3 2024'!$B:$B,'OF Statistics 2011-Q3 2024'!AY:AY,0,0)","v":249},{"$f":"_xlfn.XLOOKUP($K4,'OF Statistics 2011-Q3 2024'!$B:$B,'OF Statistics 2011-Q3 2024'!AZ:AZ,0,0)","v":294},{"$f":"_xlfn.XLOOKUP($K4,'OF Statistics 2011-Q3 2024'!$B:$B,'OF Statistics 2011-Q3 2024'!BA:BA,0,0)","v":158},{"$f":"_xlfn.XLOOKUP($K4,'OF Statistics 2011-Q3 2024'!$B:$B,'OF Statistics 2011-Q3 2024'!BB:BB,0,0)","v":176},{"$f":"_xlfn.XLOOKUP($K4,'OF Statistics 2011-Q3 2024'!$B:$B,'OF Statistics 2011-Q3 2024'!BC:BC,0,0)","v":211},{"$f":"_xlfn.XLOOKUP($K4,'OF Statistics 2011-Q3 2024'!$B:$B,'OF Statistics 2011-Q3 2024'!BD:BD,0,0)","v":189},{"$f":"_xlfn.XLOOKUP($K4,'OF Statistics 2011-Q3 2024'!$B:$B,'OF Statistics 2011-Q3 2024'!BE:BE,0,0)","v":210},{"$f":"_xlfn.XLOOKUP($K4,'OF Statistics 2011-Q3 2024'!$B:$B,'OF Statistics 2011-Q3 2024'!BF:BF,0,0)","v":227},{"$f":"_xlfn.XLOOKUP($K4,'OF Statistics 2011-Q3 2024'!$B:$B,'OF Statistics 2011-Q3 2024'!BG:BG,0,0)","v":171},{"$f":"_xlfn.XLOOKUP($K4,'OF Statistics 2011-Q3 2024'!$B:$B,'OF Statistics 2011-Q3 2024'!BH:BH,0,0)","v":287},{"$f":"_xlfn.XLOOKUP($K4,'OF Statistics 2011-Q3 2024'!$B:$B,'OF Statistics 2011-Q3 2024'!BI:BI,0,0)","v":160},{"$f":"_xlfn.XLOOKUP($K4,'OF Statistics 2011-Q3 2024'!$B:$B,'OF Statistics 2011-Q3 2024'!BJ:BJ,0,0)","v":132},{"$f":"_xlfn.XLOOKUP($K4,'OF Statistics 2011-Q3 2024'!$B:$B,'OF Statistics 2011-Q3 2024'!BK:BK,0,0)","v":329},{"$f":"_xlfn.XLOOKUP($K4,'OF Statistics 2011-Q3 2024'!$B:$B,'OF Statistics 2011-Q3 2024'!BL:BL,0,0)","v":0}]
[null,2,"    Horns Rev 1",null,null,null,null,null,null,2,"    Horns Rev 1",{"$f":"$C$3","v":"Denmark"},null,null,null,{"$f":"'OF Asset Book'!G9","v":64},null,{"$f":"_xlfn.XLOOKUP($K5,'OF Statistics 2011-Q3 2024'!$B:$B,'OF Statistics 2011-Q3 2024'!E:E,0,0)","v":0},{"$f":"_xlfn.XLOOKUP($K5,'OF Statistics 2011-Q3 2024'!$B:$B,'OF Statistics 2011-Q3 2024'!F:F,0,0)","v":227.82},{"$f":"_xlfn.XLOOKUP($K5,'OF Statistics 2011-Q3 2024'!$B:$B,'OF Statistics 2011-Q3 2024'!G:G,0,0)","v":225.45},{"$f":"_xlfn.XLOOKUP($K5,'OF Statistics 2011-Q3 2024'!$B:$B,'OF Statistics 2011-Q3 2024'!H:H,0,0)","v":216.74},{"$f":"_xlfn.XLOOKUP($K5,'OF Statistics 2011-Q3 2024'!$B:$B,'OF Statistics 2011-Q3 2024'!I:I,0,0)","v":193.18},{"$f":"_xlfn.XLOOKUP($K5,'OF Statistics 2011-Q3 2024'!$B:$B,'OF Statistics 2011-Q3 2024'!J:J,0,0)","v":172.84153000000001},{"$f":"_xlfn.XLOOKUP($K5,'OF Statistics 2011-Q3 2024'!$B:$B,'OF Statistics 2011-Q3 2024'!K:K,0,0)","v":156},{"$f":"_xlfn.XLOOKUP($K5,'OF Statistics 2011-Q3 2024'!$B:$B,'OF Statistics 2011-Q3 2024'!L:L,0,0)","v":168.5},{"$f":"_xlfn.XLOOKUP($K5,'OF Statistics 2011-Q3 2024'!$B:$B,'OF Statistics 2011-Q3 2024'!M:M,0,0)","v":233},{"$f":"_xlfn.XLOOKUP($K5,'OF Statistics 2011-Q3 2024'!$B:$B,'OF Statistics 2011-Q3 2024'!N:N,0,0)","v":235},{"$f":"_xlfn.XLOOKUP($K5,'OF Statistics 2011-Q3 2024'!$B:$B,'OF Statistics 2011-Q3 2024'!O:O,0,0)","v":246},{"$f":"_xlfn.XLOOKUP($K5,'OF Statistics 2011-Q3 2024'!$B:$B,'OF Statistics 2011-Q3 2024'!P:P,0,0)","v":264},{"$f":"_xlfn.XLOOKUP($K5,'OF Statistics 2011-Q3 2024'!$B:$B,'OF Statistics 2011-Q3 2024'!Q:Q,0,0)","v":239},{"$f":"_xlfn.XLOOKUP($K5,'OF Statistics 2011-Q3 2024'!$B:$B,'OF Statistics 2011-Q3 2024'!R:R,0,0)","v":264},{"$f":"_xlfn.XLOOKUP($K5,'OF Statistics 2011-Q3 2024'!$B:$B,'OF Statistics 2011-Q3 2024'!S:S,0,0)","v":268},{"$f":"_xlfn.XLOOKUP($K5,'OF Statistics 2011-Q3 2024'!$B:$B,'OF Statistics 2011-Q3 2024'!T:T,0,0)","v":0},{"$f":"_xlfn.XLOOKUP($K5,'OF Statistics 2011-Q3 2024'!$B:$B,'OF Statistics 2011-Q3 2024'!U:U,0,0)","v":37.815000000000026},{"$f":"_xlfn.XLOOKUP($K5,'OF Statistics 2011-Q3 2024'!$B:$B,'OF Statistics 2011-Q3 2024'!V:V,0,0)","v":50.55},{"$f":"_xlfn.XLOOKUP($K5,'OF Statistics 2011-Q3 2024'!$B:$B,'OF Statistics 2011-Q3 2024'!W:W,0,0)","v":78.25},{"$f":"_xlfn.XLOOKUP($K5,'OF Statistics 2011-Q3 2024'!$B:$B,'OF Statistics 2011-Q3 2024'!X:X,0,0)","v":70.73},{"$f":"_xlfn.XLOOKUP($K5,'OF Statistics 2011-Q3 2024'!$B:$B,'OF Statistics 2011-Q3 2024'!Y:Y,0,0)","v":46.09},{"$f":"_xlfn.XLOOKUP($K5,'OF Statistics 2011-Q3 2024'!$B:$B,'OF Statistics 2011-Q3 2024'!Z:Z,0,0)","v":43.55},{"$f":"_xlfn.XLOOKUP($K5,'OF Statistics 2011-Q3 2024'!$B:$B,'OF Statistics 2011-Q3 2024'!AA:AA,0,0)","v":65.09},{"$f":"_xlfn.XLOOKUP($K5,'OF Statistics 2011-Q3 2024'!$B:$B,'OF Statistics 2011-Q3 2024'!AB:AB,0,0)","v":64},{"$f":"_xlfn.XLOOKUP($K5,'OF Statistics 2011-Q3 2024'!$B:$B,'OF Statistics 2011-Q3 2024'!AC:AC,0,0)","v":46.47},{"$f":"_xlfn.XLOOKUP($K5,'OF Statistics 2011-Q3 2024'!$B:$B,'OF Statistics 2011-Q3 2024'!AD:AD,0,0)","v":39.840000000000003},{"$f":"_xlfn.XLOOKUP($K5,'OF Statistics 2011-Q3 2024'!$B:$B,'OF Statistics 2011-Q3 2024'!AE:AE,0,0)","v":66.430000000000007},{"$f":"_xlfn.XLOOKUP($K5,'OF Statistics 2011-Q3 2024'!$B:$B,'OF Statistics 2011-Q3 2024'!AF:AF,0,0)","v":57.51},{"$f":"_xlfn.XLOOKUP($K5,'OF Statistics 2011-Q3 2024'!$B:$B,'OF Statistics 2011-Q3 2024'!AG:AG,0,0)","v":28.85},{"$f":"_xlfn.XLOOKUP($K5,'OF Statistics 2011-Q3 2024'!$B:$B,'OF Statistics 2011-Q3 2024'!AH:AH,0,0)","v":46.721469050853997},{"$f":"_xlfn.XLOOKUP($K5,'OF Statistics 2011-Q3 2024'!$B:$B,'OF Statistics 2011-Q3 2024'!AI:AI,0,0)","v":60.097540000000002},{"$f":"_xlfn.XLOOKUP($K5,'OF Statistics 2011-Q3 2024'!$B:$B,'OF Statistics 2011-Q3 2024'!AJ:AJ,0,0)","v":35.90046000000001},{"$f":"_xlfn.XLOOKUP($K5,'OF Statistics 2011-Q3 2024'!$B:$B,'OF Statistics 2011-Q3 2024'!AK:AK,0,0)","v":41.8},{"$f":"_xlfn.XLOOKUP($K5,'OF Statistics 2011-Q3 2024'!$B:$B,'OF Statistics 2011-Q3 2024'!AL:AL,0,0)","v":33.4},{"$f":"_xlfn.XLOOKUP($K5,'OF Statistics 2011-Q3 2024'!$B:$B,'OF Statistics 2011-Q3 2024'!AM:AM,0,0)","v":62},{"$f":"_xlfn.XLOOKUP($K5,'OF Statistics 2011-Q3 2024'!$B:$B,'OF Statistics 2011-Q3 2024'!AN:AN,0,0)","v":67},{"$f":"_xlfn.XLOOKUP($K5,'OF Statistics 2011-Q3 2024'!$B:$B,'OF Statistics 2011-Q3 2024'!AO:AO,0,0)","v":44.2},{"$f":"_xlfn.XLOOKUP($K5,'OF Statistics 2011-Q3 2024'!$B:$B,'OF Statistics 2011-Q3 2024'!AP:AP,0,0)","v":41.4},{"$f":"_xlfn.XLOOKUP($K5,'OF Statistics 2011-Q3 2024'!$B:$B,'OF Statistics 2011-Q3 2024'!AQ:AQ,0,0)","v":3.6},{"$f":"_xlfn.XLOOKUP($K5,'OF Statistics 2011-Q3 2024'!$B:$B,'OF Statistics 2011-Q3 2024'!AR:AR,0,0)","v":14.6},{"$f":"_xlfn.XLOOKUP($K5,'OF Statistics 2011-Q3 2024'!$B:$B,'OF Statistics 2011-Q3 2024'!AS:AS,0,0)","v":42.4},{"$f":"_xlfn.XLOOKUP($K5,'OF Statistics 2011-Q3 2024'!$B:$B,'OF Statistics 2011-Q3 2024'!AT:AT,0,0)","v":47},{"$f":"_xlfn.XLOOKUP($K5,'OF Statistics 2011-Q3 2024'!$B:$B,'OF Statistics 2011-Q3 2024'!AU:AU,0,0)","v":65},{"$f":"_xlfn.XLOOKUP($K5,'OF Statistics 2011-Q3 2024'!$B:$B,'OF Statistics 2011-Q3 2024'!AV:AV,0,0)","v":66},{"$f":"_xlfn.XLOOKUP($K5,'OF Statistics 2011-Q3 2024'!$B:$B,'OF Statistics 2011-Q3 2024'!AW:AW,0,0)","v":50},{"$f":"_xlfn.XLOOKUP($K5,'OF Statistics 2011-Q3 2024'!$B:$B,'OF Statistics 2011-Q3 2024'!AX:AX,0,0)","v":53},{"$f":"_xlfn.XLOOKUP($K5,'OF Statistics 2011-Q3 2024'!$B:$B,'OF Statistics 2011-Q3 2024'!AY:AY,0,0)","v":64},{"$f":"_xlfn.XLOOKUP($K5,'OF Statistics 2011-Q3 2024'!$B:$B,'OF Statistics 2011-Q3 2024'!AZ:AZ,0,0)","v":66},{"$f":"_xlfn.XLOOKUP($K5,'OF Statistics 2011-Q3 2024'!$B:$B,'OF Statistics 2011-Q3 2024'!BA:BA,0,0)","v":51},{"$f":"_xlfn.XLOOKUP($K5,'OF Statistics 2011-Q3 2024'!$B:$B,'OF Statistics 2011-Q3 2024'!BB:BB,0,0)","v":46},{"$f":"_xlfn.XLOOKUP($K5,'OF Statistics 2011-Q3 2024'!$B:$B,'OF Statistics 2011-Q3 2024'!BC:BC,0,0)","v":72},{"$f":"_xlfn.XLOOKUP($K5,'OF Statistics 2011-Q3 2024'!$B:$B,'OF Statistics 2011-Q3 2024'!BD:BD,0,0)","v":63},{"$f":"_xlfn.XLOOKUP($K5,'OF Statistics 2011-Q3 2024'!$B:$B,'OF Statistics 2011-Q3 2024'!BE:BE,0,0)","v":50},{"$f":"_xlfn.XLOOKUP($K5,'OF Statistics 2011-Q3 2024'!$B:$B,'OF Statistics 2011-Q3 2024'!BF:BF,0,0)","v":58},{"$f":"_xlfn.XLOOKUP($K5,'OF Statistics 2011-Q3 2024'!$B:$B,'OF Statistics 2011-Q3 2024'!BG:BG,0,0)","v":75},{"$f":"_xlfn.XLOOKUP($K5,'OF Statistics 2011-Q3 2024'!$B:$B,'OF Statistics 2011-Q3 2024'!BH:BH,0,0)","v":73},{"$f":"_xlfn.XLOOKUP($K5,'OF Statistics 2011-Q3 2024'!$B:$B,'OF Statistics 2011-Q3 2024'!BI:BI,0,0)","v":51},{"$f":"_xlfn.XLOOKUP($K5,'OF Statistics 2011-Q3 2024'!$B:$B,'OF Statistics 2011-Q3 2024'!BJ:BJ,0,0)","v":65},{"$f":"_xlfn.XLOOKUP($K5,'OF Statistics 2011-Q3 2024'!$B:$B,'OF Statistics 2011-Q3 2024'!BK:BK,0,0)","v":75},{"$f":"_xlfn.XLOOKUP($K5,'OF Statistics 2011-Q3 2024'!$B:$B,'OF Statistics 2011-Q3 2024'!BL:BL,0,0)","v":0}]
[null,3,"    Horns Rev 2",null,null,null,null,null,null,3,"    Horns Rev 2","Denmark",null,null,null,{"$f":"'OF Asset Book'!G7","v":209.3},null,{"$f":"_xlfn.XLOOKUP($K6,'OF Statistics 2011-Q3 2024'!$B:$B,'OF Statistics 2011-Q3 2024'!E:E,0,0)","v":0},{"$f":"_xlfn.XLOOKUP($K6,'OF Statistics 2011-Q3 2024'!$B:$B,'OF Statistics 2011-Q3 2024'!F:F,0,0)","v":764.34},{"$f":"_xlfn.XLOOKUP($K6,'OF Statistics 2011-Q3 2024'!$B:$B,'OF Statistics 2011-Q3 2024'!G:G,0,0)","v":718.16},{"$f":"_xlfn.XLOOKUP($K6,'OF Statistics 2011-Q3 2024'!$B:$B,'OF Statistics 2011-Q3 2024'!H:H,0,0)","v":812.3},{"$f":"_xlfn.XLOOKUP($K6,'OF Statistics 2011-Q3 2024'!$B:$B,'OF Statistics 2011-Q3 2024'!I:I,0,0)","v":728.17},{"$f":"_xlfn.XLOOKUP($K6,'OF Statistics 2011-Q3 2024'!$B:$B,'OF Statistics 2011-Q3 2024'!J:J,0,0)","v":821.58357999999998},{"$f":"_xlfn.XLOOKUP($K6,'OF Statistics 2011-Q3 2024'!$B:$B,'OF Statistics 2011-Q3 2024'!K:K,0,0)","v":899},{"$f":"_xlfn.XLOOKUP($K6,'OF Statistics 2011-Q3 2024'!$B:$B,'OF Statistics 2011-Q3 2024'!L:L,0,0)","v":878.8},{"$f":"_xlfn.XLOOKUP($K6,'OF Statistics 2011-Q3 2024'!$B:$B,'OF Statistics 2011-Q3 2024'!M:M,0,0)","v":932},{"$f":"_xlfn.XLOOKUP($K6,'OF Statistics 2011-Q3 2024'!$B:$B,'OF Statistics 2011-Q3 2024'!N:N,0,0)","v":847},{"$f":"_xlfn.XLOOKUP($K6,'OF Statistics 2011-Q3 2024'!$B:$B,'OF Statistics 2011-Q3 2024'!O:O,0,0)","v":769},{"$f":"_xlfn.XLOOKUP($K6,'OF Statistics 2011-Q3 2024'!$B:$B,'OF Statistics 2011-Q3 2024'!P:P,0,0)","v":950},{"$f":"_xlfn.XLOOKUP($K6,'OF Statistics 2011-Q3 2024'!$B:$B,'OF Statistics 2011-Q3 2024'!Q:Q,0,0)","v":886},{"$f":"_xlfn.XLOOKUP($K6,'OF Statistics 2011-Q3 2024'!$B:$B,'OF Statistics 2011-Q3 2024'!R:R,0,0)","v":956},{"$f":"_xlfn.XLOOKUP($K6,'OF Statistics 2011-Q3 2024'!$B:$B,'OF Statistics 2011-Q3 2024'!S:S,0,0)","v":911},{"$f":"_xlfn.XLOOKUP($K6,'OF Statistics 2011-Q3 2024'!$B:$B,'OF Statistics 2011-Q3 2024'!T:T,0,0)","v":0},{"$f":"_xlfn.XLOOKUP($K6,'OF Statistics 2011-Q3 2024'!$B:$B,'OF Statistics 2011-Q3 2024'!U:U,0,0)","v":140.11415100000005},{"$f":"_xlfn.XLOOKUP($K6,'OF Statistics 2011-Q3 2024'!$B:$B,'OF Statistics 2011-Q3 2024'!V:V,0,0)","v":150.75},{"$f":"_xlfn.XLOOKUP($K6,'OF Statistics 2011-Q3 2024'!$B:$B,'OF Statistics 2011-Q3 2024'!W:W,0,0)","v":257.14},{"$f":"_xlfn.XLOOKUP($K6,'OF Statistics 2011-Q3 2024'!$B:$B,'OF Statistics 2011-Q3 2024'!X:X,0,0)","v":225.23},{"$f":"_xlfn.XLOOKUP($K6,'OF Statistics 2011-Q3 2024'!$B:$B,'OF Statistics 2011-Q3 2024'!Y:Y,0,0)","v":139.35},{"$f":"_xlfn.XLOOKUP($K6,'OF Statistics 2011-Q3 2024'!$B:$B,'OF Statistics 2011-Q3 2024'!Z:Z,0,0)","v":136.34},{"$f":"_xlfn.XLOOKUP($K6,'OF Statistics 2011-Q3 2024'!$B:$B,'OF Statistics 2011-Q3 2024'!AA:AA,0,0)","v":217.25},{"$f":"_xlfn.XLOOKUP($K6,'OF Statistics 2011-Q3 2024'!$B:$B,'OF Statistics 2011-Q3 2024'!AB:AB,0,0)","v":245.37},{"$f":"_xlfn.XLOOKUP($K6,'OF Statistics 2011-Q3 2024'!$B:$B,'OF Statistics 2011-Q3 2024'!AC:AC,0,0)","v":179.68},{"$f":"_xlfn.XLOOKUP($K6,'OF Statistics 2011-Q3 2024'!$B:$B,'OF Statistics 2011-Q3 2024'!AD:AD,0,0)","v":145.86000000000001},{"$f":"_xlfn.XLOOKUP($K6,'OF Statistics 2011-Q3 2024'!$B:$B,'OF Statistics 2011-Q3 2024'!AE:AE,0,0)","v":241.4},{"$f":"_xlfn.XLOOKUP($K6,'OF Statistics 2011-Q3 2024'!$B:$B,'OF Statistics 2011-Q3 2024'!AF:AF,0,0)","v":247.57},{"$f":"_xlfn.XLOOKUP($K6,'OF Statistics 2011-Q3 2024'!$B:$B,'OF Statistics 2011-Q3 2024'!AG:AG,0,0)","v":142.49},{"$f":"_xlfn.XLOOKUP($K6,'OF Statistics 2011-Q3 2024'!$B:$B,'OF Statistics 2011-Q3 2024'!AH:AH,0,0)","v":141.48314199999999},{"$f":"_xlfn.XLOOKUP($K6,'OF Statistics 2011-Q3 2024'!$B:$B,'OF Statistics 2011-Q3 2024'!AI:AI,0,0)","v":196.616545},{"$f":"_xlfn.XLOOKUP($K6,'OF Statistics 2011-Q3 2024'!$B:$B,'OF Statistics 2011-Q3 2024'!AJ:AJ,0,0)","v":232.62848399999996},{"$f":"_xlfn.XLOOKUP($K6,'OF Statistics 2011-Q3 2024'!$B:$B,'OF Statistics 2011-Q3 2024'!AK:AK,0,0)","v":154.80000000000001},{"$f":"_xlfn.XLOOKUP($K6,'OF Statistics 2011-Q3 2024'!$B:$B,'OF Statistics 2011-Q3 2024'!AL:AL,0,0)","v":146.6},{"$f":"_xlfn.XLOOKUP($K6,'OF Statistics 2011-Q3 2024'!$B:$B,'OF Statistics 2011-Q3 2024'!AM:AM,0,0)","v":288},{"$f":"_xlfn.XLOOKUP($K6,'OF Statistics 2011-Q3 2024'!$B:$B,'OF Statistics 2011-Q3 2024'!AN:AN,0,0)","v":260},{"$f":"_xlfn.XLOOKUP($K6,'OF Statistics 2011-Q3 2024'!$B:$B,'OF Statistics 2011-Q3 2024'!AO:AO,0,0)","v":204.2},{"$f":"_xlfn.XLOOKUP($K6,'OF Statistics 2011-Q3 2024'!$B:$B,'OF Statistics 2011-Q3 2024'!AP:AP,0,0)","v":161.6},{"$f":"_xlfn.XLOOKUP($K6,'OF Statistics 2011-Q3 2024'!$B:$B,'OF Statistics 2011-Q3 2024'!AQ:AQ,0,0)","v":273.60000000000002},{"$f":"_xlfn.XLOOKUP($K6,'OF Statistics 2011-Q3 2024'!$B:$B,'OF Statistics 2011-Q3 2024'!AR:AR,0,0)","v":294.3},{"$f":"_xlfn.XLOOKUP($K6,'OF Statistics 2011-Q3 2024'!$B:$B,'OF Statistics 2011-Q3 2024'!AS:AS,0,0)","v":169},{"$f":"_xlfn.XLOOKUP($K6,'OF Statistics 2011-Q3 2024'!$B:$B,'OF Statistics 2011-Q3 2024'!AT:AT,0,0)","v":176},{"$f":"_xlfn.XLOOKUP($K6,'OF Statistics 2011-Q3 2024'!$B:$B,'OF Statistics 2011-Q3 2024'!AU:AU,0,0)","v":240},{"$f":"_xlfn.XLOOKUP($K6,'OF Statistics 2011-Q3 2024'!$B:$B,'OF Statistics 2011-Q3 2024'!AV:AV,0,0)","v":302},{"$f":"_xlfn.XLOOKUP($K6,'OF Statistics 2011-Q3 2024'!$B:$B,'OF Statistics 2011-Q3 2024'!AW:AW,0,0)","v":164},{"$f":"_xlfn.XLOOKUP($K6,'OF Statistics 2011-Q3 2024'!$B:$B,'OF Statistics 2011-Q3 2024'!AX:AX,0,0)","v":197},{"$f":"_xlfn.XLOOKUP($K6,'OF Statistics 2011-Q3 2024'!$B:$B,'OF Statistics 2011-Q3 2024'!AY:AY,0,0)","v":269},{"$f":"_xlfn.XLOOKUP($K6,'OF Statistics 2011-Q3 2024'!$B:$B,'OF Statistics 2011-Q3 2024'!AZ:AZ,0,0)","v":260},{"$f":"_xlfn.XLOOKUP($K6,'OF Statistics 2011-Q3 2024'!$B:$B,'OF Statistics 2011-Q3 2024'!BA:BA,0,0)","v":177},{"$f":"_xlfn.XLOOKUP($K6,'OF Statistics 2011-Q3 2024'!$B:$B,'OF Statistics 2011-Q3 2024'!BB:BB,0,0)","v":216},{"$f":"_xlfn.XLOOKUP($K6,'OF Statistics 2011-Q3 2024'!$B:$B,'OF Statistics 2011-Q3 2024'!BC:BC,0,0)","v":194},{"$f":"_xlfn.XLOOKUP($K6,'OF Statistics 2011-Q3 2024'!$B:$B,'OF Statistics 2011-Q3 2024'!BD:BD,0,0)","v":68},{"$f":"_xlfn.XLOOKUP($K6,'OF Statistics 2011-Q3 2024'!$B:$B,'OF Statistics 2011-Q3 2024'!BE:BE,0,0)","v":192},{"$f":"_xlfn.XLOOKUP($K6,'OF Statistics 2011-Q3 2024'!$B:$B,'OF Statistics 2011-Q3 2024'!BF:BF,0,0)","v":237},{"$f":"_xlfn.XLOOKUP($K6,'OF Statistics 2011-Q3 2024'!$B:$B,'OF Statistics 2011-Q3 2024'!BG:BG,0,0)","v":272},{"$f":"_xlfn.XLOOKUP($K6,'OF Statistics 2011-Q3 2024'!$B:$B,'OF Statistics 2011-Q3 2024'!BH:BH,0,0)","v":280},{"$f":"_xlfn.XLOOKUP($K6,'OF Statistics 2011-Q3 2024'!$B:$B,'OF Statistics 2011-Q3 2024'!BI:BI,0,0)","v":173},{"$f":"_xlfn.XLOOKUP($K6,'OF Statistics 2011-Q3 2024'!$B:$B,'OF Statistics 2011-Q3 2024'!BJ:BJ,0,0)","v":157},{"$f":"_xlfn.XLOOKUP($K6,'OF Statistics 2011-Q3 2024'!$B:$B,'OF Statistics 2011-Q3 2024'!BK:BK,0,0)","v":340},{"$f":"_xlfn.XLOOKUP($K6,'OF Statistics 2011-Q3 2024'!$B:$B,'OF Statistics 2011-Q3 2024'!BL:BL,0,0)","v":0}]
[null,4,"    Nysted",null,null,null,null,null,null,4,"    Nysted","Denmark",null,null,null,{"$f":"'OF Asset Book'!G8","v":81},null,{"$f":"_xlfn.XLOOKUP($K7,'OF Statistics 2011-Q3 2024'!$B:$B,'OF Statistics 2011-Q3 2024'!E:E,0,0)","v":0},{"$f":"_xlfn.XLOOKUP($K7,'OF Statistics 2011-Q3 2024'!$B:$B,'OF Statistics 2011-Q3 2024'!F:F,0,0)","v":247.11},{"$f":"_xlfn.XLOOKUP($K7,'OF Statistics 2011-Q3 2024'!$B:$B,'OF Statistics 2011-Q3 2024'!G:G,0,0)","v":211.75},{"$f":"_xlfn.XLOOKUP($K7,'OF Statistics 2011-Q3 2024'!$B:$B,'OF Statistics 2011-Q3 2024'!H:H,0,0)","v":203},{"$f":"_xlfn.XLOOKUP($K7,'OF Statistics 2011-Q3 2024'!$B:$B,'OF Statistics 2011-Q3 2024'!I:I,0,0)","v":220.54},{"$f":"_xlfn.XLOOKUP($K7,'OF Statistics 2011-Q3 2024'!$B:$B,'OF Statistics 2011-Q3 2024'!J:J,0,0)","v":231.4753585},{"$f":"_xlfn.XLOOKUP($K7,'OF Statistics 2011-Q3 2024'!$B:$B,'OF Statistics 2011-Q3 2024'!K:K,0,0)","v":247},{"$f":"_xlfn.XLOOKUP($K7,'OF Statistics 2011-Q3 2024'!$B:$B,'OF Statistics 2011-Q3 2024'!L:L,0,0)","v":254.9},{"$f":"_xlfn.XLOOKUP($K7,'OF Statistics 2011-Q3 2024'!$B:$B,'OF Statistics 2011-Q3 2024'!M:M,0,0)","v":290},{"$f":"_xlfn.XLOOKUP($K7,'OF Statistics 2011-Q3 2024'!$B:$B,'OF Statistics 2011-Q3 2024'!N:N,0,0)","v":253},{"$f":"_xlfn.XLOOKUP($K7,'OF Statistics 2011-Q3 2024'!$B:$B,'OF Statistics 2011-Q3 2024'!O:O,0,0)","v":288},{"$f":"_xlfn.XLOOKUP($K7,'OF Statistics 2011-Q3 2024'!$B:$B,'OF Statistics 2011-Q3 2024'!P:P,0,0)","v":293},{"$f":"_xlfn.XLOOKUP($K7,'OF Statistics 2011-Q3 2024'!$B:$B,'OF Statistics 2011-Q3 2024'!Q:Q,0,0)","v":261},{"$f":"_xlfn.XLOOKUP($K7,'OF Statistics 2011-Q3 2024'!$B:$B,'OF Statistics 2011-Q3 2024'!R:R,0,0)","v":288},{"$f":"_xlfn.XLOOKUP($K7,'OF Statistics 2011-Q3 2024'!$B:$B,'OF Statistics 2011-Q3 2024'!S:S,0,0)","v":300},{"$f":"_xlfn.XLOOKUP($K7,'OF Statistics 2011-Q3 2024'!$B:$B,'OF Statistics 2011-Q3 2024'!T:T,0,0)","v":0},{"$f":"_xlfn.XLOOKUP($K7,'OF Statistics 2011-Q3 2024'!$B:$B,'OF Statistics 2011-Q3 2024'!U:U,0,0)","v":39.126621499999999},{"$f":"_xlfn.XLOOKUP($K7,'OF Statistics 2011-Q3 2024'!$B:$B,'OF Statistics 2011-Q3 2024'!V:V,0,0)","v":46.06},{"$f":"_xlfn.XLOOKUP($K7,'OF Statistics 2011-Q3 2024'!$B:$B,'OF Statistics 2011-Q3 2024'!W:W,0,0)","v":91.7},{"$f":"_xlfn.XLOOKUP($K7,'OF Statistics 2011-Q3 2024'!$B:$B,'OF Statistics 2011-Q3 2024'!X:X,0,0)","v":61.97},{"$f":"_xlfn.XLOOKUP($K7,'OF Statistics 2011-Q3 2024'!$B:$B,'OF Statistics 2011-Q3 2024'!Y:Y,0,0)","v":35.9},{"$f":"_xlfn.XLOOKUP($K7,'OF Statistics 2011-Q3 2024'!$B:$B,'OF Statistics 2011-Q3 2024'!Z:Z,0,0)","v":42.79},{"$f":"_xlfn.XLOOKUP($K7,'OF Statistics 2011-Q3 2024'!$B:$B,'OF Statistics 2011-Q3 2024'!AA:AA,0,0)","v":71.099999999999994},{"$f":"_xlfn.XLOOKUP($K7,'OF Statistics 2011-Q3 2024'!$B:$B,'OF Statistics 2011-Q3 2024'!AB:AB,0,0)","v":59.55},{"$f":"_xlfn.XLOOKUP($K7,'OF Statistics 2011-Q3 2024'!$B:$B,'OF Statistics 2011-Q3 2024'!AC:AC,0,0)","v":37.22},{"$f":"_xlfn.XLOOKUP($K7,'OF Statistics 2011-Q3 2024'!$B:$B,'OF Statistics 2011-Q3 2024'!AD:AD,0,0)","v":38.31},{"$f":"_xlfn.XLOOKUP($K7,'OF Statistics 2011-Q3 2024'!$B:$B,'OF Statistics 2011-Q3 2024'!AE:AE,0,0)","v":67.92},{"$f":"_xlfn.XLOOKUP($K7,'OF Statistics 2011-Q3 2024'!$B:$B,'OF Statistics 2011-Q3 2024'!AF:AF,0,0)","v":64.900000000000006},{"$f":"_xlfn.XLOOKUP($K7,'OF Statistics 2011-Q3 2024'!$B:$B,'OF Statistics 2011-Q3 2024'!AG:AG,0,0)","v":42.16},{"$f":"_xlfn.XLOOKUP($K7,'OF Statistics 2011-Q3 2024'!$B:$B,'OF Statistics 2011-Q3 2024'!AH:AH,0,0)","v":42.938742499999996},{"$f":"_xlfn.XLOOKUP($K7,'OF Statistics 2011-Q3 2024'!$B:$B,'OF Statistics 2011-Q3 2024'!AI:AI,0,0)","v":70.5370195},{"$f":"_xlfn.XLOOKUP($K7,'OF Statistics 2011-Q3 2024'!$B:$B,'OF Statistics 2011-Q3 2024'!AJ:AJ,0,0)","v":66.247264000000001},{"$f":"_xlfn.XLOOKUP($K7,'OF Statistics 2011-Q3 2024'!$B:$B,'OF Statistics 2011-Q3 2024'!AK:AK,0,0)","v":39.200000000000003},{"$f":"_xlfn.XLOOKUP($K7,'OF Statistics 2011-Q3 2024'!$B:$B,'OF Statistics 2011-Q3 2024'!AL:AL,0,0)","v":51.6},{"$f":"_xlfn.XLOOKUP($K7,'OF Statistics 2011-Q3 2024'!$B:$B,'OF Statistics 2011-Q3 2024'!AM:AM,0,0)","v":75},{"$f":"_xlfn.XLOOKUP($K7,'OF Statistics 2011-Q3 2024'!$B:$B,'OF Statistics 2011-Q3 2024'!AN:AN,0,0)","v":56},{"$f":"_xlfn.XLOOKUP($K7,'OF Statistics 2011-Q3 2024'!$B:$B,'OF Statistics 2011-Q3 2024'!AO:AO,0,0)","v":55},{"$f":"_xlfn.XLOOKUP($K7,'OF Statistics 2011-Q3 2024'!$B:$B,'OF Statistics 2011-Q3 2024'!AP:AP,0,0)","v":54.3},{"$f":"_xlfn.XLOOKUP($K7,'OF Statistics 2011-Q3 2024'!$B:$B,'OF Statistics 2011-Q3 2024'!AQ:AQ,0,0)","v":81.5},{"$f":"_xlfn.XLOOKUP($K7,'OF Statistics 2011-Q3 2024'!$B:$B,'OF Statistics 2011-Q3 2024'!AR:AR,0,0)","v":78.900000000000006},{"$f":"_xlfn.XLOOKUP($K7,'OF Statistics 2011-Q3 2024'!$B:$B,'OF Statistics 2011-Q3 2024'!AS:AS,0,0)","v":45.9},{"$f":"_xlfn.XLOOKUP($K7,'OF Statistics 2011-Q3 2024'!$B:$B,'OF Statistics 2011-Q3 2024'!AT:AT,0,0)","v":55},{"$f":"_xlfn.XLOOKUP($K7,'OF Statistics 2011-Q3 2024'!$B:$B,'OF Statistics 2011-Q3 2024'!AU:AU,0,0)","v":75},{"$f":"_xlfn.XLOOKUP($K7,'OF Statistics 2011-Q3 2024'!$B:$B,'OF Statistics 2011-Q3 2024'!AV:AV,0,0)","v":96},{"$f":"_xlfn.XLOOKUP($K7,'OF Statistics 2011-Q3 2024'!$B:$B,'OF Statistics 2011-Q3 2024'!AW:AW,0,0)","v":50},{"$f":"_xlfn.XLOOKUP($K7,'OF Statistics 2011-Q3 2024'!$B:$B,'OF Statistics 2011-Q3 2024'!AX:AX,0,0)","v":71},{"$f":"_xlfn.XLOOKUP($K7,'OF Statistics 2011-Q3 2024'!$B:$B,'OF Statistics 2011-Q3 2024'!AY:AY,0,0)","v":73},{"$f":"_xlfn.XLOOKUP($K7,'OF Statistics 2011-Q3 2024'!$B:$B,'OF Statistics 2011-Q3 2024'!AZ:AZ,0,0)","v":76},{"$f":"_xlfn.XLOOKUP($K7,'OF Statistics 2011-Q3 2024'!$B:$B,'OF Statistics 2011-Q3 2024'!BA:BA,0,0)","v":45},{"$f":"_xlfn.XLOOKUP($K7,'OF Statistics 2011-Q3 2024'!$B:$B,'OF Statistics 2011-Q3 2024'!BB:BB,0,0)","v":57},{"$f":"_xlfn.XLOOKUP($K7,'OF Statistics 2011-Q3 2024'!$B:$B,'OF Statistics 2011-Q3 2024'!BC:BC,0,0)","v":75},{"$f":"_xlfn.XLOOKUP($K7,'OF Statistics 2011-Q3 2024'!$B:$B,'OF Statistics 2011-Q3 2024'!BD:BD,0,0)","v":82},{"$f":"_xlfn.XLOOKUP($K7,'OF Statistics 2011-Q3 2024'!$B:$B,'OF Statistics 2011-Q3 2024'!BE:BE,0,0)","v":66},{"$f":"_xlfn.XLOOKUP($K7,'OF Statistics 2011-Q3 2024'!$B:$B,'OF Statistics 2011-Q3 2024'!BF:BF,0,0)","v":47},{"$f":"_xlfn.XLOOKUP($K7,'OF Statistics 2011-Q3 2024'!$B:$B,'OF Statistics 2011-Q3 2024'!BG:BG,0,0)","v":93},{"$f":"_xlfn.XLOOKUP($K7,'OF Statistics 2011-Q3 2024'!$B:$B,'OF Statistics 2011-Q3 2024'!BH:BH,0,0)","v":83},{"$f":"_xlfn.XLOOKUP($K7,'OF Statistics 2011-Q3 2024'!$B:$B,'OF Statistics 2011-Q3 2024'!BI:BI,0,0)","v":59},{"$f":"_xlfn.XLOOKUP($K7,'OF Statistics 2011-Q3 2024'!$B:$B,'OF Statistics 2011-Q3 2024'!BJ:BJ,0,0)","v":50},{"$f":"_xlfn.XLOOKUP($K7,'OF Statistics 2011-Q3 2024'!$B:$B,'OF Statistics 2011-Q3 2024'!BK:BK,0,0)","v":101},{"$f":"_xlfn.XLOOKUP($K7,'OF Statistics 2011-Q3 2024'!$B:$B,'OF Statistics 2011-Q3 2024'!BL:BL,0,0)","v":0}]
[null,null,"    Other DK farms (Avedøre Holme)",null,null,null,null,null,null,5,"    Burbo Bank 1+2",{"$f":"$C$11","v":"United Kingdom"},null,null,null,{"$f":"'OF Asset Book'!G24","v":90},null,{"$f":"_xlfn.XLOOKUP($K8,'OF Statistics 2011-Q3 2024'!$B:$B,'OF Statistics 2011-Q3 2024'!E:E,0,0)","v":0},{"$f":"_xlfn.XLOOKUP($K8,'OF Statistics 2011-Q3 2024'!$B:$B,'OF Statistics 2011-Q3 2024'!F:F,0,0)","v":683.91656414341901},{"$f":"_xlfn.XLOOKUP($K8,'OF Statistics 2011-Q3 2024'!$B:$B,'OF Statistics 2011-Q3 2024'!G:G,0,0)","v":657.29},{"$f":"_xlfn.XLOOKUP($K8,'OF Statistics 2011-Q3 2024'!$B:$B,'OF Statistics 2011-Q3 2024'!H:H,0,0)","v":661.32},{"$f":"_xlfn.XLOOKUP($K8,'OF Statistics 2011-Q3 2024'!$B:$B,'OF Statistics 2011-Q3 2024'!I:I,0,0)","v":615.12},{"$f":"_xlfn.XLOOKUP($K8,'OF Statistics 2011-Q3 2024'!$B:$B,'OF Statistics 2011-Q3 2024'!J:J,0,0)","v":789.8},{"$f":"_xlfn.XLOOKUP($K8,'OF Statistics 2011-Q3 2024'!$B:$B,'OF Statistics 2011-Q3 2024'!K:K,0,0)","v":711},{"$f":"_xlfn.XLOOKUP($K8,'OF Statistics 2011-Q3 2024'!$B:$B,'OF Statistics 2011-Q3 2024'!L:L,0,0)","v":690},{"$f":"_xlfn.XLOOKUP($K8,'OF Statistics 2011-Q3 2024'!$B:$B,'OF Statistics 2011-Q3 2024'!M:M,0,0)","v":618},{"$f":"_xlfn.XLOOKUP($K8,'OF Statistics 2011-Q3 2024'!$B:$B,'OF Statistics 2011-Q3 2024'!N:N,0,0)","v":264},{"$f":"_xlfn.XLOOKUP($K8,'OF Statistics 2011-Q3 2024'!$B:$B,'OF Statistics 2011-Q3 2024'!O:O,0,0)","v":325},{"$f":"_xlfn.XLOOKUP($K8,'OF Statistics 2011-Q3 2024'!$B:$B,'OF Statistics 2011-Q3 2024'!P:P,0,0)","v":293},{"$f":"_xlfn.XLOOKUP($K8,'OF Statistics 2011-Q3 2024'!$B:$B,'OF Statistics 2011-Q3 2024'!Q:Q,0,0)","v":294},{"$f":"_xlfn.XLOOKUP($K8,'OF Statistics 2011-Q3 2024'!$B:$B,'OF Statistics 2011-Q3 2024'!R:R,0,0)","v":257},{"$f":"_xlfn.XLOOKUP($K8,'OF Statistics 2011-Q3 2024'!$B:$B,'OF Statistics 2011-Q3 2024'!S:S,0,0)","v":293},{"$f":"_xlfn.XLOOKUP($K8,'OF Statistics 2011-Q3 2024'!$B:$B,'OF Statistics 2011-Q3 2024'!T:T,0,0)","v":0},{"$f":"_xlfn.XLOOKUP($K8,'OF Statistics 2011-Q3 2024'!$B:$B,'OF Statistics 2011-Q3 2024'!U:U,0,0)","v":145.38999999999999},{"$f":"_xlfn.XLOOKUP($K8,'OF Statistics 2011-Q3 2024'!$B:$B,'OF Statistics 2011-Q3 2024'!V:V,0,0)","v":143.86000000000001},{"$f":"_xlfn.XLOOKUP($K8,'OF Statistics 2011-Q3 2024'!$B:$B,'OF Statistics 2011-Q3 2024'!W:W,0,0)","v":210},{"$f":"_xlfn.XLOOKUP($K8,'OF Statistics 2011-Q3 2024'!$B:$B,'OF Statistics 2011-Q3 2024'!X:X,0,0)","v":214.76},{"$f":"_xlfn.XLOOKUP($K8,'OF Statistics 2011-Q3 2024'!$B:$B,'OF Statistics 2011-Q3 2024'!Y:Y,0,0)","v":146.27000000000001},{"$f":"_xlfn.XLOOKUP($K8,'OF Statistics 2011-Q3 2024'!$B:$B,'OF Statistics 2011-Q3 2024'!Z:Z,0,0)","v":96.57},{"$f":"_xlfn.XLOOKUP($K8,'OF Statistics 2011-Q3 2024'!$B:$B,'OF Statistics 2011-Q3 2024'!AA:AA,0,0)","v":199.69},{"$f":"_xlfn.XLOOKUP($K8,'OF Statistics 2011-Q3 2024'!$B:$B,'OF Statistics 2011-Q3 2024'!AB:AB,0,0)","v":213.97},{"$f":"_xlfn.XLOOKUP($K8,'OF Statistics 2011-Q3 2024'!$B:$B,'OF Statistics 2011-Q3 2024'!AC:AC,0,0)","v":109.26},{"$f":"_xlfn.XLOOKUP($K8,'OF Statistics 2011-Q3 2024'!$B:$B,'OF Statistics 2011-Q3 2024'!AD:AD,0,0)","v":133.07},{"$f":"_xlfn.XLOOKUP($K8,'OF Statistics 2011-Q3 2024'!$B:$B,'OF Statistics 2011-Q3 2024'!AE:AE,0,0)","v":205.02},{"$f":"_xlfn.XLOOKUP($K8,'OF Statistics 2011-Q3 2024'!$B:$B,'OF Statistics 2011-Q3 2024'!AF:AF,0,0)","v":218.23},{"$f":"_xlfn.XLOOKUP($K8,'OF Statistics 2011-Q3 2024'!$B:$B,'OF Statistics 2011-Q3 2024'!AG:AG,0,0)","v":83.62},{"$f":"_xlfn.XLOOKUP($K8,'OF Statistics 2011-Q3 2024'!$B:$B,'OF Statistics 2011-Q3 2024'!AH:AH,0,0)","v":100.82470602329551},{"$f":"_xlfn.XLOOKUP($K8,'OF Statistics 2011-Q3 2024'!$B:$B,'OF Statistics 2011-Q3 2024'!AI:AI,0,0)","v":212.4},{"$f":"_xlfn.XLOOKUP($K8,'OF Statistics 2011-Q3 2024'!$B:$B,'OF Statistics 2011-Q3 2024'!AJ:AJ,0,0)","v":240},{"$f":"_xlfn.XLOOKUP($K8,'OF Statistics 2011-Q3 2024'!$B:$B,'OF Statistics 2011-Q3 2024'!AK:AK,0,0)","v":153.9},{"$f":"_xlfn.XLOOKUP($K8,'OF Statistics 2011-Q3 2024'!$B:$B,'OF Statistics 2011-Q3 2024'!AL:AL,0,0)","v":134.30000000000001},{"$f":"_xlfn.XLOOKUP($K8,'OF Statistics 2011-Q3 2024'!$B:$B,'OF Statistics 2011-Q3 2024'!AM:AM,0,0)","v":262},{"$f":"_xlfn.XLOOKUP($K8,'OF Statistics 2011-Q3 2024'!$B:$B,'OF Statistics 2011-Q3 2024'!AN:AN,0,0)","v":214},{"$f":"_xlfn.XLOOKUP($K8,'OF Statistics 2011-Q3 2024'!$B:$B,'OF Statistics 2011-Q3 2024'!AO:AO,0,0)","v":160.9},{"$f":"_xlfn.XLOOKUP($K8,'OF Statistics 2011-Q3 2024'!$B:$B,'OF Statistics 2011-Q3 2024'!AP:AP,0,0)","v":122},{"$f":"_xlfn.XLOOKUP($K8,'OF Statistics 2011-Q3 2024'!$B:$B,'OF Statistics 2011-Q3 2024'!AQ:AQ,0,0)","v":214},{"$f":"_xlfn.XLOOKUP($K8,'OF Statistics 2011-Q3 2024'!$B:$B,'OF Statistics 2011-Q3 2024'!AR:AR,0,0)","v":234},{"$f":"_xlfn.XLOOKUP($K8,'OF Statistics 2011-Q3 2024'!$B:$B,'OF Statistics 2011-Q3 2024'!AS:AS,0,0)","v":126.3},{"$f":"_xlfn.XLOOKUP($K8,'OF Statistics 2011-Q3 2024'!$B:$B,'OF Statistics 2011-Q3 2024'!AT:AT,0,0)","v":87},{"$f":"_xlfn.XLOOKUP($K8,'OF Statistics 2011-Q3 2024'!$B:$B,'OF Statistics 2011-Q3 2024'!AU:AU,0,0)","v":243},{"$f":"_xlfn.XLOOKUP($K8,'OF Statistics 2011-Q3 2024'!$B:$B,'OF Statistics 2011-Q3 2024'!AV:AV,0,0)","v":175},{"$f":"_xlfn.XLOOKUP($K8,'OF Statistics 2011-Q3 2024'!$B:$B,'OF Statistics 2011-Q3 2024'!AW:AW,0,0)","v":149},{"$f":"_xlfn.XLOOKUP($K8,'OF Statistics 2011-Q3 2024'!$B:$B,'OF Statistics 2011-Q3 2024'!AX:AX,0,0)","v":134},{"$f":"_xlfn.XLOOKUP($K8,'OF Statistics 2011-Q3 2024'!$B:$B,'OF Statistics 2011-Q3 2024'!AY:AY,0,0)","v":160},{"$f":"_xlfn.XLOOKUP($K8,'OF Statistics 2011-Q3 2024'!$B:$B,'OF Statistics 2011-Q3 2024'!AZ:AZ,0,0)","v":75},{"$f":"_xlfn.XLOOKUP($K8,'OF Statistics 2011-Q3 2024'!$B:$B,'OF Statistics 2011-Q3 2024'!BA:BA,0,0)","v":63},{"$f":"_xlfn.XLOOKUP($K8,'OF Statistics 2011-Q3 2024'!$B:$B,'OF Statistics 2011-Q3 2024'!BB:BB,0,0)","v":38},{"$f":"_xlfn.XLOOKUP($K8,'OF Statistics 2011-Q3 2024'!$B:$B,'OF Statistics 2011-Q3 2024'!BC:BC,0,0)","v":88},{"$f":"_xlfn.XLOOKUP($K8,'OF Statistics 2011-Q3 2024'!$B:$B,'OF Statistics 2011-Q3 2024'!BD:BD,0,0)","v":102},{"$f":"_xlfn.XLOOKUP($K8,'OF Statistics 2011-Q3 2024'!$B:$B,'OF Statistics 2011-Q3 2024'!BE:BE,0,0)","v":54},{"$f":"_xlfn.XLOOKUP($K8,'OF Statistics 2011-Q3 2024'!$B:$B,'OF Statistics 2011-Q3 2024'!BF:BF,0,0)","v":71},{"$f":"_xlfn.XLOOKUP($K8,'OF Statistics 2011-Q3 2024'!$B:$B,'OF Statistics 2011-Q3 2024'!BG:BG,0,0)","v":98},{"$f":"_xlfn.XLOOKUP($K8,'OF Statistics 2011-Q3 2024'!$B:$B,'OF Statistics 2011-Q3 2024'!BH:BH,0,0)","v":95},{"$f":"_xlfn.XLOOKUP($K8,'OF Statistics 2011-Q3 2024'!$B:$B,'OF Statistics 2011-Q3 2024'!BI:BI,0,0)","v":48},{"$f":"_xlfn.XLOOKUP($K8,'OF Statistics 2011-Q3 2024'!$B:$B,'OF Statistics 2011-Q3 2024'!BJ:BJ,0,0)","v":46},{"$f":"_xlfn.XLOOKUP($K8,'OF Statistics 2011-Q3 2024'!$B:$B,'OF Statistics 2011-Q3 2024'!BK:BK,0,0)","v":104},{"$f":"_xlfn.XLOOKUP($K8,'OF Statistics 2011-Q3 2024'!$B:$B,'OF Statistics 2011-Q3 2024'!BL:BL,0,0)","v":0}]
[null,null,"Sub total",null,null,null,null,null,null,6,"    Gunfleet Sands 1+2",{"$f":"$C$11","v":"United Kingdom"},null,null,null,{"$f":"'OF Asset Book'!G22","v":86.572800000000001},null,{"$f":"_xlfn.XLOOKUP($K9,'OF Statistics 2011-Q3 2024'!$B:$B,'OF Statistics 2011-Q3 2024'!E:E,0,0)","v":0},{"$f":"_xlfn.XLOOKUP($K9,'OF Statistics 2011-Q3 2024'!$B:$B,'OF Statistics 2011-Q3 2024'!F:F,0,0)","v":265.49463629660602},{"$f":"_xlfn.XLOOKUP($K9,'OF Statistics 2011-Q3 2024'!$B:$B,'OF Statistics 2011-Q3 2024'!G:G,0,0)","v":282.37},{"$f":"_xlfn.XLOOKUP($K9,'OF Statistics 2011-Q3 2024'!$B:$B,'OF Statistics 2011-Q3 2024'!H:H,0,0)","v":248.09},{"$f":"_xlfn.XLOOKUP($K9,'OF Statistics 2011-Q3 2024'!$B:$B,'OF Statistics 2011-Q3 2024'!I:I,0,0)","v":241.68},{"$f":"_xlfn.XLOOKUP($K9,'OF Statistics 2011-Q3 2024'!$B:$B,'OF Statistics 2011-Q3 2024'!J:J,0,0)","v":298.8},{"$f":"_xlfn.XLOOKUP($K9,'OF Statistics 2011-Q3 2024'!$B:$B,'OF Statistics 2011-Q3 2024'!K:K,0,0)","v":255},{"$f":"_xlfn.XLOOKUP($K9,'OF Statistics 2011-Q3 2024'!$B:$B,'OF Statistics 2011-Q3 2024'!L:L,0,0)","v":272.7},{"$f":"_xlfn.XLOOKUP($K9,'OF Statistics 2011-Q3 2024'!$B:$B,'OF Statistics 2011-Q3 2024'!M:M,0,0)","v":256},{"$f":"_xlfn.XLOOKUP($K9,'OF Statistics 2011-Q3 2024'!$B:$B,'OF Statistics 2011-Q3 2024'!N:N,0,0)","v":269},{"$f":"_xlfn.XLOOKUP($K9,'OF Statistics 2011-Q3 2024'!$B:$B,'OF Statistics 2011-Q3 2024'!O:O,0,0)","v":291},{"$f":"_xlfn.XLOOKUP($K9,'OF Statistics 2011-Q3 2024'!$B:$B,'OF Statistics 2011-Q3 2024'!P:P,0,0)","v":255},{"$f":"_xlfn.XLOOKUP($K9,'OF Statistics 2011-Q3 2024'!$B:$B,'OF Statistics 2011-Q3 2024'!Q:Q,0,0)","v":271},{"$f":"_xlfn.XLOOKUP($K9,'OF Statistics 2011-Q3 2024'!$B:$B,'OF Statistics 2011-Q3 2024'!R:R,0,0)","v":262},{"$f":"_xlfn.XLOOKUP($K9,'OF Statistics 2011-Q3 2024'!$B:$B,'OF Statistics 2011-Q3 2024'!S:S,0,0)","v":493},{"$f":"_xlfn.XLOOKUP($K9,'OF Statistics 2011-Q3 2024'!$B:$B,'OF Statistics 2011-Q3 2024'!T:T,0,0)","v":0},{"$f":"_xlfn.XLOOKUP($K9,'OF Statistics 2011-Q3 2024'!$B:$B,'OF Statistics 2011-Q3 2024'!U:U,0,0)","v":52.980000000000004},{"$f":"_xlfn.XLOOKUP($K9,'OF Statistics 2011-Q3 2024'!$B:$B,'OF Statistics 2011-Q3 2024'!V:V,0,0)","v":57.35},{"$f":"_xlfn.XLOOKUP($K9,'OF Statistics 2011-Q3 2024'!$B:$B,'OF Statistics 2011-Q3 2024'!W:W,0,0)","v":88},{"$f":"_xlfn.XLOOKUP($K9,'OF Statistics 2011-Q3 2024'!$B:$B,'OF Statistics 2011-Q3 2024'!X:X,0,0)","v":91.33},{"$f":"_xlfn.XLOOKUP($K9,'OF Statistics 2011-Q3 2024'!$B:$B,'OF Statistics 2011-Q3 2024'!Y:Y,0,0)","v":53.23},{"$f":"_xlfn.XLOOKUP($K9,'OF Statistics 2011-Q3 2024'!$B:$B,'OF Statistics 2011-Q3 2024'!Z:Z,0,0)","v":58.89},{"$f":"_xlfn.XLOOKUP($K9,'OF Statistics 2011-Q3 2024'!$B:$B,'OF Statistics 2011-Q3 2024'!AA:AA,0,0)","v":78.930000000000007},{"$f":"_xlfn.XLOOKUP($K9,'OF Statistics 2011-Q3 2024'!$B:$B,'OF Statistics 2011-Q3 2024'!AB:AB,0,0)","v":80.92},{"$f":"_xlfn.XLOOKUP($K9,'OF Statistics 2011-Q3 2024'!$B:$B,'OF Statistics 2011-Q3 2024'!AC:AC,0,0)","v":35.56},{"$f":"_xlfn.XLOOKUP($K9,'OF Statistics 2011-Q3 2024'!$B:$B,'OF Statistics 2011-Q3 2024'!AD:AD,0,0)","v":50.86},{"$f":"_xlfn.XLOOKUP($K9,'OF Statistics 2011-Q3 2024'!$B:$B,'OF Statistics 2011-Q3 2024'!AE:AE,0,0)","v":80.75},{"$f":"_xlfn.XLOOKUP($K9,'OF Statistics 2011-Q3 2024'!$B:$B,'OF Statistics 2011-Q3 2024'!AF:AF,0,0)","v":75.040000000000006},{"$f":"_xlfn.XLOOKUP($K9,'OF Statistics 2011-Q3 2024'!$B:$B,'OF Statistics 2011-Q3 2024'!AG:AG,0,0)","v":41.29},{"$f":"_xlfn.XLOOKUP($K9,'OF Statistics 2011-Q3 2024'!$B:$B,'OF Statistics 2011-Q3 2024'!AH:AH,0,0)","v":47.781051729061403},{"$f":"_xlfn.XLOOKUP($K9,'OF Statistics 2011-Q3 2024'!$B:$B,'OF Statistics 2011-Q3 2024'!AI:AI,0,0)","v":77.599999999999994},{"$f":"_xlfn.XLOOKUP($K9,'OF Statistics 2011-Q3 2024'!$B:$B,'OF Statistics 2011-Q3 2024'!AJ:AJ,0,0)","v":83.3},{"$f":"_xlfn.XLOOKUP($K9,'OF Statistics 2011-Q3 2024'!$B:$B,'OF Statistics 2011-Q3 2024'!AK:AK,0,0)","v":60.7},{"$f":"_xlfn.XLOOKUP($K9,'OF Statistics 2011-Q3 2024'!$B:$B,'OF Statistics 2011-Q3 2024'!AL:AL,0,0)","v":50.7},{"$f":"_xlfn.XLOOKUP($K9,'OF Statistics 2011-Q3 2024'!$B:$B,'OF Statistics 2011-Q3 2024'!AM:AM,0,0)","v":104},{"$f":"_xlfn.XLOOKUP($K9,'OF Statistics 2011-Q3 2024'!$B:$B,'OF Statistics 2011-Q3 2024'!AN:AN,0,0)","v":85},{"$f":"_xlfn.XLOOKUP($K9,'OF Statistics 2011-Q3 2024'!$B:$B,'OF Statistics 2011-Q3 2024'!AO:AO,0,0)","v":51.1},{"$f":"_xlfn.XLOOKUP($K9,'OF Statistics 2011-Q3 2024'!$B:$B,'OF Statistics 2011-Q3 2024'!AP:AP,0,0)","v":41.8},{"$f":"_xlfn.XLOOKUP($K9,'OF Statistics 2011-Q3 2024'!$B:$B,'OF Statistics 2011-Q3 2024'!AQ:AQ,0,0)","v":75.8},{"$f":"_xlfn.XLOOKUP($K9,'OF Statistics 2011-Q3 2024'!$B:$B,'OF Statistics 2011-Q3 2024'!AR:AR,0,0)","v":84.8},{"$f":"_xlfn.XLOOKUP($K9,'OF Statistics 2011-Q3 2024'!$B:$B,'OF Statistics 2011-Q3 2024'!AS:AS,0,0)","v":48.9},{"$f":"_xlfn.XLOOKUP($K9,'OF Statistics 2011-Q3 2024'!$B:$B,'OF Statistics 2011-Q3 2024'!AT:AT,0,0)","v":43},{"$f":"_xlfn.XLOOKUP($K9,'OF Statistics 2011-Q3 2024'!$B:$B,'OF Statistics 2011-Q3 2024'!AU:AU,0,0)","v":96},{"$f":"_xlfn.XLOOKUP($K9,'OF Statistics 2011-Q3 2024'!$B:$B,'OF Statistics 2011-Q3 2024'!AV:AV,0,0)","v":85},{"$f":"_xlfn.XLOOKUP($K9,'OF Statistics 2011-Q3 2024'!$B:$B,'OF Statistics 2011-Q3 2024'!AW:AW,0,0)","v":46},{"$f":"_xlfn.XLOOKUP($K9,'OF Statistics 2011-Q3 2024'!$B:$B,'OF Statistics 2011-Q3 2024'!AX:AX,0,0)","v":52},{"$f":"_xlfn.XLOOKUP($K9,'OF Statistics 2011-Q3 2024'!$B:$B,'OF Statistics 2011-Q3 2024'!AY:AY,0,0)","v":73},{"$f":"_xlfn.XLOOKUP($K9,'OF Statistics 2011-Q3 2024'!$B:$B,'OF Statistics 2011-Q3 2024'!AZ:AZ,0,0)","v":70},{"$f":"_xlfn.XLOOKUP($K9,'OF Statistics 2011-Q3 2024'!$B:$B,'OF Statistics 2011-Q3 2024'!BA:BA,0,0)","v":50},{"$f":"_xlfn.XLOOKUP($K9,'OF Statistics 2011-Q3 2024'!$B:$B,'OF Statistics 2011-Q3 2024'!BB:BB,0,0)","v":51},{"$f":"_xlfn.XLOOKUP($K9,'OF Statistics 2011-Q3 2024'!$B:$B,'OF Statistics 2011-Q3 2024'!BC:BC,0,0)","v":98},{"$f":"_xlfn.XLOOKUP($K9,'OF Statistics 2011-Q3 2024'!$B:$B,'OF Statistics 2011-Q3 2024'!BD:BD,0,0)","v":94},{"$f":"_xlfn.XLOOKUP($K9,'OF Statistics 2011-Q3 2024'!$B:$B,'OF Statistics 2011-Q3 2024'!BE:BE,0,0)","v":50},{"$f":"_xlfn.XLOOKUP($K9,'OF Statistics 2011-Q3 2024'!$B:$B,'OF Statistics 2011-Q3 2024'!BF:BF,0,0)","v":62},{"$f":"_xlfn.XLOOKUP($K9,'OF Statistics 2011-Q3 2024'!$B:$B,'OF Statistics 2011-Q3 2024'!BG:BG,0,0)","v":85},{"$f":"_xlfn.XLOOKUP($K9,'OF Statistics 2011-Q3 2024'!$B:$B,'OF Statistics 2011-Q3 2024'!BH:BH,0,0)","v":80},{"$f":"_xlfn.XLOOKUP($K9,'OF Statistics 2011-Q3 2024'!$B:$B,'OF Statistics 2011-Q3 2024'!BI:BI,0,0)","v":38},{"$f":"_xlfn.XLOOKUP($K9,'OF Statistics 2011-Q3 2024'!$B:$B,'OF Statistics 2011-Q3 2024'!BJ:BJ,0,0)","v":41},{"$f":"_xlfn.XLOOKUP($K9,'OF Statistics 2011-Q3 2024'!$B:$B,'OF Statistics 2011-Q3 2024'!BK:BK,0,0)","v":96},{"$f":"_xlfn.XLOOKUP($K9,'OF Statistics 2011-Q3 2024'!$B:$B,'OF Statistics 2011-Q3 2024'!BL:BL,0,0)","v":0}]
[null,null,null,null,null,null,null,null,null,7,"    Gunfleet Sand Demo","United Kingdom",null,null,null,{"$f":"'OF Asset Book'!G25","v":12},null,{"$f":"_xlfn.XLOOKUP($K10,'OF Statistics 2011-Q3 2024'!$B:$B,'OF Statistics 2011-Q3 2024'!E:E,0,0)","v":0},{"$f":"_xlfn.XLOOKUP($K10,'OF Statistics 2011-Q3 2024'!$B:$B,'OF Statistics 2011-Q3 2024'!F:F,0,0)","v":31.806740857410102},{"$f":"_xlfn.XLOOKUP($K10,'OF Statistics 2011-Q3 2024'!$B:$B,'OF Statistics 2011-Q3 2024'!G:G,0,0)","v":30.47},{"$f":"_xlfn.XLOOKUP($K10,'OF Statistics 2011-Q3 2024'!$B:$B,'OF Statistics 2011-Q3 2024'!H:H,0,0)","v":15.21},{"$f":"_xlfn.XLOOKUP($K10,'OF Statistics 2011-Q3 2024'!$B:$B,'OF Statistics 2011-Q3 2024'!I:I,0,0)","v":23.47},{"$f":"_xlfn.XLOOKUP($K10,'OF Statistics 2011-Q3 2024'!$B:$B,'OF Statistics 2011-Q3 2024'!J:J,0,0)","v":37},{"$f":"_xlfn.XLOOKUP($K10,'OF Statistics 2011-Q3 2024'!$B:$B,'OF Statistics 2011-Q3 2024'!K:K,0,0)","v":32},{"$f":"_xlfn.XLOOKUP($K10,'OF Statistics 2011-Q3 2024'!$B:$B,'OF Statistics 2011-Q3 2024'!L:L,0,0)","v":34.200000000000003},{"$f":"_xlfn.XLOOKUP($K10,'OF Statistics 2011-Q3 2024'!$B:$B,'OF Statistics 2011-Q3 2024'!M:M,0,0)","v":35},{"$f":"_xlfn.XLOOKUP($K10,'OF Statistics 2011-Q3 2024'!$B:$B,'OF Statistics 2011-Q3 2024'!N:N,0,0)","v":35},{"$f":"_xlfn.XLOOKUP($K10,'OF Statistics 2011-Q3 2024'!$B:$B,'OF Statistics 2011-Q3 2024'!O:O,0,0)","v":39},{"$f":"_xlfn.XLOOKUP($K10,'OF Statistics 2011-Q3 2024'!$B:$B,'OF Statistics 2011-Q3 2024'!P:P,0,0)","v":28},{"$f":"_xlfn.XLOOKUP($K10,'OF Statistics 2011-Q3 2024'!$B:$B,'OF Statistics 2011-Q3 2024'!Q:Q,0,0)","v":15},{"$f":"_xlfn.XLOOKUP($K10,'OF Statistics 2011-Q3 2024'!$B:$B,'OF Statistics 2011-Q3 2024'!R:R,0,0)","v":0},{"$f":"_xlfn.XLOOKUP($K10,'OF Statistics 2011-Q3 2024'!$B:$B,'OF Statistics 2011-Q3 2024'!S:S,0,0)","v":0},{"$f":"_xlfn.XLOOKUP($K10,'OF Statistics 2011-Q3 2024'!$B:$B,'OF Statistics 2011-Q3 2024'!T:T,0,0)","v":0},{"$f":"_xlfn.XLOOKUP($K10,'OF Statistics 2011-Q3 2024'!$B:$B,'OF Statistics 2011-Q3 2024'!U:U,0,0)","v":5.76},{"$f":"_xlfn.XLOOKUP($K10,'OF Statistics 2011-Q3 2024'!$B:$B,'OF Statistics 2011-Q3 2024'!V:V,0,0)","v":8},{"$f":"_xlfn.XLOOKUP($K10,'OF Statistics 2011-Q3 2024'!$B:$B,'OF Statistics 2011-Q3 2024'!W:W,0,0)","v":10},{"$f":"_xlfn.XLOOKUP($K10,'OF Statistics 2011-Q3 2024'!$B:$B,'OF Statistics 2011-Q3 2024'!X:X,0,0)","v":7.87},{"$f":"_xlfn.XLOOKUP($K10,'OF Statistics 2011-Q3 2024'!$B:$B,'OF Statistics 2011-Q3 2024'!Y:Y,0,0)","v":7.47},{"$f":"_xlfn.XLOOKUP($K10,'OF Statistics 2011-Q3 2024'!$B:$B,'OF Statistics 2011-Q3 2024'!Z:Z,0,0)","v":6.28},{"$f":"_xlfn.XLOOKUP($K10,'OF Statistics 2011-Q3 2024'!$B:$B,'OF Statistics 2011-Q3 2024'!AA:AA,0,0)","v":8.85},{"$f":"_xlfn.XLOOKUP($K10,'OF Statistics 2011-Q3 2024'!$B:$B,'OF Statistics 2011-Q3 2024'!AB:AB,0,0)","v":6.36},{"$f":"_xlfn.XLOOKUP($K10,'OF Statistics 2011-Q3 2024'!$B:$B,'OF Statistics 2011-Q3 2024'!AC:AC,0,0)","v":4.18},{"$f":"_xlfn.XLOOKUP($K10,'OF Statistics 2011-Q3 2024'!$B:$B,'OF Statistics 2011-Q3 2024'!AD:AD,0,0)","v":4.37},{"$f":"_xlfn.XLOOKUP($K10,'OF Statistics 2011-Q3 2024'!$B:$B,'OF Statistics 2011-Q3 2024'!AE:AE,0,0)","v":0.28999999999999998},{"$f":"_xlfn.XLOOKUP($K10,'OF Statistics 2011-Q3 2024'!$B:$B,'OF Statistics 2011-Q3 2024'!AF:AF,0,0)","v":8.1},{"$f":"_xlfn.XLOOKUP($K10,'OF Statistics 2011-Q3 2024'!$B:$B,'OF Statistics 2011-Q3 2024'!AG:AG,0,0)","v":1.72},{"$f":"_xlfn.XLOOKUP($K10,'OF Statistics 2011-Q3 2024'!$B:$B,'OF Statistics 2011-Q3 2024'!AH:AH,0,0)","v":5.3532085237484202},{"$f":"_xlfn.XLOOKUP($K10,'OF Statistics 2011-Q3 2024'!$B:$B,'OF Statistics 2011-Q3 2024'!AI:AI,0,0)","v":8.3000000000000007},{"$f":"_xlfn.XLOOKUP($K10,'OF Statistics 2011-Q3 2024'!$B:$B,'OF Statistics 2011-Q3 2024'!AJ:AJ,0,0)","v":9.4},{"$f":"_xlfn.XLOOKUP($K10,'OF Statistics 2011-Q3 2024'!$B:$B,'OF Statistics 2011-Q3 2024'!AK:AK,0,0)","v":6.8},{"$f":"_xlfn.XLOOKUP($K10,'OF Statistics 2011-Q3 2024'!$B:$B,'OF Statistics 2011-Q3 2024'!AL:AL,0,0)","v":6.3},{"$f":"_xlfn.XLOOKUP($K10,'OF Statistics 2011-Q3 2024'!$B:$B,'OF Statistics 2011-Q3 2024'!AM:AM,0,0)","v":15},{"$f":"_xlfn.XLOOKUP($K10,'OF Statistics 2011-Q3 2024'!$B:$B,'OF Statistics 2011-Q3 2024'!AN:AN,0,0)","v":12},{"$f":"_xlfn.XLOOKUP($K10,'OF Statistics 2011-Q3 2024'!$B:$B,'OF Statistics 2011-Q3 2024'!AO:AO,0,0)","v":6.5},{"$f":"_xlfn.XLOOKUP($K10,'OF Statistics 2011-Q3 2024'!$B:$B,'OF Statistics 2011-Q3 2024'!AP:AP,0,0)","v":5.4},{"$f":"_xlfn.XLOOKUP($K10,'OF Statistics 2011-Q3 2024'!$B:$B,'OF Statistics 2011-Q3 2024'!AQ:AQ,0,0)","v":8.5},{"$f":"_xlfn.XLOOKUP($K10,'OF Statistics 2011-Q3 2024'!$B:$B,'OF Statistics 2011-Q3 2024'!AR:AR,0,0)","v":10.199999999999999},{"$f":"_xlfn.XLOOKUP($K10,'OF Statistics 2011-Q3 2024'!$B:$B,'OF Statistics 2011-Q3 2024'!AS:AS,0,0)","v":5.9},{"$f":"_xlfn.XLOOKUP($K10,'OF Statistics 2011-Q3 2024'!$B:$B,'OF Statistics 2011-Q3 2024'!AT:AT,0,0)","v":5},{"$f":"_xlfn.XLOOKUP($K10,'OF Statistics 2011-Q3 2024'!$B:$B,'OF Statistics 2011-Q3 2024'!AU:AU,0,0)","v":13},{"$f":"_xlfn.XLOOKUP($K10,'OF Statistics 2011-Q3 2024'!$B:$B,'OF Statistics 2011-Q3 2024'!AV:AV,0,0)","v":12},{"$f":"_xlfn.XLOOKUP($K10,'OF Statistics 2011-Q3 2024'!$B:$B,'OF Statistics 2011-Q3 2024'!AW:AW,0,0)","v":7},{"$f":"_xlfn.XLOOKUP($K10,'OF Statistics 2011-Q3 2024'!$B:$B,'OF Statistics 2011-Q3 2024'!AX:AX,0,0)","v":7},{"$f":"_xlfn.XLOOKUP($K10,'OF Statistics 2011-Q3 2024'!$B:$B,'OF Statistics 2011-Q3 2024'!AY:AY,0,0)","v":9},{"$f":"_xlfn.XLOOKUP($K10,'OF Statistics 2011-Q3 2024'!$B:$B,'OF Statistics 2011-Q3 2024'!AZ:AZ,0,0)","v":9},{"$f":"_xlfn.XLOOKUP($K10,'OF Statistics 2011-Q3 2024'!$B:$B,'OF Statistics 2011-Q3 2024'!BA:BA,0,0)","v":7},{"$f":"_xlfn.XLOOKUP($K10,'OF Statistics 2011-Q3 2024'!$B:$B,'OF Statistics 2011-Q3 2024'!BB:BB,0,0)","v":6},{"$f":"_xlfn.XLOOKUP($K10,'OF Statistics 2011-Q3 2024'!$B:$B,'OF Statistics 2011-Q3 2024'!BC:BC,0,0)","v":13},{"$f":"_xlfn.XLOOKUP($K10,'OF Statistics 2011-Q3 2024'!$B:$B,'OF Statistics 2011-Q3 2024'!BD:BD,0,0)","v":13},{"$f":"_xlfn.XLOOKUP($K10,'OF Statistics 2011-Q3 2024'!$B:$B,'OF Statistics 2011-Q3 2024'!BE:BE,0,0)","v":7},{"$f":"_xlfn.XLOOKUP($K10,'OF Statistics 2011-Q3 2024'!$B:$B,'OF Statistics 2011-Q3 2024'!BF:BF,0,0)","v":8},{"$f":"_xlfn.XLOOKUP($K10,'OF Statistics 2011-Q3 2024'!$B:$B,'OF Statistics 2011-Q3 2024'!BG:BG,0,0)","v":11},{"$f":"_xlfn.XLOOKUP($K10,'OF Statistics 2011-Q3 2024'!$B:$B,'OF Statistics 2011-Q3 2024'!BH:BH,0,0)","v":6},{"$f":"_xlfn.XLOOKUP($K10,'OF Statistics 2011-Q3 2024'!$B:$B,'OF Statistics 2011-Q3 2024'!BI:BI,0,0)","v":4},{"$f":"_xlfn.XLOOKUP($K10,'OF Statistics 2011-Q3 2024'!$B:$B,'OF Statistics 2011-Q3 2024'!BJ:BJ,0,0)","v":5},{"$f":"_xlfn.XLOOKUP($K10,'OF Statistics 2011-Q3 2024'!$B:$B,'OF Statistics 2011-Q3 2024'!BK:BK,0,0)","v":13},{"$f":"_xlfn.XLOOKUP($K10,'OF Statistics 2011-Q3 2024'!$B:$B,'OF Statistics 2011-Q3 2024'!BL:BL,0,0)","v":0}]
[null,null,"United Kingdom",null,null,null,null,null,null,8,"    Lincs (pro-rata consolidated from February 2017)","United Kingdom",null,null,null,{"$f":"'OF Asset Book'!G20","v":67.5},null,{"$f":"_xlfn.XLOOKUP($K11,'OF Statistics 2011-Q3 2024'!$B:$B,'OF Statistics 2011-Q3 2024'!E:E,0,0)","v":0},{"$f":"_xlfn.XLOOKUP($K11,'OF Statistics 2011-Q3 2024'!$B:$B,'OF Statistics 2011-Q3 2024'!F:F,0,0)","v":254.15007013068001},{"$f":"_xlfn.XLOOKUP($K11,'OF Statistics 2011-Q3 2024'!$B:$B,'OF Statistics 2011-Q3 2024'!G:G,0,0)","v":234.32},{"$f":"_xlfn.XLOOKUP($K11,'OF Statistics 2011-Q3 2024'!$B:$B,'OF Statistics 2011-Q3 2024'!H:H,0,0)","v":233.39},{"$f":"_xlfn.XLOOKUP($K11,'OF Statistics 2011-Q3 2024'!$B:$B,'OF Statistics 2011-Q3 2024'!I:I,0,0)","v":231.59},{"$f":"_xlfn.XLOOKUP($K11,'OF Statistics 2011-Q3 2024'!$B:$B,'OF Statistics 2011-Q3 2024'!J:J,0,0)","v":272},{"$f":"_xlfn.XLOOKUP($K11,'OF Statistics 2011-Q3 2024'!$B:$B,'OF Statistics 2011-Q3 2024'!K:K,0,0)","v":243},{"$f":"_xlfn.XLOOKUP($K11,'OF Statistics 2011-Q3 2024'!$B:$B,'OF Statistics 2011-Q3 2024'!L:L,0,0)","v":244.5},{"$f":"_xlfn.XLOOKUP($K11,'OF Statistics 2011-Q3 2024'!$B:$B,'OF Statistics 2011-Q3 2024'!M:M,0,0)","v":237},{"$f":"_xlfn.XLOOKUP($K11,'OF Statistics 2011-Q3 2024'!$B:$B,'OF Statistics 2011-Q3 2024'!N:N,0,0)","v":0},{"$f":"_xlfn.XLOOKUP($K11,'OF Statistics 2011-Q3 2024'!$B:$B,'OF Statistics 2011-Q3 2024'!O:O,0,0)","v":0},{"$f":"_xlfn.XLOOKUP($K11,'OF Statistics 2011-Q3 2024'!$B:$B,'OF Statistics 2011-Q3 2024'!P:P,0,0)","v":0},{"$f":"_xlfn.XLOOKUP($K11,'OF Statistics 2011-Q3 2024'!$B:$B,'OF Statistics 2011-Q3 2024'!Q:Q,0,0)","v":0},{"$f":"_xlfn.XLOOKUP($K11,'OF Statistics 2011-Q3 2024'!$B:$B,'OF Statistics 2011-Q3 2024'!R:R,0,0)","v":0},{"$f":"_xlfn.XLOOKUP($K11,'OF Statistics 2011-Q3 2024'!$B:$B,'OF Statistics 2011-Q3 2024'!S:S,0,0)","v":0},{"$f":"_xlfn.XLOOKUP($K11,'OF Statistics 2011-Q3 2024'!$B:$B,'OF Statistics 2011-Q3 2024'!T:T,0,0)","v":0},{"$f":"_xlfn.XLOOKUP($K11,'OF Statistics 2011-Q3 2024'!$B:$B,'OF Statistics 2011-Q3 2024'!U:U,0,0)","v":46.83},{"$f":"_xlfn.XLOOKUP($K11,'OF Statistics 2011-Q3 2024'!$B:$B,'OF Statistics 2011-Q3 2024'!V:V,0,0)","v":53.95},{"$f":"_xlfn.XLOOKUP($K11,'OF Statistics 2011-Q3 2024'!$B:$B,'OF Statistics 2011-Q3 2024'!W:W,0,0)","v":89},{"$f":"_xlfn.XLOOKUP($K11,'OF Statistics 2011-Q3 2024'!$B:$B,'OF Statistics 2011-Q3 2024'!X:X,0,0)","v":69.599999999999994},{"$f":"_xlfn.XLOOKUP($K11,'OF Statistics 2011-Q3 2024'!$B:$B,'OF Statistics 2011-Q3 2024'!Y:Y,0,0)","v":48.89},{"$f":"_xlfn.XLOOKUP($K11,'OF Statistics 2011-Q3 2024'!$B:$B,'OF Statistics 2011-Q3 2024'!Z:Z,0,0)","v":41.63},{"$f":"_xlfn.XLOOKUP($K11,'OF Statistics 2011-Q3 2024'!$B:$B,'OF Statistics 2011-Q3 2024'!AA:AA,0,0)","v":74.2},{"$f":"_xlfn.XLOOKUP($K11,'OF Statistics 2011-Q3 2024'!$B:$B,'OF Statistics 2011-Q3 2024'!AB:AB,0,0)","v":77.66},{"$f":"_xlfn.XLOOKUP($K11,'OF Statistics 2011-Q3 2024'!$B:$B,'OF Statistics 2011-Q3 2024'!AC:AC,0,0)","v":29.05},{"$f":"_xlfn.XLOOKUP($K11,'OF Statistics 2011-Q3 2024'!$B:$B,'OF Statistics 2011-Q3 2024'!AD:AD,0,0)","v":48.81},{"$f":"_xlfn.XLOOKUP($K11,'OF Statistics 2011-Q3 2024'!$B:$B,'OF Statistics 2011-Q3 2024'!AE:AE,0,0)","v":77.87},{"$f":"_xlfn.XLOOKUP($K11,'OF Statistics 2011-Q3 2024'!$B:$B,'OF Statistics 2011-Q3 2024'!AF:AF,0,0)","v":79.31},{"$f":"_xlfn.XLOOKUP($K11,'OF Statistics 2011-Q3 2024'!$B:$B,'OF Statistics 2011-Q3 2024'!AG:AG,0,0)","v":40.65},{"$f":"_xlfn.XLOOKUP($K11,'OF Statistics 2011-Q3 2024'!$B:$B,'OF Statistics 2011-Q3 2024'!AH:AH,0,0)","v":39.870793048733702},{"$f":"_xlfn.XLOOKUP($K11,'OF Statistics 2011-Q3 2024'!$B:$B,'OF Statistics 2011-Q3 2024'!AI:AI,0,0)","v":71.8},{"$f":"_xlfn.XLOOKUP($K11,'OF Statistics 2011-Q3 2024'!$B:$B,'OF Statistics 2011-Q3 2024'!AJ:AJ,0,0)","v":77.2},{"$f":"_xlfn.XLOOKUP($K11,'OF Statistics 2011-Q3 2024'!$B:$B,'OF Statistics 2011-Q3 2024'!AK:AK,0,0)","v":53.9},{"$f":"_xlfn.XLOOKUP($K11,'OF Statistics 2011-Q3 2024'!$B:$B,'OF Statistics 2011-Q3 2024'!AL:AL,0,0)","v":48.2},{"$f":"_xlfn.XLOOKUP($K11,'OF Statistics 2011-Q3 2024'!$B:$B,'OF Statistics 2011-Q3 2024'!AM:AM,0,0)","v":93},{"$f":"_xlfn.XLOOKUP($K11,'OF Statistics 2011-Q3 2024'!$B:$B,'OF Statistics 2011-Q3 2024'!AN:AN,0,0)","v":73},{"$f":"_xlfn.XLOOKUP($K11,'OF Statistics 2011-Q3 2024'!$B:$B,'OF Statistics 2011-Q3 2024'!AO:AO,0,0)","v":52.9},{"$f":"_xlfn.XLOOKUP($K11,'OF Statistics 2011-Q3 2024'!$B:$B,'OF Statistics 2011-Q3 2024'!AP:AP,0,0)","v":46.6},{"$f":"_xlfn.XLOOKUP($K11,'OF Statistics 2011-Q3 2024'!$B:$B,'OF Statistics 2011-Q3 2024'!AQ:AQ,0,0)","v":70.7},{"$f":"_xlfn.XLOOKUP($K11,'OF Statistics 2011-Q3 2024'!$B:$B,'OF Statistics 2011-Q3 2024'!AR:AR,0,0)","v":76.400000000000006},{"$f":"_xlfn.XLOOKUP($K11,'OF Statistics 2011-Q3 2024'!$B:$B,'OF Statistics 2011-Q3 2024'!AS:AS,0,0)","v":43.3},{"$f":"_xlfn.XLOOKUP($K11,'OF Statistics 2011-Q3 2024'!$B:$B,'OF Statistics 2011-Q3 2024'!AT:AT,0,0)","v":42},{"$f":"_xlfn.XLOOKUP($K11,'OF Statistics 2011-Q3 2024'!$B:$B,'OF Statistics 2011-Q3 2024'!AU:AU,0,0)","v":83},{"$f":"_xlfn.XLOOKUP($K11,'OF Statistics 2011-Q3 2024'!$B:$B,'OF Statistics 2011-Q3 2024'!AV:AV,0,0)","v":79},{"$f":"_xlfn.XLOOKUP($K11,'OF Statistics 2011-Q3 2024'!$B:$B,'OF Statistics 2011-Q3 2024'!AW:AW,0,0)","v":53},{"$f":"_xlfn.XLOOKUP($K11,'OF Statistics 2011-Q3 2024'!$B:$B,'OF Statistics 2011-Q3 2024'!AX:AX,0,0)","v":57},{"$f":"_xlfn.XLOOKUP($K11,'OF Statistics 2011-Q3 2024'!$B:$B,'OF Statistics 2011-Q3 2024'!AY:AY,0,0)","v":48},{"$f":"_xlfn.XLOOKUP($K11,'OF Statistics 2011-Q3 2024'!$B:$B,'OF Statistics 2011-Q3 2024'!AZ:AZ,0,0)","v":0},{"$f":"_xlfn.XLOOKUP($K11,'OF Statistics 2011-Q3 2024'!$B:$B,'OF Statistics 2011-Q3 2024'!BA:BA,0,0)","v":0},{"$f":"_xlfn.XLOOKUP($K11,'OF Statistics 2011-Q3 2024'!$B:$B,'OF Statistics 2011-Q3 2024'!BB:BB,0,0)","v":0},{"$f":"_xlfn.XLOOKUP($K11,'OF Statistics 2011-Q3 2024'!$B:$B,'OF Statistics 2011-Q3 2024'!BC:BC,0,0)","v":0},{"$f":"_xlfn.XLOOKUP($K11,'OF Statistics 2011-Q3 2024'!$B:$B,'OF Statistics 2011-Q3 2024'!BD:BD,0,0)","v":0},{"$f":"_xlfn.XLOOKUP($K11,'OF Statistics 2011-Q3 2024'!$B:$B,'OF Statistics 2011-Q3 2024'!BE:BE,0,0)","v":0},{"$f":"_xlfn.XLOOKUP($K11,'OF Statistics 2011-Q3 2024'!$B:$B,'OF Statistics 2011-Q3 2024'!BF:BF,0,0)","v":0},{"$f":"_xlfn.XLOOKUP($K11,'OF Statistics 2011-Q3 2024'!$B:$B,'OF Statistics 2011-Q3 2024'!BG:BG,0,0)","v":0},{"$f":"_xlfn.XLOOKUP($K11,'OF Statistics 2011-Q3 2024'!$B:$B,'OF Statistics 2011-Q3 2024'!BH:BH,0,0)","v":0},{"$f":"_xlfn.XLOOKUP($K11,'OF Statistics 2011-Q3 2024'!$B:$B,'OF Statistics 2011-Q3 2024'!BI:BI,0,0)","v":0},{"$f":"_xlfn.XLOOKUP($K11,'OF Statistics 2011-Q3 2024'!$B:$B,'OF Statistics 2011-Q3 2024'!BJ:BJ,0,0)","v":0},{"$f":"_xlfn.XLOOKUP($K11,'OF Statistics 2011-Q3 2024'!$B:$B,'OF Statistics 2011-Q3 2024'!BK:BK,0,0)","v":0},{"$f":"_xlfn.XLOOKUP($K11,'OF Statistics 2011-Q3 2024'!$B:$B,'OF Statistics 2011-Q3 2024'!BL:BL,0,0)","v":0}]
[null,null,"  Barrow (one-line consolidated in 2013 and 2014)",null,null,null,null,null,null,9,"    London Array 1","United Kingdom",null,null,null,{"$f":"_xlfn.XLOOKUP($K12,'OF Statistics 2011-Q3 2024'!$B:$B,'OF Statistics 2011-Q3 2024'!D:D,0,0)","v":90},null,{"$f":"_xlfn.XLOOKUP($K12,'OF Statistics 2011-Q3 2024'!$B:$B,'OF Statistics 2011-Q3 2024'!E:E,0,0)","v":0},{"$f":"_xlfn.XLOOKUP($K12,'OF Statistics 2011-Q3 2024'!$B:$B,'OF Statistics 2011-Q3 2024'!F:F,0,0)","v":0},{"$f":"_xlfn.XLOOKUP($K12,'OF Statistics 2011-Q3 2024'!$B:$B,'OF Statistics 2011-Q3 2024'!G:G,0,0)","v":345.42},{"$f":"_xlfn.XLOOKUP($K12,'OF Statistics 2011-Q3 2024'!$B:$B,'OF Statistics 2011-Q3 2024'!H:H,0,0)","v":517.69000000000005},{"$f":"_xlfn.XLOOKUP($K12,'OF Statistics 2011-Q3 2024'!$B:$B,'OF Statistics 2011-Q3 2024'!I:I,0,0)","v":540.32000000000005},{"$f":"_xlfn.XLOOKUP($K12,'OF Statistics 2011-Q3 2024'!$B:$B,'OF Statistics 2011-Q3 2024'!J:J,0,0)","v":638.04365044583301},{"$f":"_xlfn.XLOOKUP($K12,'OF Statistics 2011-Q3 2024'!$B:$B,'OF Statistics 2011-Q3 2024'!K:K,0,0)","v":490},{"$f":"_xlfn.XLOOKUP($K12,'OF Statistics 2011-Q3 2024'!$B:$B,'OF Statistics 2011-Q3 2024'!L:L,0,0)","v":519},{"$f":"_xlfn.XLOOKUP($K12,'OF Statistics 2011-Q3 2024'!$B:$B,'OF Statistics 2011-Q3 2024'!M:M,0,0)","v":536},{"$f":"_xlfn.XLOOKUP($K12,'OF Statistics 2011-Q3 2024'!$B:$B,'OF Statistics 2011-Q3 2024'!N:N,0,0)","v":567},{"$f":"_xlfn.XLOOKUP($K12,'OF Statistics 2011-Q3 2024'!$B:$B,'OF Statistics 2011-Q3 2024'!O:O,0,0)","v":610},{"$f":"_xlfn.XLOOKUP($K12,'OF Statistics 2011-Q3 2024'!$B:$B,'OF Statistics 2011-Q3 2024'!P:P,0,0)","v":745},{"$f":"_xlfn.XLOOKUP($K12,'OF Statistics 2011-Q3 2024'!$B:$B,'OF Statistics 2011-Q3 2024'!Q:Q,0,0)","v":1003},{"$f":"_xlfn.XLOOKUP($K12,'OF Statistics 2011-Q3 2024'!$B:$B,'OF Statistics 2011-Q3 2024'!R:R,0,0)","v":65},{"$f":"_xlfn.XLOOKUP($K12,'OF Statistics 2011-Q3 2024'!$B:$B,'OF Statistics 2011-Q3 2024'!S:S,0,0)","v":0},{"$f":"_xlfn.XLOOKUP($K12,'OF Statistics 2011-Q3 2024'!$B:$B,'OF Statistics 2011-Q3 2024'!T:T,0,0)","v":0},{"$f":"_xlfn.XLOOKUP($K12,'OF Statistics 2011-Q3 2024'!$B:$B,'OF Statistics 2011-Q3 2024'!U:U,0,0)","v":0},{"$f":"_xlfn.XLOOKUP($K12,'OF Statistics 2011-Q3 2024'!$B:$B,'OF Statistics 2011-Q3 2024'!V:V,0,0)","v":0},{"$f":"_xlfn.XLOOKUP($K12,'OF Statistics 2011-Q3 2024'!$B:$B,'OF Statistics 2011-Q3 2024'!W:W,0,0)","v":0},{"$f":"_xlfn.XLOOKUP($K12,'OF Statistics 2011-Q3 2024'!$B:$B,'OF Statistics 2011-Q3 2024'!X:X,0,0)","v":0},{"$f":"_xlfn.XLOOKUP($K12,'OF Statistics 2011-Q3 2024'!$B:$B,'OF Statistics 2011-Q3 2024'!Y:Y,0,0)","v":50},{"$f":"_xlfn.XLOOKUP($K12,'OF Statistics 2011-Q3 2024'!$B:$B,'OF Statistics 2011-Q3 2024'!Z:Z,0,0)","v":122.4},{"$f":"_xlfn.XLOOKUP($K12,'OF Statistics 2011-Q3 2024'!$B:$B,'OF Statistics 2011-Q3 2024'!AA:AA,0,0)","v":173.02},{"$f":"_xlfn.XLOOKUP($K12,'OF Statistics 2011-Q3 2024'!$B:$B,'OF Statistics 2011-Q3 2024'!AB:AB,0,0)","v":171.69},{"$f":"_xlfn.XLOOKUP($K12,'OF Statistics 2011-Q3 2024'!$B:$B,'OF Statistics 2011-Q3 2024'!AC:AC,0,0)","v":76.73},{"$f":"_xlfn.XLOOKUP($K12,'OF Statistics 2011-Q3 2024'!$B:$B,'OF Statistics 2011-Q3 2024'!AD:AD,0,0)","v":107.52},{"$f":"_xlfn.XLOOKUP($K12,'OF Statistics 2011-Q3 2024'!$B:$B,'OF Statistics 2011-Q3 2024'!AE:AE,0,0)","v":161.75},{"$f":"_xlfn.XLOOKUP($K12,'OF Statistics 2011-Q3 2024'!$B:$B,'OF Statistics 2011-Q3 2024'!AF:AF,0,0)","v":165.85},{"$f":"_xlfn.XLOOKUP($K12,'OF Statistics 2011-Q3 2024'!$B:$B,'OF Statistics 2011-Q3 2024'!AG:AG,0,0)","v":103.81},{"$f":"_xlfn.XLOOKUP($K12,'OF Statistics 2011-Q3 2024'!$B:$B,'OF Statistics 2011-Q3 2024'!AH:AH,0,0)","v":98.663513968412005},{"$f":"_xlfn.XLOOKUP($K12,'OF Statistics 2011-Q3 2024'!$B:$B,'OF Statistics 2011-Q3 2024'!AI:AI,0,0)","v":172},{"$f":"_xlfn.XLOOKUP($K12,'OF Statistics 2011-Q3 2024'!$B:$B,'OF Statistics 2011-Q3 2024'!AJ:AJ,0,0)","v":186},{"$f":"_xlfn.XLOOKUP($K12,'OF Statistics 2011-Q3 2024'!$B:$B,'OF Statistics 2011-Q3 2024'!AK:AK,0,0)","v":124.8},{"$f":"_xlfn.XLOOKUP($K12,'OF Statistics 2011-Q3 2024'!$B:$B,'OF Statistics 2011-Q3 2024'!AL:AL,0,0)","v":109.3},{"$f":"_xlfn.XLOOKUP($K12,'OF Statistics 2011-Q3 2024'!$B:$B,'OF Statistics 2011-Q3 2024'!AM:AM,0,0)","v":218},{"$f":"_xlfn.XLOOKUP($K12,'OF Statistics 2011-Q3 2024'!$B:$B,'OF Statistics 2011-Q3 2024'!AN:AN,0,0)","v":200},{"$f":"_xlfn.XLOOKUP($K12,'OF Statistics 2011-Q3 2024'!$B:$B,'OF Statistics 2011-Q3 2024'!AO:AO,0,0)","v":86.8},{"$f":"_xlfn.XLOOKUP($K12,'OF Statistics 2011-Q3 2024'!$B:$B,'OF Statistics 2011-Q3 2024'!AP:AP,0,0)","v":68.2},{"$f":"_xlfn.XLOOKUP($K12,'OF Statistics 2011-Q3 2024'!$B:$B,'OF Statistics 2011-Q3 2024'!AQ:AQ,0,0)","v":134.9},{"$f":"_xlfn.XLOOKUP($K12,'OF Statistics 2011-Q3 2024'!$B:$B,'OF Statistics 2011-Q3 2024'!AR:AR,0,0)","v":151.5},{"$f":"_xlfn.XLOOKUP($K12,'OF Statistics 2011-Q3 2024'!$B:$B,'OF Statistics 2011-Q3 2024'!AS:AS,0,0)","v":89.5},{"$f":"_xlfn.XLOOKUP($K12,'OF Statistics 2011-Q3 2024'!$B:$B,'OF Statistics 2011-Q3 2024'!AT:AT,0,0)","v":89},{"$f":"_xlfn.XLOOKUP($K12,'OF Statistics 2011-Q3 2024'!$B:$B,'OF Statistics 2011-Q3 2024'!AU:AU,0,0)","v":189},{"$f":"_xlfn.XLOOKUP($K12,'OF Statistics 2011-Q3 2024'!$B:$B,'OF Statistics 2011-Q3 2024'!AV:AV,0,0)","v":180},{"$f":"_xlfn.XLOOKUP($K12,'OF Statistics 2011-Q3 2024'!$B:$B,'OF Statistics 2011-Q3 2024'!AW:AW,0,0)","v":102},{"$f":"_xlfn.XLOOKUP($K12,'OF Statistics 2011-Q3 2024'!$B:$B,'OF Statistics 2011-Q3 2024'!AX:AX,0,0)","v":106},{"$f":"_xlfn.XLOOKUP($K12,'OF Statistics 2011-Q3 2024'!$B:$B,'OF Statistics 2011-Q3 2024'!AY:AY,0,0)","v":148},{"$f":"_xlfn.XLOOKUP($K12,'OF Statistics 2011-Q3 2024'!$B:$B,'OF Statistics 2011-Q3 2024'!AZ:AZ,0,0)","v":154},{"$f":"_xlfn.XLOOKUP($K12,'OF Statistics 2011-Q3 2024'!$B:$B,'OF Statistics 2011-Q3 2024'!BA:BA,0,0)","v":103},{"$f":"_xlfn.XLOOKUP($K12,'OF Statistics 2011-Q3 2024'!$B:$B,'OF Statistics 2011-Q3 2024'!BB:BB,0,0)","v":105},{"$f":"_xlfn.XLOOKUP($K12,'OF Statistics 2011-Q3 2024'!$B:$B,'OF Statistics 2011-Q3 2024'!BC:BC,0,0)","v":205},{"$f":"_xlfn.XLOOKUP($K12,'OF Statistics 2011-Q3 2024'!$B:$B,'OF Statistics 2011-Q3 2024'!BD:BD,0,0)","v":205},{"$f":"_xlfn.XLOOKUP($K12,'OF Statistics 2011-Q3 2024'!$B:$B,'OF Statistics 2011-Q3 2024'!BE:BE,0,0)","v":104},{"$f":"_xlfn.XLOOKUP($K12,'OF Statistics 2011-Q3 2024'!$B:$B,'OF Statistics 2011-Q3 2024'!BF:BF,0,0)","v":126},{"$f":"_xlfn.XLOOKUP($K12,'OF Statistics 2011-Q3 2024'!$B:$B,'OF Statistics 2011-Q3 2024'!BG:BG,0,0)","v":175},{"$f":"_xlfn.XLOOKUP($K12,'OF Statistics 2011-Q3 2024'!$B:$B,'OF Statistics 2011-Q3 2024'!BH:BH,0,0)","v":176},{"$f":"_xlfn.XLOOKUP($K12,'OF Statistics 2011-Q3 2024'!$B:$B,'OF Statistics 2011-Q3 2024'!BI:BI,0,0)","v":85},{"$f":"_xlfn.XLOOKUP($K12,'OF Statistics 2011-Q3 2024'!$B:$B,'OF Statistics 2011-Q3 2024'!BJ:BJ,0,0)","v":92},{"$f":"_xlfn.XLOOKUP($K12,'OF Statistics 2011-Q3 2024'!$B:$B,'OF Statistics 2011-Q3 2024'!BK:BK,0,0)","v":392},{"$f":"_xlfn.XLOOKUP($K12,'OF Statistics 2011-Q3 2024'!$B:$B,'OF Statistics 2011-Q3 2024'!BL:BL,0,0)","v":0}]
[null,5,"    Burbo Bank 1+2",null,null,null,null,null,null,10,"    Walney 1&2","United Kingdom",null,null,null,{"$f":"'OF Asset Book'!G19","v":183.96719999999999},null,{"$f":"_xlfn.XLOOKUP($K13,'OF Statistics 2011-Q3 2024'!$B:$B,'OF Statistics 2011-Q3 2024'!E:E,0,0)","v":0},{"$f":"_xlfn.XLOOKUP($K13,'OF Statistics 2011-Q3 2024'!$B:$B,'OF Statistics 2011-Q3 2024'!F:F,0,0)","v":637.358424460013},{"$f":"_xlfn.XLOOKUP($K13,'OF Statistics 2011-Q3 2024'!$B:$B,'OF Statistics 2011-Q3 2024'!G:G,0,0)","v":653.90000000000009},{"$f":"_xlfn.XLOOKUP($K13,'OF Statistics 2011-Q3 2024'!$B:$B,'OF Statistics 2011-Q3 2024'!H:H,0,0)","v":659.68},{"$f":"_xlfn.XLOOKUP($K13,'OF Statistics 2011-Q3 2024'!$B:$B,'OF Statistics 2011-Q3 2024'!I:I,0,0)","v":566.91},{"$f":"_xlfn.XLOOKUP($K13,'OF Statistics 2011-Q3 2024'!$B:$B,'OF Statistics 2011-Q3 2024'!J:J,0,0)","v":708.9},{"$f":"_xlfn.XLOOKUP($K13,'OF Statistics 2011-Q3 2024'!$B:$B,'OF Statistics 2011-Q3 2024'!K:K,0,0)","v":691},{"$f":"_xlfn.XLOOKUP($K13,'OF Statistics 2011-Q3 2024'!$B:$B,'OF Statistics 2011-Q3 2024'!L:L,0,0)","v":676},{"$f":"_xlfn.XLOOKUP($K13,'OF Statistics 2011-Q3 2024'!$B:$B,'OF Statistics 2011-Q3 2024'!M:M,0,0)","v":765},{"$f":"_xlfn.XLOOKUP($K13,'OF Statistics 2011-Q3 2024'!$B:$B,'OF Statistics 2011-Q3 2024'!N:N,0,0)","v":567},{"$f":"_xlfn.XLOOKUP($K13,'OF Statistics 2011-Q3 2024'!$B:$B,'OF Statistics 2011-Q3 2024'!O:O,0,0)","v":707},{"$f":"_xlfn.XLOOKUP($K13,'OF Statistics 2011-Q3 2024'!$B:$B,'OF Statistics 2011-Q3 2024'!P:P,0,0)","v":726},{"$f":"_xlfn.XLOOKUP($K13,'OF Statistics 2011-Q3 2024'!$B:$B,'OF Statistics 2011-Q3 2024'!Q:Q,0,0)","v":709},{"$f":"_xlfn.XLOOKUP($K13,'OF Statistics 2011-Q3 2024'!$B:$B,'OF Statistics 2011-Q3 2024'!R:R,0,0)","v":693},{"$f":"_xlfn.XLOOKUP($K13,'OF Statistics 2011-Q3 2024'!$B:$B,'OF Statistics 2011-Q3 2024'!S:S,0,0)","v":326},{"$f":"_xlfn.XLOOKUP($K13,'OF Statistics 2011-Q3 2024'!$B:$B,'OF Statistics 2011-Q3 2024'!T:T,0,0)","v":0},{"$f":"_xlfn.XLOOKUP($K13,'OF Statistics 2011-Q3 2024'!$B:$B,'OF Statistics 2011-Q3 2024'!U:U,0,0)","v":148.76},{"$f":"_xlfn.XLOOKUP($K13,'OF Statistics 2011-Q3 2024'!$B:$B,'OF Statistics 2011-Q3 2024'!V:V,0,0)","v":128.89000000000001},{"$f":"_xlfn.XLOOKUP($K13,'OF Statistics 2011-Q3 2024'!$B:$B,'OF Statistics 2011-Q3 2024'!W:W,0,0)","v":183},{"$f":"_xlfn.XLOOKUP($K13,'OF Statistics 2011-Q3 2024'!$B:$B,'OF Statistics 2011-Q3 2024'!X:X,0,0)","v":215.11},{"$f":"_xlfn.XLOOKUP($K13,'OF Statistics 2011-Q3 2024'!$B:$B,'OF Statistics 2011-Q3 2024'!Y:Y,0,0)","v":153.33000000000001},{"$f":"_xlfn.XLOOKUP($K13,'OF Statistics 2011-Q3 2024'!$B:$B,'OF Statistics 2011-Q3 2024'!Z:Z,0,0)","v":96.01},{"$f":"_xlfn.XLOOKUP($K13,'OF Statistics 2011-Q3 2024'!$B:$B,'OF Statistics 2011-Q3 2024'!AA:AA,0,0)","v":189.45},{"$f":"_xlfn.XLOOKUP($K13,'OF Statistics 2011-Q3 2024'!$B:$B,'OF Statistics 2011-Q3 2024'!AB:AB,0,0)","v":208.39},{"$f":"_xlfn.XLOOKUP($K13,'OF Statistics 2011-Q3 2024'!$B:$B,'OF Statistics 2011-Q3 2024'!AC:AC,0,0)","v":116.12},{"$f":"_xlfn.XLOOKUP($K13,'OF Statistics 2011-Q3 2024'!$B:$B,'OF Statistics 2011-Q3 2024'!AD:AD,0,0)","v":136.66},{"$f":"_xlfn.XLOOKUP($K13,'OF Statistics 2011-Q3 2024'!$B:$B,'OF Statistics 2011-Q3 2024'!AE:AE,0,0)","v":198.51},{"$f":"_xlfn.XLOOKUP($K13,'OF Statistics 2011-Q3 2024'!$B:$B,'OF Statistics 2011-Q3 2024'!AF:AF,0,0)","v":210.34},{"$f":"_xlfn.XLOOKUP($K13,'OF Statistics 2011-Q3 2024'!$B:$B,'OF Statistics 2011-Q3 2024'!AG:AG,0,0)","v":75.81},{"$f":"_xlfn.XLOOKUP($K13,'OF Statistics 2011-Q3 2024'!$B:$B,'OF Statistics 2011-Q3 2024'!AH:AH,0,0)","v":86.22116854436851},{"$f":"_xlfn.XLOOKUP($K13,'OF Statistics 2011-Q3 2024'!$B:$B,'OF Statistics 2011-Q3 2024'!AI:AI,0,0)","v":194.5},{"$f":"_xlfn.XLOOKUP($K13,'OF Statistics 2011-Q3 2024'!$B:$B,'OF Statistics 2011-Q3 2024'!AJ:AJ,0,0)","v":206.3},{"$f":"_xlfn.XLOOKUP($K13,'OF Statistics 2011-Q3 2024'!$B:$B,'OF Statistics 2011-Q3 2024'!AK:AK,0,0)","v":152.4},{"$f":"_xlfn.XLOOKUP($K13,'OF Statistics 2011-Q3 2024'!$B:$B,'OF Statistics 2011-Q3 2024'!AL:AL,0,0)","v":120.5},{"$f":"_xlfn.XLOOKUP($K13,'OF Statistics 2011-Q3 2024'!$B:$B,'OF Statistics 2011-Q3 2024'!AM:AM,0,0)","v":230},{"$f":"_xlfn.XLOOKUP($K13,'OF Statistics 2011-Q3 2024'!$B:$B,'OF Statistics 2011-Q3 2024'!AN:AN,0,0)","v":210},{"$f":"_xlfn.XLOOKUP($K13,'OF Statistics 2011-Q3 2024'!$B:$B,'OF Statistics 2011-Q3 2024'!AO:AO,0,0)","v":157.6},{"$f":"_xlfn.XLOOKUP($K13,'OF Statistics 2011-Q3 2024'!$B:$B,'OF Statistics 2011-Q3 2024'!AP:AP,0,0)","v":121.6},{"$f":"_xlfn.XLOOKUP($K13,'OF Statistics 2011-Q3 2024'!$B:$B,'OF Statistics 2011-Q3 2024'!AQ:AQ,0,0)","v":201.6},{"$f":"_xlfn.XLOOKUP($K13,'OF Statistics 2011-Q3 2024'!$B:$B,'OF Statistics 2011-Q3 2024'!AR:AR,0,0)","v":224.4},{"$f":"_xlfn.XLOOKUP($K13,'OF Statistics 2011-Q3 2024'!$B:$B,'OF Statistics 2011-Q3 2024'!AS:AS,0,0)","v":132.80000000000001},{"$f":"_xlfn.XLOOKUP($K13,'OF Statistics 2011-Q3 2024'!$B:$B,'OF Statistics 2011-Q3 2024'!AT:AT,0,0)","v":80},{"$f":"_xlfn.XLOOKUP($K13,'OF Statistics 2011-Q3 2024'!$B:$B,'OF Statistics 2011-Q3 2024'!AU:AU,0,0)","v":239},{"$f":"_xlfn.XLOOKUP($K13,'OF Statistics 2011-Q3 2024'!$B:$B,'OF Statistics 2011-Q3 2024'!AV:AV,0,0)","v":245},{"$f":"_xlfn.XLOOKUP($K13,'OF Statistics 2011-Q3 2024'!$B:$B,'OF Statistics 2011-Q3 2024'!AW:AW,0,0)","v":161},{"$f":"_xlfn.XLOOKUP($K13,'OF Statistics 2011-Q3 2024'!$B:$B,'OF Statistics 2011-Q3 2024'!AX:AX,0,0)","v":157},{"$f":"_xlfn.XLOOKUP($K13,'OF Statistics 2011-Q3 2024'!$B:$B,'OF Statistics 2011-Q3 2024'!AY:AY,0,0)","v":202},{"$f":"_xlfn.XLOOKUP($K13,'OF Statistics 2011-Q3 2024'!$B:$B,'OF Statistics 2011-Q3 2024'!AZ:AZ,0,0)","v":188},{"$f":"_xlfn.XLOOKUP($K13,'OF Statistics 2011-Q3 2024'!$B:$B,'OF Statistics 2011-Q3 2024'!BA:BA,0,0)","v":157},{"$f":"_xlfn.XLOOKUP($K13,'OF Statistics 2011-Q3 2024'!$B:$B,'OF Statistics 2011-Q3 2024'!BB:BB,0,0)","v":121},{"$f":"_xlfn.XLOOKUP($K13,'OF Statistics 2011-Q3 2024'!$B:$B,'OF Statistics 2011-Q3 2024'!BC:BC,0,0)","v":101},{"$f":"_xlfn.XLOOKUP($K13,'OF Statistics 2011-Q3 2024'!$B:$B,'OF Statistics 2011-Q3 2024'!BD:BD,0,0)","v":169},{"$f":"_xlfn.XLOOKUP($K13,'OF Statistics 2011-Q3 2024'!$B:$B,'OF Statistics 2011-Q3 2024'!BE:BE,0,0)","v":144},{"$f":"_xlfn.XLOOKUP($K13,'OF Statistics 2011-Q3 2024'!$B:$B,'OF Statistics 2011-Q3 2024'!BF:BF,0,0)","v":168},{"$f":"_xlfn.XLOOKUP($K13,'OF Statistics 2011-Q3 2024'!$B:$B,'OF Statistics 2011-Q3 2024'!BG:BG,0,0)","v":226},{"$f":"_xlfn.XLOOKUP($K13,'OF Statistics 2011-Q3 2024'!$B:$B,'OF Statistics 2011-Q3 2024'!BH:BH,0,0)","v":220},{"$f":"_xlfn.XLOOKUP($K13,'OF Statistics 2011-Q3 2024'!$B:$B,'OF Statistics 2011-Q3 2024'!BI:BI,0,0)","v":122},{"$f":"_xlfn.XLOOKUP($K13,'OF Statistics 2011-Q3 2024'!$B:$B,'OF Statistics 2011-Q3 2024'!BJ:BJ,0,0)","v":130},{"$f":"_xlfn.XLOOKUP($K13,'OF Statistics 2011-Q3 2024'!$B:$B,'OF Statistics 2011-Q3 2024'!BK:BK,0,0)","v":254},{"$f":"_xlfn.XLOOKUP($K13,'OF Statistics 2011-Q3 2024'!$B:$B,'OF Statistics 2011-Q3 2024'!BL:BL,0,0)","v":0}]
[null,6,"    Gunfleet Sands 1+2",null,null,null,null,null,null,11,"    Walney 3&4","United Kingdom",null,null,null,{"$f":"'OF Asset Book'!G28","v":329.5},null,{"$f":"_xlfn.XLOOKUP($K14,'OF Statistics 2011-Q3 2024'!$B:$B,'OF Statistics 2011-Q3 2024'!E:E,0,0)","v":0},{"$f":"_xlfn.XLOOKUP($K14,'OF Statistics 2011-Q3 2024'!$B:$B,'OF Statistics 2011-Q3 2024'!F:F,0,0)","v":1265.6842513257},{"$f":"_xlfn.XLOOKUP($K14,'OF Statistics 2011-Q3 2024'!$B:$B,'OF Statistics 2011-Q3 2024'!G:G,0,0)","v":1273.1399999999999},{"$f":"_xlfn.XLOOKUP($K14,'OF Statistics 2011-Q3 2024'!$B:$B,'OF Statistics 2011-Q3 2024'!H:H,0,0)","v":1332.96},{"$f":"_xlfn.XLOOKUP($K14,'OF Statistics 2011-Q3 2024'!$B:$B,'OF Statistics 2011-Q3 2024'!I:I,0,0)","v":1084.18},{"$f":"_xlfn.XLOOKUP($K14,'OF Statistics 2011-Q3 2024'!$B:$B,'OF Statistics 2011-Q3 2024'!J:J,0,0)","v":1425.8},{"$f":"_xlfn.XLOOKUP($K14,'OF Statistics 2011-Q3 2024'!$B:$B,'OF Statistics 2011-Q3 2024'!K:K,0,0)","v":1348},{"$f":"_xlfn.XLOOKUP($K14,'OF Statistics 2011-Q3 2024'!$B:$B,'OF Statistics 2011-Q3 2024'!L:L,0,0)","v":1120},{"$f":"_xlfn.XLOOKUP($K14,'OF Statistics 2011-Q3 2024'!$B:$B,'OF Statistics 2011-Q3 2024'!M:M,0,0)","v":103},{"$f":"_xlfn.XLOOKUP($K14,'OF Statistics 2011-Q3 2024'!$B:$B,'OF Statistics 2011-Q3 2024'!N:N,0,0)","v":0},{"$f":"_xlfn.XLOOKUP($K14,'OF Statistics 2011-Q3 2024'!$B:$B,'OF Statistics 2011-Q3 2024'!O:O,0,0)","v":0},{"$f":"_xlfn.XLOOKUP($K14,'OF Statistics 2011-Q3 2024'!$B:$B,'OF Statistics 2011-Q3 2024'!P:P,0,0)","v":0},{"$f":"_xlfn.XLOOKUP($K14,'OF Statistics 2011-Q3 2024'!$B:$B,'OF Statistics 2011-Q3 2024'!Q:Q,0,0)","v":0},{"$f":"_xlfn.XLOOKUP($K14,'OF Statistics 2011-Q3 2024'!$B:$B,'OF Statistics 2011-Q3 2024'!R:R,0,0)","v":0},{"$f":"_xlfn.XLOOKUP($K14,'OF Statistics 2011-Q3 2024'!$B:$B,'OF Statistics 2011-Q3 2024'!S:S,0,0)","v":0},{"$f":"_xlfn.XLOOKUP($K14,'OF Statistics 2011-Q3 2024'!$B:$B,'OF Statistics 2011-Q3 2024'!T:T,0,0)","v":0},{"$f":"_xlfn.XLOOKUP($K14,'OF Statistics 2011-Q3 2024'!$B:$B,'OF Statistics 2011-Q3 2024'!U:U,0,0)","v":275.22000000000003},{"$f":"_xlfn.XLOOKUP($K14,'OF Statistics 2011-Q3 2024'!$B:$B,'OF Statistics 2011-Q3 2024'!V:V,0,0)","v":249.07},{"$f":"_xlfn.XLOOKUP($K14,'OF Statistics 2011-Q3 2024'!$B:$B,'OF Statistics 2011-Q3 2024'!W:W,0,0)","v":378},{"$f":"_xlfn.XLOOKUP($K14,'OF Statistics 2011-Q3 2024'!$B:$B,'OF Statistics 2011-Q3 2024'!X:X,0,0)","v":394.57},{"$f":"_xlfn.XLOOKUP($K14,'OF Statistics 2011-Q3 2024'!$B:$B,'OF Statistics 2011-Q3 2024'!Y:Y,0,0)","v":287.99},{"$f":"_xlfn.XLOOKUP($K14,'OF Statistics 2011-Q3 2024'!$B:$B,'OF Statistics 2011-Q3 2024'!Z:Z,0,0)","v":196.78},{"$f":"_xlfn.XLOOKUP($K14,'OF Statistics 2011-Q3 2024'!$B:$B,'OF Statistics 2011-Q3 2024'!AA:AA,0,0)","v":393.81},{"$f":"_xlfn.XLOOKUP($K14,'OF Statistics 2011-Q3 2024'!$B:$B,'OF Statistics 2011-Q3 2024'!AB:AB,0,0)","v":427.05},{"$f":"_xlfn.XLOOKUP($K14,'OF Statistics 2011-Q3 2024'!$B:$B,'OF Statistics 2011-Q3 2024'!AC:AC,0,0)","v":234.33},{"$f":"_xlfn.XLOOKUP($K14,'OF Statistics 2011-Q3 2024'!$B:$B,'OF Statistics 2011-Q3 2024'!AD:AD,0,0)","v":270.95},{"$f":"_xlfn.XLOOKUP($K14,'OF Statistics 2011-Q3 2024'!$B:$B,'OF Statistics 2011-Q3 2024'!AE:AE,0,0)","v":400.64},{"$f":"_xlfn.XLOOKUP($K14,'OF Statistics 2011-Q3 2024'!$B:$B,'OF Statistics 2011-Q3 2024'!AF:AF,0,0)","v":407.79},{"$f":"_xlfn.XLOOKUP($K14,'OF Statistics 2011-Q3 2024'!$B:$B,'OF Statistics 2011-Q3 2024'!AG:AG,0,0)","v":150.94},{"$f":"_xlfn.XLOOKUP($K14,'OF Statistics 2011-Q3 2024'!$B:$B,'OF Statistics 2011-Q3 2024'!AH:AH,0,0)","v":163.10966198772999},{"$f":"_xlfn.XLOOKUP($K14,'OF Statistics 2011-Q3 2024'!$B:$B,'OF Statistics 2011-Q3 2024'!AI:AI,0,0)","v":362.3},{"$f":"_xlfn.XLOOKUP($K14,'OF Statistics 2011-Q3 2024'!$B:$B,'OF Statistics 2011-Q3 2024'!AJ:AJ,0,0)","v":428.2},{"$f":"_xlfn.XLOOKUP($K14,'OF Statistics 2011-Q3 2024'!$B:$B,'OF Statistics 2011-Q3 2024'!AK:AK,0,0)","v":291.60000000000002},{"$f":"_xlfn.XLOOKUP($K14,'OF Statistics 2011-Q3 2024'!$B:$B,'OF Statistics 2011-Q3 2024'!AL:AL,0,0)","v":248.5},{"$f":"_xlfn.XLOOKUP($K14,'OF Statistics 2011-Q3 2024'!$B:$B,'OF Statistics 2011-Q3 2024'!AM:AM,0,0)","v":458},{"$f":"_xlfn.XLOOKUP($K14,'OF Statistics 2011-Q3 2024'!$B:$B,'OF Statistics 2011-Q3 2024'!AN:AN,0,0)","v":410},{"$f":"_xlfn.XLOOKUP($K14,'OF Statistics 2011-Q3 2024'!$B:$B,'OF Statistics 2011-Q3 2024'!AO:AO,0,0)","v":303.3},{"$f":"_xlfn.XLOOKUP($K14,'OF Statistics 2011-Q3 2024'!$B:$B,'OF Statistics 2011-Q3 2024'!AP:AP,0,0)","v":252.8},{"$f":"_xlfn.XLOOKUP($K14,'OF Statistics 2011-Q3 2024'!$B:$B,'OF Statistics 2011-Q3 2024'!AQ:AQ,0,0)","v":381.4},{"$f":"_xlfn.XLOOKUP($K14,'OF Statistics 2011-Q3 2024'!$B:$B,'OF Statistics 2011-Q3 2024'!AR:AR,0,0)","v":422.1},{"$f":"_xlfn.XLOOKUP($K14,'OF Statistics 2011-Q3 2024'!$B:$B,'OF Statistics 2011-Q3 2024'!AS:AS,0,0)","v":271.39999999999998},{"$f":"_xlfn.XLOOKUP($K14,'OF Statistics 2011-Q3 2024'!$B:$B,'OF Statistics 2011-Q3 2024'!AT:AT,0,0)","v":204},{"$f":"_xlfn.XLOOKUP($K14,'OF Statistics 2011-Q3 2024'!$B:$B,'OF Statistics 2011-Q3 2024'!AU:AU,0,0)","v":222},{"$f":"_xlfn.XLOOKUP($K14,'OF Statistics 2011-Q3 2024'!$B:$B,'OF Statistics 2011-Q3 2024'!AV:AV,0,0)","v":101},{"$f":"_xlfn.XLOOKUP($K14,'OF Statistics 2011-Q3 2024'!$B:$B,'OF Statistics 2011-Q3 2024'!AW:AW,0,0)","v":2},{"$f":"_xlfn.XLOOKUP($K14,'OF Statistics 2011-Q3 2024'!$B:$B,'OF Statistics 2011-Q3 2024'!AX:AX,0,0)","v":0},{"$f":"_xlfn.XLOOKUP($K14,'OF Statistics 2011-Q3 2024'!$B:$B,'OF Statistics 2011-Q3 2024'!AY:AY,0,0)","v":0},{"$f":"_xlfn.XLOOKUP($K14,'OF Statistics 2011-Q3 2024'!$B:$B,'OF Statistics 2011-Q3 2024'!AZ:AZ,0,0)","v":0},{"$f":"_xlfn.XLOOKUP($K14,'OF Statistics 2011-Q3 2024'!$B:$B,'OF Statistics 2011-Q3 2024'!BA:BA,0,0)","v":0},{"$f":"_xlfn.XLOOKUP($K14,'OF Statistics 2011-Q3 2024'!$B:$B,'OF Statistics 2011-Q3 2024'!BB:BB,0,0)","v":0},{"$f":"_xlfn.XLOOKUP($K14,'OF Statistics 2011-Q3 2024'!$B:$B,'OF Statistics 2011-Q3 2024'!BC:BC,0,0)","v":0},{"$f":"_xlfn.XLOOKUP($K14,'OF Statistics 2011-Q3 2024'!$B:$B,'OF Statistics 2011-Q3 2024'!BD:BD,0,0)","v":0},{"$f":"_xlfn.XLOOKUP($K14,'OF Statistics 2011-Q3 2024'!$B:$B,'OF Statistics 2011-Q3 2024'!BE:BE,0,0)","v":0},{"$f":"_xlfn.XLOOKUP($K14,'OF Statistics 2011-Q3 2024'!$B:$B,'OF Statistics 2011-Q3 2024'!BF:BF,0,0)","v":0},{"$f":"_xlfn.XLOOKUP($K14,'OF Statistics 2011-Q3 2024'!$B:$B,'OF Statistics 2011-Q3 2024'!BG:BG,0,0)","v":0},{"$f":"_xlfn.XLOOKUP($K14,'OF Statistics 2011-Q3 2024'!$B:$B,'OF Statistics 2011-Q3 2024'!BH:BH,0,0)","v":0},{"$f":"_xlfn.XLOOKUP($K14,'OF Statistics 2011-Q3 2024'!$B:$B,'OF Statistics 2011-Q3 2024'!BI:BI,0,0)","v":0},{"$f":"_xlfn.XLOOKUP($K14,'OF Statistics 2011-Q3 2024'!$B:$B,'OF Statistics 2011-Q3 2024'!BJ:BJ,0,0)","v":0},{"$f":"_xlfn.XLOOKUP($K14,'OF Statistics 2011-Q3 2024'!$B:$B,'OF Statistics 2011-Q3 2024'!BK:BK,0,0)","v":0},{"$f":"_xlfn.XLOOKUP($K14,'OF Statistics 2011-Q3 2024'!$B:$B,'OF Statistics 2011-Q3 2024'!BL:BL,0,0)","v":0}]
[null,7,"    Gunfleet Sand Demo",null,null,null,null,null,null,12,"    West of Duddon Sands","United Kingdom",null,null,null,{"$f":"'OF Asset Book'!G18","v":194.4},null,{"$f":"_xlfn.XLOOKUP($K15,'OF Statistics 2011-Q3 2024'!$B:$B,'OF Statistics 2011-Q3 2024'!E:E,0,0)","v":0},{"$f":"_xlfn.XLOOKUP($K15,'OF Statistics 2011-Q3 2024'!$B:$B,'OF Statistics 2011-Q3 2024'!F:F,0,0)","v":724.65179905979505},{"$f":"_xlfn.XLOOKUP($K15,'OF Statistics 2011-Q3 2024'!$B:$B,'OF Statistics 2011-Q3 2024'!G:G,0,0)","v":741.82},{"$f":"_xlfn.XLOOKUP($K15,'OF Statistics 2011-Q3 2024'!$B:$B,'OF Statistics 2011-Q3 2024'!H:H,0,0)","v":753.25},{"$f":"_xlfn.XLOOKUP($K15,'OF Statistics 2011-Q3 2024'!$B:$B,'OF Statistics 2011-Q3 2024'!I:I,0,0)","v":633.95000000000005},{"$f":"_xlfn.XLOOKUP($K15,'OF Statistics 2011-Q3 2024'!$B:$B,'OF Statistics 2011-Q3 2024'!J:J,0,0)","v":801.8},{"$f":"_xlfn.XLOOKUP($K15,'OF Statistics 2011-Q3 2024'!$B:$B,'OF Statistics 2011-Q3 2024'!K:K,0,0)","v":734},{"$f":"_xlfn.XLOOKUP($K15,'OF Statistics 2011-Q3 2024'!$B:$B,'OF Statistics 2011-Q3 2024'!L:L,0,0)","v":754},{"$f":"_xlfn.XLOOKUP($K15,'OF Statistics 2011-Q3 2024'!$B:$B,'OF Statistics 2011-Q3 2024'!M:M,0,0)","v":808},{"$f":"_xlfn.XLOOKUP($K15,'OF Statistics 2011-Q3 2024'!$B:$B,'OF Statistics 2011-Q3 2024'!N:N,0,0)","v":735},{"$f":"_xlfn.XLOOKUP($K15,'OF Statistics 2011-Q3 2024'!$B:$B,'OF Statistics 2011-Q3 2024'!O:O,0,0)","v":734},{"$f":"_xlfn.XLOOKUP($K15,'OF Statistics 2011-Q3 2024'!$B:$B,'OF Statistics 2011-Q3 2024'!P:P,0,0)","v":374},{"$f":"_xlfn.XLOOKUP($K15,'OF Statistics 2011-Q3 2024'!$B:$B,'OF Statistics 2011-Q3 2024'!Q:Q,0,0)","v":0},{"$f":"_xlfn.XLOOKUP($K15,'OF Statistics 2011-Q3 2024'!$B:$B,'OF Statistics 2011-Q3 2024'!R:R,0,0)","v":0},{"$f":"_xlfn.XLOOKUP($K15,'OF Statistics 2011-Q3 2024'!$B:$B,'OF Statistics 2011-Q3 2024'!S:S,0,0)","v":0},{"$f":"_xlfn.XLOOKUP($K15,'OF Statistics 2011-Q3 2024'!$B:$B,'OF Statistics 2011-Q3 2024'!T:T,0,0)","v":0},{"$f":"_xlfn.XLOOKUP($K15,'OF Statistics 2011-Q3 2024'!$B:$B,'OF Statistics 2011-Q3 2024'!U:U,0,0)","v":164.31073744823203},{"$f":"_xlfn.XLOOKUP($K15,'OF Statistics 2011-Q3 2024'!$B:$B,'OF Statistics 2011-Q3 2024'!V:V,0,0)","v":134.94999999999999},{"$f":"_xlfn.XLOOKUP($K15,'OF Statistics 2011-Q3 2024'!$B:$B,'OF Statistics 2011-Q3 2024'!W:W,0,0)","v":222},{"$f":"_xlfn.XLOOKUP($K15,'OF Statistics 2011-Q3 2024'!$B:$B,'OF Statistics 2011-Q3 2024'!X:X,0,0)","v":246.02},{"$f":"_xlfn.XLOOKUP($K15,'OF Statistics 2011-Q3 2024'!$B:$B,'OF Statistics 2011-Q3 2024'!Y:Y,0,0)","v":177.92},{"$f":"_xlfn.XLOOKUP($K15,'OF Statistics 2011-Q3 2024'!$B:$B,'OF Statistics 2011-Q3 2024'!Z:Z,0,0)","v":101.52},{"$f":"_xlfn.XLOOKUP($K15,'OF Statistics 2011-Q3 2024'!$B:$B,'OF Statistics 2011-Q3 2024'!AA:AA,0,0)","v":216.36},{"$f":"_xlfn.XLOOKUP($K15,'OF Statistics 2011-Q3 2024'!$B:$B,'OF Statistics 2011-Q3 2024'!AB:AB,0,0)","v":242.83},{"$f":"_xlfn.XLOOKUP($K15,'OF Statistics 2011-Q3 2024'!$B:$B,'OF Statistics 2011-Q3 2024'!AC:AC,0,0)","v":129.6},{"$f":"_xlfn.XLOOKUP($K15,'OF Statistics 2011-Q3 2024'!$B:$B,'OF Statistics 2011-Q3 2024'!AD:AD,0,0)","v":155.52000000000001},{"$f":"_xlfn.XLOOKUP($K15,'OF Statistics 2011-Q3 2024'!$B:$B,'OF Statistics 2011-Q3 2024'!AE:AE,0,0)","v":225.29},{"$f":"_xlfn.XLOOKUP($K15,'OF Statistics 2011-Q3 2024'!$B:$B,'OF Statistics 2011-Q3 2024'!AF:AF,0,0)","v":242.11},{"$f":"_xlfn.XLOOKUP($K15,'OF Statistics 2011-Q3 2024'!$B:$B,'OF Statistics 2011-Q3 2024'!AG:AG,0,0)","v":87.12},{"$f":"_xlfn.XLOOKUP($K15,'OF Statistics 2011-Q3 2024'!$B:$B,'OF Statistics 2011-Q3 2024'!AH:AH,0,0)","v":97.932284977449001},{"$f":"_xlfn.XLOOKUP($K15,'OF Statistics 2011-Q3 2024'!$B:$B,'OF Statistics 2011-Q3 2024'!AI:AI,0,0)","v":206.8},{"$f":"_xlfn.XLOOKUP($K15,'OF Statistics 2011-Q3 2024'!$B:$B,'OF Statistics 2011-Q3 2024'!AJ:AJ,0,0)","v":244.5},{"$f":"_xlfn.XLOOKUP($K15,'OF Statistics 2011-Q3 2024'!$B:$B,'OF Statistics 2011-Q3 2024'!AK:AK,0,0)","v":178},{"$f":"_xlfn.XLOOKUP($K15,'OF Statistics 2011-Q3 2024'!$B:$B,'OF Statistics 2011-Q3 2024'!AL:AL,0,0)","v":128.1},{"$f":"_xlfn.XLOOKUP($K15,'OF Statistics 2011-Q3 2024'!$B:$B,'OF Statistics 2011-Q3 2024'!AM:AM,0,0)","v":251},{"$f":"_xlfn.XLOOKUP($K15,'OF Statistics 2011-Q3 2024'!$B:$B,'OF Statistics 2011-Q3 2024'!AN:AN,0,0)","v":228},{"$f":"_xlfn.XLOOKUP($K15,'OF Statistics 2011-Q3 2024'!$B:$B,'OF Statistics 2011-Q3 2024'!AO:AO,0,0)","v":176.3},{"$f":"_xlfn.XLOOKUP($K15,'OF Statistics 2011-Q3 2024'!$B:$B,'OF Statistics 2011-Q3 2024'!AP:AP,0,0)","v":108.6},{"$f":"_xlfn.XLOOKUP($K15,'OF Statistics 2011-Q3 2024'!$B:$B,'OF Statistics 2011-Q3 2024'!AQ:AQ,0,0)","v":221.1},{"$f":"_xlfn.XLOOKUP($K15,'OF Statistics 2011-Q3 2024'!$B:$B,'OF Statistics 2011-Q3 2024'!AR:AR,0,0)","v":243.7},{"$f":"_xlfn.XLOOKUP($K15,'OF Statistics 2011-Q3 2024'!$B:$B,'OF Statistics 2011-Q3 2024'!AS:AS,0,0)","v":144},{"$f":"_xlfn.XLOOKUP($K15,'OF Statistics 2011-Q3 2024'!$B:$B,'OF Statistics 2011-Q3 2024'!AT:AT,0,0)","v":114},{"$f":"_xlfn.XLOOKUP($K15,'OF Statistics 2011-Q3 2024'!$B:$B,'OF Statistics 2011-Q3 2024'!AU:AU,0,0)","v":252},{"$f":"_xlfn.XLOOKUP($K15,'OF Statistics 2011-Q3 2024'!$B:$B,'OF Statistics 2011-Q3 2024'!AV:AV,0,0)","v":252},{"$f":"_xlfn.XLOOKUP($K15,'OF Statistics 2011-Q3 2024'!$B:$B,'OF Statistics 2011-Q3 2024'!AW:AW,0,0)","v":176},{"$f":"_xlfn.XLOOKUP($K15,'OF Statistics 2011-Q3 2024'!$B:$B,'OF Statistics 2011-Q3 2024'!AX:AX,0,0)","v":166},{"$f":"_xlfn.XLOOKUP($K15,'OF Statistics 2011-Q3 2024'!$B:$B,'OF Statistics 2011-Q3 2024'!AY:AY,0,0)","v":214},{"$f":"_xlfn.XLOOKUP($K15,'OF Statistics 2011-Q3 2024'!$B:$B,'OF Statistics 2011-Q3 2024'!AZ:AZ,0,0)","v":208},{"$f":"_xlfn.XLOOKUP($K15,'OF Statistics 2011-Q3 2024'!$B:$B,'OF Statistics 2011-Q3 2024'!BA:BA,0,0)","v":187},{"$f":"_xlfn.XLOOKUP($K15,'OF Statistics 2011-Q3 2024'!$B:$B,'OF Statistics 2011-Q3 2024'!BB:BB,0,0)","v":125},{"$f":"_xlfn.XLOOKUP($K15,'OF Statistics 2011-Q3 2024'!$B:$B,'OF Statistics 2011-Q3 2024'!BC:BC,0,0)","v":215},{"$f":"_xlfn.XLOOKUP($K15,'OF Statistics 2011-Q3 2024'!$B:$B,'OF Statistics 2011-Q3 2024'!BD:BD,0,0)","v":173},{"$f":"_xlfn.XLOOKUP($K15,'OF Statistics 2011-Q3 2024'!$B:$B,'OF Statistics 2011-Q3 2024'!BE:BE,0,0)","v":160},{"$f":"_xlfn.XLOOKUP($K15,'OF Statistics 2011-Q3 2024'!$B:$B,'OF Statistics 2011-Q3 2024'!BF:BF,0,0)","v":164},{"$f":"_xlfn.XLOOKUP($K15,'OF Statistics 2011-Q3 2024'!$B:$B,'OF Statistics 2011-Q3 2024'!BG:BG,0,0)","v":237},{"$f":"_xlfn.XLOOKUP($K15,'OF Statistics 2011-Q3 2024'!$B:$B,'OF Statistics 2011-Q3 2024'!BH:BH,0,0)","v":227},{"$f":"_xlfn.XLOOKUP($K15,'OF Statistics 2011-Q3 2024'!$B:$B,'OF Statistics 2011-Q3 2024'!BI:BI,0,0)","v":75},{"$f":"_xlfn.XLOOKUP($K15,'OF Statistics 2011-Q3 2024'!$B:$B,'OF Statistics 2011-Q3 2024'!BJ:BJ,0,0)","v":57},{"$f":"_xlfn.XLOOKUP($K15,'OF Statistics 2011-Q3 2024'!$B:$B,'OF Statistics 2011-Q3 2024'!BK:BK,0,0)","v":13},{"$f":"_xlfn.XLOOKUP($K15,'OF Statistics 2011-Q3 2024'!$B:$B,'OF Statistics 2011-Q3 2024'!BL:BL,0,0)","v":0}]
[null,8,"    Lincs (pro-rata consolidated from February 2017)",null,null,null,null,null,null,13,"    Westermost Rough","United Kingdom",null,null,null,{"$f":"'OF Asset Book'!G21","v":105},null,{"$f":"_xlfn.XLOOKUP($K16,'OF Statistics 2011-Q3 2024'!$B:$B,'OF Statistics 2011-Q3 2024'!E:E,0,0)","v":0},{"$f":"_xlfn.XLOOKUP($K16,'OF Statistics 2011-Q3 2024'!$B:$B,'OF Statistics 2011-Q3 2024'!F:F,0,0)","v":418.22303195864299},{"$f":"_xlfn.XLOOKUP($K16,'OF Statistics 2011-Q3 2024'!$B:$B,'OF Statistics 2011-Q3 2024'!G:G,0,0)","v":391.51},{"$f":"_xlfn.XLOOKUP($K16,'OF Statistics 2011-Q3 2024'!$B:$B,'OF Statistics 2011-Q3 2024'!H:H,0,0)","v":411.7},{"$f":"_xlfn.XLOOKUP($K16,'OF Statistics 2011-Q3 2024'!$B:$B,'OF Statistics 2011-Q3 2024'!I:I,0,0)","v":386.37},{"$f":"_xlfn.XLOOKUP($K16,'OF Statistics 2011-Q3 2024'!$B:$B,'OF Statistics 2011-Q3 2024'!J:J,0,0)","v":467.3},{"$f":"_xlfn.XLOOKUP($K16,'OF Statistics 2011-Q3 2024'!$B:$B,'OF Statistics 2011-Q3 2024'!K:K,0,0)","v":430},{"$f":"_xlfn.XLOOKUP($K16,'OF Statistics 2011-Q3 2024'!$B:$B,'OF Statistics 2011-Q3 2024'!L:L,0,0)","v":439.8},{"$f":"_xlfn.XLOOKUP($K16,'OF Statistics 2011-Q3 2024'!$B:$B,'OF Statistics 2011-Q3 2024'!M:M,0,0)","v":452},{"$f":"_xlfn.XLOOKUP($K16,'OF Statistics 2011-Q3 2024'!$B:$B,'OF Statistics 2011-Q3 2024'!N:N,0,0)","v":421},{"$f":"_xlfn.XLOOKUP($K16,'OF Statistics 2011-Q3 2024'!$B:$B,'OF Statistics 2011-Q3 2024'!O:O,0,0)","v":277},{"$f":"_xlfn.XLOOKUP($K16,'OF Statistics 2011-Q3 2024'!$B:$B,'OF Statistics 2011-Q3 2024'!P:P,0,0)","v":23},{"$f":"_xlfn.XLOOKUP($K16,'OF Statistics 2011-Q3 2024'!$B:$B,'OF Statistics 2011-Q3 2024'!Q:Q,0,0)","v":0},{"$f":"_xlfn.XLOOKUP($K16,'OF Statistics 2011-Q3 2024'!$B:$B,'OF Statistics 2011-Q3 2024'!R:R,0,0)","v":0},{"$f":"_xlfn.XLOOKUP($K16,'OF Statistics 2011-Q3 2024'!$B:$B,'OF Statistics 2011-Q3 2024'!S:S,0,0)","v":0},{"$f":"_xlfn.XLOOKUP($K16,'OF Statistics 2011-Q3 2024'!$B:$B,'OF Statistics 2011-Q3 2024'!T:T,0,0)","v":0},{"$f":"_xlfn.XLOOKUP($K16,'OF Statistics 2011-Q3 2024'!$B:$B,'OF Statistics 2011-Q3 2024'!U:U,0,0)","v":77.129462516505981},{"$f":"_xlfn.XLOOKUP($K16,'OF Statistics 2011-Q3 2024'!$B:$B,'OF Statistics 2011-Q3 2024'!V:V,0,0)","v":98},{"$f":"_xlfn.XLOOKUP($K16,'OF Statistics 2011-Q3 2024'!$B:$B,'OF Statistics 2011-Q3 2024'!W:W,0,0)","v":135},{"$f":"_xlfn.XLOOKUP($K16,'OF Statistics 2011-Q3 2024'!$B:$B,'OF Statistics 2011-Q3 2024'!X:X,0,0)","v":122.77},{"$f":"_xlfn.XLOOKUP($K16,'OF Statistics 2011-Q3 2024'!$B:$B,'OF Statistics 2011-Q3 2024'!Y:Y,0,0)","v":77.14},{"$f":"_xlfn.XLOOKUP($K16,'OF Statistics 2011-Q3 2024'!$B:$B,'OF Statistics 2011-Q3 2024'!Z:Z,0,0)","v":64.58},{"$f":"_xlfn.XLOOKUP($K16,'OF Statistics 2011-Q3 2024'!$B:$B,'OF Statistics 2011-Q3 2024'!AA:AA,0,0)","v":127.03},{"$f":"_xlfn.XLOOKUP($K16,'OF Statistics 2011-Q3 2024'!$B:$B,'OF Statistics 2011-Q3 2024'!AB:AB,0,0)","v":127.01},{"$f":"_xlfn.XLOOKUP($K16,'OF Statistics 2011-Q3 2024'!$B:$B,'OF Statistics 2011-Q3 2024'!AC:AC,0,0)","v":67.06},{"$f":"_xlfn.XLOOKUP($K16,'OF Statistics 2011-Q3 2024'!$B:$B,'OF Statistics 2011-Q3 2024'!AD:AD,0,0)","v":83.82},{"$f":"_xlfn.XLOOKUP($K16,'OF Statistics 2011-Q3 2024'!$B:$B,'OF Statistics 2011-Q3 2024'!AE:AE,0,0)","v":133.81},{"$f":"_xlfn.XLOOKUP($K16,'OF Statistics 2011-Q3 2024'!$B:$B,'OF Statistics 2011-Q3 2024'!AF:AF,0,0)","v":128.94999999999999},{"$f":"_xlfn.XLOOKUP($K16,'OF Statistics 2011-Q3 2024'!$B:$B,'OF Statistics 2011-Q3 2024'!AG:AG,0,0)","v":67.739999999999995},{"$f":"_xlfn.XLOOKUP($K16,'OF Statistics 2011-Q3 2024'!$B:$B,'OF Statistics 2011-Q3 2024'!AH:AH,0,0)","v":66.284845883401999},{"$f":"_xlfn.XLOOKUP($K16,'OF Statistics 2011-Q3 2024'!$B:$B,'OF Statistics 2011-Q3 2024'!AI:AI,0,0)","v":123.4},{"$f":"_xlfn.XLOOKUP($K16,'OF Statistics 2011-Q3 2024'!$B:$B,'OF Statistics 2011-Q3 2024'!AJ:AJ,0,0)","v":129.4},{"$f":"_xlfn.XLOOKUP($K16,'OF Statistics 2011-Q3 2024'!$B:$B,'OF Statistics 2011-Q3 2024'!AK:AK,0,0)","v":101.1},{"$f":"_xlfn.XLOOKUP($K16,'OF Statistics 2011-Q3 2024'!$B:$B,'OF Statistics 2011-Q3 2024'!AL:AL,0,0)","v":84.2},{"$f":"_xlfn.XLOOKUP($K16,'OF Statistics 2011-Q3 2024'!$B:$B,'OF Statistics 2011-Q3 2024'!AM:AM,0,0)","v":152},{"$f":"_xlfn.XLOOKUP($K16,'OF Statistics 2011-Q3 2024'!$B:$B,'OF Statistics 2011-Q3 2024'!AN:AN,0,0)","v":130},{"$f":"_xlfn.XLOOKUP($K16,'OF Statistics 2011-Q3 2024'!$B:$B,'OF Statistics 2011-Q3 2024'!AO:AO,0,0)","v":96.2},{"$f":"_xlfn.XLOOKUP($K16,'OF Statistics 2011-Q3 2024'!$B:$B,'OF Statistics 2011-Q3 2024'!AP:AP,0,0)","v":72.2},{"$f":"_xlfn.XLOOKUP($K16,'OF Statistics 2011-Q3 2024'!$B:$B,'OF Statistics 2011-Q3 2024'!AQ:AQ,0,0)","v":132.30000000000001},{"$f":"_xlfn.XLOOKUP($K16,'OF Statistics 2011-Q3 2024'!$B:$B,'OF Statistics 2011-Q3 2024'!AR:AR,0,0)","v":140.1},{"$f":"_xlfn.XLOOKUP($K16,'OF Statistics 2011-Q3 2024'!$B:$B,'OF Statistics 2011-Q3 2024'!AS:AS,0,0)","v":74.7},{"$f":"_xlfn.XLOOKUP($K16,'OF Statistics 2011-Q3 2024'!$B:$B,'OF Statistics 2011-Q3 2024'!AT:AT,0,0)","v":82},{"$f":"_xlfn.XLOOKUP($K16,'OF Statistics 2011-Q3 2024'!$B:$B,'OF Statistics 2011-Q3 2024'!AU:AU,0,0)","v":143},{"$f":"_xlfn.XLOOKUP($K16,'OF Statistics 2011-Q3 2024'!$B:$B,'OF Statistics 2011-Q3 2024'!AV:AV,0,0)","v":143},{"$f":"_xlfn.XLOOKUP($K16,'OF Statistics 2011-Q3 2024'!$B:$B,'OF Statistics 2011-Q3 2024'!AW:AW,0,0)","v":90},{"$f":"_xlfn.XLOOKUP($K16,'OF Statistics 2011-Q3 2024'!$B:$B,'OF Statistics 2011-Q3 2024'!AX:AX,0,0)","v":101},{"$f":"_xlfn.XLOOKUP($K16,'OF Statistics 2011-Q3 2024'!$B:$B,'OF Statistics 2011-Q3 2024'!AY:AY,0,0)","v":118},{"$f":"_xlfn.XLOOKUP($K16,'OF Statistics 2011-Q3 2024'!$B:$B,'OF Statistics 2011-Q3 2024'!AZ:AZ,0,0)","v":116},{"$f":"_xlfn.XLOOKUP($K16,'OF Statistics 2011-Q3 2024'!$B:$B,'OF Statistics 2011-Q3 2024'!BA:BA,0,0)","v":85},{"$f":"_xlfn.XLOOKUP($K16,'OF Statistics 2011-Q3 2024'!$B:$B,'OF Statistics 2011-Q3 2024'!BB:BB,0,0)","v":91},{"$f":"_xlfn.XLOOKUP($K16,'OF Statistics 2011-Q3 2024'!$B:$B,'OF Statistics 2011-Q3 2024'!BC:BC,0,0)","v":129},{"$f":"_xlfn.XLOOKUP($K16,'OF Statistics 2011-Q3 2024'!$B:$B,'OF Statistics 2011-Q3 2024'!BD:BD,0,0)","v":112},{"$f":"_xlfn.XLOOKUP($K16,'OF Statistics 2011-Q3 2024'!$B:$B,'OF Statistics 2011-Q3 2024'!BE:BE,0,0)","v":69},{"$f":"_xlfn.XLOOKUP($K16,'OF Statistics 2011-Q3 2024'!$B:$B,'OF Statistics 2011-Q3 2024'!BF:BF,0,0)","v":69},{"$f":"_xlfn.XLOOKUP($K16,'OF Statistics 2011-Q3 2024'!$B:$B,'OF Statistics 2011-Q3 2024'!BG:BG,0,0)","v":27},{"$f":"_xlfn.XLOOKUP($K16,'OF Statistics 2011-Q3 2024'!$B:$B,'OF Statistics 2011-Q3 2024'!BH:BH,0,0)","v":23},{"$f":"_xlfn.XLOOKUP($K16,'OF Statistics 2011-Q3 2024'!$B:$B,'OF Statistics 2011-Q3 2024'!BI:BI,0,0)","v":0},{"$f":"_xlfn.XLOOKUP($K16,'OF Statistics 2011-Q3 2024'!$B:$B,'OF Statistics 2011-Q3 2024'!BJ:BJ,0,0)","v":0},{"$f":"_xlfn.XLOOKUP($K16,'OF Statistics 2011-Q3 2024'!$B:$B,'OF Statistics 2011-Q3 2024'!BK:BK,0,0)","v":0},{"$f":"_xlfn.XLOOKUP($K16,'OF Statistics 2011-Q3 2024'!$B:$B,'OF Statistics 2011-Q3 2024'!BL:BL,0,0)","v":0}]
[null,9,"    London Array 1",null,null,null,null,null,null,14,"    Race Bank","United Kingdom",null,null,null,{"$f":"'OF Asset Book'!G27","v":273},null,{"$f":"_xlfn.XLOOKUP($K17,'OF Statistics 2011-Q3 2024'!$B:$B,'OF Statistics 2011-Q3 2024'!E:E,0,0)","v":0},{"$f":"_xlfn.XLOOKUP($K17,'OF Statistics 2011-Q3 2024'!$B:$B,'OF Statistics 2011-Q3 2024'!F:F,0,0)","v":1016.10272918598},{"$f":"_xlfn.XLOOKUP($K17,'OF Statistics 2011-Q3 2024'!$B:$B,'OF Statistics 2011-Q3 2024'!G:G,0,0)","v":1093.8699999999999},{"$f":"_xlfn.XLOOKUP($K17,'OF Statistics 2011-Q3 2024'!$B:$B,'OF Statistics 2011-Q3 2024'!H:H,0,0)","v":1074.1199999999999},{"$f":"_xlfn.XLOOKUP($K17,'OF Statistics 2011-Q3 2024'!$B:$B,'OF Statistics 2011-Q3 2024'!I:I,0,0)","v":1018.75},{"$f":"_xlfn.XLOOKUP($K17,'OF Statistics 2011-Q3 2024'!$B:$B,'OF Statistics 2011-Q3 2024'!J:J,0,0)","v":1195.2},{"$f":"_xlfn.XLOOKUP($K17,'OF Statistics 2011-Q3 2024'!$B:$B,'OF Statistics 2011-Q3 2024'!K:K,0,0)","v":1054},{"$f":"_xlfn.XLOOKUP($K17,'OF Statistics 2011-Q3 2024'!$B:$B,'OF Statistics 2011-Q3 2024'!L:L,0,0)","v":1089.2},{"$f":"_xlfn.XLOOKUP($K17,'OF Statistics 2011-Q3 2024'!$B:$B,'OF Statistics 2011-Q3 2024'!M:M,0,0)","v":416},{"$f":"_xlfn.XLOOKUP($K17,'OF Statistics 2011-Q3 2024'!$B:$B,'OF Statistics 2011-Q3 2024'!N:N,0,0)","v":0},{"$f":"_xlfn.XLOOKUP($K17,'OF Statistics 2011-Q3 2024'!$B:$B,'OF Statistics 2011-Q3 2024'!O:O,0,0)","v":0},{"$f":"_xlfn.XLOOKUP($K17,'OF Statistics 2011-Q3 2024'!$B:$B,'OF Statistics 2011-Q3 2024'!P:P,0,0)","v":0},{"$f":"_xlfn.XLOOKUP($K17,'OF Statistics 2011-Q3 2024'!$B:$B,'OF Statistics 2011-Q3 2024'!Q:Q,0,0)","v":0},{"$f":"_xlfn.XLOOKUP($K17,'OF Statistics 2011-Q3 2024'!$B:$B,'OF Statistics 2011-Q3 2024'!R:R,0,0)","v":0},{"$f":"_xlfn.XLOOKUP($K17,'OF Statistics 2011-Q3 2024'!$B:$B,'OF Statistics 2011-Q3 2024'!S:S,0,0)","v":0},{"$f":"_xlfn.XLOOKUP($K17,'OF Statistics 2011-Q3 2024'!$B:$B,'OF Statistics 2011-Q3 2024'!T:T,0,0)","v":0},{"$f":"_xlfn.XLOOKUP($K17,'OF Statistics 2011-Q3 2024'!$B:$B,'OF Statistics 2011-Q3 2024'!U:U,0,0)","v":188.41276096271497},{"$f":"_xlfn.XLOOKUP($K17,'OF Statistics 2011-Q3 2024'!$B:$B,'OF Statistics 2011-Q3 2024'!V:V,0,0)","v":212.64},{"$f":"_xlfn.XLOOKUP($K17,'OF Statistics 2011-Q3 2024'!$B:$B,'OF Statistics 2011-Q3 2024'!W:W,0,0)","v":302},{"$f":"_xlfn.XLOOKUP($K17,'OF Statistics 2011-Q3 2024'!$B:$B,'OF Statistics 2011-Q3 2024'!X:X,0,0)","v":353.34},{"$f":"_xlfn.XLOOKUP($K17,'OF Statistics 2011-Q3 2024'!$B:$B,'OF Statistics 2011-Q3 2024'!Y:Y,0,0)","v":219.57},{"$f":"_xlfn.XLOOKUP($K17,'OF Statistics 2011-Q3 2024'!$B:$B,'OF Statistics 2011-Q3 2024'!Z:Z,0,0)","v":177.85},{"$f":"_xlfn.XLOOKUP($K17,'OF Statistics 2011-Q3 2024'!$B:$B,'OF Statistics 2011-Q3 2024'!AA:AA,0,0)","v":343.12},{"$f":"_xlfn.XLOOKUP($K17,'OF Statistics 2011-Q3 2024'!$B:$B,'OF Statistics 2011-Q3 2024'!AB:AB,0,0)","v":347.56},{"$f":"_xlfn.XLOOKUP($K17,'OF Statistics 2011-Q3 2024'!$B:$B,'OF Statistics 2011-Q3 2024'!AC:AC,0,0)","v":166.62},{"$f":"_xlfn.XLOOKUP($K17,'OF Statistics 2011-Q3 2024'!$B:$B,'OF Statistics 2011-Q3 2024'!AD:AD,0,0)","v":209.14},{"$f":"_xlfn.XLOOKUP($K17,'OF Statistics 2011-Q3 2024'!$B:$B,'OF Statistics 2011-Q3 2024'!AE:AE,0,0)","v":350.81},{"$f":"_xlfn.XLOOKUP($K17,'OF Statistics 2011-Q3 2024'!$B:$B,'OF Statistics 2011-Q3 2024'!AF:AF,0,0)","v":353},{"$f":"_xlfn.XLOOKUP($K17,'OF Statistics 2011-Q3 2024'!$B:$B,'OF Statistics 2011-Q3 2024'!AG:AG,0,0)","v":172.97},{"$f":"_xlfn.XLOOKUP($K17,'OF Statistics 2011-Q3 2024'!$B:$B,'OF Statistics 2011-Q3 2024'!AH:AH,0,0)","v":166.16524600470399},{"$f":"_xlfn.XLOOKUP($K17,'OF Statistics 2011-Q3 2024'!$B:$B,'OF Statistics 2011-Q3 2024'!AI:AI,0,0)","v":326.60000000000002},{"$f":"_xlfn.XLOOKUP($K17,'OF Statistics 2011-Q3 2024'!$B:$B,'OF Statistics 2011-Q3 2024'!AJ:AJ,0,0)","v":339.4},{"$f":"_xlfn.XLOOKUP($K17,'OF Statistics 2011-Q3 2024'!$B:$B,'OF Statistics 2011-Q3 2024'!AK:AK,0,0)","v":229.2},{"$f":"_xlfn.XLOOKUP($K17,'OF Statistics 2011-Q3 2024'!$B:$B,'OF Statistics 2011-Q3 2024'!AL:AL,0,0)","v":212.1},{"$f":"_xlfn.XLOOKUP($K17,'OF Statistics 2011-Q3 2024'!$B:$B,'OF Statistics 2011-Q3 2024'!AM:AM,0,0)","v":414},{"$f":"_xlfn.XLOOKUP($K17,'OF Statistics 2011-Q3 2024'!$B:$B,'OF Statistics 2011-Q3 2024'!AN:AN,0,0)","v":327},{"$f":"_xlfn.XLOOKUP($K17,'OF Statistics 2011-Q3 2024'!$B:$B,'OF Statistics 2011-Q3 2024'!AO:AO,0,0)","v":234},{"$f":"_xlfn.XLOOKUP($K17,'OF Statistics 2011-Q3 2024'!$B:$B,'OF Statistics 2011-Q3 2024'!AP:AP,0,0)","v":174},{"$f":"_xlfn.XLOOKUP($K17,'OF Statistics 2011-Q3 2024'!$B:$B,'OF Statistics 2011-Q3 2024'!AQ:AQ,0,0)","v":318.5},{"$f":"_xlfn.XLOOKUP($K17,'OF Statistics 2011-Q3 2024'!$B:$B,'OF Statistics 2011-Q3 2024'!AR:AR,0,0)","v":324.8},{"$f":"_xlfn.XLOOKUP($K17,'OF Statistics 2011-Q3 2024'!$B:$B,'OF Statistics 2011-Q3 2024'!AS:AS,0,0)","v":191.1},{"$f":"_xlfn.XLOOKUP($K17,'OF Statistics 2011-Q3 2024'!$B:$B,'OF Statistics 2011-Q3 2024'!AT:AT,0,0)","v":207},{"$f":"_xlfn.XLOOKUP($K17,'OF Statistics 2011-Q3 2024'!$B:$B,'OF Statistics 2011-Q3 2024'!AU:AU,0,0)","v":366},{"$f":"_xlfn.XLOOKUP($K17,'OF Statistics 2011-Q3 2024'!$B:$B,'OF Statistics 2011-Q3 2024'!AV:AV,0,0)","v":314},{"$f":"_xlfn.XLOOKUP($K17,'OF Statistics 2011-Q3 2024'!$B:$B,'OF Statistics 2011-Q3 2024'!AW:AW,0,0)","v":92},{"$f":"_xlfn.XLOOKUP($K17,'OF Statistics 2011-Q3 2024'!$B:$B,'OF Statistics 2011-Q3 2024'!AX:AX,0,0)","v":10},{"$f":"_xlfn.XLOOKUP($K17,'OF Statistics 2011-Q3 2024'!$B:$B,'OF Statistics 2011-Q3 2024'!AY:AY,0,0)","v":0},{"$f":"_xlfn.XLOOKUP($K17,'OF Statistics 2011-Q3 2024'!$B:$B,'OF Statistics 2011-Q3 2024'!AZ:AZ,0,0)","v":0},{"$f":"_xlfn.XLOOKUP($K17,'OF Statistics 2011-Q3 2024'!$B:$B,'OF Statistics 2011-Q3 2024'!BA:BA,0,0)","v":0},{"$f":"_xlfn.XLOOKUP($K17,'OF Statistics 2011-Q3 2024'!$B:$B,'OF Statistics 2011-Q3 2024'!BB:BB,0,0)","v":0},{"$f":"_xlfn.XLOOKUP($K17,'OF Statistics 2011-Q3 2024'!$B:$B,'OF Statistics 2011-Q3 2024'!BC:BC,0,0)","v":0},{"$f":"_xlfn.XLOOKUP($K17,'OF Statistics 2011-Q3 2024'!$B:$B,'OF Statistics 2011-Q3 2024'!BD:BD,0,0)","v":0},{"$f":"_xlfn.XLOOKUP($K17,'OF Statistics 2011-Q3 2024'!$B:$B,'OF Statistics 2011-Q3 2024'!BE:BE,0,0)","v":0},{"$f":"_xlfn.XLOOKUP($K17,'OF Statistics 2011-Q3 2024'!$B:$B,'OF Statistics 2011-Q3 2024'!BF:BF,0,0)","v":0},{"$f":"_xlfn.XLOOKUP($K17,'OF Statistics 2011-Q3 2024'!$B:$B,'OF Statistics 2011-Q3 2024'!BG:BG,0,0)","v":0},{"$f":"_xlfn.XLOOKUP($K17,'OF Statistics 2011-Q3 2024'!$B:$B,'OF Statistics 2011-Q3 2024'!BH:BH,0,0)","v":0},{"$f":"_xlfn.XLOOKUP($K17,'OF Statistics 2011-Q3 2024'!$B:$B,'OF Statistics 2011-Q3 2024'!BI:BI,0,0)","v":0},{"$f":"_xlfn.XLOOKUP($K17,'OF Statistics 2011-Q3 2024'!$B:$B,'OF Statistics 2011-Q3 2024'!BJ:BJ,0,0)","v":0},{"$f":"_xlfn.XLOOKUP($K17,'OF Statistics 2011-Q3 2024'!$B:$B,'OF Statistics 2011-Q3 2024'!BK:BK,0,0)","v":0},{"$f":"_xlfn.XLOOKUP($K17,'OF Statistics 2011-Q3 2024'!$B:$B,'OF Statistics 2011-Q3 2024'!BL:BL,0,0)","v":0}]
[null,10,"    Walney 1&2",null,null,null,null,null,null,15,"    Hornsea 1","United Kingdom",null,null,null,{"$f":"'OF Asset Book'!G29","v":609},null,{"$f":"_xlfn.XLOOKUP($K18,'OF Statistics 2011-Q3 2024'!$B:$B,'OF Statistics 2011-Q3 2024'!E:E,0,0)","v":0},{"$f":"_xlfn.XLOOKUP($K18,'OF Statistics 2011-Q3 2024'!$B:$B,'OF Statistics 2011-Q3 2024'!F:F,0,0)","v":2169.0695040265},{"$f":"_xlfn.XLOOKUP($K18,'OF Statistics 2011-Q3 2024'!$B:$B,'OF Statistics 2011-Q3 2024'!G:G,0,0)","v":2435.63},{"$f":"_xlfn.XLOOKUP($K18,'OF Statistics 2011-Q3 2024'!$B:$B,'OF Statistics 2011-Q3 2024'!H:H,0,0)","v":2518.67},{"$f":"_xlfn.XLOOKUP($K18,'OF Statistics 2011-Q3 2024'!$B:$B,'OF Statistics 2011-Q3 2024'!I:I,0,0)","v":2305.7800000000002},{"$f":"_xlfn.XLOOKUP($K18,'OF Statistics 2011-Q3 2024'!$B:$B,'OF Statistics 2011-Q3 2024'!J:J,0,0)","v":2568.8000000000002},{"$f":"_xlfn.XLOOKUP($K18,'OF Statistics 2011-Q3 2024'!$B:$B,'OF Statistics 2011-Q3 2024'!K:K,0,0)","v":1150},{"$f":"_xlfn.XLOOKUP($K18,'OF Statistics 2011-Q3 2024'!$B:$B,'OF Statistics 2011-Q3 2024'!L:L,0,0)","v":0},{"$f":"_xlfn.XLOOKUP($K18,'OF Statistics 2011-Q3 2024'!$B:$B,'OF Statistics 2011-Q3 2024'!M:M,0,0)","v":0},{"$f":"_xlfn.XLOOKUP($K18,'OF Statistics 2011-Q3 2024'!$B:$B,'OF Statistics 2011-Q3 2024'!N:N,0,0)","v":0},{"$f":"_xlfn.XLOOKUP($K18,'OF Statistics 2011-Q3 2024'!$B:$B,'OF Statistics 2011-Q3 2024'!O:O,0,0)","v":0},{"$f":"_xlfn.XLOOKUP($K18,'OF Statistics 2011-Q3 2024'!$B:$B,'OF Statistics 2011-Q3 2024'!P:P,0,0)","v":0},{"$f":"_xlfn.XLOOKUP($K18,'OF Statistics 2011-Q3 2024'!$B:$B,'OF Statistics 2011-Q3 2024'!Q:Q,0,0)","v":0},{"$f":"_xlfn.XLOOKUP($K18,'OF Statistics 2011-Q3 2024'!$B:$B,'OF Statistics 2011-Q3 2024'!R:R,0,0)","v":0},{"$f":"_xlfn.XLOOKUP($K18,'OF Statistics 2011-Q3 2024'!$B:$B,'OF Statistics 2011-Q3 2024'!S:S,0,0)","v":0},{"$f":"_xlfn.XLOOKUP($K18,'OF Statistics 2011-Q3 2024'!$B:$B,'OF Statistics 2011-Q3 2024'!T:T,0,0)","v":0},{"$f":"_xlfn.XLOOKUP($K18,'OF Statistics 2011-Q3 2024'!$B:$B,'OF Statistics 2011-Q3 2024'!U:U,0,0)","v":501.29625860702993},{"$f":"_xlfn.XLOOKUP($K18,'OF Statistics 2011-Q3 2024'!$B:$B,'OF Statistics 2011-Q3 2024'!V:V,0,0)","v":414.86},{"$f":"_xlfn.XLOOKUP($K18,'OF Statistics 2011-Q3 2024'!$B:$B,'OF Statistics 2011-Q3 2024'!W:W,0,0)","v":534},{"$f":"_xlfn.XLOOKUP($K18,'OF Statistics 2011-Q3 2024'!$B:$B,'OF Statistics 2011-Q3 2024'!X:X,0,0)","v":791.01},{"$f":"_xlfn.XLOOKUP($K18,'OF Statistics 2011-Q3 2024'!$B:$B,'OF Statistics 2011-Q3 2024'!Y:Y,0,0)","v":465.48},{"$f":"_xlfn.XLOOKUP($K18,'OF Statistics 2011-Q3 2024'!$B:$B,'OF Statistics 2011-Q3 2024'!Z:Z,0,0)","v":428.73},{"$f":"_xlfn.XLOOKUP($K18,'OF Statistics 2011-Q3 2024'!$B:$B,'OF Statistics 2011-Q3 2024'!AA:AA,0,0)","v":750.41},{"$f":"_xlfn.XLOOKUP($K18,'OF Statistics 2011-Q3 2024'!$B:$B,'OF Statistics 2011-Q3 2024'!AB:AB,0,0)","v":805.02},{"$f":"_xlfn.XLOOKUP($K18,'OF Statistics 2011-Q3 2024'!$B:$B,'OF Statistics 2011-Q3 2024'!AC:AC,0,0)","v":423.53},{"$f":"_xlfn.XLOOKUP($K18,'OF Statistics 2011-Q3 2024'!$B:$B,'OF Statistics 2011-Q3 2024'!AD:AD,0,0)","v":510.96},{"$f":"_xlfn.XLOOKUP($K18,'OF Statistics 2011-Q3 2024'!$B:$B,'OF Statistics 2011-Q3 2024'!AE:AE,0,0)","v":779.14},{"$f":"_xlfn.XLOOKUP($K18,'OF Statistics 2011-Q3 2024'!$B:$B,'OF Statistics 2011-Q3 2024'!AF:AF,0,0)","v":786.76},{"$f":"_xlfn.XLOOKUP($K18,'OF Statistics 2011-Q3 2024'!$B:$B,'OF Statistics 2011-Q3 2024'!AG:AG,0,0)","v":411.72},{"$f":"_xlfn.XLOOKUP($K18,'OF Statistics 2011-Q3 2024'!$B:$B,'OF Statistics 2011-Q3 2024'!AH:AH,0,0)","v":418.06449471616997},{"$f":"_xlfn.XLOOKUP($K18,'OF Statistics 2011-Q3 2024'!$B:$B,'OF Statistics 2011-Q3 2024'!AI:AI,0,0)","v":689.2},{"$f":"_xlfn.XLOOKUP($K18,'OF Statistics 2011-Q3 2024'!$B:$B,'OF Statistics 2011-Q3 2024'!AJ:AJ,0,0)","v":758.6},{"$f":"_xlfn.XLOOKUP($K18,'OF Statistics 2011-Q3 2024'!$B:$B,'OF Statistics 2011-Q3 2024'!AK:AK,0,0)","v":546.70000000000005},{"$f":"_xlfn.XLOOKUP($K18,'OF Statistics 2011-Q3 2024'!$B:$B,'OF Statistics 2011-Q3 2024'!AL:AL,0,0)","v":470.1},{"$f":"_xlfn.XLOOKUP($K18,'OF Statistics 2011-Q3 2024'!$B:$B,'OF Statistics 2011-Q3 2024'!AM:AM,0,0)","v":793},{"$f":"_xlfn.XLOOKUP($K18,'OF Statistics 2011-Q3 2024'!$B:$B,'OF Statistics 2011-Q3 2024'!AN:AN,0,0)","v":575},{"$f":"_xlfn.XLOOKUP($K18,'OF Statistics 2011-Q3 2024'!$B:$B,'OF Statistics 2011-Q3 2024'!AO:AO,0,0)","v":386.4},{"$f":"_xlfn.XLOOKUP($K18,'OF Statistics 2011-Q3 2024'!$B:$B,'OF Statistics 2011-Q3 2024'!AP:AP,0,0)","v":167.2},{"$f":"_xlfn.XLOOKUP($K18,'OF Statistics 2011-Q3 2024'!$B:$B,'OF Statistics 2011-Q3 2024'!AQ:AQ,0,0)","v":21.2},{"$f":"_xlfn.XLOOKUP($K18,'OF Statistics 2011-Q3 2024'!$B:$B,'OF Statistics 2011-Q3 2024'!AR:AR,0,0)","v":0},{"$f":"_xlfn.XLOOKUP($K18,'OF Statistics 2011-Q3 2024'!$B:$B,'OF Statistics 2011-Q3 2024'!AS:AS,0,0)","v":0},{"$f":"_xlfn.XLOOKUP($K18,'OF Statistics 2011-Q3 2024'!$B:$B,'OF Statistics 2011-Q3 2024'!AT:AT,0,0)","v":0},{"$f":"_xlfn.XLOOKUP($K18,'OF Statistics 2011-Q3 2024'!$B:$B,'OF Statistics 2011-Q3 2024'!AU:AU,0,0)","v":0},{"$f":"_xlfn.XLOOKUP($K18,'OF Statistics 2011-Q3 2024'!$B:$B,'OF Statistics 2011-Q3 2024'!AV:AV,0,0)","v":0},{"$f":"_xlfn.XLOOKUP($K18,'OF Statistics 2011-Q3 2024'!$B:$B,'OF Statistics 2011-Q3 2024'!AW:AW,0,0)","v":0},{"$f":"_xlfn.XLOOKUP($K18,'OF Statistics 2011-Q3 2024'!$B:$B,'OF Statistics 2011-Q3 2024'!AX:AX,0,0)","v":0},{"$f":"_xlfn.XLOOKUP($K18,'OF Statistics 2011-Q3 2024'!$B:$B,'OF Statistics 2011-Q3 2024'!AY:AY,0,0)","v":0},{"$f":"_xlfn.XLOOKUP($K18,'OF Statistics 2011-Q3 2024'!$B:$B,'OF Statistics 2011-Q3 2024'!AZ:AZ,0,0)","v":0},{"$f":"_xlfn.XLOOKUP($K18,'OF Statistics 2011-Q3 2024'!$B:$B,'OF Statistics 2011-Q3 2024'!BA:BA,0,0)","v":0},{"$f":"_xlfn.XLOOKUP($K18,'OF Statistics 2011-Q3 2024'!$B:$B,'OF Statistics 2011-Q3 2024'!BB:BB,0,0)","v":0},{"$f":"_xlfn.XLOOKUP($K18,'OF Statistics 2011-Q3 2024'!$B:$B,'OF Statistics 2011-Q3 2024'!BC:BC,0,0)","v":0},{"$f":"_xlfn.XLOOKUP($K18,'OF Statistics 2011-Q3 2024'!$B:$B,'OF Statistics 2011-Q3 2024'!BD:BD,0,0)","v":0},{"$f":"_xlfn.XLOOKUP($K18,'OF Statistics 2011-Q3 2024'!$B:$B,'OF Statistics 2011-Q3 2024'!BE:BE,0,0)","v":0},{"$f":"_xlfn.XLOOKUP($K18,'OF Statistics 2011-Q3 2024'!$B:$B,'OF Statistics 2011-Q3 2024'!BF:BF,0,0)","v":0},{"$f":"_xlfn.XLOOKUP($K18,'OF Statistics 2011-Q3 2024'!$B:$B,'OF Statistics 2011-Q3 2024'!BG:BG,0,0)","v":0},{"$f":"_xlfn.XLOOKUP($K18,'OF Statistics 2011-Q3 2024'!$B:$B,'OF Statistics 2011-Q3 2024'!BH:BH,0,0)","v":0},{"$f":"_xlfn.XLOOKUP($K18,'OF Statistics 2011-Q3 2024'!$B:$B,'OF Statistics 2011-Q3 2024'!BI:BI,0,0)","v":0},{"$f":"_xlfn.XLOOKUP($K18,'OF Statistics 2011-Q3 2024'!$B:$B,'OF Statistics 2011-Q3 2024'!BJ:BJ,0,0)","v":0},{"$f":"_xlfn.XLOOKUP($K18,'OF Statistics 2011-Q3 2024'!$B:$B,'OF Statistics 2011-Q3 2024'!BK:BK,0,0)","v":0},{"$f":"_xlfn.XLOOKUP($K18,'OF Statistics 2011-Q3 2024'!$B:$B,'OF Statistics 2011-Q3 2024'!BL:BL,0,0)","v":0}]
[null,11,"    Walney 3&4",null,null,null,null,null,null,16,"    Hornsea 2","United Kingdom",null,null,null,{"$f":"'OF Asset Book'!G30","v":660},null,{"$f":"_xlfn.XLOOKUP($K19,'OF Statistics 2011-Q3 2024'!$B:$B,'OF Statistics 2011-Q3 2024'!E:E,0,0)","v":0},{"$f":"_xlfn.XLOOKUP($K19,'OF Statistics 2011-Q3 2024'!$B:$B,'OF Statistics 2011-Q3 2024'!F:F,0,0)","v":2647.4193419327098},{"$f":"_xlfn.XLOOKUP($K19,'OF Statistics 2011-Q3 2024'!$B:$B,'OF Statistics 2011-Q3 2024'!G:G,0,0)","v":2501.5500000000002},{"$f":"_xlfn.XLOOKUP($K19,'OF Statistics 2011-Q3 2024'!$B:$B,'OF Statistics 2011-Q3 2024'!H:H,0,0)","v":2303.92},{"$f":"_xlfn.XLOOKUP($K19,'OF Statistics 2011-Q3 2024'!$B:$B,'OF Statistics 2011-Q3 2024'!I:I,0,0)","v":-1.1499999999999999},{"$f":"_xlfn.XLOOKUP($K19,'OF Statistics 2011-Q3 2024'!$B:$B,'OF Statistics 2011-Q3 2024'!J:J,0,0)","v":0},{"$f":"_xlfn.XLOOKUP($K19,'OF Statistics 2011-Q3 2024'!$B:$B,'OF Statistics 2011-Q3 2024'!K:K,0,0)","v":0},{"$f":"_xlfn.XLOOKUP($K19,'OF Statistics 2011-Q3 2024'!$B:$B,'OF Statistics 2011-Q3 2024'!L:L,0,0)","v":0},{"$f":"_xlfn.XLOOKUP($K19,'OF Statistics 2011-Q3 2024'!$B:$B,'OF Statistics 2011-Q3 2024'!M:M,0,0)","v":0},{"$f":"_xlfn.XLOOKUP($K19,'OF Statistics 2011-Q3 2024'!$B:$B,'OF Statistics 2011-Q3 2024'!N:N,0,0)","v":0},{"$f":"_xlfn.XLOOKUP($K19,'OF Statistics 2011-Q3 2024'!$B:$B,'OF Statistics 2011-Q3 2024'!O:O,0,0)","v":0},{"$f":"_xlfn.XLOOKUP($K19,'OF Statistics 2011-Q3 2024'!$B:$B,'OF Statistics 2011-Q3 2024'!P:P,0,0)","v":0},{"$f":"_xlfn.XLOOKUP($K19,'OF Statistics 2011-Q3 2024'!$B:$B,'OF Statistics 2011-Q3 2024'!Q:Q,0,0)","v":0},{"$f":"_xlfn.XLOOKUP($K19,'OF Statistics 2011-Q3 2024'!$B:$B,'OF Statistics 2011-Q3 2024'!R:R,0,0)","v":0},{"$f":"_xlfn.XLOOKUP($K19,'OF Statistics 2011-Q3 2024'!$B:$B,'OF Statistics 2011-Q3 2024'!S:S,0,0)","v":0},{"$f":"_xlfn.XLOOKUP($K19,'OF Statistics 2011-Q3 2024'!$B:$B,'OF Statistics 2011-Q3 2024'!T:T,0,0)","v":0},{"$f":"_xlfn.XLOOKUP($K19,'OF Statistics 2011-Q3 2024'!$B:$B,'OF Statistics 2011-Q3 2024'!U:U,0,0)","v":463.10647703090012},{"$f":"_xlfn.XLOOKUP($K19,'OF Statistics 2011-Q3 2024'!$B:$B,'OF Statistics 2011-Q3 2024'!V:V,0,0)","v":472.89},{"$f":"_xlfn.XLOOKUP($K19,'OF Statistics 2011-Q3 2024'!$B:$B,'OF Statistics 2011-Q3 2024'!W:W,0,0)","v":914},{"$f":"_xlfn.XLOOKUP($K19,'OF Statistics 2011-Q3 2024'!$B:$B,'OF Statistics 2011-Q3 2024'!X:X,0,0)","v":845.79},{"$f":"_xlfn.XLOOKUP($K19,'OF Statistics 2011-Q3 2024'!$B:$B,'OF Statistics 2011-Q3 2024'!Y:Y,0,0)","v":513},{"$f":"_xlfn.XLOOKUP($K19,'OF Statistics 2011-Q3 2024'!$B:$B,'OF Statistics 2011-Q3 2024'!Z:Z,0,0)","v":354.15},{"$f":"_xlfn.XLOOKUP($K19,'OF Statistics 2011-Q3 2024'!$B:$B,'OF Statistics 2011-Q3 2024'!AA:AA,0,0)","v":788.61},{"$f":"_xlfn.XLOOKUP($K19,'OF Statistics 2011-Q3 2024'!$B:$B,'OF Statistics 2011-Q3 2024'!AB:AB,0,0)","v":839.46},{"$f":"_xlfn.XLOOKUP($K19,'OF Statistics 2011-Q3 2024'!$B:$B,'OF Statistics 2011-Q3 2024'!AC:AC,0,0)","v":774.15},{"$f":"_xlfn.XLOOKUP($K19,'OF Statistics 2011-Q3 2024'!$B:$B,'OF Statistics 2011-Q3 2024'!AD:AD,0,0)","v":522.41},{"$f":"_xlfn.XLOOKUP($K19,'OF Statistics 2011-Q3 2024'!$B:$B,'OF Statistics 2011-Q3 2024'!AE:AE,0,0)","v":167.9},{"$f":"_xlfn.XLOOKUP($K19,'OF Statistics 2011-Q3 2024'!$B:$B,'OF Statistics 2011-Q3 2024'!AF:AF,0,0)","v":-1.1499999999999999},{"$f":"_xlfn.XLOOKUP($K19,'OF Statistics 2011-Q3 2024'!$B:$B,'OF Statistics 2011-Q3 2024'!AG:AG,0,0)","v":0},{"$f":"_xlfn.XLOOKUP($K19,'OF Statistics 2011-Q3 2024'!$B:$B,'OF Statistics 2011-Q3 2024'!AH:AH,0,0)","v":0},{"$f":"_xlfn.XLOOKUP($K19,'OF Statistics 2011-Q3 2024'!$B:$B,'OF Statistics 2011-Q3 2024'!AI:AI,0,0)","v":0},{"$f":"_xlfn.XLOOKUP($K19,'OF Statistics 2011-Q3 2024'!$B:$B,'OF Statistics 2011-Q3 2024'!AJ:AJ,0,0)","v":0},{"$f":"_xlfn.XLOOKUP($K19,'OF Statistics 2011-Q3 2024'!$B:$B,'OF Statistics 2011-Q3 2024'!AK:AK,0,0)","v":0},{"$f":"_xlfn.XLOOKUP($K19,'OF Statistics 2011-Q3 2024'!$B:$B,'OF Statistics 2011-Q3 2024'!AL:AL,0,0)","v":0},{"$f":"_xlfn.XLOOKUP($K19,'OF Statistics 2011-Q3 2024'!$B:$B,'OF Statistics 2011-Q3 2024'!AM:AM,0,0)","v":0},{"$f":"_xlfn.XLOOKUP($K19,'OF Statistics 2011-Q3 2024'!$B:$B,'OF Statistics 2011-Q3 2024'!AN:AN,0,0)","v":0},{"$f":"_xlfn.XLOOKUP($K19,'OF Statistics 2011-Q3 2024'!$B:$B,'OF Statistics 2011-Q3 2024'!AO:AO,0,0)","v":0},{"$f":"_xlfn.XLOOKUP($K19,'OF Statistics 2011-Q3 2024'!$B:$B,'OF Statistics 2011-Q3 2024'!AP:AP,0,0)","v":0},{"$f":"_xlfn.XLOOKUP($K19,'OF Statistics 2011-Q3 2024'!$B:$B,'OF Statistics 2011-Q3 2024'!AQ:AQ,0,0)","v":0},{"$f":"_xlfn.XLOOKUP($K19,'OF Statistics 2011-Q3 2024'!$B:$B,'OF Statistics 2011-Q3 2024'!AR:AR,0,0)","v":0},{"$f":"_xlfn.XLOOKUP($K19,'OF Statistics 2011-Q3 2024'!$B:$B,'OF Statistics 2011-Q3 2024'!AS:AS,0,0)","v":0},{"$f":"_xlfn.XLOOKUP($K19,'OF Statistics 2011-Q3 2024'!$B:$B,'OF Statistics 2011-Q3 2024'!AT:AT,0,0)","v":0},{"$f":"_xlfn.XLOOKUP($K19,'OF Statistics 2011-Q3 2024'!$B:$B,'OF Statistics 2011-Q3 2024'!AU:AU,0,0)","v":0},{"$f":"_xlfn.XLOOKUP($K19,'OF Statistics 2011-Q3 2024'!$B:$B,'OF Statistics 2011-Q3 2024'!AV:AV,0,0)","v":0},{"$f":"_xlfn.XLOOKUP($K19,'OF Statistics 2011-Q3 2024'!$B:$B,'OF Statistics 2011-Q3 2024'!AW:AW,0,0)","v":0},{"$f":"_xlfn.XLOOKUP($K19,'OF Statistics 2011-Q3 2024'!$B:$B,'OF Statistics 2011-Q3 2024'!AX:AX,0,0)","v":0},{"$f":"_xlfn.XLOOKUP($K19,'OF Statistics 2011-Q3 2024'!$B:$B,'OF Statistics 2011-Q3 2024'!AY:AY,0,0)","v":0},{"$f":"_xlfn.XLOOKUP($K19,'OF Statistics 2011-Q3 2024'!$B:$B,'OF Statistics 2011-Q3 2024'!AZ:AZ,0,0)","v":0},{"$f":"_xlfn.XLOOKUP($K19,'OF Statistics 2011-Q3 2024'!$B:$B,'OF Statistics 2011-Q3 2024'!BA:BA,0,0)","v":0},{"$f":"_xlfn.XLOOKUP($K19,'OF Statistics 2011-Q3 2024'!$B:$B,'OF Statistics 2011-Q3 2024'!BB:BB,0,0)","v":0},{"$f":"_xlfn.XLOOKUP($K19,'OF Statistics 2011-Q3 2024'!$B:$B,'OF Statistics 2011-Q3 2024'!BC:BC,0,0)","v":0},{"$f":"_xlfn.XLOOKUP($K19,'OF Statistics 2011-Q3 2024'!$B:$B,'OF Statistics 2011-Q3 2024'!BD:BD,0,0)","v":0},{"$f":"_xlfn.XLOOKUP($K19,'OF Statistics 2011-Q3 2024'!$B:$B,'OF Statistics 2011-Q3 2024'!BE:BE,0,0)","v":0},{"$f":"_xlfn.XLOOKUP($K19,'OF Statistics 2011-Q3 2024'!$B:$B,'OF Statistics 2011-Q3 2024'!BF:BF,0,0)","v":0},{"$f":"_xlfn.XLOOKUP($K19,'OF Statistics 2011-Q3 2024'!$B:$B,'OF Statistics 2011-Q3 2024'!BG:BG,0,0)","v":0},{"$f":"_xlfn.XLOOKUP($K19,'OF Statistics 2011-Q3 2024'!$B:$B,'OF Statistics 2011-Q3 2024'!BH:BH,0,0)","v":0},{"$f":"_xlfn.XLOOKUP($K19,'OF Statistics 2011-Q3 2024'!$B:$B,'OF Statistics 2011-Q3 2024'!BI:BI,0,0)","v":0},{"$f":"_xlfn.XLOOKUP($K19,'OF Statistics 2011-Q3 2024'!$B:$B,'OF Statistics 2011-Q3 2024'!BJ:BJ,0,0)","v":0},{"$f":"_xlfn.XLOOKUP($K19,'OF Statistics 2011-Q3 2024'!$B:$B,'OF Statistics 2011-Q3 2024'!BK:BK,0,0)","v":0},{"$f":"_xlfn.XLOOKUP($K19,'OF Statistics 2011-Q3 2024'!$B:$B,'OF Statistics 2011-Q3 2024'!BL:BL,0,0)","v":0}]
[null,12,"    West of Duddon Sands",null,null,null,null,null,null,17,"    Borkum Riffgrund 1",{"$f":"$C$27","v":"Germany"},null,null,null,{"$f":"'OF Asset Book'!G42","v":156},null,{"$f":"_xlfn.XLOOKUP($K20,'OF Statistics 2011-Q3 2024'!$B:$B,'OF Statistics 2011-Q3 2024'!E:E,0,0)","v":0},{"$f":"_xlfn.XLOOKUP($K20,'OF Statistics 2011-Q3 2024'!$B:$B,'OF Statistics 2011-Q3 2024'!F:F,0,0)","v":475.07745419999998},{"$f":"_xlfn.XLOOKUP($K20,'OF Statistics 2011-Q3 2024'!$B:$B,'OF Statistics 2011-Q3 2024'!G:G,0,0)","v":449.24},{"$f":"_xlfn.XLOOKUP($K20,'OF Statistics 2011-Q3 2024'!$B:$B,'OF Statistics 2011-Q3 2024'!H:H,0,0)","v":398.94},{"$f":"_xlfn.XLOOKUP($K20,'OF Statistics 2011-Q3 2024'!$B:$B,'OF Statistics 2011-Q3 2024'!I:I,0,0)","v":424.13},{"$f":"_xlfn.XLOOKUP($K20,'OF Statistics 2011-Q3 2024'!$B:$B,'OF Statistics 2011-Q3 2024'!J:J,0,0)","v":541.47452000000101},{"$f":"_xlfn.XLOOKUP($K20,'OF Statistics 2011-Q3 2024'!$B:$B,'OF Statistics 2011-Q3 2024'!K:K,0,0)","v":491},{"$f":"_xlfn.XLOOKUP($K20,'OF Statistics 2011-Q3 2024'!$B:$B,'OF Statistics 2011-Q3 2024'!L:L,0,0)","v":487.7},{"$f":"_xlfn.XLOOKUP($K20,'OF Statistics 2011-Q3 2024'!$B:$B,'OF Statistics 2011-Q3 2024'!M:M,0,0)","v":542},{"$f":"_xlfn.XLOOKUP($K20,'OF Statistics 2011-Q3 2024'!$B:$B,'OF Statistics 2011-Q3 2024'!N:N,0,0)","v":522},{"$f":"_xlfn.XLOOKUP($K20,'OF Statistics 2011-Q3 2024'!$B:$B,'OF Statistics 2011-Q3 2024'!O:O,0,0)","v":321},{"$f":"_xlfn.XLOOKUP($K20,'OF Statistics 2011-Q3 2024'!$B:$B,'OF Statistics 2011-Q3 2024'!P:P,0,0)","v":0},{"$f":"_xlfn.XLOOKUP($K20,'OF Statistics 2011-Q3 2024'!$B:$B,'OF Statistics 2011-Q3 2024'!Q:Q,0,0)","v":0},{"$f":"_xlfn.XLOOKUP($K20,'OF Statistics 2011-Q3 2024'!$B:$B,'OF Statistics 2011-Q3 2024'!R:R,0,0)","v":0},{"$f":"_xlfn.XLOOKUP($K20,'OF Statistics 2011-Q3 2024'!$B:$B,'OF Statistics 2011-Q3 2024'!S:S,0,0)","v":0},{"$f":"_xlfn.XLOOKUP($K20,'OF Statistics 2011-Q3 2024'!$B:$B,'OF Statistics 2011-Q3 2024'!T:T,0,0)","v":0},{"$f":"_xlfn.XLOOKUP($K20,'OF Statistics 2011-Q3 2024'!$B:$B,'OF Statistics 2011-Q3 2024'!U:U,0,0)","v":90.777279200000009},{"$f":"_xlfn.XLOOKUP($K20,'OF Statistics 2011-Q3 2024'!$B:$B,'OF Statistics 2011-Q3 2024'!V:V,0,0)","v":88.51},{"$f":"_xlfn.XLOOKUP($K20,'OF Statistics 2011-Q3 2024'!$B:$B,'OF Statistics 2011-Q3 2024'!W:W,0,0)","v":167},{"$f":"_xlfn.XLOOKUP($K20,'OF Statistics 2011-Q3 2024'!$B:$B,'OF Statistics 2011-Q3 2024'!X:X,0,0)","v":171.32},{"$f":"_xlfn.XLOOKUP($K20,'OF Statistics 2011-Q3 2024'!$B:$B,'OF Statistics 2011-Q3 2024'!Y:Y,0,0)","v":82.59},{"$f":"_xlfn.XLOOKUP($K20,'OF Statistics 2011-Q3 2024'!$B:$B,'OF Statistics 2011-Q3 2024'!Z:Z,0,0)","v":73.89},{"$f":"_xlfn.XLOOKUP($K20,'OF Statistics 2011-Q3 2024'!$B:$B,'OF Statistics 2011-Q3 2024'!AA:AA,0,0)","v":121.44},{"$f":"_xlfn.XLOOKUP($K20,'OF Statistics 2011-Q3 2024'!$B:$B,'OF Statistics 2011-Q3 2024'!AB:AB,0,0)","v":128.30000000000001},{"$f":"_xlfn.XLOOKUP($K20,'OF Statistics 2011-Q3 2024'!$B:$B,'OF Statistics 2011-Q3 2024'!AC:AC,0,0)","v":74.569999999999993},{"$f":"_xlfn.XLOOKUP($K20,'OF Statistics 2011-Q3 2024'!$B:$B,'OF Statistics 2011-Q3 2024'!AD:AD,0,0)","v":73.91},{"$f":"_xlfn.XLOOKUP($K20,'OF Statistics 2011-Q3 2024'!$B:$B,'OF Statistics 2011-Q3 2024'!AE:AE,0,0)","v":122.16},{"$f":"_xlfn.XLOOKUP($K20,'OF Statistics 2011-Q3 2024'!$B:$B,'OF Statistics 2011-Q3 2024'!AF:AF,0,0)","v":140.61000000000001},{"$f":"_xlfn.XLOOKUP($K20,'OF Statistics 2011-Q3 2024'!$B:$B,'OF Statistics 2011-Q3 2024'!AG:AG,0,0)","v":82.1},{"$f":"_xlfn.XLOOKUP($K20,'OF Statistics 2011-Q3 2024'!$B:$B,'OF Statistics 2011-Q3 2024'!AH:AH,0,0)","v":69.303939999999997},{"$f":"_xlfn.XLOOKUP($K20,'OF Statistics 2011-Q3 2024'!$B:$B,'OF Statistics 2011-Q3 2024'!AI:AI,0,0)","v":132.1},{"$f":"_xlfn.XLOOKUP($K20,'OF Statistics 2011-Q3 2024'!$B:$B,'OF Statistics 2011-Q3 2024'!AJ:AJ,0,0)","v":167.92368920000098},{"$f":"_xlfn.XLOOKUP($K20,'OF Statistics 2011-Q3 2024'!$B:$B,'OF Statistics 2011-Q3 2024'!AK:AK,0,0)","v":94.5},{"$f":"_xlfn.XLOOKUP($K20,'OF Statistics 2011-Q3 2024'!$B:$B,'OF Statistics 2011-Q3 2024'!AL:AL,0,0)","v":89.338205600000038},{"$f":"_xlfn.XLOOKUP($K20,'OF Statistics 2011-Q3 2024'!$B:$B,'OF Statistics 2011-Q3 2024'!AM:AM,0,0)","v":190},{"$f":"_xlfn.XLOOKUP($K20,'OF Statistics 2011-Q3 2024'!$B:$B,'OF Statistics 2011-Q3 2024'!AN:AN,0,0)","v":161},{"$f":"_xlfn.XLOOKUP($K20,'OF Statistics 2011-Q3 2024'!$B:$B,'OF Statistics 2011-Q3 2024'!AO:AO,0,0)","v":104.9},{"$f":"_xlfn.XLOOKUP($K20,'OF Statistics 2011-Q3 2024'!$B:$B,'OF Statistics 2011-Q3 2024'!AP:AP,0,0)","v":89.2},{"$f":"_xlfn.XLOOKUP($K20,'OF Statistics 2011-Q3 2024'!$B:$B,'OF Statistics 2011-Q3 2024'!AQ:AQ,0,0)","v":136.19999999999999},{"$f":"_xlfn.XLOOKUP($K20,'OF Statistics 2011-Q3 2024'!$B:$B,'OF Statistics 2011-Q3 2024'!AR:AR,0,0)","v":146.9},{"$f":"_xlfn.XLOOKUP($K20,'OF Statistics 2011-Q3 2024'!$B:$B,'OF Statistics 2011-Q3 2024'!AS:AS,0,0)","v":87.8},{"$f":"_xlfn.XLOOKUP($K20,'OF Statistics 2011-Q3 2024'!$B:$B,'OF Statistics 2011-Q3 2024'!AT:AT,0,0)","v":112},{"$f":"_xlfn.XLOOKUP($K20,'OF Statistics 2011-Q3 2024'!$B:$B,'OF Statistics 2011-Q3 2024'!AU:AU,0,0)","v":141},{"$f":"_xlfn.XLOOKUP($K20,'OF Statistics 2011-Q3 2024'!$B:$B,'OF Statistics 2011-Q3 2024'!AV:AV,0,0)","v":147},{"$f":"_xlfn.XLOOKUP($K20,'OF Statistics 2011-Q3 2024'!$B:$B,'OF Statistics 2011-Q3 2024'!AW:AW,0,0)","v":102},{"$f":"_xlfn.XLOOKUP($K20,'OF Statistics 2011-Q3 2024'!$B:$B,'OF Statistics 2011-Q3 2024'!AX:AX,0,0)","v":121},{"$f":"_xlfn.XLOOKUP($K20,'OF Statistics 2011-Q3 2024'!$B:$B,'OF Statistics 2011-Q3 2024'!AY:AY,0,0)","v":172},{"$f":"_xlfn.XLOOKUP($K20,'OF Statistics 2011-Q3 2024'!$B:$B,'OF Statistics 2011-Q3 2024'!AZ:AZ,0,0)","v":166},{"$f":"_xlfn.XLOOKUP($K20,'OF Statistics 2011-Q3 2024'!$B:$B,'OF Statistics 2011-Q3 2024'!BA:BA,0,0)","v":99},{"$f":"_xlfn.XLOOKUP($K20,'OF Statistics 2011-Q3 2024'!$B:$B,'OF Statistics 2011-Q3 2024'!BB:BB,0,0)","v":109},{"$f":"_xlfn.XLOOKUP($K20,'OF Statistics 2011-Q3 2024'!$B:$B,'OF Statistics 2011-Q3 2024'!BC:BC,0,0)","v":148},{"$f":"_xlfn.XLOOKUP($K20,'OF Statistics 2011-Q3 2024'!$B:$B,'OF Statistics 2011-Q3 2024'!BD:BD,0,0)","v":170},{"$f":"_xlfn.XLOOKUP($K20,'OF Statistics 2011-Q3 2024'!$B:$B,'OF Statistics 2011-Q3 2024'!BE:BE,0,0)","v":108},{"$f":"_xlfn.XLOOKUP($K20,'OF Statistics 2011-Q3 2024'!$B:$B,'OF Statistics 2011-Q3 2024'!BF:BF,0,0)","v":42},{"$f":"_xlfn.XLOOKUP($K20,'OF Statistics 2011-Q3 2024'!$B:$B,'OF Statistics 2011-Q3 2024'!BG:BG,0,0)","v":1},{"$f":"_xlfn.XLOOKUP($K20,'OF Statistics 2011-Q3 2024'!$B:$B,'OF Statistics 2011-Q3 2024'!BH:BH,0,0)","v":0},{"$f":"_xlfn.XLOOKUP($K20,'OF Statistics 2011-Q3 2024'!$B:$B,'OF Statistics 2011-Q3 2024'!BI:BI,0,0)","v":0},{"$f":"_xlfn.XLOOKUP($K20,'OF Statistics 2011-Q3 2024'!$B:$B,'OF Statistics 2011-Q3 2024'!BJ:BJ,0,0)","v":0},{"$f":"_xlfn.XLOOKUP($K20,'OF Statistics 2011-Q3 2024'!$B:$B,'OF Statistics 2011-Q3 2024'!BK:BK,0,0)","v":0},{"$f":"_xlfn.XLOOKUP($K20,'OF Statistics 2011-Q3 2024'!$B:$B,'OF Statistics 2011-Q3 2024'!BL:BL,0,0)","v":0}]
[null,13,"    Westermost Rough",null,null,null,null,null,null,18,"    Borkum Riffgrund 2",{"$f":"$C$27","v":"Germany"},null,null,null,{"$f":"'OF Asset Book'!G43","v":225},null,{"$f":"_xlfn.XLOOKUP($K21,'OF Statistics 2011-Q3 2024'!$B:$B,'OF Statistics 2011-Q3 2024'!E:E,0,0)","v":0},{"$f":"_xlfn.XLOOKUP($K21,'OF Statistics 2011-Q3 2024'!$B:$B,'OF Statistics 2011-Q3 2024'!F:F,0,0)","v":673.40018499999996},{"$f":"_xlfn.XLOOKUP($K21,'OF Statistics 2011-Q3 2024'!$B:$B,'OF Statistics 2011-Q3 2024'!G:G,0,0)","v":670.09},{"$f":"_xlfn.XLOOKUP($K21,'OF Statistics 2011-Q3 2024'!$B:$B,'OF Statistics 2011-Q3 2024'!H:H,0,0)","v":652.32000000000005},{"$f":"_xlfn.XLOOKUP($K21,'OF Statistics 2011-Q3 2024'!$B:$B,'OF Statistics 2011-Q3 2024'!I:I,0,0)","v":674.13},{"$f":"_xlfn.XLOOKUP($K21,'OF Statistics 2011-Q3 2024'!$B:$B,'OF Statistics 2011-Q3 2024'!J:J,0,0)","v":764.69639360000099},{"$f":"_xlfn.XLOOKUP($K21,'OF Statistics 2011-Q3 2024'!$B:$B,'OF Statistics 2011-Q3 2024'!K:K,0,0)","v":623},{"$f":"_xlfn.XLOOKUP($K21,'OF Statistics 2011-Q3 2024'!$B:$B,'OF Statistics 2011-Q3 2024'!L:L,0,0)","v":189.9},{"$f":"_xlfn.XLOOKUP($K21,'OF Statistics 2011-Q3 2024'!$B:$B,'OF Statistics 2011-Q3 2024'!M:M,0,0)","v":0},{"$f":"_xlfn.XLOOKUP($K21,'OF Statistics 2011-Q3 2024'!$B:$B,'OF Statistics 2011-Q3 2024'!N:N,0,0)","v":0},{"$f":"_xlfn.XLOOKUP($K21,'OF Statistics 2011-Q3 2024'!$B:$B,'OF Statistics 2011-Q3 2024'!O:O,0,0)","v":0},{"$f":"_xlfn.XLOOKUP($K21,'OF Statistics 2011-Q3 2024'!$B:$B,'OF Statistics 2011-Q3 2024'!P:P,0,0)","v":0},{"$f":"_xlfn.XLOOKUP($K21,'OF Statistics 2011-Q3 2024'!$B:$B,'OF Statistics 2011-Q3 2024'!Q:Q,0,0)","v":0},{"$f":"_xlfn.XLOOKUP($K21,'OF Statistics 2011-Q3 2024'!$B:$B,'OF Statistics 2011-Q3 2024'!R:R,0,0)","v":0},{"$f":"_xlfn.XLOOKUP($K21,'OF Statistics 2011-Q3 2024'!$B:$B,'OF Statistics 2011-Q3 2024'!S:S,0,0)","v":0},{"$f":"_xlfn.XLOOKUP($K21,'OF Statistics 2011-Q3 2024'!$B:$B,'OF Statistics 2011-Q3 2024'!T:T,0,0)","v":0},{"$f":"_xlfn.XLOOKUP($K21,'OF Statistics 2011-Q3 2024'!$B:$B,'OF Statistics 2011-Q3 2024'!U:U,0,0)","v":112.876395},{"$f":"_xlfn.XLOOKUP($K21,'OF Statistics 2011-Q3 2024'!$B:$B,'OF Statistics 2011-Q3 2024'!V:V,0,0)","v":129.63999999999999},{"$f":"_xlfn.XLOOKUP($K21,'OF Statistics 2011-Q3 2024'!$B:$B,'OF Statistics 2011-Q3 2024'!W:W,0,0)","v":243},{"$f":"_xlfn.XLOOKUP($K21,'OF Statistics 2011-Q3 2024'!$B:$B,'OF Statistics 2011-Q3 2024'!X:X,0,0)","v":237.19},{"$f":"_xlfn.XLOOKUP($K21,'OF Statistics 2011-Q3 2024'!$B:$B,'OF Statistics 2011-Q3 2024'!Y:Y,0,0)","v":121.94},{"$f":"_xlfn.XLOOKUP($K21,'OF Statistics 2011-Q3 2024'!$B:$B,'OF Statistics 2011-Q3 2024'!Z:Z,0,0)","v":123.26},{"$f":"_xlfn.XLOOKUP($K21,'OF Statistics 2011-Q3 2024'!$B:$B,'OF Statistics 2011-Q3 2024'!AA:AA,0,0)","v":187.7},{"$f":"_xlfn.XLOOKUP($K21,'OF Statistics 2011-Q3 2024'!$B:$B,'OF Statistics 2011-Q3 2024'!AB:AB,0,0)","v":211.09},{"$f":"_xlfn.XLOOKUP($K21,'OF Statistics 2011-Q3 2024'!$B:$B,'OF Statistics 2011-Q3 2024'!AC:AC,0,0)","v":123.07},{"$f":"_xlfn.XLOOKUP($K21,'OF Statistics 2011-Q3 2024'!$B:$B,'OF Statistics 2011-Q3 2024'!AD:AD,0,0)","v":123.02},{"$f":"_xlfn.XLOOKUP($K21,'OF Statistics 2011-Q3 2024'!$B:$B,'OF Statistics 2011-Q3 2024'!AE:AE,0,0)","v":195.13},{"$f":"_xlfn.XLOOKUP($K21,'OF Statistics 2011-Q3 2024'!$B:$B,'OF Statistics 2011-Q3 2024'!AF:AF,0,0)","v":241.58},{"$f":"_xlfn.XLOOKUP($K21,'OF Statistics 2011-Q3 2024'!$B:$B,'OF Statistics 2011-Q3 2024'!AG:AG,0,0)","v":125.49},{"$f":"_xlfn.XLOOKUP($K21,'OF Statistics 2011-Q3 2024'!$B:$B,'OF Statistics 2011-Q3 2024'!AH:AH,0,0)","v":103.777395},{"$f":"_xlfn.XLOOKUP($K21,'OF Statistics 2011-Q3 2024'!$B:$B,'OF Statistics 2011-Q3 2024'!AI:AI,0,0)","v":203.3},{"$f":"_xlfn.XLOOKUP($K21,'OF Statistics 2011-Q3 2024'!$B:$B,'OF Statistics 2011-Q3 2024'!AJ:AJ,0,0)","v":267.45825359999998},{"$f":"_xlfn.XLOOKUP($K21,'OF Statistics 2011-Q3 2024'!$B:$B,'OF Statistics 2011-Q3 2024'!AK:AK,0,0)","v":154.4},{"$f":"_xlfn.XLOOKUP($K21,'OF Statistics 2011-Q3 2024'!$B:$B,'OF Statistics 2011-Q3 2024'!AL:AL,0,0)","v":136.32565580000002},{"$f":"_xlfn.XLOOKUP($K21,'OF Statistics 2011-Q3 2024'!$B:$B,'OF Statistics 2011-Q3 2024'!AM:AM,0,0)","v":207},{"$f":"_xlfn.XLOOKUP($K21,'OF Statistics 2011-Q3 2024'!$B:$B,'OF Statistics 2011-Q3 2024'!AN:AN,0,0)","v":214},{"$f":"_xlfn.XLOOKUP($K21,'OF Statistics 2011-Q3 2024'!$B:$B,'OF Statistics 2011-Q3 2024'!AO:AO,0,0)","v":129.69999999999999},{"$f":"_xlfn.XLOOKUP($K21,'OF Statistics 2011-Q3 2024'!$B:$B,'OF Statistics 2011-Q3 2024'!AP:AP,0,0)","v":112.1},{"$f":"_xlfn.XLOOKUP($K21,'OF Statistics 2011-Q3 2024'!$B:$B,'OF Statistics 2011-Q3 2024'!AQ:AQ,0,0)","v":166.7},{"$f":"_xlfn.XLOOKUP($K21,'OF Statistics 2011-Q3 2024'!$B:$B,'OF Statistics 2011-Q3 2024'!AR:AR,0,0)","v":158.1},{"$f":"_xlfn.XLOOKUP($K21,'OF Statistics 2011-Q3 2024'!$B:$B,'OF Statistics 2011-Q3 2024'!AS:AS,0,0)","v":31.8},{"$f":"_xlfn.XLOOKUP($K21,'OF Statistics 2011-Q3 2024'!$B:$B,'OF Statistics 2011-Q3 2024'!AT:AT,0,0)","v":0},{"$f":"_xlfn.XLOOKUP($K21,'OF Statistics 2011-Q3 2024'!$B:$B,'OF Statistics 2011-Q3 2024'!AU:AU,0,0)","v":0},{"$f":"_xlfn.XLOOKUP($K21,'OF Statistics 2011-Q3 2024'!$B:$B,'OF Statistics 2011-Q3 2024'!AV:AV,0,0)","v":0},{"$f":"_xlfn.XLOOKUP($K21,'OF Statistics 2011-Q3 2024'!$B:$B,'OF Statistics 2011-Q3 2024'!AW:AW,0,0)","v":0},{"$f":"_xlfn.XLOOKUP($K21,'OF Statistics 2011-Q3 2024'!$B:$B,'OF Statistics 2011-Q3 2024'!AX:AX,0,0)","v":0},{"$f":"_xlfn.XLOOKUP($K21,'OF Statistics 2011-Q3 2024'!$B:$B,'OF Statistics 2011-Q3 2024'!AY:AY,0,0)","v":0},{"$f":"_xlfn.XLOOKUP($K21,'OF Statistics 2011-Q3 2024'!$B:$B,'OF Statistics 2011-Q3 2024'!AZ:AZ,0,0)","v":0},{"$f":"_xlfn.XLOOKUP($K21,'OF Statistics 2011-Q3 2024'!$B:$B,'OF Statistics 2011-Q3 2024'!BA:BA,0,0)","v":0},{"$f":"_xlfn.XLOOKUP($K21,'OF Statistics 2011-Q3 2024'!$B:$B,'OF Statistics 2011-Q3 2024'!BB:BB,0,0)","v":0},{"$f":"_xlfn.XLOOKUP($K21,'OF Statistics 2011-Q3 2024'!$B:$B,'OF Statistics 2011-Q3 2024'!BC:BC,0,0)","v":0},{"$f":"_xlfn.XLOOKUP($K21,'OF Statistics 2011-Q3 2024'!$B:$B,'OF Statistics 2011-Q3 2024'!BD:BD,0,0)","v":0},{"$f":"_xlfn.XLOOKUP($K21,'OF Statistics 2011-Q3 2024'!$B:$B,'OF Statistics 2011-Q3 2024'!BE:BE,0,0)","v":0},{"$f":"_xlfn.XLOOKUP($K21,'OF Statistics 2011-Q3 2024'!$B:$B,'OF Statistics 2011-Q3 2024'!BF:BF,0,0)","v":0},{"$f":"_xlfn.XLOOKUP($K21,'OF Statistics 2011-Q3 2024'!$B:$B,'OF Statistics 2011-Q3 2024'!BG:BG,0,0)","v":0},{"$f":"_xlfn.XLOOKUP($K21,'OF Statistics 2011-Q3 2024'!$B:$B,'OF Statistics 2011-Q3 2024'!BH:BH,0,0)","v":0},{"$f":"_xlfn.XLOOKUP($K21,'OF Statistics 2011-Q3 2024'!$B:$B,'OF Statistics 2011-Q3 2024'!BI:BI,0,0)","v":0},{"$f":"_xlfn.XLOOKUP($K21,'OF Statistics 2011-Q3 2024'!$B:$B,'OF Statistics 2011-Q3 2024'!BJ:BJ,0,0)","v":0},{"$f":"_xlfn.XLOOKUP($K21,'OF Statistics 2011-Q3 2024'!$B:$B,'OF Statistics 2011-Q3 2024'!BK:BK,0,0)","v":0},{"$f":"_xlfn.XLOOKUP($K21,'OF Statistics 2011-Q3 2024'!$B:$B,'OF Statistics 2011-Q3 2024'!BL:BL,0,0)","v":0}]
[null,14,"    Race Bank",null,null,null,null,null,null,19,"    Gode Wind 1","Germany",null,null,null,{"$f":"'OF Asset Book'!G44","v":166},null,{"$f":"_xlfn.XLOOKUP($K22,'OF Statistics 2011-Q3 2024'!$B:$B,'OF Statistics 2011-Q3 2024'!E:E,0,0)","v":0},{"$f":"_xlfn.XLOOKUP($K22,'OF Statistics 2011-Q3 2024'!$B:$B,'OF Statistics 2011-Q3 2024'!F:F,0,0)","v":570.70523000000003},{"$f":"_xlfn.XLOOKUP($K22,'OF Statistics 2011-Q3 2024'!$B:$B,'OF Statistics 2011-Q3 2024'!G:G,0,0)","v":542.53},{"$f":"_xlfn.XLOOKUP($K22,'OF Statistics 2011-Q3 2024'!$B:$B,'OF Statistics 2011-Q3 2024'!H:H,0,0)","v":510.56},{"$f":"_xlfn.XLOOKUP($K22,'OF Statistics 2011-Q3 2024'!$B:$B,'OF Statistics 2011-Q3 2024'!I:I,0,0)","v":525.63},{"$f":"_xlfn.XLOOKUP($K22,'OF Statistics 2011-Q3 2024'!$B:$B,'OF Statistics 2011-Q3 2024'!J:J,0,0)","v":566.94120600000099},{"$f":"_xlfn.XLOOKUP($K22,'OF Statistics 2011-Q3 2024'!$B:$B,'OF Statistics 2011-Q3 2024'!K:K,0,0)","v":629},{"$f":"_xlfn.XLOOKUP($K22,'OF Statistics 2011-Q3 2024'!$B:$B,'OF Statistics 2011-Q3 2024'!L:L,0,0)","v":584.4},{"$f":"_xlfn.XLOOKUP($K22,'OF Statistics 2011-Q3 2024'!$B:$B,'OF Statistics 2011-Q3 2024'!M:M,0,0)","v":559},{"$f":"_xlfn.XLOOKUP($K22,'OF Statistics 2011-Q3 2024'!$B:$B,'OF Statistics 2011-Q3 2024'!N:N,0,0)","v":67},{"$f":"_xlfn.XLOOKUP($K22,'OF Statistics 2011-Q3 2024'!$B:$B,'OF Statistics 2011-Q3 2024'!O:O,0,0)","v":0},{"$f":"_xlfn.XLOOKUP($K22,'OF Statistics 2011-Q3 2024'!$B:$B,'OF Statistics 2011-Q3 2024'!P:P,0,0)","v":0},{"$f":"_xlfn.XLOOKUP($K22,'OF Statistics 2011-Q3 2024'!$B:$B,'OF Statistics 2011-Q3 2024'!Q:Q,0,0)","v":0},{"$f":"_xlfn.XLOOKUP($K22,'OF Statistics 2011-Q3 2024'!$B:$B,'OF Statistics 2011-Q3 2024'!R:R,0,0)","v":0},{"$f":"_xlfn.XLOOKUP($K22,'OF Statistics 2011-Q3 2024'!$B:$B,'OF Statistics 2011-Q3 2024'!S:S,0,0)","v":0},{"$f":"_xlfn.XLOOKUP($K22,'OF Statistics 2011-Q3 2024'!$B:$B,'OF Statistics 2011-Q3 2024'!T:T,0,0)","v":0},{"$f":"_xlfn.XLOOKUP($K22,'OF Statistics 2011-Q3 2024'!$B:$B,'OF Statistics 2011-Q3 2024'!U:U,0,0)","v":107.60214500000001},{"$f":"_xlfn.XLOOKUP($K22,'OF Statistics 2011-Q3 2024'!$B:$B,'OF Statistics 2011-Q3 2024'!V:V,0,0)","v":114.24},{"$f":"_xlfn.XLOOKUP($K22,'OF Statistics 2011-Q3 2024'!$B:$B,'OF Statistics 2011-Q3 2024'!W:W,0,0)","v":195},{"$f":"_xlfn.XLOOKUP($K22,'OF Statistics 2011-Q3 2024'!$B:$B,'OF Statistics 2011-Q3 2024'!X:X,0,0)","v":179.92},{"$f":"_xlfn.XLOOKUP($K22,'OF Statistics 2011-Q3 2024'!$B:$B,'OF Statistics 2011-Q3 2024'!Y:Y,0,0)","v":101.13},{"$f":"_xlfn.XLOOKUP($K22,'OF Statistics 2011-Q3 2024'!$B:$B,'OF Statistics 2011-Q3 2024'!Z:Z,0,0)","v":116.4},{"$f":"_xlfn.XLOOKUP($K22,'OF Statistics 2011-Q3 2024'!$B:$B,'OF Statistics 2011-Q3 2024'!AA:AA,0,0)","v":145.07},{"$f":"_xlfn.XLOOKUP($K22,'OF Statistics 2011-Q3 2024'!$B:$B,'OF Statistics 2011-Q3 2024'!AB:AB,0,0)","v":165.38},{"$f":"_xlfn.XLOOKUP($K22,'OF Statistics 2011-Q3 2024'!$B:$B,'OF Statistics 2011-Q3 2024'!AC:AC,0,0)","v":106.08},{"$f":"_xlfn.XLOOKUP($K22,'OF Statistics 2011-Q3 2024'!$B:$B,'OF Statistics 2011-Q3 2024'!AD:AD,0,0)","v":99.79},{"$f":"_xlfn.XLOOKUP($K22,'OF Statistics 2011-Q3 2024'!$B:$B,'OF Statistics 2011-Q3 2024'!AE:AE,0,0)","v":139.31},{"$f":"_xlfn.XLOOKUP($K22,'OF Statistics 2011-Q3 2024'!$B:$B,'OF Statistics 2011-Q3 2024'!AF:AF,0,0)","v":171.89},{"$f":"_xlfn.XLOOKUP($K22,'OF Statistics 2011-Q3 2024'!$B:$B,'OF Statistics 2011-Q3 2024'!AG:AG,0,0)","v":107.38},{"$f":"_xlfn.XLOOKUP($K22,'OF Statistics 2011-Q3 2024'!$B:$B,'OF Statistics 2011-Q3 2024'!AH:AH,0,0)","v":85.638859999999994},{"$f":"_xlfn.XLOOKUP($K22,'OF Statistics 2011-Q3 2024'!$B:$B,'OF Statistics 2011-Q3 2024'!AI:AI,0,0)","v":160.69999999999999},{"$f":"_xlfn.XLOOKUP($K22,'OF Statistics 2011-Q3 2024'!$B:$B,'OF Statistics 2011-Q3 2024'!AJ:AJ,0,0)","v":126.41325080000098},{"$f":"_xlfn.XLOOKUP($K22,'OF Statistics 2011-Q3 2024'!$B:$B,'OF Statistics 2011-Q3 2024'!AK:AK,0,0)","v":122.5},{"$f":"_xlfn.XLOOKUP($K22,'OF Statistics 2011-Q3 2024'!$B:$B,'OF Statistics 2011-Q3 2024'!AL:AL,0,0)","v":107.70546379999999},{"$f":"_xlfn.XLOOKUP($K22,'OF Statistics 2011-Q3 2024'!$B:$B,'OF Statistics 2011-Q3 2024'!AM:AM,0,0)","v":210},{"$f":"_xlfn.XLOOKUP($K22,'OF Statistics 2011-Q3 2024'!$B:$B,'OF Statistics 2011-Q3 2024'!AN:AN,0,0)","v":193},{"$f":"_xlfn.XLOOKUP($K22,'OF Statistics 2011-Q3 2024'!$B:$B,'OF Statistics 2011-Q3 2024'!AO:AO,0,0)","v":133.69999999999999},{"$f":"_xlfn.XLOOKUP($K22,'OF Statistics 2011-Q3 2024'!$B:$B,'OF Statistics 2011-Q3 2024'!AP:AP,0,0)","v":132.4},{"$f":"_xlfn.XLOOKUP($K22,'OF Statistics 2011-Q3 2024'!$B:$B,'OF Statistics 2011-Q3 2024'!AQ:AQ,0,0)","v":169.6},{"$f":"_xlfn.XLOOKUP($K22,'OF Statistics 2011-Q3 2024'!$B:$B,'OF Statistics 2011-Q3 2024'!AR:AR,0,0)","v":178.9},{"$f":"_xlfn.XLOOKUP($K22,'OF Statistics 2011-Q3 2024'!$B:$B,'OF Statistics 2011-Q3 2024'!AS:AS,0,0)","v":110.4},{"$f":"_xlfn.XLOOKUP($K22,'OF Statistics 2011-Q3 2024'!$B:$B,'OF Statistics 2011-Q3 2024'!AT:AT,0,0)","v":141},{"$f":"_xlfn.XLOOKUP($K22,'OF Statistics 2011-Q3 2024'!$B:$B,'OF Statistics 2011-Q3 2024'!AU:AU,0,0)","v":154},{"$f":"_xlfn.XLOOKUP($K22,'OF Statistics 2011-Q3 2024'!$B:$B,'OF Statistics 2011-Q3 2024'!AV:AV,0,0)","v":160},{"$f":"_xlfn.XLOOKUP($K22,'OF Statistics 2011-Q3 2024'!$B:$B,'OF Statistics 2011-Q3 2024'!AW:AW,0,0)","v":117},{"$f":"_xlfn.XLOOKUP($K22,'OF Statistics 2011-Q3 2024'!$B:$B,'OF Statistics 2011-Q3 2024'!AX:AX,0,0)","v":143},{"$f":"_xlfn.XLOOKUP($K22,'OF Statistics 2011-Q3 2024'!$B:$B,'OF Statistics 2011-Q3 2024'!AY:AY,0,0)","v":139},{"$f":"_xlfn.XLOOKUP($K22,'OF Statistics 2011-Q3 2024'!$B:$B,'OF Statistics 2011-Q3 2024'!AZ:AZ,0,0)","v":31},{"$f":"_xlfn.XLOOKUP($K22,'OF Statistics 2011-Q3 2024'!$B:$B,'OF Statistics 2011-Q3 2024'!BA:BA,0,0)","v":36},{"$f":"_xlfn.XLOOKUP($K22,'OF Statistics 2011-Q3 2024'!$B:$B,'OF Statistics 2011-Q3 2024'!BB:BB,0,0)","v":0},{"$f":"_xlfn.XLOOKUP($K22,'OF Statistics 2011-Q3 2024'!$B:$B,'OF Statistics 2011-Q3 2024'!BC:BC,0,0)","v":0},{"$f":"_xlfn.XLOOKUP($K22,'OF Statistics 2011-Q3 2024'!$B:$B,'OF Statistics 2011-Q3 2024'!BD:BD,0,0)","v":0},{"$f":"_xlfn.XLOOKUP($K22,'OF Statistics 2011-Q3 2024'!$B:$B,'OF Statistics 2011-Q3 2024'!BE:BE,0,0)","v":0},{"$f":"_xlfn.XLOOKUP($K22,'OF Statistics 2011-Q3 2024'!$B:$B,'OF Statistics 2011-Q3 2024'!BF:BF,0,0)","v":0},{"$f":"_xlfn.XLOOKUP($K22,'OF Statistics 2011-Q3 2024'!$B:$B,'OF Statistics 2011-Q3 2024'!BG:BG,0,0)","v":0},{"$f":"_xlfn.XLOOKUP($K22,'OF Statistics 2011-Q3 2024'!$B:$B,'OF Statistics 2011-Q3 2024'!BH:BH,0,0)","v":0},{"$f":"_xlfn.XLOOKUP($K22,'OF Statistics 2011-Q3 2024'!$B:$B,'OF Statistics 2011-Q3 2024'!BI:BI,0,0)","v":0},{"$f":"_xlfn.XLOOKUP($K22,'OF Statistics 2011-Q3 2024'!$B:$B,'OF Statistics 2011-Q3 2024'!BJ:BJ,0,0)","v":0},{"$f":"_xlfn.XLOOKUP($K22,'OF Statistics 2011-Q3 2024'!$B:$B,'OF Statistics 2011-Q3 2024'!BK:BK,0,0)","v":0},{"$f":"_xlfn.XLOOKUP($K22,'OF Statistics 2011-Q3 2024'!$B:$B,'OF Statistics 2011-Q3 2024'!BL:BL,0,0)","v":0}]
[null,15,"    Hornsea 1",null,null,null,null,null,null,20,"    Gode Wind 2","Germany",null,null,null,{"$f":"'OF Asset Book'!G45","v":126},null,{"$f":"_xlfn.XLOOKUP($K23,'OF Statistics 2011-Q3 2024'!$B:$B,'OF Statistics 2011-Q3 2024'!E:E,0,0)","v":0},{"$f":"_xlfn.XLOOKUP($K23,'OF Statistics 2011-Q3 2024'!$B:$B,'OF Statistics 2011-Q3 2024'!F:F,0,0)","v":429.95774},{"$f":"_xlfn.XLOOKUP($K23,'OF Statistics 2011-Q3 2024'!$B:$B,'OF Statistics 2011-Q3 2024'!G:G,0,0)","v":414.21},{"$f":"_xlfn.XLOOKUP($K23,'OF Statistics 2011-Q3 2024'!$B:$B,'OF Statistics 2011-Q3 2024'!H:H,0,0)","v":386.92},{"$f":"_xlfn.XLOOKUP($K23,'OF Statistics 2011-Q3 2024'!$B:$B,'OF Statistics 2011-Q3 2024'!I:I,0,0)","v":398.23},{"$f":"_xlfn.XLOOKUP($K23,'OF Statistics 2011-Q3 2024'!$B:$B,'OF Statistics 2011-Q3 2024'!J:J,0,0)","v":426.86857400000099},{"$f":"_xlfn.XLOOKUP($K23,'OF Statistics 2011-Q3 2024'!$B:$B,'OF Statistics 2011-Q3 2024'!K:K,0,0)","v":477},{"$f":"_xlfn.XLOOKUP($K23,'OF Statistics 2011-Q3 2024'!$B:$B,'OF Statistics 2011-Q3 2024'!L:L,0,0)","v":443.7},{"$f":"_xlfn.XLOOKUP($K23,'OF Statistics 2011-Q3 2024'!$B:$B,'OF Statistics 2011-Q3 2024'!M:M,0,0)","v":419},{"$f":"_xlfn.XLOOKUP($K23,'OF Statistics 2011-Q3 2024'!$B:$B,'OF Statistics 2011-Q3 2024'!N:N,0,0)","v":75},{"$f":"_xlfn.XLOOKUP($K23,'OF Statistics 2011-Q3 2024'!$B:$B,'OF Statistics 2011-Q3 2024'!O:O,0,0)","v":0},{"$f":"_xlfn.XLOOKUP($K23,'OF Statistics 2011-Q3 2024'!$B:$B,'OF Statistics 2011-Q3 2024'!P:P,0,0)","v":0},{"$f":"_xlfn.XLOOKUP($K23,'OF Statistics 2011-Q3 2024'!$B:$B,'OF Statistics 2011-Q3 2024'!Q:Q,0,0)","v":0},{"$f":"_xlfn.XLOOKUP($K23,'OF Statistics 2011-Q3 2024'!$B:$B,'OF Statistics 2011-Q3 2024'!R:R,0,0)","v":0},{"$f":"_xlfn.XLOOKUP($K23,'OF Statistics 2011-Q3 2024'!$B:$B,'OF Statistics 2011-Q3 2024'!S:S,0,0)","v":0},{"$f":"_xlfn.XLOOKUP($K23,'OF Statistics 2011-Q3 2024'!$B:$B,'OF Statistics 2011-Q3 2024'!T:T,0,0)","v":0},{"$f":"_xlfn.XLOOKUP($K23,'OF Statistics 2011-Q3 2024'!$B:$B,'OF Statistics 2011-Q3 2024'!U:U,0,0)","v":81.870175000000017},{"$f":"_xlfn.XLOOKUP($K23,'OF Statistics 2011-Q3 2024'!$B:$B,'OF Statistics 2011-Q3 2024'!V:V,0,0)","v":87.07},{"$f":"_xlfn.XLOOKUP($K23,'OF Statistics 2011-Q3 2024'!$B:$B,'OF Statistics 2011-Q3 2024'!W:W,0,0)","v":148},{"$f":"_xlfn.XLOOKUP($K23,'OF Statistics 2011-Q3 2024'!$B:$B,'OF Statistics 2011-Q3 2024'!X:X,0,0)","v":144.72},{"$f":"_xlfn.XLOOKUP($K23,'OF Statistics 2011-Q3 2024'!$B:$B,'OF Statistics 2011-Q3 2024'!Y:Y,0,0)","v":73.06},{"$f":"_xlfn.XLOOKUP($K23,'OF Statistics 2011-Q3 2024'!$B:$B,'OF Statistics 2011-Q3 2024'!Z:Z,0,0)","v":84.85},{"$f":"_xlfn.XLOOKUP($K23,'OF Statistics 2011-Q3 2024'!$B:$B,'OF Statistics 2011-Q3 2024'!AA:AA,0,0)","v":111.58},{"$f":"_xlfn.XLOOKUP($K23,'OF Statistics 2011-Q3 2024'!$B:$B,'OF Statistics 2011-Q3 2024'!AB:AB,0,0)","v":121.26},{"$f":"_xlfn.XLOOKUP($K23,'OF Statistics 2011-Q3 2024'!$B:$B,'OF Statistics 2011-Q3 2024'!AC:AC,0,0)","v":83.06},{"$f":"_xlfn.XLOOKUP($K23,'OF Statistics 2011-Q3 2024'!$B:$B,'OF Statistics 2011-Q3 2024'!AD:AD,0,0)","v":74.78},{"$f":"_xlfn.XLOOKUP($K23,'OF Statistics 2011-Q3 2024'!$B:$B,'OF Statistics 2011-Q3 2024'!AE:AE,0,0)","v":108},{"$f":"_xlfn.XLOOKUP($K23,'OF Statistics 2011-Q3 2024'!$B:$B,'OF Statistics 2011-Q3 2024'!AF:AF,0,0)","v":125.88},{"$f":"_xlfn.XLOOKUP($K23,'OF Statistics 2011-Q3 2024'!$B:$B,'OF Statistics 2011-Q3 2024'!AG:AG,0,0)","v":83.8},{"$f":"_xlfn.XLOOKUP($K23,'OF Statistics 2011-Q3 2024'!$B:$B,'OF Statistics 2011-Q3 2024'!AH:AH,0,0)","v":73.487160000000003},{"$f":"_xlfn.XLOOKUP($K23,'OF Statistics 2011-Q3 2024'!$B:$B,'OF Statistics 2011-Q3 2024'!AI:AI,0,0)","v":115.1},{"$f":"_xlfn.XLOOKUP($K23,'OF Statistics 2011-Q3 2024'!$B:$B,'OF Statistics 2011-Q3 2024'!AJ:AJ,0,0)","v":93.5061556},{"$f":"_xlfn.XLOOKUP($K23,'OF Statistics 2011-Q3 2024'!$B:$B,'OF Statistics 2011-Q3 2024'!AK:AK,0,0)","v":91.8},{"$f":"_xlfn.XLOOKUP($K23,'OF Statistics 2011-Q3 2024'!$B:$B,'OF Statistics 2011-Q3 2024'!AL:AL,0,0)","v":86.398525199999995},{"$f":"_xlfn.XLOOKUP($K23,'OF Statistics 2011-Q3 2024'!$B:$B,'OF Statistics 2011-Q3 2024'!AM:AM,0,0)","v":155},{"$f":"_xlfn.XLOOKUP($K23,'OF Statistics 2011-Q3 2024'!$B:$B,'OF Statistics 2011-Q3 2024'!AN:AN,0,0)","v":143},{"$f":"_xlfn.XLOOKUP($K23,'OF Statistics 2011-Q3 2024'!$B:$B,'OF Statistics 2011-Q3 2024'!AO:AO,0,0)","v":102.6},{"$f":"_xlfn.XLOOKUP($K23,'OF Statistics 2011-Q3 2024'!$B:$B,'OF Statistics 2011-Q3 2024'!AP:AP,0,0)","v":105},{"$f":"_xlfn.XLOOKUP($K23,'OF Statistics 2011-Q3 2024'!$B:$B,'OF Statistics 2011-Q3 2024'!AQ:AQ,0,0)","v":126.2},{"$f":"_xlfn.XLOOKUP($K23,'OF Statistics 2011-Q3 2024'!$B:$B,'OF Statistics 2011-Q3 2024'!AR:AR,0,0)","v":132.4},{"$f":"_xlfn.XLOOKUP($K23,'OF Statistics 2011-Q3 2024'!$B:$B,'OF Statistics 2011-Q3 2024'!AS:AS,0,0)","v":81.3},{"$f":"_xlfn.XLOOKUP($K23,'OF Statistics 2011-Q3 2024'!$B:$B,'OF Statistics 2011-Q3 2024'!AT:AT,0,0)","v":112},{"$f":"_xlfn.XLOOKUP($K23,'OF Statistics 2011-Q3 2024'!$B:$B,'OF Statistics 2011-Q3 2024'!AU:AU,0,0)","v":118},{"$f":"_xlfn.XLOOKUP($K23,'OF Statistics 2011-Q3 2024'!$B:$B,'OF Statistics 2011-Q3 2024'!AV:AV,0,0)","v":123},{"$f":"_xlfn.XLOOKUP($K23,'OF Statistics 2011-Q3 2024'!$B:$B,'OF Statistics 2011-Q3 2024'!AW:AW,0,0)","v":87},{"$f":"_xlfn.XLOOKUP($K23,'OF Statistics 2011-Q3 2024'!$B:$B,'OF Statistics 2011-Q3 2024'!AX:AX,0,0)","v":105},{"$f":"_xlfn.XLOOKUP($K23,'OF Statistics 2011-Q3 2024'!$B:$B,'OF Statistics 2011-Q3 2024'!AY:AY,0,0)","v":104},{"$f":"_xlfn.XLOOKUP($K23,'OF Statistics 2011-Q3 2024'!$B:$B,'OF Statistics 2011-Q3 2024'!AZ:AZ,0,0)","v":27},{"$f":"_xlfn.XLOOKUP($K23,'OF Statistics 2011-Q3 2024'!$B:$B,'OF Statistics 2011-Q3 2024'!BA:BA,0,0)","v":36},{"$f":"_xlfn.XLOOKUP($K23,'OF Statistics 2011-Q3 2024'!$B:$B,'OF Statistics 2011-Q3 2024'!BB:BB,0,0)","v":11},{"$f":"_xlfn.XLOOKUP($K23,'OF Statistics 2011-Q3 2024'!$B:$B,'OF Statistics 2011-Q3 2024'!BC:BC,0,0)","v":1},{"$f":"_xlfn.XLOOKUP($K23,'OF Statistics 2011-Q3 2024'!$B:$B,'OF Statistics 2011-Q3 2024'!BD:BD,0,0)","v":0},{"$f":"_xlfn.XLOOKUP($K23,'OF Statistics 2011-Q3 2024'!$B:$B,'OF Statistics 2011-Q3 2024'!BE:BE,0,0)","v":0},{"$f":"_xlfn.XLOOKUP($K23,'OF Statistics 2011-Q3 2024'!$B:$B,'OF Statistics 2011-Q3 2024'!BF:BF,0,0)","v":0},{"$f":"_xlfn.XLOOKUP($K23,'OF Statistics 2011-Q3 2024'!$B:$B,'OF Statistics 2011-Q3 2024'!BG:BG,0,0)","v":0},{"$f":"_xlfn.XLOOKUP($K23,'OF Statistics 2011-Q3 2024'!$B:$B,'OF Statistics 2011-Q3 2024'!BH:BH,0,0)","v":0},{"$f":"_xlfn.XLOOKUP($K23,'OF Statistics 2011-Q3 2024'!$B:$B,'OF Statistics 2011-Q3 2024'!BI:BI,0,0)","v":0},{"$f":"_xlfn.XLOOKUP($K23,'OF Statistics 2011-Q3 2024'!$B:$B,'OF Statistics 2011-Q3 2024'!BJ:BJ,0,0)","v":0},{"$f":"_xlfn.XLOOKUP($K23,'OF Statistics 2011-Q3 2024'!$B:$B,'OF Statistics 2011-Q3 2024'!BK:BK,0,0)","v":0},{"$f":"_xlfn.XLOOKUP($K23,'OF Statistics 2011-Q3 2024'!$B:$B,'OF Statistics 2011-Q3 2024'!BL:BL,0,0)","v":0}]
[null,16,"    Hornsea 2",null,null,null,null,null,null,21,"    Gode Wind 3","Germany",null,null,null,{"$f":"'OF Asset Book'!G48","v":94},null,{"$f":"_xlfn.XLOOKUP($K24,'OF Statistics 2011-Q3 2024'!$B:$B,'OF Statistics 2011-Q3 2024'!E:E,0,0)","v":0},{"$f":"_xlfn.XLOOKUP($K24,'OF Statistics 2011-Q3 2024'!$B:$B,'OF Statistics 2011-Q3 2024'!F:F,0,0)","v":206.81896443750099},{"$f":"_xlfn.XLOOKUP($K24,'OF Statistics 2011-Q3 2024'!$B:$B,'OF Statistics 2011-Q3 2024'!G:G,0,0)","v":0},{"$f":"_xlfn.XLOOKUP($K24,'OF Statistics 2011-Q3 2024'!$B:$B,'OF Statistics 2011-Q3 2024'!H:H,0,0)","v":0},{"$f":"_xlfn.XLOOKUP($K24,'OF Statistics 2011-Q3 2024'!$B:$B,'OF Statistics 2011-Q3 2024'!I:I,0,0)","v":0},{"$f":"_xlfn.XLOOKUP($K24,'OF Statistics 2011-Q3 2024'!$B:$B,'OF Statistics 2011-Q3 2024'!J:J,0,0)","v":0},{"$f":"_xlfn.XLOOKUP($K24,'OF Statistics 2011-Q3 2024'!$B:$B,'OF Statistics 2011-Q3 2024'!K:K,0,0)","v":0},{"$f":"_xlfn.XLOOKUP($K24,'OF Statistics 2011-Q3 2024'!$B:$B,'OF Statistics 2011-Q3 2024'!L:L,0,0)","v":0},{"$f":"_xlfn.XLOOKUP($K24,'OF Statistics 2011-Q3 2024'!$B:$B,'OF Statistics 2011-Q3 2024'!M:M,0,0)","v":0},{"$f":"_xlfn.XLOOKUP($K24,'OF Statistics 2011-Q3 2024'!$B:$B,'OF Statistics 2011-Q3 2024'!N:N,0,0)","v":0},{"$f":"_xlfn.XLOOKUP($K24,'OF Statistics 2011-Q3 2024'!$B:$B,'OF Statistics 2011-Q3 2024'!O:O,0,0)","v":0},{"$f":"_xlfn.XLOOKUP($K24,'OF Statistics 2011-Q3 2024'!$B:$B,'OF Statistics 2011-Q3 2024'!P:P,0,0)","v":0},{"$f":"_xlfn.XLOOKUP($K24,'OF Statistics 2011-Q3 2024'!$B:$B,'OF Statistics 2011-Q3 2024'!Q:Q,0,0)","v":0},{"$f":"_xlfn.XLOOKUP($K24,'OF Statistics 2011-Q3 2024'!$B:$B,'OF Statistics 2011-Q3 2024'!R:R,0,0)","v":0},{"$f":"_xlfn.XLOOKUP($K24,'OF Statistics 2011-Q3 2024'!$B:$B,'OF Statistics 2011-Q3 2024'!S:S,0,0)","v":0},{"$f":"_xlfn.XLOOKUP($K24,'OF Statistics 2011-Q3 2024'!$B:$B,'OF Statistics 2011-Q3 2024'!T:T,0,0)","v":0},{"$f":"_xlfn.XLOOKUP($K24,'OF Statistics 2011-Q3 2024'!$B:$B,'OF Statistics 2011-Q3 2024'!U:U,0,0)","v":74.177019999999999},{"$f":"_xlfn.XLOOKUP($K24,'OF Statistics 2011-Q3 2024'!$B:$B,'OF Statistics 2011-Q3 2024'!V:V,0,0)","v":14.6},{"$f":"_xlfn.XLOOKUP($K24,'OF Statistics 2011-Q3 2024'!$B:$B,'OF Statistics 2011-Q3 2024'!W:W,0,0)","v":0},{"$f":"_xlfn.XLOOKUP($K24,'OF Statistics 2011-Q3 2024'!$B:$B,'OF Statistics 2011-Q3 2024'!X:X,0,0)","v":0},{"$f":"_xlfn.XLOOKUP($K24,'OF Statistics 2011-Q3 2024'!$B:$B,'OF Statistics 2011-Q3 2024'!Y:Y,0,0)","v":0},{"$f":"_xlfn.XLOOKUP($K24,'OF Statistics 2011-Q3 2024'!$B:$B,'OF Statistics 2011-Q3 2024'!Z:Z,0,0)","v":0},{"$f":"_xlfn.XLOOKUP($K24,'OF Statistics 2011-Q3 2024'!$B:$B,'OF Statistics 2011-Q3 2024'!AA:AA,0,0)","v":0},{"$f":"_xlfn.XLOOKUP($K24,'OF Statistics 2011-Q3 2024'!$B:$B,'OF Statistics 2011-Q3 2024'!AB:AB,0,0)","v":0},{"$f":"_xlfn.XLOOKUP($K24,'OF Statistics 2011-Q3 2024'!$B:$B,'OF Statistics 2011-Q3 2024'!AC:AC,0,0)","v":0},{"$f":"_xlfn.XLOOKUP($K24,'OF Statistics 2011-Q3 2024'!$B:$B,'OF Statistics 2011-Q3 2024'!AD:AD,0,0)","v":0},{"$f":"_xlfn.XLOOKUP($K24,'OF Statistics 2011-Q3 2024'!$B:$B,'OF Statistics 2011-Q3 2024'!AE:AE,0,0)","v":0},{"$f":"_xlfn.XLOOKUP($K24,'OF Statistics 2011-Q3 2024'!$B:$B,'OF Statistics 2011-Q3 2024'!AF:AF,0,0)","v":0},{"$f":"_xlfn.XLOOKUP($K24,'OF Statistics 2011-Q3 2024'!$B:$B,'OF Statistics 2011-Q3 2024'!AG:AG,0,0)","v":0},{"$f":"_xlfn.XLOOKUP($K24,'OF Statistics 2011-Q3 2024'!$B:$B,'OF Statistics 2011-Q3 2024'!AH:AH,0,0)","v":0},{"$f":"_xlfn.XLOOKUP($K24,'OF Statistics 2011-Q3 2024'!$B:$B,'OF Statistics 2011-Q3 2024'!AI:AI,0,0)","v":0},{"$f":"_xlfn.XLOOKUP($K24,'OF Statistics 2011-Q3 2024'!$B:$B,'OF Statistics 2011-Q3 2024'!AJ:AJ,0,0)","v":0},{"$f":"_xlfn.XLOOKUP($K24,'OF Statistics 2011-Q3 2024'!$B:$B,'OF Statistics 2011-Q3 2024'!AK:AK,0,0)","v":0},{"$f":"_xlfn.XLOOKUP($K24,'OF Statistics 2011-Q3 2024'!$B:$B,'OF Statistics 2011-Q3 2024'!AL:AL,0,0)","v":0},{"$f":"_xlfn.XLOOKUP($K24,'OF Statistics 2011-Q3 2024'!$B:$B,'OF Statistics 2011-Q3 2024'!AM:AM,0,0)","v":0},{"$f":"_xlfn.XLOOKUP($K24,'OF Statistics 2011-Q3 2024'!$B:$B,'OF Statistics 2011-Q3 2024'!AN:AN,0,0)","v":0},{"$f":"_xlfn.XLOOKUP($K24,'OF Statistics 2011-Q3 2024'!$B:$B,'OF Statistics 2011-Q3 2024'!AO:AO,0,0)","v":0},{"$f":"_xlfn.XLOOKUP($K24,'OF Statistics 2011-Q3 2024'!$B:$B,'OF Statistics 2011-Q3 2024'!AP:AP,0,0)","v":0},{"$f":"_xlfn.XLOOKUP($K24,'OF Statistics 2011-Q3 2024'!$B:$B,'OF Statistics 2011-Q3 2024'!AQ:AQ,0,0)","v":0},{"$f":"_xlfn.XLOOKUP($K24,'OF Statistics 2011-Q3 2024'!$B:$B,'OF Statistics 2011-Q3 2024'!AR:AR,0,0)","v":0},{"$f":"_xlfn.XLOOKUP($K24,'OF Statistics 2011-Q3 2024'!$B:$B,'OF Statistics 2011-Q3 2024'!AS:AS,0,0)","v":0},{"$f":"_xlfn.XLOOKUP($K24,'OF Statistics 2011-Q3 2024'!$B:$B,'OF Statistics 2011-Q3 2024'!AT:AT,0,0)","v":0},{"$f":"_xlfn.XLOOKUP($K24,'OF Statistics 2011-Q3 2024'!$B:$B,'OF Statistics 2011-Q3 2024'!AU:AU,0,0)","v":0},{"$f":"_xlfn.XLOOKUP($K24,'OF Statistics 2011-Q3 2024'!$B:$B,'OF Statistics 2011-Q3 2024'!AV:AV,0,0)","v":0},{"$f":"_xlfn.XLOOKUP($K24,'OF Statistics 2011-Q3 2024'!$B:$B,'OF Statistics 2011-Q3 2024'!AW:AW,0,0)","v":0},{"$f":"_xlfn.XLOOKUP($K24,'OF Statistics 2011-Q3 2024'!$B:$B,'OF Statistics 2011-Q3 2024'!AX:AX,0,0)","v":0},{"$f":"_xlfn.XLOOKUP($K24,'OF Statistics 2011-Q3 2024'!$B:$B,'OF Statistics 2011-Q3 2024'!AY:AY,0,0)","v":0},{"$f":"_xlfn.XLOOKUP($K24,'OF Statistics 2011-Q3 2024'!$B:$B,'OF Statistics 2011-Q3 2024'!AZ:AZ,0,0)","v":0},{"$f":"_xlfn.XLOOKUP($K24,'OF Statistics 2011-Q3 2024'!$B:$B,'OF Statistics 2011-Q3 2024'!BA:BA,0,0)","v":0},{"$f":"_xlfn.XLOOKUP($K24,'OF Statistics 2011-Q3 2024'!$B:$B,'OF Statistics 2011-Q3 2024'!BB:BB,0,0)","v":0},{"$f":"_xlfn.XLOOKUP($K24,'OF Statistics 2011-Q3 2024'!$B:$B,'OF Statistics 2011-Q3 2024'!BC:BC,0,0)","v":0},{"$f":"_xlfn.XLOOKUP($K24,'OF Statistics 2011-Q3 2024'!$B:$B,'OF Statistics 2011-Q3 2024'!BD:BD,0,0)","v":0},{"$f":"_xlfn.XLOOKUP($K24,'OF Statistics 2011-Q3 2024'!$B:$B,'OF Statistics 2011-Q3 2024'!BE:BE,0,0)","v":0},{"$f":"_xlfn.XLOOKUP($K24,'OF Statistics 2011-Q3 2024'!$B:$B,'OF Statistics 2011-Q3 2024'!BF:BF,0,0)","v":0},{"$f":"_xlfn.XLOOKUP($K24,'OF Statistics 2011-Q3 2024'!$B:$B,'OF Statistics 2011-Q3 2024'!BG:BG,0,0)","v":0},{"$f":"_xlfn.XLOOKUP($K24,'OF Statistics 2011-Q3 2024'!$B:$B,'OF Statistics 2011-Q3 2024'!BH:BH,0,0)","v":0},{"$f":"_xlfn.XLOOKUP($K24,'OF Statistics 2011-Q3 2024'!$B:$B,'OF Statistics 2011-Q3 2024'!BI:BI,0,0)","v":0},{"$f":"_xlfn.XLOOKUP($K24,'OF Statistics 2011-Q3 2024'!$B:$B,'OF Statistics 2011-Q3 2024'!BJ:BJ,0,0)","v":0},{"$f":"_xlfn.XLOOKUP($K24,'OF Statistics 2011-Q3 2024'!$B:$B,'OF Statistics 2011-Q3 2024'!BK:BK,0,0)","v":0},{"$f":"_xlfn.XLOOKUP($K24,'OF Statistics 2011-Q3 2024'!$B:$B,'OF Statistics 2011-Q3 2024'!BL:BL,0,0)","v":0}]
[null,null,"Sub total",null,null,null,null,null,null,22,"     Borssele 1&2",{"$f":"C35","v":"Netherlands"},null,null,null,{"$f":"'OF Asset Book'!G64","v":376},null,{"$f":"_xlfn.XLOOKUP($K25,'OF Statistics 2011-Q3 2024'!$B:$B,'OF Statistics 2011-Q3 2024'!E:E,0,0)","v":0},{"$f":"_xlfn.XLOOKUP($K25,'OF Statistics 2011-Q3 2024'!$B:$B,'OF Statistics 2011-Q3 2024'!F:F,0,0)","v":1332.6333749999999},{"$f":"_xlfn.XLOOKUP($K25,'OF Statistics 2011-Q3 2024'!$B:$B,'OF Statistics 2011-Q3 2024'!G:G,0,0)","v":1449.05},{"$f":"_xlfn.XLOOKUP($K25,'OF Statistics 2011-Q3 2024'!$B:$B,'OF Statistics 2011-Q3 2024'!H:H,0,0)","v":1258.92},{"$f":"_xlfn.XLOOKUP($K25,'OF Statistics 2011-Q3 2024'!$B:$B,'OF Statistics 2011-Q3 2024'!I:I,0,0)","v":1904.5},{"$f":"_xlfn.XLOOKUP($K25,'OF Statistics 2011-Q3 2024'!$B:$B,'OF Statistics 2011-Q3 2024'!J:J,0,0)","v":1206.948676},{"$f":"_xlfn.XLOOKUP($K25,'OF Statistics 2011-Q3 2024'!$B:$B,'OF Statistics 2011-Q3 2024'!K:K,0,0)","v":0},{"$f":"_xlfn.XLOOKUP($K25,'OF Statistics 2011-Q3 2024'!$B:$B,'OF Statistics 2011-Q3 2024'!L:L,0,0)","v":0},{"$f":"_xlfn.XLOOKUP($K25,'OF Statistics 2011-Q3 2024'!$B:$B,'OF Statistics 2011-Q3 2024'!M:M,0,0)","v":0},{"$f":"_xlfn.XLOOKUP($K25,'OF Statistics 2011-Q3 2024'!$B:$B,'OF Statistics 2011-Q3 2024'!N:N,0,0)","v":0},{"$f":"_xlfn.XLOOKUP($K25,'OF Statistics 2011-Q3 2024'!$B:$B,'OF Statistics 2011-Q3 2024'!O:O,0,0)","v":0},{"$f":"_xlfn.XLOOKUP($K25,'OF Statistics 2011-Q3 2024'!$B:$B,'OF Statistics 2011-Q3 2024'!P:P,0,0)","v":0},{"$f":"_xlfn.XLOOKUP($K25,'OF Statistics 2011-Q3 2024'!$B:$B,'OF Statistics 2011-Q3 2024'!Q:Q,0,0)","v":0},{"$f":"_xlfn.XLOOKUP($K25,'OF Statistics 2011-Q3 2024'!$B:$B,'OF Statistics 2011-Q3 2024'!R:R,0,0)","v":0},{"$f":"_xlfn.XLOOKUP($K25,'OF Statistics 2011-Q3 2024'!$B:$B,'OF Statistics 2011-Q3 2024'!S:S,0,0)","v":0},{"$f":"_xlfn.XLOOKUP($K25,'OF Statistics 2011-Q3 2024'!$B:$B,'OF Statistics 2011-Q3 2024'!T:T,0,0)","v":0},{"$f":"_xlfn.XLOOKUP($K25,'OF Statistics 2011-Q3 2024'!$B:$B,'OF Statistics 2011-Q3 2024'!U:U,0,0)","v":257.77},{"$f":"_xlfn.XLOOKUP($K25,'OF Statistics 2011-Q3 2024'!$B:$B,'OF Statistics 2011-Q3 2024'!V:V,0,0)","v":269.08999999999997},{"$f":"_xlfn.XLOOKUP($K25,'OF Statistics 2011-Q3 2024'!$B:$B,'OF Statistics 2011-Q3 2024'!W:W,0,0)","v":444},{"$f":"_xlfn.XLOOKUP($K25,'OF Statistics 2011-Q3 2024'!$B:$B,'OF Statistics 2011-Q3 2024'!X:X,0,0)","v":489.76},{"$f":"_xlfn.XLOOKUP($K25,'OF Statistics 2011-Q3 2024'!$B:$B,'OF Statistics 2011-Q3 2024'!Y:Y,0,0)","v":259.45999999999998},{"$f":"_xlfn.XLOOKUP($K25,'OF Statistics 2011-Q3 2024'!$B:$B,'OF Statistics 2011-Q3 2024'!Z:Z,0,0)","v":288.08},{"$f":"_xlfn.XLOOKUP($K25,'OF Statistics 2011-Q3 2024'!$B:$B,'OF Statistics 2011-Q3 2024'!AA:AA,0,0)","v":411.75},{"$f":"_xlfn.XLOOKUP($K25,'OF Statistics 2011-Q3 2024'!$B:$B,'OF Statistics 2011-Q3 2024'!AB:AB,0,0)","v":400.87},{"$f":"_xlfn.XLOOKUP($K25,'OF Statistics 2011-Q3 2024'!$B:$B,'OF Statistics 2011-Q3 2024'!AC:AC,0,0)","v":197},{"$f":"_xlfn.XLOOKUP($K25,'OF Statistics 2011-Q3 2024'!$B:$B,'OF Statistics 2011-Q3 2024'!AD:AD,0,0)","v":261.64999999999998},{"$f":"_xlfn.XLOOKUP($K25,'OF Statistics 2011-Q3 2024'!$B:$B,'OF Statistics 2011-Q3 2024'!AE:AE,0,0)","v":399.97},{"$f":"_xlfn.XLOOKUP($K25,'OF Statistics 2011-Q3 2024'!$B:$B,'OF Statistics 2011-Q3 2024'!AF:AF,0,0)","v":383.12},{"$f":"_xlfn.XLOOKUP($K25,'OF Statistics 2011-Q3 2024'!$B:$B,'OF Statistics 2011-Q3 2024'!AG:AG,0,0)","v":235.11},{"$f":"_xlfn.XLOOKUP($K25,'OF Statistics 2011-Q3 2024'!$B:$B,'OF Statistics 2011-Q3 2024'!AH:AH,0,0)","v":451.16110754005001},{"$f":"_xlfn.XLOOKUP($K25,'OF Statistics 2011-Q3 2024'!$B:$B,'OF Statistics 2011-Q3 2024'!AI:AI,0,0)","v":835.1},{"$f":"_xlfn.XLOOKUP($K25,'OF Statistics 2011-Q3 2024'!$B:$B,'OF Statistics 2011-Q3 2024'!AJ:AJ,0,0)","v":835.1},{"$f":"_xlfn.XLOOKUP($K25,'OF Statistics 2011-Q3 2024'!$B:$B,'OF Statistics 2011-Q3 2024'!AK:AK,0,0)","v":308.2},{"$f":"_xlfn.XLOOKUP($K25,'OF Statistics 2011-Q3 2024'!$B:$B,'OF Statistics 2011-Q3 2024'!AL:AL,0,0)","v":63.4},{"$f":"_xlfn.XLOOKUP($K25,'OF Statistics 2011-Q3 2024'!$B:$B,'OF Statistics 2011-Q3 2024'!AM:AM,0,0)","v":0},{"$f":"_xlfn.XLOOKUP($K25,'OF Statistics 2011-Q3 2024'!$B:$B,'OF Statistics 2011-Q3 2024'!AN:AN,0,0)","v":0},{"$f":"_xlfn.XLOOKUP($K25,'OF Statistics 2011-Q3 2024'!$B:$B,'OF Statistics 2011-Q3 2024'!AO:AO,0,0)","v":0},{"$f":"_xlfn.XLOOKUP($K25,'OF Statistics 2011-Q3 2024'!$B:$B,'OF Statistics 2011-Q3 2024'!AP:AP,0,0)","v":0},{"$f":"_xlfn.XLOOKUP($K25,'OF Statistics 2011-Q3 2024'!$B:$B,'OF Statistics 2011-Q3 2024'!AQ:AQ,0,0)","v":0},{"$f":"_xlfn.XLOOKUP($K25,'OF Statistics 2011-Q3 2024'!$B:$B,'OF Statistics 2011-Q3 2024'!AR:AR,0,0)","v":0},{"$f":"_xlfn.XLOOKUP($K25,'OF Statistics 2011-Q3 2024'!$B:$B,'OF Statistics 2011-Q3 2024'!AS:AS,0,0)","v":0},{"$f":"_xlfn.XLOOKUP($K25,'OF Statistics 2011-Q3 2024'!$B:$B,'OF Statistics 2011-Q3 2024'!AT:AT,0,0)","v":0},{"$f":"_xlfn.XLOOKUP($K25,'OF Statistics 2011-Q3 2024'!$B:$B,'OF Statistics 2011-Q3 2024'!AU:AU,0,0)","v":0},{"$f":"_xlfn.XLOOKUP($K25,'OF Statistics 2011-Q3 2024'!$B:$B,'OF Statistics 2011-Q3 2024'!AV:AV,0,0)","v":0},{"$f":"_xlfn.XLOOKUP($K25,'OF Statistics 2011-Q3 2024'!$B:$B,'OF Statistics 2011-Q3 2024'!AW:AW,0,0)","v":0},{"$f":"_xlfn.XLOOKUP($K25,'OF Statistics 2011-Q3 2024'!$B:$B,'OF Statistics 2011-Q3 2024'!AX:AX,0,0)","v":0},{"$f":"_xlfn.XLOOKUP($K25,'OF Statistics 2011-Q3 2024'!$B:$B,'OF Statistics 2011-Q3 2024'!AY:AY,0,0)","v":0},{"$f":"_xlfn.XLOOKUP($K25,'OF Statistics 2011-Q3 2024'!$B:$B,'OF Statistics 2011-Q3 2024'!AZ:AZ,0,0)","v":0},{"$f":"_xlfn.XLOOKUP($K25,'OF Statistics 2011-Q3 2024'!$B:$B,'OF Statistics 2011-Q3 2024'!BA:BA,0,0)","v":0},{"$f":"_xlfn.XLOOKUP($K25,'OF Statistics 2011-Q3 2024'!$B:$B,'OF Statistics 2011-Q3 2024'!BB:BB,0,0)","v":0},{"$f":"_xlfn.XLOOKUP($K25,'OF Statistics 2011-Q3 2024'!$B:$B,'OF Statistics 2011-Q3 2024'!BC:BC,0,0)","v":0},{"$f":"_xlfn.XLOOKUP($K25,'OF Statistics 2011-Q3 2024'!$B:$B,'OF Statistics 2011-Q3 2024'!BD:BD,0,0)","v":0},{"$f":"_xlfn.XLOOKUP($K25,'OF Statistics 2011-Q3 2024'!$B:$B,'OF Statistics 2011-Q3 2024'!BE:BE,0,0)","v":0},{"$f":"_xlfn.XLOOKUP($K25,'OF Statistics 2011-Q3 2024'!$B:$B,'OF Statistics 2011-Q3 2024'!BF:BF,0,0)","v":0},{"$f":"_xlfn.XLOOKUP($K25,'OF Statistics 2011-Q3 2024'!$B:$B,'OF Statistics 2011-Q3 2024'!BG:BG,0,0)","v":0},{"$f":"_xlfn.XLOOKUP($K25,'OF Statistics 2011-Q3 2024'!$B:$B,'OF Statistics 2011-Q3 2024'!BH:BH,0,0)","v":0},{"$f":"_xlfn.XLOOKUP($K25,'OF Statistics 2011-Q3 2024'!$B:$B,'OF Statistics 2011-Q3 2024'!BI:BI,0,0)","v":0},{"$f":"_xlfn.XLOOKUP($K25,'OF Statistics 2011-Q3 2024'!$B:$B,'OF Statistics 2011-Q3 2024'!BJ:BJ,0,0)","v":0},{"$f":"_xlfn.XLOOKUP($K25,'OF Statistics 2011-Q3 2024'!$B:$B,'OF Statistics 2011-Q3 2024'!BK:BK,0,0)","v":0},{"$f":"_xlfn.XLOOKUP($K25,'OF Statistics 2011-Q3 2024'!$B:$B,'OF Statistics 2011-Q3 2024'!BL:BL,0,0)","v":0}]
[null,null,null,null,null,null,null,null,null,23,"    Block Island",{"$f":"C39","v":"United States"},null,null,null,{"$f":"'OF Asset Book'!G54","v":30},null,{"$f":"_xlfn.XLOOKUP($K26,'OF Statistics 2011-Q3 2024'!$B:$B,'OF Statistics 2011-Q3 2024'!E:E,0,0)","v":0},{"$f":"_xlfn.XLOOKUP($K26,'OF Statistics 2011-Q3 2024'!$B:$B,'OF Statistics 2011-Q3 2024'!F:F,0,0)","v":92.233620000000002},{"$f":"_xlfn.XLOOKUP($K26,'OF Statistics 2011-Q3 2024'!$B:$B,'OF Statistics 2011-Q3 2024'!G:G,0,0)","v":86.6},{"$f":"_xlfn.XLOOKUP($K26,'OF Statistics 2011-Q3 2024'!$B:$B,'OF Statistics 2011-Q3 2024'!H:H,0,0)","v":109.79},{"$f":"_xlfn.XLOOKUP($K26,'OF Statistics 2011-Q3 2024'!$B:$B,'OF Statistics 2011-Q3 2024'!I:I,0,0)","v":83.78},{"$f":"_xlfn.XLOOKUP($K26,'OF Statistics 2011-Q3 2024'!$B:$B,'OF Statistics 2011-Q3 2024'!J:J,0,0)","v":120},{"$f":"_xlfn.XLOOKUP($K26,'OF Statistics 2011-Q3 2024'!$B:$B,'OF Statistics 2011-Q3 2024'!K:K,0,0)","v":120},{"$f":"_xlfn.XLOOKUP($K26,'OF Statistics 2011-Q3 2024'!$B:$B,'OF Statistics 2011-Q3 2024'!L:L,0,0)","v":22.8},{"$f":"_xlfn.XLOOKUP($K26,'OF Statistics 2011-Q3 2024'!$B:$B,'OF Statistics 2011-Q3 2024'!M:M,0,0)","v":0},{"$f":"_xlfn.XLOOKUP($K26,'OF Statistics 2011-Q3 2024'!$B:$B,'OF Statistics 2011-Q3 2024'!N:N,0,0)","v":0},{"$f":"_xlfn.XLOOKUP($K26,'OF Statistics 2011-Q3 2024'!$B:$B,'OF Statistics 2011-Q3 2024'!O:O,0,0)","v":0},{"$f":"_xlfn.XLOOKUP($K26,'OF Statistics 2011-Q3 2024'!$B:$B,'OF Statistics 2011-Q3 2024'!P:P,0,0)","v":0},{"$f":"_xlfn.XLOOKUP($K26,'OF Statistics 2011-Q3 2024'!$B:$B,'OF Statistics 2011-Q3 2024'!Q:Q,0,0)","v":0},{"$f":"_xlfn.XLOOKUP($K26,'OF Statistics 2011-Q3 2024'!$B:$B,'OF Statistics 2011-Q3 2024'!R:R,0,0)","v":0},{"$f":"_xlfn.XLOOKUP($K26,'OF Statistics 2011-Q3 2024'!$B:$B,'OF Statistics 2011-Q3 2024'!S:S,0,0)","v":0},{"$f":"_xlfn.XLOOKUP($K26,'OF Statistics 2011-Q3 2024'!$B:$B,'OF Statistics 2011-Q3 2024'!T:T,0,0)","v":0},{"$f":"_xlfn.XLOOKUP($K26,'OF Statistics 2011-Q3 2024'!$B:$B,'OF Statistics 2011-Q3 2024'!U:U,0,0)","v":16.078610999999995},{"$f":"_xlfn.XLOOKUP($K26,'OF Statistics 2011-Q3 2024'!$B:$B,'OF Statistics 2011-Q3 2024'!V:V,0,0)","v":22.12},{"$f":"_xlfn.XLOOKUP($K26,'OF Statistics 2011-Q3 2024'!$B:$B,'OF Statistics 2011-Q3 2024'!W:W,0,0)","v":31.47},{"$f":"_xlfn.XLOOKUP($K26,'OF Statistics 2011-Q3 2024'!$B:$B,'OF Statistics 2011-Q3 2024'!X:X,0,0)","v":25.14},{"$f":"_xlfn.XLOOKUP($K26,'OF Statistics 2011-Q3 2024'!$B:$B,'OF Statistics 2011-Q3 2024'!Y:Y,0,0)","v":15.67},{"$f":"_xlfn.XLOOKUP($K26,'OF Statistics 2011-Q3 2024'!$B:$B,'OF Statistics 2011-Q3 2024'!Z:Z,0,0)","v":17.66},{"$f":"_xlfn.XLOOKUP($K26,'OF Statistics 2011-Q3 2024'!$B:$B,'OF Statistics 2011-Q3 2024'!AA:AA,0,0)","v":28.13},{"$f":"_xlfn.XLOOKUP($K26,'OF Statistics 2011-Q3 2024'!$B:$B,'OF Statistics 2011-Q3 2024'!AB:AB,0,0)","v":33.68},{"$f":"_xlfn.XLOOKUP($K26,'OF Statistics 2011-Q3 2024'!$B:$B,'OF Statistics 2011-Q3 2024'!AC:AC,0,0)","v":21.33},{"$f":"_xlfn.XLOOKUP($K26,'OF Statistics 2011-Q3 2024'!$B:$B,'OF Statistics 2011-Q3 2024'!AD:AD,0,0)","v":20.46},{"$f":"_xlfn.XLOOKUP($K26,'OF Statistics 2011-Q3 2024'!$B:$B,'OF Statistics 2011-Q3 2024'!AE:AE,0,0)","v":34.310231999999999},{"$f":"_xlfn.XLOOKUP($K26,'OF Statistics 2011-Q3 2024'!$B:$B,'OF Statistics 2011-Q3 2024'!AF:AF,0,0)","v":20.399999999999999},{"$f":"_xlfn.XLOOKUP($K26,'OF Statistics 2011-Q3 2024'!$B:$B,'OF Statistics 2011-Q3 2024'!AG:AG,0,0)","v":5.59},{"$f":"_xlfn.XLOOKUP($K26,'OF Statistics 2011-Q3 2024'!$B:$B,'OF Statistics 2011-Q3 2024'!AH:AH,0,0)","v":25.646661999999999},{"$f":"_xlfn.XLOOKUP($K26,'OF Statistics 2011-Q3 2024'!$B:$B,'OF Statistics 2011-Q3 2024'!AI:AI,0,0)","v":32.1},{"$f":"_xlfn.XLOOKUP($K26,'OF Statistics 2011-Q3 2024'!$B:$B,'OF Statistics 2011-Q3 2024'!AJ:AJ,0,0)","v":33.799999999999997},{"$f":"_xlfn.XLOOKUP($K26,'OF Statistics 2011-Q3 2024'!$B:$B,'OF Statistics 2011-Q3 2024'!AK:AK,0,0)","v":20},{"$f":"_xlfn.XLOOKUP($K26,'OF Statistics 2011-Q3 2024'!$B:$B,'OF Statistics 2011-Q3 2024'!AL:AL,0,0)","v":33.799999999999997},{"$f":"_xlfn.XLOOKUP($K26,'OF Statistics 2011-Q3 2024'!$B:$B,'OF Statistics 2011-Q3 2024'!AM:AM,0,0)","v":32},{"$f":"_xlfn.XLOOKUP($K26,'OF Statistics 2011-Q3 2024'!$B:$B,'OF Statistics 2011-Q3 2024'!AN:AN,0,0)","v":35},{"$f":"_xlfn.XLOOKUP($K26,'OF Statistics 2011-Q3 2024'!$B:$B,'OF Statistics 2011-Q3 2024'!AO:AO,0,0)","v":22.2},{"$f":"_xlfn.XLOOKUP($K26,'OF Statistics 2011-Q3 2024'!$B:$B,'OF Statistics 2011-Q3 2024'!AP:AP,0,0)","v":31},{"$f":"_xlfn.XLOOKUP($K26,'OF Statistics 2011-Q3 2024'!$B:$B,'OF Statistics 2011-Q3 2024'!AQ:AQ,0,0)","v":31.8},{"$f":"_xlfn.XLOOKUP($K26,'OF Statistics 2011-Q3 2024'!$B:$B,'OF Statistics 2011-Q3 2024'!AR:AR,0,0)","v":22.8},{"$f":"_xlfn.XLOOKUP($K26,'OF Statistics 2011-Q3 2024'!$B:$B,'OF Statistics 2011-Q3 2024'!AS:AS,0,0)","v":0},{"$f":"_xlfn.XLOOKUP($K26,'OF Statistics 2011-Q3 2024'!$B:$B,'OF Statistics 2011-Q3 2024'!AT:AT,0,0)","v":0},{"$f":"_xlfn.XLOOKUP($K26,'OF Statistics 2011-Q3 2024'!$B:$B,'OF Statistics 2011-Q3 2024'!AU:AU,0,0)","v":0},{"$f":"_xlfn.XLOOKUP($K26,'OF Statistics 2011-Q3 2024'!$B:$B,'OF Statistics 2011-Q3 2024'!AV:AV,0,0)","v":0},{"$f":"_xlfn.XLOOKUP($K26,'OF Statistics 2011-Q3 2024'!$B:$B,'OF Statistics 2011-Q3 2024'!AW:AW,0,0)","v":0},{"$f":"_xlfn.XLOOKUP($K26,'OF Statistics 2011-Q3 2024'!$B:$B,'OF Statistics 2011-Q3 2024'!AX:AX,0,0)","v":0},{"$f":"_xlfn.XLOOKUP($K26,'OF Statistics 2011-Q3 2024'!$B:$B,'OF Statistics 2011-Q3 2024'!AY:AY,0,0)","v":0},{"$f":"_xlfn.XLOOKUP($K26,'OF Statistics 2011-Q3 2024'!$B:$B,'OF Statistics 2011-Q3 2024'!AZ:AZ,0,0)","v":0},{"$f":"_xlfn.XLOOKUP($K26,'OF Statistics 2011-Q3 2024'!$B:$B,'OF Statistics 2011-Q3 2024'!BA:BA,0,0)","v":0},{"$f":"_xlfn.XLOOKUP($K26,'OF Statistics 2011-Q3 2024'!$B:$B,'OF Statistics 2011-Q3 2024'!BB:BB,0,0)","v":0},{"$f":"_xlfn.XLOOKUP($K26,'OF Statistics 2011-Q3 2024'!$B:$B,'OF Statistics 2011-Q3 2024'!BC:BC,0,0)","v":0},{"$f":"_xlfn.XLOOKUP($K26,'OF Statistics 2011-Q3 2024'!$B:$B,'OF Statistics 2011-Q3 2024'!BD:BD,0,0)","v":0},{"$f":"_xlfn.XLOOKUP($K26,'OF Statistics 2011-Q3 2024'!$B:$B,'OF Statistics 2011-Q3 2024'!BE:BE,0,0)","v":0},{"$f":"_xlfn.XLOOKUP($K26,'OF Statistics 2011-Q3 2024'!$B:$B,'OF Statistics 2011-Q3 2024'!BF:BF,0,0)","v":0},{"$f":"_xlfn.XLOOKUP($K26,'OF Statistics 2011-Q3 2024'!$B:$B,'OF Statistics 2011-Q3 2024'!BG:BG,0,0)","v":0},{"$f":"_xlfn.XLOOKUP($K26,'OF Statistics 2011-Q3 2024'!$B:$B,'OF Statistics 2011-Q3 2024'!BH:BH,0,0)","v":0},{"$f":"_xlfn.XLOOKUP($K26,'OF Statistics 2011-Q3 2024'!$B:$B,'OF Statistics 2011-Q3 2024'!BI:BI,0,0)","v":0},{"$f":"_xlfn.XLOOKUP($K26,'OF Statistics 2011-Q3 2024'!$B:$B,'OF Statistics 2011-Q3 2024'!BJ:BJ,0,0)","v":0},{"$f":"_xlfn.XLOOKUP($K26,'OF Statistics 2011-Q3 2024'!$B:$B,'OF Statistics 2011-Q3 2024'!BK:BK,0,0)","v":0},{"$f":"_xlfn.XLOOKUP($K26,'OF Statistics 2011-Q3 2024'!$B:$B,'OF Statistics 2011-Q3 2024'!BL:BL,0,0)","v":0}]
[null,null,"Germany",null,null,null,null,null,null,24,"    South Fork",{"$f":"C39","v":"United States"},null,null,null,{"$f":"'OF Asset Book'!G55","v":66},null,{"$f":"_xlfn.XLOOKUP($K27,'OF Statistics 2011-Q3 2024'!$B:$B,'OF Statistics 2011-Q3 2024'!E:E,0,0)","v":0},{"$f":"_xlfn.XLOOKUP($K27,'OF Statistics 2011-Q3 2024'!$B:$B,'OF Statistics 2011-Q3 2024'!F:F,0,0)","v":179.568285},{"$f":"_xlfn.XLOOKUP($K27,'OF Statistics 2011-Q3 2024'!$B:$B,'OF Statistics 2011-Q3 2024'!G:G,0,0)","v":1.1100000000000001},{"$f":"_xlfn.XLOOKUP($K27,'OF Statistics 2011-Q3 2024'!$B:$B,'OF Statistics 2011-Q3 2024'!H:H,0,0)","v":0},{"$f":"_xlfn.XLOOKUP($K27,'OF Statistics 2011-Q3 2024'!$B:$B,'OF Statistics 2011-Q3 2024'!I:I,0,0)","v":0},{"$f":"_xlfn.XLOOKUP($K27,'OF Statistics 2011-Q3 2024'!$B:$B,'OF Statistics 2011-Q3 2024'!J:J,0,0)","v":0},{"$f":"_xlfn.XLOOKUP($K27,'OF Statistics 2011-Q3 2024'!$B:$B,'OF Statistics 2011-Q3 2024'!K:K,0,0)","v":0},{"$f":"_xlfn.XLOOKUP($K27,'OF Statistics 2011-Q3 2024'!$B:$B,'OF Statistics 2011-Q3 2024'!L:L,0,0)","v":0},{"$f":"_xlfn.XLOOKUP($K27,'OF Statistics 2011-Q3 2024'!$B:$B,'OF Statistics 2011-Q3 2024'!M:M,0,0)","v":0},{"$f":"_xlfn.XLOOKUP($K27,'OF Statistics 2011-Q3 2024'!$B:$B,'OF Statistics 2011-Q3 2024'!N:N,0,0)","v":0},{"$f":"_xlfn.XLOOKUP($K27,'OF Statistics 2011-Q3 2024'!$B:$B,'OF Statistics 2011-Q3 2024'!O:O,0,0)","v":0},{"$f":"_xlfn.XLOOKUP($K27,'OF Statistics 2011-Q3 2024'!$B:$B,'OF Statistics 2011-Q3 2024'!P:P,0,0)","v":0},{"$f":"_xlfn.XLOOKUP($K27,'OF Statistics 2011-Q3 2024'!$B:$B,'OF Statistics 2011-Q3 2024'!Q:Q,0,0)","v":0},{"$f":"_xlfn.XLOOKUP($K27,'OF Statistics 2011-Q3 2024'!$B:$B,'OF Statistics 2011-Q3 2024'!R:R,0,0)","v":0},{"$f":"_xlfn.XLOOKUP($K27,'OF Statistics 2011-Q3 2024'!$B:$B,'OF Statistics 2011-Q3 2024'!S:S,0,0)","v":0},{"$f":"_xlfn.XLOOKUP($K27,'OF Statistics 2011-Q3 2024'!$B:$B,'OF Statistics 2011-Q3 2024'!T:T,0,0)","v":0},{"$f":"_xlfn.XLOOKUP($K27,'OF Statistics 2011-Q3 2024'!$B:$B,'OF Statistics 2011-Q3 2024'!U:U,0,0)","v":32.060799999999986},{"$f":"_xlfn.XLOOKUP($K27,'OF Statistics 2011-Q3 2024'!$B:$B,'OF Statistics 2011-Q3 2024'!V:V,0,0)","v":47.9},{"$f":"_xlfn.XLOOKUP($K27,'OF Statistics 2011-Q3 2024'!$B:$B,'OF Statistics 2011-Q3 2024'!W:W,0,0)","v":29.49},{"$f":"_xlfn.XLOOKUP($K27,'OF Statistics 2011-Q3 2024'!$B:$B,'OF Statistics 2011-Q3 2024'!X:X,0,0)","v":1.1100000000000001},{"$f":"_xlfn.XLOOKUP($K27,'OF Statistics 2011-Q3 2024'!$B:$B,'OF Statistics 2011-Q3 2024'!Y:Y,0,0)","v":0},{"$f":"_xlfn.XLOOKUP($K27,'OF Statistics 2011-Q3 2024'!$B:$B,'OF Statistics 2011-Q3 2024'!Z:Z,0,0)","v":0},{"$f":"_xlfn.XLOOKUP($K27,'OF Statistics 2011-Q3 2024'!$B:$B,'OF Statistics 2011-Q3 2024'!AA:AA,0,0)","v":0},{"$f":"_xlfn.XLOOKUP($K27,'OF Statistics 2011-Q3 2024'!$B:$B,'OF Statistics 2011-Q3 2024'!AB:AB,0,0)","v":0},{"$f":"_xlfn.XLOOKUP($K27,'OF Statistics 2011-Q3 2024'!$B:$B,'OF Statistics 2011-Q3 2024'!AC:AC,0,0)","v":0},{"$f":"_xlfn.XLOOKUP($K27,'OF Statistics 2011-Q3 2024'!$B:$B,'OF Statistics 2011-Q3 2024'!AD:AD,0,0)","v":0},{"$f":"_xlfn.XLOOKUP($K27,'OF Statistics 2011-Q3 2024'!$B:$B,'OF Statistics 2011-Q3 2024'!AE:AE,0,0)","v":0},{"$f":"_xlfn.XLOOKUP($K27,'OF Statistics 2011-Q3 2024'!$B:$B,'OF Statistics 2011-Q3 2024'!AF:AF,0,0)","v":0},{"$f":"_xlfn.XLOOKUP($K27,'OF Statistics 2011-Q3 2024'!$B:$B,'OF Statistics 2011-Q3 2024'!AG:AG,0,0)","v":0},{"$f":"_xlfn.XLOOKUP($K27,'OF Statistics 2011-Q3 2024'!$B:$B,'OF Statistics 2011-Q3 2024'!AH:AH,0,0)","v":0},{"$f":"_xlfn.XLOOKUP($K27,'OF Statistics 2011-Q3 2024'!$B:$B,'OF Statistics 2011-Q3 2024'!AI:AI,0,0)","v":0},{"$f":"_xlfn.XLOOKUP($K27,'OF Statistics 2011-Q3 2024'!$B:$B,'OF Statistics 2011-Q3 2024'!AJ:AJ,0,0)","v":0},{"$f":"_xlfn.XLOOKUP($K27,'OF Statistics 2011-Q3 2024'!$B:$B,'OF Statistics 2011-Q3 2024'!AK:AK,0,0)","v":0},{"$f":"_xlfn.XLOOKUP($K27,'OF Statistics 2011-Q3 2024'!$B:$B,'OF Statistics 2011-Q3 2024'!AL:AL,0,0)","v":0},{"$f":"_xlfn.XLOOKUP($K27,'OF Statistics 2011-Q3 2024'!$B:$B,'OF Statistics 2011-Q3 2024'!AM:AM,0,0)","v":0},{"$f":"_xlfn.XLOOKUP($K27,'OF Statistics 2011-Q3 2024'!$B:$B,'OF Statistics 2011-Q3 2024'!AN:AN,0,0)","v":0},{"$f":"_xlfn.XLOOKUP($K27,'OF Statistics 2011-Q3 2024'!$B:$B,'OF Statistics 2011-Q3 2024'!AO:AO,0,0)","v":0},{"$f":"_xlfn.XLOOKUP($K27,'OF Statistics 2011-Q3 2024'!$B:$B,'OF Statistics 2011-Q3 2024'!AP:AP,0,0)","v":0},{"$f":"_xlfn.XLOOKUP($K27,'OF Statistics 2011-Q3 2024'!$B:$B,'OF Statistics 2011-Q3 2024'!AQ:AQ,0,0)","v":0},{"$f":"_xlfn.XLOOKUP($K27,'OF Statistics 2011-Q3 2024'!$B:$B,'OF Statistics 2011-Q3 2024'!AR:AR,0,0)","v":0},{"$f":"_xlfn.XLOOKUP($K27,'OF Statistics 2011-Q3 2024'!$B:$B,'OF Statistics 2011-Q3 2024'!AS:AS,0,0)","v":0},{"$f":"_xlfn.XLOOKUP($K27,'OF Statistics 2011-Q3 2024'!$B:$B,'OF Statistics 2011-Q3 2024'!AT:AT,0,0)","v":0},{"$f":"_xlfn.XLOOKUP($K27,'OF Statistics 2011-Q3 2024'!$B:$B,'OF Statistics 2011-Q3 2024'!AU:AU,0,0)","v":0},{"$f":"_xlfn.XLOOKUP($K27,'OF Statistics 2011-Q3 2024'!$B:$B,'OF Statistics 2011-Q3 2024'!AV:AV,0,0)","v":0},{"$f":"_xlfn.XLOOKUP($K27,'OF Statistics 2011-Q3 2024'!$B:$B,'OF Statistics 2011-Q3 2024'!AW:AW,0,0)","v":0},{"$f":"_xlfn.XLOOKUP($K27,'OF Statistics 2011-Q3 2024'!$B:$B,'OF Statistics 2011-Q3 2024'!AX:AX,0,0)","v":0},{"$f":"_xlfn.XLOOKUP($K27,'OF Statistics 2011-Q3 2024'!$B:$B,'OF Statistics 2011-Q3 2024'!AY:AY,0,0)","v":0},{"$f":"_xlfn.XLOOKUP($K27,'OF Statistics 2011-Q3 2024'!$B:$B,'OF Statistics 2011-Q3 2024'!AZ:AZ,0,0)","v":0},{"$f":"_xlfn.XLOOKUP($K27,'OF Statistics 2011-Q3 2024'!$B:$B,'OF Statistics 2011-Q3 2024'!BA:BA,0,0)","v":0},{"$f":"_xlfn.XLOOKUP($K27,'OF Statistics 2011-Q3 2024'!$B:$B,'OF Statistics 2011-Q3 2024'!BB:BB,0,0)","v":0},{"$f":"_xlfn.XLOOKUP($K27,'OF Statistics 2011-Q3 2024'!$B:$B,'OF Statistics 2011-Q3 2024'!BC:BC,0,0)","v":0},{"$f":"_xlfn.XLOOKUP($K27,'OF Statistics 2011-Q3 2024'!$B:$B,'OF Statistics 2011-Q3 2024'!BD:BD,0,0)","v":0},{"$f":"_xlfn.XLOOKUP($K27,'OF Statistics 2011-Q3 2024'!$B:$B,'OF Statistics 2011-Q3 2024'!BE:BE,0,0)","v":0},{"$f":"_xlfn.XLOOKUP($K27,'OF Statistics 2011-Q3 2024'!$B:$B,'OF Statistics 2011-Q3 2024'!BF:BF,0,0)","v":0},{"$f":"_xlfn.XLOOKUP($K27,'OF Statistics 2011-Q3 2024'!$B:$B,'OF Statistics 2011-Q3 2024'!BG:BG,0,0)","v":0},{"$f":"_xlfn.XLOOKUP($K27,'OF Statistics 2011-Q3 2024'!$B:$B,'OF Statistics 2011-Q3 2024'!BH:BH,0,0)","v":0},{"$f":"_xlfn.XLOOKUP($K27,'OF Statistics 2011-Q3 2024'!$B:$B,'OF Statistics 2011-Q3 2024'!BI:BI,0,0)","v":0},{"$f":"_xlfn.XLOOKUP($K27,'OF Statistics 2011-Q3 2024'!$B:$B,'OF Statistics 2011-Q3 2024'!BJ:BJ,0,0)","v":0},{"$f":"_xlfn.XLOOKUP($K27,'OF Statistics 2011-Q3 2024'!$B:$B,'OF Statistics 2011-Q3 2024'!BK:BK,0,0)","v":0},{"$f":"_xlfn.XLOOKUP($K27,'OF Statistics 2011-Q3 2024'!$B:$B,'OF Statistics 2011-Q3 2024'!BL:BL,0,0)","v":0}]
[null,17,"    Borkum Riffgrund 1",null,null,null,null,null,null,26,"Greater Changhua 1",null,null,null,null,{"$f":"_xlfn.XLOOKUP($K28,'OF Statistics 2011-Q3 2024'!$B:$B,'OF Statistics 2011-Q3 2024'!D:D,0,0)","v":302.5},null,{"$f":"_xlfn.XLOOKUP($K28,'OF Statistics 2011-Q3 2024'!$B:$B,'OF Statistics 2011-Q3 2024'!E:E,0,0)","v":0},{"$f":"_xlfn.XLOOKUP($K28,'OF Statistics 2011-Q3 2024'!$B:$B,'OF Statistics 2011-Q3 2024'!F:F,0,0)","v":1110.2862000499999},{"$f":"_xlfn.XLOOKUP($K28,'OF Statistics 2011-Q3 2024'!$B:$B,'OF Statistics 2011-Q3 2024'!G:G,0,0)","v":514.04999999999995},{"$f":"_xlfn.XLOOKUP($K28,'OF Statistics 2011-Q3 2024'!$B:$B,'OF Statistics 2011-Q3 2024'!H:H,0,0)","v":42.85},{"$f":"_xlfn.XLOOKUP($K28,'OF Statistics 2011-Q3 2024'!$B:$B,'OF Statistics 2011-Q3 2024'!I:I,0,0)","v":0},{"$f":"_xlfn.XLOOKUP($K28,'OF Statistics 2011-Q3 2024'!$B:$B,'OF Statistics 2011-Q3 2024'!J:J,0,0)","v":0},{"$f":"_xlfn.XLOOKUP($K28,'OF Statistics 2011-Q3 2024'!$B:$B,'OF Statistics 2011-Q3 2024'!K:K,0,0)","v":0},{"$f":"_xlfn.XLOOKUP($K28,'OF Statistics 2011-Q3 2024'!$B:$B,'OF Statistics 2011-Q3 2024'!L:L,0,0)","v":0},{"$f":"_xlfn.XLOOKUP($K28,'OF Statistics 2011-Q3 2024'!$B:$B,'OF Statistics 2011-Q3 2024'!M:M,0,0)","v":0},{"$f":"_xlfn.XLOOKUP($K28,'OF Statistics 2011-Q3 2024'!$B:$B,'OF Statistics 2011-Q3 2024'!N:N,0,0)","v":0},{"$f":"_xlfn.XLOOKUP($K28,'OF Statistics 2011-Q3 2024'!$B:$B,'OF Statistics 2011-Q3 2024'!O:O,0,0)","v":0},{"$f":"_xlfn.XLOOKUP($K28,'OF Statistics 2011-Q3 2024'!$B:$B,'OF Statistics 2011-Q3 2024'!P:P,0,0)","v":0},{"$f":"_xlfn.XLOOKUP($K28,'OF Statistics 2011-Q3 2024'!$B:$B,'OF Statistics 2011-Q3 2024'!Q:Q,0,0)","v":0},{"$f":"_xlfn.XLOOKUP($K28,'OF Statistics 2011-Q3 2024'!$B:$B,'OF Statistics 2011-Q3 2024'!R:R,0,0)","v":0},{"$f":"_xlfn.XLOOKUP($K28,'OF Statistics 2011-Q3 2024'!$B:$B,'OF Statistics 2011-Q3 2024'!S:S,0,0)","v":0},{"$f":"_xlfn.XLOOKUP($K28,'OF Statistics 2011-Q3 2024'!$B:$B,'OF Statistics 2011-Q3 2024'!T:T,0,0)","v":0},{"$f":"_xlfn.XLOOKUP($K28,'OF Statistics 2011-Q3 2024'!$B:$B,'OF Statistics 2011-Q3 2024'!U:U,0,0)","v":126.77444000000003},{"$f":"_xlfn.XLOOKUP($K28,'OF Statistics 2011-Q3 2024'!$B:$B,'OF Statistics 2011-Q3 2024'!V:V,0,0)","v":234.78},{"$f":"_xlfn.XLOOKUP($K28,'OF Statistics 2011-Q3 2024'!$B:$B,'OF Statistics 2011-Q3 2024'!W:W,0,0)","v":278.13},{"$f":"_xlfn.XLOOKUP($K28,'OF Statistics 2011-Q3 2024'!$B:$B,'OF Statistics 2011-Q3 2024'!X:X,0,0)","v":320.06},{"$f":"_xlfn.XLOOKUP($K28,'OF Statistics 2011-Q3 2024'!$B:$B,'OF Statistics 2011-Q3 2024'!Y:Y,0,0)","v":94.18},{"$f":"_xlfn.XLOOKUP($K28,'OF Statistics 2011-Q3 2024'!$B:$B,'OF Statistics 2011-Q3 2024'!Z:Z,0,0)","v":47.27},{"$f":"_xlfn.XLOOKUP($K28,'OF Statistics 2011-Q3 2024'!$B:$B,'OF Statistics 2011-Q3 2024'!AA:AA,0,0)","v":52.54},{"$f":"_xlfn.XLOOKUP($K28,'OF Statistics 2011-Q3 2024'!$B:$B,'OF Statistics 2011-Q3 2024'!AB:AB,0,0)","v":42.85},{"$f":"_xlfn.XLOOKUP($K28,'OF Statistics 2011-Q3 2024'!$B:$B,'OF Statistics 2011-Q3 2024'!AC:AC,0,0)","v":0},{"$f":"_xlfn.XLOOKUP($K28,'OF Statistics 2011-Q3 2024'!$B:$B,'OF Statistics 2011-Q3 2024'!AD:AD,0,0)","v":0},{"$f":"_xlfn.XLOOKUP($K28,'OF Statistics 2011-Q3 2024'!$B:$B,'OF Statistics 2011-Q3 2024'!AE:AE,0,0)","v":0},{"$f":"_xlfn.XLOOKUP($K28,'OF Statistics 2011-Q3 2024'!$B:$B,'OF Statistics 2011-Q3 2024'!AF:AF,0,0)","v":0},{"$f":"_xlfn.XLOOKUP($K28,'OF Statistics 2011-Q3 2024'!$B:$B,'OF Statistics 2011-Q3 2024'!AG:AG,0,0)","v":0},{"$f":"_xlfn.XLOOKUP($K28,'OF Statistics 2011-Q3 2024'!$B:$B,'OF Statistics 2011-Q3 2024'!AH:AH,0,0)","v":0},{"$f":"_xlfn.XLOOKUP($K28,'OF Statistics 2011-Q3 2024'!$B:$B,'OF Statistics 2011-Q3 2024'!AI:AI,0,0)","v":0},{"$f":"_xlfn.XLOOKUP($K28,'OF Statistics 2011-Q3 2024'!$B:$B,'OF Statistics 2011-Q3 2024'!AJ:AJ,0,0)","v":0},{"$f":"_xlfn.XLOOKUP($K28,'OF Statistics 2011-Q3 2024'!$B:$B,'OF Statistics 2011-Q3 2024'!AK:AK,0,0)","v":0},{"$f":"_xlfn.XLOOKUP($K28,'OF Statistics 2011-Q3 2024'!$B:$B,'OF Statistics 2011-Q3 2024'!AL:AL,0,0)","v":0},{"$f":"_xlfn.XLOOKUP($K28,'OF Statistics 2011-Q3 2024'!$B:$B,'OF Statistics 2011-Q3 2024'!AM:AM,0,0)","v":0},{"$f":"_xlfn.XLOOKUP($K28,'OF Statistics 2011-Q3 2024'!$B:$B,'OF Statistics 2011-Q3 2024'!AN:AN,0,0)","v":0},{"$f":"_xlfn.XLOOKUP($K28,'OF Statistics 2011-Q3 2024'!$B:$B,'OF Statistics 2011-Q3 2024'!AO:AO,0,0)","v":0},{"$f":"_xlfn.XLOOKUP($K28,'OF Statistics 2011-Q3 2024'!$B:$B,'OF Statistics 2011-Q3 2024'!AP:AP,0,0)","v":0},{"$f":"_xlfn.XLOOKUP($K28,'OF Statistics 2011-Q3 2024'!$B:$B,'OF Statistics 2011-Q3 2024'!AQ:AQ,0,0)","v":0},{"$f":"_xlfn.XLOOKUP($K28,'OF Statistics 2011-Q3 2024'!$B:$B,'OF Statistics 2011-Q3 2024'!AR:AR,0,0)","v":0},{"$f":"_xlfn.XLOOKUP($K28,'OF Statistics 2011-Q3 2024'!$B:$B,'OF Statistics 2011-Q3 2024'!AS:AS,0,0)","v":0},{"$f":"_xlfn.XLOOKUP($K28,'OF Statistics 2011-Q3 2024'!$B:$B,'OF Statistics 2011-Q3 2024'!AT:AT,0,0)","v":0},{"$f":"_xlfn.XLOOKUP($K28,'OF Statistics 2011-Q3 2024'!$B:$B,'OF Statistics 2011-Q3 2024'!AU:AU,0,0)","v":0},{"$f":"_xlfn.XLOOKUP($K28,'OF Statistics 2011-Q3 2024'!$B:$B,'OF Statistics 2011-Q3 2024'!AV:AV,0,0)","v":0},{"$f":"_xlfn.XLOOKUP($K28,'OF Statistics 2011-Q3 2024'!$B:$B,'OF Statistics 2011-Q3 2024'!AW:AW,0,0)","v":0},{"$f":"_xlfn.XLOOKUP($K28,'OF Statistics 2011-Q3 2024'!$B:$B,'OF Statistics 2011-Q3 2024'!AX:AX,0,0)","v":0},{"$f":"_xlfn.XLOOKUP($K28,'OF Statistics 2011-Q3 2024'!$B:$B,'OF Statistics 2011-Q3 2024'!AY:AY,0,0)","v":0},{"$f":"_xlfn.XLOOKUP($K28,'OF Statistics 2011-Q3 2024'!$B:$B,'OF Statistics 2011-Q3 2024'!AZ:AZ,0,0)","v":0},{"$f":"_xlfn.XLOOKUP($K28,'OF Statistics 2011-Q3 2024'!$B:$B,'OF Statistics 2011-Q3 2024'!BA:BA,0,0)","v":0},{"$f":"_xlfn.XLOOKUP($K28,'OF Statistics 2011-Q3 2024'!$B:$B,'OF Statistics 2011-Q3 2024'!BB:BB,0,0)","v":0},{"$f":"_xlfn.XLOOKUP($K28,'OF Statistics 2011-Q3 2024'!$B:$B,'OF Statistics 2011-Q3 2024'!BC:BC,0,0)","v":0},{"$f":"_xlfn.XLOOKUP($K28,'OF Statistics 2011-Q3 2024'!$B:$B,'OF Statistics 2011-Q3 2024'!BD:BD,0,0)","v":0},{"$f":"_xlfn.XLOOKUP($K28,'OF Statistics 2011-Q3 2024'!$B:$B,'OF Statistics 2011-Q3 2024'!BE:BE,0,0)","v":0},{"$f":"_xlfn.XLOOKUP($K28,'OF Statistics 2011-Q3 2024'!$B:$B,'OF Statistics 2011-Q3 2024'!BF:BF,0,0)","v":0},{"$f":"_xlfn.XLOOKUP($K28,'OF Statistics 2011-Q3 2024'!$B:$B,'OF Statistics 2011-Q3 2024'!BG:BG,0,0)","v":0},{"$f":"_xlfn.XLOOKUP($K28,'OF Statistics 2011-Q3 2024'!$B:$B,'OF Statistics 2011-Q3 2024'!BH:BH,0,0)","v":0},{"$f":"_xlfn.XLOOKUP($K28,'OF Statistics 2011-Q3 2024'!$B:$B,'OF Statistics 2011-Q3 2024'!BI:BI,0,0)","v":0},{"$f":"_xlfn.XLOOKUP($K28,'OF Statistics 2011-Q3 2024'!$B:$B,'OF Statistics 2011-Q3 2024'!BJ:BJ,0,0)","v":0},{"$f":"_xlfn.XLOOKUP($K28,'OF Statistics 2011-Q3 2024'!$B:$B,'OF Statistics 2011-Q3 2024'!BK:BK,0,0)","v":0},{"$f":"_xlfn.XLOOKUP($K28,'OF Statistics 2011-Q3 2024'!$B:$B,'OF Statistics 2011-Q3 2024'!BL:BL,0,0)","v":0}]
[null,18,"    Borkum Riffgrund 2",null,null,null,null,null,null,27,"Greater Changhua 2a ",{"$f":"K28","v":"Greater Changhua 1"},null,null,null,{"$f":"'OF Asset Book'!G72","v":302.5},null,{"$f":"_xlfn.XLOOKUP($K29,'OF Statistics 2011-Q3 2024'!$B:$B,'OF Statistics 2011-Q3 2024'!E:E,0,0)","v":0},{"$f":"_xlfn.XLOOKUP($K29,'OF Statistics 2011-Q3 2024'!$B:$B,'OF Statistics 2011-Q3 2024'!F:F,0,0)","v":1109.67704},{"$f":"_xlfn.XLOOKUP($K29,'OF Statistics 2011-Q3 2024'!$B:$B,'OF Statistics 2011-Q3 2024'!G:G,0,0)","v":776.77},{"$f":"_xlfn.XLOOKUP($K29,'OF Statistics 2011-Q3 2024'!$B:$B,'OF Statistics 2011-Q3 2024'!H:H,0,0)","v":49.87},{"$f":"_xlfn.XLOOKUP($K29,'OF Statistics 2011-Q3 2024'!$B:$B,'OF Statistics 2011-Q3 2024'!I:I,0,0)","v":0},{"$f":"_xlfn.XLOOKUP($K29,'OF Statistics 2011-Q3 2024'!$B:$B,'OF Statistics 2011-Q3 2024'!J:J,0,0)","v":0},{"$f":"_xlfn.XLOOKUP($K29,'OF Statistics 2011-Q3 2024'!$B:$B,'OF Statistics 2011-Q3 2024'!K:K,0,0)","v":0},{"$f":"_xlfn.XLOOKUP($K29,'OF Statistics 2011-Q3 2024'!$B:$B,'OF Statistics 2011-Q3 2024'!L:L,0,0)","v":0},{"$f":"_xlfn.XLOOKUP($K29,'OF Statistics 2011-Q3 2024'!$B:$B,'OF Statistics 2011-Q3 2024'!M:M,0,0)","v":0},{"$f":"_xlfn.XLOOKUP($K29,'OF Statistics 2011-Q3 2024'!$B:$B,'OF Statistics 2011-Q3 2024'!N:N,0,0)","v":0},{"$f":"_xlfn.XLOOKUP($K29,'OF Statistics 2011-Q3 2024'!$B:$B,'OF Statistics 2011-Q3 2024'!O:O,0,0)","v":0},{"$f":"_xlfn.XLOOKUP($K29,'OF Statistics 2011-Q3 2024'!$B:$B,'OF Statistics 2011-Q3 2024'!P:P,0,0)","v":0},{"$f":"_xlfn.XLOOKUP($K29,'OF Statistics 2011-Q3 2024'!$B:$B,'OF Statistics 2011-Q3 2024'!Q:Q,0,0)","v":0},{"$f":"_xlfn.XLOOKUP($K29,'OF Statistics 2011-Q3 2024'!$B:$B,'OF Statistics 2011-Q3 2024'!R:R,0,0)","v":0},{"$f":"_xlfn.XLOOKUP($K29,'OF Statistics 2011-Q3 2024'!$B:$B,'OF Statistics 2011-Q3 2024'!S:S,0,0)","v":0},{"$f":"_xlfn.XLOOKUP($K29,'OF Statistics 2011-Q3 2024'!$B:$B,'OF Statistics 2011-Q3 2024'!T:T,0,0)","v":0},{"$f":"_xlfn.XLOOKUP($K29,'OF Statistics 2011-Q3 2024'!$B:$B,'OF Statistics 2011-Q3 2024'!U:U,0,0)","v":143.82828000000006},{"$f":"_xlfn.XLOOKUP($K29,'OF Statistics 2011-Q3 2024'!$B:$B,'OF Statistics 2011-Q3 2024'!V:V,0,0)","v":212.62},{"$f":"_xlfn.XLOOKUP($K29,'OF Statistics 2011-Q3 2024'!$B:$B,'OF Statistics 2011-Q3 2024'!W:W,0,0)","v":301.08999999999997},{"$f":"_xlfn.XLOOKUP($K29,'OF Statistics 2011-Q3 2024'!$B:$B,'OF Statistics 2011-Q3 2024'!X:X,0,0)","v":385.04},{"$f":"_xlfn.XLOOKUP($K29,'OF Statistics 2011-Q3 2024'!$B:$B,'OF Statistics 2011-Q3 2024'!Y:Y,0,0)","v":159.83000000000001},{"$f":"_xlfn.XLOOKUP($K29,'OF Statistics 2011-Q3 2024'!$B:$B,'OF Statistics 2011-Q3 2024'!Z:Z,0,0)","v":142.88},{"$f":"_xlfn.XLOOKUP($K29,'OF Statistics 2011-Q3 2024'!$B:$B,'OF Statistics 2011-Q3 2024'!AA:AA,0,0)","v":89.02},{"$f":"_xlfn.XLOOKUP($K29,'OF Statistics 2011-Q3 2024'!$B:$B,'OF Statistics 2011-Q3 2024'!AB:AB,0,0)","v":42.67},{"$f":"_xlfn.XLOOKUP($K29,'OF Statistics 2011-Q3 2024'!$B:$B,'OF Statistics 2011-Q3 2024'!AC:AC,0,0)","v":5.87},{"$f":"_xlfn.XLOOKUP($K29,'OF Statistics 2011-Q3 2024'!$B:$B,'OF Statistics 2011-Q3 2024'!AD:AD,0,0)","v":1.32},{"$f":"_xlfn.XLOOKUP($K29,'OF Statistics 2011-Q3 2024'!$B:$B,'OF Statistics 2011-Q3 2024'!AE:AE,0,0)","v":0},{"$f":"_xlfn.XLOOKUP($K29,'OF Statistics 2011-Q3 2024'!$B:$B,'OF Statistics 2011-Q3 2024'!AF:AF,0,0)","v":0},{"$f":"_xlfn.XLOOKUP($K29,'OF Statistics 2011-Q3 2024'!$B:$B,'OF Statistics 2011-Q3 2024'!AG:AG,0,0)","v":0},{"$f":"_xlfn.XLOOKUP($K29,'OF Statistics 2011-Q3 2024'!$B:$B,'OF Statistics 2011-Q3 2024'!AH:AH,0,0)","v":0},{"$f":"_xlfn.XLOOKUP($K29,'OF Statistics 2011-Q3 2024'!$B:$B,'OF Statistics 2011-Q3 2024'!AI:AI,0,0)","v":0},{"$f":"_xlfn.XLOOKUP($K29,'OF Statistics 2011-Q3 2024'!$B:$B,'OF Statistics 2011-Q3 2024'!AJ:AJ,0,0)","v":0},{"$f":"_xlfn.XLOOKUP($K29,'OF Statistics 2011-Q3 2024'!$B:$B,'OF Statistics 2011-Q3 2024'!AK:AK,0,0)","v":0},{"$f":"_xlfn.XLOOKUP($K29,'OF Statistics 2011-Q3 2024'!$B:$B,'OF Statistics 2011-Q3 2024'!AL:AL,0,0)","v":0},{"$f":"_xlfn.XLOOKUP($K29,'OF Statistics 2011-Q3 2024'!$B:$B,'OF Statistics 2011-Q3 2024'!AM:AM,0,0)","v":0},{"$f":"_xlfn.XLOOKUP($K29,'OF Statistics 2011-Q3 2024'!$B:$B,'OF Statistics 2011-Q3 2024'!AN:AN,0,0)","v":0},{"$f":"_xlfn.XLOOKUP($K29,'OF Statistics 2011-Q3 2024'!$B:$B,'OF Statistics 2011-Q3 2024'!AO:AO,0,0)","v":0},{"$f":"_xlfn.XLOOKUP($K29,'OF Statistics 2011-Q3 2024'!$B:$B,'OF Statistics 2011-Q3 2024'!AP:AP,0,0)","v":0},{"$f":"_xlfn.XLOOKUP($K29,'OF Statistics 2011-Q3 2024'!$B:$B,'OF Statistics 2011-Q3 2024'!AQ:AQ,0,0)","v":0},{"$f":"_xlfn.XLOOKUP($K29,'OF Statistics 2011-Q3 2024'!$B:$B,'OF Statistics 2011-Q3 2024'!AR:AR,0,0)","v":0},{"$f":"_xlfn.XLOOKUP($K29,'OF Statistics 2011-Q3 2024'!$B:$B,'OF Statistics 2011-Q3 2024'!AS:AS,0,0)","v":0},{"$f":"_xlfn.XLOOKUP($K29,'OF Statistics 2011-Q3 2024'!$B:$B,'OF Statistics 2011-Q3 2024'!AT:AT,0,0)","v":0},{"$f":"_xlfn.XLOOKUP($K29,'OF Statistics 2011-Q3 2024'!$B:$B,'OF Statistics 2011-Q3 2024'!AU:AU,0,0)","v":0},{"$f":"_xlfn.XLOOKUP($K29,'OF Statistics 2011-Q3 2024'!$B:$B,'OF Statistics 2011-Q3 2024'!AV:AV,0,0)","v":0},{"$f":"_xlfn.XLOOKUP($K29,'OF Statistics 2011-Q3 2024'!$B:$B,'OF Statistics 2011-Q3 2024'!AW:AW,0,0)","v":0},{"$f":"_xlfn.XLOOKUP($K29,'OF Statistics 2011-Q3 2024'!$B:$B,'OF Statistics 2011-Q3 2024'!AX:AX,0,0)","v":0},{"$f":"_xlfn.XLOOKUP($K29,'OF Statistics 2011-Q3 2024'!$B:$B,'OF Statistics 2011-Q3 2024'!AY:AY,0,0)","v":0},{"$f":"_xlfn.XLOOKUP($K29,'OF Statistics 2011-Q3 2024'!$B:$B,'OF Statistics 2011-Q3 2024'!AZ:AZ,0,0)","v":0},{"$f":"_xlfn.XLOOKUP($K29,'OF Statistics 2011-Q3 2024'!$B:$B,'OF Statistics 2011-Q3 2024'!BA:BA,0,0)","v":0},{"$f":"_xlfn.XLOOKUP($K29,'OF Statistics 2011-Q3 2024'!$B:$B,'OF Statistics 2011-Q3 2024'!BB:BB,0,0)","v":0},{"$f":"_xlfn.XLOOKUP($K29,'OF Statistics 2011-Q3 2024'!$B:$B,'OF Statistics 2011-Q3 2024'!BC:BC,0,0)","v":0},{"$f":"_xlfn.XLOOKUP($K29,'OF Statistics 2011-Q3 2024'!$B:$B,'OF Statistics 2011-Q3 2024'!BD:BD,0,0)","v":0},{"$f":"_xlfn.XLOOKUP($K29,'OF Statistics 2011-Q3 2024'!$B:$B,'OF Statistics 2011-Q3 2024'!BE:BE,0,0)","v":0},{"$f":"_xlfn.XLOOKUP($K29,'OF Statistics 2011-Q3 2024'!$B:$B,'OF Statistics 2011-Q3 2024'!BF:BF,0,0)","v":0},{"$f":"_xlfn.XLOOKUP($K29,'OF Statistics 2011-Q3 2024'!$B:$B,'OF Statistics 2011-Q3 2024'!BG:BG,0,0)","v":0},{"$f":"_xlfn.XLOOKUP($K29,'OF Statistics 2011-Q3 2024'!$B:$B,'OF Statistics 2011-Q3 2024'!BH:BH,0,0)","v":0},{"$f":"_xlfn.XLOOKUP($K29,'OF Statistics 2011-Q3 2024'!$B:$B,'OF Statistics 2011-Q3 2024'!BI:BI,0,0)","v":0},{"$f":"_xlfn.XLOOKUP($K29,'OF Statistics 2011-Q3 2024'!$B:$B,'OF Statistics 2011-Q3 2024'!BJ:BJ,0,0)","v":0},{"$f":"_xlfn.XLOOKUP($K29,'OF Statistics 2011-Q3 2024'!$B:$B,'OF Statistics 2011-Q3 2024'!BK:BK,0,0)","v":0},{"$f":"_xlfn.XLOOKUP($K29,'OF Statistics 2011-Q3 2024'!$B:$B,'OF Statistics 2011-Q3 2024'!BL:BL,0,0)","v":0}]
[null,19,"    Gode Wind 1"]
[null,20,"    Gode Wind 2",null,null,null,null,null,null,null,null,null,null,null,null,{"$f":"_xlfn.XLOOKUP($K31,'OF Statistics 2011-Q3 2024'!$B:$B,'OF Statistics 2011-Q3 2024'!D:D,0,0)","v":0},null,null,null,{"$f":"_xlfn.XLOOKUP($K31,'OF Statistics 2011-Q3 2024'!$B:$B,'OF Statistics 2011-Q3 2024'!G:G,0,0)","v":0},{"$f":"_xlfn.XLOOKUP($K31,'OF Statistics 2011-Q3 2024'!$B:$B,'OF Statistics 2011-Q3 2024'!H:H,0,0)","v":0},{"$f":"_xlfn.XLOOKUP($K31,'OF Statistics 2011-Q3 2024'!$B:$B,'OF Statistics 2011-Q3 2024'!I:I,0,0)","v":0},{"$f":"_xlfn.XLOOKUP($K31,'OF Statistics 2011-Q3 2024'!$B:$B,'OF Statistics 2011-Q3 2024'!J:J,0,0)","v":0},{"$f":"_xlfn.XLOOKUP($K31,'OF Statistics 2011-Q3 2024'!$B:$B,'OF Statistics 2011-Q3 2024'!K:K,0,0)","v":0},{"$f":"_xlfn.XLOOKUP($K31,'OF Statistics 2011-Q3 2024'!$B:$B,'OF Statistics 2011-Q3 2024'!L:L,0,0)","v":0},{"$f":"_xlfn.XLOOKUP($K31,'OF Statistics 2011-Q3 2024'!$B:$B,'OF Statistics 2011-Q3 2024'!M:M,0,0)","v":0},{"$f":"_xlfn.XLOOKUP($K31,'OF Statistics 2011-Q3 2024'!$B:$B,'OF Statistics 2011-Q3 2024'!N:N,0,0)","v":0},{"$f":"_xlfn.XLOOKUP($K31,'OF Statistics 2011-Q3 2024'!$B:$B,'OF Statistics 2011-Q3 2024'!O:O,0,0)","v":0},{"$f":"_xlfn.XLOOKUP($K31,'OF Statistics 2011-Q3 2024'!$B:$B,'OF Statistics 2011-Q3 2024'!P:P,0,0)","v":0},{"$f":"_xlfn.XLOOKUP($K31,'OF Statistics 2011-Q3 2024'!$B:$B,'OF Statistics 2011-Q3 2024'!Q:Q,0,0)","v":0},{"$f":"_xlfn.XLOOKUP($K31,'OF Statistics 2011-Q3 2024'!$B:$B,'OF Statistics 2011-Q3 2024'!R:R,0,0)","v":0},{"$f":"_xlfn.XLOOKUP($K31,'OF Statistics 2011-Q3 2024'!$B:$B,'OF Statistics 2011-Q3 2024'!S:S,0,0)","v":0},{"$f":"_xlfn.XLOOKUP($K31,'OF Statistics 2011-Q3 2024'!$B:$B,'OF Statistics 2011-Q3 2024'!T:T,0,0)","v":0},{"$f":"_xlfn.XLOOKUP($K31,'OF Statistics 2011-Q3 2024'!$B:$B,'OF Statistics 2011-Q3 2024'!U:U,0,0)","v":0},{"$f":"_xlfn.XLOOKUP($K31,'OF Statistics 2011-Q3 2024'!$B:$B,'OF Statistics 2011-Q3 2024'!V:V,0,0)","v":0},{"$f":"_xlfn.XLOOKUP($K31,'OF Statistics 2011-Q3 2024'!$B:$B,'OF Statistics 2011-Q3 2024'!W:W,0,0)","v":0},{"$f":"_xlfn.XLOOKUP($K31,'OF Statistics 2011-Q3 2024'!$B:$B,'OF Statistics 2011-Q3 2024'!X:X,0,0)","v":0},{"$f":"_xlfn.XLOOKUP($K31,'OF Statistics 2011-Q3 2024'!$B:$B,'OF Statistics 2011-Q3 2024'!Y:Y,0,0)","v":0},{"$f":"_xlfn.XLOOKUP($K31,'OF Statistics 2011-Q3 2024'!$B:$B,'OF Statistics 2011-Q3 2024'!Z:Z,0,0)","v":0},{"$f":"_xlfn.XLOOKUP($K31,'OF Statistics 2011-Q3 2024'!$B:$B,'OF Statistics 2011-Q3 2024'!AA:AA,0,0)","v":0},{"$f":"_xlfn.XLOOKUP($K31,'OF Statistics 2011-Q3 2024'!$B:$B,'OF Statistics 2011-Q3 2024'!AB:AB,0,0)","v":0},{"$f":"_xlfn.XLOOKUP($K31,'OF Statistics 2011-Q3 2024'!$B:$B,'OF Statistics 2011-Q3 2024'!AC:AC,0,0)","v":0},{"$f":"_xlfn.XLOOKUP($K31,'OF Statistics 2011-Q3 2024'!$B:$B,'OF Statistics 2011-Q3 2024'!AD:AD,0,0)","v":0},{"$f":"_xlfn.XLOOKUP($K31,'OF Statistics 2011-Q3 2024'!$B:$B,'OF Statistics 2011-Q3 2024'!AE:AE,0,0)","v":0},{"$f":"_xlfn.XLOOKUP($K31,'OF Statistics 2011-Q3 2024'!$B:$B,'OF Statistics 2011-Q3 2024'!AF:AF,0,0)","v":0},{"$f":"_xlfn.XLOOKUP($K31,'OF Statistics 2011-Q3 2024'!$B:$B,'OF Statistics 2011-Q3 2024'!AG:AG,0,0)","v":0},{"$f":"_xlfn.XLOOKUP($K31,'OF Statistics 2011-Q3 2024'!$B:$B,'OF Statistics 2011-Q3 2024'!AH:AH,0,0)","v":0},{"$f":"_xlfn.XLOOKUP($K31,'OF Statistics 2011-Q3 2024'!$B:$B,'OF Statistics 2011-Q3 2024'!AI:AI,0,0)","v":0},{"$f":"_xlfn.XLOOKUP($K31,'OF Statistics 2011-Q3 2024'!$B:$B,'OF Statistics 2011-Q3 2024'!AJ:AJ,0,0)","v":0},{"$f":"_xlfn.XLOOKUP($K31,'OF Statistics 2011-Q3 2024'!$B:$B,'OF Statistics 2011-Q3 2024'!AK:AK,0,0)","v":0},{"$f":"_xlfn.XLOOKUP($K31,'OF Statistics 2011-Q3 2024'!$B:$B,'OF Statistics 2011-Q3 2024'!AL:AL,0,0)","v":0},{"$f":"_xlfn.XLOOKUP($K31,'OF Statistics 2011-Q3 2024'!$B:$B,'OF Statistics 2011-Q3 2024'!AM:AM,0,0)","v":0},{"$f":"_xlfn.XLOOKUP($K31,'OF Statistics 2011-Q3 2024'!$B:$B,'OF Statistics 2011-Q3 2024'!AN:AN,0,0)","v":0},{"$f":"_xlfn.XLOOKUP($K31,'OF Statistics 2011-Q3 2024'!$B:$B,'OF Statistics 2011-Q3 2024'!AO:AO,0,0)","v":0},{"$f":"_xlfn.XLOOKUP($K31,'OF Statistics 2011-Q3 2024'!$B:$B,'OF Statistics 2011-Q3 2024'!AP:AP,0,0)","v":0},{"$f":"_xlfn.XLOOKUP($K31,'OF Statistics 2011-Q3 2024'!$B:$B,'OF Statistics 2011-Q3 2024'!AQ:AQ,0,0)","v":0},{"$f":"_xlfn.XLOOKUP($K31,'OF Statistics 2011-Q3 2024'!$B:$B,'OF Statistics 2011-Q3 2024'!AR:AR,0,0)","v":0},{"$f":"_xlfn.XLOOKUP($K31,'OF Statistics 2011-Q3 2024'!$B:$B,'OF Statistics 2011-Q3 2024'!AS:AS,0,0)","v":0},{"$f":"_xlfn.XLOOKUP($K31,'OF Statistics 2011-Q3 2024'!$B:$B,'OF Statistics 2011-Q3 2024'!AT:AT,0,0)","v":0},{"$f":"_xlfn.XLOOKUP($K31,'OF Statistics 2011-Q3 2024'!$B:$B,'OF Statistics 2011-Q3 2024'!AU:AU,0,0)","v":0},{"$f":"_xlfn.XLOOKUP($K31,'OF Statistics 2011-Q3 2024'!$B:$B,'OF Statistics 2011-Q3 2024'!AV:AV,0,0)","v":0},{"$f":"_xlfn.XLOOKUP($K31,'OF Statistics 2011-Q3 2024'!$B:$B,'OF Statistics 2011-Q3 2024'!AW:AW,0,0)","v":0},{"$f":"_xlfn.XLOOKUP($K31,'OF Statistics 2011-Q3 2024'!$B:$B,'OF Statistics 2011-Q3 2024'!AX:AX,0,0)","v":0},{"$f":"_xlfn.XLOOKUP($K31,'OF Statistics 2011-Q3 2024'!$B:$B,'OF Statistics 2011-Q3 2024'!AY:AY,0,0)","v":0},{"$f":"_xlfn.XLOOKUP($K31,'OF Statistics 2011-Q3 2024'!$B:$B,'OF Statistics 2011-Q3 2024'!AZ:AZ,0,0)","v":0},{"$f":"_xlfn.XLOOKUP($K31,'OF Statistics 2011-Q3 2024'!$B:$B,'OF Statistics 2011-Q3 2024'!BA:BA,0,0)","v":0},{"$f":"_xlfn.XLOOKUP($K31,'OF Statistics 2011-Q3 2024'!$B:$B,'OF Statistics 2011-Q3 2024'!BB:BB,0,0)","v":0},{"$f":"_xlfn.XLOOKUP($K31,'OF Statistics 2011-Q3 2024'!$B:$B,'OF Statistics 2011-Q3 2024'!BC:BC,0,0)","v":0},{"$f":"_xlfn.XLOOKUP($K31,'OF Statistics 2011-Q3 2024'!$B:$B,'OF Statistics 2011-Q3 2024'!BD:BD,0,0)","v":0},{"$f":"_xlfn.XLOOKUP($K31,'OF Statistics 2011-Q3 2024'!$B:$B,'OF Statistics 2011-Q3 2024'!BE:BE,0,0)","v":0},{"$f":"_xlfn.XLOOKUP($K31,'OF Statistics 2011-Q3 2024'!$B:$B,'OF Statistics 2011-Q3 2024'!BF:BF,0,0)","v":0},{"$f":"_xlfn.XLOOKUP($K31,'OF Statistics 2011-Q3 2024'!$B:$B,'OF Statistics 2011-Q3 2024'!BG:BG,0,0)","v":0},{"$f":"_xlfn.XLOOKUP($K31,'OF Statistics 2011-Q3 2024'!$B:$B,'OF Statistics 2011-Q3 2024'!BH:BH,0,0)","v":0},{"$f":"_xlfn.XLOOKUP($K31,'OF Statistics 2011-Q3 2024'!$B:$B,'OF Statistics 2011-Q3 2024'!BI:BI,0,0)","v":0},{"$f":"_xlfn.XLOOKUP($K31,'OF Statistics 2011-Q3 2024'!$B:$B,'OF Statistics 2011-Q3 2024'!BJ:BJ,0,0)","v":0},{"$f":"_xlfn.XLOOKUP($K31,'OF Statistics 2011-Q3 2024'!$B:$B,'OF Statistics 2011-Q3 2024'!BK:BK,0,0)","v":0},{"$f":"_xlfn.XLOOKUP($K31,'OF Statistics 2011-Q3 2024'!$B:$B,'OF Statistics 2011-Q3 2024'!BL:BL,0,0)","v":0}]
[null,21,"    Gode Wind 3"]
[null,null,"Sub total",null,null,null,null,null,null,null,null,"Plant",14]
[null,null,null,null,null,null,null,null,null,null,null,null,null,null,null,{"$f":"SUM(P4:P33)","v":5099.04}]
[null,null,"Netherlands"]
[null,22,"     Borssele 1&2",null,null,null,null,null,null,null,null,null,null,null,null,null,null,null,2024,2023,{"$f":"T36-1","v":2022},{"$f":"U36-1","v":2021},2020,2019,2018,2017,2016,2015,2014,2013,2012]
[null,null,"Sub total",null,null,null,null,null,null,null,{"$f":"INDEX($K$4:$K$30,$M$33)","v":"    Race Bank"},{"$f":"INDEX(L4:L30,M33)","v":"United Kingdom"},null,null,null,null,null,null,{"$f":"INDEX(S4:S30,$M$33)/8760/INDEX($P$4:$P$30,$M$33)*1000","v":0.42488447705436799},{"$f":"INDEX(T4:T30,$M$33)/8760/INDEX($P$4:$P$30,$M$33)*1000","v":0.45740294712897445},{"$f":"INDEX(U4:U30,$M$33)/8760/INDEX($P$4:$P$30,$M$33)*1000","v":0.4491444628430929},{"$f":"INDEX(V4:V30,$M$33)/8760/INDEX($P$4:$P$30,$M$33)*1000","v":0.42599143626540886},{"$f":"INDEX(W4:W30,$M$33)/8760/INDEX($P$4:$P$30,$M$33)*1000","v":0.4997741984043354},{"$f":"INDEX(X4:X30,$M$33)/8760/INDEX($P$4:$P$30,$M$33)*1000","v":0.44073126264907087},{"$f":"INDEX(Y4:Y30,$M$33)/8760/INDEX($P$4:$P$30,$M$33)*1000","v":0.45545018147757871},{"$f":"INDEX(Z4:Z30,$M$33)/8760/INDEX($P$4:$P$30,$M$33)*1000","v":0.17395085888236572},{"$f":"INDEX(AA4:AA30,$M$33)/8760/INDEX($P$4:$P$30,$M$33)*1000","v":0},{"$f":"INDEX(AB4:AB30,$M$33)/8760/INDEX($P$4:$P$30,$M$33)*1000","v":0},{"$f":"INDEX(AC4:AC30,$M$33)/8760/INDEX($P$4:$P$30,$M$33)*1000","v":0},{"$f":"INDEX(AD4:AD30,$M$33)/8760/INDEX($P$4:$P$30,$M$33)*1000","v":0},{"$f":"INDEX(AE4:AE30,$M$33)/8760/INDEX($P$4:$P$30,$M$33)*1000","v":0},{"$f":"INDEX(AF4:AF30,$M$33)/8760/INDEX($P$4:$P$30,$M$33)*1000","v":0}]
[]
[null,null,"United States",null,null,null,null,null,null,null,null,null,null,null,null,null,null,null,{"$f":"DATE(S40,12,31)","v":"2012-12-31"},{"$f":"DATE(T40,12,31)","v":"2012-12-31"},{"$f":"DATE(U40,12,31)","v":"2013-12-31"},"2014-12-31","2015-12-31","2016-12-31","2017-12-31","2018-12-31","2019-12-31","2020-12-31","2021-12-31","2022-12-31","2023-12-31","2024-12-31"]
[null,23,"    Block Island",null,null,null,null,null,null,null,null,null,null,null,null,null,null,null,2012,2012,{"$f":"T40+1","v":2013},{"$f":"U40+1","v":2014},2015,2016,2017,2018,2019,2020,2021,2022,2023,2024]
[null,24,"    South Fork",null,null,null,null,null,null,null,{"$f":"K37","v":"    Race Bank"},{"$f":"L37","v":"United Kingdom"},null,null,null,null,null,null,{"$f":"_xlfn.XLOOKUP(S40,$T$36:$AE$36,$T$37:$AE$37,0,0)","v":0},{"$f":"_xlfn.XLOOKUP(T40,$T$36:$AE$36,$T$37:$AE$37,0,0)","v":0},0,0,0,0,0.17395085888236572,0.45545018147757871,0.44073126264907087,0.4997741984043354,0.42599143626540886,0.4491444628430929,{"$f":"_xlfn.XLOOKUP(AE40,$S$36:$AE$36,$S$37:$AE$37,0,0)","v":0.45740294712897445},{"$f":"_xlfn.XLOOKUP(AF40,$S$36:$AE$36,$S$37:$AE$37,0,0)","v":0.42488447705436799}]
[null,null,"Sub total"]
[]
[null,25,"Taiwan",null,null,null,null,null,null,null,null,null,null,null,null,null,null,null,{"$f":"IF(S41<>0,S39,NA())","v":{"$error":"#N/A"}},{"$f":"IF(T41<>0,T39,NA())","v":{"$error":"#N/A"}},{"$f":"IF(U41<>0,U39,NA())","v":{"$error":"#N/A"}},{"$error":"#N/A"},{"$error":"#N/A"},{"$error":"#N/A"},"2017-12-31",{"$f":"IF(Z41<>0,Z39,NA())","v":"2018-12-31"},"2019-12-31","2020-12-31","2021-12-31","2022-12-31","2023-12-31","2024-12-31"]
[null,26,"Greater Changhua 1",null,null,null,null,null,null,null,{"$f":"K41","v":"    Race Bank"},{"$f":"L41","v":"United Kingdom"},{"$f":"INDEX(P4:P31,Plant)","v":273},"MW",null,null,null,null,{"$f":"S41","v":0},{"$f":"T41","v":0},{"$f":"U41","v":0},0,0,0,0.17395085888236572,0.45545018147757871,0.44073126264907087,0.4997741984043354,0.42599143626540886,0.4491444628430929,0.45740294712897445,0.42488447705436799]
[null,27,"Greater Changhua 2a "]

{"sheet":"OF Statistics 2011-Q3 2024","index":6,"n_rows":78,"n_cols":63,"rows_kept":78,"cut":false,"hidden":false,"merged":[]}
[]
[null,"Offshore"]
[]
[null,"Generation Ørsted share, GWh",null,"FY\n 2024",{"$f":"'OF Statistics 2020-Q2 2025'!D4","v":"FY\n 2025"},{"$f":"'OF Statistics 2020-Q2 2025'!E4","v":"FY\n 2024"},"FY\n 2023","FY\n 2022","FY\n 2021","FY\n 2020","FY\n 2019","FY\n 20181","FY\n 2017","FY\n 2016","FY\n 2015","FY\n 2014","FY\n 2013","FY\n 2012","FY\n 2011",null,"Q3\n 2024","Q2\n 2024","Q1\n 2024","Q4\n 2023","Q3\n 2023","Q2\n 2023","Q1\n 2023","Q4\n 2022","Q3\n 2022","Q2\n 2022","Q1\n 2022","Q4\n 2021","Q3\n 2021","Q2\n 2021","Q1\n 2021","Q4\n 2020","Q3\n 2020","Q2\n 2020","Q1\n 2020","Q4\n 2019","Q3\n 20192","Q2\n 20191","Q1\n 20191","Q4\n 20181","Q3\n 20181","Q2\n 20181","Q1\n 20181","Q4\n 2017","Q3\n 2017","Q2\n 2017","Q1\n 2017","Q4\n 2016","Q3\n 2016","Q2\n 2016","Q1\n 2016","Q4\n 2015","Q3\n 2015","Q2\n 2015","Q1\n 2015","Q4\n 2014","Q3\n 2014","Q2\n 2014","Q1\n 2014"]
[null,"Denmark"]
[null,"    Anholt",null,{"$f":"'OF Asset Book'!G6","v":199.8},null,{"$f":"'OF Statistics 2020-Q2 2025'!E6","v":802.32},791.18,827.51,754.18,913.92794400000002,884,837.3,944,839,797,908,593,16,0,null,136.63885200000004,166.24,255.44,259.13,150.38,143.44999999999999,238.22,257.67,155.59,157.07,257.18,234.67,157.32,150.4321535,211.8,261.80658700000004,190.3,162.6,299,248,194.2,190.3,251.1,275.8,177.3,164,220,298,173,224,249,294,158,176,211,189,210,227,171,287,160,132,329]
[null,"    Horns Rev 1",null,{"$f":"'OF Asset Book'!G7","v":209.3},null,{"$f":"'OF Statistics 2020-Q2 2025'!E7","v":227.82},225.45,216.74,193.18,172.84153000000001,156,168.5,233,235,246,264,239,264,268,null,37.815000000000026,50.55,78.25,70.73,46.09,43.55,65.09,64,46.47,39.840000000000003,66.430000000000007,57.51,28.85,46.721469050853997,60.097540000000002,35.90046000000001,41.8,33.4,62,67,44.2,41.4,3.6,14.6,42.4,47,65,66,50,53,64,66,51,46,72,63,50,58,75,73,51,65,75]
[null,"    Horns Rev 2",null,{"$f":"'OF Asset Book'!G8","v":81},null,{"$f":"'OF Statistics 2020-Q2 2025'!E8","v":764.34},718.16,812.3,728.17,821.58357999999998,899,878.8,932,847,769,950,886,956,911,null,140.11415100000005,150.75,257.14,225.23,139.35,136.34,217.25,245.37,179.68,145.86000000000001,241.4,247.57,142.49,141.48314199999999,196.616545,232.62848399999996,154.80000000000001,146.6,288,260,204.2,161.6,273.60000000000002,294.3,169,176,240,302,164,197,269,260,177,216,194,68,192,237,272,280,173,157,340]
[null,"    Nysted",null,{"$f":"'OF Asset Book'!G9","v":64},null,{"$f":"'OF Statistics 2020-Q2 2025'!E9","v":247.11},211.75,203,220.54,231.4753585,247,254.9,290,253,288,293,261,288,300,null,39.126621499999999,46.06,91.7,61.97,35.9,42.79,71.099999999999994,59.55,37.22,38.31,67.92,64.900000000000006,42.16,42.938742499999996,70.5370195,66.247264000000001,39.200000000000003,51.6,75,56,55,54.3,81.5,78.900000000000006,45.9,55,75,96,50,71,73,76,45,57,75,82,66,47,93,83,59,50,101]
[null,"    Other DK farms (Avedøre Holme)",null,{"$f":"'OF Asset Book'!G10","v":7.2},null,{"$f":"'OF Statistics 2020-Q2 2025'!E10","v":19.64},22.92,24.35,21.83,25.248682000000002,23,57.2,77,68,80,84,67,74,63,null,2.7135790000000002,4.4400000000000004,7.95,6.06,4.99,4.53,7.35,7.37,4.4400000000000004,4.05,8.48,6.72,4.09,4.6870309999999993,6.3298730000000001,7.2160919999999997,4.8,4.7,8,7,5.4,5.3000000000000007,6.8,14,10.5,13,19,25,13,19,20,24,11,14,19,21,19,18,22,27,15,11,31]
[null,"Sub total",null,null,null,{"$f":"'OF Statistics 2020-Q2 2025'!E11","v":2061.23},1969.46,2083.9,1917.8999999999996,2165.0770944999999,2209,2196.6999999999998,2476,2242,2180,2499,2046,1598,1542,null,356.40820350000007,418.04,690.48,623.12,376.71,370.66,599.01,633.95999999999992,423.40000000000003,385.13,641.41,611.37,374.90999999999991,386.26253805085395,545.38097750000009,603.79888699999992,430.90000000000003,398.90000000000003,732,638,502.99999999999994,452.90000000000003,616.59999999999991,677.6,445.1,455,619,787,450,564,675,720,442,509,571,423,537,587,633,750,458,415,876]
[]
[null,"United Kingdom"]
[null,"  Barrow (one-line consolidated in 2013 and 2014)",null,{"$f":"'OF Asset Book'!G18","v":194.4},null,{"$f":"'OF Statistics 2020-Q2 2025'!E14","v":243.169784245258},246.12,258.76,232.83,252.31573379004101,278,276.89999999999998,290,280,307,0,0,149,160,null,53.019131894257015,54.25,77,81.28,58.83,33.75,72.260000000000005,83.01,45.83,50.14,79.78,82.87,34.32,35.782104926889801,79.853462260963198,81.7,42.9,51.5,76,83,65.7,51.5,78.400000000000006,88.3,52.1,44,93,92,56,61,81,76,67,46,91,87,57,68,95,0,0,0,0]
[null,"    Burbo Bank 1+2",null,{"$f":"'OF Asset Book'!G19","v":183.96719999999999},null,{"$f":"'OF Statistics 2020-Q2 2025'!E15","v":683.91656414341901},657.29,661.32,615.12,789.8,711,690,618,264,325,293,294,257,293,null,145.38999999999999,143.86000000000001,210,214.76,146.27000000000001,96.57,199.69,213.97,109.26,133.07,205.02,218.23,83.62,100.82470602329551,212.4,240,153.9,134.30000000000001,262,214,160.9,122,214,234,126.3,87,243,175,149,134,160,75,63,38,88,102,54,71,98,95,48,46,104]
[null,"    Gunfleet Sands 1+2",null,{"$f":"'OF Asset Book'!G20","v":67.5},null,{"$f":"'OF Statistics 2020-Q2 2025'!E16","v":265.49463629660602},282.37,248.09,241.68,298.8,255,272.7,256,269,291,255,271,262,493,null,52.980000000000004,57.35,88,91.33,53.23,58.89,78.930000000000007,80.92,35.56,50.86,80.75,75.040000000000006,41.29,47.781051729061403,77.599999999999994,83.3,60.7,50.7,104,85,51.1,41.8,75.8,84.8,48.9,43,96,85,46,52,73,70,50,51,98,94,50,62,85,80,38,41,96]
[null,"    Gunfleet Sand Demo",null,{"$f":"'OF Asset Book'!G21","v":105},null,{"$f":"'OF Statistics 2020-Q2 2025'!E17","v":31.806740857410102},30.47,15.21,23.47,37,32,34.200000000000003,35,35,39,28,15,0,0,null,5.76,8,10,7.87,7.47,6.28,8.85,6.36,4.18,4.37,0.28999999999999998,8.1,1.72,5.3532085237484202,8.3000000000000007,9.4,6.8,6.3,15,12,6.5,5.4,8.5,10.199999999999999,5.9,5,13,12,7,7,9,9,7,6,13,13,7,8,11,6,4,5,13]
[null,"    Lincs (pro-rata consolidated from February 2017)",null,{"$f":"'OF Asset Book'!G22","v":86.572800000000001},null,{"$f":"'OF Statistics 2020-Q2 2025'!E18","v":254.15007013068001},234.32,233.39,231.59,272,243,244.5,237,0,0,0,0,0,0,null,46.83,53.95,89,69.599999999999994,48.89,41.63,74.2,77.66,29.05,48.81,77.87,79.31,40.65,39.870793048733702,71.8,77.2,53.9,48.2,93,73,52.9,46.6,70.7,76.400000000000006,43.3,42,83,79,53,57,48,0,0,0,0,0,0,0,0,0,0,0,0]
[null,"    London Array 1",null,{"$f":"'OF Asset Book'!G23","v":90},null,{"$f":"'OF Statistics 2020-Q2 2025'!E19","v":0},345.42,517.69000000000005,540.32000000000005,638.04365044583301,490,519,536,567,610,745,1003,65,0,null,0,0,0,0,50,122.4,173.02,171.69,76.73,107.52,161.75,165.85,103.81,98.663513968412005,172,186,124.8,109.3,218,200,86.8,68.2,134.9,151.5,89.5,89,189,180,102,106,148,154,103,105,205,205,104,126,175,176,85,92,392]
[null,"    Walney 1&2",null,{"$f":"'OF Asset Book'!G24","v":90},null,{"$f":"'OF Statistics 2020-Q2 2025'!E20","v":637.358424460013},653.90000000000009,659.68,566.91,708.9,691,676,765,567,707,726,709,693,326,null,148.76,128.89000000000001,183,215.11,153.33000000000001,96.01,189.45,208.39,116.12,136.66,198.51,210.34,75.81,86.22116854436851,194.5,206.3,152.4,120.5,230,210,157.6,121.6,201.6,224.4,132.80000000000001,80,239,245,161,157,202,188,157,121,101,169,144,168,226,220,122,130,254]
[null,"    Walney 3&4",null,{"$f":"'OF Asset Book'!G25","v":12},null,{"$f":"'OF Statistics 2020-Q2 2025'!E21","v":1265.6842513257},1273.1399999999999,1332.96,1084.18,1425.8,1348,1120,103,0,0,0,0,0,0,null,275.22000000000003,249.07,378,394.57,287.99,196.78,393.81,427.05,234.33,270.95,400.64,407.79,150.94,163.10966198772999,362.3,428.2,291.60000000000002,248.5,458,410,303.3,252.8,381.4,422.1,271.39999999999998,204,222,101,2]
[null,"    West of Duddon Sands",null,{"$f":"'OF Asset Book'!G26","v":129.5},null,{"$f":"'OF Statistics 2020-Q2 2025'!E22","v":724.65179905979505},741.82,753.25,633.95000000000005,801.8,734,754,808,735,734,374,0,0,0,null,164.31073744823203,134.94999999999999,222,246.02,177.92,101.52,216.36,242.83,129.6,155.52000000000001,225.29,242.11,87.12,97.932284977449001,206.8,244.5,178,128.1,251,228,176.3,108.6,221.1,243.7,144,114,252,252,176,166,214,208,187,125,215,173,160,164,237,227,75,57,13]
[null,"    Westermost Rough",null,{"$f":"'OF Asset Book'!G27","v":273},null,{"$f":"'OF Statistics 2020-Q2 2025'!E23","v":418.22303195864299},391.51,411.7,386.37,467.3,430,439.8,452,421,277,23,0,0,0,null,77.129462516505981,98,135,122.77,77.14,64.58,127.03,127.01,67.06,83.82,133.81,128.94999999999999,67.739999999999995,66.284845883401999,123.4,129.4,101.1,84.2,152,130,96.2,72.2,132.30000000000001,140.1,74.7,82,143,143,90,101,118,116,85,91,129,112,69,69,27,23,0,0,0]
[null,"    Race Bank",null,{"$f":"'OF Asset Book'!G28","v":329.5},null,{"$f":"'OF Statistics 2020-Q2 2025'!E24","v":1016.10272918598},1093.8699999999999,1074.1199999999999,1018.75,1195.2,1054,1089.2,416,0,0,0,0,0,0,null,188.41276096271497,212.64,302,353.34,219.57,177.85,343.12,347.56,166.62,209.14,350.81,353,172.97,166.16524600470399,326.60000000000002,339.4,229.2,212.1,414,327,234,174,318.5,324.8,191.1,207,366,314,92,10]
[null,"    Hornsea 1",null,{"$f":"'OF Asset Book'!G29","v":609},null,{"$f":"'OF Statistics 2020-Q2 2025'!E25","v":2169.0695040265},2435.63,2518.67,2305.7800000000002,2568.8000000000002,1150,0,0,0,0,0,0,0,0,null,501.29625860702993,414.86,534,791.01,465.48,428.73,750.41,805.02,423.53,510.96,779.14,786.76,411.72,418.06449471616997,689.2,758.6,546.70000000000005,470.1,793,575,386.4,167.2,21.2]
[null,"    Hornsea 2",null,{"$f":"'OF Asset Book'!G30","v":660},null,{"$f":"'OF Statistics 2020-Q2 2025'!E26","v":2647.4193419327098},2501.5500000000002,2303.92,-1.1499999999999999,0,0,0,0,0,0,0,0,0,0,null,463.10647703090012,472.89,914,845.79,513,354.15,788.61,839.46,774.15,522.41,167.9,-1.1499999999999999]
[null,"Sub total",null,null,null,{"$f":"'OF Statistics 2020-Q2 2025'!E27","v":10357.046877622714},10887.41,10988.76,7879.8000000000011,9455.7593842358729,7416,6116.3,4516,3138,3290,2444,2292,1426,1272,null,2122.2148284596396,2028.71,3142,3433.45,2259.12,1779.1399999999999,3415.7400000000002,3630.9300000000003,2212.02,2284.2299999999996,2861.56,2757.2000000000003,1271.71,1326.0530803339643,2524.7534622609637,2784,1942,1663.8000000000002,3066,2547,1777.6999999999998,1231.9000000000003,1858.3999999999999,2000.3,1180,997,1939,1678,934,851,1053,896,719,583,940,955,645,736,954,827,372,371,872]
[]
[null,"Germany"]
[null,"    Borkum Riffgrund 1",null,{"$f":"'OF Asset Book'!G42","v":156},null,{"$f":"'OF Statistics 2020-Q2 2025'!E30","v":475.07745419999998},449.24,398.94,424.13,541.47452000000101,491,487.7,542,522,321,0,0,0,0,null,90.777279200000009,88.51,167,171.32,82.59,73.89,121.44,128.30000000000001,74.569999999999993,73.91,122.16,140.61000000000001,82.1,69.303939999999997,132.1,167.92368920000098,94.5,89.338205600000038,190,161,104.9,89.2,136.19999999999999,146.9,87.8,112,141,147,102,121,172,166,99,109,148,170,108,42,1,0,0,0,0]
[null,"    Borkum Riffgrund 2",null,{"$f":"'OF Asset Book'!G43","v":225},null,{"$f":"'OF Statistics 2020-Q2 2025'!E31","v":673.40018499999996},670.09,652.32000000000005,674.13,764.69639360000099,623,189.9,0,0,0,0,0,0,0,null,112.876395,129.63999999999999,243,237.19,121.94,123.26,187.7,211.09,123.07,123.02,195.13,241.58,125.49,103.777395,203.3,267.45825359999998,154.4,136.32565580000002,207,214,129.69999999999999,112.1,166.7,158.1,31.8]
[null,"    Gode Wind 1",null,{"$f":"'OF Asset Book'!G44","v":166},null,{"$f":"'OF Statistics 2020-Q2 2025'!E32","v":570.70523000000003},542.53,510.56,525.63,566.94120600000099,629,584.4,559,67,0,0,0,0,0,null,107.60214500000001,114.24,195,179.92,101.13,116.4,145.07,165.38,106.08,99.79,139.31,171.89,107.38,85.638859999999994,160.69999999999999,126.41325080000098,122.5,107.70546379999999,210,193,133.69999999999999,132.4,169.6,178.9,110.4,141,154,160,117,143,139,31,36,0,0,0,0,0,0,0,0,0,0]
[null,"    Gode Wind 2",null,{"$f":"'OF Asset Book'!G45","v":126},null,{"$f":"'OF Statistics 2020-Q2 2025'!E33","v":429.95774},414.21,386.92,398.23,426.86857400000099,477,443.7,419,75,0,0,0,0,0,null,81.870175000000017,87.07,148,144.72,73.06,84.85,111.58,121.26,83.06,74.78,108,125.88,83.8,73.487160000000003,115.1,93.5061556,91.8,86.398525199999995,155,143,102.6,105,126.2,132.4,81.3,112,118,123,87,105,104,27,36,11,1,0,0,0,0,0,0,0,0]
[null,"    Gode Wind 3",null,{"$f":"'OF Asset Book'!G46","v":673},null,{"$f":"'OF Statistics 2020-Q2 2025'!E34","v":206.81896443750099},null,null,null,null,null,null,null,null,null,null,null,null,null,null,74.177019999999999,14.6]
[null,"Sub total",null,null,null,{"$f":"'OF Statistics 2020-Q2 2025'!E35","v":2355.9595736375009},2076.0699999999997,1948.74,2022.12,2299.9806936000041,2220,1705.7,1520,664,321,0,0,0,0,null,467.30301420000001,434.06,753,733.15,378.71999999999997,398.4,565.79,626.03,386.78,371.5,564.59999999999991,679.96,398.77,332.20735500000001,611.19999999999993,655.30134920000205,463.2,419.76785040000004,762,711,470.9,438.70000000000005,598.70000000000005,616.29999999999995,311.3,365,413,430,306,369,415,224,171,120,149,170,108,42,1,0,0,0,0]
[]
[null,"Netherlands"]
[null,"     Borssele 1&2",null,{"$f":"'OF Asset Book'!G64","v":376},null,{"$f":"'OF Statistics 2020-Q2 2025'!E38","v":1332.6333749999999},1449.05,1258.92,1904.5,1206.948676,0,0,0,0,0,0,0,0,0,null,257.77,269.08999999999997,444,489.76,259.45999999999998,288.08,411.75,400.87,197,261.64999999999998,399.97,383.12,235.11,451.16110754005001,835.1,835.1,308.2,63.4,0,0,0,0,0,0,0,0,0,0,0,0,0,0,0,0,0,0,0,0,0,0,0,0,0]
[null,"Sub total",null,null,null,{"$f":"'OF Statistics 2020-Q2 2025'!E39","v":1332.6333749999999},1449.05,1258.92,1904.5,1206.948676,0,0,0,0,0,0,0,0,0,null,257.77,269.08999999999997,444,489.76,259.45999999999998,288.08,411.75,400.87,197,261.64999999999998,399.97,383.12,235.11,451.16110754005001,835.1,835.1,308.2,63.4,0,0,0,0,0,0,0,0,0,0,0,0,0,0,0,0,0,0,0,0,0,0,0,0,0]
[]
[null,"United States"]
[null,"    Block Island",null,{"$f":"'OF Asset Book'!G54","v":30},null,{"$f":"'OF Statistics 2020-Q2 2025'!E42","v":92.233620000000002},86.6,109.79,83.78,120,120,22.8,0,0,0,0,0,0,0,null,16.078610999999995,22.12,31.47,25.14,15.67,17.66,28.13,33.68,21.33,20.46,34.310231999999999,20.399999999999999,5.59,25.646661999999999,32.1,33.799999999999997,20,33.799999999999997,32,35,22.2,31,31.8,22.8,0,0,0,0,0,0,0,0,0,0,0,0,0,0,0,0,0,0,0]
[null,"    South Fork",null,{"$f":"'OF Asset Book'!G55","v":66},null,{"$f":"'OF Statistics 2020-Q2 2025'!E43","v":179.568285},1.1100000000000001,null,null,null,null,null,null,null,null,null,null,null,null,null,32.060799999999986,47.9,29.49,1.1100000000000001]
[null,"Sub total",null,null,null,{"$f":"'OF Statistics 2020-Q2 2025'!E44","v":271.80190500000003},87.71,109.79,83.78,120,120,22.8,0,0,0,0,0,0,0,null,48.139410999999981,70.02,60.959999999999994,26.25,15.67,17.66,28.13,33.68,21.33,20.46,34.310231999999999,20.399999999999999,5.59,25.646661999999999,32.1,33.799999999999997,20,33.799999999999997,32,35,22.2,31,31.8,22.8,0,0,0,0,0,0,0,0,0,0,0,0,0,0,0,0,0,0,0]
[]
[null,"Taiwan"]
[null,"Greater Changhua 1",null,{"$f":"'OF Asset Book'!G72","v":302.5},null,{"$f":"'OF Statistics 2020-Q2 2025'!E47","v":1110.2862000499999},514.04999999999995,42.85,0,0,0,0,0,0,0,0,0,0,0,null,126.77444000000003,234.78,278.13,320.06,94.18,47.27,52.54,42.85,0,0,0,0,0,0,0,0,0,0,0,0,0,0,0,0,0,0,0,0,0,0,0,0,0,0,0,0,0,0,0,0,0,0,0]
[null,"Greater Changhua 2a ",null,{"$f":"'OF Asset Book'!G73","v":295},null,{"$f":"'OF Statistics 2020-Q2 2025'!E48","v":1109.67704},776.77,49.87,0,0,0,0,0,0,0,0,0,0,0,null,143.82828000000006,212.62,301.08999999999997,385.04,159.83000000000001,142.88,89.02,42.67,5.87,1.32,0,0,0,0,0,0,0,0,0,0,0,0,0,0,0,0,0,0,0,0,0,0,0,0,0,0,0,0,0,0,0,0,0]
[null,"Sub total",null,null,null,{"$f":"'OF Statistics 2020-Q2 2025'!E49","v":2219.96324005},1290.82,92.72,0,0,0,0,0,0,0,0,0,0,0,null,270.60272000000009,447.4,579.22,705.1,254.01000000000002,190.15,141.56,85.52000000000001,5.87,1.32,0,0,0,0,0,0,0,0,0,0,0,0,0,0,0,0,0,0,0,0,0,0,0,0,0,0,0,0,0,0,0,0,0]
[]
[null,"Total  generation, GWh",null,null,null,{"$f":"'OF Statistics 2020-Q2 2025'!E51","v":18598.634971310217},17760.519999999997,16482.830000000002,13808.1,15247.765848335877,11965,10041.5,8512,6044,5791,4943,4338,3024,2814,null,3522.4381771596395,3667.32,5669.66,6010.83,3543.69,3044.0899999999997,5161.9800000000005,5410.99,3246.3999999999996,3324.2899999999995,4501.8502319999998,4452.05,2286.09,2521.3307429248684,4548.5344397609642,4912.0002362000023,3164.2999999999997,2579.6678504000006,4592,3931,2773.7999999999997,2154.5000000000005,3105.5,3317,1936.3999999999999,1817,2971,2895,1690,1784,2143,1840,0,1212,1660,1548,1290,1365,1588,0,0,0,0]
[]
[null,"Other generation, GWh"]
[null,"    Lincs one-line consolidation",null,null,null,null,null,0,0,0,0,0,0,245,251,248,105,0,0,null,0,null,null,null,null,0,0,0,0,0,0,0,0,0,0,0,0,0,0,0,0,0,0,0,0,0,0,0,0,0,0,69,44,53,79,70,46,54,81,101,17,41,89]
[null,"    Barrow one-line consolidation",null,null,null,null,null,0,0,0,0,0,0,0,0,160,152,0,0,null,0,null,null,null,null,0,0,0,0,0,0,0,0,0,0,0,0,0,0,0,0,0,0,0,0,0,0,0,0,0,0,0,0,0,0,0,0,0,0,51,25,28,56]
[null,"    Formosa 1 one-line consolidation",null,null,null,null,173,172,157,171,47.6,9.1999999999999993,4,0,0,0,0,0,0,null,27,36,52,39,27,37,70,54,25,27,66,35,24,39,59,null,39,34.6,34,38,5.7,1.6,2.2999999999999998,3.1,1.8,1.7,2.6,4,1.2,1.5,0,0,0,0,0,0,0,0,0,0,0,0,0]
[null,"Sub total",null,null,null,null,173,172,157,170.6,47.6,9.1999999999999993,4,245,251,408,257,0,0,null,27,36,52,39,27,37,70,54,25,27,66,35,24,39,59,59,39,34.6,38,38,5.7,1.6,2.2999999999999998,3.1,1.8,1.7,2.6,4,1.2,1.5,0,69,44,53,79,70,46,54,81,152,42,69,145]
[null,"Total generation, including one-line consolidation, GWh",null,null,null,null,17933.519999999997,16654.830000000002,13965.1,15418.365848335878,12012.6,10050.700000000001,8516,6289,6042,5408,5574,4636,4412,null,3549.4381771596395,3703.32,5721.66,6049.83,3570.69,3081.0899999999997,5231.9800000000005,5464.99,3271.3999999999996,3351.2899999999995,4567.8502319999998,4487.05,2310.09,2560.3307429248684,4607.5344397609642,4971.0002362000023,3203.2999999999997,2614.2678504000005,4630,3969,2779.4999999999995,2156.1000000000004,3107.8,3320.1,1938.1999999999998,1818.7,2973.6,2899,1691,1786,2143,1909,44,1265,1739,1618,1336,1419,1669,1738,879,877,1912]
[]
[null,"Sales, GWh"]
[null,"Power sales",null,null,null,null,21448,23194,25019.53,29151.924378981901,27615,27434,null,null,null,null,null,null,null,null,4010,3854,6264,6244,3948,4158,7098,7645,3483,5258,6808,8790.73,4802.6000000000004,4541.4129508960004,6885,8560.5809460467899,6282,5519,8790,7682,7003,5700,7229,7692,5206,5360,9176]
[]
[null,"Business drivers Offshore"]
[null,"Decided (FID'ed) and installed capacity, GW",null,null,null,null,15.542999999999999,11.1,10.9,9.9,9.9,9,8.9,7.4,5.0999999999999996,3.8,3.6,2.8,2.8,null,16.768999999999998,16.767000000000003,16.466999999999999,15.542999999999999,11.99,12,11.987,11.1,11.1,11.1,11.1,10.9,9.8000000000000007,9.8000000000000007,9.9,9.9,9.9,9.9,9.9,9.9,9.8580000000000005,9.8580000000000005,9,9,8.9,8.9,8.9,8.9,8.9,7.5,7.4,7.4,7.4,6.7,6.3,5.0999999999999996,4.4000000000000004,4.4000000000000004,3.8,3.8,3.6,3.6,3.6]
[null,"Installed capacity, offshore wind, GW ",null,null,null,null,8.8710000000000004,8.9,7.6,7.6,6.8,5.6,3.9,3.6,3,2.5,2.1,1.7,1.2,null,9.9027499999999957,9.8000000000000007,8.8710000000000004,8.8710000000000004,8.8699999999999992,8.9,8.9,8.9,8.8699999999999992,7.6,7.6,7.6,7.6,7.6,7.6,7.6,6.8,6.8,6.8,6.8,5.6020000000000003,5.6020000000000003,5.6,5.6,5.0999999999999996,5.0999999999999996,4.4000000000000004,3.9,3.8,3.8,3.6,3.6,3,3,3,3,2.7,2.7,2.5,2.5,2.1,2.1,2.1]
[null,"Generation capacity, offshore wind, GW ",null,null,null,null,4.9859999999999998,4.7,4,4.4000000000000004,3.6,3,2.5,2,1.7,1.4,1.3,1.1000000000000001,0.7,null,5.2282399999999996,5.0999999999999996,5.0670000000000002,4.9859999999999998,4.95,4.9000000000000004,4.7,4.7,5.2880000000000003,4.8,4.2,4,4,4,4.4000000000000004,4.4000000000000004,4.09,3.8,3.6,3.6,3.5640000000000001,3.3279999999999998,3,3,2.9,2.8,2.7,2.5,2.2999999999999998,2.2000000000000002,2.1,2,1.8,1.7,1.7,1.7,1.5,1.5,1.4,1.4,1.1000000000000001,1.1000000000000001,1.1000000000000001]
[null,"Wind speed, m/s",null,null,null,null,9.8000000000000007,9.5,9.14,10,9.1999999999999993,9.1,9.3000000000000007,0,0,0,0,0,0,null,8.41,9,11.4,11.5,8.6300000000000008,8.1,10.9,10.7,7.7,8.4,11.3,10.55,7.62,7.8257325186269897,10.5,10.6,8.6,8.4,12.5,10,8.5,8,10.4,10.3,7.7,7.9,10.3,11,7.9,8.5,9.9,0,0,0,0,0,0,0,0,0,0,0,0]
[null,"Load factor, %",null,null,null,null,0.43,0.42,0.39240000000000003,0.45,0.42,0.42,0.44,0.41,0.45,0.44,0.42,0.43,0.43,null,0.31,0.33489999999999998,0.52,0.56000000000000005,0.33,0.28999999999999998,0.53,0.54,0.28000000000000003,0.35,0.54,0.5252,0.26840000000000003,0.28683008781355201,0.496,0.53,0.35099999999999998,0.32100000000000001,0.59799999999999998,0.5,0.37,0.31,0.51,0.53,0.32,0.31,0.55000000000000004,0.54,0.34,0.38,0.5,0.49,0.35,0.34,0.46,0.5,0.36,0.41,0.55000000000000004,0.54,0.28999999999999998,0.3,0.64]
[null,"Availability, %",null,null,null,null,0.93,0.94,0.94230000000000003,0.93699567200832035,0.93,0.93,0.93,0.92,0.93,0.94,0.93,0.94,0.94,null,0.89,0.83,0.85,0.92,0.93,0.91,0.95,0.95,0.91,0.94,0.95,0.94879999999999998,0.92559999999999998,0.92907588513023998,0.95199999999999996,0.94,0.94299999999999995,0.95,0.92700000000000005,0.93,0.93,0.87,0.96,0.93,0.92,0.93,0.94,0.92,0.92,0.93,0.93,0.94,0.92,0.94,0.89,0.9,0.93,0.94,0.94,0.93,0.91,0.94,0.96]
[null,"For accounting policies, please see pages 94-97 in our annual report 2023."]
[null,"1 Reportable segments are reorganised as of November 2019. 2018 and 2019 figures are restated."]
[]
[]
[]
[]
[]
[null,null,null,null,null,null,1243]
[null,null,null,null,null,null,263,{"$f":"G78/G77","v":0.21158487530168946},{"$f":"1-H78","v":0.78841512469831054}]

{"sheet":"ON Asset Book","index":7,"n_rows":102,"n_cols":12,"rows_kept":102,"cut":false,"hidden":false,"merged":[[72,8,73,8],[22,3,23,3],[22,4,23,4],[22,5,23,5],[22,6,23,6],[22,7,23,7],[36,8,37,8],[36,3,37,3],[36,4,37,4],[36,5,37,5],[72,3,73,3],[72,4,73,4],[72,5,73,5],[72,6,73,6],[72,7,73,7],[36,6,37,6],[36,7,37,7],[3,8,4,8],[3,3,4,3],[3,4,4,4],[3,5,4,5],[3,6,4,6],[3,7,4,7],[22,8,23,8]]}
[]
[null,"ONSHORE1 - Asset Book updated as of 30 September 2024"]
[]
[null,null,null,"Park\ncapacity, MW","Renewable \ncapacity9, MW","Orsted ownership\nshare, %","Generation\ncapacity, MW","Financial consolidation","Commercial operational date"]
[null,"USA","Partners",null,null,null,null,null,null,"Subsidy regime","Subsidy expiry","Subsidy Qualification Level3"]
[null,"Wind"]
[null,"Willow Springs  (100 x GE-2.5)",null,250,250,"100%",250,"Full","2017","PTC2",2027,"100% PTC"]
[null,"Dermott (110 x GE-2.3)",null,253,253,"100%",253,"Full","2017","PTC2",2027,"100% PTC"]
[null,"Tahoka (120 x GE-2.5)",null,300,300,"100%",300,"Full","2018","PTC2",2028,"100% PTC"]
[null,"Lockett (75 x GE-2.45)",null,183.75,183.75,"100%",183.75,"Full","2019","PTC2",2029,"100% PTC"]
[null,"Sage Draw (120 x GE-2.82)",null,338.4,338.4,"100%",338.4,"Full","2020","PTC2",2030,"100% PTC"]
[null,"Plum Creek (82 x GE-2.8)8",null,229.6,229.6,"100%",229.6,"Full","2020","PTC2",2030,"100% PTC"]
[null,"Willow Creek (5 x GE-2.3, 33 x GE-2.78)8",null,103.24,103.24,"100%",103.24,"Full","2020","PTC2",2030,"100% PTC"]
[null,"Western Trail (130 x GE-2.82)11",null,367,367,"100%",366.6,"Full","2021","PTC2",2031,"100% PTC"]
[null,"Lincoln Land (107 x GE-2.82)8",null,302,302,"100%",301.74,"Full","2021","PTC2",2031,"100% PTC"]
[null,"Haystack (51 x SG-5.0, 18 x SWT-2.4)",null,298,298,"100%",298.47000000000003,"Full","2022","PTC2",2032,"100% PTC"]
[null,"Helena Energy Center (Helena Wind) (51 x V-4.2, 15 x V-3.6)11",null,268.2,268.2,"100%",268,"Full","2022","PTC2",2032,"100% PTC"]
[null,"Ford Ridge (43 x GE-2.82)11",null,121,121,"100%",121,"Full","2022","PTC2",2032,"100% PTC"]
[null,"Sunflower Wind (76 x GE-2.82)11",null,201,201,"100%",201,"Full",2023,"PTC2",2033,"100% PTC"]
[null,"Total, Installed ",null,null,3215.1899999999996,null,3214.8]
[null,"Total onshore wind, USA",null,null,3215.1899999999996,null,3214.8]
[]
[null,null,null,"Park\ncapacity, MW","Renewable \ncapacity9, MW","Orsted ownership\nshare, %","Generation\ncapacity, MW","Financial consolidation","Commercial operational date"]
[null,"USA","Partners",null,null,null,null,null,null,"Subsidy regime","Subsidy expiry","Subsidy Qualification Level3"]
[null,"Solar"]
[null,"Permian Energy Center4",null,460,460,"100%",420,"Full","2021","ITC","n/a","30% ITC"]
[null,"Muscle Shoals8",null,227,227,"100%",227,"Full","2021","ITC","n/a","30% ITC"]
[null,"Old 300 Solar7",null,430,430,1,430,"Full","2023"]
[null,"Helena Energy Center (Sparta Solar)",null,250,250,1,250,"Full","2024"]
[null,"Eleven Mile6",null,600,600,1,300,"Full","2024"]
[null,"Total, Installed",null,null,1967,null,1627]
[null,"Total, Divested but constructed by Ørsted5",null,null,10]
[null,"Mockingbird",null,471,471,1,0,"Full","2024"]
[null,"Total, Decided (FID'ed)",null,null,471,null,0]
[null,"Total solar PV, USA",null,null,2448,null,1627]
[]
[null,null,null,"Park\ncapacity, MW","Renewable \ncapacity9, MW","Orsted ownership\nshare, %","Generation\ncapacity, MW","Financial consolidation","Commercial operational date"]
[null,"Europe","Partners",null,null,null,null,null,null,"Subsidy regime","Subsidy expiry"]
[null,"Wind"]
[null,"Knockawarriga 1 (9 x Nordex-N90)",null,22.5,22.5,1,22.5,"Full","2008","Expired","N/A"]
[null,"Knockawarriga 2 (3 x Nordex-N90)",null,7.5,7.5,1,7.5,"Full","2020","REFIT 2","2032"]
[null,"Booltiagh 1 (12 x GE-1.5)",null,18,18,1,18,"Full","2005","CPPA",2028]
[null,"Booltiagh 2 (6 x Enercon-E82)",null,12,12,1,12,"Full","2013","REFIT 1",2028]
[null,"Smithstown (4 x Enercon-E82)",null,8,8,1,8,"Full","2013","REFIT2",2028]
[null,"Lisheen 1 (18 x Vestas-V90)",null,36,36,1,36,"Full","2009","REFIT 1",2024]
[null,"Lisheen 2 (12 x Vestas-V90)",null,24,24,1,24,"Full","2013","REFIT 1",2028]
[null,"Lisheen 3 (8 x Vestas-V136)",null,29,29,1,29,"Full","2023","CPPA","2043"]
[null,"Garracummer (17 x Nordex-N90)",null,42.5,42.5,1,42.5,"Full","2013","REFIT 1",2028]
[null,"Ballymartin (3 x Enercon-E82)",null,6.9,6.9,1,6.9,"Full","2011","REFIT 2",2026]
[null,"Flughland (4 x Enercon-E70)",null,9.1999999999999993,9.1999999999999993,1,9.1999999999999993,"Full","2009","REFIT 1",2024]
[null,"Inchincoosh (13 x Nordex-N90)",null,32.5,32.5,1,32.5,"Full","2009","REFIT 1",2024]
[null,"Sillahertane (10 x Vestas-V52)",null,8.5,8.5,1,8.5,"Full","2009","REFIT 1",2024]
[null,"Sorne Hill 1 (16 x Enercon-E70)",null,32,32,1,32,"Full","2006","CPPA","2024"]
[null,"Sorne Hill 2 (3 x Enercon-E70)",null,6.9,6.9,1,6.9,"Full","2009","REFIT 1",2024]
[null,"Kilgarvan (15 x Vestas-V90)",null,45,45,1,45,"Full","2007","CPPA",2028]
[null,"Gneeves (8 x Vestas-V52)",null,9.35,9.35,1,9.35,"Full","2006","Expired","N/A"]
[null,"Mienvee (1 x Vestas-V52)",null,0.9,0.9,1,0.9,"Full","2004","Expired","N/A"]
[null,"Owenreagh 1 (9 x Zond-Z40)",null,2.4750000000000001,2.4750000000000001,0.5,0,"One-line","1997","ROC",2025]
[null,"Owenreagh 2 (6 x Vestas-V52)",null,2.5499999999999998,2.5499999999999998,0.5,0,"One-line","2008","ROC","2025"]
[null,"Kennoxhead phase 1 (13 x Nordex-N133)",null,62,62,1,62,"Full","2022","CPPA","2034"]
[null,"Amazon Wind Farm Northern Ireland - Ballykeel",null,16,16,1,16,"Full","2023","CPPA","2038"]
[null,"Schiederhof (2 x Vestas-V126)",null,7.2,7.2,1,7.2,"Full","2018","CPPA","2028"]
[null,"Rotmainquelle (5 x Enercon-E115)",null,15,15,1,15,"Full","2015/2016","CPPA","2025"]
[null,"Granswang (3 x Enercon-E101)",null,9.15,4.5750000000000002,0.5,0,"One-line","2016","CPPA","2026"]
[null,"Total, Installed",null,null,460.55,null,450.95]
[null,"Total, Divested but constructed by Ørsted10",null,null,50]
[null,"Bahren West 1",null,50.4,50,1,0,"Full","2024","EEG","2044"]
[null,"St. Wendel",null,17,17,1,0,"Full","2025","EEG","2045"]
[null,"Farranrory (9 x Nordex-N133)",null,43.2,43.2,1,"-","Full","2026","RESS 3"]
[null,"Total, Decided (FID'ed) ",null,null,110.2,null,0]
[null,"Total onshore wind, Europe",null,null,620.75,null,450.95]
[]
[null,null,null,"Park\ncapacity, MW","Renewable \ncapacity9, MW","Orsted ownership\nshare, %","Generation\ncapacity, MW","Financial consolidation","Commercial operational date"]
[null,"Europe","Partners",null,null,null,null,null,null,"Subsidy regime","Subsidy expiry"]
[null,"Solar"]
[null,"Altenschwand",null,10.433999999999999,10.433999999999999,1,10.433999999999999,"Full","2022","CPPA","2024"]
[null,"Amberg Sud",null,4.3,4.3,1,4,"Full","2024"]
[null,"Total, Installed ",null,null,14.733999999999998,null,14.433999999999999]
[null,"Total, Divested but constructed by Ørsted10",null,null,3.78]
[null,"Garreenleen, phase 1",null,81,81,1,0,"Full","2026","RESS 3"]
[null,"Total, Decided (FID'ed) ",null,null,81,null,0]
[null,"Rottenegg Solarpark",null,null,6,1,0,"Full","2025","EEG"]
[null,"Hatzenhof Solarpark",null,null,9,1,0,"Full","2025","EEG"]
[null,"Ballinrea Solarfarm",null,null,55,1,0,"Full","2026","RESS 4"]
[null,"Total, Awarded & Contracted",null,null,70]
[null,"Total solar PV, Europe",null,null,169.51400000000001,null,14.433999999999999]
[null,"Totals",null,null,"MW"]
[null,"Total renewable capacity (Installed capacity (incl. divested farms), decided capacity (parks under construction), and contracted capacity)",null,null,6454.4539999999997]
[null,"Installed capacity (incl. divested farms)",null,null,5722.2539999999999]
[null,"Generation capacity (incl. parks under construction but excl. divested and one-line consolidated farms)",null,null,5308.1840000000002]
[]
[null,"1 Assets in operation and assets where Final Investment Decision has been taken\n",null,null,null,null,{"$f":"G86+G71+G35+G21","v":5307.1840000000002}]
[null,"2 Production tax credits"]
[null,"3 100% PTC qualification yielded $24/MWh tax credit in 2018 and is adjusted yearly with inflation\n"]
[null,"4 Including storage (40 MWAC)"]
[null,"5 Oak solar divested in June 2020"]
[null,"6 Including storage (300MWAC)"]
[null,"7 As of Q1 2023, approx. 80% of the park has been installed"]
[null,"8 In Q4 2022, 50% of the ownership stake was divested. Ørsted remains having control of the company after the divestment and continues to consolidate the company 100%. See Interrim financial report, First nine months 2022 p39 for more details. "]
[null,"9  Renewable capacity is the sum of installed, decided (FID'ed), and awarded capacity "]
[null,"10 Ostwind, France divested in Q2 2024"]
[null,"11 In Q1 2024, an agreement was signed to divest a share of the asset. Ørsted continues to have full operational control, and will continue to consolidate the company 100%. See interim report, First quarter 2024 p 4."]

{"sheet":"On Shore","index":8,"n_rows":121,"n_cols":35,"rows_kept":121,"cut":false,"hidden":false,"merged":[]}
[]
[null,"Onshore"]
[null,null,null,null,null,null,"Capacity Factor"]
[null,"Generation Ørsted share, GWh",null,"Capacity",2023,{"$f":"E4-1","v":2022},{"$f":"F4-1","v":2021},2020,2019,2018,null,"Q3\n2024","Q2\n2024","Q1\n2024","Q4\n2023","Q3\n2023","Q2\n2023","Q1\n2023","Q4\n2022","Q3\n2022","Q2\n2022","Q1\n2022","Q4\n2021","Q3\n2021","Q2\n2021","Q1\n2021","Q4\n2020","Q3\n2020","Q2 \n2020","Q1 \n2020","Q4 \n2019","Q3 \n2019","Q2\n 2019","Q1\n 2019","Q4\n 2018"]
[null,"United states - wind farms"]
[null,"    Willow Springs",{"$f":"$B$5","v":"United states - wind farms"},{"$f":"'ON Asset Book'!G7","v":250},845.87,873.8,922.62,953.67301289388899,959,220,null,163.65878211859598,245.94,243.09,221.96,191.91,203.91,228.08,159.34,163.44999999999999,289.25,261.76,258.14999999999998,191.05,214.44382858199799,259,258.83256826260595,188,261.50223219999901,245,239,221,253,246.7,220]
[null,"    Dermott",{"$f":"$B$5","v":"United states - wind farms"},{"$f":"'ON Asset Book'!G8","v":253},870.93,946.44,933.21,977.74349536888303,989,231.9,null,167.88680171559292,263.39999999999998,237.83,219.7,185.57,198.29,267.38,220.81,169.15,293.83999999999997,262.64999999999998,260.82,172.16,244.5197229,255.7,271.53986148161198,197,257.58154000000002,251,251,218,261,258.39999999999998,231.9]
[null,"    Tahoka","United states - wind farms",{"$f":"'ON Asset Book'!G9","v":300},1114.5899999999999,1185.44,1130.47,1254.1655425977899,1152,97,null,210.33997171559099,322.5,304.70999999999998,269.19,216.02,276.79000000000002,352.59,284.93,209.98,362.97,327.56,330.02,229.18,289.37633233399902,281.89999999999998,340.88351683761891,233,341.32940499999995,339,309,242,283,317.60000000000002,97]
[null,"    Lockett","United states - wind farms",{"$f":"'ON Asset Book'!G10","v":183.75},722.14,770.79,746.97,742.148061193422,398,0,null,147.22383932379006,193.36,196.97,182.75,163.33000000000001,163.30000000000001,212.75,177.29,152.91999999999999,247.12,193.45,200.6,130.28,210.93045685999999,205.2,209.92369771231597,162,201.05502340000001,170,196,175,27,0,0]
[null,"    Sage draw","United states - wind farms",{"$f":"'ON Asset Book'!G11","v":338.4},1129.77,1255.9100000000001,1191.06,1110.64831016988,0,0,null,216.22325630758996,333.73,316.63,269.87,224.54,279.88,355.49,296.26,205.49,395.35,358.81,347.43,210.49,332.41001084099901,300.7,361.79380427162903,248,365.22430879999899,136,0,0,0,0,0]
[null,"    Plum Creek","United states - wind farms",{"$f":"'ON Asset Book'!G12","v":229.6},833.51,1008.87,887.46,560,0,0,null,156.27304609999999,215.1,221.24,230.4,156.4,205.8,240.92,277.66000000000003,191.61,235.52,304.08,278.13,208.44,201.96979099999999,198.9,257.07365800000105,217,84.9203070627036,0,0,0,0,0,0]
[null,"    Willow Creek","United states - wind farms",{"$f":"'ON Asset Book'!G13","v":103.24},370.24,431.93,408.42,133.606651,0,0,null,79.981185358333022,110.97,89.23,91.94,77.03,98,103.79,101.41,92.06,104.52,133.94999999999999,117.83,65.53,127.258221566667,97.8,116.68852699999991,17,0,0,0,0,0,0,0]
[null,"    Western Trail","United states - wind farms",{"$f":"'ON Asset Book'!G14","v":366.6},834.19,1332.74,567.41999999999996,0,0,0,null,215.56913311159792,309.83999999999997,268.89999999999998,74.39,128.28,254.38,377.13,300.26,231.72,433.71,367.06,333.46,233.96,0,0,0,0,0,0,0,0,0,0,0]
[null,"    Lincoln Land","United states - wind farms",{"$f":"'ON Asset Book'!G15","v":301.74},948.23,1007.76,162.66,0,0,0,null,145.80310866666696,280.5,317.58999999999997,269.82,139.25,255.3,283.86,291.89999999999998,164.64,303.12,248.1,162.66,0,0,0,0,0,0,0,0,0,0,0,0]
[null,"    Haystack","United states - wind farms",{"$f":"'ON Asset Book'!G16","v":298.47000000000003},869.37,871.18,46.6,0,0,0,null,104.578875983334,231.94,221.63,253.54,151.61000000000001,222.94,241.28,276.99,169.74,206.94,217.5,46.6,0,0,0,0,0,0,0,0,0,0,0,0]
[null,"    Helena Wind","United states - wind farms",{"$f":"'ON Asset Book'!G17","v":268},776.54,507.95,0,0,0,0,null,128.89969973041093,219.79,218.02,183.77,165.38,182.25,245.13,176.6,146.78,184.57,0,0,0,0,0,0,0,0,0,0,0,0,0,0]
[null,"   Ford Ridge ","United states - wind farms",{"$f":"'ON Asset Book'!G18","v":121},460.45,196.05,0,0,0,0,null,61.191608583332993,129.93,144.22999999999999,137.9,62.63,113.11,146.80000000000001,147.72999999999999,48.32,0,0,0,0,0,0,0,0,0,0,0,0,0,0,0]
[null,"   Sunflower Wind","United states - wind farms",{"$f":"'ON Asset Book'!G19","v":201},347.91,0,0,0,0,0,null,149.25711953333297,206.64,222.73,235.01,112.9,0,0,0,0,0,0,0,0,0,0,0,0,0,0,0,0,0,0,0]
[null,"United states - solar farms"]
[null,"     Oak",{"$f":"$B$19","v":"United states - solar farms"},{"$f":"'ON Asset Book'!G26","v":420},null,0,0,7.3,15,2.8,null,0,0,0,0,0,0,0,0,0,0,0,0,0,0,0,0,0,4,3,2.7,4,5,2.9,2.8]
[null,"     Permian Energy Center",{"$f":"$B$19","v":"United states - solar farms"},{"$f":"'ON Asset Book'!G27","v":227},908.84,938.42,717.38,0,0,0,null,285.82807597373994,271.27,176.18,166.79,307.5,301.39,133.16,159.18,316.83999999999997,276.99,185.4,164.64,249.95,254.95793441499899,47.8,0,0,0,0,0,0,0,0,0]
[null,"     Muscle Shoals","United states - solar farms",{"$f":"'ON Asset Book'!G28","v":430},426.03,490.85,300.83999999999997,0,0,0,null,133.42437541251599,132.01,76.400000000000006,79.209999999999994,134.97999999999999,127.95,83.89,87.44,134.88999999999999,164.86,103.65,107.93,125.51,67.390647999999999,0,0,0,0,0,0,0,0,0,0]
[null,"     Old 300","United states - solar farms",{"$f":"'ON Asset Book'!G29","v":250},796.16,491.29,0,0,0,0,null,241.16200347075198,213.41,146.88999999999999,145.38999999999999,265.79000000000002,238.82,146.16999999999999,141.78,224.65,124.87,0,0,0,0,0,0,0,0,0,0,0,0,0,0]
[null,"     Helena Energy Center","United states - solar farms",{"$f":"'ON Asset Book'!G30","v":300},null,null,null,null,null,null,null,175.4392709947644,213.3]
[null,"     Eleven Mile","United states - solar farms",{"$f":"'ON Asset Book'!G31","v":1627},null,null,null,null,null,null,null,241.72686019000011,75.709999999999994]
[null,"     Mockingbird","United states - solar farms",{"$f":"'ON Asset Book'!G32","v":0},null,null,null,null,null,null,null,80]
[null,"Europe - wind farms"]
[null,"Knockawarriga 1 (9 x Nordex-N90)",{"$f":"$B$27","v":"Europe - wind farms"},{"$f":"'ON Statistics 2018-Q3 2024'!D31","v":22.5},56.83,52.35,23.28,0,0,0,null,10.849665278780897,10.119999999999999,17.600000000000001,17.23,13.25,10.08,16.28,16.73,8.25,11.98,15.4,13.61,7.54,2.131650333709,0,0,0,0,0,0,0,0,0,0]
[null,"Knockawarriga 2 (3 x Nordex-N90)",{"$f":"$B$27","v":"Europe - wind farms"},{"$f":"'ON Statistics 2018-Q3 2024'!D32","v":7.5},17.39,15.85,7.27,0,0,0,null,3.3247291254001894,3.13,5.17,5.17,3.96,2.94,5.32,4.83,2.4,3.68,4.9400000000000004,4.22,2.4,0.65900000000000003,0,0,0,0,0,0,0,0,0,0]
[null,"Booltiagh 1 (12 x GE-1.5)","Europe - wind farms",{"$f":"'ON Statistics 2018-Q3 2024'!D33","v":18},24.25,25.03,10.6,0,0,0,null,3.4862714802785,4.6500000000000004,7.63,7.52,5.31,4.03,7.41,6.82,3.1,6.58,8.5399999999999991,6.48,2.99,1.1251500000000001,0,0,0,0,0,0,0,0,0,0]
[null,"Booltiagh 2 (6 x Enercon-E82)","Europe - wind farms",{"$f":"'ON Statistics 2018-Q3 2024'!D34","v":12},30.8,30.98,14.04,0,0,0,null,4.3747894631528013,5.55,9.4600000000000009,9.32,7.14,5.5,8.84,8.76,4.5199999999999996,7.29,10.4,8.3699999999999992,4.1500000000000004,1.516,0,0,0,0,0,0,0,0,0,0]
[null,"Smithstown (4 x Enercon-E82)","Europe - wind farms",{"$f":"'ON Statistics 2018-Q3 2024'!D35","v":8},21.91,24.16,10.38,0,0,0,null,5.0548597272979983,4.66,7.3,7.16,5.34,3.42,5.99,8.0299999999999994,3.93,5.1100000000000003,7.08,6.88,2.12,1.3740000000000001,0,0,0,0,0,0,0,0,0,0]
[null,"Lisheen 1 (18 x Vestas-V90)","Europe - wind farms",{"$f":"'ON Statistics 2018-Q3 2024'!D36","v":36},84.37,87.42,40.54,0,0,0,null,14.506687255254896,17.59,27.43,25.89,18.489999999999998,14.84,25.16,29.25,9.5500000000000007,21.6,27.01,25.96,9.98,4.5965879999999997,0,0,0,0,0,0,0,0,0,0]
[null,"Lisheen 2 (12 x Vestas-V90)","Europe - wind farms",{"$f":"'ON Statistics 2018-Q3 2024'!D37","v":24},58.19,58.4,27.16,0,0,0,null,10.4433490892308,11.68,19,17.920000000000002,12.69,10.19,17.39,20.079999999999998,5.32,14.36,18.64,17.28,6.74,3.1490450000000001,0,0,0,0,0,0,0,0,0,0]
[null,"Lisheen 3 (8 x Vestas-V136)","Europe - wind farms",{"$f":"'ON Statistics 2018-Q3 2024'!D38","v":29},75.099999999999994,6.17,0,0,0,0,null,15.157622024030395,16.940000000000001,25.84,22.6,15.8,14.01,22.69,6.17,0,0,0,0,0,0,0,0,0,0,0,0,0,0,0,0]
[null,"Garracummer (17 x Nordex-N90)","Europe - wind farms",{"$f":"'ON Statistics 2018-Q3 2024'!D39","v":42.5},113.45,116.77,53.4,0,0,0,null,20.818197730941009,20.239999999999998,35.44,34.11,27.22,18.559999999999999,33.57,38.020000000000003,17.559999999999999,25.35,35.85,32.450000000000003,15.02,5.9290000000000003,0,0,0,0,0,0,0,0,0,0]
[null,"Ballymartin (3 x Enercon-E82)","Europe - wind farms",{"$f":"'ON Statistics 2018-Q3 2024'!D40","v":6.9},14.96,16.62,7.03,0,0,0,null,3.2853493572015893,3,4.91,4.68,3.66,2.42,4.2,5.67,2.52,3.52,4.9000000000000004,4.6900000000000004,1.44,0.90800000000000003,0,0,0,0,0,0,0,0,0,0]
[null,"Flughland (4 x Enercon-E70)","Europe - wind farms",{"$f":"'ON Statistics 2018-Q3 2024'!D41","v":9.1999999999999993},18.440000000000001,21.45,9.59,0,0,0,null,2.6767998379336007,3.54,6.49,5.54,3.42,3.24,6.23,5.4,3.25,4.58,8.2200000000000006,6.24,2.33,1.025622,0,0,0,0,0,0,0,0,0,0]
[null,"Inchincoosh (13 x Nordex-N90)","Europe - wind farms",{"$f":"'ON Statistics 2018-Q3 2024'!D42","v":32.5},81.53,82.94,36.270000000000003,0,0,0,null,13.299680583389105,14.93,26.27,22.68,17.84,16,25.01,28.83,10.99,18.82,24.31,22.47,9.07,4.72,0,0,0,0,0,0,0,0,0,0]
[null,"Sillahertane (10 x Vestas-V52)","Europe - wind farms",{"$f":"'ON Statistics 2018-Q3 2024'!D43","v":8.5},19.77,20.47,8.42,0,0,0,null,3.20732172603938,3.25,6.74,6.03,4.32,3.23,6.18,7.54,2.2599999999999998,4.46,6.21,5.46,2.13,0.82599999999999996,0,0,0,0,0,0,0,0,0,0]
[null,"Sorne Hill 1 (16 x Enercon-E70)","Europe - wind farms",{"$f":"'ON Statistics 2018-Q3 2024'!D44","v":32},64.02,76.81,32.65,0,0,0,null,8.6328969709742012,12.71,22.67,17.739999999999998,12.27,11.84,22.17,21.7,10.28,17.16,27.67,20.45,7.5,4.6950000000000003,0,0,0,0,0,0,0,0,0,0]
[null,"Kilgarvan (15 x Vestas-V90)","Europe - wind farms",{"$f":"'ON Statistics 2018-Q3 2024'!D45","v":45},101.39,99.98,44.3,0,0,0,null,15.045246873853891,16.989999999999998,32.159999999999997,29.3,21.99,19.66,30.44,33.950000000000003,13.08,21.15,31.8,27.9,11.19,5.2190000000000003,0,0,0,0,0,0,0,0,0,0]
[null,"Gneeves (8 x Vestas-V52)","Europe - wind farms",{"$f":"'ON Statistics 2018-Q3 2024'!D46","v":9.35},24.68,24.08,11.28,0,0,0,null,4.1165012583127005,4.1399999999999997,7.58,7.4,5.52,4.04,7.72,7.99,3.7,5.0599999999999996,7.34,6.94,3,1.337,0,0,0,0,0,0,0,0,0,0]
[null,"Mienvee (1 x Vestas-V52)","Europe - wind farms",{"$f":"'ON Statistics 2018-Q3 2024'!D47","v":0.9},1.82,2.02,0.88,0,0,0,null,0.38878014472312794,0.33,0.63,0.56999999999999995,0.31,0.32,0.62,0.77,0.23,0.39,0.63,0.57999999999999996,0.21,8.2600000000000007E-2,0,0,0,0,0,0,0,0,0,0]
[null,"Owenreagh 1 (9 x Zond-Z40)","Europe - wind farms",{"$f":"'ON Statistics 2018-Q3 2024'!D48","v":0},null,0,0,0,0,0,null,0,0,0,0,0,0,0,0,0,0,0,0,0,0,0,0,0,0,0,0,0,0,0,0]
[null,"Owenreagh 2 (6 x Vestas-V52)","Europe - wind farms",{"$f":"'ON Statistics 2018-Q3 2024'!D49","v":0},null,0,0,0,0,0,null,0,0,0,0,0,0,0,0,0,0,0,0,0,0,0,0,0,0,0,0,0,0,0,0]
[null,"Kennoxhead phase 1 (13 x Nordex-N133)","Europe - wind farms",{"$f":"'ON Statistics 2018-Q3 2024'!D50","v":62},120.29,43.76,0,0,0,0,null,8.629559936081705,26.14,38.6,33.69,25.28,19.079999999999998,42.26,43.76,0,0,0,0,0,0,0,0,0,0,0,0,0,0,0,0]
[null,"Amazon Wind Farm Northern Ireland - Ballykeel","Europe - wind farms",{"$f":"'ON Statistics 2018-Q3 2024'!D51","v":16},27.83,0,0,0,0,0,null,6.5460663294112003,7.43,12.98,15.49,10.88,1.46,0,0,0,0,0,0,0,0,0,0,0,0,0,0,0,0,0,0]
[]
[null,"Business drivers1"]
[null,"Decided (FID'ed) and installed capacity, onshore wind and solar2, GW ",null,null,6.3639999999999999,6.2,4.7,3.4,2.1,1,null,6.3840000000000003,6.383,6.407,6.3639999999999999,6.24,6.2,6.2,6.2,5.0999999999999996,4.9000000000000004,4.7,4.7,4.7,4.7,4,3.4,2.7,2.1,2.1,2.1,1.7,1.4,1,1]
[null,"Installed capacity, onshore wind and solar2, GW ",null,null,4.7850000000000001,4.2,3.4,1.7,1,0.8,null,5.7220000000000004,5.6440000000000001,4.7940000000000005,4.7850000000000001,4.7699999999999996,4.5999999999999996,4.5,4.2,4.2,4,3.6,3.4,3,2.4,1.7,1.7,1.7,1.6,1.3,1,1,0.8,0.8,0.8]
[null,"Generation capacity, onshore wind and solar, GW ",null,null,4.7249999999999996,4.0999999999999996,3.3,1.7,1,0.8,null,5.3079999999999998,5.23,4.734,4.7249999999999996,4.71,4.5,4.5,4.0999999999999996,4.0999999999999996,3.9,3.6,3.3,3,2.4,1.7,1.7,1.7,1.6,1.3,1,1,0.8,0.8,0.8]
[null,"Wind speed3, m/s",null,null,7.2,7.4,7.4,7.6,7.3,7.3,null,6.2,7.4,7.9,7.6,6.2,6.7,8.1,7.7,6,7.8,7.9,7.9,6.4391701114334667,7.3,7.7,8,6.7,8,7.5,7.3,6.6,7.7,7.8,7.3]
[null,"Load factor3, wind, %",null,null,0.36,0.39900000000000002,0.42399999999999999,0.44800000000000001,0.44600000000000001,0.41199999999999998,null,0.26,0.41,0.42,0.36,0.27,0.35,0.45,0.39700000000000002,0.28000000000000003,0.46899999999999997,0.47,0.46600000000000003,0.33400000000000002,0.44800000000000001,0.44700000000000001,0.5,0.36,0.49399999999999999,0.44,0.46,0.39,0.47,0.47,0.41]
[null,"Load factor, solar, %",null,null,0.24,0.252,0.23799999999999999,0,0,0,null,0.31,0.28999999999999998,0.18,0.17,0.32,0.3,0.16,0.17199999999999999,0.316,0.313,0.20699999999999999,0.191,0.27100000000000002,0.28999999999999998,0,0,0,0,0,0,0,0,0,0]
[null,"Availability3, wind, %",null,null,0.88,0.93,0.96,0.96,0.98,0,null,0.87,0.92,0.89,0.85,0.85,0.92,0.91,0.91,0.92,0.92,0.96,0.96,0.98,0.97,0.93,0.95,0.97,0.95499999999999996,0.95,0.98,0.98,0.97,0.97,0.98]
[null,"Availability, solar, %",null,null,0.98,0.98,0.96,0,0,0,null,0.97,0.97,0.98,0.98,0.98,0.98,0.99,0.99,0.96,0.99,0.99,0.99,0.98,0.9,0,0,0,0,0,0,0,0,0,0]
[null,"Decided (FID'ed) and installed capacity, solar, MW",null,null,2207,2122,1337,1087,420,0,null,2208,2207,2207,2207,2122.21,2122,2122,2122,1341,1337,1337,1337,1337,1337,1337,657,657,420,420,420,0,0,0,0]
[null,"Installed capacity, solar, MW ",null,null,1028,671,657,10,10,10,null,1656,1578,1028,1028.1099999999999,1028.1099999999999,1028,1028,671,661,657,657,657,657,430,10,10,10,10,10,10,10,10,10,10]
[null,"Generation capacity, solar, MW ",null,null,1018,661,647,0,10,10,null,1642,1564,1018,1018.11,1018.11,1018,1018,661,651,647,647,647,647,420,0,0,0,"0 1",10,10,10,10,10,10]
[null,"For accounting policies, please see pages 94-97 in our annual report 2023."]
[null,"1 Oak solar divested in June 2020"]
[null,"2 Including storage"]
[null,"3 2021 onshore data is for the US only. We did not have any onshore wind farms outside the US in 2018-2020."]
[]
[]
[null,null,"Plant Number",34]
[]
[null,null,null,null,2023,2022,2021,2020,2019,2018]
[null,{"$f":"INDEX(B6:B48,$D$68)","v":"Inchincoosh (13 x Nordex-N90)"},{"$f":"INDEX(C6:C48,$D$68)","v":"Europe - wind farms"},{"$f":"INDEX(D6:D48,$D$68)","v":32.5},{"$f":"INDEX(E6:E48,$D$68)","v":81.53},{"$f":"INDEX(F6:F48,$D$68)","v":82.94},{"$f":"INDEX(G6:G48,$D$68)","v":36.270000000000003},{"$f":"INDEX(H6:H48,$D$68)","v":0},{"$f":"INDEX(I6:I48,$D$68)","v":0},{"$f":"INDEX(J6:J48,$D$68)","v":0}]
[null,{"$f":"B71","v":"Inchincoosh (13 x Nordex-N90)"},{"$f":"C71","v":"Europe - wind farms"},null,{"$f":"E71*1000/8760/$D$71","v":0.2863716192483316},{"$f":"F71*1000/8760/$D$71","v":0.29132420091324202},0.12739726027397258,0,0,0]
[]
[]
[]
[null,null,null,null,null,null,"Capacity Factor"]
[null,"Generation Ørsted share, GWh",null,"Capacity","FY \n2023","FY \n2022","FY \n2021","FY \n2020","FY \n2019","FY\n 2018"]
[null,"United states - wind farms"]
[null,"    Willow Springs","United states - wind farms",250,{"$f":"E6*1000/8760/$D79","v":0.38624200913242007},{"$f":"F6*1000/8760/$D79","v":0.39899543378995433},0.42128767123287675,0.43546712917529173,0.43789954337899539,0.10045662100456622]
[null,"    Dermott","United states - wind farms",253,{"$f":"E7*1000/8760/$D80","v":0.39296929990795387},0.42703990470518166,0.42107044236287838,0.44116424611009575,0.44624325446243251,0.10463479343765228]
[null,"    Tahoka","United states - wind farms",300,{"$f":"E8*1000/8760/$D81","v":0.42412100456621005},0.45108066971080668,0.4301636225266362,0.47723194162777399,0.43835616438356168,3.6910197869101984E-2]
[null,"    Lockett","United states - wind farms",183.75,{"$f":"E9*1000/8760/$D82","v":0.44863169011896997},0.47885565184978096,0.46405740378343119,0.46106175950885098,0.24725872083993414,0]
[null,"    Sage draw","United states - wind farms",338.4,{"$f":"E10*1000/8760/$D83","v":0.38111459244146506},0.42366643457797643,0.40179005149130476,0.3746641157724101]
[null,"    Plum Creek","United states - wind farms",229.6,{"$f":"E11*1000/8760/$D84","v":0.4144143875391787},0.50160195217412062,0.44123788840628136,0.27842744180866463]
[null,"    Willow Creek","United states - wind farms",103.24,{"$f":"E12*1000/8760/$D85","v":0.40938434892142966},0.47759664495903503,0.45160100417699417,0.14773247577573381]
[null,"    Western Trail","United states - wind farms",366.6,{"$f":"E13*1000/8760/$D86","v":0.25975768944291239},0.41500073487832156,0.17668841408275976]
[null,"    Lincoln Land","United states - wind farms",301.74,{"$f":"E14*1000/8760/$D87","v":0.35873743550723913},0.38125901733416501,6.1538056441588558E-2]
[null,"    Haystack","United states - wind farms",298.47000000000003,{"$f":"E15*1000/8760/$D88","v":0.33250628433320434},0.3331985515780404,1.7823013043844763E-2]
[null,"    Helena Wind","United states - wind farms",268,{"$f":"E16*1000/8760/$D89","v":0.33076909970694474},0.21636253663190896]
[null,"   Ford Ridge ","United states - wind farms",121,{"$f":"E17*1000/8760/$D90","v":0.43440318502585007},0.18495980980414356]
[null,"   Sunflower Wind","United states - wind farms",201,{"$f":"E18*1000/8760/$D91","v":0.19759081305799769}]
[null,"United states - solar farms"]
[null,"     Oak","United states - solar farms",420]
[null,"     Permian Energy Center","United states - solar farms",227,0.4570434292840907,0.47191881399231594,0.36076076680144026,0,0,0]
[null,"     Muscle Shoals","United states - solar farms",430,0.11310130614845493,0.13030954656472338,7.986619942656896E-2,0,0,0]
[null,"     Old 300","United states - solar farms",250,0.36354337899543376,0.22433333333333333,0,0,0,0]
[null,"     Helena Energy Center","United states - solar farms",300]
[null,"     Eleven Mile","United states - solar farms",1627]
[null,"     Mockingbird","United states - solar farms",0]
[null,"Europe - wind farms"]
[null,"Knockawarriga 1 (9 x Nordex-N90)","Europe - wind farms",22.5,{"$f":"E28*1000/8760/$D101","v":0.28833079654997462},0.26560121765601219,0.11811263318112633]
[null,"Knockawarriga 2 (3 x Nordex-N90)","Europe - wind farms",7.5,{"$f":"E29*1000/8760/$D102","v":0.26468797564687974},0.24124809741248096,0.11065449010654491]
[null,"Booltiagh 1 (12 x GE-1.5)","Europe - wind farms",18,{"$f":"E30*1000/8760/$D103","v":0.15379249112125826},0.15873921867072552,6.7224759005580934E-2]
[null,"Booltiagh 2 (6 x Enercon-E82)","Europe - wind farms",12,{"$f":"E31*1000/8760/$D104","v":0.29299847792998479},0.29471080669710809,0.13356164383561644]
[null,"Smithstown (4 x Enercon-E82)","Europe - wind farms",8,{"$f":"E32*1000/8760/$D105","v":0.31264269406392692},0.34474885844748859,0.14811643835616439]
[null,"Lisheen 1 (18 x Vestas-V90)","Europe - wind farms",36,{"$f":"E33*1000/8760/$D106","v":0.26753551496702177},0.27720700152207001,0.12855149670218163]
[null,"Lisheen 2 (12 x Vestas-V90)","Europe - wind farms",24,{"$f":"E34*1000/8760/$D107","v":0.2767789193302892},0.27777777777777779,0.12918569254185694]
[null,"Lisheen 3 (8 x Vestas-V136)","Europe - wind farms",29,{"$f":"E35*1000/8760/$D108","v":0.29562273657691707},2.4287513777357897E-2,0]
[null,"Garracummer (17 x Nordex-N90)","Europe - wind farms",42.5,{"$f":"E36*1000/8760/$D109","v":0.30472737040021486},0.31364491001880207,0.1434327155519742]
[null,"Ballymartin (3 x Enercon-E82)","Europe - wind farms",6.9,{"$f":"E37*1000/8760/$D110","v":0.24750181986632253},0.27496525709747865,0.11630600225001654]
[null,"Flughland (4 x Enercon-E70)","Europe - wind farms",9.1999999999999993,{"$f":"E38*1000/8760/$D111","v":0.22880682946198133},0.2661554496724241,0.11899444113559658]
[null,"Inchincoosh (13 x Nordex-N90)","Europe - wind farms",32.5,{"$f":"E39*1000/8760/$D112","v":0.2863716192483316},0.29132420091324202,0.12739726027397258]
[null,"Sillahertane (10 x Vestas-V52)","Europe - wind farms",8.5,{"$f":"E40*1000/8760/$D113","v":0.26551168412570503},0.2749127048079506,0.11308084877786731]
[null,"Sorne Hill 1 (16 x Enercon-E70)","Europe - wind farms",32,{"$f":"E41*1000/8760/$D114","v":0.22838184931506847},0.27400827625570778,0.1164740296803653]
[null,"Kilgarvan (15 x Vestas-V90)","Europe - wind farms",45,{"$f":"E42*1000/8760/$D115","v":0.25720446473871134},0.25362760020294267,0.11237950279046169]
[null,"Gneeves (8 x Vestas-V52)","Europe - wind farms",9.35,{"$f":"E43*1000/8760/$D116","v":0.30132102654262205},0.29399555588113208,0.13771884843601204]
[null,"Mienvee (1 x Vestas-V52)","Europe - wind farms",0.9,{"$f":"E44*1000/8760/$D117","v":0.23084728564180618},0.25621511922881784,0.11161846778285134]
[null,"Owenreagh 1 (9 x Zond-Z40)","Europe - wind farms",0]
[null,"Owenreagh 2 (6 x Vestas-V52)","Europe - wind farms",0]
[null,"Kennoxhead phase 1 (13 x Nordex-N133)","Europe - wind farms",62,{"$f":"E47*1000/8760/$D120","v":0.22147959935189276},8.0571512741198989E-2,0]
[null,"Amazon Wind Farm Northern Ireland - Ballykeel","Europe - wind farms",16,{"$f":"E48*1000/8760/$D121","v":0.1985587899543379},0,0]

{"sheet":"Bio Asset Book","index":9,"n_rows":18,"n_cols":10,"rows_kept":18,"cut":false,"hidden":false,"merged":[]}
[]
[null,"HEAT AND POWER PLANTS - Asset Book updated as of 30 September 2024"]
[]
[null,"Plants","Type","Ørsted\nownership share\n%","Fuel Type","Biomass\nconversion","Heat generation capacity (MW(th))","Heat generation capacity based on biomass (MW (th))","Power generation capacity\n(MW(e))","Start-up year (major overhaul/lifetime extension)"]
[null,"    Avedøre Power Station, unit 1","CHP",1,"Pellets, gas oil","2016",370,370,258,"1990 (2016-2018)"]
[null,"    Avedøre Power Station, unit 2","CHP",1,"Pellets, straw, gas, gas oil","2014",583,503,548,"2002"]
[null,"    Asnæs Power Station, unit 6","CHP",1,"Wood chips, gas oil",2019,125,125,26,2019]
[null,"    Esbjerg Power Station, unit 31","CHP",1,"Coal, fuel oil","n.a.",0,"-",0,"1992"]
[null,"    Herning Power Station","CHP",1,"Pellets, chips, gas","2002 (co-firing), 2009 (conversion)",191,191,88,"1982 (2009)"]
[null,"    Skærbæk Power Station, unit 3","CHP",1,"Wood chips, gas, gas oil","2017",579.29999999999995,329.5,390,"1997"]
[null,"    Studstrup Power Station, unit 3","CHP",1,"Pellets, straw, coal, fuel oil","2016",513,513,362,"1984 (2014)"]
[null,"    H.C. Ørsted Power Station","CHP",1,"Gas","n.a.",292,"-",21,"1985 (2006)"]
[null,"    Svanemølle Power Station","Heat",1,"Gas","n.a.",256,"-",0,"1994 (2008)"]
[null,"    Kyndby and Masnedø Power Station 2","Power",1,"Gas oil","n.a.",0,"-",474,"1974-76 (2007-08)"]
[null,"Total",null,null,null,null,2909.3,2031.5,2167]
[]
[null,"1 Esberg Power Station ceased operations during Q3, 2024"]
[null,"2 Kyndby unit 21 has been taken out of operation as per 1 September 2024"]

{"sheet":"ON Statistics 2018-Q3 2024","index":10,"n_rows":84,"n_cols":35,"rows_kept":84,"cut":false,"hidden":false,"merged":[]}
[]
[null,"Onshore"]
[]
[null,"Generation Ørsted share, GWh",null,"FY \n2024","FY \n2023","FY \n2022","FY \n2021","FY \n2020","FY \n2019","FY\n 2018",null,"Q3\n2024","Q2\n2024","Q1\n2024","Q4\n2023","Q3\n2023","Q2\n2023","Q1\n2023","Q4\n2022","Q3\n2022","Q2\n2022","Q1\n2022","Q4\n2021","Q3\n2021","Q2\n2021","Q1\n2021","Q4\n2020","Q3\n2020","Q2 \n2020","Q1 \n2020","Q4 \n2019","Q3 \n2019","Q2\n 2019","Q1\n 2019","Q4\n 2018"]
[null,"United states - wind farms"]
[null,"    Willow Springs",null,{"$f":"'ON Asset Book'!G7","v":250},845.87,873.8,922.62,953.67301289388899,959,220,null,163.65878211859598,245.94,243.09,221.96,191.91,203.91,228.08,159.34,163.44999999999999,289.25,261.76,258.14999999999998,191.05,214.44382858199799,259,258.83256826260595,188,261.50223219999901,245,239,221,253,246.7,220]
[null,"    Dermott",null,{"$f":"'ON Asset Book'!G8","v":253},870.93,946.44,933.21,977.74349536888303,989,231.9,null,167.88680171559292,263.39999999999998,237.83,219.7,185.57,198.29,267.38,220.81,169.15,293.83999999999997,262.64999999999998,260.82,172.16,244.5197229,255.7,271.53986148161198,197,257.58154000000002,251,251,218,261,258.39999999999998,231.9]
[null,"    Tahoka",null,{"$f":"'ON Asset Book'!G9","v":300},1114.5899999999999,1185.44,1130.47,1254.1655425977899,1152,97,null,210.33997171559099,322.5,304.70999999999998,269.19,216.02,276.79000000000002,352.59,284.93,209.98,362.97,327.56,330.02,229.18,289.37633233399902,281.89999999999998,340.88351683761891,233,341.32940499999995,339,309,242,283,317.60000000000002,97]
[null,"    Lockett",null,{"$f":"'ON Asset Book'!G10","v":183.75},722.14,770.79,746.97,742.148061193422,398,0,null,147.22383932379006,193.36,196.97,182.75,163.33000000000001,163.30000000000001,212.75,177.29,152.91999999999999,247.12,193.45,200.6,130.28,210.93045685999999,205.2,209.92369771231597,162,201.05502340000001,170,196,175,27,0,0]
[null,"    Sage draw",null,{"$f":"'ON Asset Book'!G11","v":338.4},1129.77,1255.9100000000001,1191.06,1110.64831016988,0,0,null,216.22325630758996,333.73,316.63,269.87,224.54,279.88,355.49,296.26,205.49,395.35,358.81,347.43,210.49,332.41001084099901,300.7,361.79380427162903,248,365.22430879999899,136,0,0,0,0,0]
[null,"    Plum Creek",null,{"$f":"'ON Asset Book'!G12","v":229.6},833.51,1008.87,887.46,560,0,0,null,156.27304609999999,215.1,221.24,230.4,156.4,205.8,240.92,277.66000000000003,191.61,235.52,304.08,278.13,208.44,201.96979099999999,198.9,257.07365800000105,217,84.9203070627036,0,0,0,0,0,0]
[null,"    Willow Creek",null,{"$f":"'ON Asset Book'!G13","v":103.24},370.24,431.93,408.42,133.606651,0,0,null,79.981185358333022,110.97,89.23,91.94,77.03,98,103.79,101.41,92.06,104.52,133.94999999999999,117.83,65.53,127.258221566667,97.8,116.68852699999991,17,0,0,0,0,0,0,0]
[null,"    Western Trail",null,{"$f":"'ON Asset Book'!G14","v":366.6},834.19,1332.74,567.41999999999996,0,0,0,null,215.56913311159792,309.83999999999997,268.89999999999998,74.39,128.28,254.38,377.13,300.26,231.72,433.71,367.06,333.46,233.96,0,0,0,0,0,0,0,0,0,0,0]
[null,"    Lincoln Land",null,{"$f":"'ON Asset Book'!G15","v":301.74},948.23,1007.76,162.66,0,0,0,null,145.80310866666696,280.5,317.58999999999997,269.82,139.25,255.3,283.86,291.89999999999998,164.64,303.12,248.1,162.66,0,0,0,0,0,0,0,0,0,0,0,0]
[null,"    Haystack",null,{"$f":"'ON Asset Book'!G16","v":298.47000000000003},869.37,871.18,46.6,0,0,0,null,104.578875983334,231.94,221.63,253.54,151.61000000000001,222.94,241.28,276.99,169.74,206.94,217.5,46.6,0,0,0,0,0,0,0,0,0,0,0,0]
[null,"    Helena Wind",null,{"$f":"'ON Asset Book'!G17","v":268},776.54,507.95,0,0,0,0,null,128.89969973041093,219.79,218.02,183.77,165.38,182.25,245.13,176.6,146.78,184.57,0,0,0,0,0,0,0,0,0,0,0,0,0,0]
[null,"   Ford Ridge ",null,{"$f":"'ON Asset Book'!G18","v":121},460.45,196.05,0,0,0,0,null,61.191608583332993,129.93,144.22999999999999,137.9,62.63,113.11,146.80000000000001,147.72999999999999,48.32,0,0,0,0,0,0,0,0,0,0,0,0,0,0,0]
[null,"   Sunflower Wind",null,{"$f":"'ON Asset Book'!G19","v":201},347.91,0,0,0,0,0,null,149.25711953333297,206.64,222.73,235.01,112.9,0,0,0,0,0,0,0,0,0,0,0,0,0,0,0,0,0,0,0]
[null,"Sub total",null,null,10123.740000000002,10388.86,6996.89,5731.9850732238647,3498,548.9,null,1946.8864282481686,3063.6399999999994,3002.8,2640.24,1974.8500000000004,2453.9499999999998,3055.2000000000007,2711.1800000000003,1945.86,3056.91,2674.92,2335.6999999999998,1441.0900000000001,1620.9083640836629,1599.2,1816.7356335657828,1262,1511.6128164627016,1141,995,856,824,822.7,548.9]
[null,"United states - solar farms"]
[null,"     Oak",null,{"$f":"'ON Asset Book'!G26","v":420},null,0,0,7.3,15,2.8,null,0,0,0,0,0,0,0,0,0,0,0,0,0,0,0,0,0,4,3,2.7,4,5,2.9,2.8]
[null,"     Permian Energy Center",null,{"$f":"'ON Asset Book'!G27","v":227},908.84,938.42,717.38,0,0,0,null,285.82807597373994,271.27,176.18,166.79,307.5,301.39,133.16,159.18,316.83999999999997,276.99,185.4,164.64,249.95,254.95793441499899,47.8,0,0,0,0,0,0,0,0,0]
[null,"     Muscle Shoals",null,{"$f":"'ON Asset Book'!G28","v":430},426.03,490.85,300.83999999999997,0,0,0,null,133.42437541251599,132.01,76.400000000000006,79.209999999999994,134.97999999999999,127.95,83.89,87.44,134.88999999999999,164.86,103.65,107.93,125.51,67.390647999999999,0,0,0,0,0,0,0,0,0,0]
[null,"     Old 300",null,{"$f":"'ON Asset Book'!G29","v":250},796.16,491.29,0,0,0,0,null,241.16200347075198,213.41,146.88999999999999,145.38999999999999,265.79000000000002,238.82,146.16999999999999,141.78,224.65,124.87,0,0,0,0,0,0,0,0,0,0,0,0,0,0]
[null,"     Helena Energy Center",null,{"$f":"'ON Asset Book'!G30","v":300},null,null,null,null,null,null,null,175.4392709947644,213.3]
[null,"     Eleven Mile",null,{"$f":"'ON Asset Book'!G31","v":1627},null,null,null,null,null,null,null,241.72686019000011,75.709999999999994]
[null,"     Mockingbird",null,{"$f":"'ON Asset Book'!G32","v":0},null,null,null,null,null,null,null,80]
[null,"Sub total",null,null,2131.0299999999997,1920.56,1018.22,7.3,15,2.8,null,1157.5805860417724,905.7,399.47,391.39,708.27,668.16,363.22,388.4,676.38,566.72,289.05,272.57,375.46,322.34858241499899,47.8,0,0,4,3,3,4,5,2.9,2.8]
[]
[null,"Europe - wind farms"]
[null,"Knockawarriga 1 (9 x Nordex-N90)","Knockawarriga 1 (9 x Nordex-N90)",{"$f":"_xlfn.XLOOKUP(C31,'ON Asset Book'!B:B,'ON Asset Book'!G:G,0,0)","v":22.5},56.83,52.35,23.28,0,0,0,null,10.849665278780897,10.119999999999999,17.600000000000001,17.23,13.25,10.08,16.28,16.73,8.25,11.98,15.4,13.61,7.54,2.131650333709,0,0,0,0,0,0,0,0,0,0]
[null,"Knockawarriga 2 (3 x Nordex-N90)","Knockawarriga 2 (3 x Nordex-N90)",{"$f":"_xlfn.XLOOKUP(C32,'ON Asset Book'!B:B,'ON Asset Book'!G:G,0,0)","v":7.5},17.39,15.85,7.27,0,0,0,null,3.3247291254001894,3.13,5.17,5.17,3.96,2.94,5.32,4.83,2.4,3.68,4.9400000000000004,4.22,2.4,0.65900000000000003,0,0,0,0,0,0,0,0,0,0]
[null,"Booltiagh 1 (12 x GE-1.5)","Booltiagh 1 (12 x GE-1.5)",{"$f":"_xlfn.XLOOKUP(C33,'ON Asset Book'!B:B,'ON Asset Book'!G:G,0,0)","v":18},24.25,25.03,10.6,0,0,0,null,3.4862714802785,4.6500000000000004,7.63,7.52,5.31,4.03,7.41,6.82,3.1,6.58,8.5399999999999991,6.48,2.99,1.1251500000000001,0,0,0,0,0,0,0,0,0,0]
[null,"Booltiagh 2 (6 x Enercon-E82)","Booltiagh 2 (6 x Enercon-E82)",{"$f":"_xlfn.XLOOKUP(C34,'ON Asset Book'!B:B,'ON Asset Book'!G:G,0,0)","v":12},30.8,30.98,14.04,0,0,0,null,4.3747894631528013,5.55,9.4600000000000009,9.32,7.14,5.5,8.84,8.76,4.5199999999999996,7.29,10.4,8.3699999999999992,4.1500000000000004,1.516,0,0,0,0,0,0,0,0,0,0]
[null,"Smithstown (4 x Enercon-E82)","Smithstown (4 x Enercon-E82)",{"$f":"_xlfn.XLOOKUP(C35,'ON Asset Book'!B:B,'ON Asset Book'!G:G,0,0)","v":8},21.91,24.16,10.38,0,0,0,null,5.0548597272979983,4.66,7.3,7.16,5.34,3.42,5.99,8.0299999999999994,3.93,5.1100000000000003,7.08,6.88,2.12,1.3740000000000001,0,0,0,0,0,0,0,0,0,0]
[null,"Lisheen 1 (18 x Vestas-V90)","Lisheen 1 (18 x Vestas-V90)",{"$f":"_xlfn.XLOOKUP(C36,'ON Asset Book'!B:B,'ON Asset Book'!G:G,0,0)","v":36},84.37,87.42,40.54,0,0,0,null,14.506687255254896,17.59,27.43,25.89,18.489999999999998,14.84,25.16,29.25,9.5500000000000007,21.6,27.01,25.96,9.98,4.5965879999999997,0,0,0,0,0,0,0,0,0,0]
[null,"Lisheen 2 (12 x Vestas-V90)","Lisheen 2 (12 x Vestas-V90)",{"$f":"_xlfn.XLOOKUP(C37,'ON Asset Book'!B:B,'ON Asset Book'!G:G,0,0)","v":24},58.19,58.4,27.16,0,0,0,null,10.4433490892308,11.68,19,17.920000000000002,12.69,10.19,17.39,20.079999999999998,5.32,14.36,18.64,17.28,6.74,3.1490450000000001,0,0,0,0,0,0,0,0,0,0]
[null,"Lisheen 3 (8 x Vestas-V136)","Lisheen 3 (8 x Vestas-V136)",{"$f":"_xlfn.XLOOKUP(C38,'ON Asset Book'!B:B,'ON Asset Book'!G:G,0,0)","v":29},75.099999999999994,6.17,0,0,0,0,null,15.157622024030395,16.940000000000001,25.84,22.6,15.8,14.01,22.69,6.17,0,0,0,0,0,0,0,0,0,0,0,0,0,0,0,0]
[null,"Garracummer (17 x Nordex-N90)","Garracummer (17 x Nordex-N90)",{"$f":"_xlfn.XLOOKUP(C39,'ON Asset Book'!B:B,'ON Asset Book'!G:G,0,0)","v":42.5},113.45,116.77,53.4,0,0,0,null,20.818197730941009,20.239999999999998,35.44,34.11,27.22,18.559999999999999,33.57,38.020000000000003,17.559999999999999,25.35,35.85,32.450000000000003,15.02,5.9290000000000003,0,0,0,0,0,0,0,0,0,0]
[null,"Ballymartin (3 x Enercon-E82)","Ballymartin (3 x Enercon-E82)",{"$f":"_xlfn.XLOOKUP(C40,'ON Asset Book'!B:B,'ON Asset Book'!G:G,0,0)","v":6.9},14.96,16.62,7.03,0,0,0,null,3.2853493572015893,3,4.91,4.68,3.66,2.42,4.2,5.67,2.52,3.52,4.9000000000000004,4.6900000000000004,1.44,0.90800000000000003,0,0,0,0,0,0,0,0,0,0]
[null,"Flughland (4 x Enercon-E70)","Flughland (4 x Enercon-E70)",{"$f":"_xlfn.XLOOKUP(C41,'ON Asset Book'!B:B,'ON Asset Book'!G:G,0,0)","v":9.1999999999999993},18.440000000000001,21.45,9.59,0,0,0,null,2.6767998379336007,3.54,6.49,5.54,3.42,3.24,6.23,5.4,3.25,4.58,8.2200000000000006,6.24,2.33,1.025622,0,0,0,0,0,0,0,0,0,0]
[null,"Inchincoosh (13 x Nordex-N90)","Inchincoosh (13 x Nordex-N90)",{"$f":"_xlfn.XLOOKUP(C42,'ON Asset Book'!B:B,'ON Asset Book'!G:G,0,0)","v":32.5},81.53,82.94,36.270000000000003,0,0,0,null,13.299680583389105,14.93,26.27,22.68,17.84,16,25.01,28.83,10.99,18.82,24.31,22.47,9.07,4.72,0,0,0,0,0,0,0,0,0,0]
[null,"Sillahertane (10 x Vestas-V52)","Sillahertane (10 x Vestas-V52)",{"$f":"_xlfn.XLOOKUP(C43,'ON Asset Book'!B:B,'ON Asset Book'!G:G,0,0)","v":8.5},19.77,20.47,8.42,0,0,0,null,3.20732172603938,3.25,6.74,6.03,4.32,3.23,6.18,7.54,2.2599999999999998,4.46,6.21,5.46,2.13,0.82599999999999996,0,0,0,0,0,0,0,0,0,0]
[null,"Sorne Hill 1 (16 x Enercon-E70)","Sorne Hill 1 (16 x Enercon-E70)",{"$f":"_xlfn.XLOOKUP(C44,'ON Asset Book'!B:B,'ON Asset Book'!G:G,0,0)","v":32},64.02,76.81,32.65,0,0,0,null,8.6328969709742012,12.71,22.67,17.739999999999998,12.27,11.84,22.17,21.7,10.28,17.16,27.67,20.45,7.5,4.6950000000000003,0,0,0,0,0,0,0,0,0,0]
[null,"Kilgarvan (15 x Vestas-V90)","Kilgarvan (15 x Vestas-V90)",{"$f":"_xlfn.XLOOKUP(C45,'ON Asset Book'!B:B,'ON Asset Book'!G:G,0,0)","v":45},101.39,99.98,44.3,0,0,0,null,15.045246873853891,16.989999999999998,32.159999999999997,29.3,21.99,19.66,30.44,33.950000000000003,13.08,21.15,31.8,27.9,11.19,5.2190000000000003,0,0,0,0,0,0,0,0,0,0]
[null,"Gneeves (8 x Vestas-V52)","Gneeves (8 x Vestas-V52)",{"$f":"_xlfn.XLOOKUP(C46,'ON Asset Book'!B:B,'ON Asset Book'!G:G,0,0)","v":9.35},24.68,24.08,11.28,0,0,0,null,4.1165012583127005,4.1399999999999997,7.58,7.4,5.52,4.04,7.72,7.99,3.7,5.0599999999999996,7.34,6.94,3,1.337,0,0,0,0,0,0,0,0,0,0]
[null,"Mienvee (1 x Vestas-V52)","Mienvee (1 x Vestas-V52)",{"$f":"_xlfn.XLOOKUP(C47,'ON Asset Book'!B:B,'ON Asset Book'!G:G,0,0)","v":0.9},1.82,2.02,0.88,0,0,0,null,0.38878014472312794,0.33,0.63,0.56999999999999995,0.31,0.32,0.62,0.77,0.23,0.39,0.63,0.57999999999999996,0.21,8.2600000000000007E-2,0,0,0,0,0,0,0,0,0,0]
[null,"Owenreagh 1 (9 x Zond-Z40)","Owenreagh 1 (9 x Zond-Z40)",{"$f":"_xlfn.XLOOKUP(C48,'ON Asset Book'!B:B,'ON Asset Book'!G:G,0,0)","v":0},null,0,0,0,0,0,null,0,0,0,0,0,0,0,0,0,0,0,0,0,0,0,0,0,0,0,0,0,0,0,0]
[null,"Owenreagh 2 (6 x Vestas-V52)","Owenreagh 2 (6 x Vestas-V52)",{"$f":"_xlfn.XLOOKUP(C49,'ON Asset Book'!B:B,'ON Asset Book'!G:G,0,0)","v":0},null,0,0,0,0,0,null,0,0,0,0,0,0,0,0,0,0,0,0,0,0,0,0,0,0,0,0,0,0,0,0]
[null,"Kennoxhead phase 1 (13 x Nordex-N133)","Kennoxhead phase 1 (13 x Nordex-N133)",{"$f":"_xlfn.XLOOKUP(C50,'ON Asset Book'!B:B,'ON Asset Book'!G:G,0,0)","v":62},120.29,43.76,0,0,0,0,null,8.629559936081705,26.14,38.6,33.69,25.28,19.079999999999998,42.26,43.76,0,0,0,0,0,0,0,0,0,0,0,0,0,0,0,0]
[null,"Amazon Wind Farm Northern Ireland - Ballykeel","Amazon Wind Farm Northern Ireland - Ballykeel",{"$f":"_xlfn.XLOOKUP(C51,'ON Asset Book'!B:B,'ON Asset Book'!G:G,0,0)","v":16},27.83,0,0,0,0,0,null,6.5460663294112003,7.43,12.98,15.49,10.88,1.46,0,0,0,0,0,0,0,0,0,0,0,0,0,0,0,0,0,0]
[null,null,null,{"$f":"_xlfn.XLOOKUP(B52,'ON Asset Book'!B:B,'ON Asset Book'!G:G,0,0)","v":0},4.34,1.17,0,0,0,0,null,0,0.54,1.31,1.52,0.75,0.72,1.35,1.17,0,0,0,0,0,0,0,0,0,0,0,0,0,0,0,0]
[null,null,null,{"$f":"_xlfn.XLOOKUP(B53,'ON Asset Book'!B:B,'ON Asset Book'!G:G,0,0)","v":0},23.02,5.83,0,0,0,0,null,0,3.2,7.22,7.96,3.64,4.0599999999999996,7.36,5.83,0,0,0,0,0,0,0,0,0,0,0,0,0,0,0,0]
[null,null,null,{"$f":"_xlfn.XLOOKUP(B54,'ON Asset Book'!B:B,'ON Asset Book'!G:G,0,0)","v":0},20.39,5.2,0,0,0,0,null,0,2.9,6.31,7.31,3.5,3.92,5.67,5.2,0,0,0,0,0,0,0,0,0,0,0,0,0,0,0,0]
[null,null,null,{"$f":"_xlfn.XLOOKUP(B55,'ON Asset Book'!B:B,'ON Asset Book'!G:G,0,0)","v":0},21.84,4.84,0,0,0,0,null,0,2.85,6.54,7.29,3.47,4.5199999999999996,6.57,4.84,0,0,0,0,0,0,0,0,0,0,0,0,0,0,0,0]
[null,null,null,{"$f":"_xlfn.XLOOKUP(B56,'ON Asset Book'!B:B,'ON Asset Book'!G:G,0,0)","v":0},3.87,1.08,0,0,0,0,null,0,0.48,1.1499999999999999,1.39,0.52,0.76,1.2,1.08,0,0,0,0,0,0,0,0,0,0,0,0,0,0,0,0]
[null,"Schiederhof (2 x Vestas-V126)","Schiederhof (2 x Vestas-V126)",{"$f":"_xlfn.XLOOKUP(C57,'ON Asset Book'!B:B,'ON Asset Book'!G:G,0,0)","v":7.2},15.14,2.68,0,0,0,0,null,0,3.25,5.3,4.84,1.91,3.84,4.54,2.68,0,0,0,0,0,0,0,0,0,0,0,0,0,0,0,0]
[null,"Rotmainquelle (5 x Enercon-E115)","Rotmainquelle (5 x Enercon-E115)",{"$f":"_xlfn.XLOOKUP(C58,'ON Asset Book'!B:B,'ON Asset Book'!G:G,0,0)","v":15},43.36,10.119999999999999,0,0,0,0,null,0,8.1999999999999993,13.58,15.42,7.68,7.27,13,10.119999999999999,0,0,0,0,0,0,0,0,0,0,0,0,0,0,0,0]
[null,"Les Dix Huit",null,{"$f":"_xlfn.XLOOKUP(B59,'ON Asset Book'!B:B,'ON Asset Book'!G:G,0,0)","v":0},15.66,0,0,0,0,0,null,2.1235429999999997,2.37,6.12,6.78,3.23,3.36,2.2999999999999998,0,0,0,0,0,0,0,0,0,0,0,0,0,0,0,0,0]
[null,"Delta Sèvre-Argent",null,{"$f":"_xlfn.XLOOKUP(B60,'ON Asset Book'!B:B,'ON Asset Book'!G:G,0,0)","v":0},null,null,null,null,null,null,null,6.2563649999999988,3,6.51]
[null,"Sub total",null,null,1104.6399999999999,836.18000000000018,337.09,0,0,0,null,162.22428219228797,213.81,367.94000000000011,342.55,239.39,193.31,329.47000000000008,325.21999999999997,100.94000000000001,171.08999999999997,238.94000000000003,209.98000000000002,87.809999999999988,39.293655333709005,0,0,0,0,0,0,0,0,0,0]
[null,"Europe - solar farms"]
[null,"Les Abeilles",null,null,3.98,0.62,0,0,0,0,null,0,0.87,0.53,0.5,0.99,1.7,0.79,0.62,0,0,0,0,0,0,0,0,0,0,0,0,0,0,0,0]
[null,"Altenschwand",null,null,10.86,0,0,0,0,0,null,3,2.81,1.58,1.19,3.73,4.3600000000000003,1.57,0,0,0,0,0,0,0,0,0,0,0,0,0,0,0,0,0]
[null,"Sub total",null,null,14.84,0.62,0,0,0,0,null,3,3.68,2.1100000000000003,1.69,4.71,6.0600000000000005,2.3600000000000003,0.62,0,0,0,0,0,0,0,0,0,0,0,0,0,0,0,0]
[null,"Total generation, GWh",null,null,13374.25,13146.220000000001,8352.2000000000007,5739.2850732238649,3513,551.69999999999993,null,3269.6912964822291,4186.83,3772.3200000000006,3375.87,2927.2200000000003,3321.4799999999996,3750.2500000000014,3425.42,2723.18,3794.7200000000003,3202.9100000000003,2818.25,1904.3600000000001,1982.5506018323708,1647,1816.7356335657828,1262,1515.6128164627016,1144,998,860,829,825.6,551.69999999999993]
[]
[]
[null,"Business drivers1"]
[null,"Decided (FID'ed) and installed capacity, onshore wind and solar2, GW ",null,null,6.3639999999999999,6.2,4.7,3.4,2.1,1,null,6.3840000000000003,6.383,6.407,6.3639999999999999,6.24,6.2,6.2,6.2,5.0999999999999996,4.9000000000000004,4.7,4.7,4.7,4.7,4,3.4,2.7,2.1,2.1,2.1,1.7,1.4,1,1]
[null,"Installed capacity, onshore wind and solar2, GW ",null,null,4.7850000000000001,4.2,3.4,1.7,1,0.8,null,5.7220000000000004,5.6440000000000001,4.7940000000000005,4.7850000000000001,4.7699999999999996,4.5999999999999996,4.5,4.2,4.2,4,3.6,3.4,3,2.4,1.7,1.7,1.7,1.6,1.3,1,1,0.8,0.8,0.8]
[null,"Generation capacity, onshore wind and solar, GW ",null,null,4.7249999999999996,4.0999999999999996,3.3,1.7,1,0.8,null,5.3079999999999998,5.23,4.734,4.7249999999999996,4.71,4.5,4.5,4.0999999999999996,4.0999999999999996,3.9,3.6,3.3,3,2.4,1.7,1.7,1.7,1.6,1.3,1,1,0.8,0.8,0.8]
[null,"Wind speed3, m/s",null,null,7.2,7.4,7.4,7.6,7.3,7.3,null,6.2,7.4,7.9,7.6,6.2,6.7,8.1,7.7,6,7.8,7.9,7.9,6.4391701114334667,7.3,7.7,8,6.7,8,7.5,7.3,6.6,7.7,7.8,7.3]
[null,"Load factor3, wind, %",null,null,0.36,0.39900000000000002,0.42399999999999999,0.44800000000000001,0.44600000000000001,0.41199999999999998,null,0.26,0.41,0.42,0.36,0.27,0.35,0.45,0.39700000000000002,0.28000000000000003,0.46899999999999997,0.47,0.46600000000000003,0.33400000000000002,0.44800000000000001,0.44700000000000001,0.5,0.36,0.49399999999999999,0.44,0.46,0.39,0.47,0.47,0.41]
[null,"Load factor, solar, %",null,null,0.24,0.252,0.23799999999999999,0,0,0,null,0.31,0.28999999999999998,0.18,0.17,0.32,0.3,0.16,0.17199999999999999,0.316,0.313,0.20699999999999999,0.191,0.27100000000000002,0.28999999999999998,0,0,0,0,0,0,0,0,0,0]
[null,"Availability3, wind, %",null,null,0.88,0.93,0.96,0.96,0.98,0,null,0.87,0.92,0.89,0.85,0.85,0.92,0.91,0.91,0.92,0.92,0.96,0.96,0.98,0.97,0.93,0.95,0.97,0.95499999999999996,0.95,0.98,0.98,0.97,0.97,0.98]
[null,"Availability, solar, %",null,null,0.98,0.98,0.96,0,0,0,null,0.97,0.97,0.98,0.98,0.98,0.98,0.99,0.99,0.96,0.99,0.99,0.99,0.98,0.9,0,0,0,0,0,0,0,0,0,0]
[null,"Decided (FID'ed) and installed capacity, solar, MW",null,null,2207,2122,1337,1087,420,0,null,2208,2207,2207,2207,2122.21,2122,2122,2122,1341,1337,1337,1337,1337,1337,1337,657,657,420,420,420,0,0,0,0]
[null,"Installed capacity, solar, MW ",null,null,1028,671,657,10,10,10,null,1656,1578,1028,1028.1099999999999,1028.1099999999999,1028,1028,671,661,657,657,657,657,430,10,10,10,10,10,10,10,10,10,10]
[null,"Generation capacity, solar, MW ",null,null,1018,661,647,0,10,10,null,1642,1564,1018,1018.11,1018.11,1018,1018,661,651,647,647,647,647,420,0,0,0,"0 1",10,10,10,10,10,10]
[null,"For accounting policies, please see pages 94-97 in our annual report 2023."]
[null,"1 Oak solar divested in June 2020"]
[null,"2 Including storage"]
[null,"3 2021 onshore data is for the US only. We did not have any onshore wind farms outside the US in 2018-2020."]

{"sheet":"BO statistics 2018-Q3 2024","index":11,"n_rows":16,"n_cols":38,"rows_kept":16,"cut":false,"hidden":false,"merged":[]}
[]
[null,"Bioenergy & Other"]
[]
[null,null,null,"FY \n2024","FY \n2023","FY \n2022","FY \n2021","FY \n2020","FY \n2019","FY \n20181",null,"Q3\n2024","Q2\n2024","Q1\n2024","Q4\n2023","Q3\n2023","Q2\n2023","Q1\n2023","Q4\n2022","Q3\n2022","Q2\n2022","Q1\n2022","Q4\n2021","Q3\n2021","Q2\n2021","Q1\n2021","Q4\n2020","Q3\n2020","Q2 \n2020","Q1 \n2020","Q4 \n2019","Q3 \n20191","Q2 \n20191","Q1 \n20191","Q4 \n20181","Q3 \n20181","Q2 \n20181","Q1 \n20181"]
[null,"Power and heat generation, GWh"]
[null,"Heat generation",null,null,6587,6368.2,7907.45,6671,8312,8768,null,331.5493478874115,935.25,3285,2385,234,790,3178,2063.71,238.6,823.37,3242.51,2467,402.09,1148.0634666666699,3889.7716833333302,2230,321,977,3143,2960,508,1120,3724,2797,274,915,4782]
[null,"Power generation",null,"\\",4437,6012.28,6889.89,4438,4640,6652,null,804.54741589799994,805.14,1484,1042,780.95,916.98,1697.47,1408.7,1363.22,1101.68,2138,2096.13,1027.5899999999999,1507.0385922999999,2259,1291,692,811,1644,1629,409,664,1938,1776,686,859,3331]
[null,"Total",null,null,11024,12380.48,14797.34,11109,12952,15420,null,1136.0967637854114,1740.3899999999999,4769,3427,1014.95,1706.98,4875.47,3472.41,1601.82,1925.0500000000002,5380.51,4563.13,1429.6799999999998,2655.1020589666696,6148.7716833333307,3521,1013,1788,4787,4589,917,1784,5662,4573,960,1774,8113]
[null,"Distribution and sales, GWh"]
[null,"Power distribution",null,null,null,0,0,5194.1000000000004,8350,8381,null,null,0,0,0,0,0,0,0,0,0,0,0,0,0,0,0,1180,1803,2211,2259,1900,1919,2272,2243,1847,1904,2387]
[null,"Power sales",null,null,2627,5399,8796.83,11622.500000000004,14700,15296,null,577,581,633,628,565.52,556.30999999999995,877,904,1338.95,1465.57,1690,2072.2800000000002,2271.2999999999993,2166.59,2287,2574,2452,2991,3605,4081,3340,3252,4027,4313,3462,3464,4057]
[null,"Gas sales",null,null,16880,31637.23,61348.81,90346.500000000015,124951,131144,null,4137.88,4050.65,5167,3041,5354.56,4015.95,4468.26,4048.23,5705.86,8890.6200000000008,12993,13744.21,13580.4,15078.900000000001,18945,20441.199999999997,23158,20063,26685,36665,30755,31743,25788,25524,31258,33934,40428]
[null,"Business drivers"]
[null,"Degree days, number",null,null,2585,2548,2820,2432,2399,2526,null,79,360,1200,966,53,409,1157,861,98,448,1141,927,81,487,1325,825,106,436,1065,882,108,269,1140,884,76,149,1417]
[null,"For accounting policies, please see pages 96-97 in our annual report 2023."]
[null,"1 Reportable segments are reorganised as of November 2019. 2018 and 2019 figures are restated."]

{"sheet":"Business drivers highlights","index":12,"n_rows":64,"n_cols":55,"rows_kept":64,"cut":false,"hidden":false,"merged":[[63,1,63,36]]}
[]
[null,"Consolidated financial highlights (continuing operations)"]
[null,"Business drivers"]
[]
[null,"Business drivers",null,"FY\n2024","FY\n2023","FY\n2022","FY\n2021","FY\n2020","FY\n2019","FY\n2018","FY\n2017","FY\n2016","FY\n2015","FY\n2014","FY\n2013",null,"Q3\n2024","Q2\n2024","Q1\n2024","Q4\n2023","Q3\n2023","Q2\n2023","Q1\n2023","Q4\n2022","Q3\n2022","Q2\n2022","Q1\n2022","Q4\n2021","Q3\n2021","Q2\n2021","Q1\n2021","Q4\n2020","Q3\n2020","Q2\n2020","Q1\n2020","Q4\n2019","Q3\n2019","Q2\n2019","Q1\n2019","Q4\n2018","Q3\n2018","Q2\n2018","Q1\n2018","Q4\n2017","Q3\n2017","Q2\n2017","Q1\n2017","Q4\n2016","Q3\n2016","Q2\n2016","Q1\n2016","Q4\n2015","Q3\n2015","Q2\n2015","Q1\n2015"]
[null,"Offshore"]
[null,"Decided (FID'ed) and installed capacity, GW",null,null,15.542999999999999,11.1,10.9,9.9,9.9,9,8.9,7.4,5.0999999999999996,3.8,3.6,null,16.768999999999998,16.767000000000003,16.466999999999999,15.542999999999999,11.99,12,11.987,11.1,11.1,11.1,11.1,10.9,9.8000000000000007,9.8000000000000007,9.9,9.9,9.9,9.9,9.9,9.9,9.9,9.9,9,9,8.9,8.9,8.9,8.9,8.9,7.5,7.4,7.4,7.4,6.7,6.3,5.0999999999999996,4.4000000000000004,4.4000000000000004,3.8]
[null,"Installed capacity, GW",null,null,8.8710000000000004,8.9,7.6,7.6,6.8,5.6,3.9,3.6,3,2.4870000000000001,2.0979999999999999,null,9.9027499999999957,9.8000000000000007,8.8710000000000004,8.8710000000000004,8.8699999999999992,8.9,8.9,8.9,8.8699999999999992,7.6,7.6,7.6,7.6,7.6,7.6,7.6,6.8,6.8,6.8,6.8,5.6,5.6,5.6,5.6,5.0999999999999996,5.0999999999999996,4.4000000000000004,3.9,3.8,3.8,3.6,3.6,3,3,3,3,2.7,2.7,2.5]
[null,"Generation capacity, GW",null,null,4.9859999999999998,4.7,4,4.4000000000000004,3.6,3,2.5,2,1.7,1.4,1.3,null,5.2282399999999996,5.0999999999999996,5.0670000000000002,4.9859999999999998,4.95,4.9000000000000004,4.7,4.7,5.2880000000000003,4.8,4.2,4,4,4,4.4000000000000004,4.4000000000000004,4.0999999999999996,3.8,3.6,3.6,3.6,3.3,3,3,2.9,2.8,2.7,2.5,2.2999999999999998,2.2000000000000002,2.1,2,1.8,1.7,1.7,1.7,1.7,1.6,1.4]
[null,"Wind speed5, m/s",null,null,9.8000000000000007,9.5,9.14,10,9.1999999999999993,9.1,9.3000000000000007,8.9,9.6999999999999993,9.1999999999999993,9,null,8.41,9,11.4,11.5,8.6300000000000008,8.1,10.9,10.7,7.7,8.4,11.3,10.55,7.62,7.8257325186269897,10.5,10.6,8.6,8.4,12.5,10,8.5,8,10.4,10.3,7.7,7.9,10.3,11,7.9,8.5,9.9,9.4,8.1,7.8,10.199999999999999]
[null,"Load factor1, %",null,null,0.43,0.42,0.39240000000000003,0.45,0.42,0.42,0.44,0.41,0.45,0.44,0.42,null,0.31,0.33489999999999998,0.52,0.56000000000000005,0.33,0.28999999999999998,0.53,0.54,0.28000000000000003,0.35,0.54,0.5252,0.26840000000000003,0.28683008781355201,0.496,0.53,0.35,0.32,0.6,0.5,0.37,0.31,0.51,0.53,0.32,0.31,0.55000000000000004,0.54,0.34,0.38,0.5,0.49,0.35,0.34,0.46,0.5,0.36,0.42,0.55000000000000004]
[null,"Availability2, %",null,null,0.93,0.94,0.94230000000000003,0.94,0.93,0.93,0.93,0.92,0.93,0.94,0.93300000000000005,null,0.89,0.83,0.85,0.92,0.93,0.91,0.95,0.95,0.91,0.94,0.95,0.94879999999999998,0.92559999999999998,0.92907588513023998,0.95199999999999996,0.94,0.94,0.95,0.93,0.93,0.93,0.87,0.96,0.93,0.92,0.93,0.94,0.92,0.92,0.93,0.93,0.94,0.92,0.94,0.89,0.9,0.93,0.94,0.94]
[null,"Power generation, GWh",null,null,17760.519999999997,16482.830000000002,13808.1,15247.765848335877,11965,10041.5,8512,6044,5791,4943,4338,null,3522.4381771596395,3667.32,5669.66,6010.83,3543.69,3044.0899999999997,5161.9800000000005,5410.99,3246.3999999999996,3324.2899999999995,4501.8502319999998,4452.05,2286.09,2521.3307429248684,4548.5344397609642,4912.0002362000023,3164.2999999999997,2579.6678504000006,4592,3931,2773.7999999999997,2154.5000000000005,3105.5,3317,1936.3999999999999,1817,2971,2895,1690,1784,2143,1840,0,1212,1660,1548,1290,1365,1588]
[null,"Power sales7, GWh",null,null,21448,23194,25019.53,29151.924378981901,27615,27434,null,null,null,null,null,null,4010,3854,6264,6244,3948,4158,7098,7645,3483,5258,6808,8790.73,4802.6000000000004,4541.4129508960004,6885,8560.5809460467899,6282,5519,8790,7682,7003,5700,7229,7692,5206,5360,9176]
[null,"Onshore"]
[null,"Decided (FID'ed) and installed capacity, wind and solar9, GW",null,null,6.3639999999999999,6.2,4.7,3.4,2.1,1,null,null,null,null,null,null,6.3840000000000003,6.383,6.407,6.3639999999999999,6.24,6.2,6.2,6.2,5.0999999999999996,4.9000000000000004,4.7,4.7,4.7,4.7,4,3.4,2.7,2.1,2.1,2.1,1.7,1.4,1,1]
[null,"Installed capacity, wind and solar9, GW",null,null,4.7850000000000001,4.2,3.4,1.7,1,0.8,null,null,null,null,null,null,5.7220000000000004,5.6440000000000001,4.7940000000000005,4.7850000000000001,4.7699999999999996,4.5999999999999996,4.5,4.2,4.2,4,3.6,3.4,3,2.4,1.7,1.7,1.7,1.6,1.3,1,1,0.8,0.8,0.8]
[null,"Generation capacity, wind and solar, GW",null,null,4.7249999999999996,4.0999999999999996,3.3,1.7,1,0.8,null,null,null,null,null,null,5.3079999999999998,5.23,4.734,4.7249999999999996,4.71,4.5,4.5,4.0999999999999996,4.0999999999999996,3.9,3.6,3.3,3,2.4,1.7,1.7,1.7,1.6,1.3,1,1,0.8,0.8,0.8]
[null,"Wind speed5,10, m/s",null,null,7.2,7.4,7.4,7.6,7.3,7.3,null,null,null,null,null,null,6.2,7.4,7.9,7.6,6.2,6.7,8.1,7.7,6,7.8,7.9,7.9,6.4391701114334667,7.3,7.7,8,6.7,8,7.5,7.3,6.6,7.7,7.8,7.3]
[null,"Load factor1,10, wind, %",null,null,0.36,0.39900000000000002,0.42399999999999999,0.45,0.45,0.41,null,null,null,null,null,null,0.26,0.41,0.42,0.36,0.27,0.35,0.45,0.39700000000000002,0.28000000000000003,0.46899999999999997,0.47,0.46600000000000003,0.33400000000000002,0.44800000000000001,0.44700000000000001,0.5,0.36,0.49,0.44,0.46,0.39,0.47,0.47,0.41]
[null,"Load factor1,10, solar, %",null,null,0.24,0.252,0.23799999999999999,"-","-","-",null,null,null,null,null,null,0.31,0.28999999999999998,0.18,0.17,0.32,0.3,0.16,0.17199999999999999,0.316,0.313,0.20699999999999999,0.191,0.27100000000000002,0.28999999999999998,"-","-","-","-","-","-","-","-","-","-"]
[null,"Availability2,10, wind, %",null,null,0.88,0.93,0.96,0.96,0.98,"-",null,null,null,null,null,null,0.87,0.92,0.89,0.85,0.85,0.92,0.91,0.91,0.92,0.92,0.96,0.96,0.98,0.97,0.93,0.95,0.97,0.96,0.95,0.98,0.98,0.97,0.97,0.98]
[null,"Availability2,10, solar, %",null,null,0.98,0.98,0.96,"-","-","-",null,null,null,null,null,null,0.97,0.97,0.98,0.98,0.98,0.98,0.99,0.99,0.96,0.99,0.99,0.99,0.98,0.9,"-","-","-","-","-","-","-","-","-","-"]
[null,"Power generation, wind and solar GWh",null,null,13374.25,13146.220000000001,8352.2000000000007,5739.2850732238649,3513,551.69999999999993,null,null,null,null,null,null,3269.6912964822291,4186.83,3772.3200000000006,3375.87,2927.2200000000003,3321.4799999999996,3750.2500000000014,3425.42,2723.18,3794.7200000000003,3202.9100000000003,2818.25,1904.3600000000001,1982.5506018323708,1647,1816.7356335657828,1262,1515.6128164627016,1144,998,860,829,825.6,551.69999999999993]
[null,"Bioenergy & Other"]
[null,"Heat generation, GWh",null,null,6587,6368.2,7907.45,6671,8312,8768,null,null,null,null,null,null,331.5493478874115,935.25,3285,2385,234,790,3178,2063.71,238.6,823.37,3242.51,2467,402.09,1148.0634666666699,3889.7716833333302,2230,321,977,3143,2960,508,1120,3724,2797,274,915,4782]
[null,"Power generation, GWh",null,null,4437,6012.28,6889.89,4438,4640,6652,null,null,null,null,null,0,804.54741589799994,805.14,1484,1042,780.95,916.98,1697.47,1408.7,1363.22,1101.68,2138,2096.13,1027.5899999999999,1507.0385922999999,2259,1291,692,811,1644,1629,409,664,1938,1776,686,859,3331]
[null,"Power distribution, TWh",null,null,0,0,0,5.2,8.4,8.4,null,null,null,null,null,null,0,0,0,0,0,0,0,0,0,0,0,0,0,0,0,0,1.2,1.8,2.2000000000000002,2.2999999999999998,1.9,1.9,2.2999999999999998,2.2999999999999998,1.8,1.9,2.4]
[null,"Power sales7, GWh",null,null,2627,5399,8796.83,11622.500000000004,14700,15296,null,null,null,null,null,null,577,581,633,628,565.52,556.30999999999995,877,904,1338.95,1465.57,1690,2072.2800000000002,2271.2999999999993,2166.59,2287,2574,2452,2991,3605,4081,3340,3252,4027,4313,3462,3464,4057]
[null,"Gas sales, GWh",null,null,16880,31637.23,61348.81,90346.500000000015,124951,131144,null,null,null,null,null,null,4137.88,4050.65,5167,3041,5354.56,4015.95,4468.26,4048.23,5705.86,8890.6200000000008,12993,13744.21,13580.4,15078.900000000001,18945,20441.199999999997,23158,20063,26685,36665,30755,31743,25788,25524,31258,33934,40428]
[null,"Degree days3, number",null,null,2585,2548,2820,2432,2399,2526,null,null,null,null,null,null,79,360,1200,966,53,409,1157,861,98,448,1141,927,81,487,1325,825,106,436,1065,882,108,269,1140,884,76,149,1417]
[null,"Eliminations"]
[null,"Power sales6,7, GWh",null,null,-2627,-5399,-8796.83,-11622.500000000004,-14700,-15296,null,null,null,null,null,null,-577,-581,-633,-628,-565.52,-556.30999999999995,-877,-904,-1338.95,-1465.57,-1690,-2072.2800000000002,-2271.2999999999993,-2166.59,-2287,-2574,-2452,-2991,-3605,-4081,-3340,-3252,-4027,-4313,-3462,-3464,-4057]
[]
[null,"Bioenergy"]
[null,"Degree days3, number",null,null,null,null,null,null,null,null,2705,2715,2621,2462,2890,null,null,null,null,null,null,null,null,null,null,null,null,null,null,null,null,null,null,null,null,null,null,null,null,null,null,null,null,895,115,451,1244,962,54,399,1300,781,109,520,1211]
[null,"Heat generation, TWh",null,null,null,null,null,null,null,null,9,9.1999999999999993,9.3000000000000007,8.6999999999999993,11.2,null,null,null,null,null,null,null,null,null,null,null,null,null,null,null,null,null,null,null,null,null,null,null,null,null,null,null,null,2.8,0.7,1.3,4.2,3.1,0.4,1.4,4.3,2.9,0.6,1.6,4.2]
[null,"Power generation, TWh",null,null,null,null,null,null,null,null,8.1999999999999993,8.4,7.1,8.6999999999999993,13.8,null,null,null,null,null,null,null,null,null,null,null,null,null,null,null,null,null,null,null,null,null,null,null,null,null,null,null,null,2.2999999999999998,1.2,1.5,3.2,3,1.3,1.1000000000000001,3,2.5,0.4,1.2,3]
[null,"Customers solutions"]
[null,"Power distribution, TWh",null,null,null,null,null,null,null,null,8.4,8.5,8.4,8.4,8.6,null,null,null,null,null,null,null,null,null,null,null,null,null,null,null,null,null,null,null,null,null,null,null,null,null,null,null,null,2.2000000000000002,1.9,2,2.2999999999999998,2.2999999999999998,1.9,1.9,2.4,2.2999999999999998,1.8999999999999995,1.9000000000000004,2.2999999999999998]
[null,"Gas distribution, TWh",null,null,null,null,null,null,null,null,0,5.8,8.1,8.1999999999999993,9,null,null,null,null,null,null,null,null,null,null,null,null,null,null,null,null,null,null,null,null,null,null,null,null,null,null,null,null,0,"-",0,0,0,1.1000000000000001,1.5,3.2,2.4,1.1000000000000005,1.4999999999999996,3.1]
[null,"Power sales, TWh",null,null,null,null,null,null,null,null,37.700000000000003,36.700000000000003,35.5,34.5,25.5,null,null,null,null,null,null,null,null,null,null,null,null,null,null,null,null,null,null,null,null,null,null,null,null,null,null,null,null,10.6,8.1999999999999993,8.8000000000000007,10.1,9.1999999999999993,8.3000000000000007,8.5,10.7,9.9,9.3000000000000007,7.8000000000000007,8.5]
[null,"Gas sales, TWh",null,null,null,null,null,null,null,null,136.1,150.4,159.1,151.30000000000001,131.69999999999999,null,null,null,null,null,null,null,null,null,null,null,null,null,null,null,null,null,null,null,null,null,null,null,null,null,null,null,null,36.9,29.4,28.3,41.5,36.1,37.1,35.6,41.6,36.200000000000003,42.20000000000001,36.800000000000004,43.9]
[null,"Oil & Gas"]
[null,"Oil and gas production, million BOE",null,null,null,null,null,null,null,null,21.4,36.6,40.9,41.8,31.7,null,null,null,null,null,null,null,null,null,null,null,null,null,null,null,null,null,null,null,null,null,null,null,null,null,null,null,null,0,7.3,6.6,7.5,9,8.9,8.6999999999999993,10]
[null,"EBITDA",null,null,null,null,null,null,null,null,6436,6507,9754,8591,7324,null,null,null,null,null,null,null,null,null,null,null,null,null,null,null,null,null,null,null,null,null,null,null,null,null,null,null,null,0,1389,2598,2449,2140,1658,1705,1004]
[null,"Free Cash Flow",null,null,null,null,null,null,null,null,8475,1106,655,452,-5631,null,null,null,null,null,null,null,null,null,null,null,null,null,null,null,null,null,null,null,null,null,null,null,null,null,null,null,null,0,4010,2655,1810,1020,658,-1049,478]
[null,"Capital employed",null,null,null,null,null,null,null,null,3505,2769,5444,17538,20663,null,null,null,null,null,null,null,null,null,null,null,null,null,null,null,null,null,null,null,null,null,null,null,null,null,null,null,null,0,0,1301,2204,2769,4976,4981,5281]
[null,"Social & Environmental"]
[null,"Employees (FTE), number",null,null,8905,8027,6836,6179,6526,6080,5638,5775,5947,5751,5807,null,8377,8411,8706,8905,8906.2000000000007,8660.9699999999993,8422,8027,7681,7292,7016,6836,6672,6472,6311,6179,6120,6731,6608,6526,6454,6312,6176,6080,5882,5741,5662,5638,5641,5802,5787,5775,5890,5881,6019,5947,5956,5911,5817]
[null,"Lost time injury frequency (LTIF)8, per 1 million hours worked",null,null,1.4,1.6,1.3,1.7,2.1,"1,,5",1.6,1.8,2,2.5,3.5,null,1.2,1.1000000000000001,1.3,1.4,1.6,1.6,1.8,1.6,1.5,1.2,1.1000000000000001,1.3,1.3,1.6,1.7,1.7,1.7,2.1,1.9,2.1,2.1,1.4,1.5,1.5,1.5,2,1.7,1.6,1.5,1.5,1.6,1.8,2.1,1.9,2.1,2,2.1,2,2.2999999999999998]
[null,"Total recordable injury rate (TRIR)8, per 1 million hours worked",null,null,2.8,3.1,3,3.6,4.9000000000000004,4.7,6.4,6.8,9.6999999999999993,10.9,12,null,2.4,2.5,2.9,2.8,2.9,3.1,3.5,3.1,3.2,2.9,2.6,3,3,3.3,3.4,3.6,4.2,4.7,4.7,4.9000000000000004,4.5,4.0999999999999996,4.3,4.7,5,6.2,6.7,6.4,6.7,6.5,6.4,6.8,7.4,8.5,9.1999999999999993]
[null,"Fatalities, number",null,null,0,0,0,0,1,"0","0","0","0","0","0",null,0,0,0,0,0,0,0,0,0,0,0,0,0,0,0,0,0,0,0,0,0,1,"0","0","0","0","0","0","0","0","0","0","0","0","0",0,0,0,0]
[null,"Share of renewable energy generation, %",null,null,93,91,90,90,86,75,64,50,49,44,35,null,96,97,97,95,94,97,89,88,89,93,92,93,89,93,87,93,90,86,90,90,87,85,80,83,71,80,68,76,60,64,56,56,47,54,43]
[null,"GHG intensity (scope 1 and 2), g CO2e/kWh",null,null,38,60,58,58,65,131,151,224,220,280,311,null,40,16,14,25,46,24,52,62,88,49,48,45.49,91.1,51,59,34,83,84,53,44,62,71,85,87,212,123,147,106,203,150,170,183,329,210,232,225,217,217,218]
[null,"Scope 3 emissions, Mtonnes11",null,null,5.6,11,18.18,25.332999999999998,34.603999999999999,36.228000000000002,null,null,null,null,null,null,2.16,3.31,1.84,1.2,1.6,1.3,1.5369999999999999,1.522,3.1459999999999999,2.6269999999999998,3.6880000000000002,3.9279999999999999,4.3730000000000002,4.6159999999999997,5.2629999999999999,5.9459999999999997,6.2610000000000001,5.5350000000000001,7.5919999999999996,10.718999999999999,8.2370000000000001,8.3620000000000001,7.2859999999999996]
[null,"GHG (scope 1, 2, and 3, excl. natural gas sales), g CO2e/kWh",null,null,80,147,165,162,214,322,null,null,null,null,null,null,194,262,57,62,94,77,90,110,330,112,100,109,310,208,130,141,190,195,150,229,240,214,186]
[null,"Taxonomy-aligned KPIs12"]
[null,"Taxonomy-aligned revenue13, %",null,null,86,69,66,null,null,null,null,null,null,null,null,null,90,91,91,86,85,83,84,69,67,66,63]
[null,"Taxonomy-aligned OPEX14, %",null,null,79,80,80,null,null,null,null,null,null,null,null,null,null,null,null,79,null,null,null,80]
[null,"Taxonomy-aligned CAPEX, %",null,null,99,99,99,null,null,null,null,null,null,null,null,null,99,99,99,99,98,99,99,99,99,99,99]
[null,"Taxonomy-aligned EBITDA, %",null,null,95,85,90,null,null,null,null,null,null,null,null,null,98,98,99,95,99,102,99,85,91,90,87]
[]
[null,"1 Load factor: The ratio between the actual generation over a period relative to the potential generation which is possible by continuously exploiting the maximum capacity over the same period.\n2 Availability: Production-based availability is the ratio of actual production to the possible production, which is the sum of lost production and actual production in a given period.\n3 Degree days: Number of degrees in absolute figures in difference between the average temperature and the official Danish average indoor temperature of 17 degrees Celcius.\n4 The figures indicate values from the latest regulatory financial statements.\n5 Wind Speed indicates how many metres per second the wind has blown in the areas where we have wind farms. The weighting is based on our generation capacity.\n6 Eliminations is equal to the internal sale from Offshore to Bioenergy & Other. The Ørsted power sales is the sum of Offshore, Bioenergy & Other and elimations.\n7 Power sales volumes have been reduced compared to previously announced volumes as we eliminated for internally sourced power generation volumes in Germany and the UK due to the new presentation of power sales volumes in Offshore. \n8 12 months rolling.\n9 Including storage \n10 2021 onshore data is for the US only. We did not have any onshore wind farms outside the US in 2018-2020.\n11 The scope 3 2018 target baseline was adjusted in 2020, due to divestment of LNG business. The adjusted baseline in 2018 is 29.2 million tonnes CO2e.\n12 2021 numbers are taxonomy-eligible proportions. Quarterly numbers are YTD values. \n13 2022 and 2023 revenue has been adjusted according to the change in accounting policy for presentation of revenue, resulting in an adjustment of taxonomy revenue KPIs (%).\n14 Taxonomy-aligned OPEX for 2022 is restated following an update to the accounting principles applied to the full year result for 2022 and 2023. The quarterly results 2022 and 2023 are not restated."]

{"sheet":"Sheet1","index":13,"n_rows":9,"n_cols":4,"rows_kept":9,"cut":false,"hidden":false,"merged":[]}
[]
[]
[]
[]
["Generation capacity (incl. parks under construction but excl. divested and one-line consolidated farms)",null,null,5228.24]
["Generation capacity (incl. parks under construction but excl. divested and one-line consolidated farms)",null,null,5308.1840000000002]
[null,null,null,{"$f":"'Bio Asset Book'!I15","v":2167}]
[]
[null,null,null,{"$f":"SUM(D5:D8)","v":12703.423999999999}]

{"sheet":"ON Asset Book (2)","index":14,"n_rows":97,"n_cols":14,"rows_kept":97,"cut":false,"hidden":false,"merged":[[3,9,4,9],[3,12,4,12],[24,3,25,3],[24,4,25,4],[24,5,25,5],[24,6,25,6],[24,7,25,7],[24,8,25,8],[24,9,25,9],[24,12,25,12],[3,3,4,3],[3,4,4,4],[3,5,4,5],[3,6,4,6],[3,7,4,7],[3,8,4,8],[39,9,40,9],[39,12,40,12],[77,3,78,3],[77,4,78,4],[77,5,78,5],[77,6,78,6],[77,7,78,7],[77,8,78,8],[77,9,78,9],[77,12,78,12],[39,3,40,3],[39,4,40,4],[39,5,40,5],[39,6,40,6],[39,7,40,7],[39,8,40,8]]}
[]
[null,"ONSHORE - Asset Book updated as of 30 June 2025"]
[]
[null,null,null,"Park\ncapacity, MW","Renewable \ncapacity, MW","Generation\ncapacity, MW","Financial \nconsolidation","Consolidation, \n%","Ownership \ninterest, %","Commercial \noperational date",null,null,"Subsidy \nQualification Level"]
[null,"USA","Partners",null,null,null,null,null,null,null,"Subsidy \nregime","Subsidy expiry",null,"Subsidy note"]
[null,"Wind"]
[null,"Willow Springs  (100 x GE-2.5)",null,250,250,250,"Full","100%","100%","2017","Production tax credits",2027,"100%","100% PTC qualification yielded $24/MWh tax credit in 2018 and is adjusted yearly with inflation"]
[null,"Dermott (110 x GE-2.3)",null,253,253,253,"Full","100%","100%","2017","Production tax credits",2027,"100%","100% PTC qualification yielded $24/MWh tax credit in 2018 and is adjusted yearly with inflation"]
[null,"Tahoka (120 x GE-2.5)",null,300,300,300,"Full","100%","100%","2018","Production tax credits",2028,"100%","100% PTC qualification yielded $24/MWh tax credit in 2018 and is adjusted yearly with inflation"]
[null,"Lockett (75 x GE-2.45)",null,183.75,184,183.75,"Full","100%","100%","2019","Production tax credits",2029,"100%","100% PTC qualification yielded $24/MWh tax credit in 2018 and is adjusted yearly with inflation"]
[null,"Sage Draw (120 x GE-2.82)",null,338.4,338.4,338.4,"Full","100%","100%","2020","Production tax credits",2030,"100%","100% PTC qualification yielded $24/MWh tax credit in 2018 and is adjusted yearly with inflation"]
[null,"Plum Creek (82 x GE-2.8)1","Energy Capital Partners (ECP)",229.6,229.6,229.6,"Full","100%","100%","2020","Production tax credits",2030,"100%","100% PTC qualification yielded $24/MWh tax credit in 2018 and is adjusted yearly with inflation"]
[null,"Willow Creek (5 x GE-2.3, 33 x GE-2.78)1","Energy Capital Partners (ECP)",103.24,103.24,103.24,"Full","100%","100%","2020","Production tax credits",2030,"100%","100% PTC qualification yielded $24/MWh tax credit in 2018 and is adjusted yearly with inflation"]
[null,"Western Trail (130 x GE-2.82)2","Stonepeak",367,367,366.6,"Full","100%","20%","2021","Production tax credits",2031,"100%","100% PTC qualification yielded $24/MWh tax credit in 2018 and is adjusted yearly with inflation"]
[null,"Lincoln Land (107 x GE-2.82)1","Energy Capital Partners (ECP)",302,302,301.74,"Full","100%","100%","2021","Production tax credits",2031,"100%","100% PTC qualification yielded $24/MWh tax credit in 2018 and is adjusted yearly with inflation"]
[null,"Haystack (51 x SG-5.0, 18 x SWT-2.4)",null,298.47000000000003,298.47000000000003,298.47000000000003,"Full","100%","100%","2022","Production tax credits",2032,"100%","100% PTC qualification yielded $24/MWh tax credit in 2018 and is adjusted yearly with inflation"]
[null,"Helena Energy Center (Helena Wind) (51 x V-4.2, 15 x V-3.6)2","Stonepeak",268.2,268.2,268,"Full","100%","20%","2022","Production tax credits",2032,"100%","100% PTC qualification yielded $24/MWh tax credit in 2018 and is adjusted yearly with inflation"]
[null,"Ford Ridge (43 x GE-2.82)2","Stonepeak",null,121,121,"Full","100%","20%","2022","Production tax credits",2032,"100%","100% PTC qualification yielded $24/MWh tax credit in 2018 and is adjusted yearly with inflation"]
[null,"Sunflower Wind (76 x GE-2.82)2","Stonepeak",201,201,201,"Full","100%","20%",2023,"Production tax credits",2033,"100%","100% PTC qualification yielded $24/MWh tax credit in 2018 and is adjusted yearly with inflation"]
[null,"Total, Installed ",null,null,3215.91]
[null,"Badger Wind",null,259.44,259.44,0,"Full",1,"100%","expected 2025"]
[null,"Total, Decided (FID'ed)",null,null,259.44,0]
[null,"Total onshore wind, USA",null,null,3475.35,3215]
[]
[null,null,null,"Park\ncapacity, MW","Renewable \ncapacity, MW","Generation\ncapacity, MW","Financial \nconsolidation","Consolidation, \n%","Ownership \ninterest, %","Commercial operational date",null,null,"Subsidy \nQualification Level"]
[null,"USA","Partners",null,null,null,null,null,null,null,"Subsidy regime","Subsidy expiry",null,"Subsidy note"]
[null,"Solar"]
[null,"Permian Energy Center (Including storage (40 MWAC))",null,460,460,420,"Full","100%","100%","2021","Investment tax credits","N/A","30%"]
[null,"Muscle Shoals1","Energy Capital Partners (ECP)",227,227,227,"Full","100%","100%","2021","Investment tax credits","N/A","30%"]
[null,"Old 300 Solar",null,430,430,430,"Full","100%","100%","2024","Production tax credits","2034","100%"]
[null,"Helena Energy Center (Sparta Solar)","Energy Capital Partners (ECP)",250,250,125,"Pro rata",0.5,0.5,"2024","Production tax credits","2034","110%","The 110% subsidy level includes 10% Energy Community adder, for which the project needs to qualify each year."]
[null,"Eleven Mile (Including storage (300MWAC))","Energy Capital Partners (ECP)",600,600,150,"Pro rata",0.5,0.5,"2024","Production and investment tax credits","2034","100% / 30%","The 100% PTC relates to the solar PV part, whereas the 30% ITC relates to the Battery Storage part"]
[null,"Mockingbird Solar","Energy Capital Partners (ECP)",470.97,470.97,234,"Pro rata",0.5,0.5,"2024","Production tax credits","2034","110%"]
[null,"Total, Divested but constructed by Ørsted",null,null,10]
[null,"Total, Installed",null,null,2447.9700000000003]
[null,"Old 300 BESS",null,250,250,0,"Full","100%","100%","expected 2026","ITC","n/a"]
[null,"Total, Decided (FID'ed) ",null,250,250]
[null,"Total solar PV, USA",null,null,2697.9700000000003,1586]
[]
[null,null,null,"Park\ncapacity, MW","Renewable \ncapacity, MW","Generation\ncapacity, MW","Financial \nconsolidation","Consolidation, \n%","Ownership \ninterest, %","Commercial \noperational date",null,null,"Subsidy \nQualification Level"]
[null,"Europe","Partners",null,null,null,null,null,null,null,"Subsidy regime","Subsidy expiry",null,"Subsidy note"]
[null,"Wind"]
[null,"Knockawarriga 1 (9 x Nordex-N90)",null,22.5,22.5,22.5,"Full",1,1,"2008","Expired","N/A"]
[null,"Knockawarriga 2 (3 x Nordex-N90)",null,7.5,7.5,7.5,"Full",1,1,"2020","REFIT 2","2032"]
[null,"Booltiagh 1 (12 x GE-1.5)",null,18,18,18,"Full",1,1,"2005","CPPA",2028]
[null,"Booltiagh 2 (6 x Enercon-E82)",null,12,12,12,"Full",1,1,"2013","REFIT 1",2028]
[null,"Smithstown (4 x Enercon-E82)",null,8,8,8,"Full",1,1,"2013","REFIT2",2028]
[null,"Lisheen 1 (18 x Vestas-V90)",null,36,36,36,"Full",1,1,"2009","Expired","N/A"]
[null,"Lisheen 2 (12 x Vestas-V90)",null,24,24,24,"Full",1,1,"2013","REFIT 1",2028]
[null,"Lisheen 3 (8 x Vestas-V136)",null,29,29,29,"Full",1,1,"2023","CPPA","2043"]
[null,"Garracummer (17 x Nordex-N90)",null,42.5,42.5,42.5,"Full",1,1,"2013","REFIT 1",2028]
[null,"Ballymartin (3 x Enercon-E82)",null,6.9,6.9,6.9,"Full",1,1,"2011","REFIT 1",2026]
[null,"Flughland (4 x Enercon-E70)",null,9.1999999999999993,9.1999999999999993,9.1999999999999993,"Full",1,1,"2009","Expired","N/A"]
[null,"Inchincoosh (13 x Nordex-N90)",null,32.5,32.5,32.5,"Full",1,1,"2009","Expired","N/A"]
[null,"Sillahertane (10 x Vestas-V52)",null,8.5,8.5,8.5,"Full",1,1,"2009","Expired","N/A"]
[null,"Sorne Hill 1 (16 x Enercon-E70)",null,32,32,32,"Full",1,1,"2006","Expired","N/A"]
[null,"Sorne Hill 2 (3 x Enercon-E70)",null,6.9,6.9,6.9,"Full",1,1,"2009","Expired","N/A"]
[null,"Kilgarvan (15 x Vestas-V90)",null,45,45,45,"Full",1,1,"2007","CPPA",2028]
[null,"Gneeves (8 x Vestas-V52)",null,9.35,9.35,9.35,"Full",1,1,"2006","Expired","N/A"]
[null,"Mienvee (1 x Vestas-V52)",null,0.9,0.9,0.9,"Full",1,1,"2004","Expired","N/A"]
[null,"Owenreagh 1 (9 x Zond-Z40)",null,0,2.4750000000000001,0,"One-line",0,0.5,"1997 (decomm. 2024)","N/A","N/A"]
[null,"Owenreagh 2 (6 x Vestas-V52)",null,5.0999999999999996,2.5499999999999998,0,"One-line",0,0.5,"2008","ROC","2025"]
[null,"Kennoxhead phase 1 (13 x Nordex-N133)",null,62,62,62,"Full",1,1,"2022","CPPA","2034"]
[null,"Amazon Wind Farm Northern Ireland - Ballykeel (7x Erecon-E82)",null,16,16,16,"Full",1,1,"2023","CPPA","2038"]
[null,"Schiederhof (2 x Vestas-V126)",null,7.2,7.2,7.2,"Full",1,1,"2018","CPPA + EEG","2028"]
[null,"Rotmainquelle (5 x Enercon-E115)",null,15,15,15,"Full",1,1,"2016","CPPA + EEG","2025"]
[null,"Granswang (3 x Enercon-E101)",null,9.15,4.5750000000000002,0,"One-line",0,0.5,"2016","CPPA","2026"]
[null,"Bahren West 1 (9x Vestas V150 5.6)",null,50.4,50,50.4,"Full",1,1,"2025","EEG","2044"]
[null,"Wansleben NM82 (2 x Neg Micon)",null,3,"-",3,"Full",1,1,"2006","EEG","2026"]
[null,"Total, Divested but constructed by Ørsted",null,null,50]
[null,"Total, Installed",null,null,560.54999999999995]
[null,"Bahren West 2",null,0,62,null,"Full",1,1,"expected 2027","EEG","2047"]
[null,"St. Wendel",null,0,17,0,"Full",1,1,"expected 2025","EEG","2045"]
[null,"Farranrory (9 x Nordex-N133)",null,0,43.2,"-","Full",1,1,"expected 2026","RESS 3","2045"]
[null,"Total, Decided (FID'ed) ",null,null,122.2,0]
[null,"Total onshore wind, Europe",null,null,682.75,505]
[]
[null,null,null,"Park\ncapacity, MW","Renewable \ncapacity, MW","Generation\ncapacity, MW","Financial \nconsolidation","Consolidation, \n%","Ownership \ninterest, %","Commercial \noperational date",null,null,"Subsidy \nQualification Level"]
[null,"Europe","Partners",null,null,null,null,null,null,null,"Subsidy regime","Subsidy expiry",null,"Subsidy note"]
[null,"Solar"]
[null,"Altenschwand",null,10.433999999999999,10.433999999999999,10.433999999999999,"Full",1,1,"2022","CPPA + EEG","2034"]
[null,"Amberg Sud",null,4.3,4.3,4,"Full",1,1,"2024","CPPA + EEG","2044"]
[null,"Total, Divested but constructed by Ørsted",null,null,3.78]
[null,"Total, Installed ",null,null,18.513999999999999]
[null,"Garreenleen, phase 1",null,81,81,0,"Full",1,1,"expected 2026","RESS 3","2041"]
[null,"Ballinrea Solarfarm",null,0,55,0,"Full",1,1,"expected 2026","RESS 4","2041"]
[null,"Rottenegg Solarpark",null,0,6.3,0,"Full",1,1,"expected 2025","EEG","2045"]
[null,"Hatzenhof Solarpark",null,0,9.4499999999999993,0,"Full",1,1,"expected 2025","EEG","2045"]
[null,"Total, Decided (FID'ed) ",null,null,151.75,0]
[null,"Total solar PV, Europe",null,null,170.26400000000001,14.433999999999999]
[null,"Totals",null,null,"MW"]
[null,"Total, Renewable capacity (installed capacity (incl. divested farms), decided capacity, and awarded capacity)",null,null,7025]
[null,"Installed capacity (incl. divested farms)",null,null,6242]
[null,"Generation capacity (incl. parks under construction but excl. divested and one-line consolidated farms)",null,null,5321]
[]
[null,"1 In Q4 2022, 50% of the ownership stake was divested to ECP. Ørsted remains having control of the company after the divestment and continues to consolidate the company 100%. See Interim financial report, First nine months 2022 p 39 for more details. "]
[null,"2 In Q1 2024, an agreement was signed to divest a share of the asset. Ørsted continues to have full operational control, and will continue to consolidate the company 100%. See interim report, First quarter 2024 p 4."]

{"sheet":"Bio Asset Book (2)","index":15,"n_rows":15,"n_cols":10,"rows_kept":15,"cut":false,"hidden":false,"merged":[[3,9,4,9],[3,2,4,2],[3,3,4,3],[3,6,4,6],[3,7,4,7],[3,8,4,8]]}
[]
[null,"HEAT AND POWER PLANTS - Asset Book updated as of 30 June 2025"]
[]
[null,null,"Type","Ørsted\nownership share, %",null,null,"Heat generation capacity (MW(th))","Heat generation capacity based on biomass (MW (th))","Power generation capacity\n(MW(e))","Start-up year (major overhaul/lifetime extension)"]
[null,"Plants",null,null,"Fuel Type","Biomass conversion"]
[null,"    Avedøre Power Station, unit 1","CHP",1,"Pellets, gas oil","2016",370,370,258,"1990 (2016-2018)"]
[null,"    Avedøre Power Station, unit 2","CHP",1,"Pellets, straw, gas, gas oil","2014",538,503,478,"2002"]
[null,"    Asnæs Power Station, unit 6","CHP",1,"Wood chips, gas oil",2019,125,125,26,2019]
[null,"    Herning Power Station","CHP",1,"Pellets, chips, gas","2002 (co-firing), 2009 (conversion)",191,191,88,"1982 (2009)"]
[null,"    Skærbæk Power Station, unit 3","CHP",1,"Wood chips, gas, gas oil","2017",579.29999999999995,329.5,390,"1997"]
[null,"    Studstrup Power Station, unit 3","CHP",1,"Pellets, straw, fuel oil","2016",513,513,362,"1984 (2014)"]
[null,"    H.C. Ørsted Power Station","CHP",1,"Gas","n.a.",292,"-",21,"1985 (2006)"]
[null,"    Svanemølle Power Station","Heat",1,"Gas","n.a.",256,"-",0,"1994 (2008)"]
[null,"    Kyndby and Masnedø Power Station","Power",1,"Gas oil","n.a.",0,"-",474,"1974-76 (2007-08)"]
[null,"Total",null,null,null,null,2864,2032,2097]

{"sheet":"OF Statistics 2020-Q2 2025","index":16,"n_rows":71,"n_cols":32,"rows_kept":71,"cut":false,"hidden":false,"merged":[]}
[]
[null,"Offshore"]
[]
[null,"Generation Ørsted share, GWh",null,"FY\n 2025","FY\n 2024","FY\n 2023","FY\n 2022","FY\n 2021","FY\n 2020",null,"Q2\n 2025","Q1\n 2025","Q4\n 2024","Q3\n 2024","Q2\n 2024","Q1\n 2024","Q4\n 2023","Q3\n 2023","Q2\n 2023","Q1\n 2023","Q4\n 2022","Q3\n 2022","Q2\n 2022","Q1\n 2022","Q4\n 2021","Q3\n 2021","Q2\n 2021","Q1\n 2021","Q4\n 2020","Q3\n 2020","Q2\n 2020","Q1\n 2020"]
[null,"Denmark"]
[null,"    Anholt",null,null,802.32,791.18,827.51,754.18,913.92794400000002,null,155.82,223.5,244.00343249999992,136.63885200000004,166.24,255.44,259.13,150.38,143.44999999999999,238.22,257.67,155.59,157.07,257.18,234.67,157.32,150.4321535,211.8,261.80658700000004,190.3,162.6,299]
[null,"    Horns Rev 1",null,null,227.82,225.45,216.74,193.18,172.84153000000001,null,27.91,63.71,61.207319999999982,37.815000000000026,50.55,78.25,70.73,46.09,43.55,65.09,64,46.47,39.840000000000003,66.430000000000007,57.51,28.85,46.721469050853997,60.097540000000002,35.90046000000001,41.8,33.4,62]
[null,"    Horns Rev 2",null,null,764.34,718.16,812.3,728.17,821.58357999999998,null,116.21,207.36,216.32961299999999,140.11415100000005,150.75,257.14,225.23,139.35,136.34,217.25,245.37,179.68,145.86000000000001,241.4,247.57,142.49,141.48314199999999,196.616545,232.62848399999996,154.80000000000001,146.6,288]
[null,"    Nysted",null,null,247.11,211.75,203,220.54,231.4753585,null,41.53,64.010000000000005,70.215708000000006,39.126621499999999,46.06,91.7,61.97,35.9,42.79,71.099999999999994,59.55,37.22,38.31,67.92,64.900000000000006,42.16,42.938742499999996,70.5370195,66.247264000000001,39.200000000000003,51.6,75]
[null,"    Other DK farms (Avedøre Holme)",null,null,19.64,22.92,24.35,21.83,25.248682000000002,null,3.92,5.71,4.54,2.7135790000000002,4.4400000000000004,7.95,6.06,4.99,4.53,7.35,7.37,4.4400000000000004,4.05,8.48,6.72,4.09,4.6870309999999993,6.3298730000000001,7.2160919999999997,4.8,4.7,8]
[null,"Sub total",null,null,2061.23,1969.46,2083.9,1917.8999999999996,2165.0770944999999,null,345.39000000000004,564.29000000000008,596.29607349999992,356.40820350000007,418.04,690.48,623.12,376.71,370.66,599.01,633.95999999999992,423.40000000000003,385.13,641.41,611.37,374.90999999999991,386.26253805085395,545.38097750000009,603.79888699999992,430.90000000000003,398.90000000000003,732]
[]
[null,"United Kingdom"]
[null,"    Barrow",null,null,243.169784245258,246.12,258.76,232.83,252.31573379004101,null,37.659999999999997,56.17,59.059902066876987,53.019131894257015,54.25,77,81.28,58.83,33.75,72.260000000000005,83.01,45.83,50.14,79.78,82.87,34.32,35.782104926889801,79.853462260963198,81.7,42.9,51.5,76]
[null,"    Burbo Bank 1+2",null,null,683.91656414341901,657.29,661.32,615.12,789.8,null,140.13999999999999,173.44,184.502119103533,145.38999999999999,143.86000000000001,210,214.76,146.27000000000001,96.57,199.69,213.97,109.26,133.07,205.02,218.23,83.62,100.82470602329551,212.4,240,153.9,134.30000000000001,262]
[null,"    Gunfleet Sands 1+2",null,null,265.49463629660602,282.37,248.09,241.68,298.8,null,116.92,110.14,67.047799143112599,52.980000000000004,57.35,88,91.33,53.23,58.89,78.930000000000007,80.92,35.56,50.86,80.75,75.040000000000006,41.29,47.781051729061403,77.599999999999994,83.3,60.7,50.7,104]
[null,"    Gunfleet Sand Demo",null,null,31.806740857410102,30.47,15.21,23.47,37,null,7.61,6.42,7.5788880373234022,5.76,8,10,7.87,7.47,6.28,8.85,6.36,4.18,4.37,0.28999999999999998,8.1,1.72,5.3532085237484202,8.3000000000000007,9.4,6.8,6.3,15]
[null,"    Lincs",null,null,254.15007013068001,234.32,233.39,231.59,272,null,47.75,60.39,64.558930420772015,46.83,53.95,89,69.599999999999994,48.89,41.63,74.2,77.66,29.05,48.81,77.87,79.31,40.65,39.870793048733702,71.8,77.2,53.9,48.2,93]
[null,"    London Array 1",null,null,0,345.42,517.69000000000005,540.32000000000005,638.04365044583301,null,0,0,0,0,0,0,0,50,122.4,173.02,171.69,76.73,107.52,161.75,165.85,103.81,98.663513968412005,172,186,124.8,109.3,218]
[null,"    Walney 1&2",null,null,637.358424460013,653.90000000000009,659.68,566.91,708.9,null,227.07,325.60000000000002,176.81732130017699,148.76,128.89000000000001,183,215.11,153.33000000000001,96.01,189.45,208.39,116.12,136.66,198.51,210.34,75.81,86.22116854436851,194.5,206.3,152.4,120.5,230]
[null,"    Walney 3&4",null,null,1265.6842513257,1273.1399999999999,1332.96,1084.18,1425.8,null,265.19,341.22,363.85534297910198,275.22000000000003,249.07,378,394.57,287.99,196.78,393.81,427.05,234.33,270.95,400.64,407.79,150.94,163.10966198772999,362.3,428.2,291.60000000000002,248.5,458]
[null,"    West of Duddon Sands",null,null,724.65179905979505,741.82,753.25,633.95000000000005,801.8,null,99,189.62,202.98362735263004,164.31073744823203,134.94999999999999,222,246.02,177.92,101.52,216.36,242.83,129.6,155.52000000000001,225.29,242.11,87.12,97.932284977449001,206.8,244.5,178,128.1,251]
[null,"    Westermost Rough",null,null,418.22303195864299,391.51,411.7,386.37,467.3,null,87.43,111.99,108.45063878742002,77.129462516505981,98,135,122.77,77.14,64.58,127.03,127.01,67.06,83.82,133.81,128.94999999999999,67.739999999999995,66.284845883401999,123.4,129.4,101.1,84.2,152]
[null,"    Race Bank",null,null,1016.10272918598,1093.8699999999999,1074.1199999999999,1018.75,1195.2,null,185.29,274.8,313.15325511647507,188.41276096271497,212.64,302,353.34,219.57,177.85,343.12,347.56,166.62,209.14,350.81,353,172.97,166.16524600470399,326.60000000000002,339.4,229.2,212.1,414]
[null,"    Hornsea 1",null,null,2169.0695040265,2435.63,2518.67,2305.7800000000002,2568.8000000000002,null,468.03,657.82,718.40901328947007,501.29625860702993,414.86,534,791.01,465.48,428.73,750.41,805.02,423.53,510.96,779.14,786.76,411.72,418.06449471616997,689.2,758.6,546.70000000000005,470.1,793]
[null,"    Hornsea 2",null,null,2647.4193419327098,2501.5500000000002,2303.92,-1.1499999999999999,0,null,418.38,711.2,797.71622915681974,463.10647703090012,472.89,914,845.79,513,354.15,788.61,839.46,774.15,522.41,167.9,-1.1499999999999999]
[null,"Sub total",null,null,10357.046877622714,10887.41,10988.76,7879.8000000000011,9455.7593842358729,null,2100.4699999999998,3018.8100000000004,3064.1330667537118,2122.2148284596396,2028.71,3142,3433.45,2259.12,1779.1399999999999,3415.7400000000002,3630.9300000000003,2212.02,2284.2299999999996,2861.56,2757.2000000000003,1271.71,1326.0530803339643,2524.7534622609637,2784,1942,1663.8000000000002,3066]
[]
[null,"Germany"]
[null,"    Borkum Riffgrund 1",null,null,475.07745419999998,449.24,398.94,424.13,541.47452000000101,null,66.010000000000005,103.1,128.67008499999997,90.777279200000009,88.51,167,171.32,82.59,73.89,121.44,128.30000000000001,74.569999999999993,73.91,122.16,140.61000000000001,82.1,69.303939999999997,132.1,167.92368920000098,94.5,89.338205600000038,190]
[null,"    Borkum Riffgrund 2",null,null,673.40018499999996,670.09,652.32000000000005,674.13,764.69639360000099,null,108.59,169.7,187.46525999999994,112.876395,129.63999999999999,243,237.19,121.94,123.26,187.7,211.09,123.07,123.02,195.13,241.58,125.49,103.777395,203.3,267.45825359999998,154.4,136.32565580000002,207]
[null,"    Gode Wind 1",null,null,570.70523000000003,542.53,510.56,525.63,566.94120600000099,null,91.83,135.09,153.71916000000004,107.60214500000001,114.24,195,179.92,101.13,116.4,145.07,165.38,106.08,99.79,139.31,171.89,107.38,85.638859999999994,160.69999999999999,126.41325080000098,122.5,107.70546379999999,210]
[null,"    Gode Wind 2",null,null,429.95774,414.21,386.92,398.23,426.86857400000099,null,73.319999999999993,101.01,113.38588499999997,81.870175000000017,87.07,148,144.72,73.06,84.85,111.58,121.26,83.06,74.78,108,125.88,83.8,73.487160000000003,115.1,93.5061556,91.8,86.398525199999995,155]
[null,"    Gode Wind 3",null,null,206.81896443750099,0,0,0,0,null,77.099999999999994,113.86,118.04577006250099,74.177019999999999,14.6]
[null,"Sub total",null,null,2355.9595736375009,2076.0699999999997,1948.74,2022.12,2299.9806936000041,null,416.85,622.76,701.28616006250093,467.30301420000001,434.06,753,733.15,378.71999999999997,398.4,565.79,626.03,386.78,371.5,564.59999999999991,679.96,398.77,332.20735500000001,611.19999999999993,655.30134920000205,463.2,419.76785040000004,762]
[]
[null,"Netherlands"]
[null,"     Borssele 1&2",null,null,1332.6333749999999,1449.05,1258.92,1904.5,1206.948676,null,270.12,276.07,362.14545999999984,257.77,269.08999999999997,444,489.76,259.45999999999998,288.08,411.75,400.87,197,261.64999999999998,399.97,383.12,235.11,451.16110754005001,835.1,835.1,308.2,63.4,0]
[null,"Sub total",null,null,1332.6333749999999,1449.05,1258.92,1904.5,1206.948676,null,270.12,276.07,362.14545999999984,257.77,269.08999999999997,444,489.76,259.45999999999998,288.08,411.75,400.87,197,261.64999999999998,399.97,383.12,235.11,451.16110754005001,835.1,835.1,308.2,63.4,0]
[]
[null,"United States"]
[null,"    Block Island",null,null,92.233620000000002,86.6,109.79,83.78,120,null,24.87,25.22,22.567000000000007,16.078610999999995,22.12,31.47,25.14,15.67,17.66,28.13,33.68,21.33,20.46,34.310231999999999,20.399999999999999,5.59,25.646661999999999,32.1,33.799999999999997,20,33.799999999999997,32]
[null,"    South Fork",null,null,179.568285,1.1100000000000001,null,null,null,null,75.77,82.69,70.12243500000001,32.060799999999986,47.9,29.49,1.1100000000000001]
[null,"Sub total",null,null,271.80190500000003,87.71,109.79,83.78,120,null,100.64,107.91,92.689435000000017,48.139410999999981,70.02,60.959999999999994,26.25,15.67,17.66,28.13,33.68,21.33,20.46,34.310231999999999,20.399999999999999,5.59,25.646661999999999,32.1,33.799999999999997,20,33.799999999999997,32]
[]
[null,"Taiwan"]
[null,"Greater Changhua 1",null,null,1110.2862000499999,514.04999999999995,42.85,0,0,null,208.02,446.79,470.6001100499999,126.77444000000003,234.78,278.13,320.06,94.18,47.27,52.54,42.85,0,0,0,0,0,0,0,0,0,0,0]
[null,"Greater Changhua 2a ",null,null,1109.67704,776.77,49.87,0,0,null,204.8,432.92,452.14449999999999,143.82828000000006,212.62,301.08999999999997,385.04,159.83000000000001,142.88,89.02,42.67,5.87,1.32,0,0,0,0,0,0,0,0,0]
[null,"Sub total",null,null,2219.96324005,1290.82,92.72,0,0,null,412.82000000000005,879.71,922.74461004999989,270.60272000000009,447.4,579.22,705.1,254.01000000000002,190.15,141.56,85.52000000000001,5.87,1.32,0,0,0,0,0,0,0,0,0]
[]
[null,"Total  generation, GWh",null,null,18598.634971310217,17760.519999999997,16482.830000000002,13808.1,15247.765848335877,null,3646.2899999999995,5469.55,5740.2948053662121,3522.4381771596395,3667.32,5669.66,6010.83,3543.69,3044.0899999999997,5161.9800000000005,5410.99,3246.3999999999996,3324.2899999999995,4501.8502319999998,4452.05,2286.09,2521.3307429248684,4548.5344397609642,4912.0002362000023,3164.2999999999997,2579.6678504000006,4592]
[]
[null,"Other generation, GWh"]
[null,"    Lincs one-line consolidation",null,null,0,0,0,0,0,null,0,0,0,0,null,null,null,null,0,0,0,0,0,0,0,0,0,0,0,0,0,0]
[null,"    Barrow one-line consolidation",null,null,0,0,0,0,0,null,0,0,0,0,null,null,null,null,0,0,0,0,0,0,0,0,0,0,0,0,0,0]
[null,"    Formosa 1 one-line consolidation",null,null,160,173,172,157,171,null,35,63,45,27,36,52,39,27,37,70,54,25,27,66,35,24,39,59,null,39,34.6,34]
[null,"Sub total",null,null,160,173,172,157,170.6,null,35,63,45,27,36,52,39,27,37,70,54,25,27,66,35,24,39,59,59,39,34.6,38]
[null,"Total generation, including one-line consolidation, GWh",null,null,18758.634971310217,17933.519999999997,16654.830000000002,13965.1,15418.365848335878,null,3681.2899999999995,5532.55,5785.2948053662121,3549.4381771596395,3703.32,5721.66,6049.83,3570.69,3081.0899999999997,5231.9800000000005,5464.99,3271.3999999999996,3351.2899999999995,4567.8502319999998,4487.05,2310.09,2560.3307429248684,4607.5344397609642,4971.0002362000023,3203.2999999999997,2614.2678504000005,4630]
[]
[null,"Sales, GWh"]
[null,"Power sales",null,null,19967.223792739802,21448,23194,25019.53,29151.924378981901,null,3686.34,4815.8390812548696,5839.4792431838032,4010,3854,6264,6244,3948,4158,7098,7645,3483,5258,6808,8790.73,4802.6000000000004,4541.4129508960004,6885,8560.5809460467899,6282,5519,8790]
[]
[null,"Business drivers Offshore"]
[null,"Decided (FID'ed) and installed capacity, GW",null,null,16.77,15.54,11.1,10.9,9.9,null,18.27,18.27,16.77,16.77,16.767000000000003,16.466999999999999,15.542999999999999,11.99,12,11.987,11.1,11.1,11.1,11.1,10.9,9.8000000000000007,9.8000000000000007,9.9,9.9,9.9,9.9,9.9]
[null,"Installed capacity, offshore wind, GW ",null,null,9.9,8.8710000000000004,8.9,7.6,7.6,null,10.1564,10.16,9.9,9.9,9.8000000000000007,8.8710000000000004,8.8710000000000004,8.8699999999999992,8.9,8.9,8.9,8.8699999999999992,7.6,7.6,7.6,7.6,7.6,7.6,7.6,6.8,6.8,6.8]
[null,"Generation capacity, offshore wind, GW ",null,null,5.26,4.9859999999999998,4.7,4,4.4000000000000004,null,5.43445,5.53,5.26,5.23,5.0999999999999996,5.0670000000000002,5,4.95,4.9000000000000004,4.7,4.7,5.2880000000000003,4.8,4.2,4,4,4,4.4000000000000004,4.4000000000000004,4.09,3.8,3.6]
[null,"Wind speed, m/s",null,null,10,9.8000000000000007,9.5,9.1,10,null,8.4600000000000009,10.4,11.1,8.4,9,11.4,11.5,8.6,8.1,10.9,10.7,7.7,8.4,11.3,10.6,7.6,7.8,10.5,10.6,8.6,8.4,12.5]
[null,"Load factor, %",null,null,0.42,0.43,0.42,0.39,0.45,null,0.31,0.47,0.51,0.31,0.33,0.52,0.56000000000000005,0.33,0.28999999999999998,0.53,0.54,0.28000000000000003,0.35,0.54,0.53,0.27,0.28999999999999998,0.5,0.53,0.35,0.32,0.6]
[null,"Availability, %",null,null,0.88,0.93,0.94,0.94,0.94,null,0.9,0.94,0.94,0.89,0.83,0.85,0.92,0.93,0.91,0.95,0.95,0.91,0.94,0.95,0.95,0.93,0.93,0.95,0.94,0.94,0.95,0.93]
[]
[null,"For accounting policies, please see pages 98-101 in our annual report 2024."]

{"sheet":"ON Statistics 2020-Q2 2025","index":17,"n_rows":84,"n_cols":32,"rows_kept":84,"cut":false,"hidden":false,"merged":[]}
[]
[null,"Onshore"]
[]
[null,"Generation Ørsted share, GWh",null,"FY \n2025","FY \n2024","FY \n2023","FY \n2022","FY \n2021","FY \n2020",null,"Q2\n2025","Q1\n2025","Q4\n2024","Q3\n2024","Q2\n2024","Q1\n2024","Q4\n2023","Q3\n2023","Q2\n2023","Q1\n2023","Q4\n2022","Q3\n2022","Q2\n2022","Q1\n2022","Q4\n2021","Q3\n2021","Q2\n2021","Q1\n2021","Q4\n2020","Q3\n2020","Q2 \n2020","Q1 \n2020"]
[null,"United states - wind farms"]
[null,"    Willow Springs",null,null,871.01,845.87,873.8,922.62,953.67301289388899,null,233.33,244.71,218.33,163.66,245.94,243.09,221.96,191.91,203.91,228.08,159.34,163.44999999999999,289.25,261.76,258.14999999999998,191.05,214.44382858199799,259,258.83256826260595,188,261.50223219999901,245]
[null,"    Dermott",null,null,904.23,870.93,946.44,933.21,977.74349536888303,null,239.52,239.17,235.11,167.89,263.39999999999998,237.83,219.7,185.57,198.29,267.38,220.81,169.15,293.83999999999997,262.64999999999998,260.82,172.16,244.5197229,255.7,271.53986148161198,197,257.58154000000002,251]
[null,"    Tahoka",null,null,1138.8800000000001,1114.5899999999999,1185.44,1130.47,1254.1655425977899,null,318.16000000000003,323.49,301.32,210.34,322.5,304.70999999999998,269.19,216.02,276.79000000000002,352.59,284.93,209.98,362.97,327.56,330.02,229.18,289.37633233399902,281.89999999999998,340.88351683761891,233,341.32940499999995,339]
[null,"    Lockett",null,null,721.66,722.14,770.79,746.97,742.148061193422,null,190.51,191.38,184.12,147.22,193.36,196.97,182.75,163.33000000000001,163.30000000000001,212.75,177.29,152.91999999999999,247.12,193.45,200.6,130.28,210.93045685999999,205.2,209.92369771231597,162,201.05502340000001,170]
[null,"    Sage draw",null,null,1187.58,1129.77,1255.9100000000001,1191.06,1110.64831016988,null,306.7,327.01,321,216.22,333.73,316.63,269.87,224.54,279.88,355.49,296.26,205.49,395.35,358.81,347.43,210.49,332.41001084099901,300.7,361.79380427162903,248,365.22430879999899,136]
[null,"    Plum Creek",null,null,835.47,833.51,1008.87,887.46,560,null,176.97,247.46,242.86,156.27000000000001,215.1,221.24,230.4,156.4,205.8,240.92,277.66000000000003,191.61,235.52,304.08,278.13,208.44,201.96979099999999,198.9,257.07365800000105,217,84.9203070627036,0]
[null,"    Willow Creek",null,null,371.86,370.24,431.93,408.42,133.606651,null,80.06,115.23,91.67,79.98,110.97,89.23,91.94,77.03,98,103.79,101.41,92.06,104.52,133.94999999999999,117.83,65.53,127.258221566667,97.8,116.68852699999991,17,0,0]
[null,"    Western Trail",null,null,1072.3699999999999,834.19,1332.74,567.41999999999996,0,null,298.32,332.94,278.06,215.57,309.83999999999997,268.89999999999998,74.39,128.28,254.38,377.13,300.26,231.72,433.71,367.06,333.46,233.96,0,0,0,0,0,0]
[null,"    Lincoln Land",null,null,1064.79,948.23,1007.76,162.66,0,null,246.44,351.85,320.89,145.80000000000001,280.5,317.58999999999997,269.82,139.25,255.3,283.86,291.89999999999998,164.64,303.12,248.1,162.66,0,0,0,0,0,0,0]
[null,"    Haystack",null,null,735.1,869.37,871.18,46.6,0,null,161.24,230.48,176.95,104.58,231.94,221.63,253.54,151.61000000000001,222.94,241.28,276.99,169.74,206.94,217.5,46.6,0,0,0,0,0,0,0]
[null,"    Helena Wind",null,null,752.74,776.54,507.95,0,0,null,195.27,224.39,186.03,128.9,219.79,218.02,183.77,165.38,182.25,245.13,176.6,146.78,184.57,0,0,0,0,0,0,0,0,0]
[null,"   Ford Ridge ",null,null,477.49,460.45,196.05,0,0,null,112.69,159.37,142.19,61.19,129.93,144.22999999999999,137.9,62.63,113.11,146.80000000000001,147.72999999999999,48.32,0,0,0,0,0,0,0,0,0,0]
[null,"   Sunflower Wind",null,null,805.28,347.91,0,0,0,null,186.91,220.45,226.66,149.26,206.64,222.73,235.01,112.9,0,0,0,0,0,0,0,0,0,0,0,0,0,0]
[null,"Sub total",null,null,10938.46,10123.740000000002,10388.86,6996.89,5731.9850732238647,null,2746.12,3207.93,2925.1517157943358,1946.88,3063.6399999999994,3002.8,2640.24,1974.8500000000004,2453.9499999999998,3055.2000000000007,2711.1800000000003,1945.86,3056.91,2674.92,2335.6999999999998,1441.0900000000001,1620.9083640836629,1599.2,1816.7356335657828,1262,1511.6128164627016,1141]
[null,"United states - solar farms"]
[null,"     Oak Solar (Divested)",null,null,0,null,0,0,7.3,null,0,0,0,0,0,0,0,0,0,0,0,0,0,0,0,0,0,0,0,0,4,3]
[null,"     Permian Energy Center",null,null,909.44,908.84,938.42,717.38,0,null,286.19,207.22,176.15832368375004,285.82807597373994,271.27,176.18,166.79,307.5,301.39,133.16,159.18,316.83999999999997,276.99,185.4,164.64,249.95,254.95793441499899,47.8,0,0,0,0]
[null,"     Muscle Shoals",null,null,424.22,426.03,490.85,300.83999999999997,0,null,125.33,83.62,82.389795054352021,133.42437541251599,132.01,76.400000000000006,79.209999999999994,134.97999999999999,127.95,83.89,87.44,134.88999999999999,164.86,103.65,107.93,125.51,67.390647999999999,0,0,0,0,0]
[null,"     Old 300",null,null,798.1,796.16,491.29,0,0,null,300.41000000000003,189.42,196.64462774274796,241.16200347075198,213.41,146.88999999999999,145.38999999999999,265.79000000000002,238.82,146.16999999999999,141.78,224.65,124.87,0,0,0,0,0,0,0,0,0]
[null,"     Helena Energy Center",null,null,513.16999999999996,null,null,null,null,null,63.86,77.12,124.42418192477501,175.4392709947644,213.3]
[null,"     Eleven Mile",null,null,474.43,null,null,null,null,null,136.22,108.03,156.99986999999999,241.72686019000011,75.709999999999994]
[null,"     Mockingbird",null,null,226.27,null,null,null,null,null,121.72,101.6,146.18525548282901,80]
[null,"Sub total",null,null,3345.63,2131.0299999999997,1920.56,1018.22,7.3,null,1033.73,767.01,882.802053888454,1157.5805860417724,905.7,399.47,391.39,708.27,668.16,363.22,388.4,676.38,566.72,289.05,272.57,375.46,322.34858241499899,47.8,0,0,4,3]
[]
[null,"Europe - wind farms"]
[null,"Knockawarriga 1",null,null,52.74,56.83,52.35,23.28,0,null,10.89,18.02,14.172770001184702,10.849665278780897,10.119999999999999,17.600000000000001,17.23,13.25,10.08,16.28,16.73,8.25,11.98,15.4,13.61,7.54,2.131650333709,0,0,0,0,0]
[null,"Knockawarriga 2",null,null,15.34,17.39,15.85,7.27,0,null,3.02,5.35,3.7237302507614007,3.3247291254001894,3.13,5.17,5.17,3.96,2.94,5.32,4.83,2.4,3.68,4.9400000000000004,4.22,2.4,0.65900000000000003,0,0,0,0,0]
[null,"Booltiagh 1",null,null,21.56,24.25,25.03,10.6,0,null,4.29,6.94,5.7855892496922987,3.4862714802785,4.6500000000000004,7.63,7.52,5.31,4.03,7.41,6.82,3.1,6.58,8.5399999999999991,6.48,2.99,1.1251500000000001,0,0,0,0,0]
[null,"Booltiagh 2",null,null,26.52,30.8,30.98,14.04,0,null,5.84,8.08,7.1341996660823987,4.3747894631528013,5.55,9.4600000000000009,9.32,7.14,5.5,8.84,8.76,4.5199999999999996,7.29,10.4,8.3699999999999992,4.1500000000000004,1.516,0,0,0,0,0]
[null,"Smithstown",null,null,23.14,21.91,24.16,10.38,0,null,4.1900000000000004,6.51,6.1301477235838995,5.0548597272979983,4.66,7.3,7.16,5.34,3.42,5.99,8.0299999999999994,3.93,5.1100000000000003,7.08,6.88,2.12,1.3740000000000001,0,0,0,0,0]
[null,"Lisheen 1",null,null,81.06,84.37,87.42,40.54,0,null,14.05,24.96,21.538594276666608,14.506687255254896,17.59,27.43,25.89,18.489999999999998,14.84,25.16,29.25,9.5500000000000007,21.6,27.01,25.96,9.98,4.5965879999999997,0,0,0,0,0]
[null,"Lisheen 2",null,null,56.54,58.19,58.4,27.16,0,null,9.5299999999999994,17.21,15.421769719211198,10.4433490892308,11.68,19,17.920000000000002,12.69,10.19,17.39,20.079999999999998,5.32,14.36,18.64,17.28,6.74,3.1490450000000001,0,0,0,0,0]
[null,"Lisheen 3",null,null,80.22,75.099999999999994,6.17,0,0,null,15.27,25.66,22.281383297113202,15.157622024030395,16.940000000000001,25.84,22.6,15.8,14.01,22.69,6.17,0,0,0,0,0,0,0,0,0,0,0]
[null,"Garracummer",null,null,103.19,113.45,116.77,53.4,0,null,18.54,32.58,26.696812872055389,20.818197730941009,20.239999999999998,35.44,34.11,27.22,18.559999999999999,33.57,38.020000000000003,17.559999999999999,25.35,35.85,32.450000000000003,15.02,5.9290000000000003,0,0,0,0,0]
[null,"Ballymartin",null,null,15.06,14.96,16.62,7.03,0,null,2.93,4.78,3.8727349497799004,3.2853493572015893,3,4.91,4.68,3.66,2.42,4.2,5.67,2.52,3.52,4.9000000000000004,4.6900000000000004,1.44,0.90800000000000003,0,0,0,0,0]
[null,"Flughland",null,null,17.649999999999999,18.440000000000001,21.45,9.59,0,null,3.47,6,4.9427066145559007,2.6767998379336007,3.54,6.49,5.54,3.42,3.24,6.23,5.4,3.25,4.58,8.2200000000000006,6.24,2.33,1.025622,0,0,0,0,0]
[null,"Inchincoosh",null,null,74.66,81.53,82.94,36.270000000000003,0,null,14.83,24.22,20.165123837464698,13.299680583389105,14.93,26.27,22.68,17.84,16,25.01,28.83,10.99,18.82,24.31,22.47,9.07,4.72,0,0,0,0,0]
[null,"Sillahertane",null,null,17.670000000000002,19.77,20.47,8.42,0,null,3.87,5.84,4.4754166914723985,3.20732172603938,3.25,6.74,6.03,4.32,3.23,6.18,7.54,2.2599999999999998,4.46,6.21,5.46,2.13,0.82599999999999996,0,0,0,0,0]
[null,"Sorne Hill 1 & 2",null,null,61.54,64.02,76.81,32.65,0,null,12,21.2,17.529336865609096,8.6328969709742012,12.71,22.67,17.739999999999998,12.27,11.84,22.17,21.7,10.28,17.16,27.67,20.45,7.5,4.6950000000000003,0,0,0,0,0]
[null,"Kilgarvan",null,null,89.26,101.39,99.98,44.3,0,null,18.329999999999998,30.47,25.062935909815806,15.045246873853891,16.989999999999998,32.159999999999997,29.3,21.99,19.66,30.44,33.950000000000003,13.08,21.15,31.8,27.9,11.19,5.2190000000000003,0,0,0,0,0]
[null,"Gneeves",null,null,21.4,24.68,24.08,11.28,0,null,4.01,5.97,5.5625975591099994,4.1165012583127005,4.1399999999999997,7.58,7.4,5.52,4.04,7.72,7.99,3.7,5.0599999999999996,7.34,6.94,3,1.337,0,0,0,0,0]
[null,"Mienvee",null,null,1.8,1.82,2.02,0.88,0,null,0.37,0.56999999999999995,0.44754166914724003,0.38878014472312794,0.33,0.63,0.56999999999999995,0.31,0.32,0.62,0.77,0.23,0.39,0.63,0.57999999999999996,0.21,8.2600000000000007E-2,0,0,0,0,0]
[null,"Kennoxhead 1",null,null,122.01,120.29,43.76,0,0,null,33.729999999999997,40.270000000000003,48.731489374698597,8.629559936081705,26.14,38.6,33.69,25.28,19.079999999999998,42.26,43.76,0,0,0,0,0,0,0,0,0,0,0]
[null,"Ballykeel",null,null,39.04,27.83,0,0,0,null,6.31,12.87,12.080070661882001,6.5460663294112003,7.43,12.98,15.49,10.88,1.46,0,0,0,0,0,0,0,0,0,0,0,0,0]
[null,"L'alemont",null,null,1.85,4.34,1.17,0,0,null,0,0,0,0,0.54,1.31,1.52,0.75,0.72,1.35,1.17,0,0,0,0,0,0,0,0,0,0,0]
[null,"Fond des Saules",null,null,10.42,23.02,5.83,0,0,null,0,0,0,0,3.2,7.22,7.96,3.64,4.0599999999999996,7.36,5.83,0,0,0,0,0,0,0,0,0,0,0]
[null,"Le Bois Sapin",null,null,9.1999999999999993,20.39,5.2,0,0,null,0,0,0,0,2.9,6.31,7.31,3.5,3.92,5.67,5.2,0,0,0,0,0,0,0,0,0,0,0]
[null,"Les Sohettes",null,null,9.4,21.84,4.84,0,0,null,0,0,0,0,2.85,6.54,7.29,3.47,4.5199999999999996,6.57,4.84,0,0,0,0,0,0,0,0,0,0,0]
[null,"C2C Fruges",null,null,2,3.87,1.08,0,0,null,0,0,0,0,0.48,1.1499999999999999,1.39,0.52,0.76,1.2,1.08,0,0,0,0,0,0,0,0,0,0,0]
[null,"Schiederhof",null,null,13.330959,15.14,2.68,0,0,null,3.31,3.31,2.6569289999999999,0,3.25,5.3,4.84,1.91,3.84,4.54,2.68,0,0,0,0,0,0,0,0,0,0,0]
[null,"Rotmainquelle",null,null,35.799999999999997,43.36,10.119999999999999,0,0,null,7.27,9.4,7.7383619999999986,0,8.1999999999999993,13.58,15.42,7.68,7.27,13,10.119999999999999,0,0,0,0,0,0,0,0,0,0,0]
[null,"Les Dix Huit",null,null,8.5,15.66,0,0,0,null,0,0,0,2.1235429999999997,2.37,6.12,6.78,3.23,3.36,2.2999999999999998,0,0,0,0,0,0,0,0,0,0,0,0]
[null,"Delta Sèvre-Argent",null,null,9.5,0,0,0,0,null,0,0,0,6.2563649999999988,3,6.51,0,0,0,0,0,0,0,0,0,0,0,0,0,0,0,0]
[null,"Bahren West 1",null,null,0,0,0,0,0,null,21,5.05,0,0,0,0,0,0,0,0,0,0,0,0,0,0,0,0,0,0,0,0]
[null,"Wansleben NM82",null,null,0,0,0,0,0,null,0.95,1.28,0,0,0,0,0,0,0,0,0,0,0,0,0,0,0,0,0,0,0,0]
[null,"Sub total",null,null,1020.4009589999997,1104.6399999999999,836.18000000000018,337.09,0,null,218,316.53999999999996,276.15024218988668,162.22428219228797,213.81,367.94000000000011,342.55,239.39,193.31,329.47000000000008,325.21999999999997,100.94000000000001,171.08999999999997,238.94000000000003,209.98000000000002,87.809999999999988,39.293655333709005,0,0,0,0,0]
[null,"Europe - solar farms"]
[null,"Les Abeilles",null,null,1.4,3.98,0.62,0,0,null,0,0,0,0,0.87,0.53,0.5,0.99,1.7,0.79,0.62,0,0,0,0,0,0,0,0,0,0,0]
[null,"Altenschwand",null,null,8.6,10.86,0,0,0,null,1.29,0.92,3,3,2.81,1.58,1.19,3.73,4.3600000000000003,1.57,0,0,0,0,0,0,0,0,0,0,0,0]
[null,"Amberg Sud",null,null,0,0,0,0,0,null,2.5499999999999998,1.7,0,0,0,0,0,0,0,0,0,0,0,0,0,0,0,0,0,0,0,0]
[null,"Sub total",null,null,10,14.84,0.62,0,0,null,3.84,2.62,3,3,3.68,2.1100000000000003,1.69,4.71,6.0600000000000005,2.3600000000000003,0.62,0,0,0,0,0,0,0,0,0,0,0]
[null,"Total generation, GWh",null,null,15314.490959000001,13374.25,13146.220000000001,8352.2000000000007,5739.2850732238649,null,4001.69,4294.0999999999995,4086.1040118726764,3269.6848682340601,4186.83,3772.3200000000006,3375.87,2927.2200000000003,3321.4799999999996,3750.2500000000014,3425.42,2723.18,3794.7200000000003,3202.9100000000003,2818.25,1904.3600000000001,1982.5506018323708,1647,1816.7356335657828,1262,1515.6128164627016,1144]
[]
[]
[null,"Business drivers"]
[null,"Decided (FID'ed) and installed capacity, onshore wind, solar and storage, GW ",null,null,6.9649999999999999,6.3639999999999999,6.2,4.7,3.4,null,7.03,7.0260000000000007,6.9649999999999999,6.3840000000000003,6.383,6.407,6.3639999999999999,6.24,6.2,6.2,6.2,5.0999999999999996,4.9000000000000004,4.7,4.7,4.7,4.7,4,3.4,2.7,2.1,2.1]
[null,"Installed capacity, onshore wind, solar and storage, GW ",null,null,6.1929440000000007,4.7850000000000001,4.2,3.4,1.7,null,6.24,6.2,6.1929440000000007,5.7220000000000004,5.6440000000000001,4.7940000000000005,4.7850000000000001,4.7699999999999996,4.5999999999999996,4.5,4.2,4.2,4,3.6,3.4,3,2.4,1.7,1.7,1.7,1.6,1.3]
[null,"Generation capacity, onshore wind and solar, GW ",null,null,5.5421839999999998,4.7249999999999996,4.0999999999999996,3.3,1.7,null,5.32,5.3,5.5421839999999998,5.3079999999999998,5.23,4.734,4.7249999999999996,4.71,4.5,4.5,4.0999999999999996,4.0999999999999996,3.9,3.6,3.3,3,2.4,1.7,1.7,1.7,1.6,1.3]
[null,"Wind speed, m/s1",null,null,7.2,7.2,7.4,7.4,7.6,null,7.22,8,7.5,6.2,7.4,7.9,7.6,6.2,6.7,8.1,7.7,6,7.8,7.9,7.9,6.4,7.3,7.7,8,6.7,8,7.5]
[null,"Load factor, wind, %1",null,null,0.37,0.36,0.4,0.42,0.45,null,0.36,0.44,0.4,0.26,0.41,0.42,0.36,0.27,0.35,0.45,0.4,0.28000000000000003,0.47,0.47,0.47,0.33,0.45,0.45,0.5,0.36,0.49,0.44]
[null,"Load factor, solar, %1",null,null,0.25,0.24,0.25,0.24,0,null,0.3,0.21,0.2,0.31,0.28999999999999998,0.18,0.17,0.32,0.3,0.16,0.17,0.32,0.31,0.21,0.19,0.27,0.28999999999999998,0,0,0,0,0]
[null,"Availability, wind, %1",null,null,0.9,0.88,0.93,0.96,0.96,null,0.88,0.91,0.9,0.87,0.92,0.89,0.85,0.85,0.92,0.91,0.91,0.92,0.92,0.96,0.96,0.98,0.97,0.93,0.95,0.97,0.96,0.95]
[null,"Availability, solar, %1",null,null,0.98,0.98,0.98,0.96,0,null,0.91,0.98,0.98,0.97,0.97,0.98,0.98,0.98,0.98,0.99,0.99,0.96,0.99,0.99,0.99,0.98,0.9,0,0,0,0,0]
[null,"Decided (FID'ed) and installed capacity, solar, MW",null,null,2278,2207,2122,1337,1087,null,2278,2278,2278,2208,2207,2207,2207,2122.21,2122,2122,2122,1341,1337,1337,1337,1337,1337,1337,657,657,420,420]
[null,"Installed capacity, solar, MW ",null,null,2126,1028,671,657,10,null,2126.48,2126,2126,1656,1578,1028,1028.1099999999999,1028.1099999999999,1028,1028,671,661,657,657,657,657,430,10,10,10,10,10]
[null,"Generation capacity, solar, MW ",null,null,1876,1018,661,647,0,null,1600.73,1601,1876,1642,1564,1018,1018.11,1018.11,1018,1018,661,651,647,647,647,647,420,0,0,0,"0 1",10]
[]
[null,"For accounting policies, please see pages 98-101 in our annual report 2024."]
[null,"1 For 2020 and 2021, these business drivers are for the US only."]

{"sheet":"BO Statistics 2020-Q2 2025","index":18,"n_rows":16,"n_cols":32,"rows_kept":16,"cut":false,"hidden":false,"merged":[]}
[]
[null,"Bioenergy & Other"]
[]
[null,null,null,"FY \n2025","FY \n2024","FY \n2023","FY \n2022","FY \n2021","FY \n2020",null,"Q2\n2025","Q1\n2025","Q4\n2024","Q3\n2024","Q2\n2024","Q1\n2024","Q4\n2023","Q3\n2023","Q2\n2023","Q1\n2023","Q4\n2022","Q3\n2022","Q2\n2022","Q1\n2022","Q4\n2021","Q3\n2021","Q2\n2021","Q1\n2021","Q4\n2020","Q3\n2020","Q2 \n2020","Q1 \n2020"]
[null,"Power and heat generation, GWh"]
[null,"Heat generation",null,null,6919.2828658026192,6587,6368.2,7907.45,6671,null,707.32,3223.8662548901802,2367,332,935,3285,2385,234,790,3178,2063.71,238.6,823.37,3242.51,2467,402.09,1148.0634666666699,3889.7716833333302,2230,321,977,3143]
[null,"Power generation",null,null,4522.4577503069995,4437,6012.28,6889.89,4438,null,477.3,1480.0624464100001,1428.3890891890001,804.54741589799994,805.14,1484,1042,780.95,916.98,1697.47,1408.7,1363.22,1101.68,2138,2096.13,1027.5899999999999,1507.0385922999999,2259,1291,692,811,1644]
[null,"Total",null,null,11441.740616109619,11024,12380.48,14797.34,11109,null,1184.6200000000001,4703.9287013001804,3795.3890891890001,1136.5474158980001,1740.1399999999999,4769,3427,1014.95,1706.98,4875.47,3472.41,1601.82,1925.0500000000002,5380.51,4563.13,1429.6799999999998,2655.1020589666696,6148.7716833333307,3521,1013,1788,4787]
[null,"Distribution and sales, GWh"]
[null,"Power distribution",null,null,null,null,0,0,5194.1000000000004,null,0,0,0,0,0,0,0,0,0,0,0,0,0,0,0,0,0,0,0,1180,1803,2211]
[null,"Power sales",null,null,2425.6450209999998,2627,5399,8796.83,11622.500000000004,null,585.41999999999996,632,635.29128500000115,577,581,633,628,565.52,556.30999999999995,877,904,1338.95,1465.57,1690,2072.2800000000002,2271.2999999999993,2166.59,2287,2574,2452,2991,3605]
[null,"Gas sales",null,null,17372.242359,16880,31637.23,61348.81,90346.500000000015,null,5797.94,5279.68,4016,4137.88,4050.65,5167,3041,5354.56,4015.95,4468.26,4048.23,5705.86,8890.6200000000008,12993,13744.21,13580.4,15078.900000000001,18945,20441.199999999997,23158,20063,26685]
[null,"Business drivers"]
[null,"Degree days, number",null,null,2485,2585,2548,2820,2432,null,418,1181,846,79,360,1200,966,53,409,1157,861,98,448,1141,927,81,487,1325,825,106,436,1065]
[]
[null,"For accounting policies, please see pages 100-101 in our annual report 2024."]

{"sheet":"Business drivers highlights (2)","index":19,"n_rows":54,"n_cols":32,"rows_kept":54,"cut":false,"hidden":false,"merged":[]}
[]
[null,"Consolidated financial highlights (continuing operations)"]
[null,"Business drivers"]
[]
[null,"Business drivers",null,"FY\n2025","FY\n2024","FY\n2023","FY\n2022","FY\n2021","FY\n2020",null,"Q2\n2025","Q1\n2025","Q4\n2024","Q3\n2024","Q2\n2024","Q1\n2024","Q4\n2023","Q3\n2023","Q2\n2023","Q1\n2023","Q4\n2022","Q3\n2022","Q2\n2022","Q1\n2022","Q4\n2021","Q3\n2021","Q2\n2021","Q1\n2021","Q4\n2020","Q3\n2020","Q2\n2020","Q1\n2020"]
[null,"Offshore"]
[null,"Decided (FID'ed) and installed capacity, GW",null,null,16.77,15.54,11.1,10.9,9.9,null,18.27,18.27,16.768999999999998,16.77,16.767000000000003,16.466999999999999,15.542999999999999,11.99,12,11.987,11.1,11.1,11.1,11.1,10.9,9.8000000000000007,9.8000000000000007,9.9,9.9,9.9,9.9,9.9]
[null,"Installed capacity, GW",null,null,9.9,8.8710000000000004,8.9,7.6,7.6,null,10.1564,10.16,9.9030000000000005,9.9,9.8000000000000007,8.8710000000000004,8.8710000000000004,8.8699999999999992,8.9,8.9,8.9,8.8699999999999992,7.6,7.6,7.6,7.6,7.6,7.6,7.6,6.8,6.8,6.8]
[null,"Generation capacity, GW",null,null,5.26,4.9859999999999998,4.7,4,4.4000000000000004,null,5.43445,5.53,5.26,5.23,5.0999999999999996,5.0670000000000002,5,4.95,4.9000000000000004,4.7,4.7,5.2880000000000003,4.8,4.2,4,4,4,4.4000000000000004,4.4000000000000004,4.0999999999999996,3.8,3.6]
[null,"Wind speed, m/s",null,null,10,9.8000000000000007,9.5,9.1,10,null,8.4600000000000009,10.4,11.068895787825717,8.4,9,11.4,11.5,8.6,8.1,10.9,10.7,7.7,8.4,11.3,10.6,7.6,7.8,10.5,10.6,8.6,8.4,12.5]
[null,"Load factor, %",null,null,0.42,0.43,0.42,0.39,0.45,null,0.31,0.47,0.5115270114586431,0.31,0.33,0.52,0.56000000000000005,0.33,0.28999999999999998,0.53,0.54,0.28000000000000003,0.35,0.54,0.53,0.27,0.28999999999999998,0.5,0.53,0.35,0.32,0.6]
[null,"Availability, %",null,null,0.88,0.93,0.94,0.94,0.94,null,0.9,0.94,0.93529612166542575,0.89,0.83,0.85,0.92,0.93,0.91,0.95,0.95,0.91,0.94,0.95,0.95,0.93,0.93,0.95,0.94,0.94,0.95,0.93]
[null,"Power generation, GWh",null,null,18598.634971310217,17760.519999999997,16482.830000000002,13808.1,15247.765848335877,null,3646.2899999999995,5469.55,5740.2948053662121,3522.4381771596395,3667.32,5669.66,6010.83,3543.69,3044.0899999999997,5161.9800000000005,5410.99,3246.3999999999996,3324.2899999999995,4501.8502319999998,4452.05,2286.09,2521.3307429248684,4548.5344397609642,4912.0002362000023,3164.2999999999997,2579.6678504000006,4592]
[null,"Power sales, GWh",null,null,19967.223792739802,21448,23194,25019.53,29151.924378981901,null,3686.34,4815.8390812548696,5839.4792431838032,4010,3854,6264,6244,3948,4158,7098,7645,3483,5258,6808,8790.73,4802.6000000000004,4541.4129508960004,6885,8560.5809460467899,6282,5519,8790]
[null,"Onshore"]
[null,"Decided (FID'ed) and installed capacity, wind and solar (incl. storage), GW",null,null,6.9649999999999999,6.3639999999999999,6.2,4.7,3.4,null,7.03,7.0260000000000007,6.9649999999999999,6.3840000000000003,6.383,6.407,6.3639999999999999,6.24,6.2,6.2,6.2,5.0999999999999996,4.9000000000000004,4.7,4.7,4.7,4.7,4,3.4,2.7,2.1,2.1]
[null,"Installed capacity, wind and solar (incl. storage), GW",null,null,6.1929440000000007,4.7850000000000001,4.2,3.4,1.7,null,6.24,6.2,6.1929999999999996,5.7220000000000004,5.6440000000000001,4.7940000000000005,4.7850000000000001,4.7699999999999996,4.5999999999999996,4.5,4.2,4.2,4,3.6,3.4,3,2.4,1.7,1.7,1.7,1.6,1.3]
[null,"Generation capacity, wind and solar, GW",null,null,5.5421839999999998,4.7249999999999996,4.0999999999999996,3.3,1.7,null,5.32,5.3,5.5419999999999998,5.3079999999999998,5.23,4.734,4.7249999999999996,4.71,4.5,4.5,4.0999999999999996,4.0999999999999996,3.9,3.6,3.3,3,2.4,1.7,1.7,1.7,1.6,1.3]
[null,"Wind speed, m/s1",null,null,7.2,7.2,7.4,7.4,7.6,null,7.22,8,7.5168783989946739,6.2,7.4,7.9,7.6,6.2,6.7,8.1,7.7,6,7.8,7.9,7.9,6.4,7.3,7.7,8,6.7,8,7.5]
[null,"Load factor, wind, %1",null,null,0.37,0.36,0.4,0.42,0.45,null,0.36,0.44,0.39551121643379311,0.26,0.41,0.42,0.36,0.27,0.35,0.45,0.4,0.28000000000000003,0.47,0.47,0.47,0.33,0.45,0.45,0.5,0.36,0.49,0.44]
[null,"Load factor, solar, %1",null,null,0.25,0.24,0.25,0.24,"-",null,0.3,0.21,0.20471604384696568,0.31,0.28999999999999998,0.18,0.17,0.32,0.3,0.16,0.17,0.32,0.31,0.21,0.19,0.27,0.28999999999999998,"-","-","-","-","-"]
[null,"Availability, wind, %1",null,null,0.9,0.88,0.93,0.96,0.96,null,0.88,0.91,0.90371408977376255,0.87,0.92,0.89,0.85,0.85,0.92,0.91,0.91,0.92,0.92,0.96,0.96,0.98,0.97,0.93,0.95,0.97,0.96,0.95]
[null,"Availability, solar, %1",null,null,0.98,0.98,0.98,0.96,"-",null,0.91,0.98,0.98493920007823432,0.97,0.97,0.98,0.98,0.98,0.98,0.99,0.99,0.96,0.99,0.99,0.99,0.98,0.9,"-","-","-","-","-"]
[null,"Power generation, wind and solar GWh",null,null,15314.490959000001,13374.25,13146.220000000001,8352.2000000000007,5739.2850732238649,null,4001.69,4294.0999999999995,4086.1040118726764,3269.6848682340601,4186.83,3772.3200000000006,3375.87,2927.2200000000003,3321.4799999999996,3750.2500000000014,3425.42,2723.18,3794.7200000000003,3202.9100000000003,2818.25,1904.3600000000001,1982.5506018323708,1647,1816.7356335657828,1262,1515.6128164627016,1144]
[null,"Bioenergy & Other"]
[null,"Heat generation, GWh",null,null,6919.2828658026192,6587,6368.2,7907.45,6671,null,707.32,3223.8662548901802,2367,332,935,3285,2385,234,790,3178,2063.71,238.6,823.37,3242.51,2467,402.09,1148.0634666666699,3889.7716833333302,2230,321,977,3143]
[null,"Power generation, GWh",null,null,4522.4577503069995,4437,6012.28,6889.89,4438,0,477.3,1480.0624464100001,1428.3890891890001,804.54741589799994,805.14,1484,1042,780.95,916.98,1697.47,1408.7,1363.22,1101.68,2138,2096.13,1027.5899999999999,1507.0385922999999,2259,1291,692,811,1644]
[null,"Power distribution, TWh",null,null,0,0,0,0,5.2,null,0,0,0,0,0,0,0,0,0,0,0,0,0,0,0,0,0,0,0,1.2,1.8,2.2000000000000002]
[null,"Power sales, GWh",null,null,2425.6450209999998,2627,5399,8796.83,11622.500000000004,null,585.41999999999996,632,635.29128500000115,577,581,633,628,565.52,556.30999999999995,877,904,1338.95,1465.57,1690,2072.2800000000002,2271.2999999999993,2166.59,2287,2574,2452,2991,3605]
[null,"Gas sales, GWh",null,null,17372.242359,16880,31637.23,61348.81,90346.500000000015,null,5797.94,5279.68,4016,4137.88,4050.65,5167,3041,5354.56,4015.95,4468.26,4048.23,5705.86,8890.6200000000008,12993,13744.21,13580.4,15078.900000000001,18945,20441.199999999997,23158,20063,26685]
[null,"Degree days, number",null,null,2485,2585,2548,2820,2432,null,418,1181,846,79,360,1200,966,53,409,1157,861,98,448,1141,927,81,487,1325,825,106,436,1065]
[null,"Eliminations"]
[null,"Power sales, GWh",null,null,-2425.6450209999998,-2627,-5399,-8796.83,-11622.500000000004,null,-585.41999999999996,-632,-635.29128500000115,-577,-581,-633,-628,-565.52,-556.30999999999995,-877,-904,-1338.95,-1465.57,-1690,-2072.2800000000002,-2271.2999999999993,-2166.59,-2287,-2574,-2452,-2991,-3605]
[]
[null,"Social & Environmental"]
[null,"Employees (FTE), number",null,null,8278,8905,8027,6836,6179,null,8203,8251,8278,8377,8411,8706,8905,8906.2000000000007,8660.9699999999993,8422,8027,7681,7292,7016,6836,6672,6472,6311,6179,6120,6731,6608]
[null,"Lost time injury frequency (LTIF), per 1 mill. hours worked (12m rolling)",null,null,1.5,1.4,1.6,1.3,1.7,null,1.8,1.46,1.5,1.2,1.1000000000000001,1.3,1.4,1.6,1.6,1.8,1.6,1.5,1.2,1.1000000000000001,1.3,1.3,1.6,1.7,1.7,1.7,2.1,1.9]
[null,"Total recordable injury rate (TRIR), per 1 mill hours worked (12m rolling)",null,null,2.7,2.8,3.1,3,3.6,null,3,2.52,2.7,2.4,2.5,2.9,2.8,2.9,3.1,3.5,3.1,3.2,2.9,2.6,3,3,3.3,3.4,3.6,4.2,4.7,4.7]
[null,"Fatalities, number",null,null,0,0,0,0,0,null,0,2,0,0,0,0,0,0,0,0,0,0,0,0,0,0,0,0,0,0,0,0]
[null,"Share of renewable energy generation, %",null,null,97,93,91,90,90,null,100,99,99,96,97,97,95,94,97,89,88,89,93,92,93,89,93,87,93,90,86,90]
[null,"GHG intensity (scope 1 and 2), gCO2e/kWh",null,null,16,38,60,58,58,null,4.01,4.32,5,40,16,14,25,46,24,52,62,88,49,48,45.49,91.1,51,59,34,83,84,53]
[null,"Scope 3 emissions, Mtonnes",null,null,9,5.6,11,18.18,25.332999999999998,null,2.13,1.92,1.73,2.16,3.31,1.84,1.2,1.6,1.3,1.5369999999999999,1.522,3.1459999999999999,2.6269999999999998,3.6880000000000002,3.9279999999999999,4.3730000000000002,4.6159999999999997,5.2629999999999999,5.9459999999999997,6.2610000000000001,5.5350000000000001,7.5919999999999996]
[null,"GHG (scope 1, 2, and 3, excl. Category 11), g CO2e/kWh",null,null,127,80,147,165,162,null,50.23,53.19,65,194,262,57,62,94,77,90,110,330,112,100,109,310,208,130,141,190,195,150]
[null,"Taxonomy-aligned KPIs (Quarterly numbers are YTD)2"]
[null,"Taxonomy-aligned revenue, %3",null,null,91,86,69,66,null,null,88,88,91,90,91,91,86,85,83,84,69,67,66,63]
[null,"Taxonomy-aligned OPEX, %4",null,null,86,79,80,80,null,null,null,null,86,null,null,null,79,null,null,null,80]
[null,"Taxonomy-aligned CAPEX, %",null,null,99,99,99,99,null,null,99,99,99,99,99,99,99,98,99,99,99,99,99,99]
[null,"Taxonomy-aligned EBITDA, %",null,null,99,95,85,90,null,null,99,97,99,98,98,99,95,99,102,99,85,91,90,87]
[]
[null,"For accounting policies, please see pages 100-101 in our annual report 2024."]
[null,"1 For 2020 and 2021, these business drivers are for the US only."]
[null,"2 2021 numbers are taxonomy-eligible proportions"]
[null,"3 2022 and 2023 revenue has been adjusted according to the change in accounting policy for presentation of revenue, resulting in an adjustment of taxonomy revenue KPIs (%)"]
[null,"4 Taxonomy-aligned OPEX for 2022 is restated following an update to the accounting principles applied to the full year result for 2022 and 2023. The quarterly results 2022 and 2023 are not restated."]