{"text_format":"1","workbook":"xlsx","n_sheets":24,"sheets":["Contents","Notes","Summary","Scenarios","InputC","InputS","InputC-Electricity Drill Down","FM Monthly","FM Annual","Data Center Details -->","General","Facility Life and Construction","Data Center Size","Efficiency for Data Centers","Capital Expenditures","Non Electricity Operating Cost","Token per kW","Price per Token","Weather","Commodity Prices -->","Commodity Price Chart","Monthly Prices","Misc Forms","Sheet1"],"not_rendered":{"charts":13,"images":274,"macros":1,"external_links":0,"defined_names":28,"comments":6,"pivot_tables":0},"unopened":[{"sheet":"Commodity Price Chart","index":20,"reason":"not_a_worksheet"}],"bounds":{"document_bytes":16777216,"sheet_cells":100000,"rows_first":2000,"rows_last":500,"rows_between":2000,"halvings":0,"cell_chars":16384,"cell_head_chars":4096},"cells_cut":0,"cells_raw":0,"read":"whole","date_system":"1900"}

{"sheet":"Contents","index":0,"n_rows":64,"n_cols":13,"rows_kept":64,"cut":false,"hidden":false,"merged":[]}
[]
[]
[null,null,"Summary",null,null," Colour Codes ",null,null,null,null," File Name: ",null,{"$f":"File_name()","v":"C:\\Users\\Edward\\Documents\\Data Center TCO 18 July.xlsm"}]
[null,null,null,null,null,null," Colour of Input Cells ",null,1234567890]
[null,null,"Contents",null,null,null,null,null,null,null," Last Save Date ",null,{"$f":"IFERROR(lastsaved(),\"\")","v":"7/18/2026 10:02:45 PM"}]
[null,null,null,null,null,null," Section Titles ",null,"TITLE ROW"]
[null,null,"InputC",null,null,null,"Column Letter of Title",null,"B",null," Last Save By",null,{"$f":"IFERROR(last_save_by(),\"\")","v":"Edward Bodmer"}]
[null,null,null,"Senario"]
[null,null,null,"Timing of Investment",null,null," Colour for Sum Column ",null,1000000000]
[null,null,null,"Operational Data",null,null," Column Letter for Sum ",null,"A"]
[null,null,null,"Capital Expenditures"]
[null,null,null,"Operating Cost",null,null," True or 1 Colour ",null,true]
[null,null,null,"Financing Targets",null,null," False or 0 Colour ",null,false]
[null,null,null,"Constants"]
[null,null,null,null,null,null," Links from Other Sheets ",null,999999999]
[null,null,"InputC-Electricity Drill Down",null,null,null,"Start Column for Link Colour",null,"E"]
[]
[null,null,"FM Monthly"]
[null,null,null,"Timeline"]
[null,null,null,"Operations"]
[null,null,null,"Inflation and Economic Statistics"]
[null,null,null,"Capital Expendiure"]
[null,null,null,"Operating Cost"]
[null,null,null,"Financing"]
[]
[null,null,"FM Annual"]
[null,null,null,"Time Periods"]
[null,null,null,"Cash Flows"]
[null,null,null,"Depreciation"]
[null,null,null,"Income Statement"]
[null,null,null,"Cash Flow Statement"]
[null,null,null,"Balance Sheet"]
[null,null,null,"Classic Statistics and Valuation"]
[]
[null,null,"Scenarios"]
[]
[null,null,"Data Center Details -->"]
[]
[null,null,"Data Center Size"]
[]
[null,null,"Efficiency for Data Centers"]
[]
[null,null,"Capital Expenditures"]
[]
[null,null,"Non Electricity Operating Cost"]
[]
[null,null,"Token per kW"]
[]
[null,null,"Facility Life and Construction"]
[]
[null,null,"Price per Token"]
[]
[null,null,"General"]
[]
[null,null,"Commodity Prices -->"]
[null,null,null,"Use of Index"]
[null,null,null,"Use of Time Lines"]
[null,null,null,"Use of NA Trick"]
[]
[null,null,"Commodity Price Chart"]
[]
[null,null,"Monthly Prices"]
[]
[null,null,"Misc Forms"]

{"sheet":"Notes","index":1,"n_rows":25,"n_cols":3,"rows_kept":25,"cut":false,"hidden":false,"merged":[]}
[]
[]
[null,null,"What does TCO Mean "]
[]
[null,null,"TCO and Rate of Return use the same data and models"]
[]
[null,null,"How is TCO calculated in simple terms"]
[]
[null,null,"Could you compute the overall value of Data Centers in other ways"]
[]
[null,null,"Why is TCO measured as Dollars per Million Token"]
[]
[null,null,"What Drives the TCO"]
[]
[null,null,"The idea of a financial model as a database of everything that drives costs and prices"]
[]
[null,null,"What does the InputC mean for Modelling and why is it important"]
[]
[null,null,"If you want to add a scenario, how can you do it"]
[]
[null,null,"What are some of the essential trade-offs in measuring TCO"]
[]
[null,null,"Where does the data come from"]
[]
[null,null,"How did you make the calculations"]

{"sheet":"Summary","index":2,"n_rows":38,"n_cols":17,"rows_kept":38,"cut":false,"hidden":false,"merged":[]}
["          "]
[null,null,null,null,null,null,null,null,null,null,"IRR Result",null,null,{"$f":"IRR","v":0.21555972695350648}]
[null,null,null,null,null,null,null,null,null,null,"Target IRR",null,null,{"$f":"InputC!G72","v":0.09},null,null,"Source Data on Size"]
[null,null,null,null,null,null,null,null,null,null,"TCO in Cost/MM Token",null,null,{"$f":"InputC!G81","v":4.1924498487906989},null,null,"Source Data on Efficiency"]
[null,null,null,null,null,null,null,null,null,null,null,null,null,null,null,null,"Source Data on Cap Exp"]
[null,null,null,null,null,null,null,null,null,null,"Electricity Price (USD/MWH)",null,null,{"$f":"InputC!G61","v":180},null,null,"Source Data on  Op Exp"]
[null,null,null,null,null,null,null,null,null,null,"MWit Size",null,null,{"$f":"InputC!G14","v":150},null,null,"Source Data on  Tokens"]
[null,null,null,null,null,null,null,null,null,null,"PUE - Electric Efficiency",null,null,{"$f":"InputC!G27","v":1.1000000000000001},null,null,"Source Data on Life"]
[]
[null,null,null,null,null,null,null,null,null,null,"Total Cost of Data Center/kW",null,null,{"$f":"InputC!G51","v":505000}]
[null,null,null,null,null,null,null,null,null,null,"Electric Equipment Cost/kW",null,null,{"$f":"InputC!G48","v":132900}]
[null,null,null,null,null,null,null,null,null,null,"IT Equipment Cost/kW",null,null,{"$f":"InputC!G46","v":370000}]
[]
[null,null,null,null,null,null,null,null,null,null,"Lifetime of Data Center (Years)",null,null,{"$f":"InputC!G9","v":6}]
[null,null,null,null,null,null,null,null,null,null,"Replacement Months of IT Equipment (Months)",null,null,{"$f":"InputC!G54","v":24}]
[null,null,null,null,null,null,null,null,null,null,"Percent of Electrical Equipment Replaced",null,null,{"$f":"InputC!G56","v":0.72}]
[]
[null,null,null,null,null,null,null,null,null,null,"Annual Degradation in PUE  p.a",null,null,{"$f":"InputC!G33","v":7.0000000000000001E-3}]
[]
[null,null,null,null,null,null,null,null,null,null,"Token Capacity in MM Tokens/kW-month",null,null,{"$f":"InputC!G35","v":6500}]
[null,"Area (m2)",{"$f":"InputC!G18","v":9.4444444444444446},null,"Area/MW",null,{"$f":"InputC!G23","v":6.2962962962962971E-2},null,null,null,"Effective Utilization Factor",null,null,{"$f":"InputC!G38","v":0.66}]
[null,"Racks",{"$f":"InputC!G19","v":600},null,"Racks//m2",null,{"$f":"InputC!G22","v":63.529411764705884},null,null,null,"Token Sales in MM Tokens",null,null,{"$f":"'FM Monthly'!F31","v":643500000}]
[]
[null,null,null,null,null,null,null,null,null,null,"AI model Tokens for Software",null,null,30000000]
[null,null,null,null,null,null,null,null,null,null,"AI model Tokens for FM High",null,null,{"$f":"'Price per Token'!O10","v":6500}]
[]
[null,"Data Center Size in MWit",null,null,null,null,{"$f":"InputC!G14","v":150},null,null,null,"Cost of Tokens - High",null,null,{"$f":"N24/1000000*N4","v":125.77349546372096}]
[null,"Total Data Center Capital Expenditure (USD)",null,null,null,null,{"$f":"G27*1000*N10","v":75750000000},null,null,null,"Cost of Tokens - Low",null,null,{"$f":"N25/1000000*N4","v":2.7250924017139543E-2}]
[]
[null,"Monthly Water Use in Litres",null,null,null,null,{"$f":"'FM Monthly'!H112","v":8558121.5117538609}]
[]
[]
[]
[]
[]
[]
[]
[null,null,null,"Comment",true]

{"sheet":"Scenarios","index":3,"n_rows":104,"n_cols":8,"rows_kept":104,"cut":false,"hidden":false,"merged":[]}
["          "]
[]
[null,null,null,{"$f":"'InputC-Electricity Drill Down'!J2","v":"Legacy Data Centers - High Cost"},{"$f":"'InputC-Electricity Drill Down'!K2","v":"Legacy Data Centers - Low Cost"},{"$f":"'InputC-Electricity Drill Down'!L2","v":"Legacy Data Centers - Computer Room Air Conditioning"},{"$f":"'InputC-Electricity Drill Down'!M2","v":"Legacy Data Centers - Hot/Cold Aisle Containment"},{"$f":"'InputC-Electricity Drill Down'!N2","v":"Legacy Data Centers - Chilled Water Central Loops"}]
[null,null,{"$f":"INDEX(C5:C8,$G$101)","v":"Legacy TOC - USD/MM Token"},{"$f":"INDEX(D5:D8,$G$101)","v":108153.04653117548},{"$f":"INDEX(E5:E8,$G$101)","v":48567.610325801863},{"$f":"INDEX(F5:F8,$G$101)","v":85963.162063905984},{"$f":"INDEX(G5:G8,$G$101)","v":25355.291771437944},{"$f":"INDEX(H5:H8,$G$101)","v":18354.324516791265}]
[null,null,"Legacy TOC - USD/MM Token",{"$f":"InputC!J81:N81","v":108153.04653117548},48567.610325801863,85963.162063905984,25355.291771437944,18354.324516791265]
[null,null,"Legacy IRR",{"$f":"InputC!J83","v":false},{"$f":"InputC!K83","v":9.0000000596046487E-2},{"$f":"InputC!L83","v":2.9802322387695314E-9},{"$f":"InputC!M83","v":0.40214839577674866},{"$f":"InputC!N83","v":0.53585538268089306}]
[null,null,"Legacy Data Center Price per kW-month",{"$f":"InputC!J85","v":371.93728952103004},{"$f":"InputC!K85","v":394.29578242750074},{"$f":"InputC!L85","v":349.52195734436646},{"$f":"InputC!M85","v":309.7908810433031},{"$f":"InputC!N85","v":314.56182282507336}]
[null,null,"Legacy Data Center Price per GPU",{"$f":"InputC!J86","v":546.96660223680885},{"$f":"InputC!K86","v":398.27856810858663},{"$f":"InputC!L86","v":442.43285739793225},{"$f":"InputC!M86","v":348.07964162168889},{"$f":"InputC!N86","v":331.11770823691933}]
[]
[]
[]
[]
[]
[]
[null,null,null,{"$f":"'InputC-Electricity Drill Down'!O2","v":"Early AI Date Centers - High Cost"},{"$f":"'InputC-Electricity Drill Down'!P2","v":"Early AI Date Centers - Low Cost"},{"$f":"'InputC-Electricity Drill Down'!Q2","v":"Early AI Date Centers - Single Phase Direct to Liquid Cooling"},{"$f":"'InputC-Electricity Drill Down'!R2","v":"Early AI Date Centers - Coolant Distribution Units"},{"$f":"'InputC-Electricity Drill Down'!S2","v":"Early AI Date Centers - Hybrid Air-Liquid Infrastructure"}]
[null,null,{"$f":"INDEX(C17:C20,$G$101)","v":"Early AI TOC - USD/MM Token"},{"$f":"INDEX(D17:D20,$G$101)","v":1387.786073394182},{"$f":"INDEX(E17:E20,$G$101)","v":614.84494524162074},{"$f":"INDEX(F17:F20,$G$101)","v":269.03210349783382},{"$f":"INDEX(G17:G20,$G$101)","v":248.75512503511834},{"$f":"INDEX(H17:H20,$G$101)","v":304.54297383458936}]
[null,null,"Early AI TOC - USD/MM Token",{"$f":"InputC!O81","v":1387.786073394182},{"$f":"InputC!P81","v":614.84494524162074},{"$f":"InputC!Q81","v":269.03210349783382},{"$f":"InputC!R81","v":248.75512503511834},{"$f":"InputC!S81","v":304.54297383458936}]
[null,null,"Early AI IRR",{"$f":"InputC!O83","v":2.9802322387695314E-9},{"$f":"InputC!P83","v":9.0000000596046487E-2},{"$f":"InputC!Q83","v":0.4844479382038116},{"$f":"InputC!R83","v":0.61385315060615542},{"$f":"InputC!S83","v":0.35719087719917297}]
[null,null,"Early AI Data Center Price per kW-month",{"$f":"InputC!O85","v":806.00119706700787},{"$f":"InputC!P85","v":808.46459679829775},{"$f":"InputC!Q85","v":620.88409748409345},{"$f":"InputC!R85","v":648.99835782324567},{"$f":"InputC!S85","v":601.46097827447818}]
[null,null,"Early AI Data Center Price per GPU",{"$f":"InputC!O86","v":876.08825768153031},{"$f":"InputC!P86","v":734.9678152711798},{"$f":"InputC!Q86","v":521.75134242360798},{"$f":"InputC!R86","v":569.29680510811033},{"$f":"InputC!S86","v":567.41601724007387}]
[]
[]
[]
[]
[]
[]
[]
[]
[null,null,null,{"$f":"'InputC-Electricity Drill Down'!T2","v":"Modern AI Factories - High Cost"},{"$f":"'InputC-Electricity Drill Down'!U2","v":"Modern AI Factories - Low Cost"},{"$f":"'InputC-Electricity Drill Down'!V2","v":"Modern AI Factories - Single Phase Direct-to-Chip Liquid Cooling"},{"$f":"'InputC-Electricity Drill Down'!W2","v":"Modern AI Factories - Coolant Distribution Units (CDUs)"},{"$f":"'InputC-Electricity Drill Down'!X2","v":"Modern AI Factories - Hybrid Air-Liquid Infrastructure"}]
[null,null,{"$f":"INDEX(C31:C34,$G$101)","v":"Modern AI TCO - USD/MM Tokens"},{"$f":"INDEX(D31:D34,$G$101)","v":225.70831492907476},{"$f":"INDEX(E31:E34,$G$101)","v":108.50914547806121},{"$f":"INDEX(F31:F34,$G$101)","v":52.258525655116216},{"$f":"INDEX(G31:G34,$G$101)","v":51.077398180675978},{"$f":"INDEX(H31:H34,$G$101)","v":69.40268871474602}]
[null,null,"Modern AI TCO - USD/MM Tokens",{"$f":"InputC!T81","v":225.70831492907476},{"$f":"InputC!U81","v":108.50914547806121},{"$f":"InputC!V81","v":52.258525655116216},{"$f":"InputC!W81","v":51.077398180675978},{"$f":"InputC!X81","v":69.40268871474602}]
[null,null,"Modern AI IRR",{"$f":"InputC!T83:X83","v":2.9802322387695314E-9},9.0000000596046487E-2,0.44971857666969295,0.49857004284858697,0.28681703209877019]
[null,null,"Modern AI Data Center Price per kW-month",{"$f":"InputC!T85","v":1921.4029167383599},{"$f":"InputC!U85","v":1908.6831590279896},{"$f":"InputC!V85","v":1505.0707454131141},{"$f":"InputC!W85","v":1555.0180365764777},{"$f":"InputC!X85","v":1625.2602099235837}]
[null,null,"Modern AI Data Center Price per GPU",{"$f":"InputC!T86","v":1883.7283497434901},{"$f":"InputC!U86","v":1577.4240983702393},{"$f":"InputC!V86","v":1213.7667301718661},{"$f":"InputC!W86","v":1264.2423061597381},{"$f":"InputC!X86","v":1425.6668508101611}]
[]
[]
[]
[]
[]
[null,null,null,{"$f":"'InputC-Electricity Drill Down'!Y2","v":"Next-Gen Superclusters - High Cost"},{"$f":"'InputC-Electricity Drill Down'!Z2","v":"Next-Gen Superclusters - Low Cost"},{"$f":"'InputC-Electricity Drill Down'!AA2","v":"Next-Gen Superclusters - Chiller-Less Dry Cooling"},{"$f":"'InputC-Electricity Drill Down'!AB2","v":"Next-Gen Superclusters - High -Impedance Dielectric Coolants"},{"$f":"'InputC-Electricity Drill Down'!AC2","v":"Next-Gen Superclusters - AI-Driven Grid Balance Cooling"}]
[null,null,{"$f":"INDEX(C42:C45,$G$101)","v":"Next-Gen TCO USD/MM Token"},{"$f":"INDEX(D42:D45,$G$101)","v":53.124017207355827},{"$f":"INDEX(E42:E45,$G$101)","v":28.299730458240333},{"$f":"INDEX(F42:F45,$G$101)","v":17.342285405305532},{"$f":"INDEX(G42:G45,$G$101)","v":14.177951766266016},{"$f":"INDEX(H42:H45,$G$101)","v":18.974531934242648}]
[null,null,"Next-Gen TCO USD/MM Token",{"$f":"InputC!Y81","v":53.124017207355827},{"$f":"InputC!Z81","v":28.299730458240333},{"$f":"InputC!AA81","v":17.342285405305532},{"$f":"InputC!AB81","v":14.177951766266016},{"$f":"InputC!AC81","v":18.974531934242648}]
[null,null,"Next Gen IRR",{"$f":"InputC!Y83","v":2.9802322387695314E-9},{"$f":"InputC!Z83","v":9.0000000596046487E-2},{"$f":"InputC!AA83","v":0.28362200856208808},{"$f":"InputC!AB83","v":0.33454321026802059},{"$f":"InputC!AC83","v":0.26585510373115528}]
[null,null,"Next Gen Data Center Price per kW-month",{"$f":"InputC!Y85","v":3540.590060221331},{"$f":"InputC!Z85","v":3565.4545248117774},{"$f":"InputC!AA85","v":2488.3980942963494},{"$f":"InputC!AB85","v":2381.2619747971189},{"$f":"InputC!AC85","v":3404.3855733674632}]
[null,null,"Next Gen AI Data Center Price per GPU",{"$f":"InputC!Y86","v":5284.4627764497482},{"$f":"InputC!Z86","v":4691.3875326470752},{"$f":"InputC!AA86","v":3231.6858367485052},{"$f":"InputC!AB86","v":3014.2556643001503},{"$f":"InputC!AC86","v":4309.3488270474218}]
[]
[]
[]
[]
[]
[null,null,null,{"$f":"'InputC-Electricity Drill Down'!AD2","v":"Specialized Inference Farms - High Cost"},{"$f":"'InputC-Electricity Drill Down'!AE2","v":"Specialized Inference Farms - Low Cost"},{"$f":"'InputC-Electricity Drill Down'!AF2","v":"Specialized Inference Farms - Chassis-Level Immersion Cooling"},{"$f":"'InputC-Electricity Drill Down'!AG2","v":"Specialized Inference Farms - Open-Tank-Phase Immersion"},{"$f":"'InputC-Electricity Drill Down'!AH2","v":"Specialized Inference Farms - Liquid-to-Air (L2A) Sidecars"}]
[null,null,{"$f":"INDEX(C53:C56,$G$101)","v":"Specialized TCO - USD/MM Tons"},{"$f":"INDEX(D53:D56,$G$101)","v":13.160349445218429},{"$f":"INDEX(E53:E56,$G$101)","v":7.2055866636484964},{"$f":"INDEX(F53:F56,$G$101)","v":3.7821517206397059},{"$f":"INDEX(G53:G56,$G$101)","v":3.3706190272217946},{"$f":"INDEX(H53:H56,$G$101)","v":5.1717679509124297}]
[null,null,"Specialized TCO - USD/MM Tons",{"$f":"InputC!AD81","v":13.160349445218429},{"$f":"InputC!AE81","v":7.2055866636484964},{"$f":"InputC!AF81","v":3.7821517206397059},{"$f":"InputC!AG81","v":3.3706190272217946},{"$f":"InputC!AH81","v":5.1717679509124297}]
[null,null,"Specialized Inference IRR",{"$f":"InputC!AD83","v":2.9802322387695314E-9},{"$f":"InputC!AE83","v":9.0000000596046487E-2},{"$f":"InputC!AF83","v":0.40531888604164124},{"$f":"InputC!AG83","v":0.41128632426261902},{"$f":"InputC!AH83","v":0.27885002493858346}]
[null,null,"Specialized Inference Data Center Price per kW-month",{"$f":"InputC!AD85","v":1337.7332182153286},{"$f":"InputC!AE85","v":1498.7934452608151},{"$f":"InputC!AF85","v":1058.3951267641523},{"$f":"InputC!AG85","v":1094.573817972994},{"$f":"InputC!AH85","v":1264.5207474199592}]
[null,null,"Specialized Inference Data Center Price per GPU",{"$f":"InputC!AD86","v":1611.7267689341309},{"$f":"InputC!AE86","v":1577.6773108008579},{"$f":"InputC!AF86","v":1091.1289966640747},{"$f":"InputC!AG86","v":1116.9120591561164},{"$f":"InputC!AH86","v":1359.6997284085583}]
[]
[]
[]
[]
[]
[]
[]
[null,null,null,{"$f":"'InputC-Electricity Drill Down'!AI2","v":"NVIDIA Hopper (H200) - High Cost"},{"$f":"'InputC-Electricity Drill Down'!AJ2","v":"NVIDIA Hopper (H200) - Low Cost"},{"$f":"'InputC-Electricity Drill Down'!AK2","v":"NVIDIA Hopper (H200) - Hyrid Air"},{"$f":"'InputC-Electricity Drill Down'!AL2","v":"NVIDIA Hopper (H200) - Fluid-Assisted"},{"$f":"'InputC-Electricity Drill Down'!AM2","v":"NVIDIA Hopper (H200) - Single Phase Direct-to-Chip Liquid Cooling"}]
[null,null,{"$f":"INDEX(C66:C69,$G$101)","v":"NVIDIA TCO  in USD/MM Token"},{"$f":"INDEX(D66:D69,$G$101)","v":35.529390356997652},{"$f":"INDEX(E66:E69,$G$101)","v":20.724837274217922},{"$f":"INDEX(F66:F69,$G$101)","v":39.402546810031346},{"$f":"INDEX(G66:G69,$G$101)","v":24.196321830782402},{"$f":"INDEX(H66:H69,$G$101)","v":15.605710026398224}]
[null,null,"NVIDIA TCO  in USD/MM Token",{"$f":"InputC!AI81","v":35.529390356997652},{"$f":"InputC!AJ81","v":20.724837274217922},{"$f":"InputC!AK81","v":39.402546810031346},{"$f":"InputC!AL81","v":24.196321830782402},{"$f":"InputC!AM81","v":15.605710026398224}]
[null,null,"NVIDIA Hopper IRR",{"$f":"InputC!AI83","v":-7.8421442210674319E-2},{"$f":"InputC!AJ83","v":9.0000000596046487E-2},{"$f":"InputC!AK83","v":2.9802322387695314E-9},{"$f":"InputC!AL83","v":1.8009385466575628E-2},{"$f":"InputC!AM83","v":8.644265830516816E-2}]
[null,null,"NVIDIA Hopper Data Center Price per kW-month",{"$f":"InputC!AI85","v":1140.5291151652871},{"$f":"InputC!AJ85","v":1266.7462172634998},{"$f":"InputC!AK85","v":1623.030355898122},{"$f":"InputC!AL85","v":1352.5582534499504},{"$f":"InputC!AM85","v":1196.2594861799594}]
[null,null,"NVIDIA Hopper Data Center Price per GPU",{"$f":"InputC!AI86","v":1152.0496112780679},{"$f":"InputC!AJ86","v":1064.4926195491594},{"$f":"InputC!AK86","v":1531.1607131114358},{"$f":"InputC!AL86","v":1186.4546082894301},{"$f":"InputC!AM86","v":964.72539208061232}]
[]
[]
[]
[]
[]
[null,null,null,{"$f":"'InputC-Electricity Drill Down'!AO2","v":"NVIDIA Blackwell (GB300 / B300) - High  Cost"},{"$f":"'InputC-Electricity Drill Down'!AP2","v":"NVIDIA Blackwell (GB300 / B300) - Low Cost"},{"$f":"'InputC-Electricity Drill Down'!AQ2","v":"NVIDIA Blackwell (GB300 / B300) - 90% Direct-to-Chip Liquid"},{"$f":"'InputC-Electricity Drill Down'!AR2","v":"NVIDIA Blackwell (GB300 / B300) - Single Phase Direct-to-Chip Liquid Cooling"},{"$f":"'InputC-Electricity Drill Down'!AS2","v":"NVIDIA Blackwell (GB300 / B300) - Double Phase Direct-to-Chip Liquid Cooling"}]
[null,null,{"$f":"INDEX(C77:C80,$G$101)","v":"NVIDIA Blackwell TCO in USD/MM Tokens"},{"$f":"INDEX(D77:D80,$G$101)","v":19.303418907745908},{"$f":"INDEX(E77:E80,$G$101)","v":8.4344660839581422},{"$f":"INDEX(F77:F80,$G$101)","v":7.0932258360689771},{"$f":"INDEX(G77:G80,$G$101)","v":5.9056142345508569},{"$f":"INDEX(H77:H80,$G$101)","v":5.3526900116436087}]
[null,null,"NVIDIA Blackwell TCO in USD/MM Tokens",{"$f":"InputC!AO81","v":19.303418907745908},{"$f":"InputC!AP81","v":8.4344660839581422},{"$f":"InputC!AQ81","v":7.0932258360689771},{"$f":"InputC!AR81","v":5.9056142345508569},{"$f":"InputC!AS81","v":5.3526900116436087}]
[null,null,"NVIDIA Blackwell IRR",{"$f":"InputC!AO83","v":2.9802322387695314E-9},{"$f":"InputC!AP83","v":9.0000000596046487E-2},{"$f":"InputC!AQ83","v":0.19919629693031313},{"$f":"InputC!AR83","v":0.29985426068305976},{"$f":"InputC!AS83","v":0.3627407491207123}]
[null,null,"NVIDIA Blackwell Date Center Price per kW-month",{"$f":"InputC!AO85","v":4913.7368714422319},{"$f":"InputC!AP85","v":4153.5233508995379},{"$f":"InputC!AQ85","v":4214.9700816946779},{"$f":"InputC!AR85","v":3857.7596985437153},{"$f":"InputC!AS85","v":4009.2902607996302}]
[null,null,"NVIDIA Blackwell IRR Data Center Price per GPU",{"$f":"InputC!AO86","v":7925.3820507132787},{"$f":"InputC!AP86","v":5612.869393107484},{"$f":"InputC!AQ86","v":5546.0132653877336},{"$f":"InputC!AR86","v":5010.0775305762536},{"$f":"InputC!AS86","v":5075.0509630375063}]
[]
[]
[]
[]
[]
[null,null,null,{"$f":"'InputC-Electricity Drill Down'!AT2","v":"NVIDIA Vera Rubin NVL72 - High Cost"},{"$f":"'InputC-Electricity Drill Down'!AU2","v":"NVIDIA Vera Rubin NVL72 - Low Cost"},{"$f":"'InputC-Electricity Drill Down'!AV2","v":"NVIDIA Vera Rubin NVL72 - 45 C Warm-Water Closed-Loop Liquid"},{"$f":"'InputC-Electricity Drill Down'!AW2","v":"NVIDIA Vera Rubin NVL72 - Single Phase Direct-to-Chip Liquid Cooling"},{"$f":"'InputC-Electricity Drill Down'!AX2","v":"NVIDIA Vera Rubin NVL72 - Double Phase Direct-to-Chip Liquid Cooling"}]
[null,null,{"$f":"INDEX(C88:C91,$G$101)","v":"NVIDIA TCO in USD/MM Token "},{"$f":"INDEX(D88:D91,$G$101)","v":8.8255792358299843},{"$f":"INDEX(E88:E91,$G$101)","v":4.9267794336154251},{"$f":"INDEX(F88:F91,$G$101)","v":3.1304366322455381},{"$f":"INDEX(G88:G91,$G$101)","v":3.3050203411721881},{"$f":"INDEX(H88:H91,$G$101)","v":4.1924498487906989}]
[null,null,"NVIDIA TCO in USD/MM Token ",{"$f":"InputC!AT81","v":8.8255792358299843},{"$f":"InputC!AU81","v":4.9267794336154251},{"$f":"InputC!AV81","v":3.1304366322455381},{"$f":"InputC!AW81","v":3.3050203411721881},{"$f":"InputC!AX81","v":4.1924498487906989}]
[null,null,"NVIDIA Vera IRR",{"$f":"InputC!AT83","v":2.9802322387695314E-9},{"$f":"InputC!AU83","v":9.0000000596046487E-2},{"$f":"InputC!AV83","v":0.34422459006309503},{"$f":"InputC!AW83","v":0.34081718325614929},{"$f":"InputC!AX83","v":0.21555972695350648}]
[null,null,"NVIDIA Vera Price per kW-Month",{"$f":"InputC!AT85","v":14212.327463892336},{"$f":"InputC!AU85","v":15106.538885597987},{"$f":"InputC!AV85","v":10659.474512937191},{"$f":"InputC!AW85","v":12798.610804422522},{"$f":"InputC!AX85","v":18254.725096795308}]
[null,null,"NVIDIA Vera Price per GPU",{"$f":"InputC!AT86","v":33051.924334633339},{"$f":"InputC!AU86","v":29620.66448156468},{"$f":"InputC!AV86","v":20498.989447956137},{"$f":"InputC!AW86","v":24148.322272495323},{"$f":"InputC!AX86","v":33805.046475546864}]
[]
[]
[]
[]
[]
[]
[]
[]
[]
[null,null,"USD/MM Token",null,null,null,1]
[null,null,"Data Center IRR"]
[null,null,"Price per kW-month"]
[null,null,"Price per GPU"]

{"sheet":"InputC","index":4,"n_rows":94,"n_cols":61,"rows_kept":94,"cut":false,"hidden":false,"merged":[]}
["          ",null,null,null,null,null,null,null,null,"TCO",{"$f":"'FM Monthly'!F41","v":4.9267794336154251},"IRR",{"$f":"'FM Monthly'!F127","v":0.21555972695350648}]
[null,"Senario",null,null,41,null,null,null,null,{"$f":"_xlfn.SEQUENCE(,50)","v":1},2,3,4,5,6,7,8,9,10,11,12,13,14,15,16,17,18,19,20,21,22,23,24,25,26,27,28,29,30,31,32,33,34,35,36,37,38,39,40,41,42,43,44,45,46,47,48,49,50]
[null,null,null,null,null,"Units",{"$f":"INDEX(J3:SS3,$E$2)","v":"NVIDIA Vera Rubin NVL72 - Double Phase Direct-to-Chip Liquid Cooling"},null,null,"Legacy Data Centers - High Cost","Legacy Data Centers - Low Cost","Legacy Data Centers - Computer Room Air Conditioning","Legacy Data Centers - Hot/Cold Aisle Containment","Legacy Data Centers - Chilled Water Central Loops","Early AI Date Centers - High Cost","Early AI Date Centers - Low Cost","Early AI Date Centers - Single Phase Direct to Liquid Cooling","Early AI Date Centers - Coolant Distribution Units","Early AI Date Centers - Hybrid Air-Liquid Infrastructure","Modern AI Factories - High Cost","Modern AI Factories - Low Cost","Modern AI Factories - Single Phase Direct-to-Chip Liquid Cooling","Modern AI Factories - Coolant Distribution Units (CDUs)","Modern AI Factories - Hybrid Air-Liquid Infrastructure","Next-Gen Superclusters - High Cost","Next-Gen Superclusters - Low Cost","Next-Gen Superclusters - Chiller-Less Dry Cooling","Next-Gen Superclusters - High -Impedance Dielectric Coolants","Next-Gen Superclusters - AI-Driven Grid Balance Cooling","Specialized Inference Farms - High Cost","Specialized Inference Farms - Low Cost","Specialized Inference Farms - Chassis-Level Immersion Cooling","Specialized Inference Farms - Open-Tank-Phase Immersion","Specialized Inference Farms - Liquid-to-Air (L2A) Sidecars","NVIDIA Hopper (H200) - High Cost","NVIDIA Hopper (H200) - Low Cost","NVIDIA Hopper (H200) - Hyrid Air","NVIDIA Hopper (H200) - Fluid-Assisted","NVIDIA Hopper (H200) - Single Phase Direct-to-Chip Liquid Cooling","NVIDIA Hopper (H200) - Double Phase Direct-to-Chip Liquid Cooling","NVIDIA Blackwell (GB300 / B300) - High  Cost","NVIDIA Blackwell (GB300 / B300) - Low Cost","NVIDIA Blackwell (GB300 / B300) - 90% Direct-to-Chip Liquid","NVIDIA Blackwell (GB300 / B300) - Single Phase Direct-to-Chip Liquid Cooling","NVIDIA Blackwell (GB300 / B300) - Double Phase Direct-to-Chip Liquid Cooling","NVIDIA Vera Rubin NVL72 - High Cost","NVIDIA Vera Rubin NVL72 - Low Cost","NVIDIA Vera Rubin NVL72 - 45 C Warm-Water Closed-Loop Liquid","NVIDIA Vera Rubin NVL72 - Single Phase Direct-to-Chip Liquid Cooling","NVIDIA Vera Rubin NVL72 - Double Phase Direct-to-Chip Liquid Cooling","NVIDA Vera Alternative  Scenario (Full Description Copied from ___)","NVIDA Blackwell Alternative  Scenario (Full Description Copied from ___)","NVIDA Blackwell Alternative  Scenario (Full Description Copied from ___)","NVIDA Hopper Added Scenario (Full Description Copied from ___)","Added Scenario (Full Description Copied from ___)","Added Scenario (Full Description Copied from ___)","Added Scenario (Full Description Copied from ___)","Added Scenario (Full Description Copied from ___)","Added Scenario (Full Description Copied from ___)","Added Scenario (Full Description Copied from ___)","Added Scenario (Full Description Copied from ___)"]
[null,"Timing of Investment"]
[]
[null,null,"Start of Investment",null,null,"Date",{"$f":"INDEX(J6:SS6,$E$2)","v":"2027-01-01"},null,null,"2027-01-01","2027-01-01","2027-01-01","2027-01-01","2027-01-01","2027-01-01","2027-01-01","2027-01-01","2027-01-01","2027-01-01","2027-01-01","2027-01-01","2027-01-01","2027-01-01","2027-01-01","2027-01-01","2027-01-01","2027-01-01","2027-01-01","2027-01-01","2027-01-01","2027-01-01","2027-01-01","2027-01-01","2027-01-01","2027-01-01","2027-01-01","2027-01-01","2027-01-01","2027-01-01","2027-01-01","2027-01-01","2027-01-01","2027-01-01","2027-01-01","2027-01-01","2027-01-01","2027-01-01","2027-01-01","2027-01-01","2027-01-01"]
[null,null,"Construction",null,null,"Months",{"$f":"INDEX(J7:SS7,$E$2)","v":8},null,null,{"$f":"TRANSPOSE('Facility Life and Construction'!AR4:AR44)","v":24},14,15,16,22,20,12,16,15,18,18,14,15,14,16,36,18,20,22,26,15,9,12,14,8,7,3,3,4,5,6,8,4,6,5,7,9,5,6,6,8]
[null,null,"Start of Operation",null,null,"Date",{"$f":"INDEX(J8:SS8,$E$2)","v":"2027-09-01"},null,null,{"$f":"EDATE(J6,J7)","v":"2029-01-01"},"2028-03-01","2028-04-01","2028-05-01","2028-11-01","2028-09-01","2028-01-01","2028-05-01","2028-04-01","2028-07-01","2028-07-01","2028-03-01","2028-04-01","2028-03-01","2028-05-01","2030-01-01","2028-07-01","2028-09-01","2028-11-01","2029-03-01","2028-04-01","2027-10-01","2028-01-01","2028-03-01","2027-09-01","2027-08-01","2027-04-01","2027-04-01","2027-05-01","2027-06-01","2027-07-01","2027-09-01","2027-05-01","2027-07-01","2027-06-01","2027-08-01",{"$f":"EDATE(AT6,AT7)","v":"2027-10-01"},"2027-06-01","2027-07-01","2027-07-01","2027-09-01"]
[null,null,"Facility Operating Life",null,null,"Years",{"$f":"INDEX(J9:SS9,$E$2)","v":6},null,null,{"$f":"TRANSPOSE('Facility Life and Construction'!AS4:AS44)","v":25},15,20,18,25,15,10,14,12,15,20,12,15,12,15,30,14,20,16,25,20,12,14,16,9,7,5,6,5,6,5,8,5,7,6,6,6,8,7,6,6]
[null,null,"End-of-life",null,null,"Date",{"$f":"INDEX(J10:SS10,$E$2)","v":"2033-09-30"},null,null,{"$f":"EOMONTH(J8,J9*Months)","v":"2054-01-31"},"2043-03-31","2048-04-30","2046-05-31","2053-11-30","2043-09-30","2038-01-31","2042-05-31","2040-04-30",{"$f":"EOMONTH(S8,S9*Months)","v":"2043-07-31"},"2048-07-31","2040-03-31","2043-04-30","2040-03-31","2043-05-31","2060-01-31","2042-07-31","2048-09-30","2044-11-30","2054-03-31","2048-04-30","2039-10-31","2042-01-31","2044-03-31","2036-09-30","2034-08-31","2032-04-30","2033-04-30","2032-05-31","2033-06-30","2032-07-31","2035-09-30","2032-05-31","2034-07-31","2033-06-30","2033-08-31",{"$f":"EOMONTH(AT8,AT9*Months)","v":"2033-10-31"},"2035-06-30","2034-07-31","2033-07-31","2033-09-30"]
[]
[null,"Operational Data"]
[]
[null,null,"Data Center Capacity MW",null,null,"MW of IT",{"$f":"INDEX(J14:SS14,$E$2)","v":150},null,null,{"$f":"TRANSPOSE('Data Center Size'!AS4:AS44)","v":40},10,5,20,50,80,25,40,50,60,300,70,150,200,120,1000,300,500,300,1000,50,15,30,40,8,50,10,6,15,40,50,120,30,100,80,120,300,45,120,90,150]
[null,null,"Data Center Capacity kW",null,null,"kW of IT",{"$f":"INDEX(J15:SS15,$E$2)","v":150000},null,null,{"$f":"J14*1000","v":40000},{"$f":"K14*1000","v":10000},5000,20000,50000,80000,25000,40000,50000,60000,300000,70000,150000,200000,120000,1000000,300000,500000,300000,1000000,50000,15000,30000,40000,8000,50000,10000,6000,15000,40000,50000,120000,30000,100000,80000,120000,300000,45000,120000,90000,150000]
[]
[null,null,"Size in Sqare Feet",null,null,"Sq Feet 000's",{"$f":"INDEX(J17:SS17,$E$2)","v":85},null,null,{"$f":"TRANSPOSE('Data Center Size'!AT4:AT44)","v":400},100,40,20,450,200,76,100,120,160,600,180,250,350,220,2500,700,900,400,2000,90,35,45,60,25,80,25,20,30,60,70,100,30,80,65,95,140,35,50,60,85]
[null,null,"Size in Sqare Meters",null,null,"M2",{"$f":"INDEX(J18:SS18,$E$2)","v":9.4444444444444446},null,null,{"$f":"J17/feet_meters","v":44.444444444444443},11.111111111111111,4.4444444444444446,2.2222222222222223,50,22.222222222222221,8.4444444444444446,11.111111111111111,13.333333333333334,17.777777777777779,66.666666666666671,20,27.777777777777779,38.888888888888886,24.444444444444443,277.77777777777777,77.777777777777771,100,44.444444444444443,222.22222222222223,10,3.8888888888888888,5,6.666666666666667,2.7777777777777777,8.8888888888888893,2.7777777777777777,2.2222222222222223,3.3333333333333335,6.666666666666667,7.7777777777777777,11.111111111111111,3.3333333333333335,8.8888888888888893,7.2222222222222223,10.555555555555555,15.555555555555555,3.8888888888888888,5.5555555555555554,6.666666666666667,9.4444444444444446]
[null,null,"Racks ",null,null,"Racks",{"$f":"INDEX(J19:SS19,$E$2)","v":600},null,null,{"$f":"TRANSPOSE('Data Center Size'!AU4:AU44)","v":8000},2000,1000,3000,9000,3000,1000,1200,1500,2000,6000,1800,3500,4500,3000,10000,3000,5000,3000,10000,2500,750,900,1000,200,1200,250,150,350,800,900,900,230,750,600,900,1000,180,480,360,600]
[]
[null,null,"Racks per kW",null,null,"Racks/MW",null,null,null,{"$f":"J14","v":40},{"$f":"K14","v":10},5,20,50,80,25,40,50,60,300,70,150,200,120,1000,300,500,300,1000,50,15,30,40,8,50,10,6,15,40,50,120,30,100,80,120,300,45,120,90,150]
[null,null,"Rack per m2",null,null,"Rack/m2",{"$f":"INDEX(J22:SS22,$E$2)","v":63.529411764705884},null,null,{"$f":"J19/J18","v":180},{"$f":"K19/K18","v":180},225,1350,180,135,118.42105263157895,108,112.5,112.5,90,90,126,115.71428571428572,122.72727272727273,36,38.571428571428577,50,67.5,45,250,192.85714285714286,180,150,72,135,90,67.5,105,120,115.71428571428572,81,69,84.375,83.07692307692308,85.26315789473685,64.285714285714292,46.285714285714285,86.4,54,63.529411764705884]
[null,null,"Area in m2/kW",null,null,"m2/MW",{"$f":"INDEX(J23:SS23,$E$2)","v":6.2962962962962971E-2},null,null,{"$f":"J18/J14","v":1.1111111111111112},{"$f":"K18/K14","v":1.1111111111111112},0.88888888888888895,0.11111111111111112,1,0.27777777777777779,0.33777777777777779,0.27777777777777779,0.26666666666666666,0.29629629629629634,0.22222222222222224,0.2857142857142857,0.1851851851851852,0.19444444444444442,0.20370370370370369,0.27777777777777779,0.25925925925925924,0.2,0.14814814814814814,0.22222222222222224,0.2,0.25925925925925924,0.16666666666666666,0.16666666666666669,0.34722222222222221,0.17777777777777778,0.27777777777777779,0.37037037037037041,0.22222222222222224,0.16666666666666669,0.15555555555555556,9.2592592592592587E-2,0.11111111111111112,8.8888888888888892E-2,9.0277777777777776E-2,8.7962962962962965E-2,5.185185185185185E-2,8.6419753086419748E-2,4.6296296296296294E-2,7.4074074074074084E-2,6.2962962962962971E-2]
[]
[null,null,"Load factor (percent of time Cooled)",null,null,"%",{"$f":"H25/100","v":0.9},90,null,{"$f":"$G$25","v":0.9},{"$f":"$G$25","v":0.9},0.9,0.9,0.9,0.9,0.9,0.9,0.9,0.9,0.9,0.9,0.9,0.9,0.9,0.9,0.9,0.9,0.9,0.9,0.9,0.9,0.9,0.9,0.9,0.9,0.9,0.9,0.9,0.9,0.9,0.9,0.9,0.9,0.9,0.9,0.9,0.9,0.9,0.9,0.9]
[]
[null,null,"Cooling Efficiency Input from Drill Down (PUE)",null,null,"x",{"$f":"INDEX(J27:SS27,$E$2)","v":1.1000000000000001},null,null,{"$f":"'InputC-Electricity Drill Down'!J5","v":1.9},{"$f":"'InputC-Electricity Drill Down'!K5","v":2.2000000000000002},{"$f":"'InputC-Electricity Drill Down'!L5","v":2},{"$f":"'InputC-Electricity Drill Down'!M5","v":1.6},{"$f":"'InputC-Electricity Drill Down'!N5","v":1.5},{"$f":"'InputC-Electricity Drill Down'!O5","v":1.45},{"$f":"'InputC-Electricity Drill Down'!P5","v":1.65},{"$f":"'InputC-Electricity Drill Down'!Q5","v":1.3},{"$f":"'InputC-Electricity Drill Down'!R5","v":1.32},{"$f":"'InputC-Electricity Drill Down'!S5","v":1.4},{"$f":"'InputC-Electricity Drill Down'!T5","v":1.18},{"$f":"'InputC-Electricity Drill Down'!U5","v":1.35},{"$f":"'InputC-Electricity Drill Down'!V5","v":1.1499999999999999},{"$f":"'InputC-Electricity Drill Down'!W5","v":1.1599999999999999},{"$f":"'InputC-Electricity Drill Down'!X5","v":1.25},{"$f":"'InputC-Electricity Drill Down'!Y5","v":1.1000000000000001},{"$f":"'InputC-Electricity Drill Down'!Z5","v":1.25},{"$f":"'InputC-Electricity Drill Down'!AA5","v":1.1200000000000001},{"$f":"'InputC-Electricity Drill Down'!AB5","v":1.07},{"$f":"'InputC-Electricity Drill Down'!AC5","v":1.1200000000000001},{"$f":"'InputC-Electricity Drill Down'!AD5","v":1.35},{"$f":"'InputC-Electricity Drill Down'!AE5","v":1.55},{"$f":"'InputC-Electricity Drill Down'!AF5","v":1.18},{"$f":"'InputC-Electricity Drill Down'!AG5","v":1.08},{"$f":"'InputC-Electricity Drill Down'!AH5","v":1.35},{"$f":"'InputC-Electricity Drill Down'!AI5","v":1.22},{"$f":"'InputC-Electricity Drill Down'!AJ5","v":1.45},{"$f":"'InputC-Electricity Drill Down'!AK5","v":1.5},{"$f":"'InputC-Electricity Drill Down'!AL5","v":1.35},{"$f":"'InputC-Electricity Drill Down'!AM5","v":1.18},{"$f":"'InputC-Electricity Drill Down'!AN5","v":1.1399999999999999},{"$f":"'InputC-Electricity Drill Down'!AO5","v":1.1399999999999999},{"$f":"'InputC-Electricity Drill Down'!AP5","v":1.3},{"$f":"'InputC-Electricity Drill Down'!AQ5","v":1.1299999999999999},{"$f":"'InputC-Electricity Drill Down'!AR5","v":1.1499999999999999},{"$f":"'InputC-Electricity Drill Down'!AS5","v":1.1100000000000001},{"$f":"'InputC-Electricity Drill Down'!AT5","v":1.1200000000000001},{"$f":"'InputC-Electricity Drill Down'!AU5","v":1.25},{"$f":"'InputC-Electricity Drill Down'!AV5","v":1.07},{"$f":"'InputC-Electricity Drill Down'!AW5","v":1.1399999999999999},{"$f":"'InputC-Electricity Drill Down'!AX5","v":1.1000000000000001}]
[null,null,"Cooling Efficiency from Losses Drill Down (PUE)",null,null,"x",{"$f":"INDEX(J28:SS28,$E$2)","v":1.1368804001819008},null,null,{"$f":"'InputC-Electricity Drill Down'!J29","v":2.3980815347721829},{"$f":"'InputC-Electricity Drill Down'!K29","v":3.6363636363636376},{"$f":"'InputC-Electricity Drill Down'!L29","v":2.6525198938992043},{"$f":"'InputC-Electricity Drill Down'!M29","v":1.8148820326678767},{"$f":"'InputC-Electricity Drill Down'!N29","v":1.6949152542372883},{"$f":"'InputC-Electricity Drill Down'!O29","v":1.5723270440251575},{"$f":"'InputC-Electricity Drill Down'!P29","v":1.953125},{"$f":"'InputC-Electricity Drill Down'!Q29","v":1.3966480446927374},{"$f":"'InputC-Electricity Drill Down'!R29","v":1.4367816091954024},{"$f":"'InputC-Electricity Drill Down'!S29","v":1.5267175572519083},{"$f":"'InputC-Electricity Drill Down'!T29","v":1.2368583797155226},{"$f":"'InputC-Electricity Drill Down'!U29","v":1.524390243902439},{"$f":"'InputC-Electricity Drill Down'!V29","v":1.2217470983506413},{"$f":"'InputC-Electricity Drill Down'!W29","v":1.2368583797155226},{"$f":"'InputC-Electricity Drill Down'!X29","v":1.3377926421404682},{"$f":"'InputC-Electricity Drill Down'!Y29","v":1.1500862564692353},{"$f":"'InputC-Electricity Drill Down'!Z29","v":1.3183915622940015},{"$f":"'InputC-Electricity Drill Down'!AA29","v":1.1636025133814289},{"$f":"'InputC-Electricity Drill Down'!AB29","v":1.0993843447669305},{"$f":"'InputC-Electricity Drill Down'!AC29","v":1.1911852293031566},{"$f":"'InputC-Electricity Drill Down'!AD29","v":1.2878300064391501},{"$f":"'InputC-Electricity Drill Down'!AE29","v":1.6835016835016836},{"$f":"'InputC-Electricity Drill Down'!AF29","v":1.2077294685990339},{"$f":"'InputC-Electricity Drill Down'!AG29","v":1.1007154650522841},{"$f":"'InputC-Electricity Drill Down'!AH29","v":1.4378145219266714},{"$f":"'InputC-Electricity Drill Down'!AI29","v":1.3020833333333333},{"$f":"'InputC-Electricity Drill Down'!AJ29","v":1.577287066246057},{"$f":"'InputC-Electricity Drill Down'!AK29","v":1.6792611251049541},{"$f":"'InputC-Electricity Drill Down'!AL29","v":1.4556040756914119},{"$f":"'InputC-Electricity Drill Down'!AM29","v":1.2690355329949239},{"$f":"'InputC-Electricity Drill Down'!AN29","v":1.2074378169524269},{"$f":"'InputC-Electricity Drill Down'!AO29","v":1.1916110581506196},{"$f":"'InputC-Electricity Drill Down'!AP29","v":1.4134275618374559},{"$f":"'InputC-Electricity Drill Down'!AQ29","v":1.1774402449075709},{"$f":"'InputC-Electricity Drill Down'!AR29","v":1.2134449702705981},{"$f":"'InputC-Electricity Drill Down'!AS29","v":1.1568718186024987},{"$f":"'InputC-Electricity Drill Down'!AT29","v":1.1499540018399266},{"$f":"'InputC-Electricity Drill Down'!AU29","v":1.3360053440213762},{"$f":"'InputC-Electricity Drill Down'!AV29","v":1.1179429849077698},{"$f":"'InputC-Electricity Drill Down'!AW29","v":1.1773016246762422},{"$f":"'InputC-Electricity Drill Down'!AX29","v":1.1368804001819008}]
[]
[null,null,"Average Ambient Temperature",null,null,"Degrees C",25,null,null,{"$f":"$G$30","v":25},{"$f":"$G$30","v":25},25,25,25,25,25,25,25,25,25,25,25,25,25,25,25,25,25,25,25,25,25,25,25,25,25,25,25,25,25,25,25,25,25,25,25,25,25,25,25]
[null,null,"PUE with Temperature Adjustment Drill Down",null,null,"x",{"$f":"INDEX(J31:SS31,$E$2)","v":1.0775000000000001},null,null,{"$f":"'InputC-Electricity Drill Down'!J44","v":1.7624999999999997},{"$f":"'InputC-Electricity Drill Down'!K44","v":2.0499999999999998},{"$f":"'InputC-Electricity Drill Down'!L44","v":1.9375},{"$f":"'InputC-Electricity Drill Down'!M44","v":1.5674999999999999},{"$f":"'InputC-Electricity Drill Down'!N44","v":1.48},{"$f":"'InputC-Electricity Drill Down'!O44","v":1.3900000000000001},{"$f":"'InputC-Electricity Drill Down'!P44","v":1.5925},{"$f":"'InputC-Electricity Drill Down'!Q44","v":1.27},{"$f":"'InputC-Electricity Drill Down'!R44","v":1.3025},{"$f":"'InputC-Electricity Drill Down'!S44","v":1.37},{"$f":"'InputC-Electricity Drill Down'!T44","v":1.1599999999999997},{"$f":"'InputC-Electricity Drill Down'!U44","v":1.3050000000000002},{"$f":"'InputC-Electricity Drill Down'!V44","v":1.135},{"$f":"'InputC-Electricity Drill Down'!W44","v":1.145},{"$f":"'InputC-Electricity Drill Down'!X44","v":1.24},{"$f":"'InputC-Electricity Drill Down'!Y44","v":1.08},{"$f":"'InputC-Electricity Drill Down'!Z44","v":1.22},{"$f":"'InputC-Electricity Drill Down'!AA44","v":1.1025},{"$f":"'InputC-Electricity Drill Down'!AB44","v":1.0550000000000002},{"$f":"'InputC-Electricity Drill Down'!AC44","v":1.105},{"$f":"'InputC-Electricity Drill Down'!AD44","v":1.3050000000000002},{"$f":"'InputC-Electricity Drill Down'!AE44","v":1.5},{"$f":"'InputC-Electricity Drill Down'!AF44","v":1.17},{"$f":"'InputC-Electricity Drill Down'!AG44","v":1.0649999999999999},{"$f":"'InputC-Electricity Drill Down'!AH44","v":1.3475000000000001},{"$f":"'InputC-Electricity Drill Down'!AI44","v":1.2049999999999998},{"$f":"'InputC-Electricity Drill Down'!AJ44","v":1.4200000000000002},{"$f":"'InputC-Electricity Drill Down'!AK44","v":1.4849999999999999},{"$f":"'InputC-Electricity Drill Down'!AL44","v":1.335},{"$f":"'InputC-Electricity Drill Down'!AM44","v":1.17},{"$f":"'InputC-Electricity Drill Down'!AN44","v":1.1225000000000001},{"$f":"'InputC-Electricity Drill Down'!AO44","v":1.1299999999999999},{"$f":"'InputC-Electricity Drill Down'!AP44","v":1.2775000000000001},{"$f":"'InputC-Electricity Drill Down'!AQ44","v":1.1200000000000001},{"$f":"'InputC-Electricity Drill Down'!AR44","v":1.1425000000000001},{"$f":"'InputC-Electricity Drill Down'!AS44","v":1.0900000000000001},{"$f":"'InputC-Electricity Drill Down'!AT44","v":1.1099999999999999},{"$f":"'InputC-Electricity Drill Down'!AU44","v":1.2450000000000001},{"$f":"'InputC-Electricity Drill Down'!AV44","v":1.0625},{"$f":"'InputC-Electricity Drill Down'!AW44","v":1.1200000000000001},{"$f":"'InputC-Electricity Drill Down'!AX44","v":1.0775000000000001}]
[]
[null,null,"Degradation in PUE",null,null,"PUE p.a.",{"$f":"INDEX(J33:SS33,$E$2)","v":7.0000000000000001E-3},null,null,{"$f":"TRANSPOSE('Efficiency for Data Centers'!EK5:EK45)","v":1.4999999999999999E-2},2.5000000000000001E-2,0.02,1.2E-2,1.7999999999999999E-2,2.1999999999999999E-2,2.8000000000000001E-2,1.4E-2,1.4999999999999999E-2,1.9E-2,0.01,1.6E-2,1.0999999999999999E-2,1.2E-2,1.4999999999999999E-2,8.0000000000000002E-3,1.2999999999999999E-2,8.9999999999999993E-3,7.0000000000000001E-3,1.0999999999999999E-2,1.2E-2,1.7999999999999999E-2,6.0000000000000001E-3,8.9999999999999993E-3,1.4E-2,1.2999999999999999E-2,1.9E-2,1.6E-2,1.4E-2,1.0999999999999999E-2,0.01,8.9999999999999993E-3,1.4999999999999999E-2,1.0999999999999999E-2,0.01,8.0000000000000002E-3,7.0000000000000001E-3,1.2E-2,8.0000000000000002E-3,8.9999999999999993E-3,7.0000000000000001E-3]
[]
[null,null,"Capacity in MM Tokens per kW of IT",null,null,"Monthly MM Tokens/kW",{"$f":"INDEX(J35:SS35,$E$2)","v":6500},null,null,{"$f":"'InputC-Electricity Drill Down'!J102","v":5.0000000000000001E-3},{"$f":"'InputC-Electricity Drill Down'!K102","v":1.2E-2},{"$f":"'InputC-Electricity Drill Down'!L102","v":6.0000000000000001E-3},{"$f":"'InputC-Electricity Drill Down'!M102","v":1.7999999999999999E-2},{"$f":"'InputC-Electricity Drill Down'!N102","v":2.5000000000000001E-2},{"$f":"'InputC-Electricity Drill Down'!O102","v":0.85},{"$f":"'InputC-Electricity Drill Down'!P102","v":1.95},{"$f":"'InputC-Electricity Drill Down'!Q102","v":3.4},{"$f":"'InputC-Electricity Drill Down'!R102","v":3.85},{"$f":"'InputC-Electricity Drill Down'!S102","v":2.9},{"$f":"'InputC-Electricity Drill Down'!T102","v":12.5},{"$f":"'InputC-Electricity Drill Down'!U102","v":26},{"$f":"'InputC-Electricity Drill Down'!V102","v":42.5},{"$f":"'InputC-Electricity Drill Down'!W102","v":45},{"$f":"'InputC-Electricity Drill Down'!X102","v":34.5},{"$f":"'InputC-Electricity Drill Down'!Y102","v":95},{"$f":"'InputC-Electricity Drill Down'!Z102","v":185},{"$f":"'InputC-Electricity Drill Down'!AA102","v":210},{"$f":"'InputC-Electricity Drill Down'!AB102","v":245},{"$f":"'InputC-Electricity Drill Down'!AC102","v":260},{"$f":"'InputC-Electricity Drill Down'!AD102","v":150},{"$f":"'InputC-Electricity Drill Down'!AE102","v":310},{"$f":"'InputC-Electricity Drill Down'!AF102","v":415},{"$f":"'InputC-Electricity Drill Down'!AG102","v":480},{"$f":"'InputC-Electricity Drill Down'!AH102","v":365},{"$f":"'InputC-Electricity Drill Down'!AI102","v":48},{"$f":"'InputC-Electricity Drill Down'!AJ102","v":92},{"$f":"'InputC-Electricity Drill Down'!AK102","v":62},{"$f":"'InputC-Electricity Drill Down'!AL102","v":84},{"$f":"'InputC-Electricity Drill Down'!AM102","v":115},{"$f":"'InputC-Electricity Drill Down'!AN102","v":138},{"$f":"'InputC-Electricity Drill Down'!AO102","v":380},{"$f":"'InputC-Electricity Drill Down'!AP102","v":740},{"$f":"'InputC-Electricity Drill Down'!AQ102","v":890},{"$f":"'InputC-Electricity Drill Down'!AR102","v":980},{"$f":"'InputC-Electricity Drill Down'!AS102","v":1120},{"$f":"'InputC-Electricity Drill Down'!AT102","v":2400},{"$f":"'InputC-Electricity Drill Down'!AU102","v":4600},{"$f":"'InputC-Electricity Drill Down'!AV102","v":5100},{"$f":"'InputC-Electricity Drill Down'!AW102","v":5800},{"$f":"'InputC-Electricity Drill Down'!AX102","v":6500}]
[null,null,"GPU per MW",null,null,"GPU/MW",{"$f":"INDEX(J36:SS36,$E$2)","v":540},null,null,{"$f":"'InputC-Electricity Drill Down'!J104","v":680},{"$f":"'InputC-Electricity Drill Down'!K104","v":990},{"$f":"'InputC-Electricity Drill Down'!L104","v":790},{"$f":"'InputC-Electricity Drill Down'!M104","v":890},{"$f":"'InputC-Electricity Drill Down'!N104","v":950},{"$f":"'InputC-Electricity Drill Down'!O104","v":920},{"$f":"'InputC-Electricity Drill Down'!P104","v":1100},{"$f":"'InputC-Electricity Drill Down'!Q104","v":1190},{"$f":"'InputC-Electricity Drill Down'!R104","v":1140},{"$f":"'InputC-Electricity Drill Down'!S104","v":1060},{"$f":"'InputC-Electricity Drill Down'!T104","v":1020},{"$f":"'InputC-Electricity Drill Down'!U104","v":1210},{"$f":"'InputC-Electricity Drill Down'!V104","v":1240},{"$f":"'InputC-Electricity Drill Down'!W104","v":1230},{"$f":"'InputC-Electricity Drill Down'!X104","v":1140},{"$f":"'InputC-Electricity Drill Down'!Y104","v":670},{"$f":"'InputC-Electricity Drill Down'!Z104","v":760},{"$f":"'InputC-Electricity Drill Down'!AA104","v":770},{"$f":"'InputC-Electricity Drill Down'!AB104","v":790},{"$f":"'InputC-Electricity Drill Down'!AC104","v":790},{"$f":"'InputC-Electricity Drill Down'!AD104","v":830},{"$f":"'InputC-Electricity Drill Down'!AE104","v":950},{"$f":"'InputC-Electricity Drill Down'!AF104","v":970},{"$f":"'InputC-Electricity Drill Down'!AG104","v":980},{"$f":"'InputC-Electricity Drill Down'!AH104","v":930},{"$f":"'InputC-Electricity Drill Down'!AI104","v":990},{"$f":"'InputC-Electricity Drill Down'!AJ104","v":1190},{"$f":"'InputC-Electricity Drill Down'!AK104","v":1060},{"$f":"'InputC-Electricity Drill Down'!AL104","v":1140},{"$f":"'InputC-Electricity Drill Down'!AM104","v":1240},{"$f":"'InputC-Electricity Drill Down'!AN104","v":1280},{"$f":"'InputC-Electricity Drill Down'!AO104","v":620},{"$f":"'InputC-Electricity Drill Down'!AP104","v":740},{"$f":"'InputC-Electricity Drill Down'!AQ104","v":760},{"$f":"'InputC-Electricity Drill Down'!AR104","v":770},{"$f":"'InputC-Electricity Drill Down'!AS104","v":790},{"$f":"'InputC-Electricity Drill Down'!AT104","v":430},{"$f":"'InputC-Electricity Drill Down'!AU104","v":510},{"$f":"'InputC-Electricity Drill Down'!AV104","v":520},{"$f":"'InputC-Electricity Drill Down'!AW104","v":530},{"$f":"'InputC-Electricity Drill Down'!AX104","v":540}]
[]
[null,null,"Utilization Rate of Data Center",null,null,"%",{"$f":"H38/100","v":0.66},66,null,{"$f":"$G$38","v":0.66},{"$f":"$G$38","v":0.66},0.66,0.66,0.66,0.66,0.66,0.66,0.66,0.66,0.66,0.66,0.66,0.66,0.66,0.66,0.66,0.66,0.66,0.66,0.66,0.66,0.66,0.66,0.66,0.66,0.66,0.66,0.66,0.66,0.66,0.66,0.66,0.66,0.66,0.66,0.66,0.66,0.66,0.66,0.66]
[null,null,"Utilization Factor from Gemini",null,null,"%",{"$f":"INDEX(J39:SS39,$E$2)","v":0.7},null,null,{"$f":"TRANSPOSE('Token per kW'!DH3:DH43)","v":0.6},0.66666666666666663,0.66666666666666663,0.66666666666666674,0.64,0.6470588235294118,0.64102564102564108,0.6470588235294118,0.64935064935064934,0.65517241379310343,0.64800000000000002,0.64999999999999991,0.64941176470588236,0.65111111111111108,0.64927536231884053,0.65052631578947362,0.65027027027027029,0.65,0.64979591836734685,0.65,0.7,0.7,0.6987951807228916,0.7,0.69863013698630139,0.65,0.65,0.64999999999999991,0.65,0.65043478260869558,0.65,0.7,0.7,0.7,0.7,0.7,0.7,0.7,0.7,0.7,0.7]
[null,null,"Utilization Code for Detail in InputS",null,null,"Code",1,null,null,{"$f":"$G$40","v":1},{"$f":"$G$40","v":1},1,1,1,1,1,1,1,1,1,1,1,1,1,1,1,1,1,1,1,1,1,1,1,1,1,1,1,1,1,1,1,1,1,1,1,1,1,1,1]
[]
[null,null,"Water Usage",null,null,"liters/kWh",{"$f":"INDEX(J42:SS42,$E$2)","v":0.08},null,null,{"$f":"TRANSPOSE('Efficiency for Data Centers'!$ED$5:$ED$45)","v":2.5},3,2.2000000000000002,1.8,2.6,1.6,2.2000000000000002,0.8,0.9,1.4,0.5,1.5,0.4,0.45,0.8,0.15,1.2,0,0.05,0.3,0.7,1.4,0.1,0.04,0,0.8,1.8,2,1.3,0.6,0.4,0.15,1.1000000000000001,0.1,0.3,0.1,0.1,0.8,0,0.2,0.08]
[]
[null,"Capital Expenditures"]
[]
[null,null,"IT Equipment",null,null,"USD/KW IT",{"$f":"INDEX(J46:SS46,$E$2)","v":370000},null,null,{"$f":"'InputC-Electricity Drill Down'!J51","v":3500},{"$f":"'InputC-Electricity Drill Down'!K51","v":2500},{"$f":"'InputC-Electricity Drill Down'!L51","v":2700},{"$f":"'InputC-Electricity Drill Down'!M51","v":3000},{"$f":"'InputC-Electricity Drill Down'!N51","v":3200},{"$f":"'InputC-Electricity Drill Down'!O51","v":18000},{"$f":"'InputC-Electricity Drill Down'!P51","v":12000},{"$f":"'InputC-Electricity Drill Down'!Q51","v":14500},{"$f":"'InputC-Electricity Drill Down'!R51","v":13500},{"$f":"'InputC-Electricity Drill Down'!S51","v":16000},{"$f":"'InputC-Electricity Drill Down'!T51","v":50000},{"$f":"'InputC-Electricity Drill Down'!U51","v":40000},{"$f":"'InputC-Electricity Drill Down'!V51","v":44000},{"$f":"'InputC-Electricity Drill Down'!W51","v":42000},{"$f":"'InputC-Electricity Drill Down'!X51","v":47000},{"$f":"'InputC-Electricity Drill Down'!Y51","v":70000},{"$f":"'InputC-Electricity Drill Down'!Z51","v":60000},{"$f":"'InputC-Electricity Drill Down'!AA51","v":62000},{"$f":"'InputC-Electricity Drill Down'!AB51","v":68000},{"$f":"'InputC-Electricity Drill Down'!AC51","v":69500},{"$f":"'InputC-Electricity Drill Down'!AD51","v":40000},{"$f":"'InputC-Electricity Drill Down'!AE51","v":30000},{"$f":"'InputC-Electricity Drill Down'!AF51","v":33000},{"$f":"'InputC-Electricity Drill Down'!AG51","v":38500},{"$f":"'InputC-Electricity Drill Down'!AH51","v":31500},{"$f":"'InputC-Electricity Drill Down'!AI51","v":41000},{"$f":"'InputC-Electricity Drill Down'!AJ51","v":35000},{"$f":"'InputC-Electricity Drill Down'!AK51","v":36500},{"$f":"'InputC-Electricity Drill Down'!AL51","v":38000},{"$f":"'InputC-Electricity Drill Down'!AM51","v":39000},{"$f":"'InputC-Electricity Drill Down'!AN51","v":40500},{"$f":"'InputC-Electricity Drill Down'!AO51","v":95000},{"$f":"'InputC-Electricity Drill Down'!AP51","v":85000},{"$f":"'InputC-Electricity Drill Down'!AQ51","v":88000},{"$f":"'InputC-Electricity Drill Down'!AR51","v":90000},{"$f":"'InputC-Electricity Drill Down'!AS51","v":93500},{"$f":"'InputC-Electricity Drill Down'!AT51","v":380000},{"$f":"'InputC-Electricity Drill Down'!AU51","v":310000},{"$f":"'InputC-Electricity Drill Down'!AV51","v":330000},{"$f":"'InputC-Electricity Drill Down'!AW51","v":345000},{"$f":"'InputC-Electricity Drill Down'!AX51","v":370000}]
[]
[null,null,"Cost of Electrical Equipment  and Mechanical for Cooling",null,null,"USD/KW IT",{"$f":"INDEX(J48:SS48,$E$2)","v":132900},null,null,{"$f":"'InputC-Electricity Drill Down'!J53","v":7800},{"$f":"'InputC-Electricity Drill Down'!K53","v":6000},{"$f":"'InputC-Electricity Drill Down'!L53","v":6100},{"$f":"'InputC-Electricity Drill Down'!M53","v":6750},{"$f":"'InputC-Electricity Drill Down'!N53","v":7400},{"$f":"'InputC-Electricity Drill Down'!O53","v":12600},{"$f":"'InputC-Electricity Drill Down'!P53","v":8700},{"$f":"'InputC-Electricity Drill Down'!Q53","v":11000},{"$f":"'InputC-Electricity Drill Down'!R53","v":9550},{"$f":"'InputC-Electricity Drill Down'!S53","v":11900},{"$f":"'InputC-Electricity Drill Down'!T53","v":22300},{"$f":"'InputC-Electricity Drill Down'!U53","v":13300},{"$f":"'InputC-Electricity Drill Down'!V53","v":17700},{"$f":"'InputC-Electricity Drill Down'!W53","v":15200},{"$f":"'InputC-Electricity Drill Down'!X53","v":20100},{"$f":"'InputC-Electricity Drill Down'!Y53","v":51800},{"$f":"'InputC-Electricity Drill Down'!Z53","v":42900},{"$f":"'InputC-Electricity Drill Down'!AA53","v":44800},{"$f":"'InputC-Electricity Drill Down'!AB53","v":49600},{"$f":"'InputC-Electricity Drill Down'!AC53","v":51800},{"$f":"'InputC-Electricity Drill Down'!AD53","v":15500},{"$f":"'InputC-Electricity Drill Down'!AE53","v":10600},{"$f":"'InputC-Electricity Drill Down'!AF53","v":12500},{"$f":"'InputC-Electricity Drill Down'!AG53","v":15900},{"$f":"'InputC-Electricity Drill Down'!AH53","v":11600},{"$f":"'InputC-Electricity Drill Down'!AI53","v":21700},{"$f":"'InputC-Electricity Drill Down'!AJ53","v":18500},{"$f":"'InputC-Electricity Drill Down'!AK53","v":19400},{"$f":"'InputC-Electricity Drill Down'!AL53","v":20200},{"$f":"'InputC-Electricity Drill Down'!AM53","v":20900},{"$f":"'InputC-Electricity Drill Down'!AN53","v":22100},{"$f":"'InputC-Electricity Drill Down'!AO53","v":57400},{"$f":"'InputC-Electricity Drill Down'!AP53","v":48300},{"$f":"'InputC-Electricity Drill Down'!AQ53","v":51700},{"$f":"'InputC-Electricity Drill Down'!AR53","v":53200},{"$f":"'InputC-Electricity Drill Down'!AS53","v":56100},{"$f":"'InputC-Electricity Drill Down'!AT53","v":137200},{"$f":"'InputC-Electricity Drill Down'!AU53","v":113000},{"$f":"'InputC-Electricity Drill Down'!AV53","v":118000},{"$f":"'InputC-Electricity Drill Down'!AW53","v":123000},{"$f":"'InputC-Electricity Drill Down'!AX53","v":132900}]
[null,null,"Cost of Mechanical Equipment for Removing Heat",null,null,"USD/KW IT",{"$f":"INDEX(J49:SS49,$E$2)","v":0},null,null,{"$f":"J52-J50-J48-J46","v":0},{"$f":"K52-K50-K48-K46","v":0},0,0,0,0,0,0,0,0,0,0,50,0,0,0,0,0,0,0,0,0,0,0,0,0,0,0,0,0,0,0,0,0,0,0,0,0,0,0,0]
[null,null,"Cost of Building and Other",null,null,"USD/KW IT",{"$f":"INDEX(J50:SS50,$E$2)","v":2100},null,null,{"$f":"'InputC-Electricity Drill Down'!J48","v":2200},{"$f":"'InputC-Electricity Drill Down'!K48","v":1000},{"$f":"'InputC-Electricity Drill Down'!L48","v":1400},{"$f":"'InputC-Electricity Drill Down'!M48","v":1450},{"$f":"'InputC-Electricity Drill Down'!N48","v":1600},{"$f":"'InputC-Electricity Drill Down'!O48","v":2400},{"$f":"'InputC-Electricity Drill Down'!P48","v":1300},{"$f":"'InputC-Electricity Drill Down'!Q48","v":1500},{"$f":"'InputC-Electricity Drill Down'!R48","v":1450},{"$f":"'InputC-Electricity Drill Down'!S48","v":1600},{"$f":"'InputC-Electricity Drill Down'!T48","v":2700},{"$f":"'InputC-Electricity Drill Down'!U48","v":1700},{"$f":"'InputC-Electricity Drill Down'!V48","v":1800},{"$f":"'InputC-Electricity Drill Down'!W48","v":1800},{"$f":"'InputC-Electricity Drill Down'!X48","v":1900},{"$f":"'InputC-Electricity Drill Down'!Y48","v":3200},{"$f":"'InputC-Electricity Drill Down'!Z48","v":2100},{"$f":"'InputC-Electricity Drill Down'!AA48","v":2200},{"$f":"'InputC-Electricity Drill Down'!AB48","v":2400},{"$f":"'InputC-Electricity Drill Down'!AC48","v":2200},{"$f":"'InputC-Electricity Drill Down'!AD48","v":2500},{"$f":"'InputC-Electricity Drill Down'!AE48","v":1400},{"$f":"'InputC-Electricity Drill Down'!AF48","v":1500},{"$f":"'InputC-Electricity Drill Down'!AG48","v":1600},{"$f":"'InputC-Electricity Drill Down'!AH48","v":1400},{"$f":"'InputC-Electricity Drill Down'!AI48","v":2300},{"$f":"'InputC-Electricity Drill Down'!AJ48","v":1500},{"$f":"'InputC-Electricity Drill Down'!AK48","v":1600},{"$f":"'InputC-Electricity Drill Down'!AL48","v":1600},{"$f":"'InputC-Electricity Drill Down'!AM48","v":1600},{"$f":"'InputC-Electricity Drill Down'!AN48","v":1700},{"$f":"'InputC-Electricity Drill Down'!AO48","v":2600},{"$f":"'InputC-Electricity Drill Down'!AP48","v":1700},{"$f":"'InputC-Electricity Drill Down'!AQ48","v":1800},{"$f":"'InputC-Electricity Drill Down'!AR48","v":1800},{"$f":"'InputC-Electricity Drill Down'!AS48","v":1900},{"$f":"'InputC-Electricity Drill Down'!AT48","v":2800},{"$f":"'InputC-Electricity Drill Down'!AU48","v":2000},{"$f":"'InputC-Electricity Drill Down'!AV48","v":2000},{"$f":"'InputC-Electricity Drill Down'!AW48","v":2000},{"$f":"'InputC-Electricity Drill Down'!AX48","v":2100}]
[null,null,"Total Cost",null,null,"USD/KW IT",{"$f":"INDEX(J51:SS51,$E$2)","v":505000},null,null,{"$f":"SUM(J46:J50)","v":13500},{"$f":"SUM(K46:K50)","v":9500},10200,11200,12200,33000,22000,27000,24500,29500,75000,55000,63550,59000,69000,125000,105000,109000,120000,123500,58000,42000,47000,56000,44500,65000,55000,57500,59800,61500,64300,155000,135000,141500,145000,151500,520000,425000,450000,470000,505000]
[null,null,"Total Capital Expenditure",null,null,"USD/KW IT",null,null,null,{"$f":"'InputC-Electricity Drill Down'!J50","v":13500},{"$f":"'InputC-Electricity Drill Down'!K50","v":9500},{"$f":"'InputC-Electricity Drill Down'!L50","v":10200},{"$f":"'InputC-Electricity Drill Down'!M50","v":11200},{"$f":"'InputC-Electricity Drill Down'!N50","v":12200},{"$f":"'InputC-Electricity Drill Down'!O50","v":33000},{"$f":"'InputC-Electricity Drill Down'!P50","v":22000},{"$f":"'InputC-Electricity Drill Down'!Q50","v":27000},{"$f":"'InputC-Electricity Drill Down'!R50","v":24500},{"$f":"'InputC-Electricity Drill Down'!S50","v":29500},{"$f":"'InputC-Electricity Drill Down'!T50","v":75000},{"$f":"'InputC-Electricity Drill Down'!U50","v":55000},{"$f":"'InputC-Electricity Drill Down'!V50","v":63550},{"$f":"'InputC-Electricity Drill Down'!W50","v":59000},{"$f":"'InputC-Electricity Drill Down'!X50","v":69000},{"$f":"'InputC-Electricity Drill Down'!Y50","v":125000},{"$f":"'InputC-Electricity Drill Down'!Z50","v":105000},{"$f":"'InputC-Electricity Drill Down'!AA50","v":109000},{"$f":"'InputC-Electricity Drill Down'!AB50","v":120000},{"$f":"'InputC-Electricity Drill Down'!AC50","v":123500},{"$f":"'InputC-Electricity Drill Down'!AD50","v":58000},{"$f":"'InputC-Electricity Drill Down'!AE50","v":42000},{"$f":"'InputC-Electricity Drill Down'!AF50","v":47000},{"$f":"'InputC-Electricity Drill Down'!AG50","v":56000},{"$f":"'InputC-Electricity Drill Down'!AH50","v":44500},{"$f":"'InputC-Electricity Drill Down'!AI50","v":65000},{"$f":"'InputC-Electricity Drill Down'!AJ50","v":55000},{"$f":"'InputC-Electricity Drill Down'!AK50","v":57500},{"$f":"'InputC-Electricity Drill Down'!AL50","v":59800},{"$f":"'InputC-Electricity Drill Down'!AM50","v":61500},{"$f":"'InputC-Electricity Drill Down'!AN50","v":64300},{"$f":"'InputC-Electricity Drill Down'!AO50","v":155000},{"$f":"'InputC-Electricity Drill Down'!AP50","v":135000},{"$f":"'InputC-Electricity Drill Down'!AQ50","v":141500},{"$f":"'InputC-Electricity Drill Down'!AR50","v":145000},{"$f":"'InputC-Electricity Drill Down'!AS50","v":151500},{"$f":"'InputC-Electricity Drill Down'!AT50","v":520000},{"$f":"'InputC-Electricity Drill Down'!AU50","v":425000},{"$f":"'InputC-Electricity Drill Down'!AV50","v":450000},{"$f":"'InputC-Electricity Drill Down'!AW50","v":470000},{"$f":"'InputC-Electricity Drill Down'!AX50","v":505000}]
[]
[null,null,"Months until Replace IT Equipement",null,null,"Months",{"$f":"INDEX(J54:SS54,$E$2)","v":24},null,null,{"$f":"TRANSPOSE('Capital Expenditures'!IZ4:IZ44)","v":60},36,48,48,60,36,24,42,36,48,30,24,36,30,36,24,18,30,36,24,36,24,42,48,30,48,36,36,42,48,36,24,30,26,26,28,30,20,36,30,24]
[]
[null,null,"Percent of Electricity Cost Replaced at IT Replace",null,null,"%",{"$f":"INDEX(J56:SS56,$E$2)","v":0.72},null,null,{"$f":"TRANSPOSE('Capital Expenditures'!JC4:JC44)","v":0.12},0.05,0.06,0.08,0.1,0.24,0.14000000000000001,0.18,0.16,0.2,0.42,0.28000000000000003,0.32,0.3,0.35,0.55000000000000004,0.38,0.4,0.44,0.48,0.48,0.32,0.36,0.42,0.34,0.3,0.18,0.22,0.25,0.26,0.28000000000000003,0.65,0.45,0.5,0.52,0.56000000000000005,0.82,0.6,0.64,0.68,0.72]
[null,null,"Months of Downtime after Replacement",null,null,"Months"]
[]
[null,"Operating Cost"]
[]
[null,null,"Cost of Electricity without Inflation",null,null,"USD/MWH",{"$f":"H61","v":180},180,null,{"$f":"$G$61","v":180},{"$f":"$G$61","v":180},180,180,180,180,180,180,180,180,180,180,180,180,180,180,180,180,180,180,180,180,180,180,180,180,180,180,180,180,180,180,180,180,180,180,180,180,180,180,180]
[null,null,"Electricity Price Code Time Series",null,null,"Code",1,null,null,{"$f":"$G$62","v":1},{"$f":"$G$62","v":1},1,1,1,1,1,1,1,1,1,1,1,1,1,1,1,1,1,1,1,1,1,1,1,1,1,1,1,1,1,1,1,1,1,1,1,1,1,1,1]
[null,null,"Other Operating Cost without Inflation",null,null,"USD/kw-year",{"$f":"INDEX(J63:SS63,$E$2)/10","v":122},null,null,{"$f":"TRANSPOSE('Non Electricity Operating Cost'!AJ3:AJ43)","v":320},145,160,185,240,480,220,295,310,340,650,310,415,390,450,820,395,360,520,480,940,440,510,680,460,580,280,310,365,420,540,1150,520,640,690,840,1650,780,810,960,1220]
[null,null,"Water Cost per Litre",null,null,"USD/Litre",3.0000000000000001E-3,null,null,{"$f":"$G$64","v":3.0000000000000001E-3},{"$f":"$G$64","v":3.0000000000000001E-3},3.0000000000000001E-3,3.0000000000000001E-3,3.0000000000000001E-3,3.0000000000000001E-3,3.0000000000000001E-3,3.0000000000000001E-3,3.0000000000000001E-3,3.0000000000000001E-3,3.0000000000000001E-3,3.0000000000000001E-3,3.0000000000000001E-3,3.0000000000000001E-3,3.0000000000000001E-3,3.0000000000000001E-3,3.0000000000000001E-3,3.0000000000000001E-3,3.0000000000000001E-3,3.0000000000000001E-3,3.0000000000000001E-3,3.0000000000000001E-3,3.0000000000000001E-3,3.0000000000000001E-3,3.0000000000000001E-3,3.0000000000000001E-3,3.0000000000000001E-3,3.0000000000000001E-3,3.0000000000000001E-3,3.0000000000000001E-3,3.0000000000000001E-3,3.0000000000000001E-3,3.0000000000000001E-3,3.0000000000000001E-3,3.0000000000000001E-3,3.0000000000000001E-3,3.0000000000000001E-3,3.0000000000000001E-3,3.0000000000000001E-3,3.0000000000000001E-3,3.0000000000000001E-3]
[]
[null,"Financing Targets"]
[]
[null,null,"General Inflation Rate",null,null,"% p.a.",0.02,null,null,{"$f":"$G$68","v":0.02},0.02,0.02,0.02,0.02,0.02,0.02,0.02,0.02,0.02,0.02,0.02,0.02,0.02,0.02,0.02,0.02,0.02,0.02,0.02,0.02,0.02,0.02,0.02,0.02,0.02,0.02,0.02,0.02,0.02,0.02,0.02,0.02,0.02,0.02,0.02,0.02,0.02,0.02,0.02,0.02]
[null,null,"Inflation in Electricity Price",null,null,"% p.a.",0.02,null,null,{"$f":"$G$69","v":0.02},{"$f":"$G$69","v":0.02},0.02,0.02,0.02,0.02,0.02,0.02,0.02,0.02,0.02,0.02,0.02,0.02,0.02,0.02,0.02,0.02,0.02,0.02,0.02,0.02,0.02,0.02,0.02,0.02,0.02,0.02,0.02,0.02,0.02,0.02,0.02,0.02,0.02,0.02,0.02,0.02,0.02,0.02,0.02]
[null,null,"Change in Cost of IT Equipment",null,null,"% p.a.",-0.01,null,null,{"$f":"$G$70","v":-0.01},{"$f":"$G$70","v":-0.01},-0.01,-0.01,-0.01,-0.01,-0.01,-0.01,-0.01,-0.01,-0.01,-0.01,-0.01,-0.01,-0.01,-0.01,-0.01,-0.01,-0.01,-0.01,-0.01,-0.01,-0.01,-0.01,-0.01,-0.01,-0.01,-0.01,-0.01,-0.01,-0.01,-0.01,-0.01,-0.01,-0.01,-0.01,-0.01,-0.01,-0.01,-0.01,-0.01]
[]
[null,null,"Target IRR",null,null,"%",{"$f":"H72/1000","v":0.09},90,null,{"$f":"$G$72","v":0.09},{"$f":"$G$72","v":0.09},0.09,0.09,0.09,0.09,0.09,0.09,0.09,0.09,0.09,0.09,0.09,0.09,0.09,0.09,0.09,0.09,0.09,0.09,0.09,0.09,0.09,0.09,0.09,0.09,0.09,0.09,0.09,0.09,0.09,0.09,0.09,0.09,0.09,0.09,0.09,0.09,0.09,0.09,0.09]
[]
[null,null,"CO2 Emissions per MWH",null,null,"Tons/MWH",{"$f":"INDEX(J74:SS74,$E$2)","v":0}]
[null,null,"Price Applied to Emissions",null,null,"USD/Ton",85,null,null,{"$f":"$G$75","v":85},{"$f":"$G$75","v":85},85,85,85,85,85,85,85,85,85,85,85,85,85,85,85,85,85,85,85,85,85,85,85,85,85,85,85,85,85,85,85,85,85,85,85,85,85,85,85]
[]
[null,null,"Detailed Data Scenarios"]
[null,null,"Apply High Range PUE",null,null,"Flag",true]
[null,null,"Apply Low Range PUE",null,null,"Flag",{"$f":"NOT(G78)","v":false}]
[]
[null,null,"Price from Setting IRR with Goal Seek",null,null,"USD/MM Token",{"$f":"INDEX(J81:SS81,$E$2)","v":4.1924498487906989},null,"TCO",108153.04653117548,48567.610325801863,85963.162063905984,25355.291771437944,18354.324516791265,1387.786073394182,614.84494524162074,269.03210349783382,248.75512503511834,304.54297383458936,225.70831492907476,108.50914547806121,52.258525655116216,51.077398180675978,69.40268871474602,53.124017207355827,28.299730458240333,17.342285405305532,14.177951766266016,18.974531934242648,13.160349445218429,7.2055866636484964,3.7821517206397059,3.3706190272217946,5.1717679509124297,35.529390356997652,20.724837274217922,39.402546810031346,24.196321830782402,15.605710026398224,15.470284521459419,19.303418907745908,8.4344660839581422,7.0932258360689771,5.9056142345508569,5.3526900116436087,8.8255792358299843,4.9267794336154251,3.1304366322455381,3.3050203411721881,4.1924498487906989]
[null,null,"Price Input from Low Cost in Each Technology",null,null,"USD/MM Token",{"$f":"INDEX(J82:SS82,$E$2)","v":4.9267794336154251},null,null,{"$f":"K81","v":48567.610325801863},{"$f":"J82","v":48567.610325801863},{"$f":"K82","v":48567.610325801863},48567.610325801863,48567.610325801863,{"$f":"P81","v":614.84494524162074},{"$f":"O82","v":614.84494524162074},{"$f":"P82","v":614.84494524162074},614.84494524162074,614.84494524162074,{"$f":"U81","v":108.50914547806121},{"$f":"T82","v":108.50914547806121},{"$f":"U82","v":108.50914547806121},108.50914547806121,108.50914547806121,{"$f":"Z81","v":28.299730458240333},{"$f":"Y82","v":28.299730458240333},{"$f":"Z82","v":28.299730458240333},28.299730458240333,28.299730458240333,{"$f":"AE81","v":7.2055866636484964},{"$f":"AD82","v":7.2055866636484964},{"$f":"AE82","v":7.2055866636484964},7.2055866636484964,7.2055866636484964,{"$f":"AJ81","v":20.724837274217922},{"$f":"AI82","v":20.724837274217922},{"$f":"AJ82","v":20.724837274217922},20.724837274217922,{"$f":"AN81","v":15.470284521459419},{"$f":"AM82","v":15.470284521459419},{"$f":"AP81","v":8.4344660839581422},{"$f":"AO82","v":8.4344660839581422},8.4344660839581422,8.4344660839581422,8.4344660839581422,{"$f":"AU81","v":4.9267794336154251},{"$f":"AT82","v":4.9267794336154251},{"$f":"AU82","v":4.9267794336154251},4.9267794336154251,4.9267794336154251]
[null,null,"IRR from Scenario",null,null,"%",{"$f":"INDEX(J83:SS83,$E$2)","v":0.21555972695350648},null,"IRR Output",false,9.0000000596046487E-2,2.9802322387695314E-9,0.40214839577674866,0.53585538268089306,2.9802322387695314E-9,9.0000000596046487E-2,0.4844479382038116,0.61385315060615542,0.35719087719917297,2.9802322387695314E-9,9.0000000596046487E-2,0.44971857666969295,0.49857004284858697,0.28681703209877019,2.9802322387695314E-9,9.0000000596046487E-2,0.28362200856208808,0.33454321026802059,0.26585510373115528,2.9802322387695314E-9,9.0000000596046487E-2,0.40531888604164124,0.41128632426261902,0.27885002493858346,-7.8421442210674319E-2,9.0000000596046487E-2,2.9802322387695314E-9,1.8009385466575628E-2,8.644265830516816E-2,9.0000000596046487E-2,2.9802322387695314E-9,9.0000000596046487E-2,0.19919629693031313,0.29985426068305976,0.3627407491207123,2.9802322387695314E-9,9.0000000596046487E-2,0.34422459006309503,0.34081718325614929,0.21555972695350648]
[]
[null,null,"Price per kW-month",null,null,"USD/kW-Month",{"$f":"INDEX(J85:SS85,$E$2)","v":18254.725096795308},null,null,371.93728952103004,394.29578242750074,349.52195734436646,309.7908810433031,314.56182282507336,806.00119706700787,808.46459679829775,620.88409748409345,648.99835782324567,601.46097827447818,1921.4029167383599,1908.6831590279896,1505.0707454131141,1555.0180365764777,1625.2602099235837,3540.590060221331,3565.4545248117774,2488.3980942963494,2381.2619747971189,3404.3855733674632,1337.7332182153286,1498.7934452608151,1058.3951267641523,1094.573817972994,1264.5207474199592,1140.5291151652871,1266.7462172634998,1623.030355898122,1352.5582534499504,1196.2594861799594,1425.4043830451926,4913.7368714422319,4153.5233508995379,4214.9700816946779,3857.7596985437153,4009.2902607996302,14212.327463892336,15106.538885597987,10659.474512937191,12798.610804422522,18254.725096795308]
[null,null,"Price per GPU - Month",null,null,"USD/GPU-Month",{"$f":"INDEX(J86:SS86,$E$2)","v":33805.046475546864},null,null,546.96660223680885,398.27856810858663,442.43285739793225,348.07964162168889,331.11770823691933,876.08825768153031,734.9678152711798,521.75134242360798,569.29680510811033,567.41601724007387,1883.7283497434901,1577.4240983702393,1213.7667301718661,1264.2423061597381,1425.6668508101611,5284.4627764497482,4691.3875326470752,3231.6858367485052,3014.2556643001503,4309.3488270474218,1611.7267689341309,1577.6773108008579,1091.1289966640747,1116.9120591561164,1359.6997284085583,1152.0496112780679,1064.4926195491594,1531.1607131114358,1186.4546082894301,964.72539208061232,1113.5971742540567,7925.3820507132787,5612.869393107484,5546.0132653877336,5010.0775305762536,5075.0509630375063,33051.924334633339,29620.66448156468,20498.989447956137,24148.322272495323,33805.046475546864]
[]
[null,"Constants"]
[null,null,null,"Months in Year",null,null,12]
[null,null,null,"Hours in Day",null,null,24]
[null,null,null,"Seconds in Minute",null,null,60]
[null,null,null,"Minutes in Hour",null,null,60]
[null,null,null,"Feet/Meters",null,null,9]
[null,null,null,"Number of Scenarios",null,null,{"$f":"MAX(J2:AX2)","v":41}]

{"sheet":"InputS","index":5,"n_rows":35,"n_cols":47,"rows_kept":35,"cut":false,"hidden":false,"merged":[]}
[]
[]
[]
[null,"Period",null,null,null,null,{"$f":"_xlfn.SEQUENCE(,20)","v":1},2,3,4,5,6,7,8,9,10,11,12,13,14,15,16,17,18,19,20]
[]
[null,null,"Year",null,null,null,{"$f":"YEAR(InputC!G6)","v":2027},{"$f":"G6+1","v":2028},{"$f":"H6+1","v":2029},2030,2031,2032,2033,2034,2035,2036,2037,2038,2039,2040,2041,2042,2043,2044,2045,2046]
[]
[null,"Utilization Rate"]
[null,null,null,"Code",null,{"$f":"InputC!G40","v":1}]
[]
[null,null,null,{"$f":"\"Base Case \"&$B$8","v":"Base Case Utilization Rate"},null,null,{"$f":"InputC!$G$38","v":0.66},{"$f":"InputC!$G$38","v":0.66},{"$f":"InputC!$G$38","v":0.66},{"$f":"InputC!$G$38","v":0.66},{"$f":"InputC!$G$38","v":0.66},{"$f":"InputC!$G$38","v":0.66},{"$f":"InputC!$G$38","v":0.66},{"$f":"InputC!$G$38","v":0.66},{"$f":"InputC!$G$38","v":0.66},{"$f":"InputC!$G$38","v":0.66},{"$f":"InputC!$G$38","v":0.66},{"$f":"InputC!$G$38","v":0.66},{"$f":"InputC!$G$38","v":0.66},{"$f":"InputC!$G$38","v":0.66},{"$f":"InputC!$G$38","v":0.66},{"$f":"InputC!$G$38","v":0.66},{"$f":"InputC!$G$38","v":0.66},{"$f":"InputC!$G$38","v":0.66},{"$f":"InputC!$G$38","v":0.66},{"$f":"InputC!$G$38","v":0.66}]
[null,null,null,{"$f":"\"Low Case \"&$B$8","v":"Low Case Utilization Rate"},null,null,0.7,{"$f":"G12-1%","v":0.69},{"$f":"H12-1%","v":0.67999999999999994},0.66999999999999993,0.65999999999999992,0.64999999999999991,0.6399999999999999,0.62999999999999989,0.61999999999999988,0.60999999999999988,0.59999999999999987,0.58999999999999986,0.57999999999999985,0.56999999999999984,0.55999999999999983,0.54999999999999982,0.53999999999999981,0.5299999999999998,0.5199999999999998,0.50999999999999979]
[null,null,null,{"$f":"\"High Case \"&$B$8","v":"High Case Utilization Rate"},null,null,0.85,0.85,0.85,0.85,0.85,0.85,0.85,0.85,0.85,0.85,0.85,0.85,0.85,0.85,0.85,0.85,0.85,0.85,0.85,0.85]
[]
[null,null,null,{"$f":"INDEX(D11:D13,$F$9)","v":"Base Case Utilization Rate"},null,null,{"$f":"INDEX(G11:G13,$F$9)","v":0.66},{"$f":"INDEX(H11:H13,$F$9)","v":0.66},{"$f":"INDEX(I11:I13,$F$9)","v":0.66},{"$f":"INDEX(J11:J13,$F$9)","v":0.66},{"$f":"INDEX(K11:K13,$F$9)","v":0.66},{"$f":"INDEX(L11:L13,$F$9)","v":0.66},{"$f":"INDEX(M11:M13,$F$9)","v":0.66},{"$f":"INDEX(N11:N13,$F$9)","v":0.66},{"$f":"INDEX(O11:O13,$F$9)","v":0.66},{"$f":"INDEX(P11:P13,$F$9)","v":0.66},{"$f":"INDEX(Q11:Q13,$F$9)","v":0.66},{"$f":"INDEX(R11:R13,$F$9)","v":0.66},{"$f":"INDEX(S11:S13,$F$9)","v":0.66},{"$f":"INDEX(T11:T13,$F$9)","v":0.66},{"$f":"INDEX(U11:U13,$F$9)","v":0.66},{"$f":"INDEX(V11:V13,$F$9)","v":0.66},{"$f":"INDEX(W11:W13,$F$9)","v":0.66},{"$f":"INDEX(X11:X13,$F$9)","v":0.66},{"$f":"INDEX(Y11:Y13,$F$9)","v":0.66},{"$f":"INDEX(Z11:Z13,$F$9)","v":0.66}]
[]
[null,"Electricity Price"]
[null,null,null,"Code",null,{"$f":"InputC!G62","v":1}]
[]
[null,null,null,{"$f":"\"Base Case \"&B17","v":"Base Case Electricity Price"},null,null,{"$f":"InputC!$G$61","v":180},{"$f":"InputC!$G$61","v":180},{"$f":"InputC!$G$61","v":180},{"$f":"InputC!$G$61","v":180},{"$f":"InputC!$G$61","v":180},{"$f":"InputC!$G$61","v":180},{"$f":"InputC!$G$61","v":180},{"$f":"InputC!$G$61","v":180},{"$f":"InputC!$G$61","v":180},{"$f":"InputC!$G$61","v":180},{"$f":"InputC!$G$61","v":180},{"$f":"InputC!$G$61","v":180},{"$f":"InputC!$G$61","v":180},{"$f":"InputC!$G$61","v":180},{"$f":"InputC!$G$61","v":180},{"$f":"InputC!$G$61","v":180},{"$f":"InputC!$G$61","v":180},{"$f":"InputC!$G$61","v":180},{"$f":"InputC!$G$61","v":180},{"$f":"InputC!$G$61","v":180}]
[null,null,null,{"$f":"\"High Case \"&B17","v":"High Case Electricity Price"},null,null,280,{"$f":"G21*1.015","v":284.2},{"$f":"H21*1.015","v":288.46299999999997},292.78994499999993,297.18179417499988,301.63952108762487,306.16411390393921,310.7565756124983,315.41792424668574,320.14919311038602,324.95143100704178,329.82570247214738,334.77308800922958,339.79468432936801,344.89160459430849,350.06497866322309,355.31595334317137,360.64569264331891,366.05537803296863,371.54620870346315]
[null,null,null,{"$f":"\"Low Case \"&B17","v":"Low Case Electricity Price"},null,null,150,150,150,150,150,150,150,150,150,150,150,150,150,150,150,150,150,150,150,150]
[]
[null,null,null,{"$f":"INDEX(D20:D22,$F$18)","v":"Base Case Electricity Price"},null,null,{"$f":"INDEX(G20:G22,$F$18)","v":180},{"$f":"INDEX(H20:H22,$F$18)","v":180},{"$f":"INDEX(I20:I22,$F$18)","v":180},{"$f":"INDEX(J20:J22,$F$18)","v":180},{"$f":"INDEX(K20:K22,$F$18)","v":180},{"$f":"INDEX(L20:L22,$F$18)","v":180},{"$f":"INDEX(M20:M22,$F$18)","v":180},{"$f":"INDEX(N20:N22,$F$18)","v":180},{"$f":"INDEX(O20:O22,$F$18)","v":180},{"$f":"INDEX(P20:P22,$F$18)","v":180},{"$f":"INDEX(Q20:Q22,$F$18)","v":180},{"$f":"INDEX(R20:R22,$F$18)","v":180},{"$f":"INDEX(S20:S22,$F$18)","v":180},{"$f":"INDEX(T20:T22,$F$18)","v":180},{"$f":"INDEX(U20:U22,$F$18)","v":180},{"$f":"INDEX(V20:V22,$F$18)","v":180},{"$f":"INDEX(W20:W22,$F$18)","v":180},{"$f":"INDEX(X20:X22,$F$18)","v":180},{"$f":"INDEX(Y20:Y22,$F$18)","v":180},{"$f":"INDEX(Z20:Z22,$F$18)","v":180}]
[]
[]
[null,"Degradation of PUE"]
[null,null,null,null,null,1]
[null,null,null,"Code"]
[]
[null,null,null,{"$f":"\"Base Case \"&B27","v":"Base Case Degradation of PUE"},null,null,{"$f":"TRANSPOSE('Efficiency for Data Centers'!EK5:EK45)","v":1.4999999999999999E-2},2.5000000000000001E-2,0.02,1.2E-2,1.7999999999999999E-2,2.1999999999999999E-2,2.8000000000000001E-2,1.4E-2,1.4999999999999999E-2,1.9E-2,0.01,1.6E-2,1.0999999999999999E-2,1.2E-2,1.4999999999999999E-2,8.0000000000000002E-3,1.2999999999999999E-2,8.9999999999999993E-3,7.0000000000000001E-3,1.0999999999999999E-2,1.2E-2,1.7999999999999999E-2,6.0000000000000001E-3,8.9999999999999993E-3,1.4E-2,1.2999999999999999E-2,1.9E-2,1.6E-2,1.4E-2,1.0999999999999999E-2,0.01,8.9999999999999993E-3,1.4999999999999999E-2,1.0999999999999999E-2,0.01,8.0000000000000002E-3,7.0000000000000001E-3,1.2E-2,8.0000000000000002E-3,8.9999999999999993E-3,7.0000000000000001E-3]
[null,null,null,{"$f":"\"High Case \"&B27","v":"High Case Degradation of PUE"},null,null,{"$f":"G31*1.5","v":2.2499999999999999E-2},{"$f":"H31*1.5","v":3.7500000000000006E-2},0.03,1.8000000000000002E-2,2.6999999999999996E-2,3.3000000000000002E-2,4.2000000000000003E-2,2.1000000000000001E-2,2.2499999999999999E-2,2.8499999999999998E-2,1.4999999999999999E-2,2.4E-2,1.6500000000000001E-2,1.8000000000000002E-2,2.2499999999999999E-2,1.2E-2,1.95E-2,1.3499999999999998E-2,1.0500000000000001E-2,1.6500000000000001E-2,1.8000000000000002E-2,2.6999999999999996E-2,9.0000000000000011E-3,1.3499999999999998E-2,2.1000000000000001E-2,1.95E-2,2.8499999999999998E-2,2.4E-2,2.1000000000000001E-2,1.6500000000000001E-2,1.4999999999999999E-2,1.3499999999999998E-2,2.2499999999999999E-2,1.6500000000000001E-2,1.4999999999999999E-2,1.2E-2,1.0500000000000001E-2,1.8000000000000002E-2,1.2E-2,1.3499999999999998E-2,1.0500000000000001E-2]
[null,null,null,{"$f":"\"Low Case \"&B27","v":"Low Case Degradation of PUE"},null,null,{"$f":"G31*0.75","v":1.125E-2},{"$f":"H31*0.75","v":1.8750000000000003E-2},1.4999999999999999E-2,9.0000000000000011E-3,1.3499999999999998E-2,1.6500000000000001E-2,2.1000000000000001E-2,1.0500000000000001E-2,1.125E-2,1.4249999999999999E-2,7.4999999999999997E-3,1.2E-2,8.2500000000000004E-3,9.0000000000000011E-3,1.125E-2,6.0000000000000001E-3,9.75E-3,6.7499999999999991E-3,5.2500000000000003E-3,8.2500000000000004E-3,9.0000000000000011E-3,1.3499999999999998E-2,4.5000000000000005E-3,6.7499999999999991E-3,1.0500000000000001E-2,9.75E-3,1.4249999999999999E-2,1.2E-2,1.0500000000000001E-2,8.2500000000000004E-3,7.4999999999999997E-3,6.7499999999999991E-3,1.125E-2,8.2500000000000004E-3,7.4999999999999997E-3,6.0000000000000001E-3,5.2500000000000003E-3,9.0000000000000011E-3,6.0000000000000001E-3,6.7499999999999991E-3,5.2500000000000003E-3]
[]
[null,null,null,{"$f":"INDEX(D31:D33,$F$28)","v":"Base Case Degradation of PUE"},null,null,{"$f":"INDEX(G31:G33,$F$28)","v":1.4999999999999999E-2},{"$f":"INDEX(H31:H33,$F$28)","v":2.5000000000000001E-2},{"$f":"INDEX(I31:I33,$F$28)","v":0.02},{"$f":"INDEX(J31:J33,$F$28)","v":1.2E-2},{"$f":"INDEX(K31:K33,$F$28)","v":1.7999999999999999E-2},{"$f":"INDEX(L31:L33,$F$28)","v":2.1999999999999999E-2},{"$f":"INDEX(M31:M33,$F$28)","v":2.8000000000000001E-2},{"$f":"INDEX(N31:N33,$F$28)","v":1.4E-2},{"$f":"INDEX(O31:O33,$F$28)","v":1.4999999999999999E-2},{"$f":"INDEX(P31:P33,$F$28)","v":1.9E-2},{"$f":"INDEX(Q31:Q33,$F$28)","v":0.01},{"$f":"INDEX(R31:R33,$F$28)","v":1.6E-2},{"$f":"INDEX(S31:S33,$F$28)","v":1.0999999999999999E-2},{"$f":"INDEX(T31:T33,$F$28)","v":1.2E-2},{"$f":"INDEX(U31:U33,$F$28)","v":1.4999999999999999E-2},{"$f":"INDEX(V31:V33,$F$28)","v":8.0000000000000002E-3},{"$f":"INDEX(W31:W33,$F$28)","v":1.2999999999999999E-2},{"$f":"INDEX(X31:X33,$F$28)","v":8.9999999999999993E-3},{"$f":"INDEX(Y31:Y33,$F$28)","v":7.0000000000000001E-3},{"$f":"INDEX(Z31:Z33,$F$28)","v":1.0999999999999999E-2}]

{"sheet":"InputC-Electricity Drill Down","index":6,"n_rows":110,"n_cols":55,"rows_kept":110,"cut":false,"hidden":false,"merged":[]}
["          "]
[null,null,null,null,"Units",null,null,null,null,{"$f":"InputC!J3","v":"Legacy Data Centers - High Cost"},{"$f":"InputC!K3","v":"Legacy Data Centers - Low Cost"},{"$f":"InputC!L3","v":"Legacy Data Centers - Computer Room Air Conditioning"},{"$f":"InputC!M3","v":"Legacy Data Centers - Hot/Cold Aisle Containment"},{"$f":"InputC!N3","v":"Legacy Data Centers - Chilled Water Central Loops"},{"$f":"InputC!O3","v":"Early AI Date Centers - High Cost"},{"$f":"InputC!P3","v":"Early AI Date Centers - Low Cost"},{"$f":"InputC!Q3","v":"Early AI Date Centers - Single Phase Direct to Liquid Cooling"},{"$f":"InputC!R3","v":"Early AI Date Centers - Coolant Distribution Units"},{"$f":"InputC!S3","v":"Early AI Date Centers - Hybrid Air-Liquid Infrastructure"},{"$f":"InputC!T3","v":"Modern AI Factories - High Cost"},{"$f":"InputC!U3","v":"Modern AI Factories - Low Cost"},{"$f":"InputC!V3","v":"Modern AI Factories - Single Phase Direct-to-Chip Liquid Cooling"},{"$f":"InputC!W3","v":"Modern AI Factories - Coolant Distribution Units (CDUs)"},{"$f":"InputC!X3","v":"Modern AI Factories - Hybrid Air-Liquid Infrastructure"},{"$f":"InputC!Y3","v":"Next-Gen Superclusters - High Cost"},{"$f":"InputC!Z3","v":"Next-Gen Superclusters - Low Cost"},{"$f":"InputC!AA3","v":"Next-Gen Superclusters - Chiller-Less Dry Cooling"},{"$f":"InputC!AB3","v":"Next-Gen Superclusters - High -Impedance Dielectric Coolants"},{"$f":"InputC!AC3","v":"Next-Gen Superclusters - AI-Driven Grid Balance Cooling"},{"$f":"InputC!AD3","v":"Specialized Inference Farms - High Cost"},{"$f":"InputC!AE3","v":"Specialized Inference Farms - Low Cost"},{"$f":"InputC!AF3","v":"Specialized Inference Farms - Chassis-Level Immersion Cooling"},{"$f":"InputC!AG3","v":"Specialized Inference Farms - Open-Tank-Phase Immersion"},{"$f":"InputC!AH3","v":"Specialized Inference Farms - Liquid-to-Air (L2A) Sidecars"},{"$f":"InputC!AI3","v":"NVIDIA Hopper (H200) - High Cost"},{"$f":"InputC!AJ3","v":"NVIDIA Hopper (H200) - Low Cost"},{"$f":"InputC!AK3","v":"NVIDIA Hopper (H200) - Hyrid Air"},{"$f":"InputC!AL3","v":"NVIDIA Hopper (H200) - Fluid-Assisted"},{"$f":"InputC!AM3","v":"NVIDIA Hopper (H200) - Single Phase Direct-to-Chip Liquid Cooling"},{"$f":"InputC!AN3","v":"NVIDIA Hopper (H200) - Double Phase Direct-to-Chip Liquid Cooling"},{"$f":"InputC!AO3","v":"NVIDIA Blackwell (GB300 / B300) - High  Cost"},{"$f":"InputC!AP3","v":"NVIDIA Blackwell (GB300 / B300) - Low Cost"},{"$f":"InputC!AQ3","v":"NVIDIA Blackwell (GB300 / B300) - 90% Direct-to-Chip Liquid"},{"$f":"InputC!AR3","v":"NVIDIA Blackwell (GB300 / B300) - Single Phase Direct-to-Chip Liquid Cooling"},{"$f":"InputC!AS3","v":"NVIDIA Blackwell (GB300 / B300) - Double Phase Direct-to-Chip Liquid Cooling"},{"$f":"InputC!AT3","v":"NVIDIA Vera Rubin NVL72 - High Cost"},{"$f":"InputC!AU3","v":"NVIDIA Vera Rubin NVL72 - Low Cost"},{"$f":"InputC!AV3","v":"NVIDIA Vera Rubin NVL72 - 45 C Warm-Water Closed-Loop Liquid"},{"$f":"InputC!AW3","v":"NVIDIA Vera Rubin NVL72 - Single Phase Direct-to-Chip Liquid Cooling"},{"$f":"InputC!AX3","v":"NVIDIA Vera Rubin NVL72 - Double Phase Direct-to-Chip Liquid Cooling"},{"$f":"InputC!AY3","v":"NVIDA Vera Alternative  Scenario (Full Description Copied from ___)"},{"$f":"InputC!AZ3","v":"NVIDA Blackwell Alternative  Scenario (Full Description Copied from ___)"},{"$f":"InputC!BA3","v":"NVIDA Blackwell Alternative  Scenario (Full Description Copied from ___)"},{"$f":"InputC!BB3","v":"NVIDA Hopper Added Scenario (Full Description Copied from ___)"},{"$f":"InputC!BC3","v":"Added Scenario (Full Description Copied from ___)"}]
[]
[null,"PUE Drill Down"]
[null,null,"High PUE Range from Gemini",null,"x",null,null,null,null,{"$f":"TRANSPOSE('Efficiency for Data Centers'!DY5:DY45)","v":1.9},2.2000000000000002,2,1.6,1.5,1.45,1.65,1.3,1.32,1.4,1.18,1.35,1.1499999999999999,1.1599999999999999,1.25,1.1000000000000001,1.25,1.1200000000000001,1.07,1.1200000000000001,1.35,1.55,1.18,1.08,1.35,1.22,1.45,1.5,1.35,1.18,1.1399999999999999,1.1399999999999999,1.3,1.1299999999999999,1.1499999999999999,1.1100000000000001,1.1200000000000001,1.25,1.07,1.1399999999999999,1.1000000000000001]
[null,null,"Low PUE Range from Gemini",null,"x",null,null,null,null,{"$f":"TRANSPOSE('Efficiency for Data Centers'!DZ5:DZ45)","v":1.6},1.8,1.7,1.4,1.35,1.3,1.45,1.2,1.22,1.28,1.1200000000000001,1.22,1.1000000000000001,1.1100000000000001,1.18,1.05,1.1499999999999999,1.06,1.03,1.07,1.2,1.35,1.1200000000000001,1.04,1.25,1.1499999999999999,1.3,1.35,1.25,1.1200000000000001,1.08,1.1000000000000001,1.2,1.0900000000000001,1.1000000000000001,1.05,1.08,1.18,1.04,1.0900000000000001,1.05]
[]
[null,null,"Implied Efficiency - High PUE",null,"%",null,null,null,null,{"$f":"1/J5","v":0.52631578947368418},{"$f":"1/K5","v":0.45454545454545453},0.5,0.625,0.66666666666666663,0.68965517241379315,0.60606060606060608,0.76923076923076916,0.75757575757575757,0.7142857142857143,0.84745762711864414,0.7407407407407407,0.86956521739130443,0.86206896551724144,0.8,0.90909090909090906,0.8,0.89285714285714279,0.93457943925233644,0.89285714285714279,0.7407407407407407,0.64516129032258063,0.84745762711864414,0.92592592592592582,0.7407407407407407,0.81967213114754101,0.68965517241379315,0.66666666666666663,0.7407407407407407,0.84745762711864414,0.87719298245614041,0.87719298245614041,0.76923076923076916,0.88495575221238942,0.86956521739130443,0.9009009009009008,0.89285714285714279,0.8,0.93457943925233644,0.87719298245614041,0.90909090909090906]
[null,null,"Implied Efficiency - Low PUE",null,"%",null,null,null,null,{"$f":"1/J6","v":0.625},0.55555555555555558,0.58823529411764708,0.7142857142857143,0.7407407407407407,0.76923076923076916,0.68965517241379315,0.83333333333333337,0.81967213114754101,0.78125,0.89285714285714279,0.81967213114754101,0.90909090909090906,0.9009009009009008,0.84745762711864414,0.95238095238095233,0.86956521739130443,0.94339622641509424,0.970873786407767,0.93457943925233644,0.83333333333333337,0.7407407407407407,0.89285714285714279,0.96153846153846145,0.8,0.86956521739130443,0.76923076923076916,0.7407407407407407,0.8,0.89285714285714279,0.92592592592592582,0.90909090909090906,0.83333333333333337,0.9174311926605504,0.90909090909090906,0.95238095238095233,0.92592592592592582,0.84745762711864414,0.96153846153846145,0.9174311926605504,0.95238095238095233]
[]
[null,null,"Applied PUE (True is High)",null,{"$f":"InputC!G78","v":true},null,null,null,null,{"$f":"IF($E$11,J5,J6)","v":1.9},{"$f":"IF($E$11,K5,K6)","v":2.2000000000000002},2,1.6,1.5,1.45,1.65,1.3,1.32,1.4,1.18,1.35,1.1499999999999999,1.1599999999999999,1.25,1.1000000000000001,1.25,1.1200000000000001,1.07,1.1200000000000001,1.35,1.55,1.18,1.08,1.35,1.22,1.45,1.5,1.35,1.18,1.1399999999999999,1.1399999999999999,1.3,1.1299999999999999,1.1499999999999999,1.1100000000000001,1.1200000000000001,1.25,1.07,1.1399999999999999,1.1000000000000001]
[]
[null,"PUE from Losses Efficiencty Perrcent"]
[null,null,"High Range Cooling Loss from Gemini",null,"%",null,null,null,null,{"$f":"TRANSPOSE('Efficiency for Data Centers'!EH5:EH45)","v":0.45},0.55000000000000004,0.48,0.33,0.3,0.28000000000000003,0.36,0.2,0.22,0.25,0.13,0.24,0.12,0.13,0.18,0.08,0.16,0.09,0.05,0.1,0.15,0.32,0.13,0.06,0.24,0.16,0.28000000000000003,0.3,0.23,0.14000000000000001,0.11,0.11,0.21,0.1,0.12,0.09,0.09,0.18,0.06,0.1,0.08]
[null,null,"Low Range Cooling Loss from Gemini",null,"%",null,null,null,null,{"$f":"TRANSPOSE('Efficiency for Data Centers'!EE5:EE45)","v":0.35},0.4,0.38,0.25,0.22,0.2,0.28000000000000003,0.14000000000000001,0.15,0.18,0.09,0.16,0.08,0.09,0.13,0.04,0.11,0.05,0.02,0.1,0.15,0.22,0.09,0.03,0.18,0.11,0.21,0.23,0.17,0.1,7.0000000000000007E-2,0.08,0.15,7.0000000000000007E-2,0.08,0.04,0.06,0.13,0.03,7.0000000000000007E-2,0.04]
[]
[null,null,"High  Range Loss from UPS and Equipment",null,"%",null,null,null,null,{"$f":"TRANSPOSE('Efficiency for Data Centers'!EI5:EI45)","v":0.12},0.16,0.13,0.11,0.1,0.08,0.12,0.08,0.08,0.09,0.06,0.1,0.06,0.06,7.0000000000000007E-2,0.05,0.08,0.05,0.04,0.06,7.0000000000000007E-2,0.08,0.04,0.03,0.06,7.0000000000000007E-2,0.08,0.1,0.08,7.0000000000000007E-2,0.06,0.05,0.08,0.05,5.5E-2,4.4999999999999998E-2,0.04,7.0000000000000007E-2,4.4999999999999998E-2,0.05,0.04]
[null,null,"Low  Range Loss from UPS and Equipment",null,"%",null,null,null,null,{"$f":"TRANSPOSE('Efficiency for Data Centers'!EF5:EF45)","v":0.08},0.12,0.09,0.08,7.0000000000000007E-2,0.06,0.09,0.06,0.06,7.0000000000000007E-2,0.04,7.0000000000000007E-2,0.04,0.04,0.05,0.03,0.06,0.03,0.03,0.04,0.05,0.08,0.04,0.03,0.06,0.05,0.11,7.0000000000000007E-2,0.06,0.05,0.04,3.5000000000000003E-2,0.06,3.5000000000000003E-2,0.04,3.5000000000000003E-2,2.5000000000000001E-2,0.05,0.03,0.03,2.5000000000000001E-2]
[]
[null,null,"High  Range Loss from Lighting and Other",null,"%",null,null,null,null,{"$f":"TRANSPOSE('Efficiency for Data Centers'!EJ5:EJ45)","v":1.2999999999999999E-2},1.4999999999999999E-2,1.2999999999999999E-2,8.9999999999999993E-3,0.01,4.0000000000000001E-3,8.0000000000000002E-3,4.0000000000000001E-3,4.0000000000000001E-3,5.0000000000000001E-3,1.5E-3,4.0000000000000001E-3,1.5E-3,1.5E-3,2.5000000000000001E-3,5.0000000000000001E-4,1.5E-3,5.9999999999999995E-4,4.0000000000000002E-4,5.0000000000000001E-4,3.5000000000000001E-3,6.0000000000000001E-3,2E-3,1.5E-3,4.4999999999999997E-3,2E-3,6.0000000000000001E-3,4.4999999999999997E-3,3.0000000000000001E-3,2E-3,1.8E-3,8.0000000000000004E-4,2.5000000000000001E-3,6.9999999999999999E-4,8.9999999999999998E-4,5.9999999999999995E-4,4.0000000000000002E-4,1.5E-3,5.0000000000000001E-4,5.9999999999999995E-4,4.0000000000000002E-4]
[null,null,"Low  Range Loss from Lighting and Other",null,"%",null,null,null,null,{"$f":"TRANSPOSE('Efficiency for Data Centers'!EG5:EG45)","v":8.0000000000000002E-3},0.01,8.0000000000000002E-3,8.9999999999999993E-3,6.0000000000000001E-3,2E-3,5.0000000000000001E-3,2E-3,2E-3,3.0000000000000001E-3,5.0000000000000001E-4,2E-3,5.0000000000000001E-4,5.0000000000000001E-4,1E-3,1E-4,8.0000000000000004E-4,2.0000000000000001E-4,1E-4,2.0000000000000001E-4,1.5E-3,3.0000000000000001E-3,1E-3,5.0000000000000001E-4,2E-3,1E-3,3.5000000000000001E-3,2.5000000000000001E-3,1.5E-3,1E-3,8.0000000000000004E-4,2.9999999999999997E-4,1.1999999999999999E-3,2.0000000000000001E-4,2.9999999999999997E-4,2.0000000000000001E-4,1E-4,5.9999999999999995E-4,2.0000000000000001E-4,2.0000000000000001E-4,1E-4]
[]
[null,null,"Sum of High Losses (No Compounding)",null,"%",null,null,null,null,{"$f":"J14+J17+J20","v":0.58300000000000007},{"$f":"K14+K17+K20","v":0.72500000000000009},0.623,0.44900000000000001,0.41000000000000003,0.36400000000000005,0.48799999999999999,0.28400000000000003,0.30399999999999999,0.34499999999999997,0.1915,0.34399999999999997,0.18149999999999999,0.1915,0.2525,0.1305,0.24149999999999999,0.1406,9.0399999999999994E-2,0.1605,0.2235,0.40600000000000003,0.17200000000000001,9.1499999999999998E-2,0.30449999999999999,0.23200000000000001,0.36600000000000005,0.40450000000000003,0.313,0.21200000000000002,0.17179999999999998,0.1608,0.29249999999999998,0.15070000000000003,0.1759,0.1356,0.13040000000000002,0.2515,0.1055,0.15060000000000001,0.12039999999999999]
[null,null,"Sum of Low Losses (No Compounding)",null,"%",null,null,null,null,{"$f":"J15+J18+J21","v":0.438},{"$f":"K15+K18+K21","v":0.53},0.47799999999999998,0.33900000000000002,0.29600000000000004,0.26200000000000001,0.375,0.20200000000000001,0.21199999999999999,0.253,0.1305,0.23200000000000001,0.1205,0.1305,0.18099999999999999,7.010000000000001E-2,0.17079999999999998,8.0200000000000007E-2,5.0100000000000006E-2,0.14020000000000002,0.20150000000000001,0.30299999999999999,0.13100000000000001,6.0499999999999998E-2,0.24199999999999999,0.161,0.32350000000000001,0.30250000000000005,0.23150000000000001,0.15100000000000002,0.11080000000000001,0.1153,0.2112,0.10520000000000002,0.12029999999999999,7.5200000000000017E-2,8.5099999999999995E-2,0.18059999999999998,6.0199999999999997E-2,0.10020000000000001,6.5100000000000005E-2]
[]
[null,null,"PUE from High Range Loss",null,"x",null,null,null,null,{"$f":"1/(1-J23)","v":2.3980815347721829},{"$f":"1/(1-K23)","v":3.6363636363636376},2.6525198938992043,1.8148820326678767,1.6949152542372883,1.5723270440251575,1.953125,1.3966480446927374,1.4367816091954024,1.5267175572519083,1.2368583797155226,1.524390243902439,1.2217470983506413,1.2368583797155226,1.3377926421404682,1.1500862564692353,1.3183915622940015,1.1636025133814289,1.0993843447669305,1.1911852293031566,1.2878300064391501,1.6835016835016836,1.2077294685990339,1.1007154650522841,1.4378145219266714,1.3020833333333333,1.577287066246057,1.6792611251049541,1.4556040756914119,1.2690355329949239,1.2074378169524269,1.1916110581506196,1.4134275618374559,1.1774402449075709,1.2134449702705981,1.1568718186024987,1.1499540018399266,1.3360053440213762,1.1179429849077698,1.1773016246762422,1.1368804001819008]
[null,null,"PUE from Low Range Loss",null,"x",null,null,null,null,{"$f":"1/(1-J24)","v":1.779359430604982},{"$f":"1/(1-K24)","v":2.1276595744680851},1.9157088122605364,1.51285930408472,1.4204545454545456,1.3550135501355014,1.6,1.2531328320802004,1.2690355329949239,1.3386880856760375,1.1500862564692353,1.3020833333333333,1.137009664582149,1.1500862564692353,1.2210012210012211,1.0753844499408538,1.20598166907863,1.087192868014786,1.0527423939362039,1.1630611770179111,1.2523481527864746,1.4347202295552366,1.1507479861910241,1.0643959552953699,1.3192612137203166,1.1918951132300357,1.4781966001478197,1.4336917562724014,1.3012361743656475,1.1778563015312131,1.1246063877642825,1.1303266644060133,1.2677484787018256,1.1175681716584711,1.1367511651699442,1.0813148788927336,1.0930156301235108,1.2204051745179398,1.0640561821664185,1.1113580795732385,1.0696331158412664]
[]
[null,null,"Applied PUE from Loss Analysis",null,"Flag",{"$f":"E11","v":true},null,null,null,{"$f":"IF($F$29,J26,J27)","v":2.3980815347721829},3.6363636363636376,2.6525198938992043,1.8148820326678767,1.6949152542372883,1.5723270440251575,1.953125,1.3966480446927374,1.4367816091954024,1.5267175572519083,1.2368583797155226,1.524390243902439,1.2217470983506413,1.2368583797155226,1.3377926421404682,1.1500862564692353,1.3183915622940015,1.1636025133814289,1.0993843447669305,1.1911852293031566,1.2878300064391501,1.6835016835016836,1.2077294685990339,1.1007154650522841,1.4378145219266714,1.3020833333333333,1.577287066246057,1.6792611251049541,1.4556040756914119,1.2690355329949239,1.2074378169524269,1.1916110581506196,1.4134275618374559,1.1774402449075709,1.2134449702705981,1.1568718186024987,1.1499540018399266,1.3360053440213762,1.1179429849077698,1.1773016246762422,1.1368804001819008]
[]
[null,"PUE with Temperature Adjustment"]
[null,null,"PUE at ",null,"x",10,null,null,null,{"$f":"TRANSPOSE('Efficiency for Data Centers'!EA5:EA45)","v":1.5},1.7,1.6,1.35,1.28,1.22,1.38,1.1499999999999999,1.17,1.2,1.0900000000000001,1.18,1.08,1.0900000000000001,1.1399999999999999,1.04,1.1200000000000001,1.05,1.02,1.05,1.1599999999999999,1.28,1.1000000000000001,1.03,1.18,1.1200000000000001,1.24,1.28,1.2,1.1000000000000001,1.07,1.08,1.1599999999999999,1.07,1.08,1.04,1.06,1.1399999999999999,1.03,1.07,1.04]
[null,null,"PUE at ",null,"x",20,null,null,null,{"$f":"TRANSPOSE('Efficiency for Data Centers'!EB5:EB45)","v":1.65},1.9,1.8,1.48,1.4,1.32,1.5,1.22,1.25,1.3,1.1299999999999999,1.25,1.1100000000000001,1.1200000000000001,1.2,1.06,1.18,1.08,1.04,1.08,1.24,1.4,1.1399999999999999,1.05,1.28,1.17,1.35,1.4,1.28,1.1399999999999999,1.1000000000000001,1.1100000000000001,1.23,1.1000000000000001,1.1200000000000001,1.07,1.0900000000000001,1.2,1.05,1.1000000000000001,1.06]
[null,null,"PUE at ",null,"x",30,null,null,null,{"$f":"TRANSPOSE('Efficiency for Data Centers'!EC5:EC45)","v":1.95},2.2999999999999998,2.15,1.7,1.6,1.5,1.75,1.35,1.38,1.48,1.21,1.4,1.18,1.19,1.3,1.1200000000000001,1.28,1.1399999999999999,1.08,1.1499999999999999,1.42,1.68,1.22,1.0900000000000001,1.45,1.26,1.52,1.62,1.42,1.22,1.1599999999999999,1.1599999999999999,1.35,1.1499999999999999,1.17,1.1200000000000001,1.1399999999999999,1.32,1.08,1.1499999999999999,1.1100000000000001]
[]
[null,null,"Slope ",null,"PUE Chg/Temp Chg",null,null,null,null,{"$f":"(J32-J33)/($F$32-$F$33)","v":1.4999999999999991E-2},1.9999999999999997E-2,1.9999999999999997E-2,1.2999999999999989E-2,1.1999999999999988E-2,1.0000000000000009E-2,1.2000000000000011E-2,7.0000000000000062E-3,8.0000000000000071E-3,1.0000000000000009E-2,3.999999999999981E-3,7.0000000000000062E-3,3.0000000000000027E-3,3.0000000000000027E-3,6.0000000000000053E-3,2.0000000000000018E-3,5.9999999999999828E-3,3.0000000000000027E-3,2.0000000000000018E-3,3.0000000000000027E-3,8.0000000000000071E-3,1.1999999999999988E-2,3.999999999999981E-3,2.0000000000000018E-3,1.0000000000000009E-2,4.9999999999999819E-3,1.100000000000001E-2,1.1999999999999988E-2,8.0000000000000071E-3,3.999999999999981E-3,3.0000000000000027E-3,3.0000000000000027E-3,7.0000000000000062E-3,3.0000000000000027E-3,4.0000000000000036E-3,3.0000000000000027E-3,3.0000000000000027E-3,6.0000000000000053E-3,2.0000000000000018E-3,3.0000000000000027E-3,2.0000000000000018E-3]
[null,null,"Slope ",null,"PUE Chg/Temp Chg",null,null,null,null,{"$f":"(J33-J34)/($F$33-$F$34)","v":3.0000000000000006E-2},3.9999999999999994E-2,3.4999999999999989E-2,2.1999999999999999E-2,2.0000000000000018E-2,1.7999999999999995E-2,2.5000000000000001E-2,1.3000000000000012E-2,1.2999999999999989E-2,1.7999999999999995E-2,8.0000000000000071E-3,1.4999999999999991E-2,6.9999999999999837E-3,6.9999999999999837E-3,1.0000000000000009E-2,6.0000000000000053E-3,1.0000000000000009E-2,5.9999999999999828E-3,4.0000000000000036E-3,6.9999999999999837E-3,1.7999999999999995E-2,2.8000000000000004E-2,8.0000000000000071E-3,4.0000000000000036E-3,1.6999999999999994E-2,9.000000000000008E-3,1.6999999999999994E-2,2.200000000000002E-2,1.399999999999999E-2,8.0000000000000071E-3,5.9999999999999828E-3,4.9999999999999819E-3,1.2000000000000011E-2,4.9999999999999819E-3,4.9999999999999819E-3,5.0000000000000044E-3,4.9999999999999819E-3,1.2000000000000011E-2,3.0000000000000027E-3,4.9999999999999819E-3,5.0000000000000044E-3]
[]
[null,null,"Intercept ",null,"PUE at 0",null,null,null,null,{"$f":"J32-J36*$F$32","v":1.35},1.5,1.4000000000000001,1.2200000000000002,1.1600000000000001,1.1199999999999999,1.2599999999999998,1.0799999999999998,1.0899999999999999,1.0999999999999999,1.0500000000000003,1.1099999999999999,1.05,1.06,1.0799999999999998,1.02,1.0600000000000003,1.02,1,1.02,1.0799999999999998,1.1600000000000001,1.0600000000000003,1.01,1.0799999999999998,1.0700000000000003,1.1299999999999999,1.1600000000000001,1.1199999999999999,1.0600000000000003,1.04,1.05,1.0899999999999999,1.04,1.04,1.01,1.03,1.0799999999999998,1.01,1.04,1.02]
[null,null,"Intercept ",null,"PUE at 0",null,null,null,null,{"$f":"J33-J37*$F$33","v":1.0499999999999998},1.1000000000000001,1.1000000000000003,1.04,0.99999999999999956,0.96000000000000019,1,0.95999999999999974,0.99000000000000021,0.94000000000000017,0.96999999999999975,0.95000000000000018,0.97000000000000042,0.98000000000000043,0.99999999999999978,0.94,0.97999999999999976,0.96000000000000041,0.96,0.94000000000000039,0.88000000000000012,0.83999999999999986,0.97999999999999976,0.97,0.94000000000000017,0.98999999999999977,1.0100000000000002,0.95999999999999952,1.0000000000000002,0.97999999999999976,0.98000000000000043,1.0100000000000005,0.98999999999999977,1.0000000000000004,1.0200000000000005,0.97,0.99000000000000044,0.95999999999999974,0.99,1.0000000000000004,0.96]
[]
[null,null,"PUE at Temperature Using First Slope",null,"x",{"$f":"InputC!G30","v":25},null,null,null,{"$f":"J39+J36*$F$42","v":1.7249999999999999},2,1.9000000000000001,1.5449999999999999,1.46,1.37,1.56,1.2549999999999999,1.29,1.35,1.1499999999999997,1.2850000000000001,1.125,1.1350000000000002,1.23,1.07,1.21,1.0950000000000002,1.05,1.0950000000000002,1.28,1.46,1.1599999999999997,1.06,1.33,1.1949999999999998,1.4050000000000002,1.46,1.32,1.1599999999999997,1.1150000000000002,1.125,1.2650000000000001,1.1150000000000002,1.1400000000000001,1.085,1.105,1.23,1.06,1.1150000000000002,1.07]
[null,null,"PUE at Temperature Using Second Slope",null,"x",{"$f":"F42","v":25},null,null,null,{"$f":"J40+J37*$F$43","v":1.7999999999999998},2.1,1.9750000000000001,1.5899999999999999,1.5,1.4100000000000001,1.625,1.2850000000000001,1.3149999999999999,1.3900000000000001,1.17,1.325,1.145,1.155,1.25,1.0900000000000001,1.23,1.1099999999999999,1.06,1.115,1.33,1.54,1.18,1.07,1.365,1.2149999999999999,1.4350000000000001,1.51,1.35,1.18,1.1299999999999999,1.135,1.29,1.125,1.145,1.0950000000000002,1.115,1.26,1.0649999999999999,1.125,1.085]
[null,null,"Average PUE",null,"x",null,null,null,null,{"$f":"AVERAGE(J42:J43)","v":1.7624999999999997},{"$f":"AVERAGE(K42:K43)","v":2.0499999999999998},1.9375,1.5674999999999999,1.48,1.3900000000000001,1.5925,1.27,1.3025,1.37,1.1599999999999997,1.3050000000000002,1.135,1.145,1.24,1.08,1.22,1.1025,1.0550000000000002,1.105,1.3050000000000002,1.5,1.17,1.0649999999999999,1.3475000000000001,1.2049999999999998,1.4200000000000002,1.4849999999999999,1.335,1.17,1.1225000000000001,1.1299999999999999,1.2775000000000001,1.1200000000000001,1.1425000000000001,1.0900000000000001,1.1099999999999999,1.2450000000000001,1.0625,1.1200000000000001,1.0775000000000001]
[]
[null,"Capital Expenditure Drill Down"]
[null,null,"Total  Capital Expenditure per kW  without Building etc",null,"USD/kW",null,null,null,null,{"$f":"TRANSPOSE('Capital Expenditures'!HZ4:HZ44)","v":14500},8000,9500,10200,13500,26000,18500,20500,19800,21000,42000,33000,35500,34800,37000,55000,44000,46000,49500,48000,28500,21000,25500,27000,23500,34500,27000,28500,29800,31200,33500,53000,42000,45500,46800,49500,61000,48500,51000,53200,56000]
[null,null,"General Building, office lighting, land cost per kW",null,"USD/kW",null,null,null,null,{"$f":"TRANSPOSE('Capital Expenditures'!IE4:IE44)","v":2200},1000,1400,1450,1600,2400,1300,1500,1450,1600,2700,1700,1800,1800,1900,3200,2100,2200,2400,2200,2500,1400,1500,1600,1400,2300,1500,1600,1600,1600,1700,2600,1700,1800,1800,1900,2800,2000,2000,2000,2100]
[]
[null,null,"Total Revised Expenditure per kW",null,"USD/kW",null,null,null,null,{"$f":"TRANSPOSE('Capital Expenditures'!HW4:HW44)","v":13500},9500,10200,11200,12200,33000,22000,27000,24500,29500,75000,55000,63550,59000,69000,125000,105000,109000,120000,123500,58000,42000,47000,56000,44500,65000,55000,57500,59800,61500,64300,155000,135000,141500,145000,151500,520000,425000,450000,470000,505000]
[null,null,"Total Revised IT per kW",null,"USD/kW",null,null,null,null,{"$f":"TRANSPOSE('Capital Expenditures'!HX4:HX44)","v":3500},2500,2700,3000,3200,18000,12000,14500,13500,16000,50000,40000,44000,42000,47000,70000,60000,62000,68000,69500,40000,30000,33000,38500,31500,41000,35000,36500,38000,39000,40500,95000,85000,88000,90000,93500,380000,310000,330000,345000,370000]
[null,null,"Other Revised Capital Expenditure per kW",null,"USD/kW",null,null,null,null,{"$f":"TRANSPOSE('Capital Expenditures'!HY4:HY44)","v":10000},7000,7500,8200,9000,15000,10000,12500,11000,13500,25000,15000,19500,17000,22000,55000,45000,47000,52000,54000,18000,12000,14000,17500,13000,24000,20000,21000,21800,22500,23800,60000,50000,53500,55000,58000,140000,115000,120000,125000,135000]
[null,null,"Computed Electricity  Capital Expenditure per kW",null,"USD/kW",null,null,null,null,{"$f":"J52-J48","v":7800},{"$f":"K52-K48","v":6000},6100,6750,7400,12600,8700,11000,9550,11900,22300,13300,17700,15200,20100,51800,42900,44800,49600,51800,15500,10600,12500,15900,11600,21700,18500,19400,20200,20900,22100,57400,48300,51700,53200,56100,137200,113000,118000,123000,132900]
[]
[null,null,"Total Capital Expenditure per kW - Sum",null,"USD/kW",null,null,null,null,{"$f":"J47+J48","v":16700},{"$f":"K47+K48","v":9000},10900,11650,15100,28400,19800,22000,21250,22600,44700,34700,37300,36600,38900,58200,46100,48200,51900,50200,31000,22400,27000,28600,24900,36800,28500,30100,31400,32800,35200,55600,43700,47300,48600,51400,63800,50500,53000,55200,58100]
[null,null,"Applied Capital Expenditue per kW",null,"USD/kW",null,null,null,null,{"$f":"J55","v":16700},{"$f":"K55","v":9000},10900,11650,15100,28400,19800,22000,21250,22600,44700,34700,37300,36600,38900,58200,46100,48200,51900,50200,31000,22400,27000,28600,24900,36800,28500,30100,31400,32800,35200,55600,43700,47300,48600,51400,63800,50500,53000,55200,58100]
[]
[null,null,"Capital Expenditures for IT Equipment per  kW",null,"USD/kW",null,null,null,null,{"$f":"TRANSPOSE('Capital Expenditures'!IA4:IA44)","v":3500},2500,3000,3000,3000,14000,11000,11500,11000,11500,26000,21000,22000,21500,23000,35000,29000,30000,31000,30500,16500,12500,14500,14000,13500,22000,17500,18000,18500,19000,19500,35000,27500,29000,30000,31000,43000,34500,35500,37000,38500]
[]
[null,null,"Capital Expenditures for IT Equipment per  kW - Low",null,"USD/kW",null,null,null,null,{"$f":"TRANSPOSE('Capital Expenditures'!IX4:IX44)","v":1800},800,1000,1200,1500,12500,6000,9000,9500,8500,32000,18000,25000,24000,22000,40000,26000,30000,28000,35000,14000,5000,11000,10000,7500,16000,11000,12500,13000,13500,14000,35000,24000,28000,27000,30000,48000,32000,36000,35000,40000]
[null,null,"Total Electric Capital Expenditures per kW - Summary",null,"USD/kW",null,null,null,null,{"$f":"TRANSPOSE('Capital Expenditures'!IB4:IB44)","v":5000},3000,3500,3700,4000,6000,4500,4800,4800,5000,8500,6500,7000,6800,7200,11000,8500,9000,9500,10500,6000,4500,5200,5200,4800,6500,5000,5200,5400,5700,6000,9500,8000,8500,8800,9000,10000,8000,8000,8700,9000]
[null,null,"Total Electric Capital Expenditures per kW - Low",null,"USD/kW",null,null,null,null,{"$f":"TRANSPOSE('Capital Expenditures'!IT4:IT44)","v":4500},2500,2800,3200,3800,5200,3500,4000,4200,4600,5800,4200,4400,4600,4800,6200,4600,4800,5500,5800,4800,3200,4200,4600,3600,1600,1100,1200,1300,1400,1700,2200,1600,1800,1700,2400,2600,1800,1900,2000,2800]
[]
[null,null,"Alt Electric Capital Expenditures per kW - High",null,"USD/kW",null,null,null,null,{"$f":"TRANSPOSE('Capital Expenditures'!IU4:IU44)","v":8000},4600,4200,5400,7200,9500,6200,7400,7800,8400,10500,7500,7800,8200,8800,11500,8200,8500,10000,10800,8800,5800,7500,8200,6200,3000,2000,2200,2500,2700,3200,4200,3000,3500,3200,4500,5200,3500,3800,4000,5800]
[null,null,"Alt Electric Capital Expenditures per kW - Low",null,"USD/kW",null,null,null,null,{"$f":"TRANSPOSE('Capital Expenditures'!IV4:IV44)","v":6500},3800,4200,4500,5800,7800,5200,6000,6400,6800,8500,6200,6500,6800,7200,9500,6800,7000,8200,8800,7200,4800,6200,6800,5200,2400,1600,1800,2000,2200,2600,3400,2400,2800,2600,3600,4200,2800,3000,3200,4400]
[]
[null,null,"Captial Expenditures for Replacement",null,"USD/kW",null,null,null,null,{"$f":"TRANSPOSE('Capital Expenditures'!JD4:JD44)","v":185},75,90,110,145,410,215,295,260,340,880,540,620,590,70,1450,920,980,1120,1280,1150,740,820,960,790,680,390,440,510,560,610,1950,1250,1400,1480,1620,2800,1850,1980,2200,2450]
[null,null,"Percent of Capital Expenditures - Replacement",null,"USD/kW",null,null,null,null,{"$f":"TRANSPOSE('Capital Expenditures'!JC4:JC44)","v":0.12},0.05,0.06,0.08,0.1,0.24,0.14000000000000001,0.18,0.16,0.2,0.42,0.28000000000000003,0.32,0.3,0.35,0.55000000000000004,0.38,0.4,0.44,0.48,0.48,0.32,0.36,0.42,0.34,0.3,0.18,0.22,0.25,0.26,0.28000000000000003,0.65,0.45,0.5,0.52,0.56000000000000005,0.82,0.6,0.64,0.68,0.72]
[null,null,"Implied Total Capital Expenditures for Electricity",null,"USD/kW",null,null,null,null,{"$f":"J67/J68","v":1541.6666666666667},{"$f":"K67/K68","v":1500},1500,1375,1450,1708.3333333333335,1535.7142857142856,1638.8888888888889,1625,1700,2095.2380952380954,1928.5714285714284,1937.5,1966.6666666666667,200,2636.363636363636,2421.0526315789475,2450,2545.4545454545455,2666.666666666667,2395.8333333333335,2312.5,2277.7777777777778,2285.7142857142858,2323.5294117647059,2266.666666666667,2166.666666666667,2000,2040,2153.8461538461538,2178.5714285714284,3000,2777.7777777777778,2800,2846.1538461538462,2892.8571428571427,3414.6341463414637,3083.3333333333335,3093.75,3235.2941176470586,3402.7777777777778]
[]
[null,"Break Down of Electic and Mechanical Cost"]
[null,null,{"$f":"TRANSPOSE('Capital Expenditures'!IG3:IR3)","v":"Total Electric Cost"},null,"USD/kW",null,null,null,null,{"$f":"TRANSPOSE('Capital Expenditures'!IG4:IR44)","v":5000},3000,3500,3500,4000,0,0,0,0,0,0,0,0,0,0,11000,8500,9000,9500,10500,6000,4500,5200,5500,4800,6500,5000,5200,5400,5700,6000,9500,8000,8500,8800,9000,0,0,0,0,0]
[null,null,"Total Mechanical Cost",null,"USD/kW",null,null,null,null,6000,2500,3000,3000,4500,0,0,0,0,0,0,0,0,0,0,9000,6500,7000,9000,7000,6000,4000,5800,7500,5200,6000,4500,5300,5900,6500,8000,8500,6500,8000,8000,9500,0,0,0,0,0]
[null,null,"Back-up Generators",null,"USD/kW",null,null,null,null,1800,1100,1300,1300,1450,0,0,0,0,0,0,0,0,0,0,3400,2700,2850,3000,2500,2000,1550,1750,1850,1600,2200,1700,1750,1800,1900,2000,3000,2550,2700,2800,2850,0,0,0,0,0]
[null,null,"Universal Power Supply",null,"USD/kW",null,null,null,null,1500,900,1050,1050,1200,0,0,0,0,0,0,0,0,0,0,3000,2300,2450,2600,4100,1700,1250,1450,1550,1350,1800,1400,1450,1500,1600,1700,2650,2250,2400,2450,2500,0,0,0,0,0]
[null,null,"Transmission Step Down",null,"USD/kW",null,null,null,null,700,400,450,450,550,0,0,0,0,0,0,0,0,0,0,1800,1400,1500,1600,1700,850,600,700,750,650,900,700,700,750,800,850,1450,1200,1300,1350,1400,0,0,0,0,0]
[null,null,"Switchgear/Dense Busway Distribution",null,"USD/kW",null,null,null,null,1000,600,700,700,800,0,0,0,0,0,0,0,0,0,0,2800,2100,2200,2300,2200,1450,1100,1300,1350,1200,1600,1200,1300,1350,1400,1450,2400,2000,2100,2200,2250,0,0,0,0,0]
[null,null,"Chillers",null,"USD/kW",null,null,null,null,2800,1000,0,0,2400,0,0,0,0,0,0,0,0,0,0,3000,2000,0,2500,2200,2200,1400,1800,2000,0,2300,1600,1800,1900,2100,2200,3000,2200,2400,2500,2600,0,0,0,0,0]
[null,null,"CRAH",null,"USD/kW",null,null,null,null,1500,700,1800,1800,1000,0,0,0,0,0,0,0,0,0,0,0,0,0,0,0,0,0,0,0,0,0,0,0,0,0,0,0,0,0,0,0,0,0,0,0,0]
[null,null,"CDU",null,null,null,null,null,null,1700,800,1200,1200,1100,0,0,0,0,0,0,0,0,0,0,0,0,0,0,0,0,0,0,0,0,0,0,0,0,0,0,0,0,0,0,0,0,0,0,0,0]
[null,null,"Piping/Liq Loop/Adiabatic Dry Fluid Coolers/Dense Secondary Loops",null,"USD/kW",null,null,null,null,0,0,0,0,0,0,0,0,0,0,0,0,0,0,0,3400,2500,3800,0,0,2000,1300,0,3800,3400,2100,1500,0,0,0,0,3400,2600,0,0,0,0,0,0,0,0]
[null,null,"In Chassis CDU/Dielectric Fluid Pumps and Loops",null,"USD/kW",null,null,null,null,0,0,0,0,0,0,0,0,0,0,0,0,0,0,0,0,0,0,3900,2800,0,0,2500,0,0,0,0,2100,2400,2800,4100,0,0,3800,3700,4900,0,0,0,0,0]
[null,null,"Other - Loops, CDUs and Mechanical Sheel",null,"USD/kW",null,null,null,null,0,0,0,0,0,0,0,0,0,0,0,0,0,0,0,2600,2000,3200,2600,2000,1800,1300,1500,1700,1800,1600,1400,1400,1600,1600,1700,2100,1700,1800,1800,2000,0,0,0,0,0]
[]
[]
[null,null,"Electrical Cost Check",null,"USD/kW",null,null,null,null,{"$f":"J74+J75+J76+J77","v":5000},{"$f":"K74+K75+K76+K77","v":3000},3500,3500,4000,0,0,0,0,0,0,0,0,0,0,11000,8500,9000,9500,10500,6000,4500,5200,5500,4800,6500,5000,5200,5400,5700,6000,9500,8000,8500,8800,9000,0,0,0,0,0]
[null,null,"Mechanical Cost Check",null,"USD/kW",null,null,null,null,{"$f":"J79+J80+J81+J82+J83+J78","v":6000},{"$f":"K79+K80+K81+K82+K83+K78","v":2500},3000,3000,4500,0,0,0,0,0,0,0,0,0,0,9000,6500,7000,9000,7000,6000,4000,5800,7500,5200,6000,4500,5300,5900,6500,8000,8500,6500,8000,8000,9500,0,0,0,0,0]
[]
[null,null,"Electrical Test",null,null,null,null,null,null,{"$f":"J86=J72","v":true},{"$f":"K86=K72","v":true},true,true,true,true,true,true,true,true,true,true,true,true,true,true,true,true,true,true,true,true,true,true,true,true,true,true,true,true,true,true,true,true,true,true,true,true,true,true,true]
[null,null,"Mechanical Test",null,null,null,null,null,null,{"$f":"J87=J73","v":true},{"$f":"K87=K73","v":true},true,true,true,true,true,true,true,true,true,true,true,true,true,true,true,true,true,true,true,true,true,true,true,true,true,true,true,true,true,true,true,true,true,true,true,true,true,true,true]
[]
[null,"Other Inputs"]
[null,null,"Replacement Months - Low",null,"Months",null,null,null,null,{"$f":"TRANSPOSE('Capital Expenditures'!IZ4:IZ44)","v":60},36,48,48,60,36,24,42,36,48,30,24,36,30,36,24,18,30,36,24,36,24,42,48,30,48,36,36,42,48,36,24,30,26,26,28,30,20,36,30,24]
[null,null,"Replacement Months - High",null,"Months",null,null,null,null,{"$f":"TRANSPOSE('Capital Expenditures'!IY4:IY44)","v":84},48,60,72,72,48,36,54,48,60,36,30,42,36,48,30,24,36,48,36,48,36,54,60,42,60,42,48,54,60,49,24,30,26,26,28,36,26,42,36,32]
[null,null,"Replacement Months - Average",null,"Months",null,null,null,null,{"$f":"ROUND(AVERAGE(J93:J94),0)","v":72},{"$f":"ROUND(AVERAGE(K93:K94),0)","v":42},54,60,66,42,30,48,42,54,33,27,39,33,42,27,21,33,42,30,42,30,48,54,36,54,39,42,48,54,43,24,30,26,26,28,33,23,39,33,28]
[]
[null,null,"MM Token per kW per Month - Prompt 1 - High token Case",null,"MM Tokens per kW Month",null,null,null,null,{"$f":"TRANSPOSE('Token per kW'!DF3:DF43)","v":5.0000000000000001E-3},1.2E-2,6.0000000000000001E-3,1.7999999999999999E-2,2.5000000000000001E-2,0.85,1.95,3.4,3.85,2.9,12.5,26,42.5,45,34.5,95,185,210,245,260,150,310,415,480,365,48,92,62,84,115,138,380,740,890,980,1120,2400,4600,5100,5800,6500]
[null,null,"MM Token per kW per Month - Prompt 2 - Low token Case 1",null,"MM Tokens per kW Month",null,null,null,null,{"$f":"TRANSPOSE('Token per kW'!DI3:DI43)","v":0.02},0.04,0.03,0.04,0.04,1.2,1.5,1.8,1.7,1.6,4.5,5.5,6.2,6,5.2,8.5,11,10.5,12,10,14,18.5,22,24.5,16,3.8,4.8,4,4.4000000000000004,5,5.4,18,23,21.5,22.5,24.5,32,41,38,40,44]
[null,null,"MM Token per kW per Month - Prompt 2 - Low token Case 2",null,"MM Tokens per kW Month",null,null,null,null,{"$f":"TRANSPOSE('Token per kW'!DJ3:DJ43)","v":0.05},0.08,0.06,7.0000000000000007E-2,0.08,2.5,3.2,3.8,3.6,3.4,9.5,11.5,13,12.5,11,18,22.5,21,24.5,21.5,30,38,45,50,34,8,10.199999999999999,8.5,9.1999999999999993,10.5,11.2,38,48,45,47,51,68,85,80,83,92]
[null,null,"MM Token per kW per Month - Prompt 3 -  Medium Token Case",null,"MM Tokens per kW Month",null,null,null,null,{"$f":"TRANSPOSE(Sheet1!C2:C42)","v":3.51},6.73,4.0999999999999996,4.91,5.73,8.42,16.149999999999999,20.2,18.52,14.73,18.72,35.880000000000003,44.88,41.14,32.729999999999997,46.8,89.7,98.67,112.13,119.6,65.52,125.58,156.97999999999999,178.43,131.04,31.2,59.8,40.299999999999997,54.6,74.8,89.7,109.2,209.3,245.7,261.8,313.95,327.60000000000002,627.9,700.7,785.4,941.85]
[]
[null,null,{"$f":"INDEX(C97:C100,$F$102)","v":"MM Token per kW per Month - Prompt 1 - High token Case"},null,{"$f":"INDEX(E97:E100,$F$102)","v":"MM Tokens per kW Month"},{"$f":"'Misc Forms'!V10","v":1},null,null,null,{"$f":"INDEX(J97:J100,$F$102)","v":5.0000000000000001E-3},{"$f":"INDEX(K97:K100,$F$102)","v":1.2E-2},{"$f":"INDEX(L97:L100,$F$102)","v":6.0000000000000001E-3},{"$f":"INDEX(M97:M100,$F$102)","v":1.7999999999999999E-2},{"$f":"INDEX(N97:N100,$F$102)","v":2.5000000000000001E-2},{"$f":"INDEX(O97:O100,$F$102)","v":0.85},{"$f":"INDEX(P97:P100,$F$102)","v":1.95},{"$f":"INDEX(Q97:Q100,$F$102)","v":3.4},{"$f":"INDEX(R97:R100,$F$102)","v":3.85},{"$f":"INDEX(S97:S100,$F$102)","v":2.9},{"$f":"INDEX(T97:T100,$F$102)","v":12.5},{"$f":"INDEX(U97:U100,$F$102)","v":26},{"$f":"INDEX(V97:V100,$F$102)","v":42.5},{"$f":"INDEX(W97:W100,$F$102)","v":45},{"$f":"INDEX(X97:X100,$F$102)","v":34.5},{"$f":"INDEX(Y97:Y100,$F$102)","v":95},{"$f":"INDEX(Z97:Z100,$F$102)","v":185},{"$f":"INDEX(AA97:AA100,$F$102)","v":210},{"$f":"INDEX(AB97:AB100,$F$102)","v":245},{"$f":"INDEX(AC97:AC100,$F$102)","v":260},{"$f":"INDEX(AD97:AD100,$F$102)","v":150},{"$f":"INDEX(AE97:AE100,$F$102)","v":310},{"$f":"INDEX(AF97:AF100,$F$102)","v":415},{"$f":"INDEX(AG97:AG100,$F$102)","v":480},{"$f":"INDEX(AH97:AH100,$F$102)","v":365},{"$f":"INDEX(AI97:AI100,$F$102)","v":48},{"$f":"INDEX(AJ97:AJ100,$F$102)","v":92},{"$f":"INDEX(AK97:AK100,$F$102)","v":62},{"$f":"INDEX(AL97:AL100,$F$102)","v":84},{"$f":"INDEX(AM97:AM100,$F$102)","v":115},{"$f":"INDEX(AN97:AN100,$F$102)","v":138},{"$f":"INDEX(AO97:AO100,$F$102)","v":380},{"$f":"INDEX(AP97:AP100,$F$102)","v":740},{"$f":"INDEX(AQ97:AQ100,$F$102)","v":890},{"$f":"INDEX(AR97:AR100,$F$102)","v":980},{"$f":"INDEX(AS97:AS100,$F$102)","v":1120},{"$f":"INDEX(AT97:AT100,$F$102)","v":2400},{"$f":"INDEX(AU97:AU100,$F$102)","v":4600},{"$f":"INDEX(AV97:AV100,$F$102)","v":5100},{"$f":"INDEX(AW97:AW100,$F$102)","v":5800},{"$f":"INDEX(AX97:AX100,$F$102)","v":6500}]
[]
[null,null,"Active GPU per MW-month",null,"GPU/MW",null,null,null,null,{"$f":"TRANSPOSE(Sheet1!I2:I42)","v":680},990,790,890,950,920,1100,1190,1140,1060,1020,1210,1240,1230,1140,670,760,770,790,790,830,950,970,980,930,990,1190,1060,1140,1240,1280,620,740,760,770,790,430,510,520,530,540]
[]
[]
[null,null,"Chemical Tons per 100 kW",null,"Tons/100 kW",null,null,null,null,{"$f":"TRANSPOSE('Capital Expenditures'!JB4:JB44)","v":140},110,45,95,220,340,280,410,180,290,620,510,740,480,580,1850,1400,1650,2100,880,0,0,0,0,0,580,460,240,510,720,850,1250,980,1100,1320,1480,2100,1650,1400,2400,2850]
[null,null,"Chemical Cost per Ton",null,"USD/Ton",null,null,null,null,{"$f":"TRANSPOSE('Capital Expenditures'!JA4:JA44)","v":4500},2200,1800,2400,3800,12500,5500,14000,16500,9200,38000,18500,32000,35000,24000,140000,65000,110000,165000,45000,0,0,0,0,0,35000,16000,12000,26000,34000,88000,95000,48000,78000,85000,145000,180000,88000,55000,160000,230000]
[]
[null,null,"Benchmark Price",null,"USD/MMToken",null,null,null,null,{"$f":"TRANSPOSE(Sheet1!G2:G42)","v":0.68},0.99,0.79,0.89,0.95,0.92,1.1000000000000001,1.19,1.1399999999999999,1.06,1.02,1.21,1.24,1.23,1.1399999999999999,0.67,0.76,0.77,0.79,0.79,0.83,0.95,0.97,0.98,0.93,0.99,1.19,1.06,1.1399999999999999,1.24,1.28,0.62,0.74,0.76,0.77,0.79,0.43,0.51,0.52,0.53,0.54]

{"sheet":"FM Monthly","index":7,"n_rows":138,"n_cols":308,"rows_kept":138,"cut":false,"hidden":false,"merged":[]}
["          ",null,null,null,null,null,null,"Price in MW",{"$f":"F35","v":6000},"Target IRR",{"$f":"F129","v":0.09}]
[null,null,null,null,null,null,null,"Price in MM Tokens",{"$f":"Price","v":4.1924498487906989},"IRR",{"$f":"F127","v":0.21555972695350648}]
[]
[null,"Timeline",null,null,"Units","Driver",null,"Sum"]
[null,null,"Period",null,null,null,null,null,{"$f":"_xlfn.SEQUENCE(,300)","v":1},2,3,4,5,6,7,8,9,10,11,12,13,14,15,16,17,18,19,20,21,22,23,24,25,26,27,28,29,30,31,32,33,34,35,36,37,38,39,40,41,42,43,44,45,46,47,48,49,50,51,52,53,54,55,56,57,58,59,60,61,62,63,64,65,66,67,68,69,70,71,72,73,74,75,76,77,78,79,80,81,82,83,84,85,86,87,88,89,90,91,92,93,94,95,96,97,98,99,100,101,102,103,104,105,106,107,108,109,110,111,112,113,114,115,116,117,118,119,120,121,122,123,124,125,126,127,128,129,130,131,132,133,134,135,136,137,138,139,140,141,142,143,144,145,146,147,148,149,150,151,152,153,154,155,156,157,158,159,160,161,162,163,164,165,166,167,168,169,170,171,172,173,174,175,176,177,178,179,180,181,182,183,184,185,186,187,188,189,190,191,192,193,194,195,196,197,198,199,200,201,202,203,204,205,206,207,208,209,210,211,212,213,214,215,216,217,218,219,220,221,222,223,224,225,226,227,228,229,230,231,232,233,234,235,236,237,238,239,240,241,242,243,244,245,246,247,248,249,250,251,252,253,254,255,256,257,258,259,260,261,262,263,264,265,266,267,268,269,270,271,272,273,274,275,276,277,278,279,280,281,282,283,284,285,286,287,288,289,290,291,292,293,294,295,296,297,298,299,300]
[null,null,"Construction Periods",null,"Flag",{"$f":"InputC!G7","v":8},null,{"$f":"SUM(I6:KV6)","v":8},{"$f":"(I5<=$F$6)*1","v":1},{"$f":"(J5<=$F$6)*1","v":1},1,1,1,1,1,1,0,0,0,0,0,0,0,0,0,0,0,0,0,0,0,0,0,0,0,0,0,0,0,0,0,0,0,0,0,0,0,0,0,0,0,0,0,0,0,0,0,0,0,0,0,0,0,0,0,0,0,0,0,0,0,0,0,{"$f":"(BV5<=$F$6)*1","v":0},0,0,0,0,0,0,0,0,0,0,0,0,0,0,0,0,0,0,0,0,0,0,0,0,0,0,0,0,0,0,0,0,0,0,0,0,0,0,0,0,0,0,0,0,0,0,0,0,0,0,0,0,0,0,0,0,0,0,0,0,0,0,0,{"$f":"(EH5<=$F$6)*1","v":0},0,0,0,0,0,0,0,0,0,0,0,0,0,0,0,0,0,0,0,0,0,0,0,0,0,0,0,0,0,0,0,0,0,0,0,0,0,0,0,0,0,0,0,0,0,0,0,0,0,0,0,0,0,0,0,0,0,0,0,0,0,0,0,{"$f":"(GT5<=$F$6)*1","v":0},0,0,0,0,0,0,0,0,0,0,0,0,0,0,0,0,0,0,0,0,0,0,0,0,0,0,0,0,0,0,0,0,0,0,0,0,0,0,0,0,0,0,0,0,0,0,0,0,0,0,0,0,0,0,0,0,0,0,0,0,0,0,0,{"$f":"(JF5<=$F$6)*1","v":0},0,0,0,0,0,0,0,0,0,0,0,0,0,0,0,0,0,0,0,0,0,0,0,0,0,0,0,0,0,0,0,0,0,0,0,0,0,0,0,0,0,0]
[null,null,"Start of the period",null,"Date",null,null,null,{"$f":"H8+1","v":"2027-01-01"},{"$f":"I8+1","v":"2027-02-01"},"2027-03-01","2027-04-01","2027-05-01","2027-06-01","2027-07-01","2027-08-01","2027-09-01","2027-10-01","2027-11-01","2027-12-01","2028-01-01","2028-02-01","2028-03-01","2028-04-01","2028-05-01","2028-06-01","2028-07-01","2028-08-01","2028-09-01","2028-10-01","2028-11-01","2028-12-01","2029-01-01","2029-02-01","2029-03-01","2029-04-01","2029-05-01","2029-06-01","2029-07-01","2029-08-01","2029-09-01","2029-10-01","2029-11-01","2029-12-01","2030-01-01","2030-02-01","2030-03-01","2030-04-01","2030-05-01","2030-06-01","2030-07-01","2030-08-01","2030-09-01","2030-10-01","2030-11-01","2030-12-01","2031-01-01","2031-02-01","2031-03-01","2031-04-01","2031-05-01","2031-06-01","2031-07-01","2031-08-01","2031-09-01","2031-10-01","2031-11-01","2031-12-01","2032-01-01","2032-02-01","2032-03-01","2032-04-01","2032-05-01",{"$f":"BU8+1","v":"2032-06-01"},"2032-07-01","2032-08-01","2032-09-01","2032-10-01","2032-11-01","2032-12-01","2033-01-01","2033-02-01","2033-03-01","2033-04-01","2033-05-01","2033-06-01","2033-07-01","2033-08-01","2033-09-01","2033-10-01","2033-11-01","2033-12-01","2034-01-01","2034-02-01","2034-03-01","2034-04-01","2034-05-01","2034-06-01","2034-07-01","2034-08-01","2034-09-01","2034-10-01","2034-11-01","2034-12-01","2035-01-01","2035-02-01","2035-03-01","2035-04-01","2035-05-01","2035-06-01","2035-07-01","2035-08-01","2035-09-01","2035-10-01","2035-11-01","2035-12-01","2036-01-01","2036-02-01","2036-03-01","2036-04-01","2036-05-01","2036-06-01","2036-07-01","2036-08-01","2036-09-01","2036-10-01","2036-11-01","2036-12-01","2037-01-01","2037-02-01","2037-03-01","2037-04-01","2037-05-01","2037-06-01","2037-07-01","2037-08-01","2037-09-01",{"$f":"EG8+1","v":"2037-10-01"},"2037-11-01","2037-12-01","2038-01-01","2038-02-01","2038-03-01","2038-04-01","2038-05-01","2038-06-01","2038-07-01","2038-08-01","2038-09-01","2038-10-01","2038-11-01","2038-12-01","2039-01-01","2039-02-01","2039-03-01","2039-04-01","2039-05-01","2039-06-01","2039-07-01","2039-08-01","2039-09-01","2039-10-01","2039-11-01","2039-12-01","2040-01-01","2040-02-01","2040-03-01","2040-04-01","2040-05-01","2040-06-01","2040-07-01","2040-08-01","2040-09-01","2040-10-01","2040-11-01","2040-12-01","2041-01-01","2041-02-01","2041-03-01","2041-04-01","2041-05-01","2041-06-01","2041-07-01","2041-08-01","2041-09-01","2041-10-01","2041-11-01","2041-12-01","2042-01-01","2042-02-01","2042-03-01","2042-04-01","2042-05-01","2042-06-01","2042-07-01","2042-08-01","2042-09-01","2042-10-01","2042-11-01","2042-12-01","2043-01-01",{"$f":"GS8+1","v":"2043-02-01"},"2043-03-01","2043-04-01","2043-05-01","2043-06-01","2043-07-01","2043-08-01","2043-09-01","2043-10-01","2043-11-01","2043-12-01","2044-01-01","2044-02-01","2044-03-01","2044-04-01","2044-05-01","2044-06-01","2044-07-01","2044-08-01","2044-09-01","2044-10-01","2044-11-01","2044-12-01","2045-01-01","2045-02-01","2045-03-01","2045-04-01","2045-05-01","2045-06-01","2045-07-01","2045-08-01","2045-09-01","2045-10-01","2045-11-01","2045-12-01","2046-01-01","2046-02-01","2046-03-01","2046-04-01","2046-05-01","2046-06-01","2046-07-01","2046-08-01","2046-09-01","2046-10-01","2046-11-01","2046-12-01","2047-01-01","2047-02-01","2047-03-01","2047-04-01","2047-05-01","2047-06-01","2047-07-01","2047-08-01","2047-09-01","2047-10-01","2047-11-01","2047-12-01","2048-01-01","2048-02-01","2048-03-01","2048-04-01","2048-05-01",{"$f":"JE8+1","v":"2048-06-01"},"2048-07-01","2048-08-01","2048-09-01","2048-10-01","2048-11-01","2048-12-01","2049-01-01","2049-02-01","2049-03-01","2049-04-01","2049-05-01","2049-06-01","2049-07-01","2049-08-01","2049-09-01","2049-10-01","2049-11-01","2049-12-01","2050-01-01","2050-02-01","2050-03-01","2050-04-01","2050-05-01","2050-06-01","2050-07-01","2050-08-01","2050-09-01","2050-10-01","2050-11-01","2050-12-01","2051-01-01","2051-02-01","2051-03-01","2051-04-01","2051-05-01","2051-06-01","2051-07-01","2051-08-01","2051-09-01","2051-10-01","2051-11-01","2051-12-01"]
[null,null,"End of the period",null,"Date",null,null,{"$f":"InputC!G6-1","v":"2026-12-31"},{"$f":"EOMONTH(I7,0)","v":"2027-01-31"},{"$f":"EOMONTH(J7,0)","v":"2027-02-28"},"2027-03-31","2027-04-30","2027-05-31","2027-06-30","2027-07-31","2027-08-31","2027-09-30","2027-10-31","2027-11-30","2027-12-31","2028-01-31","2028-02-29","2028-03-31","2028-04-30","2028-05-31","2028-06-30","2028-07-31","2028-08-31","2028-09-30","2028-10-31","2028-11-30","2028-12-31","2029-01-31","2029-02-28","2029-03-31","2029-04-30","2029-05-31","2029-06-30","2029-07-31","2029-08-31","2029-09-30","2029-10-31","2029-11-30","2029-12-31","2030-01-31","2030-02-28","2030-03-31","2030-04-30","2030-05-31","2030-06-30","2030-07-31","2030-08-31","2030-09-30","2030-10-31","2030-11-30","2030-12-31","2031-01-31","2031-02-28","2031-03-31","2031-04-30","2031-05-31","2031-06-30","2031-07-31","2031-08-31","2031-09-30","2031-10-31","2031-11-30","2031-12-31","2032-01-31","2032-02-29","2032-03-31","2032-04-30","2032-05-31",{"$f":"EOMONTH(BV7,0)","v":"2032-06-30"},"2032-07-31","2032-08-31","2032-09-30","2032-10-31","2032-11-30","2032-12-31","2033-01-31","2033-02-28","2033-03-31","2033-04-30","2033-05-31","2033-06-30","2033-07-31","2033-08-31","2033-09-30","2033-10-31","2033-11-30","2033-12-31","2034-01-31","2034-02-28","2034-03-31","2034-04-30","2034-05-31","2034-06-30","2034-07-31","2034-08-31","2034-09-30","2034-10-31","2034-11-30","2034-12-31","2035-01-31","2035-02-28","2035-03-31","2035-04-30","2035-05-31","2035-06-30","2035-07-31","2035-08-31","2035-09-30","2035-10-31","2035-11-30","2035-12-31","2036-01-31","2036-02-29","2036-03-31","2036-04-30","2036-05-31","2036-06-30","2036-07-31","2036-08-31","2036-09-30","2036-10-31","2036-11-30","2036-12-31","2037-01-31","2037-02-28","2037-03-31","2037-04-30","2037-05-31","2037-06-30","2037-07-31","2037-08-31","2037-09-30",{"$f":"EOMONTH(EH7,0)","v":"2037-10-31"},"2037-11-30","2037-12-31","2038-01-31","2038-02-28","2038-03-31","2038-04-30","2038-05-31","2038-06-30","2038-07-31","2038-08-31","2038-09-30","2038-10-31","2038-11-30","2038-12-31","2039-01-31","2039-02-28","2039-03-31","2039-04-30","2039-05-31","2039-06-30","2039-07-31","2039-08-31","2039-09-30","2039-10-31","2039-11-30","2039-12-31","2040-01-31","2040-02-29","2040-03-31","2040-04-30","2040-05-31","2040-06-30","2040-07-31","2040-08-31","2040-09-30","2040-10-31","2040-11-30","2040-12-31","2041-01-31","2041-02-28","2041-03-31","2041-04-30","2041-05-31","2041-06-30","2041-07-31","2041-08-31","2041-09-30","2041-10-31","2041-11-30","2041-12-31","2042-01-31","2042-02-28","2042-03-31","2042-04-30","2042-05-31","2042-06-30","2042-07-31","2042-08-31","2042-09-30","2042-10-31","2042-11-30","2042-12-31","2043-01-31",{"$f":"EOMONTH(GT7,0)","v":"2043-02-28"},"2043-03-31","2043-04-30","2043-05-31","2043-06-30","2043-07-31","2043-08-31","2043-09-30","2043-10-31","2043-11-30","2043-12-31","2044-01-31","2044-02-29","2044-03-31","2044-04-30","2044-05-31","2044-06-30","2044-07-31","2044-08-31","2044-09-30","2044-10-31","2044-11-30","2044-12-31","2045-01-31","2045-02-28","2045-03-31","2045-04-30","2045-05-31","2045-06-30","2045-07-31","2045-08-31","2045-09-30","2045-10-31","2045-11-30","2045-12-31","2046-01-31","2046-02-28","2046-03-31","2046-04-30","2046-05-31","2046-06-30","2046-07-31","2046-08-31","2046-09-30","2046-10-31","2046-11-30","2046-12-31","2047-01-31","2047-02-28","2047-03-31","2047-04-30","2047-05-31","2047-06-30","2047-07-31","2047-08-31","2047-09-30","2047-10-31","2047-11-30","2047-12-31","2048-01-31","2048-02-29","2048-03-31","2048-04-30","2048-05-31",{"$f":"EOMONTH(JF7,0)","v":"2048-06-30"},"2048-07-31","2048-08-31","2048-09-30","2048-10-31","2048-11-30","2048-12-31","2049-01-31","2049-02-28","2049-03-31","2049-04-30","2049-05-31","2049-06-30","2049-07-31","2049-08-31","2049-09-30","2049-10-31","2049-11-30","2049-12-31","2050-01-31","2050-02-28","2050-03-31","2050-04-30","2050-05-31","2050-06-30","2050-07-31","2050-08-31","2050-09-30","2050-10-31","2050-11-30","2050-12-31","2051-01-31","2051-02-28","2051-03-31","2051-04-30","2051-05-31","2051-06-30","2051-07-31","2051-08-31","2051-09-30","2051-10-31","2051-11-30","2051-12-31"]
[null,null,"Operation period",null,"Flag",{"$f":"InputC!G8","v":"2027-09-01"},{"$f":"InputC!G10","v":"2033-09-30"},{"$f":"SUM(I9:KV9)","v":72},{"$f":"(AND(I7>=$F$9,I8<$G$9))*1","v":0},{"$f":"(AND(J7>=$F$9,J8<$G$9))*1","v":0},0,0,0,0,0,0,1,1,1,1,1,1,1,1,1,1,1,1,1,1,1,1,1,1,1,1,1,1,1,1,1,1,1,1,1,1,1,1,1,1,1,1,1,1,1,1,1,1,1,1,1,1,1,1,1,1,1,1,1,1,1,1,1,{"$f":"(AND(BV7>=$F$9,BV8<$G$9))*1","v":1},1,1,1,1,1,1,1,1,1,1,1,1,1,1,0,0,0,0,0,0,0,0,0,0,0,0,0,0,0,0,0,0,0,0,0,0,0,0,0,0,0,0,0,0,0,0,0,0,0,0,0,0,0,0,0,0,0,0,0,0,0,0,0,{"$f":"(AND(EH7>=$F$9,EH8<$G$9))*1","v":0},0,0,0,0,0,0,0,0,0,0,0,0,0,0,0,0,0,0,0,0,0,0,0,0,0,0,0,0,0,0,0,0,0,0,0,0,0,0,0,0,0,0,0,0,0,0,0,0,0,0,0,0,0,0,0,0,0,0,0,0,0,0,0,{"$f":"(AND(GT7>=$F$9,GT8<$G$9))*1","v":0},0,0,0,0,0,0,0,0,0,0,0,0,0,0,0,0,0,0,0,0,0,0,0,0,0,0,0,0,0,0,0,0,0,0,0,0,0,0,0,0,0,0,0,0,0,0,0,0,0,0,0,0,0,0,0,0,0,0,0,0,0,0,0,{"$f":"(AND(JF7>=$F$9,JF8<$G$9))*1","v":0},0,0,0,0,0,0,0,0,0,0,0,0,0,0,0,0,0,0,0,0,0,0,0,0,0,0,0,0,0,0,0,0,0,0,0,0,0,0,0,0,0,0]
[null,null,"Year",null,"Year",null,null,null,{"$f":"YEAR(I8)","v":2027},{"$f":"YEAR(J8)","v":2027},2027,2027,2027,2027,2027,2027,2027,2027,2027,2027,2028,2028,2028,2028,2028,2028,2028,2028,2028,2028,2028,2028,2029,2029,2029,2029,2029,2029,2029,2029,2029,2029,2029,2029,2030,2030,2030,2030,2030,2030,2030,2030,2030,2030,2030,2030,2031,2031,2031,2031,2031,2031,2031,2031,2031,2031,2031,2031,2032,2032,2032,2032,2032,{"$f":"YEAR(BV8)","v":2032},2032,2032,2032,2032,2032,2032,2033,2033,2033,2033,2033,2033,2033,2033,2033,2033,2033,2033,2034,2034,2034,2034,2034,2034,2034,2034,2034,2034,2034,2034,2035,2035,2035,2035,2035,2035,2035,2035,2035,2035,2035,2035,2036,2036,2036,2036,2036,2036,2036,2036,2036,2036,2036,2036,2037,2037,2037,2037,2037,2037,2037,2037,2037,{"$f":"YEAR(EH8)","v":2037},2037,2037,2038,2038,2038,2038,2038,2038,2038,2038,2038,2038,2038,2038,2039,2039,2039,2039,2039,2039,2039,2039,2039,2039,2039,2039,2040,2040,2040,2040,2040,2040,2040,2040,2040,2040,2040,2040,2041,2041,2041,2041,2041,2041,2041,2041,2041,2041,2041,2041,2042,2042,2042,2042,2042,2042,2042,2042,2042,2042,2042,2042,2043,{"$f":"YEAR(GT8)","v":2043},2043,2043,2043,2043,2043,2043,2043,2043,2043,2043,2044,2044,2044,2044,2044,2044,2044,2044,2044,2044,2044,2044,2045,2045,2045,2045,2045,2045,2045,2045,2045,2045,2045,2045,2046,2046,2046,2046,2046,2046,2046,2046,2046,2046,2046,2046,2047,2047,2047,2047,2047,2047,2047,2047,2047,2047,2047,2047,2048,2048,2048,2048,2048,{"$f":"YEAR(JF8)","v":2048},2048,2048,2048,2048,2048,2048,2049,2049,2049,2049,2049,2049,2049,2049,2049,2049,2049,2049,2050,2050,2050,2050,2050,2050,2050,2050,2050,2050,2050,2050,2051,2051,2051,2051,2051,2051,2051,2051,2051,2051,2051,2051]
[]
[null,"Operations"]
[]
[null,null,"MW of data center",null,"MW IT",{"$f":"InputC!G14","v":150},null,null,{"$f":"$F$14*I9","v":0},0,0,0,0,0,0,0,150,150,150,150,150,150,150,150,150,150,150,150,150,150,150,150,150,150,150,150,150,150,150,150,150,150,150,150,150,150,150,150,150,150,150,150,150,150,150,150,150,150,150,150,150,150,150,150,150,150,150,150,150,150,150,150,{"$f":"$F$14*BU9","v":150},150,150,150,150,150,150,150,150,150,150,150,150,150,150,150,0,0,0,0,0,0,0,0,0,0,0,0,0,0,0,0,0,0,0,0,0,0,0,0,0,0,0,0,0,0,0,0,0,0,0,0,0,0,0,0,0,0,0,0,0,0,0,0,{"$f":"$F$14*EG9","v":0},0,0,0,0,0,0,0,0,0,0,0,0,0,0,0,0,0,0,0,0,0,0,0,0,0,0,0,0,0,0,0,0,0,0,0,0,0,0,0,0,0,0,0,0,0,0,0,0,0,0,0,0,0,0,0,0,0,0,0,0,0,0,0,{"$f":"$F$14*GS9","v":0},0,0,0,0,0,0,0,0,0,0,0,0,0,0,0,0,0,0,0,0,0,0,0,0,0,0,0,0,0,0,0,0,0,0,0,0,0,0,0,0,0,0,0,0,0,0,0,0,0,0,0,0,0,0,0,0,0,0,0,0,0,0,0,{"$f":"$F$14*JE9","v":0},0,0,0,0,0,0,0,0,0,0,0,0,0,0,0,0,0,0,0,0,0,0,0,0,0,0,0,0,0,0,0,0,0,0,0,0,0,0,0,0,0,0,0]
[null,null,"Number of days",null,"Days",null,null,null,{"$f":"I8-I7+1","v":31},{"$f":"J8-J7+1","v":28},31,30,31,30,31,31,30,31,30,31,31,29,31,30,31,30,31,31,30,31,30,31,31,28,31,30,31,30,31,31,30,31,30,31,31,28,31,30,31,30,31,31,30,31,30,31,31,28,31,30,31,30,31,31,30,31,30,31,31,29,31,30,31,{"$f":"BV8-BV7+1","v":30},31,31,30,31,30,31,31,28,31,30,31,30,31,31,30,31,30,31,31,28,31,30,31,30,31,31,30,31,30,31,31,28,31,30,31,30,31,31,30,31,30,31,31,29,31,30,31,30,31,31,30,31,30,31,31,28,31,30,31,30,31,31,30,{"$f":"EH8-EH7+1","v":31},30,31,31,28,31,30,31,30,31,31,30,31,30,31,31,28,31,30,31,30,31,31,30,31,30,31,31,29,31,30,31,30,31,31,30,31,30,31,31,28,31,30,31,30,31,31,30,31,30,31,31,28,31,30,31,30,31,31,30,31,30,31,31,{"$f":"GT8-GT7+1","v":28},31,30,31,30,31,31,30,31,30,31,31,29,31,30,31,30,31,31,30,31,30,31,31,28,31,30,31,30,31,31,30,31,30,31,31,28,31,30,31,30,31,31,30,31,30,31,31,28,31,30,31,30,31,31,30,31,30,31,31,29,31,30,31,{"$f":"JF8-JF7+1","v":30},31,31,30,31,30,31,31,28,31,30,31,30,31,31,30,31,30,31,31,28,31,30,31,30,31,31,30,31,30,31,31,28,31,30,31,30,31,31,30,31,30,31]
[null,null,"Number of hours",null,"Hours",null,null,null,{"$f":"I15*24","v":744},{"$f":"J15*24","v":672},744,720,744,720,744,744,720,744,720,744,744,696,744,720,744,720,744,744,720,744,720,744,744,672,744,720,744,720,744,744,720,744,720,744,744,672,744,720,744,720,744,744,720,744,720,744,744,672,744,720,744,720,744,744,720,744,720,744,744,696,744,720,744,{"$f":"BV15*24","v":720},744,744,720,744,720,744,744,672,744,720,744,720,744,744,720,744,720,744,744,672,744,720,744,720,744,744,720,744,720,744,744,672,744,720,744,720,744,744,720,744,720,744,744,696,744,720,744,720,744,744,720,744,720,744,744,672,744,720,744,720,744,744,720,{"$f":"EH15*24","v":744},720,744,744,672,744,720,744,720,744,744,720,744,720,744,744,672,744,720,744,720,744,744,720,744,720,744,744,696,744,720,744,720,744,744,720,744,720,744,744,672,744,720,744,720,744,744,720,744,720,744,744,672,744,720,744,720,744,744,720,744,720,744,744,{"$f":"GT15*24","v":672},744,720,744,720,744,744,720,744,720,744,744,696,744,720,744,720,744,744,720,744,720,744,744,672,744,720,744,720,744,744,720,744,720,744,744,672,744,720,744,720,744,744,720,744,720,744,744,672,744,720,744,720,744,744,720,744,720,744,744,696,744,720,744,{"$f":"JF15*24","v":720},744,744,720,744,720,744,744,672,744,720,744,720,744,744,720,744,720,744,744,672,744,720,744,720,744,744,720,744,720,744,744,672,744,720,744,720,744,744,720,744,720,744]
[null,null,"MWh of IT Potential",null,"MWh",null,null,null,{"$f":"I16*I14","v":0},0,0,0,0,0,0,0,108000,111600,108000,111600,111600,104400,111600,108000,111600,108000,111600,111600,108000,111600,108000,111600,111600,100800,111600,108000,111600,108000,111600,111600,108000,111600,108000,111600,111600,100800,111600,108000,111600,108000,111600,111600,108000,111600,108000,111600,111600,100800,111600,108000,111600,108000,111600,111600,108000,111600,108000,111600,111600,104400,111600,108000,{"$f":"BU16*BU14","v":111600},108000,111600,111600,108000,111600,108000,111600,111600,100800,111600,108000,111600,108000,111600,111600,0,0,0,0,0,0,0,0,0,0,0,0,0,0,0,0,0,0,0,0,0,0,0,0,0,0,0,0,0,0,0,0,0,0,0,0,0,0,0,0,0,0,0,0,0,0,0,0,{"$f":"EG16*EG14","v":0},0,0,0,0,0,0,0,0,0,0,0,0,0,0,0,0,0,0,0,0,0,0,0,0,0,0,0,0,0,0,0,0,0,0,0,0,0,0,0,0,0,0,0,0,0,0,0,0,0,0,0,0,0,0,0,0,0,0,0,0,0,0,0,{"$f":"GS16*GS14","v":0},0,0,0,0,0,0,0,0,0,0,0,0,0,0,0,0,0,0,0,0,0,0,0,0,0,0,0,0,0,0,0,0,0,0,0,0,0,0,0,0,0,0,0,0,0,0,0,0,0,0,0,0,0,0,0,0,0,0,0,0,0,0,0,{"$f":"JE16*JE14","v":0},0,0,0,0,0,0,0,0,0,0,0,0,0,0,0,0,0,0,0,0,0,0,0,0,0,0,0,0,0,0,0,0,0,0,0,0,0,0,0,0,0,0,0]
[null,null,"MWh of IT Cooled",null,"MWh IT",{"$f":"InputC!G25","v":0.9},null,{"$f":"SUM(I18:XFD18)","v":7102080},{"$f":"I17*$F$18","v":0},{"$f":"J17*$F$18","v":0},0,0,0,0,0,0,97200,100440,97200,100440,100440,93960,100440,97200,100440,97200,100440,100440,97200,100440,97200,100440,100440,90720,100440,97200,100440,97200,100440,100440,97200,100440,97200,100440,100440,90720,100440,97200,100440,97200,100440,100440,97200,100440,97200,100440,100440,90720,100440,97200,100440,97200,100440,100440,97200,100440,97200,100440,100440,93960,100440,97200,100440,{"$f":"BV17*$F$18","v":97200},100440,100440,97200,100440,97200,100440,100440,90720,100440,97200,100440,97200,100440,100440,0,0,0,0,0,0,0,0,0,0,0,0,0,0,0,0,0,0,0,0,0,0,0,0,0,0,0,0,0,0,0,0,0,0,0,0,0,0,0,0,0,0,0,0,0,0,0,0,0,{"$f":"EH17*$F$18","v":0},0,0,0,0,0,0,0,0,0,0,0,0,0,0,0,0,0,0,0,0,0,0,0,0,0,0,0,0,0,0,0,0,0,0,0,0,0,0,0,0,0,0,0,0,0,0,0,0,0,0,0,0,0,0,0,0,0,0,0,0,0,0,0,{"$f":"GT17*$F$18","v":0},0,0,0,0,0,0,0,0,0,0,0,0,0,0,0,0,0,0,0,0,0,0,0,0,0,0,0,0,0,0,0,0,0,0,0,0,0,0,0,0,0,0,0,0,0,0,0,0,0,0,0,0,0,0,0,0,0,0,0,0,0,0,0,{"$f":"JF17*$F$18","v":0},0,0,0,0,0,0,0,0,0,0,0,0,0,0,0,0,0,0,0,0,0,0,0,0,0,0,0,0,0,0,0,0,0,0,0,0,0,0,0,0,0,0]
[]
[null,null,"PUE without Degradation",null,"Purchased/Used",{"$f":"InputC!G27","v":1.1000000000000001},null,null,{"$f":"$F$20","v":1.1000000000000001},{"$f":"$F$20","v":1.1000000000000001},1.1000000000000001,1.1000000000000001,1.1000000000000001,1.1000000000000001,1.1000000000000001,1.1000000000000001,1.1000000000000001,1.1000000000000001,1.1000000000000001,1.1000000000000001,1.1000000000000001,1.1000000000000001,1.1000000000000001,1.1000000000000001,1.1000000000000001,1.1000000000000001,1.1000000000000001,1.1000000000000001,1.1000000000000001,1.1000000000000001,1.1000000000000001,1.1000000000000001,1.1000000000000001,1.1000000000000001,1.1000000000000001,1.1000000000000001,1.1000000000000001,1.1000000000000001,1.1000000000000001,1.1000000000000001,1.1000000000000001,1.1000000000000001,1.1000000000000001,1.1000000000000001,1.1000000000000001,1.1000000000000001,1.1000000000000001,1.1000000000000001,1.1000000000000001,1.1000000000000001,1.1000000000000001,1.1000000000000001,1.1000000000000001,1.1000000000000001,1.1000000000000001,1.1000000000000001,1.1000000000000001,1.1000000000000001,1.1000000000000001,1.1000000000000001,1.1000000000000001,1.1000000000000001,1.1000000000000001,1.1000000000000001,1.1000000000000001,1.1000000000000001,1.1000000000000001,1.1000000000000001,1.1000000000000001,1.1000000000000001,1.1000000000000001,1.1000000000000001,1.1000000000000001,{"$f":"$F$20","v":1.1000000000000001},1.1000000000000001,1.1000000000000001,1.1000000000000001,1.1000000000000001,1.1000000000000001,1.1000000000000001,1.1000000000000001,1.1000000000000001,1.1000000000000001,1.1000000000000001,1.1000000000000001,1.1000000000000001,1.1000000000000001,1.1000000000000001,1.1000000000000001,1.1000000000000001,1.1000000000000001,1.1000000000000001,1.1000000000000001,1.1000000000000001,1.1000000000000001,1.1000000000000001,1.1000000000000001,1.1000000000000001,1.1000000000000001,1.1000000000000001,1.1000000000000001,1.1000000000000001,1.1000000000000001,1.1000000000000001,1.1000000000000001,1.1000000000000001,1.1000000000000001,1.1000000000000001,1.1000000000000001,1.1000000000000001,1.1000000000000001,1.1000000000000001,1.1000000000000001,1.1000000000000001,1.1000000000000001,1.1000000000000001,1.1000000000000001,1.1000000000000001,1.1000000000000001,1.1000000000000001,1.1000000000000001,1.1000000000000001,1.1000000000000001,1.1000000000000001,1.1000000000000001,1.1000000000000001,1.1000000000000001,1.1000000000000001,1.1000000000000001,1.1000000000000001,1.1000000000000001,1.1000000000000001,1.1000000000000001,1.1000000000000001,1.1000000000000001,1.1000000000000001,1.1000000000000001,{"$f":"$F$20","v":1.1000000000000001},1.1000000000000001,1.1000000000000001,1.1000000000000001,1.1000000000000001,1.1000000000000001,1.1000000000000001,1.1000000000000001,1.1000000000000001,1.1000000000000001,1.1000000000000001,1.1000000000000001,1.1000000000000001,1.1000000000000001,1.1000000000000001,1.1000000000000001,1.1000000000000001,1.1000000000000001,1.1000000000000001,1.1000000000000001,1.1000000000000001,1.1000000000000001,1.1000000000000001,1.1000000000000001,1.1000000000000001,1.1000000000000001,1.1000000000000001,1.1000000000000001,1.1000000000000001,1.1000000000000001,1.1000000000000001,1.1000000000000001,1.1000000000000001,1.1000000000000001,1.1000000000000001,1.1000000000000001,1.1000000000000001,1.1000000000000001,1.1000000000000001,1.1000000000000001,1.1000000000000001,1.1000000000000001,1.1000000000000001,1.1000000000000001,1.1000000000000001,1.1000000000000001,1.1000000000000001,1.1000000000000001,1.1000000000000001,1.1000000000000001,1.1000000000000001,1.1000000000000001,1.1000000000000001,1.1000000000000001,1.1000000000000001,1.1000000000000001,1.1000000000000001,1.1000000000000001,1.1000000000000001,1.1000000000000001,1.1000000000000001,1.1000000000000001,1.1000000000000001,1.1000000000000001,{"$f":"$F$20","v":1.1000000000000001},1.1000000000000001,1.1000000000000001,1.1000000000000001,1.1000000000000001,1.1000000000000001,1.1000000000000001,1.1000000000000001,1.1000000000000001,1.1000000000000001,1.1000000000000001,1.1000000000000001,1.1000000000000001,1.1000000000000001,1.1000000000000001,1.1000000000000001,1.1000000000000001,1.1000000000000001,1.1000000000000001,1.1000000000000001,1.1000000000000001,1.1000000000000001,1.1000000000000001,1.1000000000000001,1.1000000000000001,1.1000000000000001,1.1000000000000001,1.1000000000000001,1.1000000000000001,1.1000000000000001,1.1000000000000001,1.1000000000000001,1.1000000000000001,1.1000000000000001,1.1000000000000001,1.1000000000000001,1.1000000000000001,1.1000000000000001,1.1000000000000001,1.1000000000000001,1.1000000000000001,1.1000000000000001,1.1000000000000001,1.1000000000000001,1.1000000000000001,1.1000000000000001,1.1000000000000001,1.1000000000000001,1.1000000000000001,1.1000000000000001,1.1000000000000001,1.1000000000000001,1.1000000000000001,1.1000000000000001,1.1000000000000001,1.1000000000000001,1.1000000000000001,1.1000000000000001,1.1000000000000001,1.1000000000000001,1.1000000000000001,1.1000000000000001,1.1000000000000001,1.1000000000000001,{"$f":"$F$20","v":1.1000000000000001},1.1000000000000001,1.1000000000000001,1.1000000000000001,1.1000000000000001,1.1000000000000001,1.1000000000000001,1.1000000000000001,1.1000000000000001,1.1000000000000001,1.1000000000000001,1.1000000000000001,1.1000000000000001,1.1000000000000001,1.1000000000000001,1.1000000000000001,1.1000000000000001,1.1000000000000001,1.1000000000000001,1.1000000000000001,1.1000000000000001,1.1000000000000001,1.1000000000000001,1.1000000000000001,1.1000000000000001,1.1000000000000001,1.1000000000000001,1.1000000000000001,1.1000000000000001,1.1000000000000001,1.1000000000000001,1.1000000000000001,1.1000000000000001,1.1000000000000001,1.1000000000000001,1.1000000000000001,1.1000000000000001,1.1000000000000001,1.1000000000000001,1.1000000000000001,1.1000000000000001,1.1000000000000001,1.1000000000000001]
[null,null,"PUE Degradation per Month",null,"PUE per month",{"$f":"InputC!G33","v":7.0000000000000001E-3},{"$f":"(1+F21)^(1/12)-1","v":5.8147013295517525E-4},null,{"$f":"$G$21*I9","v":0},{"$f":"$G$21*J9","v":0},0,0,0,0,0,0,5.8147013295517525E-4,5.8147013295517525E-4,5.8147013295517525E-4,5.8147013295517525E-4,5.8147013295517525E-4,5.8147013295517525E-4,5.8147013295517525E-4,5.8147013295517525E-4,5.8147013295517525E-4,5.8147013295517525E-4,5.8147013295517525E-4,5.8147013295517525E-4,5.8147013295517525E-4,5.8147013295517525E-4,5.8147013295517525E-4,5.8147013295517525E-4,5.8147013295517525E-4,5.8147013295517525E-4,5.8147013295517525E-4,5.8147013295517525E-4,5.8147013295517525E-4,5.8147013295517525E-4,5.8147013295517525E-4,5.8147013295517525E-4,5.8147013295517525E-4,5.8147013295517525E-4,5.8147013295517525E-4,5.8147013295517525E-4,5.8147013295517525E-4,5.8147013295517525E-4,5.8147013295517525E-4,5.8147013295517525E-4,5.8147013295517525E-4,5.8147013295517525E-4,5.8147013295517525E-4,5.8147013295517525E-4,5.8147013295517525E-4,5.8147013295517525E-4,5.8147013295517525E-4,5.8147013295517525E-4,5.8147013295517525E-4,5.8147013295517525E-4,5.8147013295517525E-4,5.8147013295517525E-4,5.8147013295517525E-4,5.8147013295517525E-4,5.8147013295517525E-4,5.8147013295517525E-4,5.8147013295517525E-4,5.8147013295517525E-4,5.8147013295517525E-4,5.8147013295517525E-4,5.8147013295517525E-4,5.8147013295517525E-4,5.8147013295517525E-4,5.8147013295517525E-4,5.8147013295517525E-4,{"$f":"$G$21*BV9","v":5.8147013295517525E-4},5.8147013295517525E-4,5.8147013295517525E-4,5.8147013295517525E-4,5.8147013295517525E-4,5.8147013295517525E-4,5.8147013295517525E-4,5.8147013295517525E-4,5.8147013295517525E-4,5.8147013295517525E-4,5.8147013295517525E-4,5.8147013295517525E-4,5.8147013295517525E-4,5.8147013295517525E-4,5.8147013295517525E-4,0,0,0,0,0,0,0,0,0,0,0,0,0,0,0,0,0,0,0,0,0,0,0,0,0,0,0,0,0,0,0,0,0,0,0,0,0,0,0,0,0,0,0,0,0,0,0,0,0,{"$f":"$G$21*EH9","v":0},0,0,0,0,0,0,0,0,0,0,0,0,0,0,0,0,0,0,0,0,0,0,0,0,0,0,0,0,0,0,0,0,0,0,0,0,0,0,0,0,0,0,0,0,0,0,0,0,0,0,0,0,0,0,0,0,0,0,0,0,0,0,0,{"$f":"$G$21*GT9","v":0},0,0,0,0,0,0,0,0,0,0,0,0,0,0,0,0,0,0,0,0,0,0,0,0,0,0,0,0,0,0,0,0,0,0,0,0,0,0,0,0,0,0,0,0,0,0,0,0,0,0,0,0,0,0,0,0,0,0,0,0,0,0,0,{"$f":"$G$21*JF9","v":0},0,0,0,0,0,0,0,0,0,0,0,0,0,0,0,0,0,0,0,0,0,0,0,0,0,0,0,0,0,0,0,0,0,0,0,0,0,0,0,0,0,0]
[null,null,"PUE after Degradation",null,"Purchased/Used",{"$f":"F20","v":1.1000000000000001},null,null,{"$f":"F22","v":1.1000000000000001},{"$f":"I22+J21","v":1.1000000000000001},{"$f":"J22+K21","v":1.1000000000000001},1.1000000000000001,1.1000000000000001,1.1000000000000001,1.1000000000000001,1.1000000000000001,1.1005814701329553,1.1011629402659104,1.1017444103988656,1.1023258805318208,1.102907350664776,1.1034888207977311,1.1040702909306863,1.1046517610636415,1.1052332311965967,1.1058147013295518,1.106396171462507,1.1069776415954622,1.1075591117284174,1.1081405818613725,1.1087220519943277,1.1093035221272829,1.1098849922602381,1.1104664623931932,1.1110479325261484,1.1116294026591036,1.1122108727920588,1.1127923429250139,1.1133738130579691,1.1139552831909243,1.1145367533238795,1.1151182234568346,1.1156996935897898,1.116281163722745,1.1168626338557002,1.1174441039886553,1.1180255741216105,1.1186070442545657,1.1191885143875209,1.119769984520476,1.1203514546534312,1.1209329247863864,1.1215143949193416,1.1220958650522967,1.1226773351852519,1.1232588053182071,1.1238402754511623,1.1244217455841174,1.1250032157170726,1.1255846858500278,1.126166155982983,1.1267476261159382,1.1273290962488933,1.1279105663818485,1.1284920365148037,1.1290735066477589,1.129654976780714,1.1302364469136692,1.1308179170466244,1.1313993871795796,1.1319808573125347,1.1325623274454899,1.1331437975784451,1.1337252677114003,{"$f":"BV22+BW21","v":1.1343067378443554},1.1348882079773106,1.1354696781102658,1.136051148243221,1.1366326183761761,1.1372140885091313,1.1377955586420865,1.1383770287750417,1.1389584989079968,1.139539969040952,1.1401214391739072,1.1407029093068624,1.1412843794398175,1.1418658495727727,1.1418658495727727,1.1418658495727727,1.1418658495727727,1.1418658495727727,1.1418658495727727,1.1418658495727727,1.1418658495727727,1.1418658495727727,1.1418658495727727,1.1418658495727727,1.1418658495727727,1.1418658495727727,1.1418658495727727,1.1418658495727727,1.1418658495727727,1.1418658495727727,1.1418658495727727,1.1418658495727727,1.1418658495727727,1.1418658495727727,1.1418658495727727,1.1418658495727727,1.1418658495727727,1.1418658495727727,1.1418658495727727,1.1418658495727727,1.1418658495727727,1.1418658495727727,1.1418658495727727,1.1418658495727727,1.1418658495727727,1.1418658495727727,1.1418658495727727,1.1418658495727727,1.1418658495727727,1.1418658495727727,1.1418658495727727,1.1418658495727727,1.1418658495727727,1.1418658495727727,1.1418658495727727,1.1418658495727727,1.1418658495727727,1.1418658495727727,1.1418658495727727,1.1418658495727727,1.1418658495727727,1.1418658495727727,1.1418658495727727,1.1418658495727727,{"$f":"EH22+EI21","v":1.1418658495727727},1.1418658495727727,1.1418658495727727,1.1418658495727727,1.1418658495727727,1.1418658495727727,1.1418658495727727,1.1418658495727727,1.1418658495727727,1.1418658495727727,1.1418658495727727,1.1418658495727727,1.1418658495727727,1.1418658495727727,1.1418658495727727,1.1418658495727727,1.1418658495727727,1.1418658495727727,1.1418658495727727,1.1418658495727727,1.1418658495727727,1.1418658495727727,1.1418658495727727,1.1418658495727727,1.1418658495727727,1.1418658495727727,1.1418658495727727,1.1418658495727727,1.1418658495727727,1.1418658495727727,1.1418658495727727,1.1418658495727727,1.1418658495727727,1.1418658495727727,1.1418658495727727,1.1418658495727727,1.1418658495727727,1.1418658495727727,1.1418658495727727,1.1418658495727727,1.1418658495727727,1.1418658495727727,1.1418658495727727,1.1418658495727727,1.1418658495727727,1.1418658495727727,1.1418658495727727,1.1418658495727727,1.1418658495727727,1.1418658495727727,1.1418658495727727,1.1418658495727727,1.1418658495727727,1.1418658495727727,1.1418658495727727,1.1418658495727727,1.1418658495727727,1.1418658495727727,1.1418658495727727,1.1418658495727727,1.1418658495727727,1.1418658495727727,1.1418658495727727,1.1418658495727727,{"$f":"GT22+GU21","v":1.1418658495727727},1.1418658495727727,1.1418658495727727,1.1418658495727727,1.1418658495727727,1.1418658495727727,1.1418658495727727,1.1418658495727727,1.1418658495727727,1.1418658495727727,1.1418658495727727,1.1418658495727727,1.1418658495727727,1.1418658495727727,1.1418658495727727,1.1418658495727727,1.1418658495727727,1.1418658495727727,1.1418658495727727,1.1418658495727727,1.1418658495727727,1.1418658495727727,1.1418658495727727,1.1418658495727727,1.1418658495727727,1.1418658495727727,1.1418658495727727,1.1418658495727727,1.1418658495727727,1.1418658495727727,1.1418658495727727,1.1418658495727727,1.1418658495727727,1.1418658495727727,1.1418658495727727,1.1418658495727727,1.1418658495727727,1.1418658495727727,1.1418658495727727,1.1418658495727727,1.1418658495727727,1.1418658495727727,1.1418658495727727,1.1418658495727727,1.1418658495727727,1.1418658495727727,1.1418658495727727,1.1418658495727727,1.1418658495727727,1.1418658495727727,1.1418658495727727,1.1418658495727727,1.1418658495727727,1.1418658495727727,1.1418658495727727,1.1418658495727727,1.1418658495727727,1.1418658495727727,1.1418658495727727,1.1418658495727727,1.1418658495727727,1.1418658495727727,1.1418658495727727,1.1418658495727727,{"$f":"JF22+JG21","v":1.1418658495727727},1.1418658495727727,1.1418658495727727,1.1418658495727727,1.1418658495727727,1.1418658495727727,1.1418658495727727,1.1418658495727727,1.1418658495727727,1.1418658495727727,1.1418658495727727,1.1418658495727727,1.1418658495727727,1.1418658495727727,1.1418658495727727,1.1418658495727727,1.1418658495727727,1.1418658495727727,1.1418658495727727,1.1418658495727727,1.1418658495727727,1.1418658495727727,1.1418658495727727,1.1418658495727727,1.1418658495727727,1.1418658495727727,1.1418658495727727,1.1418658495727727,1.1418658495727727,1.1418658495727727,1.1418658495727727,1.1418658495727727,1.1418658495727727,1.1418658495727727,1.1418658495727727,1.1418658495727727,1.1418658495727727,1.1418658495727727,1.1418658495727727,1.1418658495727727,1.1418658495727727,1.1418658495727727]
[]
[null,null,"MWh Electricity purchased from Applied PUE",null,"MWh",null,null,{"$f":"SUM(I24:XFD24)","v":7963057.809432446},{"$f":"I22*I18","v":0},0,0,0,0,0,0,0,106976.51889692325,110600.80572030804,107089.55669076974,110717.61144061608,110776.0143007701,103683.80960215481,110892.82002107814,107372.15117538595,111009.62574138617,107485.18896923243,111126.4314616942,111184.83432184822,107654.74566000217,111301.64004215626,107767.78345384865,111418.4457624643,111476.84862261832,100741.51746831049,111593.65434292634,108050.37793846487,111710.46006323438,108163.41573231136,111827.26578354242,111885.66864369644,108332.97242308108,112002.47436400448,108446.01021692756,112119.2800843125,112177.68294446652,101374.52911385082,112294.48866477456,108728.60470154378,112411.2943850826,108841.64249539028,112528.10010539064,112586.50296554466,109011.19918616,112703.30868585268,109124.23698000649,112820.11440616072,112878.51726631474,102007.54075939114,112995.32298662278,109406.83146462271,113112.12870693082,109519.86925846919,113228.93442723884,113287.33728739286,109689.42594923891,113404.1430077009,109802.46374308541,113520.94872800894,113579.35158816296,106306.28641939329,113696.15730847098,110085.05822770162,{"$f":"BU22*BU18","v":113812.96302877902},110198.0960215481,113929.76874908706,113988.17160924108,110367.65271231784,114104.97732954912,110480.69050616432,114221.78304985714,114280.18591001116,103273.56405047177,114396.9916303192,110763.28499078054,114513.79735062724,110876.32278462702,114630.60307093528,114689.0059310893,0,0,0,0,0,0,0,0,0,0,0,0,0,0,0,0,0,0,0,0,0,0,0,0,0,0,0,0,0,0,0,0,0,0,0,0,0,0,0,0,0,0,0,0,0,0,0,0,{"$f":"EG22*EG18","v":0},0,0,0,0,0,0,0,0,0,0,0,0,0,0,0,0,0,0,0,0,0,0,0,0,0,0,0,0,0,0,0,0,0,0,0,0,0,0,0,0,0,0,0,0,0,0,0,0,0,0,0,0,0,0,0,0,0,0,0,0,0,0,0,{"$f":"GS22*GS18","v":0},0,0,0,0,0,0,0,0,0,0,0,0,0,0,0,0,0,0,0,0,0,0,0,0,0,0,0,0,0,0,0,0,0,0,0,0,0,0,0,0,0,0,0,0,0,0,0,0,0,0,0,0,0,0,0,0,0,0,0,0,0,0,0,{"$f":"JE22*JE18","v":0},0,0,0,0,0,0,0,0,0,0,0,0,0,0,0,0,0,0,0,0,0,0,0,0,0,0,0,0,0,0,0,0,0,0,0,0,0,0,0,0,0,0,0]
[]
[null,null,"MM Tokens per kW Month Capacity",null,"MM Tokens per kW/Month",{"$f":"InputC!G35","v":6500},null,null,{"$f":"$F$26*I9","v":0},0,0,0,0,0,0,0,6500,6500,6500,6500,6500,6500,6500,6500,6500,6500,6500,6500,6500,6500,6500,6500,6500,6500,6500,6500,6500,6500,6500,6500,6500,6500,6500,6500,6500,6500,6500,6500,6500,6500,6500,6500,6500,6500,6500,6500,6500,6500,6500,6500,6500,6500,6500,6500,6500,6500,6500,6500,6500,6500,6500,6500,{"$f":"$F$26*BU9","v":6500},6500,6500,6500,6500,6500,6500,6500,6500,6500,6500,6500,6500,6500,6500,6500,0,0,0,0,0,0,0,0,0,0,0,0,0,0,0,0,0,0,0,0,0,0,0,0,0,0,0,0,0,0,0,0,0,0,0,0,0,0,0,0,0,0,0,0,0,0,0,0,{"$f":"$F$26*EG9","v":0},0,0,0,0,0,0,0,0,0,0,0,0,0,0,0,0,0,0,0,0,0,0,0,0,0,0,0,0,0,0,0,0,0,0,0,0,0,0,0,0,0,0,0,0,0,0,0,0,0,0,0,0,0,0,0,0,0,0,0,0,0,0,0,{"$f":"$F$26*GS9","v":0},0,0,0,0,0,0,0,0,0,0,0,0,0,0,0,0,0,0,0,0,0,0,0,0,0,0,0,0,0,0,0,0,0,0,0,0,0,0,0,0,0,0,0,0,0,0,0,0,0,0,0,0,0,0,0,0,0,0,0,0,0,0,0,{"$f":"$F$26*JE9","v":0},0,0,0,0,0,0,0,0,0,0,0,0,0,0,0,0,0,0,0,0,0,0,0,0,0,0,0,0,0,0,0,0,0,0,0,0,0,0,0,0,0,0,0]
[null,null,"Million Tokens per MW Month",null,"MM Tokens/MW Mnt",null,null,null,{"$f":"I26*I14*1000","v":0},0,0,0,0,0,0,0,975000000,975000000,975000000,975000000,975000000,975000000,975000000,975000000,975000000,975000000,975000000,975000000,975000000,975000000,975000000,975000000,975000000,975000000,975000000,975000000,975000000,975000000,975000000,975000000,975000000,975000000,975000000,975000000,975000000,975000000,975000000,975000000,975000000,975000000,975000000,975000000,975000000,975000000,975000000,975000000,975000000,975000000,975000000,975000000,975000000,975000000,975000000,975000000,975000000,975000000,975000000,975000000,975000000,975000000,975000000,975000000,{"$f":"BU26*BU14*1000","v":975000000},975000000,975000000,975000000,975000000,975000000,975000000,975000000,975000000,975000000,975000000,975000000,975000000,975000000,975000000,975000000,0,0,0,0,0,0,0,0,0,0,0,0,0,0,0,0,0,0,0,0,0,0,0,0,0,0,0,0,0,0,0,0,0,0,0,0,0,0,0,0,0,0,0,0,0,0,0,0,{"$f":"EG26*EG14*1000","v":0},0,0,0,0,0,0,0,0,0,0,0,0,0,0,0,0,0,0,0,0,0,0,0,0,0,0,0,0,0,0,0,0,0,0,0,0,0,0,0,0,0,0,0,0,0,0,0,0,0,0,0,0,0,0,0,0,0,0,0,0,0,0,0,{"$f":"GS26*GS14*1000","v":0},0,0,0,0,0,0,0,0,0,0,0,0,0,0,0,0,0,0,0,0,0,0,0,0,0,0,0,0,0,0,0,0,0,0,0,0,0,0,0,0,0,0,0,0,0,0,0,0,0,0,0,0,0,0,0,0,0,0,0,0,0,0,0,{"$f":"JE26*JE14*1000","v":0},0,0,0,0,0,0,0,0,0,0,0,0,0,0,0,0,0,0,0,0,0,0,0,0,0,0,0,0,0,0,0,0,0,0,0,0,0,0,0,0,0,0,0]
[]
[null,null,"Utilization Factor of Data Center",null,"%",{"$f":"InputC!G40","v":1},{"$f":"INDEX(InputS!D11:D13,InputS!F9)","v":"Base Case Utilization Rate"},null,{"$f":"_xlfn.XLOOKUP(I10,InputS!6:6,InputS!15:15,0)","v":0.66},{"$f":"_xlfn.XLOOKUP(J10,InputS!6:6,InputS!15:15,0)","v":0.66},{"$f":"_xlfn.XLOOKUP(K10,InputS!6:6,InputS!15:15,0)","v":0.66},{"$f":"_xlfn.XLOOKUP(L10,InputS!6:6,InputS!15:15,0)","v":0.66},{"$f":"_xlfn.XLOOKUP(M10,InputS!6:6,InputS!15:15,0)","v":0.66},{"$f":"_xlfn.XLOOKUP(N10,InputS!6:6,InputS!15:15,0)","v":0.66},{"$f":"_xlfn.XLOOKUP(O10,InputS!6:6,InputS!15:15,0)","v":0.66},{"$f":"_xlfn.XLOOKUP(P10,InputS!6:6,InputS!15:15,0)","v":0.66},{"$f":"_xlfn.XLOOKUP(Q10,InputS!6:6,InputS!15:15,0)","v":0.66},{"$f":"_xlfn.XLOOKUP(R10,InputS!6:6,InputS!15:15,0)","v":0.66},{"$f":"_xlfn.XLOOKUP(S10,InputS!6:6,InputS!15:15,0)","v":0.66},{"$f":"_xlfn.XLOOKUP(T10,InputS!6:6,InputS!15:15,0)","v":0.66},{"$f":"_xlfn.XLOOKUP(U10,InputS!6:6,InputS!15:15,0)","v":0.66},{"$f":"_xlfn.XLOOKUP(V10,InputS!6:6,InputS!15:15,0)","v":0.66},{"$f":"_xlfn.XLOOKUP(W10,InputS!6:6,InputS!15:15,0)","v":0.66},{"$f":"_xlfn.XLOOKUP(X10,InputS!6:6,InputS!15:15,0)","v":0.66},{"$f":"_xlfn.XLOOKUP(Y10,InputS!6:6,InputS!15:15,0)","v":0.66},{"$f":"_xlfn.XLOOKUP(Z10,InputS!6:6,InputS!15:15,0)","v":0.66},{"$f":"_xlfn.XLOOKUP(AA10,InputS!6:6,InputS!15:15,0)","v":0.66},{"$f":"_xlfn.XLOOKUP(AB10,InputS!6:6,InputS!15:15,0)","v":0.66},{"$f":"_xlfn.XLOOKUP(AC10,InputS!6:6,InputS!15:15,0)","v":0.66},{"$f":"_xlfn.XLOOKUP(AD10,InputS!6:6,InputS!15:15,0)","v":0.66},{"$f":"_xlfn.XLOOKUP(AE10,InputS!6:6,InputS!15:15,0)","v":0.66},{"$f":"_xlfn.XLOOKUP(AF10,InputS!6:6,InputS!15:15,0)","v":0.66},{"$f":"_xlfn.XLOOKUP(AG10,InputS!6:6,InputS!15:15,0)","v":0.66},{"$f":"_xlfn.XLOOKUP(AH10,InputS!6:6,InputS!15:15,0)","v":0.66},{"$f":"_xlfn.XLOOKUP(AI10,InputS!6:6,InputS!15:15,0)","v":0.66},{"$f":"_xlfn.XLOOKUP(AJ10,InputS!6:6,InputS!15:15,0)","v":0.66},{"$f":"_xlfn.XLOOKUP(AK10,InputS!6:6,InputS!15:15,0)","v":0.66},{"$f":"_xlfn.XLOOKUP(AL10,InputS!6:6,InputS!15:15,0)","v":0.66},{"$f":"_xlfn.XLOOKUP(AM10,InputS!6:6,InputS!15:15,0)","v":0.66},{"$f":"_xlfn.XLOOKUP(AN10,InputS!6:6,InputS!15:15,0)","v":0.66},{"$f":"_xlfn.XLOOKUP(AO10,InputS!6:6,InputS!15:15,0)","v":0.66},{"$f":"_xlfn.XLOOKUP(AP10,InputS!6:6,InputS!15:15,0)","v":0.66},{"$f":"_xlfn.XLOOKUP(AQ10,InputS!6:6,InputS!15:15,0)","v":0.66},{"$f":"_xlfn.XLOOKUP(AR10,InputS!6:6,InputS!15:15,0)","v":0.66},{"$f":"_xlfn.XLOOKUP(AS10,InputS!6:6,InputS!15:15,0)","v":0.66},{"$f":"_xlfn.XLOOKUP(AT10,InputS!6:6,InputS!15:15,0)","v":0.66},{"$f":"_xlfn.XLOOKUP(AU10,InputS!6:6,InputS!15:15,0)","v":0.66},{"$f":"_xlfn.XLOOKUP(AV10,InputS!6:6,InputS!15:15,0)","v":0.66},{"$f":"_xlfn.XLOOKUP(AW10,InputS!6:6,InputS!15:15,0)","v":0.66},{"$f":"_xlfn.XLOOKUP(AX10,InputS!6:6,InputS!15:15,0)","v":0.66},{"$f":"_xlfn.XLOOKUP(AY10,InputS!6:6,InputS!15:15,0)","v":0.66},{"$f":"_xlfn.XLOOKUP(AZ10,InputS!6:6,InputS!15:15,0)","v":0.66},{"$f":"_xlfn.XLOOKUP(BA10,InputS!6:6,InputS!15:15,0)","v":0.66},{"$f":"_xlfn.XLOOKUP(BB10,InputS!6:6,InputS!15:15,0)","v":0.66},{"$f":"_xlfn.XLOOKUP(BC10,InputS!6:6,InputS!15:15,0)","v":0.66},{"$f":"_xlfn.XLOOKUP(BD10,InputS!6:6,InputS!15:15,0)","v":0.66},{"$f":"_xlfn.XLOOKUP(BE10,InputS!6:6,InputS!15:15,0)","v":0.66},{"$f":"_xlfn.XLOOKUP(BF10,InputS!6:6,InputS!15:15,0)","v":0.66},{"$f":"_xlfn.XLOOKUP(BG10,InputS!6:6,InputS!15:15,0)","v":0.66},{"$f":"_xlfn.XLOOKUP(BH10,InputS!6:6,InputS!15:15,0)","v":0.66},{"$f":"_xlfn.XLOOKUP(BI10,InputS!6:6,InputS!15:15,0)","v":0.66},{"$f":"_xlfn.XLOOKUP(BJ10,InputS!6:6,InputS!15:15,0)","v":0.66},{"$f":"_xlfn.XLOOKUP(BK10,InputS!6:6,InputS!15:15,0)","v":0.66},{"$f":"_xlfn.XLOOKUP(BL10,InputS!6:6,InputS!15:15,0)","v":0.66},{"$f":"_xlfn.XLOOKUP(BM10,InputS!6:6,InputS!15:15,0)","v":0.66},{"$f":"_xlfn.XLOOKUP(BN10,InputS!6:6,InputS!15:15,0)","v":0.66},{"$f":"_xlfn.XLOOKUP(BO10,InputS!6:6,InputS!15:15,0)","v":0.66},{"$f":"_xlfn.XLOOKUP(BP10,InputS!6:6,InputS!15:15,0)","v":0.66},{"$f":"_xlfn.XLOOKUP(BQ10,InputS!6:6,InputS!15:15,0)","v":0.66},{"$f":"_xlfn.XLOOKUP(BR10,InputS!6:6,InputS!15:15,0)","v":0.66},{"$f":"_xlfn.XLOOKUP(BS10,InputS!6:6,InputS!15:15,0)","v":0.66},{"$f":"_xlfn.XLOOKUP(BT10,InputS!6:6,InputS!15:15,0)","v":0.66},{"$f":"_xlfn.XLOOKUP(BU10,InputS!6:6,InputS!15:15,0)","v":0.66},{"$f":"_xlfn.XLOOKUP(BV10,InputS!6:6,InputS!15:15,0)","v":0.66},{"$f":"_xlfn.XLOOKUP(BW10,InputS!6:6,InputS!15:15,0)","v":0.66},{"$f":"_xlfn.XLOOKUP(BX10,InputS!6:6,InputS!15:15,0)","v":0.66},{"$f":"_xlfn.XLOOKUP(BY10,InputS!6:6,InputS!15:15,0)","v":0.66},{"$f":"_xlfn.XLOOKUP(BZ10,InputS!6:6,InputS!15:15,0)","v":0.66},{"$f":"_xlfn.XLOOKUP(CA10,InputS!6:6,InputS!15:15,0)","v":0.66},{"$f":"_xlfn.XLOOKUP(CB10,InputS!6:6,InputS!15:15,0)","v":0.66},{"$f":"_xlfn.XLOOKUP(CC10,InputS!6:6,InputS!15:15,0)","v":0.66},{"$f":"_xlfn.XLOOKUP(CD10,InputS!6:6,InputS!15:15,0)","v":0.66},{"$f":"_xlfn.XLOOKUP(CE10,InputS!6:6,InputS!15:15,0)","v":0.66},{"$f":"_xlfn.XLOOKUP(CF10,InputS!6:6,InputS!15:15,0)","v":0.66},{"$f":"_xlfn.XLOOKUP(CG10,InputS!6:6,InputS!15:15,0)","v":0.66},{"$f":"_xlfn.XLOOKUP(CH10,InputS!6:6,InputS!15:15,0)","v":0.66},{"$f":"_xlfn.XLOOKUP(CI10,InputS!6:6,InputS!15:15,0)","v":0.66},{"$f":"_xlfn.XLOOKUP(CJ10,InputS!6:6,InputS!15:15,0)","v":0.66},{"$f":"_xlfn.XLOOKUP(CK10,InputS!6:6,InputS!15:15,0)","v":0.66},{"$f":"_xlfn.XLOOKUP(CL10,InputS!6:6,InputS!15:15,0)","v":0.66},{"$f":"_xlfn.XLOOKUP(CM10,InputS!6:6,InputS!15:15,0)","v":0.66},{"$f":"_xlfn.XLOOKUP(CN10,InputS!6:6,InputS!15:15,0)","v":0.66},{"$f":"_xlfn.XLOOKUP(CO10,InputS!6:6,InputS!15:15,0)","v":0.66},{"$f":"_xlfn.XLOOKUP(CP10,InputS!6:6,InputS!15:15,0)","v":0.66},{"$f":"_xlfn.XLOOKUP(CQ10,InputS!6:6,InputS!15:15,0)","v":0.66},{"$f":"_xlfn.XLOOKUP(CR10,InputS!6:6,InputS!15:15,0)","v":0.66},{"$f":"_xlfn.XLOOKUP(CS10,InputS!6:6,InputS!15:15,0)","v":0.66},{"$f":"_xlfn.XLOOKUP(CT10,InputS!6:6,InputS!15:15,0)","v":0.66},{"$f":"_xlfn.XLOOKUP(CU10,InputS!6:6,InputS!15:15,0)","v":0.66},{"$f":"_xlfn.XLOOKUP(CV10,InputS!6:6,InputS!15:15,0)","v":0.66},{"$f":"_xlfn.XLOOKUP(CW10,InputS!6:6,InputS!15:15,0)","v":0.66},{"$f":"_xlfn.XLOOKUP(CX10,InputS!6:6,InputS!15:15,0)","v":0.66},{"$f":"_xlfn.XLOOKUP(CY10,InputS!6:6,InputS!15:15,0)","v":0.66},{"$f":"_xlfn.XLOOKUP(CZ10,InputS!6:6,InputS!15:15,0)","v":0.66},{"$f":"_xlfn.XLOOKUP(DA10,InputS!6:6,InputS!15:15,0)","v":0.66},{"$f":"_xlfn.XLOOKUP(DB10,InputS!6:6,InputS!15:15,0)","v":0.66},{"$f":"_xlfn.XLOOKUP(DC10,InputS!6:6,InputS!15:15,0)","v":0.66},{"$f":"_xlfn.XLOOKUP(DD10,InputS!6:6,InputS!15:15,0)","v":0.66},{"$f":"_xlfn.XLOOKUP(DE10,InputS!6:6,InputS!15:15,0)","v":0.66},{"$f":"_xlfn.XLOOKUP(DF10,InputS!6:6,InputS!15:15,0)","v":0.66},{"$f":"_xlfn.XLOOKUP(DG10,InputS!6:6,InputS!15:15,0)","v":0.66},{"$f":"_xlfn.XLOOKUP(DH10,InputS!6:6,InputS!15:15,0)","v":0.66},{"$f":"_xlfn.XLOOKUP(DI10,InputS!6:6,InputS!15:15,0)","v":0.66},{"$f":"_xlfn.XLOOKUP(DJ10,InputS!6:6,InputS!15:15,0)","v":0.66},{"$f":"_xlfn.XLOOKUP(DK10,InputS!6:6,InputS!15:15,0)","v":0.66},{"$f":"_xlfn.XLOOKUP(DL10,InputS!6:6,InputS!15:15,0)","v":0.66},{"$f":"_xlfn.XLOOKUP(DM10,InputS!6:6,InputS!15:15,0)","v":0.66},{"$f":"_xlfn.XLOOKUP(DN10,InputS!6:6,InputS!15:15,0)","v":0.66},{"$f":"_xlfn.XLOOKUP(DO10,InputS!6:6,InputS!15:15,0)","v":0.66},{"$f":"_xlfn.XLOOKUP(DP10,InputS!6:6,InputS!15:15,0)","v":0.66},{"$f":"_xlfn.XLOOKUP(DQ10,InputS!6:6,InputS!15:15,0)","v":0.66},{"$f":"_xlfn.XLOOKUP(DR10,InputS!6:6,InputS!15:15,0)","v":0.66},{"$f":"_xlfn.XLOOKUP(DS10,InputS!6:6,InputS!15:15,0)","v":0.66},{"$f":"_xlfn.XLOOKUP(DT10,InputS!6:6,InputS!15:15,0)","v":0.66},{"$f":"_xlfn.XLOOKUP(DU10,InputS!6:6,InputS!15:15,0)","v":0.66},{"$f":"_xlfn.XLOOKUP(DV10,InputS!6:6,InputS!15:15,0)","v":0.66},{"$f":"_xlfn.XLOOKUP(DW10,InputS!6:6,InputS!15:15,0)","v":0.66},{"$f":"_xlfn.XLOOKUP(DX10,InputS!6:6,InputS!15:15,0)","v":0.66},{"$f":"_xlfn.XLOOKUP(DY10,InputS!6:6,InputS!15:15,0)","v":0.66},{"$f":"_xlfn.XLOOKUP(DZ10,InputS!6:6,InputS!15:15,0)","v":0.66},{"$f":"_xlfn.XLOOKUP(EA10,InputS!6:6,InputS!15:15,0)","v":0.66},{"$f":"_xlfn.XLOOKUP(EB10,InputS!6:6,InputS!15:15,0)","v":0.66},{"$f":"_xlfn.XLOOKUP(EC10,InputS!6:6,InputS!15:15,0)","v":0.66},{"$f":"_xlfn.XLOOKUP(ED10,InputS!6:6,InputS!15:15,0)","v":0.66},{"$f":"_xlfn.XLOOKUP(EE10,InputS!6:6,InputS!15:15,0)","v":0.66},{"$f":"_xlfn.XLOOKUP(EF10,InputS!6:6,InputS!15:15,0)","v":0.66},{"$f":"_xlfn.XLOOKUP(EG10,InputS!6:6,InputS!15:15,0)","v":0.66},{"$f":"_xlfn.XLOOKUP(EH10,InputS!6:6,InputS!15:15,0)","v":0.66},{"$f":"_xlfn.XLOOKUP(EI10,InputS!6:6,InputS!15:15,0)","v":0.66},{"$f":"_xlfn.XLOOKUP(EJ10,InputS!6:6,InputS!15:15,0)","v":0.66},{"$f":"_xlfn.XLOOKUP(EK10,InputS!6:6,InputS!15:15,0)","v":0.66},{"$f":"_xlfn.XLOOKUP(EL10,InputS!6:6,InputS!15:15,0)","v":0.66},{"$f":"_xlfn.XLOOKUP(EM10,InputS!6:6,InputS!15:15,0)","v":0.66},{"$f":"_xlfn.XLOOKUP(EN10,InputS!6:6,InputS!15:15,0)","v":0.66},{"$f":"_xlfn.XLOOKUP(EO10,InputS!6:6,InputS!15:15,0)","v":0.66},{"$f":"_xlfn.XLOOKUP(EP10,InputS!6:6,InputS!15:15,0)","v":0.66},{"$f":"_xlfn.XLOOKUP(EQ10,InputS!6:6,InputS!15:15,0)","v":0.66},{"$f":"_xlfn.XLOOKUP(ER10,InputS!6:6,InputS!15:15,0)","v":0.66},{"$f":"_xlfn.XLOOKUP(ES10,InputS!6:6,InputS!15:15,0)","v":0.66},{"$f":"_xlfn.XLOOKUP(ET10,InputS!6:6,InputS!15:15,0)","v":0.66},{"$f":"_xlfn.XLOOKUP(EU10,InputS!6:6,InputS!15:15,0)","v":0.66},{"$f":"_xlfn.XLOOKUP(EV10,InputS!6:6,InputS!15:15,0)","v":0.66},{"$f":"_xlfn.XLOOKUP(EW10,InputS!6:6,InputS!15:15,0)","v":0.66},{"$f":"_xlfn.XLOOKUP(EX10,InputS!6:6,InputS!15:15,0)","v":0.66},{"$f":"_xlfn.XLOOKUP(EY10,InputS!6:6,InputS!15:15,0)","v":0.66},{"$f":"_xlfn.XLOOKUP(EZ10,InputS!6:6,InputS!15:15,0)","v":0.66},{"$f":"_xlfn.XLOOKUP(FA10,InputS!6:6,InputS!15:15,0)","v":0.66},{"$f":"_xlfn.XLOOKUP(FB10,InputS!6:6,InputS!15:15,0)","v":0.66},{"$f":"_xlfn.XLOOKUP(FC10,InputS!6:6,InputS!15:15,0)","v":0.66},{"$f":"_xlfn.XLOOKUP(FD10,InputS!6:6,InputS!15:15,0)","v":0.66},{"$f":"_xlfn.XLOOKUP(FE10,InputS!6:6,InputS!15:15,0)","v":0.66},{"$f":"_xlfn.XLOOKUP(FF10,InputS!6:6,InputS!15:15,0)","v":0.66},{"$f":"_xlfn.XLOOKUP(FG10,InputS!6:6,InputS!15:15,0)","v":0.66},{"$f":"_xlfn.XLOOKUP(FH10,InputS!6:6,InputS!15:15,0)","v":0.66},{"$f":"_xlfn.XLOOKUP(FI10,InputS!6:6,InputS!15:15,0)","v":0.66},{"$f":"_xlfn.XLOOKUP(FJ10,InputS!6:6,InputS!15:15,0)","v":0.66},{"$f":"_xlfn.XLOOKUP(FK10,InputS!6:6,InputS!15:15,0)","v":0.66},{"$f":"_xlfn.XLOOKUP(FL10,InputS!6:6,InputS!15:15,0)","v":0.66},{"$f":"_xlfn.XLOOKUP(FM10,InputS!6:6,InputS!15:15,0)","v":0.66},{"$f":"_xlfn.XLOOKUP(FN10,InputS!6:6,InputS!15:15,0)","v":0.66},{"$f":"_xlfn.XLOOKUP(FO10,InputS!6:6,InputS!15:15,0)","v":0.66},{"$f":"_xlfn.XLOOKUP(FP10,InputS!6:6,InputS!15:15,0)","v":0.66},{"$f":"_xlfn.XLOOKUP(FQ10,InputS!6:6,InputS!15:15,0)","v":0.66},{"$f":"_xlfn.XLOOKUP(FR10,InputS!6:6,InputS!15:15,0)","v":0.66},{"$f":"_xlfn.XLOOKUP(FS10,InputS!6:6,InputS!15:15,0)","v":0.66},{"$f":"_xlfn.XLOOKUP(FT10,InputS!6:6,InputS!15:15,0)","v":0.66},{"$f":"_xlfn.XLOOKUP(FU10,InputS!6:6,InputS!15:15,0)","v":0.66},{"$f":"_xlfn.XLOOKUP(FV10,InputS!6:6,InputS!15:15,0)","v":0.66},{"$f":"_xlfn.XLOOKUP(FW10,InputS!6:6,InputS!15:15,0)","v":0.66},{"$f":"_xlfn.XLOOKUP(FX10,InputS!6:6,InputS!15:15,0)","v":0.66},{"$f":"_xlfn.XLOOKUP(FY10,InputS!6:6,InputS!15:15,0)","v":0.66},{"$f":"_xlfn.XLOOKUP(FZ10,InputS!6:6,InputS!15:15,0)","v":0.66},{"$f":"_xlfn.XLOOKUP(GA10,InputS!6:6,InputS!15:15,0)","v":0.66},{"$f":"_xlfn.XLOOKUP(GB10,InputS!6:6,InputS!15:15,0)","v":0.66},{"$f":"_xlfn.XLOOKUP(GC10,InputS!6:6,InputS!15:15,0)","v":0.66},{"$f":"_xlfn.XLOOKUP(GD10,InputS!6:6,InputS!15:15,0)","v":0.66},{"$f":"_xlfn.XLOOKUP(GE10,InputS!6:6,InputS!15:15,0)","v":0.66},{"$f":"_xlfn.XLOOKUP(GF10,InputS!6:6,InputS!15:15,0)","v":0.66},{"$f":"_xlfn.XLOOKUP(GG10,InputS!6:6,InputS!15:15,0)","v":0.66},{"$f":"_xlfn.XLOOKUP(GH10,InputS!6:6,InputS!15:15,0)","v":0.66},{"$f":"_xlfn.XLOOKUP(GI10,InputS!6:6,InputS!15:15,0)","v":0.66},{"$f":"_xlfn.XLOOKUP(GJ10,InputS!6:6,InputS!15:15,0)","v":0.66},{"$f":"_xlfn.XLOOKUP(GK10,InputS!6:6,InputS!15:15,0)","v":0.66},{"$f":"_xlfn.XLOOKUP(GL10,InputS!6:6,InputS!15:15,0)","v":0.66},{"$f":"_xlfn.XLOOKUP(GM10,InputS!6:6,InputS!15:15,0)","v":0.66},{"$f":"_xlfn.XLOOKUP(GN10,InputS!6:6,InputS!15:15,0)","v":0.66},{"$f":"_xlfn.XLOOKUP(GO10,InputS!6:6,InputS!15:15,0)","v":0.66},{"$f":"_xlfn.XLOOKUP(GP10,InputS!6:6,InputS!15:15,0)","v":0.66},{"$f":"_xlfn.XLOOKUP(GQ10,InputS!6:6,InputS!15:15,0)","v":0.66},{"$f":"_xlfn.XLOOKUP(GR10,InputS!6:6,InputS!15:15,0)","v":0.66},{"$f":"_xlfn.XLOOKUP(GS10,InputS!6:6,InputS!15:15,0)","v":0.66},{"$f":"_xlfn.XLOOKUP(GT10,InputS!6:6,InputS!15:15,0)","v":0.66},{"$f":"_xlfn.XLOOKUP(GU10,InputS!6:6,InputS!15:15,0)","v":0.66},{"$f":"_xlfn.XLOOKUP(GV10,InputS!6:6,InputS!15:15,0)","v":0.66},{"$f":"_xlfn.XLOOKUP(GW10,InputS!6:6,InputS!15:15,0)","v":0.66},{"$f":"_xlfn.XLOOKUP(GX10,InputS!6:6,InputS!15:15,0)","v":0.66},{"$f":"_xlfn.XLOOKUP(GY10,InputS!6:6,InputS!15:15,0)","v":0.66},{"$f":"_xlfn.XLOOKUP(GZ10,InputS!6:6,InputS!15:15,0)","v":0.66},{"$f":"_xlfn.XLOOKUP(HA10,InputS!6:6,InputS!15:15,0)","v":0.66},{"$f":"_xlfn.XLOOKUP(HB10,InputS!6:6,InputS!15:15,0)","v":0.66},{"$f":"_xlfn.XLOOKUP(HC10,InputS!6:6,InputS!15:15,0)","v":0.66},{"$f":"_xlfn.XLOOKUP(HD10,InputS!6:6,InputS!15:15,0)","v":0.66},{"$f":"_xlfn.XLOOKUP(HE10,InputS!6:6,InputS!15:15,0)","v":0.66},{"$f":"_xlfn.XLOOKUP(HF10,InputS!6:6,InputS!15:15,0)","v":0.66},{"$f":"_xlfn.XLOOKUP(HG10,InputS!6:6,InputS!15:15,0)","v":0.66},{"$f":"_xlfn.XLOOKUP(HH10,InputS!6:6,InputS!15:15,0)","v":0.66},{"$f":"_xlfn.XLOOKUP(HI10,InputS!6:6,InputS!15:15,0)","v":0.66},{"$f":"_xlfn.XLOOKUP(HJ10,InputS!6:6,InputS!15:15,0)","v":0.66},{"$f":"_xlfn.XLOOKUP(HK10,InputS!6:6,InputS!15:15,0)","v":0.66},{"$f":"_xlfn.XLOOKUP(HL10,InputS!6:6,InputS!15:15,0)","v":0.66},{"$f":"_xlfn.XLOOKUP(HM10,InputS!6:6,InputS!15:15,0)","v":0.66},{"$f":"_xlfn.XLOOKUP(HN10,InputS!6:6,InputS!15:15,0)","v":0.66},{"$f":"_xlfn.XLOOKUP(HO10,InputS!6:6,InputS!15:15,0)","v":0.66},{"$f":"_xlfn.XLOOKUP(HP10,InputS!6:6,InputS!15:15,0)","v":0.66},{"$f":"_xlfn.XLOOKUP(HQ10,InputS!6:6,InputS!15:15,0)","v":0.66},{"$f":"_xlfn.XLOOKUP(HR10,InputS!6:6,InputS!15:15,0)","v":0.66},{"$f":"_xlfn.XLOOKUP(HS10,InputS!6:6,InputS!15:15,0)","v":0.66},{"$f":"_xlfn.XLOOKUP(HT10,InputS!6:6,InputS!15:15,0)","v":0.66},{"$f":"_xlfn.XLOOKUP(HU10,InputS!6:6,InputS!15:15,0)","v":0.66},{"$f":"_xlfn.XLOOKUP(HV10,InputS!6:6,InputS!15:15,0)","v":0.66},{"$f":"_xlfn.XLOOKUP(HW10,InputS!6:6,InputS!15:15,0)","v":0.66},{"$f":"_xlfn.XLOOKUP(HX10,InputS!6:6,InputS!15:15,0)","v":0.66},{"$f":"_xlfn.XLOOKUP(HY10,InputS!6:6,InputS!15:15,0)","v":0.66},{"$f":"_xlfn.XLOOKUP(HZ10,InputS!6:6,InputS!15:15,0)","v":0.66},{"$f":"_xlfn.XLOOKUP(IA10,InputS!6:6,InputS!15:15,0)","v":0.66},{"$f":"_xlfn.XLOOKUP(IB10,InputS!6:6,InputS!15:15,0)","v":0.66},{"$f":"_xlfn.XLOOKUP(IC10,InputS!6:6,InputS!15:15,0)","v":0.66},{"$f":"_xlfn.XLOOKUP(ID10,InputS!6:6,InputS!15:15,0)","v":0.66},{"$f":"_xlfn.XLOOKUP(IE10,InputS!6:6,InputS!15:15,0)","v":0.66},{"$f":"_xlfn.XLOOKUP(IF10,InputS!6:6,InputS!15:15,0)","v":0.66},{"$f":"_xlfn.XLOOKUP(IG10,InputS!6:6,InputS!15:15,0)","v":0.66},{"$f":"_xlfn.XLOOKUP(IH10,InputS!6:6,InputS!15:15,0)","v":0.66},{"$f":"_xlfn.XLOOKUP(II10,InputS!6:6,InputS!15:15,0)","v":0.66},{"$f":"_xlfn.XLOOKUP(IJ10,InputS!6:6,InputS!15:15,0)","v":0.66},{"$f":"_xlfn.XLOOKUP(IK10,InputS!6:6,InputS!15:15,0)","v":0.66},{"$f":"_xlfn.XLOOKUP(IL10,InputS!6:6,InputS!15:15,0)","v":0.66},{"$f":"_xlfn.XLOOKUP(IM10,InputS!6:6,InputS!15:15,0)","v":0.66},{"$f":"_xlfn.XLOOKUP(IN10,InputS!6:6,InputS!15:15,0)","v":0.66},{"$f":"_xlfn.XLOOKUP(IO10,InputS!6:6,InputS!15:15,0)","v":0},{"$f":"_xlfn.XLOOKUP(IP10,InputS!6:6,InputS!15:15,0)","v":0},{"$f":"_xlfn.XLOOKUP(IQ10,InputS!6:6,InputS!15:15,0)","v":0},{"$f":"_xlfn.XLOOKUP(IR10,InputS!6:6,InputS!15:15,0)","v":0},{"$f":"_xlfn.XLOOKUP(IS10,InputS!6:6,InputS!15:15,0)","v":0},{"$f":"_xlfn.XLOOKUP(IT10,InputS!6:6,InputS!15:15,0)","v":0},{"$f":"_xlfn.XLOOKUP(IU10,InputS!6:6,InputS!15:15,0)","v":0},{"$f":"_xlfn.XLOOKUP(IV10,InputS!6:6,InputS!15:15,0)","v":0},{"$f":"_xlfn.XLOOKUP(IW10,InputS!6:6,InputS!15:15,0)","v":0},{"$f":"_xlfn.XLOOKUP(IX10,InputS!6:6,InputS!15:15,0)","v":0},{"$f":"_xlfn.XLOOKUP(IY10,InputS!6:6,InputS!15:15,0)","v":0},{"$f":"_xlfn.XLOOKUP(IZ10,InputS!6:6,InputS!15:15,0)","v":0},{"$f":"_xlfn.XLOOKUP(JA10,InputS!6:6,InputS!15:15,0)","v":0},{"$f":"_xlfn.XLOOKUP(JB10,InputS!6:6,InputS!15:15,0)","v":0},{"$f":"_xlfn.XLOOKUP(JC10,InputS!6:6,InputS!15:15,0)","v":0},{"$f":"_xlfn.XLOOKUP(JD10,InputS!6:6,InputS!15:15,0)","v":0},{"$f":"_xlfn.XLOOKUP(JE10,InputS!6:6,InputS!15:15,0)","v":0},{"$f":"_xlfn.XLOOKUP(JF10,InputS!6:6,InputS!15:15,0)","v":0},{"$f":"_xlfn.XLOOKUP(JG10,InputS!6:6,InputS!15:15,0)","v":0},{"$f":"_xlfn.XLOOKUP(JH10,InputS!6:6,InputS!15:15,0)","v":0},{"$f":"_xlfn.XLOOKUP(JI10,InputS!6:6,InputS!15:15,0)","v":0},{"$f":"_xlfn.XLOOKUP(JJ10,InputS!6:6,InputS!15:15,0)","v":0},{"$f":"_xlfn.XLOOKUP(JK10,InputS!6:6,InputS!15:15,0)","v":0},{"$f":"_xlfn.XLOOKUP(JL10,InputS!6:6,InputS!15:15,0)","v":0},{"$f":"_xlfn.XLOOKUP(JM10,InputS!6:6,InputS!15:15,0)","v":0},{"$f":"_xlfn.XLOOKUP(JN10,InputS!6:6,InputS!15:15,0)","v":0},{"$f":"_xlfn.XLOOKUP(JO10,InputS!6:6,InputS!15:15,0)","v":0},{"$f":"_xlfn.XLOOKUP(JP10,InputS!6:6,InputS!15:15,0)","v":0},{"$f":"_xlfn.XLOOKUP(JQ10,InputS!6:6,InputS!15:15,0)","v":0},{"$f":"_xlfn.XLOOKUP(JR10,InputS!6:6,InputS!15:15,0)","v":0},{"$f":"_xlfn.XLOOKUP(JS10,InputS!6:6,InputS!15:15,0)","v":0},{"$f":"_xlfn.XLOOKUP(JT10,InputS!6:6,InputS!15:15,0)","v":0},{"$f":"_xlfn.XLOOKUP(JU10,InputS!6:6,InputS!15:15,0)","v":0},{"$f":"_xlfn.XLOOKUP(JV10,InputS!6:6,InputS!15:15,0)","v":0},{"$f":"_xlfn.XLOOKUP(JW10,InputS!6:6,InputS!15:15,0)","v":0},{"$f":"_xlfn.XLOOKUP(JX10,InputS!6:6,InputS!15:15,0)","v":0},{"$f":"_xlfn.XLOOKUP(JY10,InputS!6:6,InputS!15:15,0)","v":0},{"$f":"_xlfn.XLOOKUP(JZ10,InputS!6:6,InputS!15:15,0)","v":0},{"$f":"_xlfn.XLOOKUP(KA10,InputS!6:6,InputS!15:15,0)","v":0},{"$f":"_xlfn.XLOOKUP(KB10,InputS!6:6,InputS!15:15,0)","v":0},{"$f":"_xlfn.XLOOKUP(KC10,InputS!6:6,InputS!15:15,0)","v":0},{"$f":"_xlfn.XLOOKUP(KD10,InputS!6:6,InputS!15:15,0)","v":0},{"$f":"_xlfn.XLOOKUP(KE10,InputS!6:6,InputS!15:15,0)","v":0},{"$f":"_xlfn.XLOOKUP(KF10,InputS!6:6,InputS!15:15,0)","v":0},{"$f":"_xlfn.XLOOKUP(KG10,InputS!6:6,InputS!15:15,0)","v":0},{"$f":"_xlfn.XLOOKUP(KH10,InputS!6:6,InputS!15:15,0)","v":0},{"$f":"_xlfn.XLOOKUP(KI10,InputS!6:6,InputS!15:15,0)","v":0},{"$f":"_xlfn.XLOOKUP(KJ10,InputS!6:6,InputS!15:15,0)","v":0},{"$f":"_xlfn.XLOOKUP(KK10,InputS!6:6,InputS!15:15,0)","v":0},{"$f":"_xlfn.XLOOKUP(KL10,InputS!6:6,InputS!15:15,0)","v":0},{"$f":"_xlfn.XLOOKUP(KM10,InputS!6:6,InputS!15:15,0)","v":0},{"$f":"_xlfn.XLOOKUP(KN10,InputS!6:6,InputS!15:15,0)","v":0},{"$f":"_xlfn.XLOOKUP(KO10,InputS!6:6,InputS!15:15,0)","v":0},{"$f":"_xlfn.XLOOKUP(KP10,InputS!6:6,InputS!15:15,0)","v":0},{"$f":"_xlfn.XLOOKUP(KQ10,InputS!6:6,InputS!15:15,0)","v":0},{"$f":"_xlfn.XLOOKUP(KR10,InputS!6:6,InputS!15:15,0)","v":0},{"$f":"_xlfn.XLOOKUP(KS10,InputS!6:6,InputS!15:15,0)","v":0},{"$f":"_xlfn.XLOOKUP(KT10,InputS!6:6,InputS!15:15,0)","v":0},{"$f":"_xlfn.XLOOKUP(KU10,InputS!6:6,InputS!15:15,0)","v":0},{"$f":"_xlfn.XLOOKUP(KV10,InputS!6:6,InputS!15:15,0)","v":0}]
[]
[null,null,"Million Tokens per Month Sold",null,"MM/Month",{"$f":"MAX(I31:KV31)","v":643500000},null,{"$f":"SUM(I31:XFD31)","v":46332000000},{"$f":"I27*I29","v":0},{"$f":"J27*J29","v":0},0,0,0,0,0,0,643500000,643500000,643500000,643500000,643500000,643500000,643500000,643500000,643500000,643500000,643500000,643500000,643500000,643500000,643500000,643500000,643500000,643500000,643500000,643500000,643500000,643500000,643500000,643500000,643500000,643500000,643500000,643500000,643500000,643500000,643500000,643500000,643500000,643500000,643500000,643500000,643500000,643500000,643500000,643500000,643500000,643500000,643500000,643500000,643500000,643500000,643500000,643500000,643500000,643500000,643500000,643500000,643500000,643500000,643500000,643500000,643500000,{"$f":"BV27*BV29","v":643500000},643500000,643500000,643500000,643500000,643500000,643500000,643500000,643500000,643500000,643500000,643500000,643500000,643500000,643500000,0,0,0,0,0,0,0,0,0,0,0,0,0,0,0,0,0,0,0,0,0,0,0,0,0,0,0,0,0,0,0,0,0,0,0,0,0,0,0,0,0,0,0,0,0,0,0,0,0,{"$f":"EH27*EH29","v":0},0,0,0,0,0,0,0,0,0,0,0,0,0,0,0,0,0,0,0,0,0,0,0,0,0,0,0,0,0,0,0,0,0,0,0,0,0,0,0,0,0,0,0,0,0,0,0,0,0,0,0,0,0,0,0,0,0,0,0,0,0,0,0,{"$f":"GT27*GT29","v":0},0,0,0,0,0,0,0,0,0,0,0,0,0,0,0,0,0,0,0,0,0,0,0,0,0,0,0,0,0,0,0,0,0,0,0,0,0,0,0,0,0,0,0,0,0,0,0,0,0,0,0,0,0,0,0,0,0,0,0,0,0,0,0,{"$f":"JF27*JF29","v":0},0,0,0,0,0,0,0,0,0,0,0,0,0,0,0,0,0,0,0,0,0,0,0,0,0,0,0,0,0,0,0,0,0,0,0,0,0,0,0,0,0,0]
[]
[null,"Revenues"]
[]
[null,null,"Price of IT per MWH (Legacy)",null,"USD/MWH",6000,"Price",null,{"$f":"$F$35","v":6000},6000,6000,6000,6000,6000,6000,6000,6000,6000,6000,6000,6000,6000,6000,6000,6000,6000,6000,6000,6000,6000,6000,6000,6000,6000,6000,6000,6000,6000,6000,6000,6000,6000,6000,6000,6000,6000,6000,6000,6000,6000,6000,6000,6000,6000,6000,6000,6000,6000,6000,6000,6000,6000,6000,6000,6000,6000,6000,6000,6000,6000,6000,6000,{"$f":"$F$35","v":6000},6000,6000,6000,6000,6000,6000,6000,6000,6000,6000,6000,6000,6000,6000,6000,6000,6000,6000,6000,6000,6000,6000,6000,6000,6000,6000,6000,6000,6000,6000,6000,6000,6000,6000,6000,6000,6000,6000,6000,6000,6000,6000,6000,6000,6000,6000,6000,6000,6000,6000,6000,6000,6000,6000,6000,6000,6000,6000,6000,6000,6000,6000,6000,{"$f":"$F$35","v":6000},6000,6000,6000,6000,6000,6000,6000,6000,6000,6000,6000,6000,6000,6000,6000,6000,6000,6000,6000,6000,6000,6000,6000,6000,6000,6000,6000,6000,6000,6000,6000,6000,6000,6000,6000,6000,6000,6000,6000,6000,6000,6000,6000,6000,6000,6000,6000,6000,6000,6000,6000,6000,6000,6000,6000,6000,6000,6000,6000,6000,6000,6000,6000,{"$f":"$F$35","v":6000},6000,6000,6000,6000,6000,6000,6000,6000,6000,6000,6000,6000,6000,6000,6000,6000,6000,6000,6000,6000,6000,6000,6000,6000,6000,6000,6000,6000,6000,6000,6000,6000,6000,6000,6000,6000,6000,6000,6000,6000,6000,6000,6000,6000,6000,6000,6000,6000,6000,6000,6000,6000,6000,6000,6000,6000,6000,6000,6000,6000,6000,6000,6000,{"$f":"$F$35","v":6000},6000,6000,6000,6000,6000,6000,6000,6000,6000,6000,6000,6000,6000,6000,6000,6000,6000,6000,6000,6000,6000,6000,6000,6000,6000,6000,6000,6000,6000,6000,6000,6000,6000,6000,6000,6000,6000,6000,6000,6000,6000,6000,6000]
[]
[null,null,"Price with IRR from Input for Each Scenarip",null,"USD/MM Token",{"$f":"InputC!G82","v":4.9267794336154251}]
[null,null,"Price with Fixed Price from Input for Technology",null,"USD/MM Token",{"$f":"InputC!G81","v":4.1924498487906989}]
[null,null,"Price from Input",null,"USD/MM Token",{"$f":"IF(G39,F37,F38)","v":4.9267794336154251},true,"Use Fixed Price"]
[null,null,"Price Computed from Goal Seek",null,"USD/MM Token",4.1924498487906989]
[null,null,"Price per MM Token - Goal seek or Given",null,"USD/MM Token",{"$f":"IF(apply_goal_seek,Price,F39)","v":4.9267794336154251},false,"apply goal seek",{"$f":"$F$41","v":4.9267794336154251},{"$f":"$F$41","v":4.9267794336154251},4.9267794336154251,4.9267794336154251,4.9267794336154251,4.9267794336154251,4.9267794336154251,4.9267794336154251,4.9267794336154251,4.9267794336154251,4.9267794336154251,4.9267794336154251,4.9267794336154251,4.9267794336154251,4.9267794336154251,4.9267794336154251,4.9267794336154251,4.9267794336154251,4.9267794336154251,4.9267794336154251,4.9267794336154251,4.9267794336154251,4.9267794336154251,4.9267794336154251,4.9267794336154251,4.9267794336154251,4.9267794336154251,4.9267794336154251,4.9267794336154251,4.9267794336154251,4.9267794336154251,4.9267794336154251,4.9267794336154251,4.9267794336154251,4.9267794336154251,4.9267794336154251,4.9267794336154251,4.9267794336154251,4.9267794336154251,4.9267794336154251,4.9267794336154251,4.9267794336154251,4.9267794336154251,4.9267794336154251,4.9267794336154251,4.9267794336154251,4.9267794336154251,4.9267794336154251,4.9267794336154251,4.9267794336154251,4.9267794336154251,4.9267794336154251,4.9267794336154251,4.9267794336154251,4.9267794336154251,4.9267794336154251,4.9267794336154251,4.9267794336154251,4.9267794336154251,4.9267794336154251,4.9267794336154251,4.9267794336154251,4.9267794336154251,4.9267794336154251,4.9267794336154251,{"$f":"$F$41","v":4.9267794336154251},4.9267794336154251,4.9267794336154251,4.9267794336154251,4.9267794336154251,4.9267794336154251,4.9267794336154251,4.9267794336154251,4.9267794336154251,4.9267794336154251,4.9267794336154251,4.9267794336154251,4.9267794336154251,4.9267794336154251,4.9267794336154251,4.9267794336154251,4.9267794336154251,4.9267794336154251,4.9267794336154251,4.9267794336154251,4.9267794336154251,4.9267794336154251,4.9267794336154251,4.9267794336154251,4.9267794336154251,4.9267794336154251,4.9267794336154251,4.9267794336154251,4.9267794336154251,4.9267794336154251,4.9267794336154251,4.9267794336154251,4.9267794336154251,4.9267794336154251,4.9267794336154251,4.9267794336154251,4.9267794336154251,4.9267794336154251,4.9267794336154251,4.9267794336154251,4.9267794336154251,4.9267794336154251,4.9267794336154251,4.9267794336154251,4.9267794336154251,4.9267794336154251,4.9267794336154251,4.9267794336154251,4.9267794336154251,4.9267794336154251,4.9267794336154251,4.9267794336154251,4.9267794336154251,4.9267794336154251,4.9267794336154251,4.9267794336154251,4.9267794336154251,4.9267794336154251,4.9267794336154251,4.9267794336154251,4.9267794336154251,4.9267794336154251,4.9267794336154251,4.9267794336154251,{"$f":"$F$41","v":4.9267794336154251},4.9267794336154251,4.9267794336154251,4.9267794336154251,4.9267794336154251,4.9267794336154251,4.9267794336154251,4.9267794336154251,4.9267794336154251,4.9267794336154251,4.9267794336154251,4.9267794336154251,4.9267794336154251,4.9267794336154251,4.9267794336154251,4.9267794336154251,4.9267794336154251,4.9267794336154251,4.9267794336154251,4.9267794336154251,4.9267794336154251,4.9267794336154251,4.9267794336154251,4.9267794336154251,4.9267794336154251,4.9267794336154251,4.9267794336154251,4.9267794336154251,4.9267794336154251,4.9267794336154251,4.9267794336154251,4.9267794336154251,4.9267794336154251,4.9267794336154251,4.9267794336154251,4.9267794336154251,4.9267794336154251,4.9267794336154251,4.9267794336154251,4.9267794336154251,4.9267794336154251,4.9267794336154251,4.9267794336154251,4.9267794336154251,4.9267794336154251,4.9267794336154251,4.9267794336154251,4.9267794336154251,4.9267794336154251,4.9267794336154251,4.9267794336154251,4.9267794336154251,4.9267794336154251,4.9267794336154251,4.9267794336154251,4.9267794336154251,4.9267794336154251,4.9267794336154251,4.9267794336154251,4.9267794336154251,4.9267794336154251,4.9267794336154251,4.9267794336154251,4.9267794336154251,{"$f":"$F$41","v":4.9267794336154251},4.9267794336154251,4.9267794336154251,4.9267794336154251,4.9267794336154251,4.9267794336154251,4.9267794336154251,4.9267794336154251,4.9267794336154251,4.9267794336154251,4.9267794336154251,4.9267794336154251,4.9267794336154251,4.9267794336154251,4.9267794336154251,4.9267794336154251,4.9267794336154251,4.9267794336154251,4.9267794336154251,4.9267794336154251,4.9267794336154251,4.9267794336154251,4.9267794336154251,4.9267794336154251,4.9267794336154251,4.9267794336154251,4.9267794336154251,4.9267794336154251,4.9267794336154251,4.9267794336154251,4.9267794336154251,4.9267794336154251,4.9267794336154251,4.9267794336154251,4.9267794336154251,4.9267794336154251,4.9267794336154251,4.9267794336154251,4.9267794336154251,4.9267794336154251,4.9267794336154251,4.9267794336154251,4.9267794336154251,4.9267794336154251,4.9267794336154251,4.9267794336154251,4.9267794336154251,4.9267794336154251,4.9267794336154251,4.9267794336154251,4.9267794336154251,4.9267794336154251,4.9267794336154251,4.9267794336154251,4.9267794336154251,4.9267794336154251,4.9267794336154251,4.9267794336154251,4.9267794336154251,4.9267794336154251,4.9267794336154251,4.9267794336154251,4.9267794336154251,4.9267794336154251,{"$f":"$F$41","v":4.9267794336154251},4.9267794336154251,4.9267794336154251,4.9267794336154251,4.9267794336154251,4.9267794336154251,4.9267794336154251,4.9267794336154251,4.9267794336154251,4.9267794336154251,4.9267794336154251,4.9267794336154251,4.9267794336154251,4.9267794336154251,4.9267794336154251,4.9267794336154251,4.9267794336154251,4.9267794336154251,4.9267794336154251,4.9267794336154251,4.9267794336154251,4.9267794336154251,4.9267794336154251,4.9267794336154251,4.9267794336154251,4.9267794336154251,4.9267794336154251,4.9267794336154251,4.9267794336154251,4.9267794336154251,4.9267794336154251,4.9267794336154251,4.9267794336154251,4.9267794336154251,4.9267794336154251,4.9267794336154251,4.9267794336154251,4.9267794336154251,4.9267794336154251,4.9267794336154251,4.9267794336154251,4.9267794336154251,4.9267794336154251]
[null,null,"Inflation Index",null,"Index",null,null,null,{"$f":"I57","v":1.0016515813019202},{"$f":"J57","v":1.0033058903246372},1.0049629315732038,1.006622709560113,1.0082852288053108,1.0099504938362081,1.011618509187693,1.0132892794021437,1.0149628090294405,1.0166391026269779,1.0183181647596775,1.0200000000000002,1.0216846129279589,1.0233720081311304,1.0250621902046684,1.0267551637513157,1.0284509333814174,1.0301495037129325,1.0318508793714471,1.033555064990187,1.0352620652100297,1.036971884679518,1.0386845280548715,1.0404000000000009,1.0421183051865186,1.0438394482937534,1.0455634340087621,1.0472902670263424,1.0490199520490462,1.0507524937871917,1.0524878969588767,1.0542261662899912,1.0559673065142308,1.0577113223731087,1.0594582186159696,1.0612080000000015,1.0629606712902497,1.0647162372596293,1.0664747026889381,1.06823607236687,1.0700003510900278,1.0717675436629361,1.0735376548980549,1.0753106896157918,1.0770866526445162,1.0788655488205716,1.0806473829882897,1.0824321600000022,1.0842198847160553,1.0860105620048224,1.0878041967427174,1.089600793814208,1.091400358111829,1.0932028945361956,1.0950084079960165,1.0968169034081081,1.0986283856974071,1.1004428597969838,1.1022603306480561,1.1040808032000029,1.1059042824103771,1.1077307732449195,1.1095602806775724,1.1113928096904928,1.1132283652740662,{"$f":"BV57","v":1.1150669524269201},1.1169085761559376,1.1187532414762711,1.1206009534113559,1.122451716992924,1.1243055372610178,1.1261624192640034,1.128022368058585,1.1298853887098184,1.1317514862911244,1.1336206658843033,1.1354929325795482,1.137368291475459,1.1392467476790569,1.1411283063057971,1.1430129724795837,1.1449007513327831,1.1467916480062388,1.1486856676492843,1.1505828154197575,1.1524830964840156,1.1543865160169478,1.1562930792019901,1.1582027912311399,1.1601156573049691,1.1620316826326389,1.1639508724319139,1.1658732319291762,1.1677987663594398,1.1697274809663645,1.1716593810022708,1.1735944717281537,1.1755327584136968,1.1774742463372876,1.1794189407860309,1.1813668470557637,1.1833179704510695,1.1852723162852927,1.1872298898805531,1.1891906965677606,1.1911547416866293,1.1931220305856924,1.1950925686223168,1.1970663611627173,1.1990434135819712,1.2010237312640337,1.2030073196017519,1.2049941839968794,1.2069843298600913,1.208977762610999,1.2109744876781647,1.2129745104991163,1.2149778365203625,1.2169844711974069,1.2189944199947638,1.2210076883859722,1.2230242818536112,1.225044205889315,1.2270674659937875,1.2290940676768174,1.2311240164572934,1.2331573178632191,1.2351939774317282,1.2372340007090989,{"$f":"EH57","v":1.2392773932507701},1.2413241606213556,1.2433743083946598,1.2454278421536924,1.2474847674906844,1.2495450900071023,1.2516088153136642,1.2536759490303548,1.2557464967864405,1.2578204642204847,1.2598978569803638,1.261978680723282,1.2640629411157864,1.2661506438337835,1.2682417945625537,1.2703363989967669,1.2724344628404987,1.274535991807245,1.2766409916199382,1.2787494680109626,1.2808614267221698,1.282976873504895,1.2850958141199718,1.2872182543377482,1.2893441999381028,1.2914736567104599,1.2936066304538054,1.295743126976703,1.2978831520973093,1.3000267116433906,1.3021738114523376,1.3043244573711825,1.3064786552566141,1.3086364109749937,1.3107977304023719,1.3129626194245039,1.3151310839368655,1.3173031298446698,1.3194787630628821,1.3216579895162377,1.3238408151392562,1.326027245876259,1.3282172876813849,1.3304109465186067,1.3326082283617469,1.3348091391944941,1.3370136850104199,1.3392218718129947,1.3414337056156036,1.3436491924415639,1.3458683383241405,1.348091149306563,1.350317631442042,1.3525477907937848,1.3547816334350133,1.3570191654489796,1.3592603929289826,1.3615053219783848,1.3637539587106291,1.3660063092492554,1.3682623797279165,1.3705221762903961,1.3727857050906243,1.3750529722926954,{"$f":"GT57","v":1.3773239840708837},1.3795987466096615,1.3818772661037146,1.3841595487579601,1.3864456007875632,1.3887354284179534,1.3910290378848427,1.3933264354342414,1.3956276273224757,1.3979326198162048,1.4002414191924375,1.4025540317385499,1.4048704637523022,1.4071907215418555,1.4095148114257896,1.4118427397331201,1.4141745128033152,1.4165101369863133,1.4188496186425403,1.4211929641429271,1.423540179868926,1.4258912722125296,1.4282462475762872,1.4306051123733219,1.4329678730273492,1.4353345359726934,1.4377051076543064,1.4400795945277833,1.4424580030593823,1.4448403397260403,1.447226611015392,1.4496168234257865,1.4520109834663055,1.4544090976567812,1.4568111725278137,1.4592172146207891,1.461627230487897,1.4640412266921483,1.4664592098073934,1.46888118641834,1.471307163120571,1.4737371465205622,1.4761711432357008,1.478609159894303,1.4810512031356324,1.4834972796099177,1.4859473959783709,1.4884015589132058,1.4908597750976558,1.4933220512259922,1.4957883940035421,1.4982588101467076,1.5007333063829831,1.5032118894509741,1.5056945661004155,1.5081813430921898,1.5106722271983457,1.5131672252021167,1.515666343897939,1.5181695900914707,1.5206769705996097,1.5231884922505128,1.5257041618836138,1.5282239863496427,{"$f":"JF57","v":1.5307479725106439},1.5332761272399948,1.5358084574224251,1.538344969954035,1.5408856717423141,1.5434305697061605,1.5459796707758993,1.5485329818933016,1.5510905100116033,1.5536522620955244,1.5562182451212874,1.5587884660766367,1.5613629319608577,1.5639416497847956,1.5665246265708743,1.5691118693531163,1.5717033851771609,1.5742991811002842,1.5768992641914177,1.5795036415311681,1.5821123202118359,1.5847253073374354,1.5873426100237138,1.5899642353981702,1.5925901906000757,1.5952204827804923,1.5978551191022927,1.6004941067401797,1.6031374528807052,1.6057851647222909,1.6084372494752472,1.6110937143617925,1.6137545666160735,1.616419813484185,1.6190894622241887,1.6217635201061342,1.6244419944120778,1.6271248924361028,1.6298122214843391,1.6325039888749837,1.6352002019383198,1.6379008680167373,1.6406059944647526]
[null,null,"Price per MM Token with Inflation",null,"USD/MM Token",null,null,null,{"$f":"I41*I42","v":4.9349164104066698},{"$f":"J41*J42","v":4.9430668260766364},4.9512307028207267,4.959408062870998,4.9675989284962281,4.9758033220019717,4.9840212657306227,4.9922527820614757,5.0004978934107873,5.0087566222318358,5.0170289910149828,5.0253150222877352,5.033614738614804,5.0419281625981709,5.0502553168771431,5.0585962241284204,5.0669509070661549,5.0753193884420122,5.0837016910452366,5.0920978377027071,5.1005078512790059,5.1089317546764752,5.1173695708352849,5.1258213227334926,5.1342870333871025,5.1427667258501364,5.1512604232146879,5.1597681486109908,5.1682899252074801,5.1768257762108556,5.1853757248661445,5.1939397944567638,5.2025180083045877,5.2111103897700071,5.2197169622519937,5.2283377491881655,5.2369727740548484,5.2456220603671433,5.254285631678985,5.2629635115832141,5.2716557237116328,5.2803622917350763,5.2890832393634701,5.2978185903459032,5.3065683684706837,5.3153325975654102,5.3241113014970374,5.3329045041719318,5.3417122295359487,5.3505345015744883,5.3593713443125681,5.3682227818148816,5.3770888381858688,5.3859695375697809,5.3948649041507428,5.4037749621528235,5.4126997358400999,5.4216392495167227,5.4305935275269812,5.4395625942553743,5.4485464741266707,5.4575451916059814,5.4665587711988222,5.4755872374511823,5.4846306149495891,{"$f":"BV41*BV42","v":5.4936889283211796},5.502762202233761,5.5118504613958841,5.5209537305569052,5.53007203450706,5.5392053980775238,5.5483538461404835,5.5575174036092063,5.5666960954381031,5.5758899466228016,5.5850989822002086,5.5943232272485846,5.6035627068876055,5.6128174462784388,5.6220874706238044,5.6313728051680467,5.6406734751972039,5.649989506039077,5.659320923063297,5.6686677516813937,5.6780300173468694,5.6874077455552614,5.6968009618442164,5.7062096917935596,5.7156339610253628,5.7250737952040121,5.7345292200362845,5.7440002612714123,5.7534869447011534,5.762989296159863,5.7725073415245678,5.7820411067150275,5.791590617693811,5.8011559004663713,5.8107369810811065,5.8203338856294362,5.8299466402458746,5.8395752711080977,5.8492198044370154,5.8588802664968442,5.8685566835951795,5.8782490820830642,5.8879574883550614,5.8976819288493303,5.9074224300476903,5.9171790184757009,5.9269517207027302,5.9367405633420267,5.9465455730507939,5.9563667765302615,5.9662042005257581,5.9760578718267841,5.9859278172670862,5.9958140637247279,6.0057166381221663,6.0156355674263198,6.0255708786486464,6.0355225988452172,6.0454907551167869,6.0554753746088696,6.0654764845118114,6.0754941120608672,6.0855282845362737,6.0955790292633214,{"$f":"EH41*EH42","v":6.10564637361243},6.1157303449992257,6.1258309708846133,6.1359482787748494,6.1460822962216239,6.1562330508221272,6.1664005702191274,6.1765848821010518,6.1867860142020534,6.1970039943020909,6.2072388502270046,6.2174906098485927,6.2277593010846823,6.238044951899214,6.2483475903023091,6.2586672443503497,6.2690039421460595,6.2793577118385722,6.289728581623514,6.3001165797430767,6.3105217344860973,6.3209440741881355,6.3313836272315482,6.3418404220455669,6.3523144871063799,6.3628058509372014,6.3733145421083579,6.3838405892373604,6.3943840209889844,6.404944866075347,6.4155231532559869,6.4261189113379418,6.4367321691758237,6.4473629556719025,6.4580112997761825,6.4686772304864819,6.4793607768485106,6.490061967955949,6.5007808329505279,6.5115174010221111,6.5222717014087674,6.533043763396857,6.5438336163211099,6.554641289564703,6.5654668125593423,6.5763102147853427,6.5871715257717094,6.5980507750962154,6.6089479923854846,6.6198632073150714,6.6307964496095426,6.6417477490425565,6.6527171354369461,6.6637046386647976,6.6747102886475354,6.6857341153560004,6.6967761488105335,6.7078364190810538,6.7189149562871471,6.7300117905981436,6.7411269522331985,6.7522604714613772,6.7634123786017382,6.7745827040234126,{"$f":"GT41*GT42","v":6.7857714781456897},6.7969787314380987,6.8082044944204911,6.8194487976631253,6.830711671786748,6.8419931474626789,6.8532932554128951,6.8646120264101107,6.8759494912778667,6.8873056808906084,6.8986806261737765,6.9100743581038842,6.9214869077086068,6.9329183060668642,6.9443685843089042,6.9558377736163921,6.967325905222487,6.9788330104119369,6.9903591205211564,7.0019042669383174,7.0134684811034278,7.0250517945084248,7.0366542386972561,7.0482758452659668,7.059916645862784,7.0715766721882058,7.0832559559950869,7.0949545290887235,7.1066724233269412,7.1184096706201796,7.1301663029315838,7.1419423522770877,7.1537378507255012,7.1655528303985978,7.1773873234712049,7.1892413621712894,7.2011149787800433,7.2130082056319749,7.2249210751149935,7.2368536196705024,7.2488058717934845,7.2607778640325886,7.2727696289902202,7.2847811993226337,7.2968126077400148,7.3088638870065745,7.3209350699406341,7.3330261894147197,7.345137278355649,7.3572683697446184,7.3694194966172981,7.3815906920639165,7.3937819892293577,7.4059934213132435,7.4182250215700281,7.4304768233090899,7.4427488598948184,7.4550411647467092,7.4673537713394502,7.4796867132030185,7.4920400239227654,7.5044137371395143,7.5168078865496479,7.5292225059052003,{"$f":"JF41*JF42","v":7.5416576290139501},7.5541132897395142,7.5665895220014354,7.5790863597752791,7.5916038370927224,7.6041419880416505,7.6167008467662463,7.6292804474670861,7.6418808244012277,7.6545020118823119,7.6671440442806471,7.6798069560233095,7.6924907815942341,7.705195555534309,7.7179213124414678,7.7306680869707876,7.7434359138345794,7.7562248278024857,7.7690348637015738,7.7818660564164297,7.7947184408892554,7.8075920521199604,7.8204869251662634,7.8334030951437796,7.8463405972261224,7.8592994666449991,7.8722797386903016,7.8852814487102085,7.8983046321112758,7.9113493243585404,7.9244155609756106,7.9375033775447639,7.950612809707045,7.9637438931623636,7.9768966636695913,7.9900711570466578,8.0032674091706486,8.016485455977902,8.0297253334641105,8.0429870776844155,8.0562707247535048,8.069576310845715,8.082903872195125]
[null,null,"Revenues from Selling Tokens",null,"USD",null,null,{"$f":"SUM(I44:XFD44)","v":245805644108.34341},{"$f":"I43*I31","v":0},0,0,0,0,0,0,0,3217820394.4098415,3223134886.4061866,3228458155.7181416,3233790216.8421574,3239131084.2986264,3244480772.6319232,3249839296.4104414,3255206670.2266383,3260582908.6970706,3265968026.4624348,3271362038.1876097,3276764958.5616922,3282176802.2980404,3287597584.1343117,3293027318.8325057,3298466021.1790023,3303913705.9846005,3309370388.0845628,3314836082.3386517,3320310803.6311727,3325794566.8710136,3331287386.9916854,3336789278.951364,3342300257.7329273,3347820338.3440022,3353349535.8169994,3358887865.2091579,3364435341.6025844,3369991980.1042948,3375557795.8462567,3381132803.9854269,3386717019.7037983,3392310458.2084355,3397913134.7315216,3403525064.5303931,3409146262.8875885,3414776745.1108851,3420416526.5333414,3426065622.5133433,3431724048.434638,3437391819.7063832,3443068951.7631831,3448755460.0651374,3454451360.0978761,3460156667.3726068,3465871397.4261541,3471595565.821003,3477329188.1453419,3483072280.0131044,3488824857.0640111,3494586934.9636126,3500358529.4033332,3506139656.1005125,3511930330.798449,3517730569.2664423,3523540387.2998357,{"$f":"BU43*BU31","v":3529359800.7200608},3535188825.3746791,3541027477.1374254,3546875771.9082513,3552733725.6133685,3558601354.2052932,3564478673.6628866,3570365699.9914012,3576262449.2225242,3582168937.4144192,3588085180.651773,3594011195.0458341,3599946996.7344642,3605892601.882174,3611848026.6801753,3617813287.3464184,0,0,0,0,0,0,0,0,0,0,0,0,0,0,0,0,0,0,0,0,0,0,0,0,0,0,0,0,0,0,0,0,0,0,0,0,0,0,0,0,0,0,0,0,0,0,0,0,{"$f":"EG43*EG31","v":0},0,0,0,0,0,0,0,0,0,0,0,0,0,0,0,0,0,0,0,0,0,0,0,0,0,0,0,0,0,0,0,0,0,0,0,0,0,0,0,0,0,0,0,0,0,0,0,0,0,0,0,0,0,0,0,0,0,0,0,0,0,0,0,{"$f":"GS43*GS31","v":0},0,0,0,0,0,0,0,0,0,0,0,0,0,0,0,0,0,0,0,0,0,0,0,0,0,0,0,0,0,0,0,0,0,0,0,0,0,0,0,0,0,0,0,0,0,0,0,0,0,0,0,0,0,0,0,0,0,0,0,0,0,0,0,{"$f":"JE43*JE31","v":0},0,0,0,0,0,0,0,0,0,0,0,0,0,0,0,0,0,0,0,0,0,0,0,0,0,0,0,0,0,0,0,0,0,0,0,0,0,0,0,0,0,0,0]
[null,null,"IRR",null,"%",{"$f":"F127","v":0.21555972695350648}]
[]
[null,null,"Revenues per kWit",null,"USD/kWit",null,null,{"$f":"LOOKUP(F9,7:7,47:47)","v":21452.135962732278},{"$f":"IF(I14,(I44/I14)/1000)","v":false},{"$f":"IF(J14,(J44/J14)/1000)","v":false},false,false,false,false,false,false,21452.135962732278,21487.565909374574,21523.054371454276,21558.601445614382,21594.207228657509,21629.871817546154,21665.595309402943,21701.377801510924,21737.219391313803,21773.120176416232,21809.080254584063,21845.099723744617,21881.178681986934,21917.317227562078,21953.515458883372,21989.773474526683,22026.091373230669,22062.469253897085,22098.907215591011,22135.405357541153,22171.963779140093,22208.58257994457,22245.26185967576,22282.001718219515,22318.802255626681,22355.663572113332,22392.585768061053,22429.568944017228,22466.613200695298,22503.718638975046,22540.885359902848,22578.113464691989,22615.403054722905,22652.754231543477,22690.167096869285,22727.641752583924,22765.178300739233,22802.77684355561,22840.437483422291,22878.160322897587,22915.945464709221,22953.793011754555,22991.703067100916,23029.675733985841,23067.711115817379,23105.809316174364,23143.970438806686,23182.194587635615,23220.481866754028,23258.832380426742,23297.246233090751,23335.723529355557,23374.264374003418,23412.86887198966,23451.537128442946,23490.269248665572,23529.065338133736,{"$f":"IF(BV14,(BV44/BV14)/1000)","v":23567.925502497859},23606.849847582835,23645.838479388342,23684.891504089126,23724.009028035285,23763.191157752579,23802.437999942675,23841.749661483493,23881.126249429461,23920.567871011819,23960.074633638891,23999.646644896427,24039.284012547829,24078.986844534502,24118.755248976122,false,false,false,false,false,false,false,false,false,false,false,false,false,false,false,false,false,false,false,false,false,false,false,false,false,false,false,false,false,false,false,false,false,false,false,false,false,false,false,false,false,false,false,false,false,false,false,false,false,{"$f":"IF(EH14,(EH44/EH14)/1000)","v":false},false,false,false,false,false,false,false,false,false,false,false,false,false,false,false,false,false,false,false,false,false,false,false,false,false,false,false,false,false,false,false,false,false,false,false,false,false,false,false,false,false,false,false,false,false,false,false,false,false,false,false,false,false,false,false,false,false,false,false,false,false,false,false,{"$f":"IF(GT14,(GT44/GT14)/1000)","v":false},false,false,false,false,false,false,false,false,false,false,false,false,false,false,false,false,false,false,false,false,false,false,false,false,false,false,false,false,false,false,false,false,false,false,false,false,false,false,false,false,false,false,false,false,false,false,false,false,false,false,false,false,false,false,false,false,false,false,false,false,false,false,false,{"$f":"IF(JF14,(JF44/JF14)/1000)","v":false},false,false,false,false,false,false,false,false,false,false,false,false,false,false,false,false,false,false,false,false,false,false,false,false,false,false,false,false,false,false,false,false,false,false,false,false,false,false,false,false,false,false]
[]
[null,null,"GPU per MW",null,"GPU/MW",{"$f":"InputC!G36","v":540},null,null,{"$f":"$F$49","v":540},{"$f":"$F$49","v":540},540,540,540,540,540,540,540,540,540,540,540,540,540,540,540,540,540,540,540,540,540,540,540,540,540,540,540,540,540,540,540,540,540,540,540,540,540,540,540,540,540,540,540,540,540,540,540,540,540,540,540,540,540,540,540,540,540,540,540,540,540,540,540,{"$f":"$F$49","v":540},540,540,540,540,540,540,540,540,540,540,540,540,540,540,540,540,540,540,540,540,540,540,540,540,540,540,540,540,540,540,540,540,540,540,540,540,540,540,540,540,540,540,540,540,540,540,540,540,540,540,540,540,540,540,540,540,540,540,540,540,540,540,540,{"$f":"$F$49","v":540},540,540,540,540,540,540,540,540,540,540,540,540,540,540,540,540,540,540,540,540,540,540,540,540,540,540,540,540,540,540,540,540,540,540,540,540,540,540,540,540,540,540,540,540,540,540,540,540,540,540,540,540,540,540,540,540,540,540,540,540,540,540,540,{"$f":"$F$49","v":540},540,540,540,540,540,540,540,540,540,540,540,540,540,540,540,540,540,540,540,540,540,540,540,540,540,540,540,540,540,540,540,540,540,540,540,540,540,540,540,540,540,540,540,540,540,540,540,540,540,540,540,540,540,540,540,540,540,540,540,540,540,540,540,{"$f":"$F$49","v":540},540,540,540,540,540,540,540,540,540,540,540,540,540,540,540,540,540,540,540,540,540,540,540,540,540,540,540,540,540,540,540,540,540,540,540,540,540,540,540,540,540,540]
[null,null,"Total GPU",null,"GPU",null,null,null,{"$f":"I49*I14","v":0},{"$f":"J49*J14","v":0},0,0,0,0,0,0,81000,81000,81000,81000,81000,81000,81000,81000,81000,81000,81000,81000,81000,81000,81000,81000,81000,81000,81000,81000,81000,81000,81000,81000,81000,81000,81000,81000,81000,81000,81000,81000,81000,81000,81000,81000,81000,81000,81000,81000,81000,81000,81000,81000,81000,81000,81000,81000,81000,81000,81000,81000,81000,81000,81000,81000,81000,{"$f":"BV49*BV14","v":81000},81000,81000,81000,81000,81000,81000,81000,81000,81000,81000,81000,81000,81000,81000,0,0,0,0,0,0,0,0,0,0,0,0,0,0,0,0,0,0,0,0,0,0,0,0,0,0,0,0,0,0,0,0,0,0,0,0,0,0,0,0,0,0,0,0,0,0,0,0,0,{"$f":"EH49*EH14","v":0},0,0,0,0,0,0,0,0,0,0,0,0,0,0,0,0,0,0,0,0,0,0,0,0,0,0,0,0,0,0,0,0,0,0,0,0,0,0,0,0,0,0,0,0,0,0,0,0,0,0,0,0,0,0,0,0,0,0,0,0,0,0,0,{"$f":"GT49*GT14","v":0},0,0,0,0,0,0,0,0,0,0,0,0,0,0,0,0,0,0,0,0,0,0,0,0,0,0,0,0,0,0,0,0,0,0,0,0,0,0,0,0,0,0,0,0,0,0,0,0,0,0,0,0,0,0,0,0,0,0,0,0,0,0,0,{"$f":"JF49*JF14","v":0},0,0,0,0,0,0,0,0,0,0,0,0,0,0,0,0,0,0,0,0,0,0,0,0,0,0,0,0,0,0,0,0,0,0,0,0,0,0,0,0,0,0]
[null,null,"Revenues per GPU",null,"USD/GPU",null,null,{"$f":"LOOKUP(F9,7:7,51:51)","v":39726.177708763476},{"$f":"IF(I50,I44/I50)","v":false},{"$f":"IF(J50,J44/J50)","v":false},false,false,false,false,false,false,39726.177708763476,39791.788721064033,39857.508095285695,39923.336010397004,39989.272645662051,40055.318180641028,40121.472795190632,40187.73666946467,40254.109983914452,40320.592919289316,40387.185656637157,40453.888377304844,40520.701262938768,40587.624495485332,40654.658257191426,40721.80273060497,40789.058098575319,40856.424544253859,40923.902251094463,40991.491402853986,41059.192183592764,41127.004777675131,41194.929369769925,41262.966144850958,41331.115288197558,41399.376985395058,41467.751422335285,41536.238785217094,41604.839260546847,41673.553035138975,41742.380296116382,41811.32123091109,41880.37602726464,41949.54487322866,42018.827957165347,42088.225467748009,42157.737593961545,42227.364525102981,42297.106450782019,42366.96356092146,42436.936045757815,42507.024095841763,42577.227902038736,42647.547655529335,42717.983547809963,42788.535770693263,42859.20451630868,42929.989977102989,43000.892345840795,43071.911815605075,43143.048579797687,43214.302832139918,43285.674766672993,43357.164577758631,43428.772460079534,43500.498608639944,43572.343218766182,{"$f":"IF(BV50,BV44/BV50)","v":43644.306486107147},43716.388606634879,43788.58977664508,43860.910192757634,43933.350051917201,44005.909551393663,44078.588888782731,44151.388262006469,44224.307869313816,44297.347909281147,44370.50858081277,44443.790083141532,44517.192615829306,44590.716378767596,44664.361572178008,false,false,false,false,false,false,false,false,false,false,false,false,false,false,false,false,false,false,false,false,false,false,false,false,false,false,false,false,false,false,false,false,false,false,false,false,false,false,false,false,false,false,false,false,false,false,false,false,false,{"$f":"IF(EH50,EH44/EH50)","v":false},false,false,false,false,false,false,false,false,false,false,false,false,false,false,false,false,false,false,false,false,false,false,false,false,false,false,false,false,false,false,false,false,false,false,false,false,false,false,false,false,false,false,false,false,false,false,false,false,false,false,false,false,false,false,false,false,false,false,false,false,false,false,false,{"$f":"IF(GT50,GT44/GT50)","v":false},false,false,false,false,false,false,false,false,false,false,false,false,false,false,false,false,false,false,false,false,false,false,false,false,false,false,false,false,false,false,false,false,false,false,false,false,false,false,false,false,false,false,false,false,false,false,false,false,false,false,false,false,false,false,false,false,false,false,false,false,false,false,false,{"$f":"IF(JF50,JF44/JF50)","v":false},false,false,false,false,false,false,false,false,false,false,false,false,false,false,false,false,false,false,false,false,false,false,false,false,false,false,false,false,false,false,false,false,false,false,false,false,false,false,false,false,false,false]
[]
[null,"Inflation and Economic Statistics"]
[]
[null,null,"Annual Inflation Rate",null,"% p.a.",{"$f":"InputC!G68","v":0.02},null,null,{"$f":"$F$55","v":0.02},0.02,0.02,0.02,0.02,0.02,0.02,0.02,0.02,0.02,0.02,0.02,0.02,0.02,0.02,0.02,0.02,0.02,0.02,0.02,0.02,0.02,0.02,0.02,0.02,0.02,0.02,0.02,0.02,0.02,0.02,0.02,0.02,0.02,0.02,0.02,0.02,0.02,0.02,0.02,0.02,0.02,0.02,0.02,0.02,0.02,0.02,0.02,0.02,0.02,0.02,0.02,0.02,0.02,0.02,0.02,0.02,0.02,0.02,0.02,0.02,0.02,0.02,0.02,{"$f":"$F$55","v":0.02},0.02,0.02,0.02,0.02,0.02,0.02,0.02,0.02,0.02,0.02,0.02,0.02,0.02,0.02,0.02,0.02,0.02,0.02,0.02,0.02,0.02,0.02,0.02,0.02,0.02,0.02,0.02,0.02,0.02,0.02,0.02,0.02,0.02,0.02,0.02,0.02,0.02,0.02,0.02,0.02,0.02,0.02,0.02,0.02,0.02,0.02,0.02,0.02,0.02,0.02,0.02,0.02,0.02,0.02,0.02,0.02,0.02,0.02,0.02,0.02,0.02,0.02,0.02,{"$f":"$F$55","v":0.02},0.02,0.02,0.02,0.02,0.02,0.02,0.02,0.02,0.02,0.02,0.02,0.02,0.02,0.02,0.02,0.02,0.02,0.02,0.02,0.02,0.02,0.02,0.02,0.02,0.02,0.02,0.02,0.02,0.02,0.02,0.02,0.02,0.02,0.02,0.02,0.02,0.02,0.02,0.02,0.02,0.02,0.02,0.02,0.02,0.02,0.02,0.02,0.02,0.02,0.02,0.02,0.02,0.02,0.02,0.02,0.02,0.02,0.02,0.02,0.02,0.02,0.02,0.02,{"$f":"$F$55","v":0.02},0.02,0.02,0.02,0.02,0.02,0.02,0.02,0.02,0.02,0.02,0.02,0.02,0.02,0.02,0.02,0.02,0.02,0.02,0.02,0.02,0.02,0.02,0.02,0.02,0.02,0.02,0.02,0.02,0.02,0.02,0.02,0.02,0.02,0.02,0.02,0.02,0.02,0.02,0.02,0.02,0.02,0.02,0.02,0.02,0.02,0.02,0.02,0.02,0.02,0.02,0.02,0.02,0.02,0.02,0.02,0.02,0.02,0.02,0.02,0.02,0.02,0.02,0.02,{"$f":"$F$55","v":0.02},0.02,0.02,0.02,0.02,0.02,0.02,0.02,0.02,0.02,0.02,0.02,0.02,0.02,0.02,0.02,0.02,0.02,0.02,0.02,0.02,0.02,0.02,0.02,0.02,0.02,0.02,0.02,0.02,0.02,0.02,0.02,0.02,0.02,0.02,0.02,0.02,0.02,0.02,0.02,0.02,0.02,0.02,0.02]
[null,null,"Monthly Inflation Rate",null,"% p.m",{"$f":"(1+F55)^(1/12)-1","v":1.6515813019202241E-3},null,null,{"$f":"$F$56","v":1.6515813019202241E-3},{"$f":"$F$56","v":1.6515813019202241E-3},1.6515813019202241E-3,1.6515813019202241E-3,1.6515813019202241E-3,1.6515813019202241E-3,1.6515813019202241E-3,1.6515813019202241E-3,1.6515813019202241E-3,1.6515813019202241E-3,1.6515813019202241E-3,1.6515813019202241E-3,1.6515813019202241E-3,1.6515813019202241E-3,1.6515813019202241E-3,1.6515813019202241E-3,1.6515813019202241E-3,1.6515813019202241E-3,1.6515813019202241E-3,1.6515813019202241E-3,1.6515813019202241E-3,1.6515813019202241E-3,1.6515813019202241E-3,1.6515813019202241E-3,1.6515813019202241E-3,1.6515813019202241E-3,1.6515813019202241E-3,1.6515813019202241E-3,1.6515813019202241E-3,1.6515813019202241E-3,1.6515813019202241E-3,1.6515813019202241E-3,1.6515813019202241E-3,1.6515813019202241E-3,1.6515813019202241E-3,1.6515813019202241E-3,1.6515813019202241E-3,1.6515813019202241E-3,1.6515813019202241E-3,1.6515813019202241E-3,1.6515813019202241E-3,1.6515813019202241E-3,1.6515813019202241E-3,1.6515813019202241E-3,1.6515813019202241E-3,1.6515813019202241E-3,1.6515813019202241E-3,1.6515813019202241E-3,1.6515813019202241E-3,1.6515813019202241E-3,1.6515813019202241E-3,1.6515813019202241E-3,1.6515813019202241E-3,1.6515813019202241E-3,1.6515813019202241E-3,1.6515813019202241E-3,1.6515813019202241E-3,1.6515813019202241E-3,1.6515813019202241E-3,1.6515813019202241E-3,1.6515813019202241E-3,1.6515813019202241E-3,1.6515813019202241E-3,1.6515813019202241E-3,1.6515813019202241E-3,{"$f":"$F$56","v":1.6515813019202241E-3},1.6515813019202241E-3,1.6515813019202241E-3,1.6515813019202241E-3,1.6515813019202241E-3,1.6515813019202241E-3,1.6515813019202241E-3,1.6515813019202241E-3,1.6515813019202241E-3,1.6515813019202241E-3,1.6515813019202241E-3,1.6515813019202241E-3,1.6515813019202241E-3,1.6515813019202241E-3,1.6515813019202241E-3,1.6515813019202241E-3,1.6515813019202241E-3,1.6515813019202241E-3,1.6515813019202241E-3,1.6515813019202241E-3,1.6515813019202241E-3,1.6515813019202241E-3,1.6515813019202241E-3,1.6515813019202241E-3,1.6515813019202241E-3,1.6515813019202241E-3,1.6515813019202241E-3,1.6515813019202241E-3,1.6515813019202241E-3,1.6515813019202241E-3,1.6515813019202241E-3,1.6515813019202241E-3,1.6515813019202241E-3,1.6515813019202241E-3,1.6515813019202241E-3,1.6515813019202241E-3,1.6515813019202241E-3,1.6515813019202241E-3,1.6515813019202241E-3,1.6515813019202241E-3,1.6515813019202241E-3,1.6515813019202241E-3,1.6515813019202241E-3,1.6515813019202241E-3,1.6515813019202241E-3,1.6515813019202241E-3,1.6515813019202241E-3,1.6515813019202241E-3,1.6515813019202241E-3,1.6515813019202241E-3,1.6515813019202241E-3,1.6515813019202241E-3,1.6515813019202241E-3,1.6515813019202241E-3,1.6515813019202241E-3,1.6515813019202241E-3,1.6515813019202241E-3,1.6515813019202241E-3,1.6515813019202241E-3,1.6515813019202241E-3,1.6515813019202241E-3,1.6515813019202241E-3,1.6515813019202241E-3,1.6515813019202241E-3,{"$f":"$F$56","v":1.6515813019202241E-3},1.6515813019202241E-3,1.6515813019202241E-3,1.6515813019202241E-3,1.6515813019202241E-3,1.6515813019202241E-3,1.6515813019202241E-3,1.6515813019202241E-3,1.6515813019202241E-3,1.6515813019202241E-3,1.6515813019202241E-3,1.6515813019202241E-3,1.6515813019202241E-3,1.6515813019202241E-3,1.6515813019202241E-3,1.6515813019202241E-3,1.6515813019202241E-3,1.6515813019202241E-3,1.6515813019202241E-3,1.6515813019202241E-3,1.6515813019202241E-3,1.6515813019202241E-3,1.6515813019202241E-3,1.6515813019202241E-3,1.6515813019202241E-3,1.6515813019202241E-3,1.6515813019202241E-3,1.6515813019202241E-3,1.6515813019202241E-3,1.6515813019202241E-3,1.6515813019202241E-3,1.6515813019202241E-3,1.6515813019202241E-3,1.6515813019202241E-3,1.6515813019202241E-3,1.6515813019202241E-3,1.6515813019202241E-3,1.6515813019202241E-3,1.6515813019202241E-3,1.6515813019202241E-3,1.6515813019202241E-3,1.6515813019202241E-3,1.6515813019202241E-3,1.6515813019202241E-3,1.6515813019202241E-3,1.6515813019202241E-3,1.6515813019202241E-3,1.6515813019202241E-3,1.6515813019202241E-3,1.6515813019202241E-3,1.6515813019202241E-3,1.6515813019202241E-3,1.6515813019202241E-3,1.6515813019202241E-3,1.6515813019202241E-3,1.6515813019202241E-3,1.6515813019202241E-3,1.6515813019202241E-3,1.6515813019202241E-3,1.6515813019202241E-3,1.6515813019202241E-3,1.6515813019202241E-3,1.6515813019202241E-3,1.6515813019202241E-3,{"$f":"$F$56","v":1.6515813019202241E-3},1.6515813019202241E-3,1.6515813019202241E-3,1.6515813019202241E-3,1.6515813019202241E-3,1.6515813019202241E-3,1.6515813019202241E-3,1.6515813019202241E-3,1.6515813019202241E-3,1.6515813019202241E-3,1.6515813019202241E-3,1.6515813019202241E-3,1.6515813019202241E-3,1.6515813019202241E-3,1.6515813019202241E-3,1.6515813019202241E-3,1.6515813019202241E-3,1.6515813019202241E-3,1.6515813019202241E-3,1.6515813019202241E-3,1.6515813019202241E-3,1.6515813019202241E-3,1.6515813019202241E-3,1.6515813019202241E-3,1.6515813019202241E-3,1.6515813019202241E-3,1.6515813019202241E-3,1.6515813019202241E-3,1.6515813019202241E-3,1.6515813019202241E-3,1.6515813019202241E-3,1.6515813019202241E-3,1.6515813019202241E-3,1.6515813019202241E-3,1.6515813019202241E-3,1.6515813019202241E-3,1.6515813019202241E-3,1.6515813019202241E-3,1.6515813019202241E-3,1.6515813019202241E-3,1.6515813019202241E-3,1.6515813019202241E-3,1.6515813019202241E-3,1.6515813019202241E-3,1.6515813019202241E-3,1.6515813019202241E-3,1.6515813019202241E-3,1.6515813019202241E-3,1.6515813019202241E-3,1.6515813019202241E-3,1.6515813019202241E-3,1.6515813019202241E-3,1.6515813019202241E-3,1.6515813019202241E-3,1.6515813019202241E-3,1.6515813019202241E-3,1.6515813019202241E-3,1.6515813019202241E-3,1.6515813019202241E-3,1.6515813019202241E-3,1.6515813019202241E-3,1.6515813019202241E-3,1.6515813019202241E-3,1.6515813019202241E-3,{"$f":"$F$56","v":1.6515813019202241E-3},1.6515813019202241E-3,1.6515813019202241E-3,1.6515813019202241E-3,1.6515813019202241E-3,1.6515813019202241E-3,1.6515813019202241E-3,1.6515813019202241E-3,1.6515813019202241E-3,1.6515813019202241E-3,1.6515813019202241E-3,1.6515813019202241E-3,1.6515813019202241E-3,1.6515813019202241E-3,1.6515813019202241E-3,1.6515813019202241E-3,1.6515813019202241E-3,1.6515813019202241E-3,1.6515813019202241E-3,1.6515813019202241E-3,1.6515813019202241E-3,1.6515813019202241E-3,1.6515813019202241E-3,1.6515813019202241E-3,1.6515813019202241E-3,1.6515813019202241E-3,1.6515813019202241E-3,1.6515813019202241E-3,1.6515813019202241E-3,1.6515813019202241E-3,1.6515813019202241E-3,1.6515813019202241E-3,1.6515813019202241E-3,1.6515813019202241E-3,1.6515813019202241E-3,1.6515813019202241E-3,1.6515813019202241E-3,1.6515813019202241E-3,1.6515813019202241E-3,1.6515813019202241E-3,1.6515813019202241E-3,1.6515813019202241E-3,1.6515813019202241E-3]
[null,null,"Inflation Index",null,"Index",null,null,1,{"$f":"H57*(1+I56)","v":1.0016515813019202},{"$f":"I57*(1+J56)","v":1.0033058903246372},1.0049629315732038,1.006622709560113,1.0082852288053108,1.0099504938362081,1.011618509187693,1.0132892794021437,1.0149628090294405,1.0166391026269779,1.0183181647596775,1.0200000000000002,1.0216846129279589,1.0233720081311304,1.0250621902046684,1.0267551637513157,1.0284509333814174,1.0301495037129325,1.0318508793714471,1.033555064990187,1.0352620652100297,1.036971884679518,1.0386845280548715,1.0404000000000009,1.0421183051865186,1.0438394482937534,1.0455634340087621,1.0472902670263424,1.0490199520490462,1.0507524937871917,1.0524878969588767,1.0542261662899912,1.0559673065142308,1.0577113223731087,1.0594582186159696,1.0612080000000015,1.0629606712902497,1.0647162372596293,1.0664747026889381,1.06823607236687,1.0700003510900278,1.0717675436629361,1.0735376548980549,1.0753106896157918,1.0770866526445162,1.0788655488205716,1.0806473829882897,1.0824321600000022,1.0842198847160553,1.0860105620048224,1.0878041967427174,1.089600793814208,1.091400358111829,1.0932028945361956,1.0950084079960165,1.0968169034081081,1.0986283856974071,1.1004428597969838,1.1022603306480561,1.1040808032000029,1.1059042824103771,1.1077307732449195,1.1095602806775724,1.1113928096904928,1.1132283652740662,{"$f":"BU57*(1+BV56)","v":1.1150669524269201},1.1169085761559376,1.1187532414762711,1.1206009534113559,1.122451716992924,1.1243055372610178,1.1261624192640034,1.128022368058585,1.1298853887098184,1.1317514862911244,1.1336206658843033,1.1354929325795482,1.137368291475459,1.1392467476790569,1.1411283063057971,1.1430129724795837,1.1449007513327831,1.1467916480062388,1.1486856676492843,1.1505828154197575,1.1524830964840156,1.1543865160169478,1.1562930792019901,1.1582027912311399,1.1601156573049691,1.1620316826326389,1.1639508724319139,1.1658732319291762,1.1677987663594398,1.1697274809663645,1.1716593810022708,1.1735944717281537,1.1755327584136968,1.1774742463372876,1.1794189407860309,1.1813668470557637,1.1833179704510695,1.1852723162852927,1.1872298898805531,1.1891906965677606,1.1911547416866293,1.1931220305856924,1.1950925686223168,1.1970663611627173,1.1990434135819712,1.2010237312640337,1.2030073196017519,1.2049941839968794,1.2069843298600913,1.208977762610999,1.2109744876781647,1.2129745104991163,1.2149778365203625,1.2169844711974069,1.2189944199947638,1.2210076883859722,1.2230242818536112,1.225044205889315,1.2270674659937875,1.2290940676768174,1.2311240164572934,1.2331573178632191,1.2351939774317282,1.2372340007090989,{"$f":"EG57*(1+EH56)","v":1.2392773932507701},1.2413241606213556,1.2433743083946598,1.2454278421536924,1.2474847674906844,1.2495450900071023,1.2516088153136642,1.2536759490303548,1.2557464967864405,1.2578204642204847,1.2598978569803638,1.261978680723282,1.2640629411157864,1.2661506438337835,1.2682417945625537,1.2703363989967669,1.2724344628404987,1.274535991807245,1.2766409916199382,1.2787494680109626,1.2808614267221698,1.282976873504895,1.2850958141199718,1.2872182543377482,1.2893441999381028,1.2914736567104599,1.2936066304538054,1.295743126976703,1.2978831520973093,1.3000267116433906,1.3021738114523376,1.3043244573711825,1.3064786552566141,1.3086364109749937,1.3107977304023719,1.3129626194245039,1.3151310839368655,1.3173031298446698,1.3194787630628821,1.3216579895162377,1.3238408151392562,1.326027245876259,1.3282172876813849,1.3304109465186067,1.3326082283617469,1.3348091391944941,1.3370136850104199,1.3392218718129947,1.3414337056156036,1.3436491924415639,1.3458683383241405,1.348091149306563,1.350317631442042,1.3525477907937848,1.3547816334350133,1.3570191654489796,1.3592603929289826,1.3615053219783848,1.3637539587106291,1.3660063092492554,1.3682623797279165,1.3705221762903961,1.3727857050906243,1.3750529722926954,{"$f":"GS57*(1+GT56)","v":1.3773239840708837},1.3795987466096615,1.3818772661037146,1.3841595487579601,1.3864456007875632,1.3887354284179534,1.3910290378848427,1.3933264354342414,1.3956276273224757,1.3979326198162048,1.4002414191924375,1.4025540317385499,1.4048704637523022,1.4071907215418555,1.4095148114257896,1.4118427397331201,1.4141745128033152,1.4165101369863133,1.4188496186425403,1.4211929641429271,1.423540179868926,1.4258912722125296,1.4282462475762872,1.4306051123733219,1.4329678730273492,1.4353345359726934,1.4377051076543064,1.4400795945277833,1.4424580030593823,1.4448403397260403,1.447226611015392,1.4496168234257865,1.4520109834663055,1.4544090976567812,1.4568111725278137,1.4592172146207891,1.461627230487897,1.4640412266921483,1.4664592098073934,1.46888118641834,1.471307163120571,1.4737371465205622,1.4761711432357008,1.478609159894303,1.4810512031356324,1.4834972796099177,1.4859473959783709,1.4884015589132058,1.4908597750976558,1.4933220512259922,1.4957883940035421,1.4982588101467076,1.5007333063829831,1.5032118894509741,1.5056945661004155,1.5081813430921898,1.5106722271983457,1.5131672252021167,1.515666343897939,1.5181695900914707,1.5206769705996097,1.5231884922505128,1.5257041618836138,1.5282239863496427,{"$f":"JE57*(1+JF56)","v":1.5307479725106439},1.5332761272399948,1.5358084574224251,1.538344969954035,1.5408856717423141,1.5434305697061605,1.5459796707758993,1.5485329818933016,1.5510905100116033,1.5536522620955244,1.5562182451212874,1.5587884660766367,1.5613629319608577,1.5639416497847956,1.5665246265708743,1.5691118693531163,1.5717033851771609,1.5742991811002842,1.5768992641914177,1.5795036415311681,1.5821123202118359,1.5847253073374354,1.5873426100237138,1.5899642353981702,1.5925901906000757,1.5952204827804923,1.5978551191022927,1.6004941067401797,1.6031374528807052,1.6057851647222909,1.6084372494752472,1.6110937143617925,1.6137545666160735,1.616419813484185,1.6190894622241887,1.6217635201061342,1.6244419944120778,1.6271248924361028,1.6298122214843391,1.6325039888749837,1.6352002019383198,1.6379008680167373,1.6406059944647526]
[]
[null,null,"Annual Inflation in Electricity Price",null,"% p.a.",{"$f":"InputC!G69","v":0.02},null,null,{"$f":"$F$59","v":0.02},{"$f":"$F$59","v":0.02},0.02,0.02,0.02,0.02,0.02,0.02,0.02,0.02,0.02,0.02,0.02,0.02,0.02,0.02,0.02,0.02,0.02,0.02,0.02,0.02,0.02,0.02,0.02,0.02,0.02,0.02,0.02,0.02,0.02,0.02,0.02,0.02,0.02,0.02,0.02,0.02,0.02,0.02,0.02,0.02,0.02,0.02,0.02,0.02,0.02,0.02,0.02,0.02,0.02,0.02,0.02,0.02,0.02,0.02,0.02,0.02,0.02,0.02,0.02,0.02,0.02,0.02,0.02,{"$f":"$F$59","v":0.02},0.02,0.02,0.02,0.02,0.02,0.02,0.02,0.02,0.02,0.02,0.02,0.02,0.02,0.02,0.02,0.02,0.02,0.02,0.02,0.02,0.02,0.02,0.02,0.02,0.02,0.02,0.02,0.02,0.02,0.02,0.02,0.02,0.02,0.02,0.02,0.02,0.02,0.02,0.02,0.02,0.02,0.02,0.02,0.02,0.02,0.02,0.02,0.02,0.02,0.02,0.02,0.02,0.02,0.02,0.02,0.02,0.02,0.02,0.02,0.02,0.02,0.02,0.02,{"$f":"$F$59","v":0.02},0.02,0.02,0.02,0.02,0.02,0.02,0.02,0.02,0.02,0.02,0.02,0.02,0.02,0.02,0.02,0.02,0.02,0.02,0.02,0.02,0.02,0.02,0.02,0.02,0.02,0.02,0.02,0.02,0.02,0.02,0.02,0.02,0.02,0.02,0.02,0.02,0.02,0.02,0.02,0.02,0.02,0.02,0.02,0.02,0.02,0.02,0.02,0.02,0.02,0.02,0.02,0.02,0.02,0.02,0.02,0.02,0.02,0.02,0.02,0.02,0.02,0.02,0.02,{"$f":"$F$59","v":0.02},0.02,0.02,0.02,0.02,0.02,0.02,0.02,0.02,0.02,0.02,0.02,0.02,0.02,0.02,0.02,0.02,0.02,0.02,0.02,0.02,0.02,0.02,0.02,0.02,0.02,0.02,0.02,0.02,0.02,0.02,0.02,0.02,0.02,0.02,0.02,0.02,0.02,0.02,0.02,0.02,0.02,0.02,0.02,0.02,0.02,0.02,0.02,0.02,0.02,0.02,0.02,0.02,0.02,0.02,0.02,0.02,0.02,0.02,0.02,0.02,0.02,0.02,0.02,{"$f":"$F$59","v":0.02},0.02,0.02,0.02,0.02,0.02,0.02,0.02,0.02,0.02,0.02,0.02,0.02,0.02,0.02,0.02,0.02,0.02,0.02,0.02,0.02,0.02,0.02,0.02,0.02,0.02,0.02,0.02,0.02,0.02,0.02,0.02,0.02,0.02,0.02,0.02,0.02,0.02,0.02,0.02,0.02,0.02,0.02]
[null,null,"Monthly Electricity Inflation Rate",null,"% p.m",{"$f":"(1+F59)^(1/12)-1","v":1.6515813019202241E-3},null,null,{"$f":"$F$60","v":1.6515813019202241E-3},{"$f":"$F$60","v":1.6515813019202241E-3},1.6515813019202241E-3,1.6515813019202241E-3,1.6515813019202241E-3,1.6515813019202241E-3,1.6515813019202241E-3,1.6515813019202241E-3,1.6515813019202241E-3,1.6515813019202241E-3,1.6515813019202241E-3,1.6515813019202241E-3,1.6515813019202241E-3,1.6515813019202241E-3,1.6515813019202241E-3,1.6515813019202241E-3,1.6515813019202241E-3,1.6515813019202241E-3,1.6515813019202241E-3,1.6515813019202241E-3,1.6515813019202241E-3,1.6515813019202241E-3,1.6515813019202241E-3,1.6515813019202241E-3,1.6515813019202241E-3,1.6515813019202241E-3,1.6515813019202241E-3,1.6515813019202241E-3,1.6515813019202241E-3,1.6515813019202241E-3,1.6515813019202241E-3,1.6515813019202241E-3,1.6515813019202241E-3,1.6515813019202241E-3,1.6515813019202241E-3,1.6515813019202241E-3,1.6515813019202241E-3,1.6515813019202241E-3,1.6515813019202241E-3,1.6515813019202241E-3,1.6515813019202241E-3,1.6515813019202241E-3,1.6515813019202241E-3,1.6515813019202241E-3,1.6515813019202241E-3,1.6515813019202241E-3,1.6515813019202241E-3,1.6515813019202241E-3,1.6515813019202241E-3,1.6515813019202241E-3,1.6515813019202241E-3,1.6515813019202241E-3,1.6515813019202241E-3,1.6515813019202241E-3,1.6515813019202241E-3,1.6515813019202241E-3,1.6515813019202241E-3,1.6515813019202241E-3,1.6515813019202241E-3,1.6515813019202241E-3,1.6515813019202241E-3,1.6515813019202241E-3,1.6515813019202241E-3,1.6515813019202241E-3,1.6515813019202241E-3,{"$f":"$F$60","v":1.6515813019202241E-3},1.6515813019202241E-3,1.6515813019202241E-3,1.6515813019202241E-3,1.6515813019202241E-3,1.6515813019202241E-3,1.6515813019202241E-3,1.6515813019202241E-3,1.6515813019202241E-3,1.6515813019202241E-3,1.6515813019202241E-3,1.6515813019202241E-3,1.6515813019202241E-3,1.6515813019202241E-3,1.6515813019202241E-3,1.6515813019202241E-3,1.6515813019202241E-3,1.6515813019202241E-3,1.6515813019202241E-3,1.6515813019202241E-3,1.6515813019202241E-3,1.6515813019202241E-3,1.6515813019202241E-3,1.6515813019202241E-3,1.6515813019202241E-3,1.6515813019202241E-3,1.6515813019202241E-3,1.6515813019202241E-3,1.6515813019202241E-3,1.6515813019202241E-3,1.6515813019202241E-3,1.6515813019202241E-3,1.6515813019202241E-3,1.6515813019202241E-3,1.6515813019202241E-3,1.6515813019202241E-3,1.6515813019202241E-3,1.6515813019202241E-3,1.6515813019202241E-3,1.6515813019202241E-3,1.6515813019202241E-3,1.6515813019202241E-3,1.6515813019202241E-3,1.6515813019202241E-3,1.6515813019202241E-3,1.6515813019202241E-3,1.6515813019202241E-3,1.6515813019202241E-3,1.6515813019202241E-3,1.6515813019202241E-3,1.6515813019202241E-3,1.6515813019202241E-3,1.6515813019202241E-3,1.6515813019202241E-3,1.6515813019202241E-3,1.6515813019202241E-3,1.6515813019202241E-3,1.6515813019202241E-3,1.6515813019202241E-3,1.6515813019202241E-3,1.6515813019202241E-3,1.6515813019202241E-3,1.6515813019202241E-3,1.6515813019202241E-3,{"$f":"$F$60","v":1.6515813019202241E-3},1.6515813019202241E-3,1.6515813019202241E-3,1.6515813019202241E-3,1.6515813019202241E-3,1.6515813019202241E-3,1.6515813019202241E-3,1.6515813019202241E-3,1.6515813019202241E-3,1.6515813019202241E-3,1.6515813019202241E-3,1.6515813019202241E-3,1.6515813019202241E-3,1.6515813019202241E-3,1.6515813019202241E-3,1.6515813019202241E-3,1.6515813019202241E-3,1.6515813019202241E-3,1.6515813019202241E-3,1.6515813019202241E-3,1.6515813019202241E-3,1.6515813019202241E-3,1.6515813019202241E-3,1.6515813019202241E-3,1.6515813019202241E-3,1.6515813019202241E-3,1.6515813019202241E-3,1.6515813019202241E-3,1.6515813019202241E-3,1.6515813019202241E-3,1.6515813019202241E-3,1.6515813019202241E-3,1.6515813019202241E-3,1.6515813019202241E-3,1.6515813019202241E-3,1.6515813019202241E-3,1.6515813019202241E-3,1.6515813019202241E-3,1.6515813019202241E-3,1.6515813019202241E-3,1.6515813019202241E-3,1.6515813019202241E-3,1.6515813019202241E-3,1.6515813019202241E-3,1.6515813019202241E-3,1.6515813019202241E-3,1.6515813019202241E-3,1.6515813019202241E-3,1.6515813019202241E-3,1.6515813019202241E-3,1.6515813019202241E-3,1.6515813019202241E-3,1.6515813019202241E-3,1.6515813019202241E-3,1.6515813019202241E-3,1.6515813019202241E-3,1.6515813019202241E-3,1.6515813019202241E-3,1.6515813019202241E-3,1.6515813019202241E-3,1.6515813019202241E-3,1.6515813019202241E-3,1.6515813019202241E-3,1.6515813019202241E-3,{"$f":"$F$60","v":1.6515813019202241E-3},1.6515813019202241E-3,1.6515813019202241E-3,1.6515813019202241E-3,1.6515813019202241E-3,1.6515813019202241E-3,1.6515813019202241E-3,1.6515813019202241E-3,1.6515813019202241E-3,1.6515813019202241E-3,1.6515813019202241E-3,1.6515813019202241E-3,1.6515813019202241E-3,1.6515813019202241E-3,1.6515813019202241E-3,1.6515813019202241E-3,1.6515813019202241E-3,1.6515813019202241E-3,1.6515813019202241E-3,1.6515813019202241E-3,1.6515813019202241E-3,1.6515813019202241E-3,1.6515813019202241E-3,1.6515813019202241E-3,1.6515813019202241E-3,1.6515813019202241E-3,1.6515813019202241E-3,1.6515813019202241E-3,1.6515813019202241E-3,1.6515813019202241E-3,1.6515813019202241E-3,1.6515813019202241E-3,1.6515813019202241E-3,1.6515813019202241E-3,1.6515813019202241E-3,1.6515813019202241E-3,1.6515813019202241E-3,1.6515813019202241E-3,1.6515813019202241E-3,1.6515813019202241E-3,1.6515813019202241E-3,1.6515813019202241E-3,1.6515813019202241E-3,1.6515813019202241E-3,1.6515813019202241E-3,1.6515813019202241E-3,1.6515813019202241E-3,1.6515813019202241E-3,1.6515813019202241E-3,1.6515813019202241E-3,1.6515813019202241E-3,1.6515813019202241E-3,1.6515813019202241E-3,1.6515813019202241E-3,1.6515813019202241E-3,1.6515813019202241E-3,1.6515813019202241E-3,1.6515813019202241E-3,1.6515813019202241E-3,1.6515813019202241E-3,1.6515813019202241E-3,1.6515813019202241E-3,1.6515813019202241E-3,1.6515813019202241E-3,{"$f":"$F$60","v":1.6515813019202241E-3},1.6515813019202241E-3,1.6515813019202241E-3,1.6515813019202241E-3,1.6515813019202241E-3,1.6515813019202241E-3,1.6515813019202241E-3,1.6515813019202241E-3,1.6515813019202241E-3,1.6515813019202241E-3,1.6515813019202241E-3,1.6515813019202241E-3,1.6515813019202241E-3,1.6515813019202241E-3,1.6515813019202241E-3,1.6515813019202241E-3,1.6515813019202241E-3,1.6515813019202241E-3,1.6515813019202241E-3,1.6515813019202241E-3,1.6515813019202241E-3,1.6515813019202241E-3,1.6515813019202241E-3,1.6515813019202241E-3,1.6515813019202241E-3,1.6515813019202241E-3,1.6515813019202241E-3,1.6515813019202241E-3,1.6515813019202241E-3,1.6515813019202241E-3,1.6515813019202241E-3,1.6515813019202241E-3,1.6515813019202241E-3,1.6515813019202241E-3,1.6515813019202241E-3,1.6515813019202241E-3,1.6515813019202241E-3,1.6515813019202241E-3,1.6515813019202241E-3,1.6515813019202241E-3,1.6515813019202241E-3,1.6515813019202241E-3,1.6515813019202241E-3]
[null,null,"Inflation Index",null,"Index",null,null,1,{"$f":"H61*(1+I60)","v":1.0016515813019202},{"$f":"I61*(1+J60)","v":1.0033058903246372},1.0049629315732038,1.006622709560113,1.0082852288053108,1.0099504938362081,1.011618509187693,1.0132892794021437,1.0149628090294405,1.0166391026269779,1.0183181647596775,1.0200000000000002,1.0216846129279589,1.0233720081311304,1.0250621902046684,1.0267551637513157,1.0284509333814174,1.0301495037129325,1.0318508793714471,1.033555064990187,1.0352620652100297,1.036971884679518,1.0386845280548715,1.0404000000000009,1.0421183051865186,1.0438394482937534,1.0455634340087621,1.0472902670263424,1.0490199520490462,1.0507524937871917,1.0524878969588767,1.0542261662899912,1.0559673065142308,1.0577113223731087,1.0594582186159696,1.0612080000000015,1.0629606712902497,1.0647162372596293,1.0664747026889381,1.06823607236687,1.0700003510900278,1.0717675436629361,1.0735376548980549,1.0753106896157918,1.0770866526445162,1.0788655488205716,1.0806473829882897,1.0824321600000022,1.0842198847160553,1.0860105620048224,1.0878041967427174,1.089600793814208,1.091400358111829,1.0932028945361956,1.0950084079960165,1.0968169034081081,1.0986283856974071,1.1004428597969838,1.1022603306480561,1.1040808032000029,1.1059042824103771,1.1077307732449195,1.1095602806775724,1.1113928096904928,1.1132283652740662,{"$f":"BU61*(1+BV60)","v":1.1150669524269201},1.1169085761559376,1.1187532414762711,1.1206009534113559,1.122451716992924,1.1243055372610178,1.1261624192640034,1.128022368058585,1.1298853887098184,1.1317514862911244,1.1336206658843033,1.1354929325795482,1.137368291475459,1.1392467476790569,1.1411283063057971,1.1430129724795837,1.1449007513327831,1.1467916480062388,1.1486856676492843,1.1505828154197575,1.1524830964840156,1.1543865160169478,1.1562930792019901,1.1582027912311399,1.1601156573049691,1.1620316826326389,1.1639508724319139,1.1658732319291762,1.1677987663594398,1.1697274809663645,1.1716593810022708,1.1735944717281537,1.1755327584136968,1.1774742463372876,1.1794189407860309,1.1813668470557637,1.1833179704510695,1.1852723162852927,1.1872298898805531,1.1891906965677606,1.1911547416866293,1.1931220305856924,1.1950925686223168,1.1970663611627173,1.1990434135819712,1.2010237312640337,1.2030073196017519,1.2049941839968794,1.2069843298600913,1.208977762610999,1.2109744876781647,1.2129745104991163,1.2149778365203625,1.2169844711974069,1.2189944199947638,1.2210076883859722,1.2230242818536112,1.225044205889315,1.2270674659937875,1.2290940676768174,1.2311240164572934,1.2331573178632191,1.2351939774317282,1.2372340007090989,{"$f":"EG61*(1+EH60)","v":1.2392773932507701},1.2413241606213556,1.2433743083946598,1.2454278421536924,1.2474847674906844,1.2495450900071023,1.2516088153136642,1.2536759490303548,1.2557464967864405,1.2578204642204847,1.2598978569803638,1.261978680723282,1.2640629411157864,1.2661506438337835,1.2682417945625537,1.2703363989967669,1.2724344628404987,1.274535991807245,1.2766409916199382,1.2787494680109626,1.2808614267221698,1.282976873504895,1.2850958141199718,1.2872182543377482,1.2893441999381028,1.2914736567104599,1.2936066304538054,1.295743126976703,1.2978831520973093,1.3000267116433906,1.3021738114523376,1.3043244573711825,1.3064786552566141,1.3086364109749937,1.3107977304023719,1.3129626194245039,1.3151310839368655,1.3173031298446698,1.3194787630628821,1.3216579895162377,1.3238408151392562,1.326027245876259,1.3282172876813849,1.3304109465186067,1.3326082283617469,1.3348091391944941,1.3370136850104199,1.3392218718129947,1.3414337056156036,1.3436491924415639,1.3458683383241405,1.348091149306563,1.350317631442042,1.3525477907937848,1.3547816334350133,1.3570191654489796,1.3592603929289826,1.3615053219783848,1.3637539587106291,1.3660063092492554,1.3682623797279165,1.3705221762903961,1.3727857050906243,1.3750529722926954,{"$f":"GS61*(1+GT60)","v":1.3773239840708837},1.3795987466096615,1.3818772661037146,1.3841595487579601,1.3864456007875632,1.3887354284179534,1.3910290378848427,1.3933264354342414,1.3956276273224757,1.3979326198162048,1.4002414191924375,1.4025540317385499,1.4048704637523022,1.4071907215418555,1.4095148114257896,1.4118427397331201,1.4141745128033152,1.4165101369863133,1.4188496186425403,1.4211929641429271,1.423540179868926,1.4258912722125296,1.4282462475762872,1.4306051123733219,1.4329678730273492,1.4353345359726934,1.4377051076543064,1.4400795945277833,1.4424580030593823,1.4448403397260403,1.447226611015392,1.4496168234257865,1.4520109834663055,1.4544090976567812,1.4568111725278137,1.4592172146207891,1.461627230487897,1.4640412266921483,1.4664592098073934,1.46888118641834,1.471307163120571,1.4737371465205622,1.4761711432357008,1.478609159894303,1.4810512031356324,1.4834972796099177,1.4859473959783709,1.4884015589132058,1.4908597750976558,1.4933220512259922,1.4957883940035421,1.4982588101467076,1.5007333063829831,1.5032118894509741,1.5056945661004155,1.5081813430921898,1.5106722271983457,1.5131672252021167,1.515666343897939,1.5181695900914707,1.5206769705996097,1.5231884922505128,1.5257041618836138,1.5282239863496427,{"$f":"JE61*(1+JF60)","v":1.5307479725106439},1.5332761272399948,1.5358084574224251,1.538344969954035,1.5408856717423141,1.5434305697061605,1.5459796707758993,1.5485329818933016,1.5510905100116033,1.5536522620955244,1.5562182451212874,1.5587884660766367,1.5613629319608577,1.5639416497847956,1.5665246265708743,1.5691118693531163,1.5717033851771609,1.5742991811002842,1.5768992641914177,1.5795036415311681,1.5821123202118359,1.5847253073374354,1.5873426100237138,1.5899642353981702,1.5925901906000757,1.5952204827804923,1.5978551191022927,1.6004941067401797,1.6031374528807052,1.6057851647222909,1.6084372494752472,1.6110937143617925,1.6137545666160735,1.616419813484185,1.6190894622241887,1.6217635201061342,1.6244419944120778,1.6271248924361028,1.6298122214843391,1.6325039888749837,1.6352002019383198,1.6379008680167373,1.6406059944647526]
[]
[null,null,"Annual Inflation in IT Equipment",null,"% p.a.",{"$f":"InputC!G70","v":-0.01},null,null,{"$f":"$F$63","v":-0.01},{"$f":"$F$63","v":-0.01},-0.01,-0.01,-0.01,-0.01,-0.01,-0.01,-0.01,-0.01,-0.01,-0.01,-0.01,-0.01,-0.01,-0.01,-0.01,-0.01,-0.01,-0.01,-0.01,-0.01,-0.01,-0.01,-0.01,-0.01,-0.01,-0.01,-0.01,-0.01,-0.01,-0.01,-0.01,-0.01,-0.01,-0.01,-0.01,-0.01,-0.01,-0.01,-0.01,-0.01,-0.01,-0.01,-0.01,-0.01,-0.01,-0.01,-0.01,-0.01,-0.01,-0.01,-0.01,-0.01,-0.01,-0.01,-0.01,-0.01,-0.01,-0.01,-0.01,-0.01,-0.01,-0.01,-0.01,{"$f":"$F$63","v":-0.01},-0.01,-0.01,-0.01,-0.01,-0.01,-0.01,-0.01,-0.01,-0.01,-0.01,-0.01,-0.01,-0.01,-0.01,-0.01,-0.01,-0.01,-0.01,-0.01,-0.01,-0.01,-0.01,-0.01,-0.01,-0.01,-0.01,-0.01,-0.01,-0.01,-0.01,-0.01,-0.01,-0.01,-0.01,-0.01,-0.01,-0.01,-0.01,-0.01,-0.01,-0.01,-0.01,-0.01,-0.01,-0.01,-0.01,-0.01,-0.01,-0.01,-0.01,-0.01,-0.01,-0.01,-0.01,-0.01,-0.01,-0.01,-0.01,-0.01,-0.01,-0.01,-0.01,-0.01,{"$f":"$F$63","v":-0.01},-0.01,-0.01,-0.01,-0.01,-0.01,-0.01,-0.01,-0.01,-0.01,-0.01,-0.01,-0.01,-0.01,-0.01,-0.01,-0.01,-0.01,-0.01,-0.01,-0.01,-0.01,-0.01,-0.01,-0.01,-0.01,-0.01,-0.01,-0.01,-0.01,-0.01,-0.01,-0.01,-0.01,-0.01,-0.01,-0.01,-0.01,-0.01,-0.01,-0.01,-0.01,-0.01,-0.01,-0.01,-0.01,-0.01,-0.01,-0.01,-0.01,-0.01,-0.01,-0.01,-0.01,-0.01,-0.01,-0.01,-0.01,-0.01,-0.01,-0.01,-0.01,-0.01,-0.01,{"$f":"$F$63","v":-0.01},-0.01,-0.01,-0.01,-0.01,-0.01,-0.01,-0.01,-0.01,-0.01,-0.01,-0.01,-0.01,-0.01,-0.01,-0.01,-0.01,-0.01,-0.01,-0.01,-0.01,-0.01,-0.01,-0.01,-0.01,-0.01,-0.01,-0.01,-0.01,-0.01,-0.01,-0.01,-0.01,-0.01,-0.01,-0.01,-0.01,-0.01,-0.01,-0.01,-0.01,-0.01,-0.01,-0.01,-0.01,-0.01,-0.01,-0.01,-0.01,-0.01,-0.01,-0.01,-0.01,-0.01,-0.01,-0.01,-0.01,-0.01,-0.01,-0.01,-0.01,-0.01,-0.01,-0.01,{"$f":"$F$63","v":-0.01},-0.01,-0.01,-0.01,-0.01,-0.01,-0.01,-0.01,-0.01,-0.01,-0.01,-0.01,-0.01,-0.01,-0.01,-0.01,-0.01,-0.01,-0.01,-0.01,-0.01,-0.01,-0.01,-0.01,-0.01,-0.01,-0.01,-0.01,-0.01,-0.01,-0.01,-0.01,-0.01,-0.01,-0.01,-0.01,-0.01,-0.01,-0.01,-0.01,-0.01,-0.01,-0.01]
[null,null,"Monthly IT Equipment Inflation Rate",null,"% p.m",{"$f":"(1+F63)^(1/12)-1","v":-8.3717735912058888E-4},null,null,{"$f":"$F$64","v":-8.3717735912058888E-4},{"$f":"$F$64","v":-8.3717735912058888E-4},-8.3717735912058888E-4,-8.3717735912058888E-4,-8.3717735912058888E-4,-8.3717735912058888E-4,-8.3717735912058888E-4,-8.3717735912058888E-4,-8.3717735912058888E-4,-8.3717735912058888E-4,-8.3717735912058888E-4,-8.3717735912058888E-4,-8.3717735912058888E-4,-8.3717735912058888E-4,-8.3717735912058888E-4,-8.3717735912058888E-4,-8.3717735912058888E-4,-8.3717735912058888E-4,-8.3717735912058888E-4,-8.3717735912058888E-4,-8.3717735912058888E-4,-8.3717735912058888E-4,-8.3717735912058888E-4,-8.3717735912058888E-4,-8.3717735912058888E-4,-8.3717735912058888E-4,-8.3717735912058888E-4,-8.3717735912058888E-4,-8.3717735912058888E-4,-8.3717735912058888E-4,-8.3717735912058888E-4,-8.3717735912058888E-4,-8.3717735912058888E-4,-8.3717735912058888E-4,-8.3717735912058888E-4,-8.3717735912058888E-4,-8.3717735912058888E-4,-8.3717735912058888E-4,-8.3717735912058888E-4,-8.3717735912058888E-4,-8.3717735912058888E-4,-8.3717735912058888E-4,-8.3717735912058888E-4,-8.3717735912058888E-4,-8.3717735912058888E-4,-8.3717735912058888E-4,-8.3717735912058888E-4,-8.3717735912058888E-4,-8.3717735912058888E-4,-8.3717735912058888E-4,-8.3717735912058888E-4,-8.3717735912058888E-4,-8.3717735912058888E-4,-8.3717735912058888E-4,-8.3717735912058888E-4,-8.3717735912058888E-4,-8.3717735912058888E-4,-8.3717735912058888E-4,-8.3717735912058888E-4,-8.3717735912058888E-4,-8.3717735912058888E-4,-8.3717735912058888E-4,-8.3717735912058888E-4,-8.3717735912058888E-4,-8.3717735912058888E-4,{"$f":"$F$64","v":-8.3717735912058888E-4},-8.3717735912058888E-4,-8.3717735912058888E-4,-8.3717735912058888E-4,-8.3717735912058888E-4,-8.3717735912058888E-4,-8.3717735912058888E-4,-8.3717735912058888E-4,-8.3717735912058888E-4,-8.3717735912058888E-4,-8.3717735912058888E-4,-8.3717735912058888E-4,-8.3717735912058888E-4,-8.3717735912058888E-4,-8.3717735912058888E-4,-8.3717735912058888E-4,-8.3717735912058888E-4,-8.3717735912058888E-4,-8.3717735912058888E-4,-8.3717735912058888E-4,-8.3717735912058888E-4,-8.3717735912058888E-4,-8.3717735912058888E-4,-8.3717735912058888E-4,-8.3717735912058888E-4,-8.3717735912058888E-4,-8.3717735912058888E-4,-8.3717735912058888E-4,-8.3717735912058888E-4,-8.3717735912058888E-4,-8.3717735912058888E-4,-8.3717735912058888E-4,-8.3717735912058888E-4,-8.3717735912058888E-4,-8.3717735912058888E-4,-8.3717735912058888E-4,-8.3717735912058888E-4,-8.3717735912058888E-4,-8.3717735912058888E-4,-8.3717735912058888E-4,-8.3717735912058888E-4,-8.3717735912058888E-4,-8.3717735912058888E-4,-8.3717735912058888E-4,-8.3717735912058888E-4,-8.3717735912058888E-4,-8.3717735912058888E-4,-8.3717735912058888E-4,-8.3717735912058888E-4,-8.3717735912058888E-4,-8.3717735912058888E-4,-8.3717735912058888E-4,-8.3717735912058888E-4,-8.3717735912058888E-4,-8.3717735912058888E-4,-8.3717735912058888E-4,-8.3717735912058888E-4,-8.3717735912058888E-4,-8.3717735912058888E-4,-8.3717735912058888E-4,-8.3717735912058888E-4,-8.3717735912058888E-4,-8.3717735912058888E-4,-8.3717735912058888E-4,{"$f":"$F$64","v":-8.3717735912058888E-4},-8.3717735912058888E-4,-8.3717735912058888E-4,-8.3717735912058888E-4,-8.3717735912058888E-4,-8.3717735912058888E-4,-8.3717735912058888E-4,-8.3717735912058888E-4,-8.3717735912058888E-4,-8.3717735912058888E-4,-8.3717735912058888E-4,-8.3717735912058888E-4,-8.3717735912058888E-4,-8.3717735912058888E-4,-8.3717735912058888E-4,-8.3717735912058888E-4,-8.3717735912058888E-4,-8.3717735912058888E-4,-8.3717735912058888E-4,-8.3717735912058888E-4,-8.3717735912058888E-4,-8.3717735912058888E-4,-8.3717735912058888E-4,-8.3717735912058888E-4,-8.3717735912058888E-4,-8.3717735912058888E-4,-8.3717735912058888E-4,-8.3717735912058888E-4,-8.3717735912058888E-4,-8.3717735912058888E-4,-8.3717735912058888E-4,-8.3717735912058888E-4,-8.3717735912058888E-4,-8.3717735912058888E-4,-8.3717735912058888E-4,-8.3717735912058888E-4,-8.3717735912058888E-4,-8.3717735912058888E-4,-8.3717735912058888E-4,-8.3717735912058888E-4,-8.3717735912058888E-4,-8.3717735912058888E-4,-8.3717735912058888E-4,-8.3717735912058888E-4,-8.3717735912058888E-4,-8.3717735912058888E-4,-8.3717735912058888E-4,-8.3717735912058888E-4,-8.3717735912058888E-4,-8.3717735912058888E-4,-8.3717735912058888E-4,-8.3717735912058888E-4,-8.3717735912058888E-4,-8.3717735912058888E-4,-8.3717735912058888E-4,-8.3717735912058888E-4,-8.3717735912058888E-4,-8.3717735912058888E-4,-8.3717735912058888E-4,-8.3717735912058888E-4,-8.3717735912058888E-4,-8.3717735912058888E-4,-8.3717735912058888E-4,-8.3717735912058888E-4,{"$f":"$F$64","v":-8.3717735912058888E-4},-8.3717735912058888E-4,-8.3717735912058888E-4,-8.3717735912058888E-4,-8.3717735912058888E-4,-8.3717735912058888E-4,-8.3717735912058888E-4,-8.3717735912058888E-4,-8.3717735912058888E-4,-8.3717735912058888E-4,-8.3717735912058888E-4,-8.3717735912058888E-4,-8.3717735912058888E-4,-8.3717735912058888E-4,-8.3717735912058888E-4,-8.3717735912058888E-4,-8.3717735912058888E-4,-8.3717735912058888E-4,-8.3717735912058888E-4,-8.3717735912058888E-4,-8.3717735912058888E-4,-8.3717735912058888E-4,-8.3717735912058888E-4,-8.3717735912058888E-4,-8.3717735912058888E-4,-8.3717735912058888E-4,-8.3717735912058888E-4,-8.3717735912058888E-4,-8.3717735912058888E-4,-8.3717735912058888E-4,-8.3717735912058888E-4,-8.3717735912058888E-4,-8.3717735912058888E-4,-8.3717735912058888E-4,-8.3717735912058888E-4,-8.3717735912058888E-4,-8.3717735912058888E-4,-8.3717735912058888E-4,-8.3717735912058888E-4,-8.3717735912058888E-4,-8.3717735912058888E-4,-8.3717735912058888E-4,-8.3717735912058888E-4,-8.3717735912058888E-4,-8.3717735912058888E-4,-8.3717735912058888E-4,-8.3717735912058888E-4,-8.3717735912058888E-4,-8.3717735912058888E-4,-8.3717735912058888E-4,-8.3717735912058888E-4,-8.3717735912058888E-4,-8.3717735912058888E-4,-8.3717735912058888E-4,-8.3717735912058888E-4,-8.3717735912058888E-4,-8.3717735912058888E-4,-8.3717735912058888E-4,-8.3717735912058888E-4,-8.3717735912058888E-4,-8.3717735912058888E-4,-8.3717735912058888E-4,-8.3717735912058888E-4,-8.3717735912058888E-4,{"$f":"$F$64","v":-8.3717735912058888E-4},-8.3717735912058888E-4,-8.3717735912058888E-4,-8.3717735912058888E-4,-8.3717735912058888E-4,-8.3717735912058888E-4,-8.3717735912058888E-4,-8.3717735912058888E-4,-8.3717735912058888E-4,-8.3717735912058888E-4,-8.3717735912058888E-4,-8.3717735912058888E-4,-8.3717735912058888E-4,-8.3717735912058888E-4,-8.3717735912058888E-4,-8.3717735912058888E-4,-8.3717735912058888E-4,-8.3717735912058888E-4,-8.3717735912058888E-4,-8.3717735912058888E-4,-8.3717735912058888E-4,-8.3717735912058888E-4,-8.3717735912058888E-4,-8.3717735912058888E-4,-8.3717735912058888E-4,-8.3717735912058888E-4,-8.3717735912058888E-4,-8.3717735912058888E-4,-8.3717735912058888E-4,-8.3717735912058888E-4,-8.3717735912058888E-4,-8.3717735912058888E-4,-8.3717735912058888E-4,-8.3717735912058888E-4,-8.3717735912058888E-4,-8.3717735912058888E-4,-8.3717735912058888E-4,-8.3717735912058888E-4,-8.3717735912058888E-4,-8.3717735912058888E-4,-8.3717735912058888E-4,-8.3717735912058888E-4,-8.3717735912058888E-4]
[null,null,"Inflation Index",null,"Index",null,null,1,{"$f":"H65*(1+I64)","v":0.99916282264087941},{"$f":"I65*(1+J64)","v":0.99832634614768945},0.99749056993368101,0.99665549341259629,0.99582111599866807,0.99498743710661974,0.99415445615166464,0.99332217254950561,0.99249058571633464,0.99165969506883256,0.99082950002416847,0.98999999999999944,0.9891711944144701,0.98834308268621207,0.98751566423434367,0.98668893847846972,0.98586290483868078,0.98503756273555299,0.98421291159014745,0.98338895082401001,0.98256567985917076,0.98174309811814375,0.98092120502392632,0.98009999999999897,0.97927948247032492,0.97845965185934947,0.97764050759199983,0.97682204909368464,0.97600427579029359,0.97518718710819707,0.97437078247424558,0.97355506131576952,0.97274002306057872,0.97192566713696193,0.97111199297368667,0.97029899999999858,0.96948668764562118,0.96867505534075549,0.96786410251607935,0.96705382860274736,0.96624423303239027,0.96543531523711468,0.9646270746495027,0.9638195107026114,0.96301262282997246,0.96220641046559185,0.96140087304394939,0.96059600999999828,0.95979182076916469,0.95898830478734765,0.95818546149091821,0.95738329031671954,0.95658179070206606,0.95578096208474328,0.95498080390300744,0.95418131559558506,0.95338249660167251,0.9525843463609357,0.95178686431350967,0.95099004989999802,0.95019390256147274,0.94939842173947386,0.94860360687600875,0.94780945741355205,0.94701597279504501,{"$f":"BU65*(1+BV64)","v":0.94622315246389543},0.94543099586397694,0.9446395024396288,0.94384867163565545,0.94305850289732607,0.94226899567037425,0.94148014940099767,0.94069196353585771,0.93990443752207875,0.93911757080724834,0.93833136283941621,0.93754581306709428,0.93676092093925623,0.93597668590533689,0.93519310741523221,0.9344101849192985,0.93362791786835242,0.93284630571367011,0.93206534790698736,0.93128504390049882,0.93050539314685765,0.92972639509917554,0.9289480492110217,0.92817035493642297,0.92739331172986328,0.92661691904628318,0.92584117634107954,0.92506608307010518,0.92429163868966857,0.92351784265653314,0.92274469442791718,0.92197219346149351,0.9212003392153888,0.92042913114818348,0.91965856871891116,0.91888865138705844,0.91811937861256432,0.91735074985581999,0.91658276457766841,0.91581542223940382,0.91504872230277157,0.91428266422996751,0.91351724748363772,0.91275247152687822,0.91198833582323457,0.91122483983670133,0.91046198303172177,0.9096997648731876,0.9089381848264384,0.90817724235726149,0.9074169369318914,0.90665726801700952,0.90589823507974354,0.90513983758766747,0.90438207500880097,0.9036249468116091,0.90286845246500191,0.902112591438334,0.90135736320140425,0.90060276722445542,0.89984880297817371,0.89909546993368861,0.89834276756257225,0.89759069533683911,{"$f":"EG65*(1+EH64)","v":0.89683925272894582},0.89608843921179049,0.89533825425871272,0.89458869734349278,0.89383976794035158,0.89309146552395036,0.89234378956938987,0.89159673955221053,0.89085031494839173,0.89010451523435152,0.88935933988694627,0.88861478838347052,0.88787086020165618,0.88712755481967243,0.88638487171612534,0.88564281037005754,0.88490137026094784,0.88416055086871059,0.8834203516736957,0.88268077215668816,0.88194181179890752,0.88120347008200772,0.88046574648807652,0.87972864049963551,0.87899215159963928,0.87825627927147543,0.87752102299896384,0.87678638226635675,0.87605235655833813,0.8753189453600233,0.87458614815695856,0.87385396443512109,0.87312239368091826,0.87239143538118746,0.87166108902319561,0.87093135409463895,0.87020223008364272,0.86947371647876048,0.868745812768974,0.86801851844369304,0.86729183299275459,0.86656575590642282,0.8658402866753887,0.86511542479076964,0.86439116974410879,0.86366752102737521,0.86294447813296327,0.86222204055369223,0.86150020778280589,0.8607789793139724,0.86005835464128377,0.85933833325925557,0.85861891466282647,0.85790009834735803,0.85718188380863425,0.85646427054286134,0.85574725804666707,0.85503084581710087,0.85431503335163306,0.85359982014815472,0.85288520570497728,0.85217118952083215,0.85145777109487042,0.8507449499266625,{"$f":"GS65*(1+GT64)","v":0.85003272551619768},0.84932109736388395,0.84861006497054747,0.84789962783743222,0.84718978546619994,0.84648053735892936,0.84577188301811623,0.84506382194667273,0.84435635364792705,0.84364947762562337,0.84294319338392132,0.84223750042739554,0.84153239826103543,0.84082788639024486,0.84012396432084169,0.83942063155905766,0.83871788761153776,0.83801573198533996,0.83731416418793492,0.83661318372720583,0.83591279011144759,0.83521298284936696,0.83451376145008194,0.83381512542312142,0.83311707427842485,0.83241960752634214,0.83172272467763309,0.83102642524346693,0.83033070873542214,0.82963557466548632,0.82894102254605539,0.82824705188993353,0.82755366221033289,0.82686085302087309,0.82616862383558087,0.82547697416888988,0.8247859035356403,0.82409541145107845,0.82340549743085645,0.82271616099103195,0.82202740164806765,0.8213392189188311,0.82065161232059447,0.8199645813710339,0.81927812558822932,0.81859224449066414,0.81790693759722488,0.81722220442720084,0.81653804450028378,0.81585445733656758,0.81517144245654782,0.81448899938112151,0.8138071276315868,0.81312582672964273,0.81244509619738847,0.81176493555732343,0.8110853443323468,0.81040632204575724,0.80972786822125231,0.80904998238292847,0.80837266405528052,0.80769591276320141,0.80701972803198185,0.80634410938730983,{"$f":"JE65*(1+JF64)","v":0.80566905635527053},0.80499456846234585,0.80432064523541413,0.80364728620174974,0.80297449088902295,0.80230225882529926,0.80163058953903943,0.80095948255909888,0.80028893741472751,0.79961895363556923,0.79894953075166186,0.79828066829343658,0.79761236579171768,0.79694462277772227,0.7962774387830599,0.79561081333973216,0.79494474598013265,0.79427923623704622,0.79361428364364894,0.79294988773350783,0.79228604804058012,0.79162276409921339,0.79096003544414506,0.79029786161050197,0.78963624213380024,0.78897517654994476,0.78831466439522901,0.78765470520633463,0.78699529852033112,0.78633644387467561,0.78567814080721232,0.78502038885617254,0.78436318756017409,0.78370653645822108,0.7830504350897034,0.78239488299439675,0.78173987971246206,0.78108542478444509,0.7804315177512765,0.77977815815427098,0.77912534553512747,0.77847307943592847,0.77782135939913988]
[]
[null,"Capital Expendiure"]
[]
[null,null,"Cost/kW IT - IT Equipment",null,"USD/kW IT",{"$f":"InputC!G46","v":370000},null,null,{"$f":"$F$69","v":370000},{"$f":"$F$69","v":370000},370000,370000,370000,370000,370000,370000,370000,370000,370000,370000,370000,370000,370000,370000,370000,370000,370000,370000,370000,370000,370000,370000,370000,370000,370000,370000,370000,370000,370000,370000,370000,370000,370000,370000,370000,370000,370000,370000,370000,370000,370000,370000,370000,370000,370000,370000,370000,370000,370000,370000,370000,370000,370000,370000,370000,370000,370000,370000,370000,370000,370000,370000,370000,{"$f":"$F$69","v":370000},370000,370000,370000,370000,370000,370000,370000,370000,370000,370000,370000,370000,370000,370000,370000,370000,370000,370000,370000,370000,370000,370000,370000,370000,370000,370000,370000,370000,370000,370000,370000,370000,370000,370000,370000,370000,370000,370000,370000,370000,370000,370000,370000,370000,370000,370000,370000,370000,370000,370000,370000,370000,370000,370000,370000,370000,370000,370000,370000,370000,370000,370000,370000,{"$f":"$F$69","v":370000},370000,370000,370000,370000,370000,370000,370000,370000,370000,370000,370000,370000,370000,370000,370000,370000,370000,370000,370000,370000,370000,370000,370000,370000,370000,370000,370000,370000,370000,370000,370000,370000,370000,370000,370000,370000,370000,370000,370000,370000,370000,370000,370000,370000,370000,370000,370000,370000,370000,370000,370000,370000,370000,370000,370000,370000,370000,370000,370000,370000,370000,370000,370000,{"$f":"$F$69","v":370000},370000,370000,370000,370000,370000,370000,370000,370000,370000,370000,370000,370000,370000,370000,370000,370000,370000,370000,370000,370000,370000,370000,370000,370000,370000,370000,370000,370000,370000,370000,370000,370000,370000,370000,370000,370000,370000,370000,370000,370000,370000,370000,370000,370000,370000,370000,370000,370000,370000,370000,370000,370000,370000,370000,370000,370000,370000,370000,370000,370000,370000,370000,370000,{"$f":"$F$69","v":370000},370000,370000,370000,370000,370000,370000,370000,370000,370000,370000,370000,370000,370000,370000,370000,370000,370000,370000,370000,370000,370000,370000,370000,370000,370000,370000,370000,370000,370000,370000,370000,370000,370000,370000,370000,370000,370000,370000,370000,370000,370000,370000]
[null,null,"Total Cost",null,"USD ",{"$f":"F69*F14*1000","v":55500000000},null,null,{"$f":"$F$70","v":55500000000},{"$f":"$F$70","v":55500000000},55500000000,55500000000,55500000000,55500000000,55500000000,55500000000,55500000000,55500000000,55500000000,55500000000,55500000000,55500000000,55500000000,55500000000,55500000000,55500000000,55500000000,55500000000,55500000000,55500000000,55500000000,55500000000,55500000000,55500000000,55500000000,55500000000,55500000000,55500000000,55500000000,55500000000,55500000000,55500000000,55500000000,55500000000,55500000000,55500000000,55500000000,55500000000,55500000000,55500000000,55500000000,55500000000,55500000000,55500000000,55500000000,55500000000,55500000000,55500000000,55500000000,55500000000,55500000000,55500000000,55500000000,55500000000,55500000000,55500000000,55500000000,55500000000,55500000000,55500000000,55500000000,55500000000,55500000000,{"$f":"$F$70","v":55500000000},55500000000,55500000000,55500000000,55500000000,55500000000,55500000000,55500000000,55500000000,55500000000,55500000000,55500000000,55500000000,55500000000,55500000000,55500000000,55500000000,55500000000,55500000000,55500000000,55500000000,55500000000,55500000000,55500000000,55500000000,55500000000,55500000000,55500000000,55500000000,55500000000,55500000000,55500000000,55500000000,55500000000,55500000000,55500000000,55500000000,55500000000,55500000000,55500000000,55500000000,55500000000,55500000000,55500000000,55500000000,55500000000,55500000000,55500000000,55500000000,55500000000,55500000000,55500000000,55500000000,55500000000,55500000000,55500000000,55500000000,55500000000,55500000000,55500000000,55500000000,55500000000,55500000000,55500000000,{"$f":"$F$70","v":55500000000},55500000000,55500000000,55500000000,55500000000,55500000000,55500000000,55500000000,55500000000,55500000000,55500000000,55500000000,55500000000,55500000000,55500000000,55500000000,55500000000,55500000000,55500000000,55500000000,55500000000,55500000000,55500000000,55500000000,55500000000,55500000000,55500000000,55500000000,55500000000,55500000000,55500000000,55500000000,55500000000,55500000000,55500000000,55500000000,55500000000,55500000000,55500000000,55500000000,55500000000,55500000000,55500000000,55500000000,55500000000,55500000000,55500000000,55500000000,55500000000,55500000000,55500000000,55500000000,55500000000,55500000000,55500000000,55500000000,55500000000,55500000000,55500000000,55500000000,55500000000,55500000000,55500000000,55500000000,{"$f":"$F$70","v":55500000000},55500000000,55500000000,55500000000,55500000000,55500000000,55500000000,55500000000,55500000000,55500000000,55500000000,55500000000,55500000000,55500000000,55500000000,55500000000,55500000000,55500000000,55500000000,55500000000,55500000000,55500000000,55500000000,55500000000,55500000000,55500000000,55500000000,55500000000,55500000000,55500000000,55500000000,55500000000,55500000000,55500000000,55500000000,55500000000,55500000000,55500000000,55500000000,55500000000,55500000000,55500000000,55500000000,55500000000,55500000000,55500000000,55500000000,55500000000,55500000000,55500000000,55500000000,55500000000,55500000000,55500000000,55500000000,55500000000,55500000000,55500000000,55500000000,55500000000,55500000000,55500000000,55500000000,55500000000,{"$f":"$F$70","v":55500000000},55500000000,55500000000,55500000000,55500000000,55500000000,55500000000,55500000000,55500000000,55500000000,55500000000,55500000000,55500000000,55500000000,55500000000,55500000000,55500000000,55500000000,55500000000,55500000000,55500000000,55500000000,55500000000,55500000000,55500000000,55500000000,55500000000,55500000000,55500000000,55500000000,55500000000,55500000000,55500000000,55500000000,55500000000,55500000000,55500000000,55500000000,55500000000,55500000000,55500000000,55500000000,55500000000]
[null,null,"Spending Percent",null,"%",{"$f":"1/F6","v":0.125},null,{"$f":"SUM(I71:XFD71)","v":1},{"$f":"$F$71*I6","v":0.125},0.125,0.125,0.125,0.125,0.125,0.125,0.125,0,0,0,0,0,0,0,0,0,0,0,0,0,0,0,0,0,0,0,0,0,0,0,0,0,0,0,0,0,0,0,0,0,0,0,0,0,0,0,0,0,0,0,0,0,0,0,0,0,0,0,0,0,0,0,0,{"$f":"$F$71*BU6","v":0},0,0,0,0,0,0,0,0,0,0,0,0,0,0,0,0,0,0,0,0,0,0,0,0,0,0,0,0,0,0,0,0,0,0,0,0,0,0,0,0,0,0,0,0,0,0,0,0,0,0,0,0,0,0,0,0,0,0,0,0,0,0,0,{"$f":"$F$71*EG6","v":0},0,0,0,0,0,0,0,0,0,0,0,0,0,0,0,0,0,0,0,0,0,0,0,0,0,0,0,0,0,0,0,0,0,0,0,0,0,0,0,0,0,0,0,0,0,0,0,0,0,0,0,0,0,0,0,0,0,0,0,0,0,0,0,{"$f":"$F$71*GS6","v":0},0,0,0,0,0,0,0,0,0,0,0,0,0,0,0,0,0,0,0,0,0,0,0,0,0,0,0,0,0,0,0,0,0,0,0,0,0,0,0,0,0,0,0,0,0,0,0,0,0,0,0,0,0,0,0,0,0,0,0,0,0,0,0,{"$f":"$F$71*JE6","v":0},0,0,0,0,0,0,0,0,0,0,0,0,0,0,0,0,0,0,0,0,0,0,0,0,0,0,0,0,0,0,0,0,0,0,0,0,0,0,0,0,0,0,0]
[null,null,"Total Capital Expenditure",null,"USD",null,null,null,{"$f":"I70*I71","v":6937500000},{"$f":"J70*J71","v":6937500000},6937500000,6937500000,6937500000,6937500000,6937500000,6937500000,0,0,0,0,0,0,0,0,0,0,0,0,0,0,0,0,0,0,0,0,0,0,0,0,0,0,0,0,0,0,0,0,0,0,0,0,0,0,0,0,0,0,0,0,0,0,0,0,0,0,0,0,0,0,0,0,0,{"$f":"BV70*BV71","v":0},0,0,0,0,0,0,0,0,0,0,0,0,0,0,0,0,0,0,0,0,0,0,0,0,0,0,0,0,0,0,0,0,0,0,0,0,0,0,0,0,0,0,0,0,0,0,0,0,0,0,0,0,0,0,0,0,0,0,0,0,0,0,0,{"$f":"EH70*EH71","v":0},0,0,0,0,0,0,0,0,0,0,0,0,0,0,0,0,0,0,0,0,0,0,0,0,0,0,0,0,0,0,0,0,0,0,0,0,0,0,0,0,0,0,0,0,0,0,0,0,0,0,0,0,0,0,0,0,0,0,0,0,0,0,0,{"$f":"GT70*GT71","v":0},0,0,0,0,0,0,0,0,0,0,0,0,0,0,0,0,0,0,0,0,0,0,0,0,0,0,0,0,0,0,0,0,0,0,0,0,0,0,0,0,0,0,0,0,0,0,0,0,0,0,0,0,0,0,0,0,0,0,0,0,0,0,0,{"$f":"JF70*JF71","v":0},0,0,0,0,0,0,0,0,0,0,0,0,0,0,0,0,0,0,0,0,0,0,0,0,0,0,0,0,0,0,0,0,0,0,0,0,0,0,0,0,0,0]
[]
[null,null,"Cost/kW IT - Electricity Equipment",null,"USD/kW IT",{"$f":"InputC!G48","v":132900},null,null,{"$f":"$F$74","v":132900},{"$f":"$F$74","v":132900},132900,132900,132900,132900,132900,132900,132900,132900,132900,132900,132900,132900,132900,132900,132900,132900,132900,132900,132900,132900,132900,132900,132900,132900,132900,132900,132900,132900,132900,132900,132900,132900,132900,132900,132900,132900,132900,132900,132900,132900,132900,132900,132900,132900,132900,132900,132900,132900,132900,132900,132900,132900,132900,132900,132900,132900,132900,132900,132900,132900,132900,132900,132900,{"$f":"$F$74","v":132900},132900,132900,132900,132900,132900,132900,132900,132900,132900,132900,132900,132900,132900,132900,132900,132900,132900,132900,132900,132900,132900,132900,132900,132900,132900,132900,132900,132900,132900,132900,132900,132900,132900,132900,132900,132900,132900,132900,132900,132900,132900,132900,132900,132900,132900,132900,132900,132900,132900,132900,132900,132900,132900,132900,132900,132900,132900,132900,132900,132900,132900,132900,132900,{"$f":"$F$74","v":132900},132900,132900,132900,132900,132900,132900,132900,132900,132900,132900,132900,132900,132900,132900,132900,132900,132900,132900,132900,132900,132900,132900,132900,132900,132900,132900,132900,132900,132900,132900,132900,132900,132900,132900,132900,132900,132900,132900,132900,132900,132900,132900,132900,132900,132900,132900,132900,132900,132900,132900,132900,132900,132900,132900,132900,132900,132900,132900,132900,132900,132900,132900,132900,{"$f":"$F$74","v":132900},132900,132900,132900,132900,132900,132900,132900,132900,132900,132900,132900,132900,132900,132900,132900,132900,132900,132900,132900,132900,132900,132900,132900,132900,132900,132900,132900,132900,132900,132900,132900,132900,132900,132900,132900,132900,132900,132900,132900,132900,132900,132900,132900,132900,132900,132900,132900,132900,132900,132900,132900,132900,132900,132900,132900,132900,132900,132900,132900,132900,132900,132900,132900,{"$f":"$F$74","v":132900},132900,132900,132900,132900,132900,132900,132900,132900,132900,132900,132900,132900,132900,132900,132900,132900,132900,132900,132900,132900,132900,132900,132900,132900,132900,132900,132900,132900,132900,132900,132900,132900,132900,132900,132900,132900,132900,132900,132900,132900,132900,132900]
[null,null,"Total Cost",null,"USD ",{"$f":"F74*F14*1000","v":19935000000},null,null,{"$f":"$F$75","v":19935000000},{"$f":"$F$75","v":19935000000},19935000000,19935000000,19935000000,19935000000,19935000000,19935000000,19935000000,19935000000,19935000000,19935000000,19935000000,19935000000,19935000000,19935000000,19935000000,19935000000,19935000000,19935000000,19935000000,19935000000,19935000000,19935000000,19935000000,19935000000,19935000000,19935000000,19935000000,19935000000,19935000000,19935000000,19935000000,19935000000,19935000000,19935000000,19935000000,19935000000,19935000000,19935000000,19935000000,19935000000,19935000000,19935000000,19935000000,19935000000,19935000000,19935000000,19935000000,19935000000,19935000000,19935000000,19935000000,19935000000,19935000000,19935000000,19935000000,19935000000,19935000000,19935000000,19935000000,19935000000,19935000000,19935000000,19935000000,{"$f":"$F$75","v":19935000000},19935000000,19935000000,19935000000,19935000000,19935000000,19935000000,19935000000,19935000000,19935000000,19935000000,19935000000,19935000000,19935000000,19935000000,19935000000,19935000000,19935000000,19935000000,19935000000,19935000000,19935000000,19935000000,19935000000,19935000000,19935000000,19935000000,19935000000,19935000000,19935000000,19935000000,19935000000,19935000000,19935000000,19935000000,19935000000,19935000000,19935000000,19935000000,19935000000,19935000000,19935000000,19935000000,19935000000,19935000000,19935000000,19935000000,19935000000,19935000000,19935000000,19935000000,19935000000,19935000000,19935000000,19935000000,19935000000,19935000000,19935000000,19935000000,19935000000,19935000000,19935000000,19935000000,19935000000,{"$f":"$F$75","v":19935000000},19935000000,19935000000,19935000000,19935000000,19935000000,19935000000,19935000000,19935000000,19935000000,19935000000,19935000000,19935000000,19935000000,19935000000,19935000000,19935000000,19935000000,19935000000,19935000000,19935000000,19935000000,19935000000,19935000000,19935000000,19935000000,19935000000,19935000000,19935000000,19935000000,19935000000,19935000000,19935000000,19935000000,19935000000,19935000000,19935000000,19935000000,19935000000,19935000000,19935000000,19935000000,19935000000,19935000000,19935000000,19935000000,19935000000,19935000000,19935000000,19935000000,19935000000,19935000000,19935000000,19935000000,19935000000,19935000000,19935000000,19935000000,19935000000,19935000000,19935000000,19935000000,19935000000,19935000000,{"$f":"$F$75","v":19935000000},19935000000,19935000000,19935000000,19935000000,19935000000,19935000000,19935000000,19935000000,19935000000,19935000000,19935000000,19935000000,19935000000,19935000000,19935000000,19935000000,19935000000,19935000000,19935000000,19935000000,19935000000,19935000000,19935000000,19935000000,19935000000,19935000000,19935000000,19935000000,19935000000,19935000000,19935000000,19935000000,19935000000,19935000000,19935000000,19935000000,19935000000,19935000000,19935000000,19935000000,19935000000,19935000000,19935000000,19935000000,19935000000,19935000000,19935000000,19935000000,19935000000,19935000000,19935000000,19935000000,19935000000,19935000000,19935000000,19935000000,19935000000,19935000000,19935000000,19935000000,19935000000,19935000000,19935000000,{"$f":"$F$75","v":19935000000},19935000000,19935000000,19935000000,19935000000,19935000000,19935000000,19935000000,19935000000,19935000000,19935000000,19935000000,19935000000,19935000000,19935000000,19935000000,19935000000,19935000000,19935000000,19935000000,19935000000,19935000000,19935000000,19935000000,19935000000,19935000000,19935000000,19935000000,19935000000,19935000000,19935000000,19935000000,19935000000,19935000000,19935000000,19935000000,19935000000,19935000000,19935000000,19935000000,19935000000,19935000000,19935000000]
[null,null,"Spending Percent",null,"%",{"$f":"1/$F$6","v":0.125},null,{"$f":"SUM(I76:XFD76)","v":1},{"$f":"$F$76*I6","v":0.125},0.125,0.125,0.125,0.125,0.125,0.125,0.125,0,0,0,0,0,0,0,0,0,0,0,0,0,0,0,0,0,0,0,0,0,0,0,0,0,0,0,0,0,0,0,0,0,0,0,0,0,0,0,0,0,0,0,0,0,0,0,0,0,0,0,0,0,0,0,0,{"$f":"$F$76*BU6","v":0},0,0,0,0,0,0,0,0,0,0,0,0,0,0,0,0,0,0,0,0,0,0,0,0,0,0,0,0,0,0,0,0,0,0,0,0,0,0,0,0,0,0,0,0,0,0,0,0,0,0,0,0,0,0,0,0,0,0,0,0,0,0,0,{"$f":"$F$76*EG6","v":0},0,0,0,0,0,0,0,0,0,0,0,0,0,0,0,0,0,0,0,0,0,0,0,0,0,0,0,0,0,0,0,0,0,0,0,0,0,0,0,0,0,0,0,0,0,0,0,0,0,0,0,0,0,0,0,0,0,0,0,0,0,0,0,{"$f":"$F$76*GS6","v":0},0,0,0,0,0,0,0,0,0,0,0,0,0,0,0,0,0,0,0,0,0,0,0,0,0,0,0,0,0,0,0,0,0,0,0,0,0,0,0,0,0,0,0,0,0,0,0,0,0,0,0,0,0,0,0,0,0,0,0,0,0,0,0,{"$f":"$F$76*JE6","v":0},0,0,0,0,0,0,0,0,0,0,0,0,0,0,0,0,0,0,0,0,0,0,0,0,0,0,0,0,0,0,0,0,0,0,0,0,0,0,0,0,0,0,0]
[null,null,"Total Capital Expenditure",null,"USD",null,null,{"$f":"SUM(I77:XFD77)","v":19935000000},{"$f":"I76*I75","v":2491875000},{"$f":"J76*J75","v":2491875000},2491875000,2491875000,2491875000,2491875000,2491875000,2491875000,0,0,0,0,0,0,0,0,0,0,0,0,0,0,0,0,0,0,0,0,0,0,0,0,0,0,0,0,0,0,0,0,0,0,0,0,0,0,0,0,0,0,0,0,0,0,0,0,0,0,0,0,0,0,0,0,0,{"$f":"BV76*BV75","v":0},0,0,0,0,0,0,0,0,0,0,0,0,0,0,0,0,0,0,0,0,0,0,0,0,0,0,0,0,0,0,0,0,0,0,0,0,0,0,0,0,0,0,0,0,0,0,0,0,0,0,0,0,0,0,0,0,0,0,0,0,0,0,0,{"$f":"EH76*EH75","v":0},0,0,0,0,0,0,0,0,0,0,0,0,0,0,0,0,0,0,0,0,0,0,0,0,0,0,0,0,0,0,0,0,0,0,0,0,0,0,0,0,0,0,0,0,0,0,0,0,0,0,0,0,0,0,0,0,0,0,0,0,0,0,0,{"$f":"GT76*GT75","v":0},0,0,0,0,0,0,0,0,0,0,0,0,0,0,0,0,0,0,0,0,0,0,0,0,0,0,0,0,0,0,0,0,0,0,0,0,0,0,0,0,0,0,0,0,0,0,0,0,0,0,0,0,0,0,0,0,0,0,0,0,0,0,0,{"$f":"JF76*JF75","v":0},0,0,0,0,0,0,0,0,0,0,0,0,0,0,0,0,0,0,0,0,0,0,0,0,0,0,0,0,0,0,0,0,0,0,0,0,0,0,0,0,0,0]
[]
[null,null,"Cost/kW IT - Other",null,"USD/kW IT",{"$f":"InputC!G50","v":2100},null,null,{"$f":"$F$79","v":2100},{"$f":"$F$79","v":2100},2100,2100,2100,2100,2100,2100,2100,2100,2100,2100,2100,2100,2100,2100,2100,2100,2100,2100,2100,2100,2100,2100,2100,2100,2100,2100,2100,2100,2100,2100,2100,2100,2100,2100,2100,2100,2100,2100,2100,2100,2100,2100,2100,2100,2100,2100,2100,2100,2100,2100,2100,2100,2100,2100,2100,2100,2100,2100,2100,2100,2100,2100,2100,{"$f":"$F$79","v":2100},2100,2100,2100,2100,2100,2100,2100,2100,2100,2100,2100,2100,2100,2100,2100,2100,2100,2100,2100,2100,2100,2100,2100,2100,2100,2100,2100,2100,2100,2100,2100,2100,2100,2100,2100,2100,2100,2100,2100,2100,2100,2100,2100,2100,2100,2100,2100,2100,2100,2100,2100,2100,2100,2100,2100,2100,2100,2100,2100,2100,2100,2100,2100,{"$f":"$F$79","v":2100},2100,2100,2100,2100,2100,2100,2100,2100,2100,2100,2100,2100,2100,2100,2100,2100,2100,2100,2100,2100,2100,2100,2100,2100,2100,2100,2100,2100,2100,2100,2100,2100,2100,2100,2100,2100,2100,2100,2100,2100,2100,2100,2100,2100,2100,2100,2100,2100,2100,2100,2100,2100,2100,2100,2100,2100,2100,2100,2100,2100,2100,2100,2100,{"$f":"$F$79","v":2100},2100,2100,2100,2100,2100,2100,2100,2100,2100,2100,2100,2100,2100,2100,2100,2100,2100,2100,2100,2100,2100,2100,2100,2100,2100,2100,2100,2100,2100,2100,2100,2100,2100,2100,2100,2100,2100,2100,2100,2100,2100,2100,2100,2100,2100,2100,2100,2100,2100,2100,2100,2100,2100,2100,2100,2100,2100,2100,2100,2100,2100,2100,2100,{"$f":"$F$79","v":2100},2100,2100,2100,2100,2100,2100,2100,2100,2100,2100,2100,2100,2100,2100,2100,2100,2100,2100,2100,2100,2100,2100,2100,2100,2100,2100,2100,2100,2100,2100,2100,2100,2100,2100,2100,2100,2100,2100,2100,2100,2100,2100]
[null,null,"Total Cost",null,"USD ",{"$f":"F79*F14*1000","v":315000000},null,null,{"$f":"$F$80","v":315000000},{"$f":"$F$80","v":315000000},315000000,315000000,315000000,315000000,315000000,315000000,315000000,315000000,315000000,315000000,315000000,315000000,315000000,315000000,315000000,315000000,315000000,315000000,315000000,315000000,315000000,315000000,315000000,315000000,315000000,315000000,315000000,315000000,315000000,315000000,315000000,315000000,315000000,315000000,315000000,315000000,315000000,315000000,315000000,315000000,315000000,315000000,315000000,315000000,315000000,315000000,315000000,315000000,315000000,315000000,315000000,315000000,315000000,315000000,315000000,315000000,315000000,315000000,315000000,315000000,315000000,315000000,315000000,{"$f":"$F$80","v":315000000},315000000,315000000,315000000,315000000,315000000,315000000,315000000,315000000,315000000,315000000,315000000,315000000,315000000,315000000,315000000,315000000,315000000,315000000,315000000,315000000,315000000,315000000,315000000,315000000,315000000,315000000,315000000,315000000,315000000,315000000,315000000,315000000,315000000,315000000,315000000,315000000,315000000,315000000,315000000,315000000,315000000,315000000,315000000,315000000,315000000,315000000,315000000,315000000,315000000,315000000,315000000,315000000,315000000,315000000,315000000,315000000,315000000,315000000,315000000,315000000,315000000,315000000,315000000,{"$f":"$F$80","v":315000000},315000000,315000000,315000000,315000000,315000000,315000000,315000000,315000000,315000000,315000000,315000000,315000000,315000000,315000000,315000000,315000000,315000000,315000000,315000000,315000000,315000000,315000000,315000000,315000000,315000000,315000000,315000000,315000000,315000000,315000000,315000000,315000000,315000000,315000000,315000000,315000000,315000000,315000000,315000000,315000000,315000000,315000000,315000000,315000000,315000000,315000000,315000000,315000000,315000000,315000000,315000000,315000000,315000000,315000000,315000000,315000000,315000000,315000000,315000000,315000000,315000000,315000000,315000000,{"$f":"$F$80","v":315000000},315000000,315000000,315000000,315000000,315000000,315000000,315000000,315000000,315000000,315000000,315000000,315000000,315000000,315000000,315000000,315000000,315000000,315000000,315000000,315000000,315000000,315000000,315000000,315000000,315000000,315000000,315000000,315000000,315000000,315000000,315000000,315000000,315000000,315000000,315000000,315000000,315000000,315000000,315000000,315000000,315000000,315000000,315000000,315000000,315000000,315000000,315000000,315000000,315000000,315000000,315000000,315000000,315000000,315000000,315000000,315000000,315000000,315000000,315000000,315000000,315000000,315000000,315000000,{"$f":"$F$80","v":315000000},315000000,315000000,315000000,315000000,315000000,315000000,315000000,315000000,315000000,315000000,315000000,315000000,315000000,315000000,315000000,315000000,315000000,315000000,315000000,315000000,315000000,315000000,315000000,315000000,315000000,315000000,315000000,315000000,315000000,315000000,315000000,315000000,315000000,315000000,315000000,315000000,315000000,315000000,315000000,315000000,315000000,315000000]
[null,null,"Spending Percent",null,"%",{"$f":"1/$F$6","v":0.125},null,null,{"$f":"$F$81*I6","v":0.125},0.125,0.125,0.125,0.125,0.125,0.125,0.125,0,0,0,0,0,0,0,0,0,0,0,0,0,0,0,0,0,0,0,0,0,0,0,0,0,0,0,0,0,0,0,0,0,0,0,0,0,0,0,0,0,0,0,0,0,0,0,0,0,0,0,0,0,0,0,0,{"$f":"$F$81*BU6","v":0},0,0,0,0,0,0,0,0,0,0,0,0,0,0,0,0,0,0,0,0,0,0,0,0,0,0,0,0,0,0,0,0,0,0,0,0,0,0,0,0,0,0,0,0,0,0,0,0,0,0,0,0,0,0,0,0,0,0,0,0,0,0,0,{"$f":"$F$81*EG6","v":0},0,0,0,0,0,0,0,0,0,0,0,0,0,0,0,0,0,0,0,0,0,0,0,0,0,0,0,0,0,0,0,0,0,0,0,0,0,0,0,0,0,0,0,0,0,0,0,0,0,0,0,0,0,0,0,0,0,0,0,0,0,0,0,{"$f":"$F$81*GS6","v":0},0,0,0,0,0,0,0,0,0,0,0,0,0,0,0,0,0,0,0,0,0,0,0,0,0,0,0,0,0,0,0,0,0,0,0,0,0,0,0,0,0,0,0,0,0,0,0,0,0,0,0,0,0,0,0,0,0,0,0,0,0,0,0,{"$f":"$F$81*JE6","v":0},0,0,0,0,0,0,0,0,0,0,0,0,0,0,0,0,0,0,0,0,0,0,0,0,0,0,0,0,0,0,0,0,0,0,0,0,0,0,0,0,0,0,0]
[null,null,"Total Capital Expenditure",null,"USD",null,null,{"$f":"SUM(I82:XFD82)","v":315000000},{"$f":"I81*I80","v":39375000},{"$f":"J81*J80","v":39375000},39375000,39375000,39375000,39375000,39375000,39375000,0,0,0,0,0,0,0,0,0,0,0,0,0,0,0,0,0,0,0,0,0,0,0,0,0,0,0,0,0,0,0,0,0,0,0,0,0,0,0,0,0,0,0,0,0,0,0,0,0,0,0,0,0,0,0,0,0,{"$f":"BV81*BV80","v":0},0,0,0,0,0,0,0,0,0,0,0,0,0,0,0,0,0,0,0,0,0,0,0,0,0,0,0,0,0,0,0,0,0,0,0,0,0,0,0,0,0,0,0,0,0,0,0,0,0,0,0,0,0,0,0,0,0,0,0,0,0,0,0,{"$f":"EH81*EH80","v":0},0,0,0,0,0,0,0,0,0,0,0,0,0,0,0,0,0,0,0,0,0,0,0,0,0,0,0,0,0,0,0,0,0,0,0,0,0,0,0,0,0,0,0,0,0,0,0,0,0,0,0,0,0,0,0,0,0,0,0,0,0,0,0,{"$f":"GT81*GT80","v":0},0,0,0,0,0,0,0,0,0,0,0,0,0,0,0,0,0,0,0,0,0,0,0,0,0,0,0,0,0,0,0,0,0,0,0,0,0,0,0,0,0,0,0,0,0,0,0,0,0,0,0,0,0,0,0,0,0,0,0,0,0,0,0,{"$f":"JF81*JF80","v":0},0,0,0,0,0,0,0,0,0,0,0,0,0,0,0,0,0,0,0,0,0,0,0,0,0,0,0,0,0,0,0,0,0,0,0,0,0,0,0,0,0,0]
[]
[null,null,"Cost/kW IT - Total",null,"USD/kW IT",{"$f":"InputC!G51","v":505000},null,null,{"$f":"$F$84","v":505000},505000,505000,505000,505000,505000,505000,505000,505000,505000,505000,505000,505000,505000,505000,505000,505000,505000,505000,505000,505000,505000,505000,505000,505000,505000,505000,505000,505000,505000,505000,505000,505000,505000,505000,505000,505000,505000,505000,505000,505000,505000,505000,505000,505000,505000,505000,505000,505000,505000,505000,505000,505000,505000,505000,505000,505000,505000,505000,505000,505000,505000,505000,505000,{"$f":"$F$84","v":505000},505000,505000,505000,505000,505000,505000,505000,505000,505000,505000,505000,505000,505000,505000,505000,505000,505000,505000,505000,505000,505000,505000,505000,505000,505000,505000,505000,505000,505000,505000,505000,505000,505000,505000,505000,505000,505000,505000,505000,505000,505000,505000,505000,505000,505000,505000,505000,505000,505000,505000,505000,505000,505000,505000,505000,505000,505000,505000,505000,505000,505000,505000,505000,{"$f":"$F$84","v":505000},505000,505000,505000,505000,505000,505000,505000,505000,505000,505000,505000,505000,505000,505000,505000,505000,505000,505000,505000,505000,505000,505000,505000,505000,505000,505000,505000,505000,505000,505000,505000,505000,505000,505000,505000,505000,505000,505000,505000,505000,505000,505000,505000,505000,505000,505000,505000,505000,505000,505000,505000,505000,505000,505000,505000,505000,505000,505000,505000,505000,505000,505000,505000,{"$f":"$F$84","v":505000},505000,505000,505000,505000,505000,505000,505000,505000,505000,505000,505000,505000,505000,505000,505000,505000,505000,505000,505000,505000,505000,505000,505000,505000,505000,505000,505000,505000,505000,505000,505000,505000,505000,505000,505000,505000,505000,505000,505000,505000,505000,505000,505000,505000,505000,505000,505000,505000,505000,505000,505000,505000,505000,505000,505000,505000,505000,505000,505000,505000,505000,505000,505000,{"$f":"$F$84","v":505000},505000,505000,505000,505000,505000,505000,505000,505000,505000,505000,505000,505000,505000,505000,505000,505000,505000,505000,505000,505000,505000,505000,505000,505000,505000,505000,505000,505000,505000,505000,505000,505000,505000,505000,505000,505000,505000,505000,505000,505000,505000,505000,505000]
[null,null,"Total Cost",null,"USD ",{"$f":"F84*1000*F14","v":75750000000},null,null,{"$f":"$F$85","v":75750000000},75750000000,75750000000,75750000000,75750000000,75750000000,75750000000,75750000000,75750000000,75750000000,75750000000,75750000000,75750000000,75750000000,75750000000,75750000000,75750000000,75750000000,75750000000,75750000000,75750000000,75750000000,75750000000,75750000000,75750000000,75750000000,75750000000,75750000000,75750000000,75750000000,75750000000,75750000000,75750000000,75750000000,75750000000,75750000000,75750000000,75750000000,75750000000,75750000000,75750000000,75750000000,75750000000,75750000000,75750000000,75750000000,75750000000,75750000000,75750000000,75750000000,75750000000,75750000000,75750000000,75750000000,75750000000,75750000000,75750000000,75750000000,75750000000,75750000000,75750000000,75750000000,75750000000,75750000000,{"$f":"$F$85","v":75750000000},75750000000,75750000000,75750000000,75750000000,75750000000,75750000000,75750000000,75750000000,75750000000,75750000000,75750000000,75750000000,75750000000,75750000000,75750000000,75750000000,75750000000,75750000000,75750000000,75750000000,75750000000,75750000000,75750000000,75750000000,75750000000,75750000000,75750000000,75750000000,75750000000,75750000000,75750000000,75750000000,75750000000,75750000000,75750000000,75750000000,75750000000,75750000000,75750000000,75750000000,75750000000,75750000000,75750000000,75750000000,75750000000,75750000000,75750000000,75750000000,75750000000,75750000000,75750000000,75750000000,75750000000,75750000000,75750000000,75750000000,75750000000,75750000000,75750000000,75750000000,75750000000,75750000000,75750000000,{"$f":"$F$85","v":75750000000},75750000000,75750000000,75750000000,75750000000,75750000000,75750000000,75750000000,75750000000,75750000000,75750000000,75750000000,75750000000,75750000000,75750000000,75750000000,75750000000,75750000000,75750000000,75750000000,75750000000,75750000000,75750000000,75750000000,75750000000,75750000000,75750000000,75750000000,75750000000,75750000000,75750000000,75750000000,75750000000,75750000000,75750000000,75750000000,75750000000,75750000000,75750000000,75750000000,75750000000,75750000000,75750000000,75750000000,75750000000,75750000000,75750000000,75750000000,75750000000,75750000000,75750000000,75750000000,75750000000,75750000000,75750000000,75750000000,75750000000,75750000000,75750000000,75750000000,75750000000,75750000000,75750000000,75750000000,{"$f":"$F$85","v":75750000000},75750000000,75750000000,75750000000,75750000000,75750000000,75750000000,75750000000,75750000000,75750000000,75750000000,75750000000,75750000000,75750000000,75750000000,75750000000,75750000000,75750000000,75750000000,75750000000,75750000000,75750000000,75750000000,75750000000,75750000000,75750000000,75750000000,75750000000,75750000000,75750000000,75750000000,75750000000,75750000000,75750000000,75750000000,75750000000,75750000000,75750000000,75750000000,75750000000,75750000000,75750000000,75750000000,75750000000,75750000000,75750000000,75750000000,75750000000,75750000000,75750000000,75750000000,75750000000,75750000000,75750000000,75750000000,75750000000,75750000000,75750000000,75750000000,75750000000,75750000000,75750000000,75750000000,75750000000,{"$f":"$F$85","v":75750000000},75750000000,75750000000,75750000000,75750000000,75750000000,75750000000,75750000000,75750000000,75750000000,75750000000,75750000000,75750000000,75750000000,75750000000,75750000000,75750000000,75750000000,75750000000,75750000000,75750000000,75750000000,75750000000,75750000000,75750000000,75750000000,75750000000,75750000000,75750000000,75750000000,75750000000,75750000000,75750000000,75750000000,75750000000,75750000000,75750000000,75750000000,75750000000,75750000000,75750000000,75750000000,75750000000,75750000000]
[null,null,"Spending Percent",null,"%",{"$f":"1/F6","v":0.125},null,null,{"$f":"$F$86*I6","v":0.125},0.125,0.125,0.125,0.125,0.125,0.125,0.125,0,0,0,0,0,0,0,0,0,0,0,0,0,0,0,0,0,0,0,0,0,0,0,0,0,0,0,0,0,0,0,0,0,0,0,0,0,0,0,0,0,0,0,0,0,0,0,0,0,0,0,0,0,0,0,0,{"$f":"$F$86*BU6","v":0},0,0,0,0,0,0,0,0,0,0,0,0,0,0,0,0,0,0,0,0,0,0,0,0,0,0,0,0,0,0,0,0,0,0,0,0,0,0,0,0,0,0,0,0,0,0,0,0,0,0,0,0,0,0,0,0,0,0,0,0,0,0,0,{"$f":"$F$86*EG6","v":0},0,0,0,0,0,0,0,0,0,0,0,0,0,0,0,0,0,0,0,0,0,0,0,0,0,0,0,0,0,0,0,0,0,0,0,0,0,0,0,0,0,0,0,0,0,0,0,0,0,0,0,0,0,0,0,0,0,0,0,0,0,0,0,{"$f":"$F$86*GS6","v":0},0,0,0,0,0,0,0,0,0,0,0,0,0,0,0,0,0,0,0,0,0,0,0,0,0,0,0,0,0,0,0,0,0,0,0,0,0,0,0,0,0,0,0,0,0,0,0,0,0,0,0,0,0,0,0,0,0,0,0,0,0,0,0,{"$f":"$F$86*JE6","v":0},0,0,0,0,0,0,0,0,0,0,0,0,0,0,0,0,0,0,0,0,0,0,0,0,0,0,0,0,0,0,0,0,0,0,0,0,0,0,0,0,0,0,0]
[null,null,"Total Capital Expenditure",null,"USD",null,null,{"$f":"SUM(I87:XFD87)","v":75750000000},{"$f":"I86*I85","v":9468750000},{"$f":"J86*J85","v":9468750000},9468750000,9468750000,9468750000,9468750000,9468750000,9468750000,0,0,0,0,0,0,0,0,0,0,0,0,0,0,0,0,0,0,0,0,0,0,0,0,0,0,0,0,0,0,0,0,0,0,0,0,0,0,0,0,0,0,0,0,0,0,0,0,0,0,0,0,0,0,0,0,0,{"$f":"BV86*BV85","v":0},0,0,0,0,0,0,0,0,0,0,0,0,0,0,0,0,0,0,0,0,0,0,0,0,0,0,0,0,0,0,0,0,0,0,0,0,0,0,0,0,0,0,0,0,0,0,0,0,0,0,0,0,0,0,0,0,0,0,0,0,0,0,0,{"$f":"EH86*EH85","v":0},0,0,0,0,0,0,0,0,0,0,0,0,0,0,0,0,0,0,0,0,0,0,0,0,0,0,0,0,0,0,0,0,0,0,0,0,0,0,0,0,0,0,0,0,0,0,0,0,0,0,0,0,0,0,0,0,0,0,0,0,0,0,0,{"$f":"GT86*GT85","v":0},0,0,0,0,0,0,0,0,0,0,0,0,0,0,0,0,0,0,0,0,0,0,0,0,0,0,0,0,0,0,0,0,0,0,0,0,0,0,0,0,0,0,0,0,0,0,0,0,0,0,0,0,0,0,0,0,0,0,0,0,0,0,0,{"$f":"JF86*JF85","v":0},0,0,0,0,0,0,0,0,0,0,0,0,0,0,0,0,0,0,0,0,0,0,0,0,0,0,0,0,0,0,0,0,0,0,0,0,0,0,0,0,0,0]
[]
[null,null,"Total Age in Months",null,"Months",null,null,null,{"$f":"H89+I9","v":0},0,0,0,0,0,0,0,1,2,3,4,5,6,7,8,9,10,11,12,13,14,15,16,17,18,19,20,21,22,23,24,25,26,27,28,29,30,31,32,33,34,35,36,37,38,39,40,41,42,43,44,45,46,47,48,49,50,51,52,53,54,55,56,{"$f":"BT89+BU9","v":57},58,59,60,61,62,63,64,65,66,67,68,69,70,71,72,72,72,72,72,72,72,72,72,72,72,72,72,72,72,72,72,72,72,72,72,72,72,72,72,72,72,72,72,72,72,72,72,72,72,72,72,72,72,72,72,72,72,72,72,72,72,72,72,{"$f":"EF89+EG9","v":72},72,72,72,72,72,72,72,72,72,72,72,72,72,72,72,72,72,72,72,72,72,72,72,72,72,72,72,72,72,72,72,72,72,72,72,72,72,72,72,72,72,72,72,72,72,72,72,72,72,72,72,72,72,72,72,72,72,72,72,72,72,72,72,{"$f":"GR89+GS9","v":72},72,72,72,72,72,72,72,72,72,72,72,72,72,72,72,72,72,72,72,72,72,72,72,72,72,72,72,72,72,72,72,72,72,72,72,72,72,72,72,72,72,72,72,72,72,72,72,72,72,72,72,72,72,72,72,72,72,72,72,72,72,72,72,{"$f":"JD89+JE9","v":72},72,72,72,72,72,72,72,72,72,72,72,72,72,72,72,72,72,72,72,72,72,72,72,72,72,72,72,72,72,72,72,72,72,72,72,72,72,72,72,72,72,72,72]
[null,null,"Remaining Life",null,"Months",{"$f":"H9","v":72},null,null,{"$f":"$F$90-I89","v":72},{"$f":"$F$90-J89","v":72},72,72,72,72,72,72,71,70,69,68,67,66,65,64,63,62,61,60,59,58,57,56,55,54,53,52,51,50,49,48,47,46,45,44,43,42,41,40,39,38,37,36,35,34,33,32,31,30,29,28,27,26,25,24,23,22,21,20,19,18,17,16,15,{"$f":"$F$90-BV89","v":14},13,12,11,10,9,8,7,6,5,4,3,2,1,0,0,0,0,0,0,0,0,0,0,0,0,0,0,0,0,0,0,0,0,0,0,0,0,0,0,0,0,0,0,0,0,0,0,0,0,0,0,0,0,0,0,0,0,0,0,0,0,0,0,{"$f":"$F$90-EH89","v":0},0,0,0,0,0,0,0,0,0,0,0,0,0,0,0,0,0,0,0,0,0,0,0,0,0,0,0,0,0,0,0,0,0,0,0,0,0,0,0,0,0,0,0,0,0,0,0,0,0,0,0,0,0,0,0,0,0,0,0,0,0,0,0,{"$f":"$F$90-GT89","v":0},0,0,0,0,0,0,0,0,0,0,0,0,0,0,0,0,0,0,0,0,0,0,0,0,0,0,0,0,0,0,0,0,0,0,0,0,0,0,0,0,0,0,0,0,0,0,0,0,0,0,0,0,0,0,0,0,0,0,0,0,0,0,0,{"$f":"$F$90-JF89","v":0},0,0,0,0,0,0,0,0,0,0,0,0,0,0,0,0,0,0,0,0,0,0,0,0,0,0,0,0,0,0,0,0,0,0,0,0,0,0,0,0,0,0]
[null,null,"Flag for Possible Replacement Period",null,"Flag",null,null,null,{"$f":"AND(I9,I90>=$F$92)","v":false},false,false,false,false,false,false,false,true,true,true,true,true,true,true,true,true,true,true,true,true,true,true,true,true,true,true,true,true,true,true,true,true,true,true,true,true,true,true,true,true,true,true,true,true,true,true,true,true,true,true,true,true,true,true,true,false,false,false,false,false,false,false,false,{"$f":"AND(BU9,BU90>=$F$92)","v":false},false,false,false,false,false,false,false,false,false,false,false,false,false,false,false,false,false,false,false,false,false,false,false,false,false,false,false,false,false,false,false,false,false,false,false,false,false,false,false,false,false,false,false,false,false,false,false,false,false,false,false,false,false,false,false,false,false,false,false,false,false,false,false,{"$f":"AND(EG9,EG90>=$F$92)","v":false},false,false,false,false,false,false,false,false,false,false,false,false,false,false,false,false,false,false,false,false,false,false,false,false,false,false,false,false,false,false,false,false,false,false,false,false,false,false,false,false,false,false,false,false,false,false,false,false,false,false,false,false,false,false,false,false,false,false,false,false,false,false,false,{"$f":"AND(GS9,GS90>=$F$92)","v":false},false,false,false,false,false,false,false,false,false,false,false,false,false,false,false,false,false,false,false,false,false,false,false,false,false,false,false,false,false,false,false,false,false,false,false,false,false,false,false,false,false,false,false,false,false,false,false,false,false,false,false,false,false,false,false,false,false,false,false,false,false,false,false,{"$f":"AND(JE9,JE90>=$F$92)","v":false},false,false,false,false,false,false,false,false,false,false,false,false,false,false,false,false,false,false,false,false,false,false,false,false,false,false,false,false,false,false,false,false,false,false,false,false,false,false,false,false,false,false,false]
[null,null,"Replacement Period",null,"Flag",{"$f":"InputC!G54","v":24},null,{"$f":"SUM(I92:XFD92)","v":2},{"$f":"(AND(I91,MOD(I89,$F$92)=0))*I9","v":0},0,0,0,0,0,0,0,0,0,0,0,0,0,0,0,0,0,0,0,0,0,0,0,0,0,0,0,0,0,0,1,0,0,0,0,0,0,0,0,0,0,0,0,0,0,0,0,0,0,0,0,0,0,0,1,0,0,0,0,0,0,0,0,{"$f":"(AND(BU91,MOD(BU89,$F$92)=0))*BU9","v":0},0,0,0,0,0,0,0,0,0,0,0,0,0,0,0,0,0,0,0,0,0,0,0,0,0,0,0,0,0,0,0,0,0,0,0,0,0,0,0,0,0,0,0,0,0,0,0,0,0,0,0,0,0,0,0,0,0,0,0,0,0,0,0,{"$f":"(AND(EG91,MOD(EG89,$F$92)=0))*EG9","v":0},0,0,0,0,0,0,0,0,0,0,0,0,0,0,0,0,0,0,0,0,0,0,0,0,0,0,0,0,0,0,0,0,0,0,0,0,0,0,0,0,0,0,0,0,0,0,0,0,0,0,0,0,0,0,0,0,0,0,0,0,0,0,0,{"$f":"(AND(GS91,MOD(GS89,$F$92)=0))*GS9","v":0},0,0,0,0,0,0,0,0,0,0,0,0,0,0,0,0,0,0,0,0,0,0,0,0,0,0,0,0,0,0,0,0,0,0,0,0,0,0,0,0,0,0,0,0,0,0,0,0,0,0,0,0,0,0,0,0,0,0,0,0,0,0,0,{"$f":"(AND(JE91,MOD(JE89,$F$92)=0))*JE9","v":0},0,0,0,0,0,0,0,0,0,0,0,0,0,0,0,0,0,0,0,0,0,0,0,0,0,0,0,0,0,0,0,0,0,0,0,0,0,0,0,0,0,0,0]
[null,null,"Inflation Index for Replacement",null,"Index",null,null,null,{"$f":"I65","v":0.99916282264087941},0.99832634614768945,0.99749056993368101,0.99665549341259629,0.99582111599866807,0.99498743710661974,0.99415445615166464,0.99332217254950561,0.99249058571633464,0.99165969506883256,0.99082950002416847,0.98999999999999944,0.9891711944144701,0.98834308268621207,0.98751566423434367,0.98668893847846972,0.98586290483868078,0.98503756273555299,0.98421291159014745,0.98338895082401001,0.98256567985917076,0.98174309811814375,0.98092120502392632,0.98009999999999897,0.97927948247032492,0.97845965185934947,0.97764050759199983,0.97682204909368464,0.97600427579029359,0.97518718710819707,0.97437078247424558,0.97355506131576952,0.97274002306057872,0.97192566713696193,0.97111199297368667,0.97029899999999858,0.96948668764562118,0.96867505534075549,0.96786410251607935,0.96705382860274736,0.96624423303239027,0.96543531523711468,0.9646270746495027,0.9638195107026114,0.96301262282997246,0.96220641046559185,0.96140087304394939,0.96059600999999828,0.95979182076916469,0.95898830478734765,0.95818546149091821,0.95738329031671954,0.95658179070206606,0.95578096208474328,0.95498080390300744,0.95418131559558506,0.95338249660167251,0.9525843463609357,0.95178686431350967,0.95099004989999802,0.95019390256147274,0.94939842173947386,0.94860360687600875,0.94780945741355205,{"$f":"BU65","v":0.94701597279504501},0.94622315246389543,0.94543099586397694,0.9446395024396288,0.94384867163565545,0.94305850289732607,0.94226899567037425,0.94148014940099767,0.94069196353585771,0.93990443752207875,0.93911757080724834,0.93833136283941621,0.93754581306709428,0.93676092093925623,0.93597668590533689,0.93519310741523221,0.9344101849192985,0.93362791786835242,0.93284630571367011,0.93206534790698736,0.93128504390049882,0.93050539314685765,0.92972639509917554,0.9289480492110217,0.92817035493642297,0.92739331172986328,0.92661691904628318,0.92584117634107954,0.92506608307010518,0.92429163868966857,0.92351784265653314,0.92274469442791718,0.92197219346149351,0.9212003392153888,0.92042913114818348,0.91965856871891116,0.91888865138705844,0.91811937861256432,0.91735074985581999,0.91658276457766841,0.91581542223940382,0.91504872230277157,0.91428266422996751,0.91351724748363772,0.91275247152687822,0.91198833582323457,0.91122483983670133,0.91046198303172177,0.9096997648731876,0.9089381848264384,0.90817724235726149,0.9074169369318914,0.90665726801700952,0.90589823507974354,0.90513983758766747,0.90438207500880097,0.9036249468116091,0.90286845246500191,0.902112591438334,0.90135736320140425,0.90060276722445542,0.89984880297817371,0.89909546993368861,0.89834276756257225,{"$f":"EG65","v":0.89759069533683911},0.89683925272894582,0.89608843921179049,0.89533825425871272,0.89458869734349278,0.89383976794035158,0.89309146552395036,0.89234378956938987,0.89159673955221053,0.89085031494839173,0.89010451523435152,0.88935933988694627,0.88861478838347052,0.88787086020165618,0.88712755481967243,0.88638487171612534,0.88564281037005754,0.88490137026094784,0.88416055086871059,0.8834203516736957,0.88268077215668816,0.88194181179890752,0.88120347008200772,0.88046574648807652,0.87972864049963551,0.87899215159963928,0.87825627927147543,0.87752102299896384,0.87678638226635675,0.87605235655833813,0.8753189453600233,0.87458614815695856,0.87385396443512109,0.87312239368091826,0.87239143538118746,0.87166108902319561,0.87093135409463895,0.87020223008364272,0.86947371647876048,0.868745812768974,0.86801851844369304,0.86729183299275459,0.86656575590642282,0.8658402866753887,0.86511542479076964,0.86439116974410879,0.86366752102737521,0.86294447813296327,0.86222204055369223,0.86150020778280589,0.8607789793139724,0.86005835464128377,0.85933833325925557,0.85861891466282647,0.85790009834735803,0.85718188380863425,0.85646427054286134,0.85574725804666707,0.85503084581710087,0.85431503335163306,0.85359982014815472,0.85288520570497728,0.85217118952083215,0.85145777109487042,{"$f":"GS65","v":0.8507449499266625},0.85003272551619768,0.84932109736388395,0.84861006497054747,0.84789962783743222,0.84718978546619994,0.84648053735892936,0.84577188301811623,0.84506382194667273,0.84435635364792705,0.84364947762562337,0.84294319338392132,0.84223750042739554,0.84153239826103543,0.84082788639024486,0.84012396432084169,0.83942063155905766,0.83871788761153776,0.83801573198533996,0.83731416418793492,0.83661318372720583,0.83591279011144759,0.83521298284936696,0.83451376145008194,0.83381512542312142,0.83311707427842485,0.83241960752634214,0.83172272467763309,0.83102642524346693,0.83033070873542214,0.82963557466548632,0.82894102254605539,0.82824705188993353,0.82755366221033289,0.82686085302087309,0.82616862383558087,0.82547697416888988,0.8247859035356403,0.82409541145107845,0.82340549743085645,0.82271616099103195,0.82202740164806765,0.8213392189188311,0.82065161232059447,0.8199645813710339,0.81927812558822932,0.81859224449066414,0.81790693759722488,0.81722220442720084,0.81653804450028378,0.81585445733656758,0.81517144245654782,0.81448899938112151,0.8138071276315868,0.81312582672964273,0.81244509619738847,0.81176493555732343,0.8110853443323468,0.81040632204575724,0.80972786822125231,0.80904998238292847,0.80837266405528052,0.80769591276320141,0.80701972803198185,{"$f":"JE65","v":0.80634410938730983},0.80566905635527053,0.80499456846234585,0.80432064523541413,0.80364728620174974,0.80297449088902295,0.80230225882529926,0.80163058953903943,0.80095948255909888,0.80028893741472751,0.79961895363556923,0.79894953075166186,0.79828066829343658,0.79761236579171768,0.79694462277772227,0.7962774387830599,0.79561081333973216,0.79494474598013265,0.79427923623704622,0.79361428364364894,0.79294988773350783,0.79228604804058012,0.79162276409921339,0.79096003544414506,0.79029786161050197,0.78963624213380024,0.78897517654994476,0.78831466439522901,0.78765470520633463,0.78699529852033112,0.78633644387467561,0.78567814080721232,0.78502038885617254,0.78436318756017409,0.78370653645822108,0.7830504350897034,0.78239488299439675,0.78173987971246206,0.78108542478444509,0.7804315177512765,0.77977815815427098,0.77912534553512747,0.77847307943592847,0.77782135939913988]
[null,null,"Replacement Amount",null,"USD",{"$f":"F70","v":55500000000},null,{"$f":"SUM(I94:XFD94)","v":106989368918.58017},{"$f":"I93*I92*$F$94","v":0},{"$f":"J93*J92*$F$94","v":0},0,0,0,0,0,0,0,0,0,0,0,0,0,0,0,0,0,0,0,0,0,0,0,0,0,0,0,0,0,54032305903.025208,0,0,0,0,0,0,0,0,0,0,0,0,0,0,0,0,0,0,0,0,0,0,0,52957063015.55497,0,0,0,0,0,0,0,0,0,{"$f":"BV93*BV92*$F$94","v":0},0,0,0,0,0,0,0,0,0,0,0,0,0,0,0,0,0,0,0,0,0,0,0,0,0,0,0,0,0,0,0,0,0,0,0,0,0,0,0,0,0,0,0,0,0,0,0,0,0,0,0,0,0,0,0,0,0,0,0,0,0,0,0,{"$f":"EH93*EH92*$F$94","v":0},0,0,0,0,0,0,0,0,0,0,0,0,0,0,0,0,0,0,0,0,0,0,0,0,0,0,0,0,0,0,0,0,0,0,0,0,0,0,0,0,0,0,0,0,0,0,0,0,0,0,0,0,0,0,0,0,0,0,0,0,0,0,0,{"$f":"GT93*GT92*$F$94","v":0},0,0,0,0,0,0,0,0,0,0,0,0,0,0,0,0,0,0,0,0,0,0,0,0,0,0,0,0,0,0,0,0,0,0,0,0,0,0,0,0,0,0,0,0,0,0,0,0,0,0,0,0,0,0,0,0,0,0,0,0,0,0,0,{"$f":"JF93*JF92*$F$94","v":0},0,0,0,0,0,0,0,0,0,0,0,0,0,0,0,0,0,0,0,0,0,0,0,0,0,0,0,0,0,0,0,0,0,0,0,0,0,0,0,0,0,0]
[]
[null,null,"Electricity Replacement Percent",null,"%",{"$f":"InputC!G56","v":0.72},null,null,{"$f":"$F$96","v":0.72},{"$f":"$F$96","v":0.72},0.72,0.72,0.72,0.72,0.72,0.72,0.72,0.72,0.72,0.72,0.72,0.72,0.72,0.72,0.72,0.72,0.72,0.72,0.72,0.72,0.72,0.72,0.72,0.72,0.72,0.72,0.72,0.72,0.72,0.72,0.72,0.72,0.72,0.72,0.72,0.72,0.72,0.72,0.72,0.72,0.72,0.72,0.72,0.72,0.72,0.72,0.72,0.72,0.72,0.72,0.72,0.72,0.72,0.72,0.72,0.72,0.72,0.72,0.72,0.72,0.72,0.72,0.72,{"$f":"$F$96","v":0.72},0.72,0.72,0.72,0.72,0.72,0.72,0.72,0.72,0.72,0.72,0.72,0.72,0.72,0.72,0.72,0.72,0.72,0.72,0.72,0.72,0.72,0.72,0.72,0.72,0.72,0.72,0.72,0.72,0.72,0.72,0.72,0.72,0.72,0.72,0.72,0.72,0.72,0.72,0.72,0.72,0.72,0.72,0.72,0.72,0.72,0.72,0.72,0.72,0.72,0.72,0.72,0.72,0.72,0.72,0.72,0.72,0.72,0.72,0.72,0.72,0.72,0.72,0.72,{"$f":"$F$96","v":0.72},0.72,0.72,0.72,0.72,0.72,0.72,0.72,0.72,0.72,0.72,0.72,0.72,0.72,0.72,0.72,0.72,0.72,0.72,0.72,0.72,0.72,0.72,0.72,0.72,0.72,0.72,0.72,0.72,0.72,0.72,0.72,0.72,0.72,0.72,0.72,0.72,0.72,0.72,0.72,0.72,0.72,0.72,0.72,0.72,0.72,0.72,0.72,0.72,0.72,0.72,0.72,0.72,0.72,0.72,0.72,0.72,0.72,0.72,0.72,0.72,0.72,0.72,0.72,{"$f":"$F$96","v":0.72},0.72,0.72,0.72,0.72,0.72,0.72,0.72,0.72,0.72,0.72,0.72,0.72,0.72,0.72,0.72,0.72,0.72,0.72,0.72,0.72,0.72,0.72,0.72,0.72,0.72,0.72,0.72,0.72,0.72,0.72,0.72,0.72,0.72,0.72,0.72,0.72,0.72,0.72,0.72,0.72,0.72,0.72,0.72,0.72,0.72,0.72,0.72,0.72,0.72,0.72,0.72,0.72,0.72,0.72,0.72,0.72,0.72,0.72,0.72,0.72,0.72,0.72,0.72,{"$f":"$F$96","v":0.72},0.72,0.72,0.72,0.72,0.72,0.72,0.72,0.72,0.72,0.72,0.72,0.72,0.72,0.72,0.72,0.72,0.72,0.72,0.72,0.72,0.72,0.72,0.72,0.72,0.72,0.72,0.72,0.72,0.72,0.72,0.72,0.72,0.72,0.72,0.72,0.72,0.72,0.72,0.72,0.72,0.72,0.72]
[null,null,"Electricity Capital Expenditures",null,"USD",{"$f":"F75","v":19935000000},null,{"$f":"SUM(I97:XFD97)","v":28706400000},{"$f":"$F$97*I96*I92","v":0},{"$f":"$F$97*J96*J92","v":0},0,0,0,0,0,0,0,0,0,0,0,0,0,0,0,0,0,0,0,0,0,0,0,0,0,0,0,0,0,14353200000,0,0,0,0,0,0,0,0,0,0,0,0,0,0,0,0,0,0,0,0,0,0,0,14353200000,0,0,0,0,0,0,0,0,0,{"$f":"$F$97*BV96*BV92","v":0},0,0,0,0,0,0,0,0,0,0,0,0,0,0,0,0,0,0,0,0,0,0,0,0,0,0,0,0,0,0,0,0,0,0,0,0,0,0,0,0,0,0,0,0,0,0,0,0,0,0,0,0,0,0,0,0,0,0,0,0,0,0,0,{"$f":"$F$97*EH96*EH92","v":0},0,0,0,0,0,0,0,0,0,0,0,0,0,0,0,0,0,0,0,0,0,0,0,0,0,0,0,0,0,0,0,0,0,0,0,0,0,0,0,0,0,0,0,0,0,0,0,0,0,0,0,0,0,0,0,0,0,0,0,0,0,0,0,{"$f":"$F$97*GT96*GT92","v":0},0,0,0,0,0,0,0,0,0,0,0,0,0,0,0,0,0,0,0,0,0,0,0,0,0,0,0,0,0,0,0,0,0,0,0,0,0,0,0,0,0,0,0,0,0,0,0,0,0,0,0,0,0,0,0,0,0,0,0,0,0,0,0,{"$f":"$F$97*JF96*JF92","v":0},0,0,0,0,0,0,0,0,0,0,0,0,0,0,0,0,0,0,0,0,0,0,0,0,0,0,0,0,0,0,0,0,0,0,0,0,0,0,0,0,0,0]
[]
[null,null,"Total Capital Expenditure Including Replacement",null,"USD",null,null,{"$f":"SUM(I99:XFD99)","v":211445768918.58017},{"$f":"I94+I87+I97","v":9468750000},{"$f":"J94+J87+J97","v":9468750000},9468750000,9468750000,9468750000,9468750000,9468750000,9468750000,0,0,0,0,0,0,0,0,0,0,0,0,0,0,0,0,0,0,0,0,0,0,0,68385505903.025208,0,0,0,0,0,0,0,0,0,0,0,0,0,0,0,0,0,0,0,0,0,0,0,67310263015.55497,0,0,0,0,0,0,0,0,0,{"$f":"BV94+BV87+BV97","v":0},0,0,0,0,0,0,0,0,0,0,0,0,0,0,0,0,0,0,0,0,0,0,0,0,0,0,0,0,0,0,0,0,0,0,0,0,0,0,0,0,0,0,0,0,0,0,0,0,0,0,0,0,0,0,0,0,0,0,0,0,0,0,0,{"$f":"EH94+EH87+EH97","v":0},0,0,0,0,0,0,0,0,0,0,0,0,0,0,0,0,0,0,0,0,0,0,0,0,0,0,0,0,0,0,0,0,0,0,0,0,0,0,0,0,0,0,0,0,0,0,0,0,0,0,0,0,0,0,0,0,0,0,0,0,0,0,0,{"$f":"GT94+GT87+GT97","v":0},0,0,0,0,0,0,0,0,0,0,0,0,0,0,0,0,0,0,0,0,0,0,0,0,0,0,0,0,0,0,0,0,0,0,0,0,0,0,0,0,0,0,0,0,0,0,0,0,0,0,0,0,0,0,0,0,0,0,0,0,0,0,0,{"$f":"JF94+JF87+JF97","v":0},0,0,0,0,0,0,0,0,0,0,0,0,0,0,0,0,0,0,0,0,0,0,0,0,0,0,0,0,0,0,0,0,0,0,0,0,0,0,0,0,0,0]
[]
[null,"Operating Cost"]
[]
[null,null,"Fixed Cost",null,"USD/kW",{"$f":"InputC!G63/12","v":10.166666666666666},null,null,{"$f":"$F$103*I9","v":0},0,0,0,0,0,0,0,10.166666666666666,10.166666666666666,10.166666666666666,10.166666666666666,10.166666666666666,10.166666666666666,10.166666666666666,10.166666666666666,10.166666666666666,10.166666666666666,10.166666666666666,10.166666666666666,10.166666666666666,10.166666666666666,10.166666666666666,10.166666666666666,10.166666666666666,10.166666666666666,10.166666666666666,10.166666666666666,10.166666666666666,10.166666666666666,10.166666666666666,10.166666666666666,10.166666666666666,10.166666666666666,10.166666666666666,10.166666666666666,10.166666666666666,10.166666666666666,10.166666666666666,10.166666666666666,10.166666666666666,10.166666666666666,10.166666666666666,10.166666666666666,10.166666666666666,10.166666666666666,10.166666666666666,10.166666666666666,10.166666666666666,10.166666666666666,10.166666666666666,10.166666666666666,10.166666666666666,10.166666666666666,10.166666666666666,10.166666666666666,10.166666666666666,10.166666666666666,10.166666666666666,10.166666666666666,10.166666666666666,10.166666666666666,10.166666666666666,10.166666666666666,{"$f":"$F$103*BU9","v":10.166666666666666},10.166666666666666,10.166666666666666,10.166666666666666,10.166666666666666,10.166666666666666,10.166666666666666,10.166666666666666,10.166666666666666,10.166666666666666,10.166666666666666,10.166666666666666,10.166666666666666,10.166666666666666,10.166666666666666,10.166666666666666,0,0,0,0,0,0,0,0,0,0,0,0,0,0,0,0,0,0,0,0,0,0,0,0,0,0,0,0,0,0,0,0,0,0,0,0,0,0,0,0,0,0,0,0,0,0,0,0,{"$f":"$F$103*EG9","v":0},0,0,0,0,0,0,0,0,0,0,0,0,0,0,0,0,0,0,0,0,0,0,0,0,0,0,0,0,0,0,0,0,0,0,0,0,0,0,0,0,0,0,0,0,0,0,0,0,0,0,0,0,0,0,0,0,0,0,0,0,0,0,0,{"$f":"$F$103*GS9","v":0},0,0,0,0,0,0,0,0,0,0,0,0,0,0,0,0,0,0,0,0,0,0,0,0,0,0,0,0,0,0,0,0,0,0,0,0,0,0,0,0,0,0,0,0,0,0,0,0,0,0,0,0,0,0,0,0,0,0,0,0,0,0,0,{"$f":"$F$103*JE9","v":0},0,0,0,0,0,0,0,0,0,0,0,0,0,0,0,0,0,0,0,0,0,0,0,0,0,0,0,0,0,0,0,0,0,0,0,0,0,0,0,0,0,0,0]
[null,null,"Total Fixed Cost",null,"USD",null,null,{"$f":"SUM(I104:XFD104)","v":109800000},{"$f":"I103*I14*1000","v":0},0,0,0,0,0,0,0,1525000,1525000,1525000,1525000,1525000,1525000,1525000,1525000,1525000,1525000,1525000,1525000,1525000,1525000,1525000,1525000,1525000,1525000,1525000,1525000,1525000,1525000,1525000,1525000,1525000,1525000,1525000,1525000,1525000,1525000,1525000,1525000,1525000,1525000,1525000,1525000,1525000,1525000,1525000,1525000,1525000,1525000,1525000,1525000,1525000,1525000,1525000,1525000,1525000,1525000,1525000,1525000,1525000,1525000,1525000,1525000,{"$f":"BU103*BU14*1000","v":1525000},1525000,1525000,1525000,1525000,1525000,1525000,1525000,1525000,1525000,1525000,1525000,1525000,1525000,1525000,1525000,0,0,0,0,0,0,0,0,0,0,0,0,0,0,0,0,0,0,0,0,0,0,0,0,0,0,0,0,0,0,0,0,0,0,0,0,0,0,0,0,0,0,0,0,0,0,0,0,{"$f":"EG103*EG14*1000","v":0},0,0,0,0,0,0,0,0,0,0,0,0,0,0,0,0,0,0,0,0,0,0,0,0,0,0,0,0,0,0,0,0,0,0,0,0,0,0,0,0,0,0,0,0,0,0,0,0,0,0,0,0,0,0,0,0,0,0,0,0,0,0,0,{"$f":"GS103*GS14*1000","v":0},0,0,0,0,0,0,0,0,0,0,0,0,0,0,0,0,0,0,0,0,0,0,0,0,0,0,0,0,0,0,0,0,0,0,0,0,0,0,0,0,0,0,0,0,0,0,0,0,0,0,0,0,0,0,0,0,0,0,0,0,0,0,0,{"$f":"JE103*JE14*1000","v":0},0,0,0,0,0,0,0,0,0,0,0,0,0,0,0,0,0,0,0,0,0,0,0,0,0,0,0,0,0,0,0,0,0,0,0,0,0,0,0,0,0,0,0]
[null,null,"Total Fixed Cost Inflated",null,"USD",null,null,{"$f":"SUM(I105:XFD105)","v":118236080.19443485},{"$f":"I104*I57","v":0},0,0,0,0,0,0,0,1547818.2837698967,1550374.6315061413,1552935.2012585083,1555500.0000000005,1558069.0347151372,1560642.3123999739,1563219.8400621193,1565801.6247207564,1568387.6734066615,1570977.993162222,1573572.5910414569,1576171.4741100352,1578774.6494452953,1581382.1241362649,1583993.905283679,1586610.0000000014,1589230.4154094409,1591855.158647974,1594484.2368633621,1597117.6572151722,1599755.4268747955,1602397.5530254673,1605044.042862287,1607694.9035922366,1610350.1424342019,1613009.7666189908,1615673.7833893537,1618342.2000000023,1621015.0237176309,1623692.2618209347,1626373.9216006305,1629060.0103594768,1631750.5354122925,1634445.5040859776,1637144.9237195337,1639848.8016640826,1642557.1452828872,1645269.9619513717,1647987.2590571418,1650709.0440000033,1653435.3241919845,1656166.1070573542,1658901.4000326442,1661641.2105666674,1664385.5461205393,1667134.4141676982,1669887.8221939253,1672645.7776973648,1675408.2881885457,1678175.3611904003,1680947.0042382856,1683723.2248800045,1686504.030675825,1689289.4291985023,1692079.4280332979,1694874.0347780015,{"$f":"BU104*BU57","v":1697673.257042951},1700477.1024510532,1703285.5786378048,1706098.6932513134,1708916.4539523178,1711738.8684142092,1714565.9443230522,1717397.6893776052,1720234.1112893422,1723075.217782473,1725921.0165939648,1728771.5154735625,1731626.722183811,1734486.6445000751,1737351.2902105618,1740220.6671163405,0,0,0,0,0,0,0,0,0,0,0,0,0,0,0,0,0,0,0,0,0,0,0,0,0,0,0,0,0,0,0,0,0,0,0,0,0,0,0,0,0,0,0,0,0,0,0,0,{"$f":"EG104*EG57","v":0},0,0,0,0,0,0,0,0,0,0,0,0,0,0,0,0,0,0,0,0,0,0,0,0,0,0,0,0,0,0,0,0,0,0,0,0,0,0,0,0,0,0,0,0,0,0,0,0,0,0,0,0,0,0,0,0,0,0,0,0,0,0,0,{"$f":"GS104*GS57","v":0},0,0,0,0,0,0,0,0,0,0,0,0,0,0,0,0,0,0,0,0,0,0,0,0,0,0,0,0,0,0,0,0,0,0,0,0,0,0,0,0,0,0,0,0,0,0,0,0,0,0,0,0,0,0,0,0,0,0,0,0,0,0,0,{"$f":"JE104*JE57","v":0},0,0,0,0,0,0,0,0,0,0,0,0,0,0,0,0,0,0,0,0,0,0,0,0,0,0,0,0,0,0,0,0,0,0,0,0,0,0,0,0,0,0,0]
[]
[null,null,"Electricity Used",null,"MWH Used",null,null,null,{"$f":"I24","v":0},0,0,0,0,0,0,0,106976.51889692325,110600.80572030804,107089.55669076974,110717.61144061608,110776.0143007701,103683.80960215481,110892.82002107814,107372.15117538595,111009.62574138617,107485.18896923243,111126.4314616942,111184.83432184822,107654.74566000217,111301.64004215626,107767.78345384865,111418.4457624643,111476.84862261832,100741.51746831049,111593.65434292634,108050.37793846487,111710.46006323438,108163.41573231136,111827.26578354242,111885.66864369644,108332.97242308108,112002.47436400448,108446.01021692756,112119.2800843125,112177.68294446652,101374.52911385082,112294.48866477456,108728.60470154378,112411.2943850826,108841.64249539028,112528.10010539064,112586.50296554466,109011.19918616,112703.30868585268,109124.23698000649,112820.11440616072,112878.51726631474,102007.54075939114,112995.32298662278,109406.83146462271,113112.12870693082,109519.86925846919,113228.93442723884,113287.33728739286,109689.42594923891,113404.1430077009,109802.46374308541,113520.94872800894,113579.35158816296,106306.28641939329,113696.15730847098,110085.05822770162,{"$f":"BU24","v":113812.96302877902},110198.0960215481,113929.76874908706,113988.17160924108,110367.65271231784,114104.97732954912,110480.69050616432,114221.78304985714,114280.18591001116,103273.56405047177,114396.9916303192,110763.28499078054,114513.79735062724,110876.32278462702,114630.60307093528,114689.0059310893,0,0,0,0,0,0,0,0,0,0,0,0,0,0,0,0,0,0,0,0,0,0,0,0,0,0,0,0,0,0,0,0,0,0,0,0,0,0,0,0,0,0,0,0,0,0,0,0,{"$f":"EG24","v":0},0,0,0,0,0,0,0,0,0,0,0,0,0,0,0,0,0,0,0,0,0,0,0,0,0,0,0,0,0,0,0,0,0,0,0,0,0,0,0,0,0,0,0,0,0,0,0,0,0,0,0,0,0,0,0,0,0,0,0,0,0,0,0,{"$f":"GS24","v":0},0,0,0,0,0,0,0,0,0,0,0,0,0,0,0,0,0,0,0,0,0,0,0,0,0,0,0,0,0,0,0,0,0,0,0,0,0,0,0,0,0,0,0,0,0,0,0,0,0,0,0,0,0,0,0,0,0,0,0,0,0,0,0,{"$f":"JE24","v":0},0,0,0,0,0,0,0,0,0,0,0,0,0,0,0,0,0,0,0,0,0,0,0,0,0,0,0,0,0,0,0,0,0,0,0,0,0,0,0,0,0,0,0]
[null,null,"Electricity Price",null,"USD/MWH",{"$f":"InputC!G61","v":180},null,null,{"$f":"_xlfn.XLOOKUP(I10,InputS!6:6,InputS!24:24,0)","v":180},{"$f":"_xlfn.XLOOKUP(J10,InputS!6:6,InputS!24:24,0)","v":180},{"$f":"_xlfn.XLOOKUP(K10,InputS!6:6,InputS!24:24,0)","v":180},{"$f":"_xlfn.XLOOKUP(L10,InputS!6:6,InputS!24:24,0)","v":180},{"$f":"_xlfn.XLOOKUP(M10,InputS!6:6,InputS!24:24,0)","v":180},{"$f":"_xlfn.XLOOKUP(N10,InputS!6:6,InputS!24:24,0)","v":180},{"$f":"_xlfn.XLOOKUP(O10,InputS!6:6,InputS!24:24,0)","v":180},{"$f":"_xlfn.XLOOKUP(P10,InputS!6:6,InputS!24:24,0)","v":180},{"$f":"_xlfn.XLOOKUP(Q10,InputS!6:6,InputS!24:24,0)","v":180},{"$f":"_xlfn.XLOOKUP(R10,InputS!6:6,InputS!24:24,0)","v":180},{"$f":"_xlfn.XLOOKUP(S10,InputS!6:6,InputS!24:24,0)","v":180},{"$f":"_xlfn.XLOOKUP(T10,InputS!6:6,InputS!24:24,0)","v":180},{"$f":"_xlfn.XLOOKUP(U10,InputS!6:6,InputS!24:24,0)","v":180},{"$f":"_xlfn.XLOOKUP(V10,InputS!6:6,InputS!24:24,0)","v":180},{"$f":"_xlfn.XLOOKUP(W10,InputS!6:6,InputS!24:24,0)","v":180},{"$f":"_xlfn.XLOOKUP(X10,InputS!6:6,InputS!24:24,0)","v":180},{"$f":"_xlfn.XLOOKUP(Y10,InputS!6:6,InputS!24:24,0)","v":180},{"$f":"_xlfn.XLOOKUP(Z10,InputS!6:6,InputS!24:24,0)","v":180},{"$f":"_xlfn.XLOOKUP(AA10,InputS!6:6,InputS!24:24,0)","v":180},{"$f":"_xlfn.XLOOKUP(AB10,InputS!6:6,InputS!24:24,0)","v":180},{"$f":"_xlfn.XLOOKUP(AC10,InputS!6:6,InputS!24:24,0)","v":180},{"$f":"_xlfn.XLOOKUP(AD10,InputS!6:6,InputS!24:24,0)","v":180},{"$f":"_xlfn.XLOOKUP(AE10,InputS!6:6,InputS!24:24,0)","v":180},{"$f":"_xlfn.XLOOKUP(AF10,InputS!6:6,InputS!24:24,0)","v":180},{"$f":"_xlfn.XLOOKUP(AG10,InputS!6:6,InputS!24:24,0)","v":180},{"$f":"_xlfn.XLOOKUP(AH10,InputS!6:6,InputS!24:24,0)","v":180},{"$f":"_xlfn.XLOOKUP(AI10,InputS!6:6,InputS!24:24,0)","v":180},{"$f":"_xlfn.XLOOKUP(AJ10,InputS!6:6,InputS!24:24,0)","v":180},{"$f":"_xlfn.XLOOKUP(AK10,InputS!6:6,InputS!24:24,0)","v":180},{"$f":"_xlfn.XLOOKUP(AL10,InputS!6:6,InputS!24:24,0)","v":180},{"$f":"_xlfn.XLOOKUP(AM10,InputS!6:6,InputS!24:24,0)","v":180},{"$f":"_xlfn.XLOOKUP(AN10,InputS!6:6,InputS!24:24,0)","v":180},{"$f":"_xlfn.XLOOKUP(AO10,InputS!6:6,InputS!24:24,0)","v":180},{"$f":"_xlfn.XLOOKUP(AP10,InputS!6:6,InputS!24:24,0)","v":180},{"$f":"_xlfn.XLOOKUP(AQ10,InputS!6:6,InputS!24:24,0)","v":180},{"$f":"_xlfn.XLOOKUP(AR10,InputS!6:6,InputS!24:24,0)","v":180},{"$f":"_xlfn.XLOOKUP(AS10,InputS!6:6,InputS!24:24,0)","v":180},{"$f":"_xlfn.XLOOKUP(AT10,InputS!6:6,InputS!24:24,0)","v":180},{"$f":"_xlfn.XLOOKUP(AU10,InputS!6:6,InputS!24:24,0)","v":180},{"$f":"_xlfn.XLOOKUP(AV10,InputS!6:6,InputS!24:24,0)","v":180},{"$f":"_xlfn.XLOOKUP(AW10,InputS!6:6,InputS!24:24,0)","v":180},{"$f":"_xlfn.XLOOKUP(AX10,InputS!6:6,InputS!24:24,0)","v":180},{"$f":"_xlfn.XLOOKUP(AY10,InputS!6:6,InputS!24:24,0)","v":180},{"$f":"_xlfn.XLOOKUP(AZ10,InputS!6:6,InputS!24:24,0)","v":180},{"$f":"_xlfn.XLOOKUP(BA10,InputS!6:6,InputS!24:24,0)","v":180},{"$f":"_xlfn.XLOOKUP(BB10,InputS!6:6,InputS!24:24,0)","v":180},{"$f":"_xlfn.XLOOKUP(BC10,InputS!6:6,InputS!24:24,0)","v":180},{"$f":"_xlfn.XLOOKUP(BD10,InputS!6:6,InputS!24:24,0)","v":180},{"$f":"_xlfn.XLOOKUP(BE10,InputS!6:6,InputS!24:24,0)","v":180},{"$f":"_xlfn.XLOOKUP(BF10,InputS!6:6,InputS!24:24,0)","v":180},{"$f":"_xlfn.XLOOKUP(BG10,InputS!6:6,InputS!24:24,0)","v":180},{"$f":"_xlfn.XLOOKUP(BH10,InputS!6:6,InputS!24:24,0)","v":180},{"$f":"_xlfn.XLOOKUP(BI10,InputS!6:6,InputS!24:24,0)","v":180},{"$f":"_xlfn.XLOOKUP(BJ10,InputS!6:6,InputS!24:24,0)","v":180},{"$f":"_xlfn.XLOOKUP(BK10,InputS!6:6,InputS!24:24,0)","v":180},{"$f":"_xlfn.XLOOKUP(BL10,InputS!6:6,InputS!24:24,0)","v":180},{"$f":"_xlfn.XLOOKUP(BM10,InputS!6:6,InputS!24:24,0)","v":180},{"$f":"_xlfn.XLOOKUP(BN10,InputS!6:6,InputS!24:24,0)","v":180},{"$f":"_xlfn.XLOOKUP(BO10,InputS!6:6,InputS!24:24,0)","v":180},{"$f":"_xlfn.XLOOKUP(BP10,InputS!6:6,InputS!24:24,0)","v":180},{"$f":"_xlfn.XLOOKUP(BQ10,InputS!6:6,InputS!24:24,0)","v":180},{"$f":"_xlfn.XLOOKUP(BR10,InputS!6:6,InputS!24:24,0)","v":180},{"$f":"_xlfn.XLOOKUP(BS10,InputS!6:6,InputS!24:24,0)","v":180},{"$f":"_xlfn.XLOOKUP(BT10,InputS!6:6,InputS!24:24,0)","v":180},{"$f":"_xlfn.XLOOKUP(BU10,InputS!6:6,InputS!24:24,0)","v":180},{"$f":"_xlfn.XLOOKUP(BV10,InputS!6:6,InputS!24:24,0)","v":180},{"$f":"_xlfn.XLOOKUP(BW10,InputS!6:6,InputS!24:24,0)","v":180},{"$f":"_xlfn.XLOOKUP(BX10,InputS!6:6,InputS!24:24,0)","v":180},{"$f":"_xlfn.XLOOKUP(BY10,InputS!6:6,InputS!24:24,0)","v":180},{"$f":"_xlfn.XLOOKUP(BZ10,InputS!6:6,InputS!24:24,0)","v":180},{"$f":"_xlfn.XLOOKUP(CA10,InputS!6:6,InputS!24:24,0)","v":180},{"$f":"_xlfn.XLOOKUP(CB10,InputS!6:6,InputS!24:24,0)","v":180},{"$f":"_xlfn.XLOOKUP(CC10,InputS!6:6,InputS!24:24,0)","v":180},{"$f":"_xlfn.XLOOKUP(CD10,InputS!6:6,InputS!24:24,0)","v":180},{"$f":"_xlfn.XLOOKUP(CE10,InputS!6:6,InputS!24:24,0)","v":180},{"$f":"_xlfn.XLOOKUP(CF10,InputS!6:6,InputS!24:24,0)","v":180},{"$f":"_xlfn.XLOOKUP(CG10,InputS!6:6,InputS!24:24,0)","v":180},{"$f":"_xlfn.XLOOKUP(CH10,InputS!6:6,InputS!24:24,0)","v":180},{"$f":"_xlfn.XLOOKUP(CI10,InputS!6:6,InputS!24:24,0)","v":180},{"$f":"_xlfn.XLOOKUP(CJ10,InputS!6:6,InputS!24:24,0)","v":180},{"$f":"_xlfn.XLOOKUP(CK10,InputS!6:6,InputS!24:24,0)","v":180},{"$f":"_xlfn.XLOOKUP(CL10,InputS!6:6,InputS!24:24,0)","v":180},{"$f":"_xlfn.XLOOKUP(CM10,InputS!6:6,InputS!24:24,0)","v":180},{"$f":"_xlfn.XLOOKUP(CN10,InputS!6:6,InputS!24:24,0)","v":180},{"$f":"_xlfn.XLOOKUP(CO10,InputS!6:6,InputS!24:24,0)","v":180},{"$f":"_xlfn.XLOOKUP(CP10,InputS!6:6,InputS!24:24,0)","v":180},{"$f":"_xlfn.XLOOKUP(CQ10,InputS!6:6,InputS!24:24,0)","v":180},{"$f":"_xlfn.XLOOKUP(CR10,InputS!6:6,InputS!24:24,0)","v":180},{"$f":"_xlfn.XLOOKUP(CS10,InputS!6:6,InputS!24:24,0)","v":180},{"$f":"_xlfn.XLOOKUP(CT10,InputS!6:6,InputS!24:24,0)","v":180},{"$f":"_xlfn.XLOOKUP(CU10,InputS!6:6,InputS!24:24,0)","v":180},{"$f":"_xlfn.XLOOKUP(CV10,InputS!6:6,InputS!24:24,0)","v":180},{"$f":"_xlfn.XLOOKUP(CW10,InputS!6:6,InputS!24:24,0)","v":180},{"$f":"_xlfn.XLOOKUP(CX10,InputS!6:6,InputS!24:24,0)","v":180},{"$f":"_xlfn.XLOOKUP(CY10,InputS!6:6,InputS!24:24,0)","v":180},{"$f":"_xlfn.XLOOKUP(CZ10,InputS!6:6,InputS!24:24,0)","v":180},{"$f":"_xlfn.XLOOKUP(DA10,InputS!6:6,InputS!24:24,0)","v":180},{"$f":"_xlfn.XLOOKUP(DB10,InputS!6:6,InputS!24:24,0)","v":180},{"$f":"_xlfn.XLOOKUP(DC10,InputS!6:6,InputS!24:24,0)","v":180},{"$f":"_xlfn.XLOOKUP(DD10,InputS!6:6,InputS!24:24,0)","v":180},{"$f":"_xlfn.XLOOKUP(DE10,InputS!6:6,InputS!24:24,0)","v":180},{"$f":"_xlfn.XLOOKUP(DF10,InputS!6:6,InputS!24:24,0)","v":180},{"$f":"_xlfn.XLOOKUP(DG10,InputS!6:6,InputS!24:24,0)","v":180},{"$f":"_xlfn.XLOOKUP(DH10,InputS!6:6,InputS!24:24,0)","v":180},{"$f":"_xlfn.XLOOKUP(DI10,InputS!6:6,InputS!24:24,0)","v":180},{"$f":"_xlfn.XLOOKUP(DJ10,InputS!6:6,InputS!24:24,0)","v":180},{"$f":"_xlfn.XLOOKUP(DK10,InputS!6:6,InputS!24:24,0)","v":180},{"$f":"_xlfn.XLOOKUP(DL10,InputS!6:6,InputS!24:24,0)","v":180},{"$f":"_xlfn.XLOOKUP(DM10,InputS!6:6,InputS!24:24,0)","v":180},{"$f":"_xlfn.XLOOKUP(DN10,InputS!6:6,InputS!24:24,0)","v":180},{"$f":"_xlfn.XLOOKUP(DO10,InputS!6:6,InputS!24:24,0)","v":180},{"$f":"_xlfn.XLOOKUP(DP10,InputS!6:6,InputS!24:24,0)","v":180},{"$f":"_xlfn.XLOOKUP(DQ10,InputS!6:6,InputS!24:24,0)","v":180},{"$f":"_xlfn.XLOOKUP(DR10,InputS!6:6,InputS!24:24,0)","v":180},{"$f":"_xlfn.XLOOKUP(DS10,InputS!6:6,InputS!24:24,0)","v":180},{"$f":"_xlfn.XLOOKUP(DT10,InputS!6:6,InputS!24:24,0)","v":180},{"$f":"_xlfn.XLOOKUP(DU10,InputS!6:6,InputS!24:24,0)","v":180},{"$f":"_xlfn.XLOOKUP(DV10,InputS!6:6,InputS!24:24,0)","v":180},{"$f":"_xlfn.XLOOKUP(DW10,InputS!6:6,InputS!24:24,0)","v":180},{"$f":"_xlfn.XLOOKUP(DX10,InputS!6:6,InputS!24:24,0)","v":180},{"$f":"_xlfn.XLOOKUP(DY10,InputS!6:6,InputS!24:24,0)","v":180},{"$f":"_xlfn.XLOOKUP(DZ10,InputS!6:6,InputS!24:24,0)","v":180},{"$f":"_xlfn.XLOOKUP(EA10,InputS!6:6,InputS!24:24,0)","v":180},{"$f":"_xlfn.XLOOKUP(EB10,InputS!6:6,InputS!24:24,0)","v":180},{"$f":"_xlfn.XLOOKUP(EC10,InputS!6:6,InputS!24:24,0)","v":180},{"$f":"_xlfn.XLOOKUP(ED10,InputS!6:6,InputS!24:24,0)","v":180},{"$f":"_xlfn.XLOOKUP(EE10,InputS!6:6,InputS!24:24,0)","v":180},{"$f":"_xlfn.XLOOKUP(EF10,InputS!6:6,InputS!24:24,0)","v":180},{"$f":"_xlfn.XLOOKUP(EG10,InputS!6:6,InputS!24:24,0)","v":180},{"$f":"_xlfn.XLOOKUP(EH10,InputS!6:6,InputS!24:24,0)","v":180},{"$f":"_xlfn.XLOOKUP(EI10,InputS!6:6,InputS!24:24,0)","v":180},{"$f":"_xlfn.XLOOKUP(EJ10,InputS!6:6,InputS!24:24,0)","v":180},{"$f":"_xlfn.XLOOKUP(EK10,InputS!6:6,InputS!24:24,0)","v":180},{"$f":"_xlfn.XLOOKUP(EL10,InputS!6:6,InputS!24:24,0)","v":180},{"$f":"_xlfn.XLOOKUP(EM10,InputS!6:6,InputS!24:24,0)","v":180},{"$f":"_xlfn.XLOOKUP(EN10,InputS!6:6,InputS!24:24,0)","v":180},{"$f":"_xlfn.XLOOKUP(EO10,InputS!6:6,InputS!24:24,0)","v":180},{"$f":"_xlfn.XLOOKUP(EP10,InputS!6:6,InputS!24:24,0)","v":180},{"$f":"_xlfn.XLOOKUP(EQ10,InputS!6:6,InputS!24:24,0)","v":180},{"$f":"_xlfn.XLOOKUP(ER10,InputS!6:6,InputS!24:24,0)","v":180},{"$f":"_xlfn.XLOOKUP(ES10,InputS!6:6,InputS!24:24,0)","v":180},{"$f":"_xlfn.XLOOKUP(ET10,InputS!6:6,InputS!24:24,0)","v":180},{"$f":"_xlfn.XLOOKUP(EU10,InputS!6:6,InputS!24:24,0)","v":180},{"$f":"_xlfn.XLOOKUP(EV10,InputS!6:6,InputS!24:24,0)","v":180},{"$f":"_xlfn.XLOOKUP(EW10,InputS!6:6,InputS!24:24,0)","v":180},{"$f":"_xlfn.XLOOKUP(EX10,InputS!6:6,InputS!24:24,0)","v":180},{"$f":"_xlfn.XLOOKUP(EY10,InputS!6:6,InputS!24:24,0)","v":180},{"$f":"_xlfn.XLOOKUP(EZ10,InputS!6:6,InputS!24:24,0)","v":180},{"$f":"_xlfn.XLOOKUP(FA10,InputS!6:6,InputS!24:24,0)","v":180},{"$f":"_xlfn.XLOOKUP(FB10,InputS!6:6,InputS!24:24,0)","v":180},{"$f":"_xlfn.XLOOKUP(FC10,InputS!6:6,InputS!24:24,0)","v":180},{"$f":"_xlfn.XLOOKUP(FD10,InputS!6:6,InputS!24:24,0)","v":180},{"$f":"_xlfn.XLOOKUP(FE10,InputS!6:6,InputS!24:24,0)","v":180},{"$f":"_xlfn.XLOOKUP(FF10,InputS!6:6,InputS!24:24,0)","v":180},{"$f":"_xlfn.XLOOKUP(FG10,InputS!6:6,InputS!24:24,0)","v":180},{"$f":"_xlfn.XLOOKUP(FH10,InputS!6:6,InputS!24:24,0)","v":180},{"$f":"_xlfn.XLOOKUP(FI10,InputS!6:6,InputS!24:24,0)","v":180},{"$f":"_xlfn.XLOOKUP(FJ10,InputS!6:6,InputS!24:24,0)","v":180},{"$f":"_xlfn.XLOOKUP(FK10,InputS!6:6,InputS!24:24,0)","v":180},{"$f":"_xlfn.XLOOKUP(FL10,InputS!6:6,InputS!24:24,0)","v":180},{"$f":"_xlfn.XLOOKUP(FM10,InputS!6:6,InputS!24:24,0)","v":180},{"$f":"_xlfn.XLOOKUP(FN10,InputS!6:6,InputS!24:24,0)","v":180},{"$f":"_xlfn.XLOOKUP(FO10,InputS!6:6,InputS!24:24,0)","v":180},{"$f":"_xlfn.XLOOKUP(FP10,InputS!6:6,InputS!24:24,0)","v":180},{"$f":"_xlfn.XLOOKUP(FQ10,InputS!6:6,InputS!24:24,0)","v":180},{"$f":"_xlfn.XLOOKUP(FR10,InputS!6:6,InputS!24:24,0)","v":180},{"$f":"_xlfn.XLOOKUP(FS10,InputS!6:6,InputS!24:24,0)","v":180},{"$f":"_xlfn.XLOOKUP(FT10,InputS!6:6,InputS!24:24,0)","v":180},{"$f":"_xlfn.XLOOKUP(FU10,InputS!6:6,InputS!24:24,0)","v":180},{"$f":"_xlfn.XLOOKUP(FV10,InputS!6:6,InputS!24:24,0)","v":180},{"$f":"_xlfn.XLOOKUP(FW10,InputS!6:6,InputS!24:24,0)","v":180},{"$f":"_xlfn.XLOOKUP(FX10,InputS!6:6,InputS!24:24,0)","v":180},{"$f":"_xlfn.XLOOKUP(FY10,InputS!6:6,InputS!24:24,0)","v":180},{"$f":"_xlfn.XLOOKUP(FZ10,InputS!6:6,InputS!24:24,0)","v":180},{"$f":"_xlfn.XLOOKUP(GA10,InputS!6:6,InputS!24:24,0)","v":180},{"$f":"_xlfn.XLOOKUP(GB10,InputS!6:6,InputS!24:24,0)","v":180},{"$f":"_xlfn.XLOOKUP(GC10,InputS!6:6,InputS!24:24,0)","v":180},{"$f":"_xlfn.XLOOKUP(GD10,InputS!6:6,InputS!24:24,0)","v":180},{"$f":"_xlfn.XLOOKUP(GE10,InputS!6:6,InputS!24:24,0)","v":180},{"$f":"_xlfn.XLOOKUP(GF10,InputS!6:6,InputS!24:24,0)","v":180},{"$f":"_xlfn.XLOOKUP(GG10,InputS!6:6,InputS!24:24,0)","v":180},{"$f":"_xlfn.XLOOKUP(GH10,InputS!6:6,InputS!24:24,0)","v":180},{"$f":"_xlfn.XLOOKUP(GI10,InputS!6:6,InputS!24:24,0)","v":180},{"$f":"_xlfn.XLOOKUP(GJ10,InputS!6:6,InputS!24:24,0)","v":180},{"$f":"_xlfn.XLOOKUP(GK10,InputS!6:6,InputS!24:24,0)","v":180},{"$f":"_xlfn.XLOOKUP(GL10,InputS!6:6,InputS!24:24,0)","v":180},{"$f":"_xlfn.XLOOKUP(GM10,InputS!6:6,InputS!24:24,0)","v":180},{"$f":"_xlfn.XLOOKUP(GN10,InputS!6:6,InputS!24:24,0)","v":180},{"$f":"_xlfn.XLOOKUP(GO10,InputS!6:6,InputS!24:24,0)","v":180},{"$f":"_xlfn.XLOOKUP(GP10,InputS!6:6,InputS!24:24,0)","v":180},{"$f":"_xlfn.XLOOKUP(GQ10,InputS!6:6,InputS!24:24,0)","v":180},{"$f":"_xlfn.XLOOKUP(GR10,InputS!6:6,InputS!24:24,0)","v":180},{"$f":"_xlfn.XLOOKUP(GS10,InputS!6:6,InputS!24:24,0)","v":180},{"$f":"_xlfn.XLOOKUP(GT10,InputS!6:6,InputS!24:24,0)","v":180},{"$f":"_xlfn.XLOOKUP(GU10,InputS!6:6,InputS!24:24,0)","v":180},{"$f":"_xlfn.XLOOKUP(GV10,InputS!6:6,InputS!24:24,0)","v":180},{"$f":"_xlfn.XLOOKUP(GW10,InputS!6:6,InputS!24:24,0)","v":180},{"$f":"_xlfn.XLOOKUP(GX10,InputS!6:6,InputS!24:24,0)","v":180},{"$f":"_xlfn.XLOOKUP(GY10,InputS!6:6,InputS!24:24,0)","v":180},{"$f":"_xlfn.XLOOKUP(GZ10,InputS!6:6,InputS!24:24,0)","v":180},{"$f":"_xlfn.XLOOKUP(HA10,InputS!6:6,InputS!24:24,0)","v":180},{"$f":"_xlfn.XLOOKUP(HB10,InputS!6:6,InputS!24:24,0)","v":180},{"$f":"_xlfn.XLOOKUP(HC10,InputS!6:6,InputS!24:24,0)","v":180},{"$f":"_xlfn.XLOOKUP(HD10,InputS!6:6,InputS!24:24,0)","v":180},{"$f":"_xlfn.XLOOKUP(HE10,InputS!6:6,InputS!24:24,0)","v":180},{"$f":"_xlfn.XLOOKUP(HF10,InputS!6:6,InputS!24:24,0)","v":180},{"$f":"_xlfn.XLOOKUP(HG10,InputS!6:6,InputS!24:24,0)","v":180},{"$f":"_xlfn.XLOOKUP(HH10,InputS!6:6,InputS!24:24,0)","v":180},{"$f":"_xlfn.XLOOKUP(HI10,InputS!6:6,InputS!24:24,0)","v":180},{"$f":"_xlfn.XLOOKUP(HJ10,InputS!6:6,InputS!24:24,0)","v":180},{"$f":"_xlfn.XLOOKUP(HK10,InputS!6:6,InputS!24:24,0)","v":180},{"$f":"_xlfn.XLOOKUP(HL10,InputS!6:6,InputS!24:24,0)","v":180},{"$f":"_xlfn.XLOOKUP(HM10,InputS!6:6,InputS!24:24,0)","v":180},{"$f":"_xlfn.XLOOKUP(HN10,InputS!6:6,InputS!24:24,0)","v":180},{"$f":"_xlfn.XLOOKUP(HO10,InputS!6:6,InputS!24:24,0)","v":180},{"$f":"_xlfn.XLOOKUP(HP10,InputS!6:6,InputS!24:24,0)","v":180},{"$f":"_xlfn.XLOOKUP(HQ10,InputS!6:6,InputS!24:24,0)","v":180},{"$f":"_xlfn.XLOOKUP(HR10,InputS!6:6,InputS!24:24,0)","v":180},{"$f":"_xlfn.XLOOKUP(HS10,InputS!6:6,InputS!24:24,0)","v":180},{"$f":"_xlfn.XLOOKUP(HT10,InputS!6:6,InputS!24:24,0)","v":180},{"$f":"_xlfn.XLOOKUP(HU10,InputS!6:6,InputS!24:24,0)","v":180},{"$f":"_xlfn.XLOOKUP(HV10,InputS!6:6,InputS!24:24,0)","v":180},{"$f":"_xlfn.XLOOKUP(HW10,InputS!6:6,InputS!24:24,0)","v":180},{"$f":"_xlfn.XLOOKUP(HX10,InputS!6:6,InputS!24:24,0)","v":180},{"$f":"_xlfn.XLOOKUP(HY10,InputS!6:6,InputS!24:24,0)","v":180},{"$f":"_xlfn.XLOOKUP(HZ10,InputS!6:6,InputS!24:24,0)","v":180},{"$f":"_xlfn.XLOOKUP(IA10,InputS!6:6,InputS!24:24,0)","v":180},{"$f":"_xlfn.XLOOKUP(IB10,InputS!6:6,InputS!24:24,0)","v":180},{"$f":"_xlfn.XLOOKUP(IC10,InputS!6:6,InputS!24:24,0)","v":180},{"$f":"_xlfn.XLOOKUP(ID10,InputS!6:6,InputS!24:24,0)","v":180},{"$f":"_xlfn.XLOOKUP(IE10,InputS!6:6,InputS!24:24,0)","v":180},{"$f":"_xlfn.XLOOKUP(IF10,InputS!6:6,InputS!24:24,0)","v":180},{"$f":"_xlfn.XLOOKUP(IG10,InputS!6:6,InputS!24:24,0)","v":180},{"$f":"_xlfn.XLOOKUP(IH10,InputS!6:6,InputS!24:24,0)","v":180},{"$f":"_xlfn.XLOOKUP(II10,InputS!6:6,InputS!24:24,0)","v":180},{"$f":"_xlfn.XLOOKUP(IJ10,InputS!6:6,InputS!24:24,0)","v":180},{"$f":"_xlfn.XLOOKUP(IK10,InputS!6:6,InputS!24:24,0)","v":180},{"$f":"_xlfn.XLOOKUP(IL10,InputS!6:6,InputS!24:24,0)","v":180},{"$f":"_xlfn.XLOOKUP(IM10,InputS!6:6,InputS!24:24,0)","v":180},{"$f":"_xlfn.XLOOKUP(IN10,InputS!6:6,InputS!24:24,0)","v":180},{"$f":"_xlfn.XLOOKUP(IO10,InputS!6:6,InputS!24:24,0)","v":0},{"$f":"_xlfn.XLOOKUP(IP10,InputS!6:6,InputS!24:24,0)","v":0},{"$f":"_xlfn.XLOOKUP(IQ10,InputS!6:6,InputS!24:24,0)","v":0},{"$f":"_xlfn.XLOOKUP(IR10,InputS!6:6,InputS!24:24,0)","v":0},{"$f":"_xlfn.XLOOKUP(IS10,InputS!6:6,InputS!24:24,0)","v":0},{"$f":"_xlfn.XLOOKUP(IT10,InputS!6:6,InputS!24:24,0)","v":0},{"$f":"_xlfn.XLOOKUP(IU10,InputS!6:6,InputS!24:24,0)","v":0},{"$f":"_xlfn.XLOOKUP(IV10,InputS!6:6,InputS!24:24,0)","v":0},{"$f":"_xlfn.XLOOKUP(IW10,InputS!6:6,InputS!24:24,0)","v":0},{"$f":"_xlfn.XLOOKUP(IX10,InputS!6:6,InputS!24:24,0)","v":0},{"$f":"_xlfn.XLOOKUP(IY10,InputS!6:6,InputS!24:24,0)","v":0},{"$f":"_xlfn.XLOOKUP(IZ10,InputS!6:6,InputS!24:24,0)","v":0},{"$f":"_xlfn.XLOOKUP(JA10,InputS!6:6,InputS!24:24,0)","v":0},{"$f":"_xlfn.XLOOKUP(JB10,InputS!6:6,InputS!24:24,0)","v":0},{"$f":"_xlfn.XLOOKUP(JC10,InputS!6:6,InputS!24:24,0)","v":0},{"$f":"_xlfn.XLOOKUP(JD10,InputS!6:6,InputS!24:24,0)","v":0},{"$f":"_xlfn.XLOOKUP(JE10,InputS!6:6,InputS!24:24,0)","v":0},{"$f":"_xlfn.XLOOKUP(JF10,InputS!6:6,InputS!24:24,0)","v":0},{"$f":"_xlfn.XLOOKUP(JG10,InputS!6:6,InputS!24:24,0)","v":0},{"$f":"_xlfn.XLOOKUP(JH10,InputS!6:6,InputS!24:24,0)","v":0},{"$f":"_xlfn.XLOOKUP(JI10,InputS!6:6,InputS!24:24,0)","v":0},{"$f":"_xlfn.XLOOKUP(JJ10,InputS!6:6,InputS!24:24,0)","v":0},{"$f":"_xlfn.XLOOKUP(JK10,InputS!6:6,InputS!24:24,0)","v":0},{"$f":"_xlfn.XLOOKUP(JL10,InputS!6:6,InputS!24:24,0)","v":0},{"$f":"_xlfn.XLOOKUP(JM10,InputS!6:6,InputS!24:24,0)","v":0},{"$f":"_xlfn.XLOOKUP(JN10,InputS!6:6,InputS!24:24,0)","v":0},{"$f":"_xlfn.XLOOKUP(JO10,InputS!6:6,InputS!24:24,0)","v":0},{"$f":"_xlfn.XLOOKUP(JP10,InputS!6:6,InputS!24:24,0)","v":0},{"$f":"_xlfn.XLOOKUP(JQ10,InputS!6:6,InputS!24:24,0)","v":0},{"$f":"_xlfn.XLOOKUP(JR10,InputS!6:6,InputS!24:24,0)","v":0},{"$f":"_xlfn.XLOOKUP(JS10,InputS!6:6,InputS!24:24,0)","v":0},{"$f":"_xlfn.XLOOKUP(JT10,InputS!6:6,InputS!24:24,0)","v":0},{"$f":"_xlfn.XLOOKUP(JU10,InputS!6:6,InputS!24:24,0)","v":0},{"$f":"_xlfn.XLOOKUP(JV10,InputS!6:6,InputS!24:24,0)","v":0},{"$f":"_xlfn.XLOOKUP(JW10,InputS!6:6,InputS!24:24,0)","v":0},{"$f":"_xlfn.XLOOKUP(JX10,InputS!6:6,InputS!24:24,0)","v":0},{"$f":"_xlfn.XLOOKUP(JY10,InputS!6:6,InputS!24:24,0)","v":0},{"$f":"_xlfn.XLOOKUP(JZ10,InputS!6:6,InputS!24:24,0)","v":0},{"$f":"_xlfn.XLOOKUP(KA10,InputS!6:6,InputS!24:24,0)","v":0},{"$f":"_xlfn.XLOOKUP(KB10,InputS!6:6,InputS!24:24,0)","v":0},{"$f":"_xlfn.XLOOKUP(KC10,InputS!6:6,InputS!24:24,0)","v":0},{"$f":"_xlfn.XLOOKUP(KD10,InputS!6:6,InputS!24:24,0)","v":0},{"$f":"_xlfn.XLOOKUP(KE10,InputS!6:6,InputS!24:24,0)","v":0},{"$f":"_xlfn.XLOOKUP(KF10,InputS!6:6,InputS!24:24,0)","v":0},{"$f":"_xlfn.XLOOKUP(KG10,InputS!6:6,InputS!24:24,0)","v":0},{"$f":"_xlfn.XLOOKUP(KH10,InputS!6:6,InputS!24:24,0)","v":0},{"$f":"_xlfn.XLOOKUP(KI10,InputS!6:6,InputS!24:24,0)","v":0},{"$f":"_xlfn.XLOOKUP(KJ10,InputS!6:6,InputS!24:24,0)","v":0},{"$f":"_xlfn.XLOOKUP(KK10,InputS!6:6,InputS!24:24,0)","v":0},{"$f":"_xlfn.XLOOKUP(KL10,InputS!6:6,InputS!24:24,0)","v":0},{"$f":"_xlfn.XLOOKUP(KM10,InputS!6:6,InputS!24:24,0)","v":0},{"$f":"_xlfn.XLOOKUP(KN10,InputS!6:6,InputS!24:24,0)","v":0},{"$f":"_xlfn.XLOOKUP(KO10,InputS!6:6,InputS!24:24,0)","v":0},{"$f":"_xlfn.XLOOKUP(KP10,InputS!6:6,InputS!24:24,0)","v":0},{"$f":"_xlfn.XLOOKUP(KQ10,InputS!6:6,InputS!24:24,0)","v":0},{"$f":"_xlfn.XLOOKUP(KR10,InputS!6:6,InputS!24:24,0)","v":0},{"$f":"_xlfn.XLOOKUP(KS10,InputS!6:6,InputS!24:24,0)","v":0},{"$f":"_xlfn.XLOOKUP(KT10,InputS!6:6,InputS!24:24,0)","v":0},{"$f":"_xlfn.XLOOKUP(KU10,InputS!6:6,InputS!24:24,0)","v":0},{"$f":"_xlfn.XLOOKUP(KV10,InputS!6:6,InputS!24:24,0)","v":0}]
[null,null,"Electricity Price Inflated"]
[null,null,"Electricity Cost",null,"USD ",null,null,{"$f":"SUM(I110:XFD110)","v":1433350405.6978402},{"$f":"I108*I107","v":0},{"$f":"J108*J107","v":0},0,0,0,0,0,0,19255773.401446186,19908145.029655445,19276120.204338551,19929170.059310894,19939682.574138619,18663085.728387866,19960707.603794064,19326987.211569473,19981732.63344951,19347334.014461838,20002757.663104955,20013270.17793268,19377854.218800392,20034295.207588125,19398201.021692757,20055320.237243574,20065832.752071299,18133473.144295886,20086857.78172674,19449068.028923675,20107882.811382189,19469414.831816044,20128907.841037635,20139420.355865359,19499935.036154594,20160445.385520805,19520281.839046963,20181470.41517625,20191982.930003975,18247415.240493149,20213007.95965942,19571148.846277881,20234032.989314869,19591495.64917025,20255058.018970314,20265570.533798039,19622015.8535088,20286595.563453481,19642362.656401169,20307620.59310893,20318133.107936654,18361357.336690404,20339158.1375921,19693229.663632087,20360183.167247549,19713576.466524456,20381208.19690299,20391720.711730715,19744096.670863003,20412745.74138616,19764443.473755375,20433770.771041609,20444283.285869334,19135131.555490792,20465308.315524776,19815310.480986293,20486333.345180225,{"$f":"BV108*BV107","v":19835657.283878658},20507358.37483567,20517870.889663395,19866177.488217212,20538895.91931884,19886524.291109577,20559920.948974285,20570433.46380201,18589241.529084921,20591458.493457455,19937391.298340496,20612483.523112904,19957738.101232864,20633508.55276835,20644021.067596074,0,0,0,0,0,0,0,0,0,0,0,0,0,0,0,0,0,0,0,0,0,0,0,0,0,0,0,0,0,0,0,0,0,0,0,0,0,0,0,0,0,0,0,0,0,0,0,0,0,{"$f":"EH108*EH107","v":0},0,0,0,0,0,0,0,0,0,0,0,0,0,0,0,0,0,0,0,0,0,0,0,0,0,0,0,0,0,0,0,0,0,0,0,0,0,0,0,0,0,0,0,0,0,0,0,0,0,0,0,0,0,0,0,0,0,0,0,0,0,0,0,{"$f":"GT108*GT107","v":0},0,0,0,0,0,0,0,0,0,0,0,0,0,0,0,0,0,0,0,0,0,0,0,0,0,0,0,0,0,0,0,0,0,0,0,0,0,0,0,0,0,0,0,0,0,0,0,0,0,0,0,0,0,0,0,0,0,0,0,0,0,0,0,{"$f":"JF108*JF107","v":0},0,0,0,0,0,0,0,0,0,0,0,0,0,0,0,0,0,0,0,0,0,0,0,0,0,0,0,0,0,0,0,0,0,0,0,0,0,0,0,0,0,0]
[]
[null,null,"Water Used",null,"Liters",{"$f":"InputC!G42","v":0.08},null,{"$f":"LOOKUP(F9,7:7,112:112)","v":8558121.5117538609},{"$f":"$F$112*I24*1000","v":0},0,0,0,0,0,0,0,8558121.5117538609,8848064.457624644,8567164.5352615789,8857408.9152492862,8862081.1440616064,8294704.7681723852,8871425.6016862504,8589772.0940308757,8880770.0593108945,8598815.1175385956,8890114.5169355366,8894786.7457478568,8612379.6528001726,8904131.2033725008,8621422.6763078906,8913475.6609971449,8918147.889809465,8059321.3974648388,8927492.3474341072,8644030.2350771893,8936836.8050587513,8653073.2585849091,8946181.2626833953,8950853.4914957136,8666637.7938464861,8960197.9491203576,8675680.8173542041,8969542.4067449998,8974214.6355573218,8109962.329108065,8983559.093181964,8698288.3761235029,8992903.5508066081,8707331.3996312227,9002248.0084312521,9006920.2372435723,8720895.9348927997,9016264.6948682144,8729938.9584005196,9025609.1524928585,9030281.3813051805,8160603.2607512902,9039625.8389298227,8752546.5171698164,9048970.2965544648,8761589.5406775363,9058314.754179107,9062986.982991429,8775154.0759391133,9072331.4406160712,8784197.0994468313,9081675.8982407153,9086348.1270530373,8504502.9135514628,9095692.5846776795,8806804.65821613,{"$f":"$F$112*BU24*1000","v":9105037.0423023216},8815847.681723848,9114381.4999269657,9119053.7287392877,8829412.2169854268,9128398.1863639299,8838455.2404931448,9137742.6439885721,9142414.8728008922,8261885.1240377426,9151759.3304255363,8861062.7992624436,9161103.7880501784,8870105.8227701616,9170448.2456748225,9175120.4744871445,0,0,0,0,0,0,0,0,0,0,0,0,0,0,0,0,0,0,0,0,0,0,0,0,0,0,0,0,0,0,0,0,0,0,0,0,0,0,0,0,0,0,0,0,0,0,0,0,{"$f":"$F$112*EG24*1000","v":0},0,0,0,0,0,0,0,0,0,0,0,0,0,0,0,0,0,0,0,0,0,0,0,0,0,0,0,0,0,0,0,0,0,0,0,0,0,0,0,0,0,0,0,0,0,0,0,0,0,0,0,0,0,0,0,0,0,0,0,0,0,0,0,{"$f":"$F$112*GS24*1000","v":0},0,0,0,0,0,0,0,0,0,0,0,0,0,0,0,0,0,0,0,0,0,0,0,0,0,0,0,0,0,0,0,0,0,0,0,0,0,0,0,0,0,0,0,0,0,0,0,0,0,0,0,0,0,0,0,0,0,0,0,0,0,0,0,{"$f":"$F$112*JE24*1000","v":0},0,0,0,0,0,0,0,0,0,0,0,0,0,0,0,0,0,0,0,0,0,0,0,0,0,0,0,0,0,0,0,0,0,0,0,0,0,0,0,0,0,0,0]
[null,null,"Water Price",null,"USD/Litre",{"$f":"InputC!G64","v":3.0000000000000001E-3},null,null,{"$f":"$F$113","v":3.0000000000000001E-3},{"$f":"$F$113","v":3.0000000000000001E-3},3.0000000000000001E-3,3.0000000000000001E-3,3.0000000000000001E-3,3.0000000000000001E-3,3.0000000000000001E-3,3.0000000000000001E-3,3.0000000000000001E-3,3.0000000000000001E-3,3.0000000000000001E-3,3.0000000000000001E-3,3.0000000000000001E-3,3.0000000000000001E-3,3.0000000000000001E-3,3.0000000000000001E-3,3.0000000000000001E-3,3.0000000000000001E-3,3.0000000000000001E-3,3.0000000000000001E-3,3.0000000000000001E-3,3.0000000000000001E-3,3.0000000000000001E-3,3.0000000000000001E-3,3.0000000000000001E-3,3.0000000000000001E-3,3.0000000000000001E-3,3.0000000000000001E-3,3.0000000000000001E-3,3.0000000000000001E-3,3.0000000000000001E-3,3.0000000000000001E-3,3.0000000000000001E-3,3.0000000000000001E-3,3.0000000000000001E-3,3.0000000000000001E-3,3.0000000000000001E-3,3.0000000000000001E-3,3.0000000000000001E-3,3.0000000000000001E-3,3.0000000000000001E-3,3.0000000000000001E-3,3.0000000000000001E-3,3.0000000000000001E-3,3.0000000000000001E-3,3.0000000000000001E-3,3.0000000000000001E-3,3.0000000000000001E-3,3.0000000000000001E-3,3.0000000000000001E-3,3.0000000000000001E-3,3.0000000000000001E-3,3.0000000000000001E-3,3.0000000000000001E-3,3.0000000000000001E-3,3.0000000000000001E-3,3.0000000000000001E-3,3.0000000000000001E-3,3.0000000000000001E-3,3.0000000000000001E-3,3.0000000000000001E-3,3.0000000000000001E-3,3.0000000000000001E-3,3.0000000000000001E-3,3.0000000000000001E-3,{"$f":"$F$113","v":3.0000000000000001E-3},3.0000000000000001E-3,3.0000000000000001E-3,3.0000000000000001E-3,3.0000000000000001E-3,3.0000000000000001E-3,3.0000000000000001E-3,3.0000000000000001E-3,3.0000000000000001E-3,3.0000000000000001E-3,3.0000000000000001E-3,3.0000000000000001E-3,3.0000000000000001E-3,3.0000000000000001E-3,3.0000000000000001E-3,3.0000000000000001E-3,3.0000000000000001E-3,3.0000000000000001E-3,3.0000000000000001E-3,3.0000000000000001E-3,3.0000000000000001E-3,3.0000000000000001E-3,3.0000000000000001E-3,3.0000000000000001E-3,3.0000000000000001E-3,3.0000000000000001E-3,3.0000000000000001E-3,3.0000000000000001E-3,3.0000000000000001E-3,3.0000000000000001E-3,3.0000000000000001E-3,3.0000000000000001E-3,3.0000000000000001E-3,3.0000000000000001E-3,3.0000000000000001E-3,3.0000000000000001E-3,3.0000000000000001E-3,3.0000000000000001E-3,3.0000000000000001E-3,3.0000000000000001E-3,3.0000000000000001E-3,3.0000000000000001E-3,3.0000000000000001E-3,3.0000000000000001E-3,3.0000000000000001E-3,3.0000000000000001E-3,3.0000000000000001E-3,3.0000000000000001E-3,3.0000000000000001E-3,3.0000000000000001E-3,3.0000000000000001E-3,3.0000000000000001E-3,3.0000000000000001E-3,3.0000000000000001E-3,3.0000000000000001E-3,3.0000000000000001E-3,3.0000000000000001E-3,3.0000000000000001E-3,3.0000000000000001E-3,3.0000000000000001E-3,3.0000000000000001E-3,3.0000000000000001E-3,3.0000000000000001E-3,3.0000000000000001E-3,{"$f":"$F$113","v":3.0000000000000001E-3},3.0000000000000001E-3,3.0000000000000001E-3,3.0000000000000001E-3,3.0000000000000001E-3,3.0000000000000001E-3,3.0000000000000001E-3,3.0000000000000001E-3,3.0000000000000001E-3,3.0000000000000001E-3,3.0000000000000001E-3,3.0000000000000001E-3,3.0000000000000001E-3,3.0000000000000001E-3,3.0000000000000001E-3,3.0000000000000001E-3,3.0000000000000001E-3,3.0000000000000001E-3,3.0000000000000001E-3,3.0000000000000001E-3,3.0000000000000001E-3,3.0000000000000001E-3,3.0000000000000001E-3,3.0000000000000001E-3,3.0000000000000001E-3,3.0000000000000001E-3,3.0000000000000001E-3,3.0000000000000001E-3,3.0000000000000001E-3,3.0000000000000001E-3,3.0000000000000001E-3,3.0000000000000001E-3,3.0000000000000001E-3,3.0000000000000001E-3,3.0000000000000001E-3,3.0000000000000001E-3,3.0000000000000001E-3,3.0000000000000001E-3,3.0000000000000001E-3,3.0000000000000001E-3,3.0000000000000001E-3,3.0000000000000001E-3,3.0000000000000001E-3,3.0000000000000001E-3,3.0000000000000001E-3,3.0000000000000001E-3,3.0000000000000001E-3,3.0000000000000001E-3,3.0000000000000001E-3,3.0000000000000001E-3,3.0000000000000001E-3,3.0000000000000001E-3,3.0000000000000001E-3,3.0000000000000001E-3,3.0000000000000001E-3,3.0000000000000001E-3,3.0000000000000001E-3,3.0000000000000001E-3,3.0000000000000001E-3,3.0000000000000001E-3,3.0000000000000001E-3,3.0000000000000001E-3,3.0000000000000001E-3,3.0000000000000001E-3,{"$f":"$F$113","v":3.0000000000000001E-3},3.0000000000000001E-3,3.0000000000000001E-3,3.0000000000000001E-3,3.0000000000000001E-3,3.0000000000000001E-3,3.0000000000000001E-3,3.0000000000000001E-3,3.0000000000000001E-3,3.0000000000000001E-3,3.0000000000000001E-3,3.0000000000000001E-3,3.0000000000000001E-3,3.0000000000000001E-3,3.0000000000000001E-3,3.0000000000000001E-3,3.0000000000000001E-3,3.0000000000000001E-3,3.0000000000000001E-3,3.0000000000000001E-3,3.0000000000000001E-3,3.0000000000000001E-3,3.0000000000000001E-3,3.0000000000000001E-3,3.0000000000000001E-3,3.0000000000000001E-3,3.0000000000000001E-3,3.0000000000000001E-3,3.0000000000000001E-3,3.0000000000000001E-3,3.0000000000000001E-3,3.0000000000000001E-3,3.0000000000000001E-3,3.0000000000000001E-3,3.0000000000000001E-3,3.0000000000000001E-3,3.0000000000000001E-3,3.0000000000000001E-3,3.0000000000000001E-3,3.0000000000000001E-3,3.0000000000000001E-3,3.0000000000000001E-3,3.0000000000000001E-3,3.0000000000000001E-3,3.0000000000000001E-3,3.0000000000000001E-3,3.0000000000000001E-3,3.0000000000000001E-3,3.0000000000000001E-3,3.0000000000000001E-3,3.0000000000000001E-3,3.0000000000000001E-3,3.0000000000000001E-3,3.0000000000000001E-3,3.0000000000000001E-3,3.0000000000000001E-3,3.0000000000000001E-3,3.0000000000000001E-3,3.0000000000000001E-3,3.0000000000000001E-3,3.0000000000000001E-3,3.0000000000000001E-3,3.0000000000000001E-3,3.0000000000000001E-3,{"$f":"$F$113","v":3.0000000000000001E-3},3.0000000000000001E-3,3.0000000000000001E-3,3.0000000000000001E-3,3.0000000000000001E-3,3.0000000000000001E-3,3.0000000000000001E-3,3.0000000000000001E-3,3.0000000000000001E-3,3.0000000000000001E-3,3.0000000000000001E-3,3.0000000000000001E-3,3.0000000000000001E-3,3.0000000000000001E-3,3.0000000000000001E-3,3.0000000000000001E-3,3.0000000000000001E-3,3.0000000000000001E-3,3.0000000000000001E-3,3.0000000000000001E-3,3.0000000000000001E-3,3.0000000000000001E-3,3.0000000000000001E-3,3.0000000000000001E-3,3.0000000000000001E-3,3.0000000000000001E-3,3.0000000000000001E-3,3.0000000000000001E-3,3.0000000000000001E-3,3.0000000000000001E-3,3.0000000000000001E-3,3.0000000000000001E-3,3.0000000000000001E-3,3.0000000000000001E-3,3.0000000000000001E-3,3.0000000000000001E-3,3.0000000000000001E-3,3.0000000000000001E-3,3.0000000000000001E-3,3.0000000000000001E-3,3.0000000000000001E-3,3.0000000000000001E-3,3.0000000000000001E-3]
[null,null,"Water Price Inflated",null,"USD/Litre",null,null,null,{"$f":"I57*I113","v":3.0049547439057606E-3},3.0099176709739118E-3,3.0148887947196116E-3,3.0198681286803392E-3,3.0248556864159322E-3,3.0298514815086243E-3,3.0348555275630791E-3,3.0398678382064313E-3,3.0448884270883217E-3,3.0499173078809335E-3,3.0549544942790326E-3,3.0600000000000007E-3,3.0650538387838769E-3,3.0701160243933913E-3,3.075186570614005E-3,3.0802654912539472E-3,3.085352800144252E-3,3.0904485111387975E-3,3.0955526381143414E-3,3.1006651949705612E-3,3.1057861956300891E-3,3.1109156540385539E-3,3.1160535841646148E-3,3.1212000000000028E-3,3.1263549155595557E-3,3.1315183448812605E-3,3.1366903020262861E-3,3.1418708010790275E-3,3.1470598561471387E-3,3.1522574813615751E-3,3.1574636908766299E-3,3.1626784988699739E-3,3.1679019195426923E-3,3.1731339671193263E-3,3.1783746558479088E-3,3.1836240000000047E-3,3.1888820138707493E-3,3.194148711778888E-3,3.1994241080668144E-3,3.2047082171006102E-3,3.2100010532700833E-3,3.2153026309888087E-3,3.2206129646941647E-3,3.2259320688473756E-3,3.2312599579335487E-3,3.2365966464617149E-3,3.2419421489648689E-3,3.2472964800000065E-3,3.2526596541481659E-3,3.2580316860144672E-3,3.2634125902281522E-3,3.2688023814426244E-3,3.274201074335487E-3,3.2796086836085867E-3,3.2850252239880495E-3,3.2904507102243245E-3,3.2958851570922213E-3,3.3013285793909515E-3,3.3067809919441683E-3,3.3122424096000088E-3,3.3177128472311312E-3,3.3231923197347586E-3,3.3286808420327171E-3,3.3341784290714786E-3,{"$f":"BU57*BU113","v":3.3396850958221985E-3},3.3452008572807603E-3,3.3507257284678131E-3,3.3562597244288133E-3,3.3618028602340677E-3,3.3673551509787723E-3,3.3729166117830536E-3,3.3784872577920103E-3,3.384067104175755E-3,3.3896561661294553E-3,3.3952544588733732E-3,3.4008619976529102E-3,3.4064787977386448E-3,3.4121048744263772E-3,3.4177402430371705E-3,3.4233849189173912E-3,3.429038917438751E-3,3.4347022539983492E-3,3.4403749440187164E-3,3.4460570029478527E-3,3.4517484462592727E-3,3.457449289452047E-3,3.4631595480508434E-3,3.4688792376059703E-3,3.4746083736934196E-3,3.4803469719149075E-3,3.4860950478979168E-3,3.4918526172957416E-3,3.4976196957875287E-3,3.5033962990783196E-3,3.5091824428990933E-3,3.5149781430068128E-3,3.520783415184461E-3,3.5265982752410905E-3,3.5324227390118629E-3,3.5382568223580927E-3,3.5441005411672912E-3,3.5499539113532084E-3,3.5558169488558783E-3,3.5616896696416592E-3,3.5675720897032819E-3,3.573464225059888E-3,3.5793660917570773E-3,3.5852777058669504E-3,3.5911990834881519E-3,3.5971302407459137E-3,3.6030711937921011E-3,3.6090219588052557E-3,3.6149825519906382E-3,3.6209529895802738E-3,3.6269332878329972E-3,3.6329234630344941E-3,3.6389235314973488E-3,3.6449335095610877E-3,3.650953413592221E-3,3.6569832599842914E-3,3.6630230651579164E-3,3.6690728455608338E-3,3.6751326176679448E-3,3.6812023979813624E-3,3.6872822030304523E-3,3.6933720493718802E-3,3.6994719535896575E-3,3.7055819322951845E-3,{"$f":"EG57*EG113","v":3.7117020021272969E-3},3.7178321797523106E-3,3.7239724818640672E-3,3.7301229251839796E-3,3.7362835264610774E-3,3.7424543024720531E-3,3.7486352700213071E-3,3.7548264459409926E-3,3.7610278470910645E-3,3.7672394903593216E-3,3.7734613926614542E-3,3.7796935709410915E-3,3.7859360421698459E-3,3.7921888233473592E-3,3.7984519315013504E-3,3.8047253836876612E-3,3.8110091969903006E-3,3.817303388521496E-3,3.8236079754217348E-3,3.8299229748598148E-3,3.8362484040328879E-3,3.8425842801665098E-3,3.8489306205146852E-3,3.8552874423599154E-3,3.8616547630132446E-3,3.8680325998143084E-3,3.8744209701313797E-3,3.8808198913614163E-3,3.8872293809301089E-3,3.8936494562919282E-3,3.9000801349301718E-3,3.9065214343570126E-3,3.9129733721135476E-3,3.9194359657698423E-3,3.9259092329249814E-3,3.9323931912071154E-3,3.9388878582735116E-3,3.9453932518105968E-3,3.9519093895340092E-3,3.9584362891886462E-3,3.9649739685487136E-3,3.9715224454177685E-3,3.9780817376287771E-3,3.9846518630441549E-3,3.9912328395558198E-3,3.9978246850852408E-3,4.0044274175834822E-3,4.0110410550312598E-3,4.0176656154389838E-3,4.024301116846811E-3,4.0309475773246915E-3,4.0376050149724214E-3,4.0442734479196893E-3,4.0509528943261262E-3,4.0576433723813546E-3,4.0643449003050398E-3,4.0710574963469387E-3,4.0777811787869479E-3,4.0845159659351543E-3,4.0912618761318872E-3,4.0980189277477659E-3,4.10478713918375E-3,4.1115665288711887E-3,4.1183571152718732E-3,{"$f":"GS57*GS113","v":4.1251589168780859E-3},4.1319719522126515E-3,4.1387962398289849E-3,4.1456317983111441E-3,4.1524786462738801E-3,4.1593368023626898E-3,4.16620628525386E-3,4.1730871136545283E-3,4.179979306302724E-3,4.1868828819674273E-3,4.1937978594486147E-3,4.2007242575773122E-3,4.2076620952156496E-3,4.2146113912569063E-3,4.2215721646255665E-3,4.2285444342773692E-3,4.2355282191993606E-3,4.2425235384099457E-3,4.2495304109589401E-3,4.2565488559276211E-3,4.2635788924287816E-3,4.2706205396067778E-3,4.2776738166375892E-3,4.2847387427288617E-3,4.2918153371199657E-3,4.2989036190820475E-3,4.3060036079180805E-3,4.3131153229629196E-3,4.3202387835833498E-3,4.3273740091781471E-3,4.3345210191781209E-3,4.3416798330461756E-3,4.3488504702773592E-3,4.3560329503989168E-3,4.3632272929703432E-3,4.3704335175834413E-3,4.3776516438623677E-3,4.3848816914636912E-3,4.3921236800764452E-3,4.3993776294221805E-3,4.4066435592550199E-3,4.4139214893617129E-3,4.4212114395616869E-3,4.4285134297071026E-3,4.4358274796829087E-3,4.4431536094068974E-3,4.450491838829753E-3,4.4578421879351128E-3,4.4652046767396179E-3,4.472579325292967E-3,4.4799661536779768E-3,4.4873651820106263E-3,4.4947764304401226E-3,4.5021999191489489E-3,4.5096356683529222E-3,4.5170836983012465E-3,4.5245440292765692E-3,4.5320166815950372E-3,4.53950167560635E-3,4.5469990316938172E-3,4.5545087702744125E-3,4.5620309117988291E-3,4.5695654767515387E-3,4.5771124856508411E-3,{"$f":"JE57*JE113","v":4.5846719590489282E-3},4.5922439175319317E-3,4.5998283817199849E-3,4.6074253722672752E-3,4.6150349098621054E-3,4.6226570152269426E-3,4.6302917091184817E-3,4.6379390123276977E-3,4.645598945679905E-3,4.6532715300348099E-3,4.6609567862865731E-3,4.6686547353638622E-3,4.67636539822991E-3,4.6840887958825737E-3,4.6918249493543866E-3,4.6995738797126234E-3,4.7073356080593494E-3,4.7151101555314824E-3,4.7228975433008524E-3,4.7306977925742535E-3,4.7385109245935047E-3,4.7463369606355081E-3,4.7541759220123062E-3,4.7620278300711414E-3,4.7698927061945104E-3,4.7777705718002267E-3,4.7856614483414769E-3,4.7935653573068782E-3,4.8014823202205395E-3,4.8094123586421159E-3,4.8173554941668729E-3,4.8253117484257421E-3,4.8332811430853778E-3,4.8412636998482203E-3,4.8492594404525554E-3,4.857268386672566E-3,4.8652905603184032E-3,4.8733259832362333E-3,4.8813746773083084E-3,4.8894366644530174E-3,4.8975119666249513E-3,4.9056006058149594E-3,4.9137026040502116E-3,4.9218179833942577E-3]
[null,null,"Water Cost",null,"USD",null,null,{"$f":"SUM(I115:XFD115)","v":2058761.4406299805},{"$f":"I114*I112","v":0},{"$f":"J114*J112","v":0},0,0,0,0,0,0,26058.525148754943,26985.864930555526,26172.2978002253,27103.67128066282,27162.755830220238,25465.70602637831,27281.288872506826,26458.778558979462,27400.308769932104,26574.195377554937,27519.817446038403,27579.755679225844,26748.209837192237,27700.001146184659,26864.81503110729,27820.740233104312,27881.2954929929,25237.91280345522,28002.778667610448,27158.426199233301,28124.760350138647,27276.714916144061,28247.242508923664,28308.67188408873,27455.058503107528,28431.908464466731,27574.564032104474,28555.650475131184,28617.711639944384,25904.425726095837,28742.215538969223,27875.476233673711,28867.229870045485,27996.705558125737,28992.756647345916,29055.712834874452,28179.481831724563,29182.012075021619,28301.957067129111,29308.828830745901,29372.431914576729,26587.504000520687,29500.028773715305,28610.344899012045,29628.148266608539,28734.585139820218,29756.792454301474,29821.311954937955,28921.90007008503,29950.747066612919,29047.41599794188,30080.712060395152,30145.893915538389,28262.098765476097,30276.65765163564,29363.458120470437,30407.956507086095,{"$f":"BV114*BV112","v":29490.781222559221},30539.792590876343,30605.912754670066,29682.743245247228,30738.55865303786,29811.372503160313,30871.747087698066,30938.54542377267,28004.949854547755,31072.5516731633,30135.251732827561,31207.105817876116,30265.73131455186,31342.210015932462,31409.96906160947,0,0,0,0,0,0,0,0,0,0,0,0,0,0,0,0,0,0,0,0,0,0,0,0,0,0,0,0,0,0,0,0,0,0,0,0,0,0,0,0,0,0,0,0,0,0,0,0,0,{"$f":"EH114*EH112","v":0},0,0,0,0,0,0,0,0,0,0,0,0,0,0,0,0,0,0,0,0,0,0,0,0,0,0,0,0,0,0,0,0,0,0,0,0,0,0,0,0,0,0,0,0,0,0,0,0,0,0,0,0,0,0,0,0,0,0,0,0,0,0,0,{"$f":"GT114*GT112","v":0},0,0,0,0,0,0,0,0,0,0,0,0,0,0,0,0,0,0,0,0,0,0,0,0,0,0,0,0,0,0,0,0,0,0,0,0,0,0,0,0,0,0,0,0,0,0,0,0,0,0,0,0,0,0,0,0,0,0,0,0,0,0,0,{"$f":"JF114*JF112","v":0},0,0,0,0,0,0,0,0,0,0,0,0,0,0,0,0,0,0,0,0,0,0,0,0,0,0,0,0,0,0,0,0,0,0,0,0,0,0,0,0,0,0]
[]
[null,null,"Total Operating Expense",null,"USD",null,null,{"$f":"SUM(I117:XFD117)","v":1553645247.3329053},{"$f":"I110+I105+I115","v":0},{"$f":"J110+J105+J115","v":0},0,0,0,0,0,0,20829650.210364841,21485505.526092142,20855227.703397281,21511773.730591558,21524914.364683978,20249193.746814217,21551208.73272869,20919247.61484921,21577520.615626104,20944886.203001615,21603850.07159245,21617021.407721944,20983377.078082878,21643377.332870577,21009059.742007542,21669750.977476679,21682944.462973733,19750566.215747315,21709344.797257714,21073344.112338081,21735762.998607121,21099089.099757653,21762199.126408849,21775423.931341685,21137740.237091903,21801887.060604259,21163530.186468419,21828368.265651383,21841615.66536155,19897011.92804018,21868124.09679902,21228084.332871031,21894650.754597206,21253937.858814351,21921195.699337192,21934475.048296999,21292752.480623413,21961047.537479874,21318651.872525439,21987638.465939678,22000940.864043213,20044110.947748281,22027559.566398457,21383481.219097767,22054196.861634698,21409445.465831973,22080852.811551217,22094187.801383018,21448426.859121636,22120871.849643175,21474437.893991601,22147574.707982011,22160933.210460696,20852683.083454773,22187664.401209708,21539547.973884765,22214414.558730263,{"$f":"BV110+BV105+BV115","v":21565625.16755227},22241183.74606435,22254575.495669376,21604776.685414776,22281373.346386086,21630901.60793579,22308190.38543959,22321606.120515123,20340321.696721941,22348452.061724585,21696298.065546885,22375317.351114593,21722490.477047492,22402202.052994844,22415651.703774024,0,0,0,0,0,0,0,0,0,0,0,0,0,0,0,0,0,0,0,0,0,0,0,0,0,0,0,0,0,0,0,0,0,0,0,0,0,0,0,0,0,0,0,0,0,0,0,0,0,{"$f":"EH110+EH105+EH115","v":0},0,0,0,0,0,0,0,0,0,0,0,0,0,0,0,0,0,0,0,0,0,0,0,0,0,0,0,0,0,0,0,0,0,0,0,0,0,0,0,0,0,0,0,0,0,0,0,0,0,0,0,0,0,0,0,0,0,0,0,0,0,0,0,{"$f":"GT110+GT105+GT115","v":0},0,0,0,0,0,0,0,0,0,0,0,0,0,0,0,0,0,0,0,0,0,0,0,0,0,0,0,0,0,0,0,0,0,0,0,0,0,0,0,0,0,0,0,0,0,0,0,0,0,0,0,0,0,0,0,0,0,0,0,0,0,0,0,{"$f":"JF110+JF105+JF115","v":0},0,0,0,0,0,0,0,0,0,0,0,0,0,0,0,0,0,0,0,0,0,0,0,0,0,0,0,0,0,0,0,0,0,0,0,0,0,0,0,0,0,0]
[]
[null,"Cash Flow and IRR"]
[null,null,"Revenues",null,"USD",null,null,null,{"$f":"I44","v":0},0,0,0,0,0,0,0,3217820394.4098415,3223134886.4061866,3228458155.7181416,3233790216.8421574,3239131084.2986264,3244480772.6319232,3249839296.4104414,3255206670.2266383,3260582908.6970706,3265968026.4624348,3271362038.1876097,3276764958.5616922,3282176802.2980404,3287597584.1343117,3293027318.8325057,3298466021.1790023,3303913705.9846005,3309370388.0845628,3314836082.3386517,3320310803.6311727,3325794566.8710136,3331287386.9916854,3336789278.951364,3342300257.7329273,3347820338.3440022,3353349535.8169994,3358887865.2091579,3364435341.6025844,3369991980.1042948,3375557795.8462567,3381132803.9854269,3386717019.7037983,3392310458.2084355,3397913134.7315216,3403525064.5303931,3409146262.8875885,3414776745.1108851,3420416526.5333414,3426065622.5133433,3431724048.434638,3437391819.7063832,3443068951.7631831,3448755460.0651374,3454451360.0978761,3460156667.3726068,3465871397.4261541,3471595565.821003,3477329188.1453419,3483072280.0131044,3488824857.0640111,3494586934.9636126,3500358529.4033332,3506139656.1005125,3511930330.798449,3517730569.2664423,3523540387.2998357,{"$f":"BU44","v":3529359800.7200608},3535188825.3746791,3541027477.1374254,3546875771.9082513,3552733725.6133685,3558601354.2052932,3564478673.6628866,3570365699.9914012,3576262449.2225242,3582168937.4144192,3588085180.651773,3594011195.0458341,3599946996.7344642,3605892601.882174,3611848026.6801753,3617813287.3464184,0,0,0,0,0,0,0,0,0,0,0,0,0,0,0,0,0,0,0,0,0,0,0,0,0,0,0,0,0,0,0,0,0,0,0,0,0,0,0,0,0,0,0,0,0,0,0,0,{"$f":"EG44","v":0},0,0,0,0,0,0,0,0,0,0,0,0,0,0,0,0,0,0,0,0,0,0,0,0,0,0,0,0,0,0,0,0,0,0,0,0,0,0,0,0,0,0,0,0,0,0,0,0,0,0,0,0,0,0,0,0,0,0,0,0,0,0,0,{"$f":"GS44","v":0},0,0,0,0,0,0,0,0,0,0,0,0,0,0,0,0,0,0,0,0,0,0,0,0,0,0,0,0,0,0,0,0,0,0,0,0,0,0,0,0,0,0,0,0,0,0,0,0,0,0,0,0,0,0,0,0,0,0,0,0,0,0,0,{"$f":"JE44","v":0},0,0,0,0,0,0,0,0,0,0,0,0,0,0,0,0,0,0,0,0,0,0,0,0,0,0,0,0,0,0,0,0,0,0,0,0,0,0,0,0,0,0,0]
[null,null,"Operating Expenses",null,"USD",null,null,null,{"$f":"I117","v":0},{"$f":"J117","v":0},0,0,0,0,0,0,20829650.210364841,21485505.526092142,20855227.703397281,21511773.730591558,21524914.364683978,20249193.746814217,21551208.73272869,20919247.61484921,21577520.615626104,20944886.203001615,21603850.07159245,21617021.407721944,20983377.078082878,21643377.332870577,21009059.742007542,21669750.977476679,21682944.462973733,19750566.215747315,21709344.797257714,21073344.112338081,21735762.998607121,21099089.099757653,21762199.126408849,21775423.931341685,21137740.237091903,21801887.060604259,21163530.186468419,21828368.265651383,21841615.66536155,19897011.92804018,21868124.09679902,21228084.332871031,21894650.754597206,21253937.858814351,21921195.699337192,21934475.048296999,21292752.480623413,21961047.537479874,21318651.872525439,21987638.465939678,22000940.864043213,20044110.947748281,22027559.566398457,21383481.219097767,22054196.861634698,21409445.465831973,22080852.811551217,22094187.801383018,21448426.859121636,22120871.849643175,21474437.893991601,22147574.707982011,22160933.210460696,20852683.083454773,22187664.401209708,21539547.973884765,22214414.558730263,{"$f":"BV117","v":21565625.16755227},22241183.74606435,22254575.495669376,21604776.685414776,22281373.346386086,21630901.60793579,22308190.38543959,22321606.120515123,20340321.696721941,22348452.061724585,21696298.065546885,22375317.351114593,21722490.477047492,22402202.052994844,22415651.703774024,0,0,0,0,0,0,0,0,0,0,0,0,0,0,0,0,0,0,0,0,0,0,0,0,0,0,0,0,0,0,0,0,0,0,0,0,0,0,0,0,0,0,0,0,0,0,0,0,0,{"$f":"EH117","v":0},0,0,0,0,0,0,0,0,0,0,0,0,0,0,0,0,0,0,0,0,0,0,0,0,0,0,0,0,0,0,0,0,0,0,0,0,0,0,0,0,0,0,0,0,0,0,0,0,0,0,0,0,0,0,0,0,0,0,0,0,0,0,0,{"$f":"GT117","v":0},0,0,0,0,0,0,0,0,0,0,0,0,0,0,0,0,0,0,0,0,0,0,0,0,0,0,0,0,0,0,0,0,0,0,0,0,0,0,0,0,0,0,0,0,0,0,0,0,0,0,0,0,0,0,0,0,0,0,0,0,0,0,0,{"$f":"JF117","v":0},0,0,0,0,0,0,0,0,0,0,0,0,0,0,0,0,0,0,0,0,0,0,0,0,0,0,0,0,0,0,0,0,0,0,0,0,0,0,0,0,0,0]
[null,null,"EBITDA (Revenue - Expense)",null,"USD",null,null,{"$f":"SUM(I122:XFD122)","v":244251998861.01053},{"$f":"I44-I117","v":0},0,0,0,0,0,0,0,3196990744.1994767,3201649380.8800945,3207602928.0147443,3212278443.1115656,3217606169.9339423,3224231578.8851089,3228288087.6777129,3234287422.6117892,3239005388.0814443,3245023140.2594333,3249758188.1160173,3255147937.1539702,3261193425.2199574,3265954206.8014412,3272018259.090498,3276796270.2015257,3282230761.5216269,3289619821.8688154,3293126737.5413938,3299237459.5188346,3304058803.8724065,3310188297.8919277,3315027079.824955,3320524833.8015857,3326682598.1069102,3331547648.7563953,3337724335.0226893,3342606973.3369331,3348150364.4389334,3355660783.9182167,3359264679.888628,3365488935.3709273,3370415807.4538383,3376659196.8727074,3381603868.8310561,3387211787.8392916,3393483992.6302619,3398455478.9958615,3404746970.6408181,3409736409.9686985,3415390878.84234,3423024840.8154349,3426727900.4987388,3433067878.8787785,3438102470.510972,3444461951.9603224,3449514713.0094519,3455235000.3439589,3461623853.1539826,3466703985.2143679,3473112497.0696211,3478210954.6953511,3483978722.8900518,3491077647.7149944,3495542904.8652325,3502000839.3259511,{"$f":"BU44-BU117","v":3507145386.1613307},3513623200.2071266,3518786293.3913612,3524621196.4125819,3531128948.9279537,3536319980.8589072,3542847772.0549507,3548057509.6059618,3553940843.1020088,3561828615.7176971,3565736728.5900483,3572314896.9802871,3577571679.3833494,3584170111.4051266,3589445824.6271806,3595397635.6426444,0,0,0,0,0,0,0,0,0,0,0,0,0,0,0,0,0,0,0,0,0,0,0,0,0,0,0,0,0,0,0,0,0,0,0,0,0,0,0,0,0,0,0,0,0,0,0,0,{"$f":"EG44-EG117","v":0},0,0,0,0,0,0,0,0,0,0,0,0,0,0,0,0,0,0,0,0,0,0,0,0,0,0,0,0,0,0,0,0,0,0,0,0,0,0,0,0,0,0,0,0,0,0,0,0,0,0,0,0,0,0,0,0,0,0,0,0,0,0,0,{"$f":"GS44-GS117","v":0},0,0,0,0,0,0,0,0,0,0,0,0,0,0,0,0,0,0,0,0,0,0,0,0,0,0,0,0,0,0,0,0,0,0,0,0,0,0,0,0,0,0,0,0,0,0,0,0,0,0,0,0,0,0,0,0,0,0,0,0,0,0,0,{"$f":"JE44-JE117","v":0},0,0,0,0,0,0,0,0,0,0,0,0,0,0,0,0,0,0,0,0,0,0,0,0,0,0,0,0,0,0,0,0,0,0,0,0,0,0,0,0,0,0,0]
[]
[]
[null,null,"Free Cash Flow (EBTIDA - Cap Exp)",null,"USD",null,null,{"$f":"SUM(I125:XFD125)","v":61512629942.430328},{"$f":"I122-I87-I94","v":-9468750000},-9468750000,-9468750000,-9468750000,-9468750000,-9468750000,-9468750000,-9468750000,3196990744.1994767,3201649380.8800945,3207602928.0147443,3212278443.1115656,3217606169.9339423,3224231578.8851089,3228288087.6777129,3234287422.6117892,3239005388.0814443,3245023140.2594333,3249758188.1160173,3255147937.1539702,3261193425.2199574,3265954206.8014412,3272018259.090498,3276796270.2015257,3282230761.5216269,3289619821.8688154,3293126737.5413938,3299237459.5188346,3304058803.8724065,3310188297.8919277,3315027079.824955,-50711781069.223625,3326682598.1069102,3331547648.7563953,3337724335.0226893,3342606973.3369331,3348150364.4389334,3355660783.9182167,3359264679.888628,3365488935.3709273,3370415807.4538383,3376659196.8727074,3381603868.8310561,3387211787.8392916,3393483992.6302619,3398455478.9958615,3404746970.6408181,3409736409.9686985,3415390878.84234,3423024840.8154349,3426727900.4987388,3433067878.8787785,3438102470.510972,3444461951.9603224,3449514713.0094519,-49501828015.211014,3461623853.1539826,3466703985.2143679,3473112497.0696211,3478210954.6953511,3483978722.8900518,3491077647.7149944,3495542904.8652325,3502000839.3259511,{"$f":"BU122-BU87-BU94","v":3507145386.1613307},3513623200.2071266,3518786293.3913612,3524621196.4125819,3531128948.9279537,3536319980.8589072,3542847772.0549507,3548057509.6059618,3553940843.1020088,3561828615.7176971,3565736728.5900483,3572314896.9802871,3577571679.3833494,3584170111.4051266,3589445824.6271806,3595397635.6426444,0,0,0,0,0,0,0,0,0,0,0,0,0,0,0,0,0,0,0,0,0,0,0,0,0,0,0,0,0,0,0,0,0,0,0,0,0,0,0,0,0,0,0,0,0,0,0,0,{"$f":"EG122-EG87-EG94","v":0},0,0,0,0,0,0,0,0,0,0,0,0,0,0,0,0,0,0,0,0,0,0,0,0,0,0,0,0,0,0,0,0,0,0,0,0,0,0,0,0,0,0,0,0,0,0,0,0,0,0,0,0,0,0,0,0,0,0,0,0,0,0,0,{"$f":"GS122-GS87-GS94","v":0},0,0,0,0,0,0,0,0,0,0,0,0,0,0,0,0,0,0,0,0,0,0,0,0,0,0,0,0,0,0,0,0,0,0,0,0,0,0,0,0,0,0,0,0,0,0,0,0,0,0,0,0,0,0,0,0,0,0,0,0,0,0,0,{"$f":"JE122-JE87-JE94","v":0},0,0,0,0,0,0,0,0,0,0,0,0,0,0,0,0,0,0,0,0,0,0,0,0,0,0,0,0,0,0,0,0,0,0,0,0,0,0,0,0,0,0,0]
[]
[null,null,"Project IRR Annual (IRR Function)",null,"%",{"$f":"IFERROR(XIRR(I125:KV125,I8:KV8),FALSE)","v":0.21555972695350648}]
[]
[null,null,"Target IRR from InputC",null,"% p.a.",{"$f":"InputC!G72","v":0.09}]
[null,null,"Target IRR Monthly (1+Annual)^(1/12)-1",null,"% p.m.",{"$f":"(1+F129)^(1/12)-1","v":7.2073233161367156E-3}]
[]
[null,null,"NPV at Target IRR using Target Monthly IRR",null,"USD",{"$f":"NPV(F130,I125:KV125)","v":26793396035.687096},"NPV"]
[null,null,"NPV using XNPV",null,"USD",{"$f":"XNPV(F129,I125:KV125,I8:KV8)","v":26970082555.399872}]
[]
[null,null,"Use Goal Seek to set NPV to zero"]
[]
[]
[null,"Tax and Financing"]

{"sheet":"FM Annual","index":8,"n_rows":95,"n_cols":26,"rows_kept":95,"cut":false,"hidden":false,"merged":[]}
["          "]
[]
[null,"Time Periods"]
[null,null,null,null,null,null,{"$f":"_xlfn.SEQUENCE(,20,2026)","v":2026},2027,2028,2029,2030,2031,2032,2033,2034,2035,2036,2037,2038,2039,2040,2041,2042,2043,2044,2045]
[null,null,null,"Investment Period Months",2026,null,{"$f":"G10<=0","v":true},{"$f":"H10<=0","v":true},true,true,true,true,true,true,true,true,true,true,true,true,true,true,true,true,true,true]
[null,null,null,"Operating Period",null,null,{"$f":"NOT(G5)","v":false},{"$f":"NOT(H5)","v":false},false,false,false,false,false,false,false,false,false,false,false,false,false,false,false,false,false,false]
[]
[null,"Cash Flows"]
[null,null,null,"Size in MW","MW",null,{"$f":"_xlfn.XLOOKUP(G4,'FM Monthly'!10:10,'FM Monthly'!14:14,0)","v":0},{"$f":"_xlfn.XLOOKUP(H4,'FM Monthly'!10:10,'FM Monthly'!14:14,0)","v":0},{"$f":"_xlfn.XLOOKUP(I4,'FM Monthly'!10:10,'FM Monthly'!14:14,0)","v":150},{"$f":"_xlfn.XLOOKUP(J4,'FM Monthly'!10:10,'FM Monthly'!14:14,0)","v":150},{"$f":"_xlfn.XLOOKUP(K4,'FM Monthly'!10:10,'FM Monthly'!14:14,0)","v":150},{"$f":"_xlfn.XLOOKUP(L4,'FM Monthly'!10:10,'FM Monthly'!14:14,0)","v":150},{"$f":"_xlfn.XLOOKUP(M4,'FM Monthly'!10:10,'FM Monthly'!14:14,0)","v":150},{"$f":"_xlfn.XLOOKUP(N4,'FM Monthly'!10:10,'FM Monthly'!14:14,0)","v":150},{"$f":"_xlfn.XLOOKUP(O4,'FM Monthly'!10:10,'FM Monthly'!14:14,0)","v":0},{"$f":"_xlfn.XLOOKUP(P4,'FM Monthly'!10:10,'FM Monthly'!14:14,0)","v":0},{"$f":"_xlfn.XLOOKUP(Q4,'FM Monthly'!10:10,'FM Monthly'!14:14,0)","v":0},{"$f":"_xlfn.XLOOKUP(R4,'FM Monthly'!10:10,'FM Monthly'!14:14,0)","v":0},{"$f":"_xlfn.XLOOKUP(S4,'FM Monthly'!10:10,'FM Monthly'!14:14,0)","v":0},{"$f":"_xlfn.XLOOKUP(T4,'FM Monthly'!10:10,'FM Monthly'!14:14,0)","v":0},{"$f":"_xlfn.XLOOKUP(U4,'FM Monthly'!10:10,'FM Monthly'!14:14,0)","v":0},{"$f":"_xlfn.XLOOKUP(V4,'FM Monthly'!10:10,'FM Monthly'!14:14,0)","v":0},{"$f":"_xlfn.XLOOKUP(W4,'FM Monthly'!10:10,'FM Monthly'!14:14,0)","v":0},{"$f":"_xlfn.XLOOKUP(X4,'FM Monthly'!10:10,'FM Monthly'!14:14,0)","v":0},{"$f":"_xlfn.XLOOKUP(Y4,'FM Monthly'!10:10,'FM Monthly'!14:14,0)","v":0},{"$f":"_xlfn.XLOOKUP(Z4,'FM Monthly'!10:10,'FM Monthly'!14:14,0)","v":0}]
[null,null,null,"Electricity Purchased","MWH",null,{"$f":"SUMIF('FM Monthly'!$10:$10,'FM Annual'!G$4,'FM Monthly'!25:25)","v":0},{"$f":"SUMIF('FM Monthly'!$10:$10,'FM Annual'!H$4,'FM Monthly'!25:25)","v":0},{"$f":"SUMIF('FM Monthly'!$10:$10,'FM Annual'!I$4,'FM Monthly'!25:25)","v":0},{"$f":"SUMIF('FM Monthly'!$10:$10,'FM Annual'!J$4,'FM Monthly'!25:25)","v":0},{"$f":"SUMIF('FM Monthly'!$10:$10,'FM Annual'!K$4,'FM Monthly'!25:25)","v":0},{"$f":"SUMIF('FM Monthly'!$10:$10,'FM Annual'!L$4,'FM Monthly'!25:25)","v":0},{"$f":"SUMIF('FM Monthly'!$10:$10,'FM Annual'!M$4,'FM Monthly'!25:25)","v":0},{"$f":"SUMIF('FM Monthly'!$10:$10,'FM Annual'!N$4,'FM Monthly'!25:25)","v":0},{"$f":"SUMIF('FM Monthly'!$10:$10,'FM Annual'!O$4,'FM Monthly'!25:25)","v":0},{"$f":"SUMIF('FM Monthly'!$10:$10,'FM Annual'!P$4,'FM Monthly'!25:25)","v":0},{"$f":"SUMIF('FM Monthly'!$10:$10,'FM Annual'!Q$4,'FM Monthly'!25:25)","v":0},{"$f":"SUMIF('FM Monthly'!$10:$10,'FM Annual'!R$4,'FM Monthly'!25:25)","v":0},{"$f":"SUMIF('FM Monthly'!$10:$10,'FM Annual'!S$4,'FM Monthly'!25:25)","v":0},{"$f":"SUMIF('FM Monthly'!$10:$10,'FM Annual'!T$4,'FM Monthly'!25:25)","v":0},{"$f":"SUMIF('FM Monthly'!$10:$10,'FM Annual'!U$4,'FM Monthly'!25:25)","v":0},{"$f":"SUMIF('FM Monthly'!$10:$10,'FM Annual'!V$4,'FM Monthly'!25:25)","v":0},{"$f":"SUMIF('FM Monthly'!$10:$10,'FM Annual'!W$4,'FM Monthly'!25:25)","v":0},{"$f":"SUMIF('FM Monthly'!$10:$10,'FM Annual'!X$4,'FM Monthly'!25:25)","v":0},{"$f":"SUMIF('FM Monthly'!$10:$10,'FM Annual'!Y$4,'FM Monthly'!25:25)","v":0},{"$f":"SUMIF('FM Monthly'!$10:$10,'FM Annual'!Z$4,'FM Monthly'!25:25)","v":0}]
[null,null,null,"Tokens Produced","MM",null,{"$f":"SUMIF('FM Monthly'!$10:$10,'FM Annual'!G$4,'FM Monthly'!31:31)","v":0},{"$f":"SUMIF('FM Monthly'!$10:$10,'FM Annual'!H$4,'FM Monthly'!31:31)","v":2574000000},{"$f":"SUMIF('FM Monthly'!$10:$10,'FM Annual'!I$4,'FM Monthly'!31:31)","v":7722000000},{"$f":"SUMIF('FM Monthly'!$10:$10,'FM Annual'!J$4,'FM Monthly'!31:31)","v":7722000000},{"$f":"SUMIF('FM Monthly'!$10:$10,'FM Annual'!K$4,'FM Monthly'!31:31)","v":7722000000},{"$f":"SUMIF('FM Monthly'!$10:$10,'FM Annual'!L$4,'FM Monthly'!31:31)","v":7722000000},{"$f":"SUMIF('FM Monthly'!$10:$10,'FM Annual'!M$4,'FM Monthly'!31:31)","v":7722000000},{"$f":"SUMIF('FM Monthly'!$10:$10,'FM Annual'!N$4,'FM Monthly'!31:31)","v":5148000000},{"$f":"SUMIF('FM Monthly'!$10:$10,'FM Annual'!O$4,'FM Monthly'!31:31)","v":0},{"$f":"SUMIF('FM Monthly'!$10:$10,'FM Annual'!P$4,'FM Monthly'!31:31)","v":0},{"$f":"SUMIF('FM Monthly'!$10:$10,'FM Annual'!Q$4,'FM Monthly'!31:31)","v":0},{"$f":"SUMIF('FM Monthly'!$10:$10,'FM Annual'!R$4,'FM Monthly'!31:31)","v":0},{"$f":"SUMIF('FM Monthly'!$10:$10,'FM Annual'!S$4,'FM Monthly'!31:31)","v":0},{"$f":"SUMIF('FM Monthly'!$10:$10,'FM Annual'!T$4,'FM Monthly'!31:31)","v":0},{"$f":"SUMIF('FM Monthly'!$10:$10,'FM Annual'!U$4,'FM Monthly'!31:31)","v":0},{"$f":"SUMIF('FM Monthly'!$10:$10,'FM Annual'!V$4,'FM Monthly'!31:31)","v":0},{"$f":"SUMIF('FM Monthly'!$10:$10,'FM Annual'!W$4,'FM Monthly'!31:31)","v":0},{"$f":"SUMIF('FM Monthly'!$10:$10,'FM Annual'!X$4,'FM Monthly'!31:31)","v":0},{"$f":"SUMIF('FM Monthly'!$10:$10,'FM Annual'!Y$4,'FM Monthly'!31:31)","v":0},{"$f":"SUMIF('FM Monthly'!$10:$10,'FM Annual'!Z$4,'FM Monthly'!31:31)","v":0}]
[]
[null,null,null,"Price in USD/kW","USD/kWmonth"]
[null,null,null,"Price in USD/Token","USD/MM Token",null,null,{"$f":"AVERAGEIF('FM Monthly'!10:10,'FM Annual'!H4,'FM Monthly'!41:41)","v":4.9267794336154243},{"$f":"AVERAGEIF('FM Monthly'!10:10,'FM Annual'!I4,'FM Monthly'!41:41)","v":4.9267794336154243},{"$f":"AVERAGEIF('FM Monthly'!10:10,'FM Annual'!J4,'FM Monthly'!41:41)","v":4.9267794336154243},{"$f":"AVERAGEIF('FM Monthly'!10:10,'FM Annual'!K4,'FM Monthly'!41:41)","v":4.9267794336154243},{"$f":"AVERAGEIF('FM Monthly'!10:10,'FM Annual'!L4,'FM Monthly'!41:41)","v":4.9267794336154243},{"$f":"AVERAGEIF('FM Monthly'!10:10,'FM Annual'!M4,'FM Monthly'!41:41)","v":4.9267794336154243},{"$f":"AVERAGEIF('FM Monthly'!10:10,'FM Annual'!N4,'FM Monthly'!41:41)","v":4.9267794336154243},{"$f":"AVERAGEIF('FM Monthly'!10:10,'FM Annual'!O4,'FM Monthly'!41:41)","v":4.9267794336154243},{"$f":"AVERAGEIF('FM Monthly'!10:10,'FM Annual'!P4,'FM Monthly'!41:41)","v":4.9267794336154243},{"$f":"AVERAGEIF('FM Monthly'!10:10,'FM Annual'!Q4,'FM Monthly'!41:41)","v":4.9267794336154243},{"$f":"AVERAGEIF('FM Monthly'!10:10,'FM Annual'!R4,'FM Monthly'!41:41)","v":4.9267794336154243},{"$f":"AVERAGEIF('FM Monthly'!10:10,'FM Annual'!S4,'FM Monthly'!41:41)","v":4.9267794336154243},{"$f":"AVERAGEIF('FM Monthly'!10:10,'FM Annual'!T4,'FM Monthly'!41:41)","v":4.9267794336154243},{"$f":"AVERAGEIF('FM Monthly'!10:10,'FM Annual'!U4,'FM Monthly'!41:41)","v":4.9267794336154243},{"$f":"AVERAGEIF('FM Monthly'!10:10,'FM Annual'!V4,'FM Monthly'!41:41)","v":4.9267794336154243},{"$f":"AVERAGEIF('FM Monthly'!10:10,'FM Annual'!W4,'FM Monthly'!41:41)","v":4.9267794336154243},{"$f":"AVERAGEIF('FM Monthly'!10:10,'FM Annual'!X4,'FM Monthly'!41:41)","v":4.9267794336154243},{"$f":"AVERAGEIF('FM Monthly'!10:10,'FM Annual'!Y4,'FM Monthly'!41:41)","v":4.9267794336154243},{"$f":"AVERAGEIF('FM Monthly'!10:10,'FM Annual'!Z4,'FM Monthly'!41:41)","v":4.9267794336154243}]
[]
[null,null,null,"Revenues","USD",null,{"$f":"SUMIF('FM Monthly'!$10:$10,'FM Annual'!G$4,'FM Monthly'!44:44)","v":0},{"$f":"SUMIF('FM Monthly'!$10:$10,'FM Annual'!H$4,'FM Monthly'!44:44)","v":12903203653.376328},{"$f":"SUMIF('FM Monthly'!$10:$10,'FM Annual'!I$4,'FM Monthly'!44:44)","v":39224603481.920296},{"$f":"SUMIF('FM Monthly'!$10:$10,'FM Annual'!J$4,'FM Monthly'!44:44)","v":40009095551.558723},{"$f":"SUMIF('FM Monthly'!$10:$10,'FM Annual'!K$4,'FM Monthly'!44:44)","v":40809277462.58992},{"$f":"SUMIF('FM Monthly'!$10:$10,'FM Annual'!L$4,'FM Monthly'!44:44)","v":41625463011.841759},{"$f":"SUMIF('FM Monthly'!$10:$10,'FM Annual'!M$4,'FM Monthly'!44:44)","v":42457972272.078613},{"$f":"SUMIF('FM Monthly'!$10:$10,'FM Annual'!N$4,'FM Monthly'!44:44)","v":28776028674.977783},{"$f":"SUMIF('FM Monthly'!$10:$10,'FM Annual'!O$4,'FM Monthly'!44:44)","v":0},{"$f":"SUMIF('FM Monthly'!$10:$10,'FM Annual'!P$4,'FM Monthly'!44:44)","v":0},{"$f":"SUMIF('FM Monthly'!$10:$10,'FM Annual'!Q$4,'FM Monthly'!44:44)","v":0},{"$f":"SUMIF('FM Monthly'!$10:$10,'FM Annual'!R$4,'FM Monthly'!44:44)","v":0},{"$f":"SUMIF('FM Monthly'!$10:$10,'FM Annual'!S$4,'FM Monthly'!44:44)","v":0},{"$f":"SUMIF('FM Monthly'!$10:$10,'FM Annual'!T$4,'FM Monthly'!44:44)","v":0},{"$f":"SUMIF('FM Monthly'!$10:$10,'FM Annual'!U$4,'FM Monthly'!44:44)","v":0},{"$f":"SUMIF('FM Monthly'!$10:$10,'FM Annual'!V$4,'FM Monthly'!44:44)","v":0},{"$f":"SUMIF('FM Monthly'!$10:$10,'FM Annual'!W$4,'FM Monthly'!44:44)","v":0},{"$f":"SUMIF('FM Monthly'!$10:$10,'FM Annual'!X$4,'FM Monthly'!44:44)","v":0},{"$f":"SUMIF('FM Monthly'!$10:$10,'FM Annual'!Y$4,'FM Monthly'!44:44)","v":0},{"$f":"SUMIF('FM Monthly'!$10:$10,'FM Annual'!Z$4,'FM Monthly'!44:44)","v":0}]
[null,null,null,"Fixed Expenses","USD",null,{"$f":"SUMIF('FM Monthly'!$10:$10,'FM Annual'!G$4,'FM Monthly'!117:117)","v":0},{"$f":"SUMIF('FM Monthly'!$10:$10,'FM Annual'!H$4,'FM Monthly'!117:117)","v":84682157.17044583},{"$f":"SUMIF('FM Monthly'!$10:$10,'FM Annual'!I$4,'FM Monthly'!117:117)","v":255293407.88745591},{"$f":"SUMIF('FM Monthly'!$10:$10,'FM Annual'!J$4,'FM Monthly'!117:117)","v":256520200.49424812},{"$f":"SUMIF('FM Monthly'!$10:$10,'FM Annual'!K$4,'FM Monthly'!117:117)","v":258399185.74068591},{"$f":"SUMIF('FM Monthly'!$10:$10,'FM Annual'!L$4,'FM Monthly'!117:117)","v":260286086.848427},{"$f":"SUMIF('FM Monthly'!$10:$10,'FM Annual'!M$4,'FM Monthly'!117:117)","v":262841869.66220242},{"$f":"SUMIF('FM Monthly'!$10:$10,'FM Annual'!N$4,'FM Monthly'!117:117)","v":175622339.52943948},{"$f":"SUMIF('FM Monthly'!$10:$10,'FM Annual'!O$4,'FM Monthly'!117:117)","v":0},{"$f":"SUMIF('FM Monthly'!$10:$10,'FM Annual'!P$4,'FM Monthly'!117:117)","v":0},{"$f":"SUMIF('FM Monthly'!$10:$10,'FM Annual'!Q$4,'FM Monthly'!117:117)","v":0},{"$f":"SUMIF('FM Monthly'!$10:$10,'FM Annual'!R$4,'FM Monthly'!117:117)","v":0},{"$f":"SUMIF('FM Monthly'!$10:$10,'FM Annual'!S$4,'FM Monthly'!117:117)","v":0},{"$f":"SUMIF('FM Monthly'!$10:$10,'FM Annual'!T$4,'FM Monthly'!117:117)","v":0},{"$f":"SUMIF('FM Monthly'!$10:$10,'FM Annual'!U$4,'FM Monthly'!117:117)","v":0},{"$f":"SUMIF('FM Monthly'!$10:$10,'FM Annual'!V$4,'FM Monthly'!117:117)","v":0},{"$f":"SUMIF('FM Monthly'!$10:$10,'FM Annual'!W$4,'FM Monthly'!117:117)","v":0},{"$f":"SUMIF('FM Monthly'!$10:$10,'FM Annual'!X$4,'FM Monthly'!117:117)","v":0},{"$f":"SUMIF('FM Monthly'!$10:$10,'FM Annual'!Y$4,'FM Monthly'!117:117)","v":0},{"$f":"SUMIF('FM Monthly'!$10:$10,'FM Annual'!Z$4,'FM Monthly'!117:117)","v":0}]
[null,null,null,"Electric Expenses","USD",null,{"$f":"SUMIF('FM Monthly'!$10:$10,'FM Annual'!G$4,'FM Monthly'!110:110)","v":0},{"$f":"SUMIF('FM Monthly'!$10:$10,'FM Annual'!H$4,'FM Monthly'!110:110)","v":78369208.694751084},{"$f":"SUMIF('FM Monthly'!$10:$10,'FM Annual'!I$4,'FM Monthly'!110:110)","v":236101228.29216385},{"$f":"SUMIF('FM Monthly'!$10:$10,'FM Annual'!J$4,'FM Monthly'!110:110)","v":236942990.22301745},{"$f":"SUMIF('FM Monthly'!$10:$10,'FM Annual'!K$4,'FM Monthly'!110:110)","v":238428306.83416024},{"$f":"SUMIF('FM Monthly'!$10:$10,'FM Annual'!L$4,'FM Monthly'!110:110)","v":239913623.44530305},{"$f":"SUMIF('FM Monthly'!$10:$10,'FM Annual'!M$4,'FM Monthly'!110:110)","v":242058772.17904904},{"$f":"SUMIF('FM Monthly'!$10:$10,'FM Annual'!N$4,'FM Monthly'!110:110)","v":161536276.02939507},{"$f":"SUMIF('FM Monthly'!$10:$10,'FM Annual'!O$4,'FM Monthly'!110:110)","v":0},{"$f":"SUMIF('FM Monthly'!$10:$10,'FM Annual'!P$4,'FM Monthly'!110:110)","v":0},{"$f":"SUMIF('FM Monthly'!$10:$10,'FM Annual'!Q$4,'FM Monthly'!110:110)","v":0},{"$f":"SUMIF('FM Monthly'!$10:$10,'FM Annual'!R$4,'FM Monthly'!110:110)","v":0},{"$f":"SUMIF('FM Monthly'!$10:$10,'FM Annual'!S$4,'FM Monthly'!110:110)","v":0},{"$f":"SUMIF('FM Monthly'!$10:$10,'FM Annual'!T$4,'FM Monthly'!110:110)","v":0},{"$f":"SUMIF('FM Monthly'!$10:$10,'FM Annual'!U$4,'FM Monthly'!110:110)","v":0},{"$f":"SUMIF('FM Monthly'!$10:$10,'FM Annual'!V$4,'FM Monthly'!110:110)","v":0},{"$f":"SUMIF('FM Monthly'!$10:$10,'FM Annual'!W$4,'FM Monthly'!110:110)","v":0},{"$f":"SUMIF('FM Monthly'!$10:$10,'FM Annual'!X$4,'FM Monthly'!110:110)","v":0},{"$f":"SUMIF('FM Monthly'!$10:$10,'FM Annual'!Y$4,'FM Monthly'!110:110)","v":0},{"$f":"SUMIF('FM Monthly'!$10:$10,'FM Annual'!Z$4,'FM Monthly'!110:110)","v":0}]
[null,null,null,"EBITDA","USD",null,{"$f":"G16-G17-G18","v":0},{"$f":"H16-H17-H18","v":12740152287.511129},38733208845.740677,39515632360.841461,40312449970.015076,41125263301.548027,41953071630.237366,28438870059.418949,0,0,0,0,0,0,0,0,0,0,0,0]
[]
[null,null,null,"IT Capital Expenditues","USD",null,{"$f":"SUMIF('FM Monthly'!$10:$10,'FM Annual'!G$4,'FM Monthly'!99:99)","v":0},{"$f":"SUMIF('FM Monthly'!$10:$10,'FM Annual'!H$4,'FM Monthly'!99:99)","v":75750000000},{"$f":"SUMIF('FM Monthly'!$10:$10,'FM Annual'!I$4,'FM Monthly'!99:99)","v":0},{"$f":"SUMIF('FM Monthly'!$10:$10,'FM Annual'!J$4,'FM Monthly'!99:99)","v":68385505903.025208},{"$f":"SUMIF('FM Monthly'!$10:$10,'FM Annual'!K$4,'FM Monthly'!99:99)","v":0},{"$f":"SUMIF('FM Monthly'!$10:$10,'FM Annual'!L$4,'FM Monthly'!99:99)","v":67310263015.55497},{"$f":"SUMIF('FM Monthly'!$10:$10,'FM Annual'!M$4,'FM Monthly'!99:99)","v":0},{"$f":"SUMIF('FM Monthly'!$10:$10,'FM Annual'!N$4,'FM Monthly'!99:99)","v":0},{"$f":"SUMIF('FM Monthly'!$10:$10,'FM Annual'!O$4,'FM Monthly'!99:99)","v":0},{"$f":"SUMIF('FM Monthly'!$10:$10,'FM Annual'!P$4,'FM Monthly'!99:99)","v":0},{"$f":"SUMIF('FM Monthly'!$10:$10,'FM Annual'!Q$4,'FM Monthly'!99:99)","v":0},{"$f":"SUMIF('FM Monthly'!$10:$10,'FM Annual'!R$4,'FM Monthly'!99:99)","v":0},{"$f":"SUMIF('FM Monthly'!$10:$10,'FM Annual'!S$4,'FM Monthly'!99:99)","v":0},{"$f":"SUMIF('FM Monthly'!$10:$10,'FM Annual'!T$4,'FM Monthly'!99:99)","v":0},{"$f":"SUMIF('FM Monthly'!$10:$10,'FM Annual'!U$4,'FM Monthly'!99:99)","v":0},{"$f":"SUMIF('FM Monthly'!$10:$10,'FM Annual'!V$4,'FM Monthly'!99:99)","v":0},{"$f":"SUMIF('FM Monthly'!$10:$10,'FM Annual'!W$4,'FM Monthly'!99:99)","v":0},{"$f":"SUMIF('FM Monthly'!$10:$10,'FM Annual'!X$4,'FM Monthly'!99:99)","v":0},{"$f":"SUMIF('FM Monthly'!$10:$10,'FM Annual'!Y$4,'FM Monthly'!99:99)","v":0},{"$f":"SUMIF('FM Monthly'!$10:$10,'FM Annual'!Z$4,'FM Monthly'!99:99)","v":0}]
[]
[null,null,null,null,null,null,{"$f":"IF(G24<>0,G4,NA())","v":{"$error":"#N/A"}},{"$f":"IF(H24<>0,H4,NA())","v":2027},2028,2029,2030,2031,2032,2033,{"$error":"#N/A"},{"$error":"#N/A"},{"$error":"#N/A"},{"$error":"#N/A"},{"$error":"#N/A"},{"$error":"#N/A"},{"$error":"#N/A"},{"$error":"#N/A"},{"$error":"#N/A"},{"$error":"#N/A"},{"$error":"#N/A"},{"$error":"#N/A"}]
[null,null,null,"Free Cash Flow","USD",null,{"$f":"SUMIF('FM Monthly'!$10:$10,'FM Annual'!G$4,'FM Monthly'!125:125)","v":0},{"$f":"SUMIF('FM Monthly'!$10:$10,'FM Annual'!H$4,'FM Monthly'!125:125)","v":-62931478503.794113},{"$f":"SUMIF('FM Monthly'!$10:$10,'FM Annual'!I$4,'FM Monthly'!125:125)","v":38969310074.032837},{"$f":"SUMIF('FM Monthly'!$10:$10,'FM Annual'!J$4,'FM Monthly'!125:125)","v":-14279730551.960735},{"$f":"SUMIF('FM Monthly'!$10:$10,'FM Annual'!K$4,'FM Monthly'!125:125)","v":40550878276.849236},{"$f":"SUMIF('FM Monthly'!$10:$10,'FM Annual'!L$4,'FM Monthly'!125:125)","v":-11591886090.561649},{"$f":"SUMIF('FM Monthly'!$10:$10,'FM Annual'!M$4,'FM Monthly'!125:125)","v":42195130402.416405},{"$f":"SUMIF('FM Monthly'!$10:$10,'FM Annual'!N$4,'FM Monthly'!125:125)","v":28600406335.448345},{"$f":"SUMIF('FM Monthly'!$10:$10,'FM Annual'!O$4,'FM Monthly'!125:125)","v":0},{"$f":"SUMIF('FM Monthly'!$10:$10,'FM Annual'!P$4,'FM Monthly'!125:125)","v":0},{"$f":"SUMIF('FM Monthly'!$10:$10,'FM Annual'!Q$4,'FM Monthly'!125:125)","v":0},{"$f":"SUMIF('FM Monthly'!$10:$10,'FM Annual'!R$4,'FM Monthly'!125:125)","v":0},{"$f":"SUMIF('FM Monthly'!$10:$10,'FM Annual'!S$4,'FM Monthly'!125:125)","v":0},{"$f":"SUMIF('FM Monthly'!$10:$10,'FM Annual'!T$4,'FM Monthly'!125:125)","v":0},{"$f":"SUMIF('FM Monthly'!$10:$10,'FM Annual'!U$4,'FM Monthly'!125:125)","v":0},{"$f":"SUMIF('FM Monthly'!$10:$10,'FM Annual'!V$4,'FM Monthly'!125:125)","v":0},{"$f":"SUMIF('FM Monthly'!$10:$10,'FM Annual'!W$4,'FM Monthly'!125:125)","v":0},{"$f":"SUMIF('FM Monthly'!$10:$10,'FM Annual'!X$4,'FM Monthly'!125:125)","v":0},{"$f":"SUMIF('FM Monthly'!$10:$10,'FM Annual'!Y$4,'FM Monthly'!125:125)","v":0},{"$f":"SUMIF('FM Monthly'!$10:$10,'FM Annual'!Z$4,'FM Monthly'!125:125)","v":0}]
[]
[null,"Depreciation"]
[null,null,null,"Total Capital Expenditures",null,null,null,{"$f":"G27+H21","v":75750000000},{"$f":"H27+I21","v":75750000000},144135505903.02521,144135505903.02521,211445768918.58017,211445768918.58017,211445768918.58017,211445768918.58017,211445768918.58017,211445768918.58017,211445768918.58017,211445768918.58017,211445768918.58017,211445768918.58017,211445768918.58017,211445768918.58017,211445768918.58017,211445768918.58017,211445768918.58017]
[null,null,null,"End of Life",{"$f":"MAX(4:4)-J4","v":16},null,null,{"$f":"H27/$E$28*H6","v":0},{"$f":"I27/$E$28*I6","v":0},0,0,0,0,0,0,0,0,0,0,0,0,0,0,0,0,0]
[null,null,null,"Depreciation Rate",{"$f":"1/E28","v":6.25E-2}]
[null,null,null,"Depreciation Expense"]
[]
[]
[null,"Income Statement"]
[null,null,"Revenues",null,null,null,{"$f":"G16","v":0},{"$f":"H16","v":12903203653.376328},39224603481.920296,40009095551.558723,40809277462.58992,41625463011.841759,42457972272.078613,28776028674.977783,0,0,0,0,0,0,0,0,0,0,0,0]
[null,null,"Less: Operating Cost",null,null,null,{"$f":"G17+G18","v":0},{"$f":"H17+H18","v":163051365.86519691},491394636.17961979,493463190.71726561,496827492.57484615,500199710.29373002,504900641.84125149,337158615.55883455,0,0,0,0,0,0,0,0,0,0,0,0]
[null,null,"EBITDA",null,null,null,{"$f":"G34-G35","v":0},{"$f":"H34-H35","v":12740152287.511131},38733208845.740677,39515632360.841461,40312449970.015076,41125263301.548027,41953071630.237358,28438870059.418949,0,0,0,0,0,0,0,0,0,0,0,0]
[null,null,"Less: Depreciation",null,null,null,{"$f":"G28","v":0},{"$f":"H28","v":0},0,0,0,0,0,0,0,0,0,0,0,0,0,0,0,0,0,0]
[null,null,"EBIT ",null,null,null,{"$f":"G36-G37","v":0},{"$f":"H36-H37","v":12740152287.511131},38733208845.740677,39515632360.841461,40312449970.015076,41125263301.548027,41953071630.237358,28438870059.418949,0,0,0,0,0,0,0,0,0,0,0,0]
[null,null,"Less: Interest",null,null,null,0,0,0,0,0,0,0,0,0,0,0,0,0,0,0,0,0,0,0,0]
[null,null,"EBT",null,null,null,{"$f":"G38-G39","v":0},{"$f":"H38-H39","v":12740152287.511131},38733208845.740677,39515632360.841461,40312449970.015076,41125263301.548027,41953071630.237358,28438870059.418949,0,0,0,0,0,0,0,0,0,0,0,0]
[null,null,"Less: Zakat",null,null,2.5000000000000001E-2,{"$f":"G40*$F$41","v":0},{"$f":"H40*$F$41","v":318503807.18777829},968330221.14351702,987890809.02103662,1007811249.2503769,1028131582.5387007,1048826790.755934,710971751.48547375,0,0,0,0,0,0,0,0,0,0,0,0]
[null,null,"Earnings",null,null,null,{"$f":"G40-G41","v":0},{"$f":"H40-H41","v":12421648480.323353},37764878624.59716,38527741551.820427,39304638720.764702,40097131719.009323,40904244839.481422,27727898307.933475,0,0,0,0,0,0,0,0,0,0,0,0]
[]
[]
[null,"Cash Flow Statement"]
[null,null,"Operating Cash Flow"]
[null,null,null,"EBITDA",null,null,{"$f":"G36","v":0},{"$f":"H36","v":12740152287.511131},38733208845.740677,39515632360.841461,40312449970.015076,41125263301.548027,41953071630.237358,28438870059.418949,0,0,0,0,0,0,0,0,0,0,0,0]
[null,null,null,"Less: Change in WC",null,null,0,0,0,0,0,0,0,0,0,0,0,0,0,0,0,0,0,0,0,0]
[null,null,null,"Less: Taxes",null,null,{"$f":"-G41","v":0},{"$f":"-H41","v":-318503807.18777829},-968330221.14351702,-987890809.02103662,-1007811249.2503769,-1028131582.5387007,-1048826790.755934,-710971751.48547375,0,0,0,0,0,0,0,0,0,0,0,0]
[null,null,null,"Operating Cash Flow",null,null,{"$f":"SUM(G47:G49)","v":0},{"$f":"SUM(H47:H49)","v":12421648480.323353},37764878624.59716,38527741551.820427,39304638720.764702,40097131719.009323,40904244839.481422,27727898307.933475,0,0,0,0,0,0,0,0,0,0,0,0]
[]
[null,null,"Investing Cash Flow"]
[null,null,null,"Cap Exp",null,null,{"$f":"G21","v":0},{"$f":"H21","v":75750000000},0,68385505903.025208,0,67310263015.55497,0,0,0,0,0,0,0,0,0,0,0,0,0,0]
[]
[]
[null,null,"Financing Cash Flow"]
[null,null,null,"Equity Issued Paid in Capital",null,null,{"$f":"G53","v":0},{"$f":"H53","v":75750000000},0,68385505903.025208,0,67310263015.55497,0,0,0,0,0,0,0,0,0,0,0,0,0,0]
[null,null,null,"Debt Issued",null,null,0,0,0,0,0,0,0,0,0,0,0,0,0,0,0,0,0,0,0,0]
[null,null,null,"Less: Debt Service",null,null,0,0,0,0,0,0,0,0,0,0,0,0,0,0,0,0,0,0,0,0]
[null,null,null,"Less: Dividends",null,null,{"$f":"G19-G41","v":0},{"$f":"H19-H41","v":12421648480.323351},37764878624.59716,38527741551.820427,39304638720.764702,40097131719.009323,40904244839.48143,27727898307.933475,0,0,0,0,0,0,0,0,0,0,0,0]
[null,null,null,"Financing Cash Flow",null,null,{"$f":"G57+G58-G59-G60","v":0},{"$f":"H57+H58-H59-H60","v":63328351519.676651},-37764878624.59716,29857764351.204781,-39304638720.764702,27213131296.545647,-40904244839.48143,-27727898307.933475,0,0,0,0,0,0,0,0,0,0,0,0]
[]
[null,null,null,null,null,null,{"$f":"G50-G53+G61","v":0},{"$f":"H50-H53+H61","v":0},0,0,0,0,0,0,0,0,0,0,0,0,0,0,0,0,0,0]
[]
[null,"Balance Sheet"]
[null,null,"Assets"]
[null,null,null,"Gross PP&E",null,null,{"$f":"F67+G53","v":0},{"$f":"G67+H53","v":75750000000},75750000000,144135505903.02521,144135505903.02521,211445768918.58017,211445768918.58017,211445768918.58017,211445768918.58017,211445768918.58017,211445768918.58017,211445768918.58017,211445768918.58017,211445768918.58017,211445768918.58017,211445768918.58017,211445768918.58017,211445768918.58017,211445768918.58017,211445768918.58017]
[null,null,null,"Less: Accumulated Depreciation",null,null,{"$f":"F68+G37","v":0},{"$f":"G68+H37","v":0},0,0,0,0,0,0,0,0,0,0,0,0,0,0,0,0,0,0]
[null,null,null,"Net Plant",null,null,{"$f":"G67-G68","v":0},{"$f":"H67-H68","v":75750000000},75750000000,144135505903.02521,144135505903.02521,211445768918.58017,211445768918.58017,211445768918.58017,211445768918.58017,211445768918.58017,211445768918.58017,211445768918.58017,211445768918.58017,211445768918.58017,211445768918.58017,211445768918.58017,211445768918.58017,211445768918.58017,211445768918.58017,211445768918.58017]
[]
[null,null,null,"Other Assets",null,null,0,0,0,0,0,0,0,0,0,0,0,0,0,0,0,0,0,0,0,0]
[null,null,null,"Cash",null,null,0,0,0,0,0,0,0,0,0,0,0,0,0,0,0,0,0,0,0,0]
[]
[null,null,null,"Total Assets",null,null,{"$f":"G69+G71+G72","v":0},{"$f":"H69+H71+H72","v":75750000000},75750000000,144135505903.02521,144135505903.02521,211445768918.58017,211445768918.58017,211445768918.58017,211445768918.58017,211445768918.58017,211445768918.58017,211445768918.58017,211445768918.58017,211445768918.58017,211445768918.58017,211445768918.58017,211445768918.58017,211445768918.58017,211445768918.58017,211445768918.58017]
[]
[null,null,"Liabilities and Capital"]
[null,null,null,"Debt",null,null,0,0,0,0,0,0,0,0,0,0,0,0,0,0,0,0,0,0,0,0]
[]
[null,null,null,"Equity"]
[null,null,null,"Opening Balance",null,null,{"$f":"F84","v":0},{"$f":"G84","v":0},75750000000,75750000000,144135505903.02521,144135505903.02521,211445768918.58017,211445768918.58014,211445768918.58014,211445768918.58014,211445768918.58014,211445768918.58014,211445768918.58014,211445768918.58014,211445768918.58014,211445768918.58014,211445768918.58014,211445768918.58014,211445768918.58014,211445768918.58014]
[null,null,null,"Add: Income",null,null,{"$f":"G42","v":0},{"$f":"H42","v":12421648480.323353},37764878624.59716,38527741551.820427,39304638720.764702,40097131719.009323,40904244839.481422,27727898307.933475,0,0,0,0,0,0,0,0,0,0,0,0]
[null,null,null,"Less: Dividends",null,null,{"$f":"-G60","v":0},{"$f":"-H60","v":-12421648480.323351},-37764878624.59716,-38527741551.820427,-39304638720.764702,-40097131719.009323,-40904244839.48143,-27727898307.933475,0,0,0,0,0,0,0,0,0,0,0,0]
[null,null,null,"Add: Equity Investment",null,null,{"$f":"G57","v":0},{"$f":"H57","v":75750000000},0,68385505903.025208,0,67310263015.55497,0,0,0,0,0,0,0,0,0,0,0,0,0,0]
[null,null,null,"Closing Balance",null,null,{"$f":"SUM(G80:G83)","v":0},{"$f":"SUM(H80:H83)","v":75750000000},75750000000,144135505903.02521,144135505903.02521,211445768918.58017,211445768918.58014,211445768918.58014,211445768918.58014,211445768918.58014,211445768918.58014,211445768918.58014,211445768918.58014,211445768918.58014,211445768918.58014,211445768918.58014,211445768918.58014,211445768918.58014,211445768918.58014,211445768918.58014]
[]
[null,null,null,"Total Liabilities and Capital",null,null,{"$f":"G84+G77","v":0},{"$f":"H84+H77","v":75750000000},75750000000,144135505903.02521,144135505903.02521,211445768918.58017,211445768918.58014,211445768918.58014,211445768918.58014,211445768918.58014,211445768918.58014,211445768918.58014,211445768918.58014,211445768918.58014,211445768918.58014,211445768918.58014,211445768918.58014,211445768918.58014,211445768918.58014,211445768918.58014]
[]
[null,null,null,"Assets Minus Liab",null,null,{"$f":"G86-G74","v":0},{"$f":"H86-H74","v":0},0,0,0,0,0,0,0,0,0,0,0,0,0,0,0,0,0,0]
[null,null,null,"Test",{"$f":"AND(G89:Z89)","v":true},null,{"$f":"ROUND(G88,0)=0","v":true},{"$f":"ROUND(H88,0)=0","v":true},true,true,true,true,true,true,true,true,true,true,true,true,true,true,true,true,true,true]
[]
[]
[]
[null,"Classic Statistics and Valuation"]
[null,null,null,"ROIC",null,null,{"$f":"IF(G86>0.1,G38/G86)","v":false},{"$f":"IF(H86>0.1,H38/H86)","v":0.16818682887803474},0.51132948971274816,0.2741561290763963,0.27968438253609357,0.19449556031260112,0.19841055153197185,0.13449722926529542,0,0,0,0,0,0,0,0,0,0,0,0]
[null,null,null,"ROE",null,null,{"$f":"IF(G84,G42/G84)","v":false},{"$f":"IF(H84,H42/H84)","v":0.16398215815608386},0.49854625246992951,0.26730222584948643,0.27269227297269127,0.18963317130478607,0.19345028774367257,0.13113479853366303,0,0,0,0,0,0,0,0,0,0,0,0]

{"sheet":"Data Center Details -->","index":9,"n_rows":1,"n_cols":1,"rows_kept":1,"cut":false,"hidden":false,"merged":[]}
["          "]

{"sheet":"General","index":10,"n_rows":82,"n_cols":29,"rows_kept":82,"cut":false,"hidden":false,"merged":[]}
["          "]
[]
[]
[]
[null,null,null,null,null,null,null,null,null,null,null,null,null,null,null,null,null,null,null,null,"Legacy Data Centers - High Cost",null,null,null,null,null,null,null,"Legacy Data Centers - High Cost"]
[null,null,null,null,null,null,null,null,null,null,null,null,null,null,null,null,null,null,null,null,"Legacy Data Centers - Low Cost",null,null,null,null,null,null,null,"Legacy Data Centers - Low Cost"]
[null,null,null,null,null,null,null,null,null,null,null,null,null,null,null,null,null,null,null,null,"Legacy Data Centers - Computer Room Air Conditioning",null,null,null,null,null,null,null,"Legacy Data Centers - Computer Room Air Conditioning"]
[null,null,null,null,null,null,null,null,null,null,null,null,null,null,null,null,null,null,null,null,"Legacy Data Centers - Hot/Cold Aisle Containment",null,null,null,null,null,null,null,"Legacy Data Centers - Hot/Cold Aisle Containment"]
[null,null,null,null,null,null,null,null,null,null,null,null,null,null,null,null,null,null,null,null,"Legacy Data Centers - Chilled Water Central Loops",null,null,null,null,null,null,null,"Legacy Data Centers - Chilled Water Central Loops"]
[null,null,null,null,null,null,null,null,null,null,null,null,null,null,null,null,null,null,null,null,null,null,null,null,null,null,null,null,"Early AI Date Centers - High Cost"]
[null,null,null,null,null,null,null,null,null,null,null,null,null,null,null,null,null,null,null,null,"Early AI Date Centers - High Cost",null,null,null,null,null,null,null,"Early AI Date Centers - Low Cost"]
[null,null,null,null,null,null,null,null,null,null,null,null,null,null,null,null,null,null,null,null,"Early AI Date Centers - Low Cost",null,null,null,null,null,null,null,"Early AI Date Centers - Single Phase Direct to Liquid Cooling"]
[null,null,null,null,null,null,null,null,null,null,null,null,null,null,null,null,null,null,null,null,"Early AI Date Centers - Single Phase Direct to Liquid Cooling",null,null,null,null,null,null,null,"Early AI Date Centers - Coolant Distribution Units"]
[null,null,null,null,null,null,null,null,null,null,null,null,null,null,null,null,null,null,null,null,"Early AI Date Centers - Coolant Distribution Units",null,null,null,null,null,null,null,"Early AI Date Centers - Hybrid Air-Liquid Infrastructure"]
[null,null,null,null,null,null,null,null,null,null,null,null,null,null,null,null,null,null,null,null,"Early AI Date Centers - Hybrid Air-Liquid Infrastructure",null,null,null,null,null,null,null,"Modern AI Factories - High Cost"]
[null,null,null,null,null,null,null,null,null,null,null,null,null,null,null,null,null,null,null,null,null,null,null,null,null,null,null,null,"Modern AI Factories - Low Cost"]
[null,null,null,null,null,null,null,null,null,null,null,null,null,null,null,null,null,null,null,null,null,null,null,null,null,null,null,null,"Modern AI Factories - Single Phase Direct-to-Chip Liquid Cooling"]
[null,null,null,null,null,null,null,null,null,null,null,null,null,null,null,null,null,null,null,null,null,null,null,null,null,null,null,null,"Modern AI Factories - Coolant Distribution Units (CDUs)"]
[null,null,null,null,null,null,null,null,null,null,null,null,null,null,null,null,null,null,null,null,null,null,null,null,null,null,null,null,"Modern AI Factories - Hybrid Air-Liquid Infrastructure"]
[null,null,null,null,null,null,null,null,null,null,null,null,null,null,null,null,null,null,null,null,"Modern AI Factories - High Cost",null,null,null,null,null,null,null,"Next-Gen Superclusters - High Cost"]
[null,null,null,null,null,null,null,null,null,null,null,null,null,null,null,null,null,null,null,null,"Modern AI Factories - Low Cost",null,null,null,null,null,null,null,"Next-Gen Superclusters - Low Cost"]
[null,null,null,null,null,null,null,null,null,null,null,null,null,null,null,null,null,null,null,null,"Modern AI Factories - Single Phase Direct-to-Chip Liquid Cooling",null,null,null,null,null,null,null,"Next-Gen Superclusters - Chiller-Less Dry Cooling"]
[null,null,null,null,null,null,null,null,null,null,null,null,null,null,null,null,null,null,null,null,"Modern AI Factories - Coolant Distribution Units (CDUs)",null,null,null,null,null,null,null,"Next-Gen Superclusters - High -Impedance Dielectric Coolants"]
[null,null,null,null,null,null,null,null,null,null,null,null,null,null,null,null,null,null,null,null,"Modern AI Factories - Hybrid Air-Liquid Infrastructure",null,null,null,null,null,null,null,"Next-Gen Superclusters - AI-Driven Grid Balance Cooling"]
[null,null,null,null,null,null,null,null,null,null,null,null,null,null,null,null,null,null,null,null,null,null,null,null,null,null,null,null,"Specialized Inference Farms - High Cost"]
[null,null,null,null,null,null,null,null,null,null,null,null,null,null,null,null,null,null,null,null,null,null,null,null,null,null,null,null,"Specialized Inference Farms - Low Cost"]
[null,null,null,null,null,null,null,null,null,null,null,null,null,null,null,null,null,null,null,null,null,null,null,null,null,null,null,null,"Specialized Inference Farms - Chassis-Level Immersion Cooling"]
[null,null,null,null,null,null,null,null,null,null,null,null,null,null,null,null,null,null,null,null,null,null,null,null,null,null,null,null,"Specialized Inference Farms - Open-Tank-Phase Immersion"]
[null,null,null,null,null,null,null,null,null,null,null,null,null,null,null,null,null,null,null,null,null,null,null,null,null,null,null,null,"Specialized Inference Farms - Liquid-to-Air (L2A) Sidecars"]
[null,null,null,null,null,null,null,null,null,null,null,null,null,null,null,null,null,null,null,null,null,null,null,null,null,null,null,null,"NVIDIA Hopper (H200) - High Cost"]
[null,null,null,null,null,null,null,null,null,null,null,null,null,null,null,null,null,null,null,null,"Next-Gen Superclusters - High Cost",null,null,null,null,null,null,null,"NVIDIA Hopper (H200) - Low Cost"]
[null,null,null,null,null,null,null,null,null,null,null,null,null,null,null,null,null,null,null,null,"Next-Gen Superclusters - Low Cost",null,null,null,null,null,null,null,"NVIDIA Hopper (H200) - Hyrid Air"]
[null,null,null,null,null,null,null,null,null,null,null,null,null,null,null,null,null,null,null,null,"Next-Gen Superclusters - Chiller-Less Dry Cooling",null,null,null,null,null,null,null,"NVIDIA Hopper (H200) - Fluid-Assisted"]
[null,null,null,null,null,null,null,null,null,null,null,null,null,null,null,null,null,null,null,null,"Next-Gen Superclusters - High -Impedance Dielectric Coolants",null,null,null,null,null,null,null,"NVIDIA Hopper (H200) - Single Phase Direct-to-Chip Liquid Cooling"]
[null,null,null,null,null,null,null,null,null,null,null,null,null,null,null,null,null,null,null,null,"Next-Gen Superclusters - AI-Driven Grid Balance Cooling",null,null,null,null,null,null,null,"NVIDIA Hopper (H200) - Double Phase Direct-to-Chip Liquid Cooling"]
[null,null,null,null,null,null,null,null,null,null,null,null,null,null,null,null,null,null,null,null,null,null,null,null,null,null,null,null,"NVIDIA Blackwell (GB300 / B300) - High  Cost"]
[null,null,null,null,null,null,null,null,null,null,null,null,null,null,null,null,null,null,null,null,null,null,null,null,null,null,null,null,"NVIDIA Blackwell (GB300 / B300) - Low Cost"]
[null,null,null,null,null,null,null,null,null,null,null,null,null,null,null,null,null,null,null,null,null,null,null,null,null,null,null,null,"NVIDIA Blackwell (GB300 / B300) - 90% Direct-to-Chip Liquid"]
[null,null,null,null,null,null,null,null,null,null,null,null,null,null,null,null,null,null,null,null,null,null,null,null,null,null,null,null,"NVIDIA Blackwell (GB300 / B300) - Single Phase Direct-to-Chip Liquid Cooling"]
[null,null,null,null,null,null,null,null,null,null,null,null,null,null,null,null,null,null,null,null,null,null,null,null,null,null,null,null,"NVIDIA Blackwell (GB300 / B300) - Double Phase Direct-to-Chip Liquid Cooling"]
[]
[]
[null,null,null,null,null,null,null,null,null,null,null,null,null,null,null,null,null,null,null,null,"Specialized Inference Farms - High Cost"]
[null,null,null,null,null,null,null,null,null,null,null,null,null,null,null,null,null,null,null,null,"Specialized Inference Farms - Low Cost"]
[null,null,null,null,null,null,null,null,null,null,null,null,null,null,null,null,null,null,null,null,"Specialized Inference Farms - Chassis-Level Immersion Cooling"]
[null,null,null,null,null,null,null,null,null,null,null,null,null,null,null,null,null,null,null,null,"Specialized Inference Farms - Open-Tank-Phase Immersion"]
[null,null,null,null,null,null,null,null,null,null,null,null,null,null,null,null,null,null,null,null,"Specialized Inference Farms - Liquid-to-Air (L2A) Sidecars"]
[]
[]
[]
[]
[]
[]
[null,null,null,null,null,null,null,null,null,null,null,null,null,null,null,null,null,null,null,null,"NVIDIA Hopper (H200) - High Cost"]
[null,null,null,null,null,null,null,null,null,null,null,null,null,null,null,null,null,null,null,null,"NVIDIA Hopper (H200) - Low Cost"]
[null,null,null,null,null,null,null,null,null,null,null,null,null,null,null,null,null,null,null,null,"NVIDIA Hopper (H200) - Hyrid Air"]
[null,null,null,null,null,null,null,null,null,null,null,null,null,null,null,null,null,null,null,null,"NVIDIA Hopper (H200) - Fluid-Assisted"]
[null,null,null,null,null,null,null,null,null,null,null,null,null,null,null,null,null,null,null,null,"NVIDIA Hopper (H200) - Single Phase Direct-to-Chip Liquid Cooling"]
[null,null,null,null,null,null,null,null,null,null,null,null,null,null,null,null,null,null,null,null,"NVIDIA Hopper (H200) - Double Phase Direct-to-Chip Liquid Cooling"]
[]
[null,null,null,null,null,null,null,null,null,null,null,null,null,null,null,null,null,null,null,null,"NVIDIA Blackwell (GB300 / B300) - High  Cost"]
[null,null,null,null,null,null,null,null,null,null,null,null,null,null,null,null,null,null,null,null,"NVIDIA Blackwell (GB300 / B300) - Low Cost"]
[null,null,null,null,null,null,null,null,null,null,null,null,null,null,null,null,null,null,null,null,"NVIDIA Blackwell (GB300 / B300) - 90% Direct-to-Chip Liquid"]
[null,null,null,null,null,null,null,null,null,null,null,null,null,null,null,null,null,null,null,null,"NVIDIA Blackwell (GB300 / B300) - Single Phase Direct-to-Chip Liquid Cooling"]
[null,null,null,null,null,null,null,null,null,null,null,null,null,null,null,null,null,null,null,null,"NVIDIA Blackwell (GB300 / B300) - Double Phase Direct-to-Chip Liquid Cooling"]
[]
[]
[]
[null,null,null,null,null,null,null,null,null,null,null,null,null,null,null,null,null,null,null,null,"NVIDIA Vera Rubin NVL72 - High Cost",null,null,null,null,null,null,null,"NVIDIA Vera Rubin NVL72 - High Cost"]
[null,null,null,null,null,null,null,null,null,null,null,null,null,null,null,null,null,null,null,null,"NVIDIA Vera Rubin NVL72 - Low Cost",null,null,null,null,null,null,null,"NVIDIA Vera Rubin NVL72 - Low Cost"]
[null,null,null,null,null,null,null,null,null,null,null,null,null,null,null,null,null,null,null,null,"NVIDIA Vera Rubin NVL72 - 45 C Warm-Water Closed-Loop Liquid",null,null,null,null,null,null,null,"NVIDIA Vera Rubin NVL72 - 45 C Warm-Water Closed-Loop Liquid"]
[null,null,null,null,null,null,null,null,null,null,null,null,null,null,null,null,null,null,null,null,"NVIDIA Vera Rubin NVL72 - Single Phase Direct-to-Chip Liquid Cooling",null,null,null,null,null,null,null,"NVIDIA Vera Rubin NVL72 - Single Phase Direct-to-Chip Liquid Cooling"]
[null,null,null,null,null,null,null,null,null,null,null,null,null,null,null,null,null,null,null,null,"NVIDIA Vera Rubin NVL72 - Double Phase Direct-to-Chip Liquid Cooling",null,null,null,null,null,null,null,"NVIDIA Vera Rubin NVL72 - Double Phase Direct-to-Chip Liquid Cooling"]
[]
[]
[]
[]
[]
[]
[]
[]
[null,null,null,null,null,null,null,null,null,null,null,null,null,null,null,null,null,null,null,null,"NVIDIA Vera Rubin NVL72"]

{"sheet":"Facility Life and Construction","index":11,"n_rows":98,"n_cols":67,"rows_kept":98,"cut":false,"hidden":false,"merged":[]}
["Return",null,null,null,null,null,null,null,null,null,null,null,null,null,null,null,null,null,null,null,null,null,null,null,null,null,null,null,null,null,null,null,null,null,null,null,null,"Data to Model"]
[null,null,null,null,null,null,null,null,null,"Months",null,null,null,null,null,null,null,null,null,null,null,null,null,null,null,null,"Years",null,null,null,null,null,null,null,null,null,null,null,null,null,null,null,null,"Const","Life"]
[null,null,null,null,null,null,null,null,null,null,null,null,null,null,null,null,null,null,null,null,null,null,null,null,null,null,null,null,null,null,null,null,null,null,null,null,null,null,null,null,null,null,null,"Months","Years",null,null,null,null,null,null,null,null,null,null,null,null,null,null,null,null,"Waddah",10]
[null,null,null,null,"Legacy Data Centers - High Cost",null,null,null,null,24,null,null,null,null,null,null,null,null,null,null,null,"Legacy Data Centers - High Cost",null,null,null,null,25,null,null,null,null,null,null,null,null,null,null,"Legacy Data Centers - High Cost",null,null,null,null,null,{"$f":"_xlfn.XLOOKUP(AL4,$E:$E,$J:$J,0,0,-1)","v":24},{"$f":"_xlfn.XLOOKUP(AL4,$V:$V,$AA:$AA,0,0,-1)","v":25},null,null,null,null,null,null,null,null,null,null,null,null,null,null,null,null,"Sumayyah",100]
[null,null,null,null,"Legacy Data Centers - Low Cost",null,null,null,null,14,null,null,null,null,null,null,null,null,null,null,null,"Legacy Data Centers - Low Cost",null,null,null,null,15,null,null,null,null,null,null,null,null,null,null,"Legacy Data Centers - Low Cost",null,null,null,null,null,{"$f":"_xlfn.XLOOKUP(AL5,$E:$E,$J:$J,0,0,-1)","v":14},{"$f":"_xlfn.XLOOKUP(AL5,$V:$V,$AA:$AA,0,0,-1)","v":15},null,null,null,null,null,null,null,null,null,null,null,null,null,null,null,null,null,{"$f":"Waddah*Sumayyah","v":1000}]
[null,null,null,null,"Legacy Data Centers - Computer Room Air Conditioning",null,null,null,null,15,null,null,null,null,null,null,null,null,null,null,null,"Legacy Data Centers - Computer Room Air Conditioning",null,null,null,null,20,null,null,null,null,null,null,null,null,null,null,"Legacy Data Centers - Computer Room Air Conditioning",null,null,null,null,null,15,20,null,null,null,null,null,null,null,null,null,null,null,null,null,null,null,null,null,null,null,null,"IT Years","IT Months"]
[null,null,null,null,"Legacy Data Centers - Hot/Cold Aisle Containment",null,null,null,null,16,null,null,null,null,null,null,null,null,null,null,null,"Legacy Data Centers - Hot/Cold Aisle Containment",null,null,null,null,18,null,null,null,null,null,null,null,null,null,null,"Legacy Data Centers - Hot/Cold Aisle Containment",null,null,null,null,null,16,18]
[null,null,null,null,"Legacy Data Centers - Chilled Water Central Loops",null,null,null,null,22,null,null,null,null,null,null,null,null,null,null,null,"Legacy Data Centers - Chilled Water Central Loops",null,null,null,null,25,null,null,null,null,null,null,null,null,null,null,"Legacy Data Centers - Chilled Water Central Loops",null,null,null,null,null,22,25,null,null,null,null,null,null,null,null,null,null,null,null,null,null,null,"Legacy Data Centers High Cost",null,null,null,15,5,{"$f":"BN8*12","v":60}]
[null,null,null,null,null,null,null,null,null,null,null,null,null,null,null,null,null,null,null,null,null,null,null,null,null,null,null,null,null,null,null,null,null,null,null,null,null,"Early AI Date Centers - High Cost",null,null,null,null,null,20,15,null,null,null,null,null,null,null,null,null,null,null,null,null,null,null,"Legacy Data Centers Low Cost",null,null,null,20,7,{"$f":"BN9*12","v":84}]
[null,null,null,null,null,null,null,null,null,null,null,null,null,null,null,null,null,null,null,null,null,null,null,null,null,null,null,null,null,null,null,null,null,null,null,null,null,"Early AI Date Centers - Low Cost",null,null,null,null,null,12,10,null,null,null,null,null,null,null,null,null,null,null,null,null,null,null,"Early AI Data Centers High Cost",null,null,null,5,3,36]
[null,null,null,null,null,null,null,null,null,null,null,null,null,null,null,null,null,null,null,null,null,null,null,null,null,null,null,null,null,null,null,null,null,null,null,null,null,"Early AI Date Centers - Single Phase Direct to Liquid Cooling",null,null,null,null,null,16,14,null,null,null,null,null,null,null,null,null,null,null,null,null,null,null,"Early AI Data Centers Low Cost",null,null,null,7,4,48]
[null,null,null,null,null,null,null,null,null,null,null,null,null,null,null,null,null,null,null,null,null,null,null,null,null,null,null,null,null,null,null,null,null,null,null,null,null,"Early AI Date Centers - Coolant Distribution Units",null,null,null,null,null,15,12,null,null,null,null,null,null,null,null,null,null,null,null,null,null,null,"Modern AI Factories High Cost",null,null,null,10,2,24]
[null,null,null,null,null,null,null,null,null,null,null,null,null,null,null,null,null,null,null,null,null,null,null,null,null,null,null,null,null,null,null,null,null,null,null,null,null,"Early AI Date Centers - Hybrid Air-Liquid Infrastructure",null,null,null,null,null,18,15,null,null,null,null,null,null,null,null,null,null,null,null,null,null,null,"Modern AI Factories Low Cost",null,null,null,12,3,36]
[null,null,null,null,null,null,null,null,null,null,null,null,null,null,null,null,null,null,null,null,null,null,null,null,null,null,null,null,null,null,null,null,null,null,null,null,null,"Modern AI Factories - High Cost",null,null,null,null,null,18,20,null,null,null,null,null,null,null,null,null,null,null,null,null,null,null,"Next-Gen Superclusters High Cost",null,null,null,12,{"$f":"BO14/12","v":1.5},18]
[null,null,null,null,null,null,null,null,null,null,null,null,null,null,null,null,null,null,null,null,null,null,null,null,null,null,null,null,null,null,null,null,null,null,null,null,null,"Modern AI Factories - Low Cost",null,null,null,null,null,14,12,null,null,null,null,null,null,null,null,null,null,null,null,null,null,null,"Next-Gen Superclusters Low Cost",null,null,null,15,{"$f":"BO15/12","v":2},24]
[null,null,null,null,"Early AI Date Centers - High Cost",null,null,null,null,20,null,null,null,null,null,null,null,null,null,null,null,"Early AI Date Centers - High Cost",null,null,null,null,15,null,null,null,null,null,null,null,null,null,null,"Modern AI Factories - Single Phase Direct-to-Chip Liquid Cooling",null,null,null,null,null,15,15,null,null,null,null,null,null,null,null,null,null,null,null,null,null,null,"Specialized Inference Farms Low",null,null,null,8,4,{"$f":"BN16*12","v":48}]
[null,null,null,null,"Early AI Date Centers - Low Cost",null,null,null,null,12,null,null,null,null,null,null,null,null,null,null,null,"Early AI Date Centers - Low Cost",null,null,null,null,10,null,null,null,null,null,null,null,null,null,null,"Modern AI Factories - Coolant Distribution Units (CDUs)",null,null,null,null,null,14,12,null,null,null,null,null,null,null,null,null,null,null,null,null,null,null,"Specialized Inference Farms High",null,null,null,10,5,60]
[null,null,null,null,"Early AI Date Centers - Single Phase Direct to Liquid Cooling",null,null,null,null,16,null,null,null,null,null,null,null,null,null,null,null,"Early AI Date Centers - Single Phase Direct to Liquid Cooling",null,null,null,null,14,null,null,null,null,null,null,null,null,null,null,"Modern AI Factories - Hybrid Air-Liquid Infrastructure",null,null,null,null,null,16,15,null,null,null,null,null,null,null,null,null,null,null,null,null,null,null,"NVIDIA Hopper H200 Low",null,null,null,20,2,24]
[null,null,null,null,"Early AI Date Centers - Coolant Distribution Units",null,null,null,null,15,null,null,null,null,null,null,null,null,null,null,null,"Early AI Date Centers - Coolant Distribution Units",null,null,null,null,12,null,null,null,null,null,null,null,null,null,null,"Next-Gen Superclusters - High Cost",null,null,null,null,null,36,30,null,null,null,null,null,null,null,null,null,null,null,null,null,null,null,"NVIDIA Hopper H200 High",null,null,null,25,3,36]
[null,null,null,null,"Early AI Date Centers - Hybrid Air-Liquid Infrastructure",null,null,null,null,18,null,null,null,null,null,null,null,null,null,null,null,"Early AI Date Centers - Hybrid Air-Liquid Infrastructure",null,null,null,null,15,null,null,null,null,null,null,null,null,null,null,"Next-Gen Superclusters - Low Cost",null,null,null,null,null,18,14,null,null,null,null,null,null,null,null,null,null,null,null,null,null,null,"NVIDIA Blackwell GB300 low",null,null,null,6,1.5,18]
[null,null,null,null,null,null,null,null,null,null,null,null,null,null,null,null,null,null,null,null,null,null,null,null,null,null,null,null,null,null,null,null,null,null,null,null,null,"Next-Gen Superclusters - Chiller-Less Dry Cooling",null,null,null,null,null,20,20,null,null,null,null,null,null,null,null,null,null,null,null,null,null,null,"NVIDIA Blackwell GB300 High",null,null,null,8,2.5,30]
[null,null,null,null,null,null,null,null,null,null,null,null,null,null,null,null,null,null,null,null,null,null,null,null,null,null,null,null,null,null,null,null,null,null,null,null,null,"Next-Gen Superclusters - High -Impedance Dielectric Coolants",null,null,null,null,null,22,16]
[null,null,null,null,null,null,null,null,null,null,null,null,null,null,null,null,null,null,null,null,null,null,null,null,null,null,null,null,null,null,null,null,null,null,null,null,null,"Next-Gen Superclusters - AI-Driven Grid Balance Cooling",null,null,null,null,null,26,25]
[null,null,null,null,null,null,null,null,null,null,null,null,null,null,null,null,null,null,null,null,null,null,null,null,null,null,null,null,null,null,null,null,null,null,null,null,null,"Specialized Inference Farms - High Cost",null,null,null,null,null,15,20]
[null,null,null,null,null,null,null,null,null,null,null,null,null,null,null,null,null,null,null,null,null,null,null,null,null,null,null,null,null,null,null,null,null,null,null,null,null,"Specialized Inference Farms - Low Cost",null,null,null,null,null,9,12]
[null,null,null,null,null,null,null,null,null,null,null,null,null,null,null,null,null,null,null,null,null,null,null,null,null,null,null,null,null,null,null,null,null,null,null,null,null,"Specialized Inference Farms - Chassis-Level Immersion Cooling",null,null,null,null,null,12,14]
[null,null,null,null,null,null,null,null,null,null,null,null,null,null,null,null,null,null,null,null,null,null,null,null,null,null,null,null,null,null,null,null,null,null,null,null,null,"Specialized Inference Farms - Open-Tank-Phase Immersion",null,null,null,null,null,14,16]
[null,null,null,null,"Modern AI Factories - High Cost",null,null,null,null,18,null,null,null,null,null,null,null,null,null,null,null,"Modern AI Factories - High Cost",null,null,null,null,20,null,null,null,null,null,null,null,null,null,null,"Specialized Inference Farms - Liquid-to-Air (L2A) Sidecars",null,null,null,null,null,8,9]
[null,null,null,null,"Modern AI Factories - Low Cost",null,null,null,null,14,null,null,null,null,null,null,null,null,null,null,null,"Modern AI Factories - Low Cost",null,null,null,null,12,null,null,null,null,null,null,null,null,null,null,"NVIDIA Hopper (H200) - High Cost",null,null,null,null,null,7,7]
[null,null,null,null,"Modern AI Factories - Single Phase Direct-to-Chip Liquid Cooling",null,null,null,null,15,null,null,null,null,null,null,null,null,null,null,null,"Modern AI Factories - Single Phase Direct-to-Chip Liquid Cooling",null,null,null,null,15,null,null,null,null,null,null,null,null,null,null,"NVIDIA Hopper (H200) - Low Cost",null,null,null,null,null,3,5]
[null,null,null,null,"Modern AI Factories - Coolant Distribution Units (CDUs)",null,null,null,null,14,null,null,null,null,null,null,null,null,null,null,null,"Modern AI Factories - Coolant Distribution Units (CDUs)",null,null,null,null,12,null,null,null,null,null,null,null,null,null,null,"NVIDIA Hopper (H200) - Hyrid Air",null,null,null,null,null,3,6]
[null,null,null,null,"Modern AI Factories - Hybrid Air-Liquid Infrastructure",null,null,null,null,16,null,null,null,null,null,null,null,null,null,null,null,"Modern AI Factories - Hybrid Air-Liquid Infrastructure",null,null,null,null,15,null,null,null,null,null,null,null,null,null,null,"NVIDIA Hopper (H200) - Fluid-Assisted",null,null,null,null,null,4,5]
[null,null,null,null,null,null,null,null,null,null,null,null,null,null,null,null,null,null,null,null,null,null,null,null,null,null,null,null,null,null,null,null,null,null,null,null,null,"NVIDIA Hopper (H200) - Single Phase Direct-to-Chip Liquid Cooling",null,null,null,null,null,5,6]
[null,null,null,null,null,null,null,null,null,null,null,null,null,null,null,null,null,null,null,null,null,null,null,null,null,null,null,null,null,null,null,null,null,null,null,null,null,"NVIDIA Hopper (H200) - Double Phase Direct-to-Chip Liquid Cooling",null,null,null,null,null,6,5]
[null,null,null,null,null,null,null,null,null,null,null,null,null,null,null,null,null,null,null,null,null,null,null,null,null,null,null,null,null,null,null,null,null,null,null,null,null,"NVIDIA Blackwell (GB300 / B300) - High  Cost",null,null,null,null,null,8,8]
[null,null,null,null,null,null,null,null,null,null,null,null,null,null,null,null,null,null,null,null,null,null,null,null,null,null,null,null,null,null,null,null,null,null,null,null,null,"NVIDIA Blackwell (GB300 / B300) - Low Cost",null,null,null,null,null,4,5]
[null,null,null,null,null,null,null,null,null,null,null,null,null,null,null,null,null,null,null,null,null,null,null,null,null,null,null,null,null,null,null,null,null,null,null,null,null,"NVIDIA Blackwell (GB300 / B300) - 90% Direct-to-Chip Liquid",null,null,null,null,null,6,7]
[null,null,null,null,null,null,null,null,null,null,null,null,null,null,null,null,null,null,null,null,null,null,null,null,null,null,null,null,null,null,null,null,null,null,null,null,null,"NVIDIA Blackwell (GB300 / B300) - Single Phase Direct-to-Chip Liquid Cooling",null,null,null,null,null,5,6]
[null,null,null,null,null,null,null,null,null,null,null,null,null,null,null,null,null,null,null,null,null,null,null,null,null,null,null,null,null,null,null,null,null,null,null,null,null,"NVIDIA Blackwell (GB300 / B300) - Double Phase Direct-to-Chip Liquid Cooling",null,null,null,null,null,7,6]
[null,null,null,null,"Next-Gen Superclusters - High Cost",null,null,null,null,36,null,null,null,null,null,null,null,null,null,null,null,"Next-Gen Superclusters - High Cost",null,null,null,null,30,null,null,null,null,null,null,null,null,null,null,"NVIDIA Vera Rubin NVL72 - High Cost",null,null,null,null,null,9,6]
[null,null,null,null,"Next-Gen Superclusters - Low Cost",null,null,null,null,18,null,null,null,null,null,null,null,null,null,null,null,"Next-Gen Superclusters - Low Cost",null,null,null,null,14,null,null,null,null,null,null,null,null,null,null,"NVIDIA Vera Rubin NVL72 - Low Cost",null,null,null,null,null,5,8]
[null,null,null,null,"Next-Gen Superclusters - Chiller-Less Dry Cooling",null,null,null,null,20,null,null,null,null,null,null,null,null,null,null,null,"Next-Gen Superclusters - Chiller-Less Dry Cooling",null,null,null,null,20,null,null,null,null,null,null,null,null,null,null,"NVIDIA Vera Rubin NVL72 - 45 C Warm-Water Closed-Loop Liquid",null,null,null,null,null,6,7]
[null,null,null,null,"Next-Gen Superclusters - High -Impedance Dielectric Coolants",null,null,null,null,22,null,null,null,null,null,null,null,null,null,null,null,"Next-Gen Superclusters - High -Impedance Dielectric Coolants",null,null,null,null,16,null,null,null,null,null,null,null,null,null,null,"NVIDIA Vera Rubin NVL72 - Single Phase Direct-to-Chip Liquid Cooling",null,null,null,null,null,6,6]
[null,null,null,null,"Next-Gen Superclusters - AI-Driven Grid Balance Cooling",null,null,null,null,26,null,null,null,null,null,null,null,null,null,null,null,"Next-Gen Superclusters - AI-Driven Grid Balance Cooling",null,null,null,null,25,null,null,null,null,null,null,null,null,null,null,"NVIDIA Vera Rubin NVL72 - Double Phase Direct-to-Chip Liquid Cooling",null,null,null,null,null,8,6]
[]
[]
[]
[]
[]
[]
[]
[null,null,null,null,"Specialized Inference Farms - High Cost",null,null,null,null,15,null,null,null,null,null,null,null,null,null,null,null,"Specialized Inference Farms - High Cost",null,null,null,null,20]
[null,null,null,null,"Specialized Inference Farms - Low Cost",null,null,null,null,9,null,null,null,null,null,null,null,null,null,null,null,"Specialized Inference Farms - Low Cost",null,null,null,null,12]
[null,null,null,null,"Specialized Inference Farms - Chassis-Level Immersion Cooling",null,null,null,null,12,null,null,null,null,null,null,null,null,null,null,null,"Specialized Inference Farms - Chassis-Level Immersion Cooling",null,null,null,null,14]
[null,null,null,null,"Specialized Inference Farms - Open-Tank-Phase Immersion",null,null,null,null,14,null,null,null,null,null,null,null,null,null,null,null,"Specialized Inference Farms - Open-Tank-Phase Immersion",null,null,null,null,16]
[null,null,null,null,"Specialized Inference Farms - Liquid-to-Air (L2A) Sidecars",null,null,null,null,8,null,null,null,null,null,null,null,null,null,null,null,"Specialized Inference Farms - Liquid-to-Air (L2A) Sidecars",null,null,null,null,9]
[]
[]
[]
[]
[]
[]
[]
[null,null,null,null,"NVIDIA Hopper (H200) - High Cost",null,null,null,null,7,null,null,null,null,null,null,null,null,null,null,null,"NVIDIA Hopper (H200) - High Cost",null,null,null,null,7]
[null,null,null,null,"NVIDIA Hopper (H200) - Low Cost",null,null,null,null,3,null,null,null,null,null,null,null,null,null,null,null,"NVIDIA Hopper (H200) - Low Cost",null,null,null,null,5]
[null,null,null,null,"NVIDIA Hopper (H200) - Hyrid Air",null,null,null,null,3,null,null,null,null,null,null,null,null,null,null,null,"NVIDIA Hopper (H200) - Hyrid Air",null,null,null,null,6]
[null,null,null,null,"NVIDIA Hopper (H200) - Fluid-Assisted",null,null,null,null,4,null,null,null,null,null,null,null,null,null,null,null,"NVIDIA Hopper (H200) - Fluid-Assisted",null,null,null,null,5]
[null,null,null,null,"NVIDIA Hopper (H200) - Single Phase Direct-to-Chip Liquid Cooling",null,null,null,null,5,null,null,null,null,null,null,null,null,null,null,null,"NVIDIA Hopper (H200) - Single Phase Direct-to-Chip Liquid Cooling",null,null,null,null,6]
[null,null,null,null,"NVIDIA Hopper (H200) - Double Phase Direct-to-Chip Liquid Cooling",null,null,null,null,6,null,null,null,null,null,null,null,null,null,null,null,"NVIDIA Hopper (H200) - Double Phase Direct-to-Chip Liquid Cooling",null,null,null,null,5]
[]
[]
[]
[]
[]
[]
[]
[]
[]
[]
[null,null,null,null,"NVIDIA Blackwell (GB300 / B300) - High  Cost",null,null,null,null,8,null,null,null,null,null,null,null,null,null,null,null,"NVIDIA Blackwell (GB300 / B300) - High  Cost",null,null,null,null,8]
[null,null,null,null,"NVIDIA Blackwell (GB300 / B300) - Low Cost",null,null,null,null,4,null,null,null,null,null,null,null,null,null,null,null,"NVIDIA Blackwell (GB300 / B300) - Low Cost",null,null,null,null,5]
[null,null,null,null,"NVIDIA Blackwell (GB300 / B300) - 90% Direct-to-Chip Liquid",null,null,null,null,6,null,null,null,null,null,null,null,null,null,null,null,"NVIDIA Blackwell (GB300 / B300) - 90% Direct-to-Chip Liquid",null,null,null,null,7]
[null,null,null,null,"NVIDIA Blackwell (GB300 / B300) - Single Phase Direct-to-Chip Liquid Cooling",null,null,null,null,5,null,null,null,null,null,null,null,null,null,null,null,"NVIDIA Blackwell (GB300 / B300) - Single Phase Direct-to-Chip Liquid Cooling",null,null,null,null,6]
[null,null,null,null,"NVIDIA Blackwell (GB300 / B300) - Double Phase Direct-to-Chip Liquid Cooling",null,null,null,null,7,null,null,null,null,null,null,null,null,null,null,null,"NVIDIA Blackwell (GB300 / B300) - Double Phase Direct-to-Chip Liquid Cooling",null,null,null,null,6]
[]
[]
[]
[]
[]
[]
[]
[]
[null,null,null,null,null,null,null,null,null,null,null,null,null,null,null,null,null,null,null,null,null,null,null,null,null,null,9]
[null,null,null,null,"NVIDIA Vera Rubin NVL72 - High Cost",null,null,null,null,9,null,null,null,null,null,null,null,null,null,null,null,"NVIDIA Vera Rubin NVL72 - High Cost",null,null,null,null,6]
[null,null,null,null,"NVIDIA Vera Rubin NVL72 - Low Cost",null,null,null,null,5,null,null,null,null,null,null,null,null,null,null,null,"NVIDIA Vera Rubin NVL72 - Low Cost",null,null,null,null,8]
[null,null,null,null,"NVIDIA Vera Rubin NVL72 - 45 C Warm-Water Closed-Loop Liquid",null,null,null,null,6,null,null,null,null,null,null,null,null,null,null,null,"NVIDIA Vera Rubin NVL72 - 45 C Warm-Water Closed-Loop Liquid",null,null,null,null,7]
[null,null,null,null,"NVIDIA Vera Rubin NVL72 - Single Phase Direct-to-Chip Liquid Cooling",null,null,null,null,6,null,null,null,null,null,null,null,null,null,null,null,"NVIDIA Vera Rubin NVL72 - Single Phase Direct-to-Chip Liquid Cooling",null,null,null,null,6]
[null,null,null,null,"NVIDIA Vera Rubin NVL72 - Double Phase Direct-to-Chip Liquid Cooling",null,null,null,null,8,null,null,null,null,null,null,null,null,null,null,null,"NVIDIA Vera Rubin NVL72 - Double Phase Direct-to-Chip Liquid Cooling",null,null,null,null,6]

{"sheet":"Data Center Size","index":12,"n_rows":100,"n_cols":63,"rows_kept":100,"cut":false,"hidden":false,"merged":[]}
["Return",null,null,null,"Size in MW",null,null,null,null,null,null,null,null,null,null,null,null,null,null,null,null,null,"Size in Square Feet",null,null,null,null,null,null,"Racks"]
[]
[null,null,null,null,null,null,null,null,null,null,null,null,null,null,null,null,null,null,null,null,null,null,null,null,null,null,null,null,null,null,null,null,null,null,null,null,null,null,null,null,null,null,null,null,"MW","Sq Foot","Racks"]
[null,null,null,null,null,null,null,null,null,null,null,null,null,null,null,null,null,null,null,null,null,null,null,null,null,null,null,null,null,null,null,null,null,null,null,null,null,null,null,"Legacy Data Centers - High Cost",null,null,null,null,{"$f":"_xlfn.XLOOKUP($AN4,$N$6:$N$100,$T$6:$T$100,0,0,1)","v":40},{"$f":"_xlfn.XLOOKUP($AN4,$N$6:$N$100,$AC$6:$AC$100)","v":400},{"$f":"_xlfn.XLOOKUP($AN4,$N$6:$N$100,$AD$6:$AD$100)","v":8000}]
[null,null,null,null,null,null,null,null,null,null,null,null,null,null,null,null,null,null,null,"MW",null,null,null,null,null,null,null,null,null,null,null,null,null,null,null,null,null,null,null,"Legacy Data Centers - Low Cost",null,null,null,null,{"$f":"_xlfn.XLOOKUP($AN5,$N$6:$N$100,$T$6:$T$100,0,0,1)","v":10},{"$f":"_xlfn.XLOOKUP($AN5,$N$6:$N$100,$AC$6:$AC$100)","v":100},{"$f":"_xlfn.XLOOKUP($AN5,$N$6:$N$100,$AD$6:$AD$100)","v":2000}]
[null,null,null,null,null,null,null,null,null,null,null,null,null,"Legacy Data Centers - High Cost",null,null,null,null,null,40,null,null,"Legacy Data Centers - High Cost",null,null,null,null,null,400,8000,null,null,null,null,null,null,null,null,null,"Legacy Data Centers - Computer Room Air Conditioning",null,null,null,null,5,40,1000]
[null,null,null,null,null,null,null,null,null,null,null,null,null,"Legacy Data Centers - Low Cost",null,null,null,null,null,10,null,null,"Legacy Data Centers - Low Cost",null,null,null,null,null,100,2000,null,null,null,null,null,null,null,null,null,"Legacy Data Centers - Hot/Cold Aisle Containment",null,null,null,null,20,20,3000]
[null,null,null,null,null,null,null,null,null,null,null,null,null,"Legacy Data Centers - Computer Room Air Conditioning",null,null,null,null,null,5,null,null,"Legacy Data Centers - Computer Room Air Conditioning",null,null,null,null,null,40,1000,null,null,null,null,null,null,null,null,null,"Legacy Data Centers - Chilled Water Central Loops",null,null,null,null,50,450,9000,null,null,null,null,null,null,null,null,null,null,null,"Legacy Data Centers High Cost",null,null,null,5]
[null,null,null,null,null,null,null,null,null,null,null,null,null,"Legacy Data Centers - Hot/Cold Aisle Containment",null,null,null,null,null,20,null,null,"Legacy Data Centers - Hot/Cold Aisle Containment",null,null,null,null,null,20,3000,null,null,null,null,null,null,null,null,null,"Early AI Date Centers - High Cost",null,null,null,null,80,200,3000,null,null,null,null,null,null,null,null,null,null,null,"Legacy Data Centers Low Cost",null,null,null,20]
[null,null,null,null,null,null,null,null,null,null,null,null,null,"Legacy Data Centers - Chilled Water Central Loops",null,null,null,null,null,50,null,null,"Legacy Data Centers - Chilled Water Central Loops",null,null,null,null,null,450,9000,null,null,null,null,null,null,null,null,null,"Early AI Date Centers - Low Cost",null,null,null,null,25,76,1000,null,null,null,null,null,null,null,null,null,null,null,"Early AI Data Centers High Cost",null,null,null,20]
[null,null,null,null,null,null,null,null,null,null,null,null,null,null,null,null,null,null,null,null,null,null,null,null,null,null,null,null,null,null,null,null,null,null,null,null,null,null,null,"Early AI Date Centers - Single Phase Direct to Liquid Cooling",null,null,null,null,40,100,1200,null,null,null,null,null,null,null,null,null,null,null,"Early AI Data Centers Low Cost",null,null,null,50]
[null,null,null,null,null,null,null,null,null,null,null,null,null,null,null,null,null,null,null,null,null,null,null,null,null,null,null,null,null,null,null,null,null,null,null,null,null,null,null,"Early AI Date Centers - Coolant Distribution Units",null,null,null,null,50,120,1500,null,null,null,null,null,null,null,null,null,null,null,"Modern AI Factories High Cost",null,null,null,100]
[null,null,null,null,null,null,null,null,null,null,null,null,null,null,null,null,null,null,null,null,null,null,null,null,null,null,null,null,null,null,null,null,null,null,null,null,null,null,null,"Early AI Date Centers - Hybrid Air-Liquid Infrastructure",null,null,null,null,60,160,2000,null,null,null,null,null,null,null,null,null,null,null,"Modern AI Factories Low Cost",null,null,null,300]
[null,null,null,null,null,null,null,null,null,null,null,null,null,null,null,null,null,null,null,null,null,null,null,null,null,null,null,null,null,null,null,null,null,null,null,null,null,null,null,"Modern AI Factories - High Cost",null,null,null,null,300,600,6000,null,null,null,null,null,null,null,null,null,null,null,"Next-Gen Superclusters High Cost",null,null,null,500]
[null,null,null,null,null,null,null,null,null,null,null,null,null,null,null,null,null,null,null,null,null,null,null,null,null,null,null,null,null,null,null,null,null,null,null,null,null,null,null,"Modern AI Factories - Low Cost",null,null,null,null,70,180,1800,null,null,null,null,null,null,null,null,null,null,null,"Next-Gen Superclusters Low Cost",null,null,null,1000]
[null,null,null,null,null,null,null,null,null,null,null,null,null,null,null,null,null,null,null,null,null,null,null,null,null,null,null,null,null,null,null,null,null,null,null,null,null,null,null,"Modern AI Factories - Single Phase Direct-to-Chip Liquid Cooling",null,null,null,null,150,250,3500,null,null,null,null,null,null,null,null,null,null,null,"Specialized Inference Farms High",null,null,null,50]
[null,null,null,null,null,null,null,null,null,null,null,null,null,null,null,null,null,null,null,null,null,null,null,null,null,null,null,null,null,null,null,null,null,null,null,null,null,null,null,"Modern AI Factories - Coolant Distribution Units (CDUs)",null,null,null,null,200,350,4500,null,null,null,null,null,null,null,null,null,null,null,"Specialized Inference Farms Low",null,null,null,150]
[null,null,null,null,null,null,null,null,null,null,null,null,null,"Early AI Date Centers - High Cost",null,null,null,null,null,80,null,null,"Early AI Date Centers - High Cost",null,null,null,null,null,200,3000,null,null,null,null,null,null,null,null,null,"Modern AI Factories - Hybrid Air-Liquid Infrastructure",null,null,null,null,120,220,3000,null,null,null,null,null,null,null,null,null,null,null,"NVIDIA Hopper H200 High",null,null,null,40]
[null,null,null,null,null,null,null,null,null,null,null,null,null,"Early AI Date Centers - Low Cost",null,null,null,null,null,25,null,null,"Early AI Date Centers - Low Cost",null,null,null,null,null,76,1000,null,null,null,null,null,null,null,null,null,"Next-Gen Superclusters - High Cost",null,null,null,null,1000,2500,10000,null,null,null,null,null,null,null,null,null,null,null,"NVIDIA Hopper H200 Low",null,null,null,100]
[null,null,null,null,null,null,null,null,null,null,null,null,null,"Early AI Date Centers - Single Phase Direct to Liquid Cooling",null,null,null,null,null,40,null,null,"Early AI Date Centers - Single Phase Direct to Liquid Cooling",null,null,null,null,null,100,1200,null,null,null,null,null,null,null,null,null,"Next-Gen Superclusters - Low Cost",null,null,null,null,300,700,3000,null,null,null,null,null,null,null,null,null,null,null,"NVIDIA Blackwell GB300 High",null,null,null,150]
[null,null,null,null,null,null,null,null,null,null,null,null,null,"Early AI Date Centers - Coolant Distribution Units",null,null,null,null,null,50,null,null,"Early AI Date Centers - Coolant Distribution Units",null,null,null,null,null,120,1500,null,null,null,null,null,null,null,null,null,"Next-Gen Superclusters - Chiller-Less Dry Cooling",null,null,null,null,500,900,5000,null,null,null,null,null,null,null,null,null,null,null,"NVIDIA Blackwell GB300 Low",null,null,null,400]
[null,null,null,null,null,null,null,null,null,null,null,null,null,"Early AI Date Centers - Hybrid Air-Liquid Infrastructure",null,null,null,null,null,60,null,null,"Early AI Date Centers - Hybrid Air-Liquid Infrastructure",null,null,null,null,null,160,2000,null,null,null,null,null,null,null,null,null,"Next-Gen Superclusters - High -Impedance Dielectric Coolants",null,null,null,null,300,400,3000]
[null,null,null,null,null,null,null,null,null,null,null,null,null,null,null,null,null,null,null,null,null,null,null,null,null,null,null,null,null,null,null,null,null,null,null,null,null,null,null,"Next-Gen Superclusters - AI-Driven Grid Balance Cooling",null,null,null,null,1000,2000,10000]
[null,null,null,null,null,null,null,null,null,null,null,null,null,null,null,null,null,null,null,null,null,null,null,null,null,null,null,null,null,null,null,null,null,null,null,null,null,null,null,"Specialized Inference Farms - High Cost",null,null,null,null,50,90,2500]
[null,null,null,null,null,null,null,null,null,null,null,null,null,null,null,null,null,null,null,null,null,null,null,null,null,null,null,null,null,null,null,null,null,null,null,null,null,null,null,"Specialized Inference Farms - Low Cost",null,null,null,null,15,35,750]
[null,null,null,null,null,null,null,null,null,null,null,null,null,null,null,null,null,null,null,null,null,null,null,null,null,null,null,null,null,null,null,null,null,null,null,null,null,null,null,"Specialized Inference Farms - Chassis-Level Immersion Cooling",null,null,null,null,30,45,900]
[null,null,null,null,null,null,null,null,null,null,null,null,null,null,null,null,null,null,null,null,null,null,null,null,null,null,null,null,null,null,null,null,null,null,null,null,null,null,null,"Specialized Inference Farms - Open-Tank-Phase Immersion",null,null,null,null,40,60,1000]
[null,null,null,null,null,null,null,null,null,null,null,null,null,null,null,null,null,null,null,null,null,null,null,null,null,null,null,null,null,null,null,null,null,null,null,null,null,null,null,"Specialized Inference Farms - Liquid-to-Air (L2A) Sidecars",null,null,null,null,8,25,200]
[null,null,null,null,null,null,null,null,null,null,null,null,null,null,null,null,null,null,null,null,null,null,null,null,null,null,null,null,null,null,null,null,null,null,null,null,null,null,null,"NVIDIA Hopper (H200) - High Cost",null,null,null,null,50,80,1200]
[null,null,null,null,null,null,null,null,null,null,null,null,null,"Modern AI Factories - High Cost",null,null,null,null,null,300,null,null,"Modern AI Factories - High Cost",null,null,null,null,null,600,6000,null,null,null,null,null,null,null,null,null,"NVIDIA Hopper (H200) - Low Cost",null,null,null,null,10,25,250]
[null,null,null,null,null,null,null,null,null,null,null,null,null,"Modern AI Factories - Low Cost",null,null,null,null,null,70,null,null,"Modern AI Factories - Low Cost",null,null,null,null,null,180,1800,null,null,null,null,null,null,null,null,null,"NVIDIA Hopper (H200) - Hyrid Air",null,null,null,null,6,20,150]
[null,null,null,null,null,null,null,null,null,null,null,null,null,"Modern AI Factories - Single Phase Direct-to-Chip Liquid Cooling",null,null,null,null,null,150,null,null,"Modern AI Factories - Single Phase Direct-to-Chip Liquid Cooling",null,null,null,null,null,250,3500,null,null,null,null,null,null,null,null,null,"NVIDIA Hopper (H200) - Fluid-Assisted",null,null,null,null,15,30,350]
[null,null,null,null,null,null,null,null,null,null,null,null,null,"Modern AI Factories - Coolant Distribution Units (CDUs)",null,null,null,null,null,200,null,null,"Modern AI Factories - Coolant Distribution Units (CDUs)",null,null,null,null,null,350,4500,null,null,null,null,null,null,null,null,null,"NVIDIA Hopper (H200) - Single Phase Direct-to-Chip Liquid Cooling",null,null,null,null,40,60,800]
[null,null,null,null,null,null,null,null,null,null,null,null,null,"Modern AI Factories - Hybrid Air-Liquid Infrastructure",null,null,null,null,null,120,null,null,"Modern AI Factories - Hybrid Air-Liquid Infrastructure",null,null,null,null,null,220,3000,null,null,null,null,null,null,null,null,null,"NVIDIA Hopper (H200) - Double Phase Direct-to-Chip Liquid Cooling",null,null,null,null,50,70,900]
[null,null,null,null,null,null,null,null,null,null,null,null,null,null,null,null,null,null,null,null,null,null,null,null,null,null,null,null,null,null,null,null,null,null,null,null,null,null,null,"NVIDIA Blackwell (GB300 / B300) - High  Cost",null,null,null,null,120,100,900]
[null,null,null,null,null,null,null,null,null,null,null,null,null,null,null,null,null,null,null,null,null,null,null,null,null,null,null,null,null,null,null,null,null,null,null,null,null,null,null,"NVIDIA Blackwell (GB300 / B300) - Low Cost",null,null,null,null,30,30,230]
[null,null,null,null,null,null,null,null,null,null,null,null,null,null,null,null,null,null,null,null,null,null,null,null,null,null,null,null,null,null,null,null,null,null,null,null,null,null,null,"NVIDIA Blackwell (GB300 / B300) - 90% Direct-to-Chip Liquid",null,null,null,null,100,80,750]
[null,null,null,null,null,null,null,null,null,null,null,null,null,null,null,null,null,null,null,null,null,null,null,null,null,null,null,null,null,null,null,null,null,null,null,null,null,null,null,"NVIDIA Blackwell (GB300 / B300) - Single Phase Direct-to-Chip Liquid Cooling",null,null,null,null,80,65,600]
[null,null,null,null,null,null,null,null,null,null,null,null,null,null,null,null,null,null,null,null,null,null,null,null,null,null,null,null,null,null,null,null,null,null,null,null,null,null,null,"NVIDIA Blackwell (GB300 / B300) - Double Phase Direct-to-Chip Liquid Cooling",null,null,null,null,120,95,900]
[null,null,null,null,null,null,null,null,null,null,null,null,null,null,null,null,null,null,null,null,null,null,null,null,null,null,null,null,null,null,null,null,null,null,null,null,null,null,null,"NVIDIA Vera Rubin NVL72 - High Cost",null,null,null,null,300,140,1000]
[null,null,null,null,null,null,null,null,null,null,null,null,null,null,null,null,null,null,null,null,null,null,null,null,null,null,null,null,null,null,null,null,null,null,null,null,null,null,null,"NVIDIA Vera Rubin NVL72 - Low Cost",null,null,null,null,45,35,180]
[null,null,null,null,null,null,null,null,null,null,null,null,null,"Next-Gen Superclusters - High Cost",null,null,null,null,null,1000,null,null,"Next-Gen Superclusters - High Cost",null,null,null,null,null,2500,10000,null,null,null,null,null,null,null,null,null,"NVIDIA Vera Rubin NVL72 - 45 C Warm-Water Closed-Loop Liquid",null,null,null,null,120,50,480]
[null,null,null,null,null,null,null,null,null,null,null,null,null,"Next-Gen Superclusters - Low Cost",null,null,null,null,null,300,null,null,"Next-Gen Superclusters - Low Cost",null,null,null,null,null,700,3000,null,null,null,null,null,null,null,null,null,"NVIDIA Vera Rubin NVL72 - Single Phase Direct-to-Chip Liquid Cooling",null,null,null,null,90,60,360]
[null,null,null,null,null,null,null,null,null,null,null,null,null,"Next-Gen Superclusters - Chiller-Less Dry Cooling",null,null,null,null,null,500,null,null,"Next-Gen Superclusters - Chiller-Less Dry Cooling",null,null,null,null,null,900,5000,null,null,null,null,null,null,null,null,null,"NVIDIA Vera Rubin NVL72 - Double Phase Direct-to-Chip Liquid Cooling",null,null,null,null,150,85,600]
[null,null,null,null,null,null,null,null,null,null,null,null,null,"Next-Gen Superclusters - High -Impedance Dielectric Coolants",null,null,null,null,null,300,null,null,"Next-Gen Superclusters - High -Impedance Dielectric Coolants",null,null,null,null,null,400,3000]
[null,null,null,null,null,null,null,null,null,null,null,null,null,"Next-Gen Superclusters - AI-Driven Grid Balance Cooling",null,null,null,null,null,1000,null,null,"Next-Gen Superclusters - AI-Driven Grid Balance Cooling",null,null,null,null,null,2000,10000]
[]
[]
[]
[]
[]
[]
[]
[null,null,null,null,null,null,null,null,null,null,null,null,null,"Specialized Inference Farms - High Cost",null,null,null,null,null,50,null,null,"Specialized Inference Farms - High Cost",null,null,null,null,null,90,2500]
[null,null,null,null,null,null,null,null,null,null,null,null,null,"Specialized Inference Farms - Low Cost",null,null,null,null,null,15,null,null,"Specialized Inference Farms - Low Cost",null,null,null,null,null,35,750]
[null,null,null,null,null,null,null,null,null,null,null,null,null,"Specialized Inference Farms - Chassis-Level Immersion Cooling",null,null,null,null,null,30,null,null,"Specialized Inference Farms - Chassis-Level Immersion Cooling",null,null,null,null,null,45,900]
[null,null,null,null,null,null,null,null,null,null,null,null,null,"Specialized Inference Farms - Open-Tank-Phase Immersion",null,null,null,null,null,40,null,null,"Specialized Inference Farms - Open-Tank-Phase Immersion",null,null,null,null,null,60,1000]
[null,null,null,null,null,null,null,null,null,null,null,null,null,"Specialized Inference Farms - Liquid-to-Air (L2A) Sidecars",null,null,null,null,null,8,null,null,"Specialized Inference Farms - Liquid-to-Air (L2A) Sidecars",null,null,null,null,null,25,200]
[]
[]
[]
[]
[]
[]
[]
[null,null,null,null,null,null,null,null,null,null,null,null,null,"NVIDIA Hopper (H200) - High Cost",null,null,null,null,null,50,null,null,"NVIDIA Hopper (H200) - High Cost",null,null,null,null,null,80,1200]
[null,null,null,null,null,null,null,null,null,null,null,null,null,"NVIDIA Hopper (H200) - Low Cost",null,null,null,null,null,10,null,null,"NVIDIA Hopper (H200) - Low Cost",null,null,null,null,null,25,250]
[null,null,null,null,null,null,null,null,null,null,null,null,null,"NVIDIA Hopper (H200) - Hyrid Air",null,null,null,null,null,6,null,null,"NVIDIA Hopper (H200) - Hyrid Air",null,null,null,null,null,20,150]
[null,null,null,null,null,null,null,null,null,null,null,null,null,"NVIDIA Hopper (H200) - Fluid-Assisted",null,null,null,null,null,15,null,null,"NVIDIA Hopper (H200) - Fluid-Assisted",null,null,null,null,null,30,350]
[null,null,null,null,null,null,null,null,null,null,null,null,null,"NVIDIA Hopper (H200) - Single Phase Direct-to-Chip Liquid Cooling",null,null,null,null,null,40,null,null,"NVIDIA Hopper (H200) - Single Phase Direct-to-Chip Liquid Cooling",null,null,null,null,null,60,800]
[null,null,null,null,null,null,null,null,null,null,null,null,null,"NVIDIA Hopper (H200) - Double Phase Direct-to-Chip Liquid Cooling",null,null,null,null,null,50,null,null,"NVIDIA Hopper (H200) - Double Phase Direct-to-Chip Liquid Cooling",null,null,null,null,null,70,900]
[]
[]
[]
[]
[]
[]
[]
[]
[]
[]
[null,null,null,null,null,null,null,null,null,null,null,null,null,"NVIDIA Blackwell (GB300 / B300) - High  Cost",null,null,null,null,null,120,null,null,"NVIDIA Blackwell (GB300 / B300) - High  Cost",null,null,null,null,null,100,900]
[null,null,null,null,null,null,null,null,null,null,null,null,null,"NVIDIA Blackwell (GB300 / B300) - Low Cost",null,null,null,null,null,30,null,null,"NVIDIA Blackwell (GB300 / B300) - Low Cost",null,null,null,null,null,30,230]
[null,null,null,null,null,null,null,null,null,null,null,null,null,"NVIDIA Blackwell (GB300 / B300) - 90% Direct-to-Chip Liquid",null,null,null,null,null,100,null,null,"NVIDIA Blackwell (GB300 / B300) - 90% Direct-to-Chip Liquid",null,null,null,null,null,80,750]
[null,null,null,null,null,null,null,null,null,null,null,null,null,"NVIDIA Blackwell (GB300 / B300) - Single Phase Direct-to-Chip Liquid Cooling",null,null,null,null,null,80,null,null,"NVIDIA Blackwell (GB300 / B300) - Single Phase Direct-to-Chip Liquid Cooling",null,null,null,null,null,65,600]
[null,null,null,null,null,null,null,null,null,null,null,null,null,"NVIDIA Blackwell (GB300 / B300) - Double Phase Direct-to-Chip Liquid Cooling",null,null,null,null,null,120,null,null,"NVIDIA Blackwell (GB300 / B300) - Double Phase Direct-to-Chip Liquid Cooling",null,null,null,null,null,95,900]
[]
[]
[]
[]
[]
[]
[]
[]
[]
[null,null,null,null,null,null,null,null,null,null,null,null,null,"NVIDIA Vera Rubin NVL72 - High Cost",null,null,null,null,null,300,null,null,"NVIDIA Vera Rubin NVL72 - High Cost",null,null,null,null,null,140,1000]
[null,null,null,null,null,null,null,null,null,null,null,null,null,"NVIDIA Vera Rubin NVL72 - Low Cost",null,null,null,null,null,45,null,null,"NVIDIA Vera Rubin NVL72 - Low Cost",null,null,null,null,null,35,180]
[null,null,null,null,null,null,null,null,null,null,null,null,null,"NVIDIA Vera Rubin NVL72 - 45 C Warm-Water Closed-Loop Liquid",null,null,null,null,null,120,null,null,"NVIDIA Vera Rubin NVL72 - 45 C Warm-Water Closed-Loop Liquid",null,null,null,null,null,50,480]
[null,null,null,null,null,null,null,null,null,null,null,null,null,"NVIDIA Vera Rubin NVL72 - Single Phase Direct-to-Chip Liquid Cooling",null,null,null,null,null,90,null,null,"NVIDIA Vera Rubin NVL72 - Single Phase Direct-to-Chip Liquid Cooling",null,null,null,null,null,60,360]
[null,null,null,null,null,null,null,null,null,null,null,null,null,"NVIDIA Vera Rubin NVL72 - Double Phase Direct-to-Chip Liquid Cooling",null,null,null,null,null,150,null,null,"NVIDIA Vera Rubin NVL72 - Double Phase Direct-to-Chip Liquid Cooling",null,null,null,null,null,85,600]

{"sheet":"Efficiency for Data Centers","index":13,"n_rows":156,"n_cols":160,"rows_kept":156,"cut":false,"hidden":false,"merged":[]}
["Return",null,null,null,null,"PUE Range",null,null,null,null,null,null,null,null,null,null,null,null,null,null,null,null,null,null,null,null,null,null,null,null,null,null,null,null,null,null,null,null,null,null,null,null,null,"Water",null,null,null,null,null,null,null,null,null,null,null,null,null,null,null,null,null,null,null,null,null,null,null,null,null,null,null,null,null,null,null,null,null,null,null,null,null,null,null,null,null,null,null,null,null,null,null,null,null,null,null,null,null,null,null,null,null,null,null,null,null,"Degradation",null,null,null,null,null,null,"Degradation"]
[null,null,null,null,null,null,null,null,null,null,null,null,null,null,null,null,null,null,null,null,null,null,null,"PUE 10","PUE 20","PUE 30",null,null,null,null,null,null,null,null,null,null,null,null,null,null,null,null,null,null,null,null,null,null,null,null,null,null,null,null,null,null,null,null,null,null,null,null,"Cooling System",null,null,null,null,null,null,"Cooling Uses",null,null,null,null,null,null,null,null,null,"UPS and Distribution Uses",null,null,null,null,null,null,null,null,null,null,null,null,null,null,null,null,"Other Uses of Data Centers"]
["Click the check box for details",null,null,null,null,null,null,null,null,null,null,null,null,null,null,null,null,null,null,null,null,null,null,null,null,null,null,null,null,null,null,null,null,null,null,null,null,null,"Water Usage",null,null,null,null,null,null,null,null,null,null,null,null,null,null,null,null,null,"Cooling Loss %","Implied PUE","Low","PUE",null,null,null,null,null,null,null,null,null,null,null,null,null,null,"High Range","Low Range",null,null,null,null,null,null,null,null,null,null,null,null,null,null,null,null,null,null,null,null,null,null,null,null,null,null,null,null,null,null,null,null,null,null,null,null,null,null,null,null,null,null,null,null,null,null,null,null,null,null,null,null,"High Range PUE","Low Range PUE","PUE 10","PUE 20","PUE 30","Water Usage","Cooling Loss Low","UPS Loss Low","Other Loss Low","Cooling Loss High","UPS Loss High","Other Loss High","PUE Degradation"]
[null,null,null,null,null,null,null,null,"High PUE","Low PUE"]
[null,null,null,null,null,null,null,null,null,null,null,null,null,null,null,null,null,null,null,null,null,null,null,null,null,null,null,null,null,null,null,null,null,null,null,null,null,null,null,null,null,null,null,null,null,null,null,null,null,null,null,null,null,null,null,null,null,null,null,null,null,null,null,null,null,null,null,null,null,null,null,null,null,null,null,null,null,null,null,null,null,null,null,null,null,null,null,null,null,null,null,null,null,null,null,null,null,null,null,null,null,null,null,null,null,null,null,null,null,null,null,null,null,null,null,null,null,null,null,null,null,"Legacy Data Centers - High Cost",null,null,null,null,null,null,{"$f":"_xlfn.XLOOKUP($DR5,$D:$D,$I:$I,0,0,1)","v":1.9},{"$f":"_xlfn.XLOOKUP(DR5,D:D,J:J,0,0)","v":1.6},{"$f":"_xlfn.XLOOKUP($DR5,$T:$T,X:X)","v":1.5},{"$f":"_xlfn.XLOOKUP($DR5,$T:$T,Y:Y)","v":1.65},{"$f":"_xlfn.XLOOKUP($DR5,$T:$T,Z:Z)","v":1.95},{"$f":"_xlfn.XLOOKUP($DR5,$AI:$AI,AM:AM)","v":2.5},{"$f":"_xlfn.XLOOKUP($DR5,$AZ:$AZ,BG:BG)","v":0.35},{"$f":"_xlfn.XLOOKUP($DR5,$BR:$BR,BX:BX)","v":0.08},{"$f":"_xlfn.XLOOKUP($DR5,$CK:$CK,CQ:CQ)","v":8.0000000000000002E-3},{"$f":"_xlfn.XLOOKUP($DR5,$AZ:$AZ,BE:BE)","v":0.45},{"$f":"_xlfn.XLOOKUP($DR5,$BR:$BR,BW:BW)","v":0.12},{"$f":"_xlfn.XLOOKUP($DR5,$CK:$CK,CP:CP)","v":1.2999999999999999E-2},{"$f":"_xlfn.XLOOKUP($DR5,$DB:$DB,DF:DF,0,0)","v":1.4999999999999999E-2}]
[null,null,null,"Legacy Data Centers - High Cost",null,null,null,null,1.9,1.6,null,null,null,null,null,null,null,null,null,"Legacy Data Centers - High Cost",null,null,null,1.5,1.65,1.95,null,null,null,null,null,null,null,null,"Legacy Data Centers - High Cost",null,null,null,2.5,1.8,null,null,null,null,null,null,null,null,null,null,null,"Legacy Data Centers - High Cost",null,null,null,null,0.45,{"$f":"1/(1-BE6)","v":1.8181818181818181},0.35,{"$f":"1/(1-BG6)","v":1.5384615384615383},null,null,null,null,null,null,null,null,null,"Legacy Data Centers - High Cost",null,null,null,null,0.12,0.08,null,null,null,null,null,null,null,null,null,null,null,null,"Legacy Data Centers - High Cost",null,null,null,null,1.2999999999999999E-2,8.0000000000000002E-3,null,null,null,null,null,null,null,null,null,null,null,null,null,null,null,null,null,null,null,null,null,null,null,null,null,null,"Legacy Data Centers - Low Cost",null,null,null,null,null,null,{"$f":"_xlfn.XLOOKUP($DR6,$D:$D,$I:$I,0,0,1)","v":2.2000000000000002},{"$f":"_xlfn.XLOOKUP(DR6,D:D,J:J,0,0)","v":1.8},{"$f":"_xlfn.XLOOKUP($DR6,$T:$T,X:X)","v":1.7},{"$f":"_xlfn.XLOOKUP($DR6,$T:$T,Y:Y)","v":1.9},{"$f":"_xlfn.XLOOKUP($DR6,$T:$T,Z:Z)","v":2.2999999999999998},{"$f":"_xlfn.XLOOKUP($DR6,$AI:$AI,AM:AM)","v":3},{"$f":"_xlfn.XLOOKUP($DR6,$AZ:$AZ,BG:BG)","v":0.4},{"$f":"_xlfn.XLOOKUP($DR6,$BR:$BR,BX:BX)","v":0.12},{"$f":"_xlfn.XLOOKUP($DR6,$CK:$CK,CQ:CQ)","v":0.01},{"$f":"_xlfn.XLOOKUP($DR6,$AZ:$AZ,BE:BE)","v":0.55000000000000004},{"$f":"_xlfn.XLOOKUP($DR6,$BR:$BR,BW:BW)","v":0.16},{"$f":"_xlfn.XLOOKUP($DR6,$CK:$CK,CP:CP)","v":1.4999999999999999E-2},{"$f":"_xlfn.XLOOKUP($DR6,$DB:$DB,DF:DF,0,0)","v":2.5000000000000001E-2},null,null,null,null,null,null,null,null,null,null,null,null,null,null,null,null,"Legacy Data Centers High Cost",1.6,{"$f":"1/FC6","v":0.625}]
[null,null,null,"Legacy Data Centers - Low Cost",null,null,null,null,2.2000000000000002,1.8,null,null,null,null,null,null,null,null,null,"Legacy Data Centers - Low Cost",null,null,null,1.7,1.9,2.2999999999999998,null,null,null,null,null,null,null,null,"Legacy Data Centers - Low Cost",null,null,null,3,2.2000000000000002,null,null,null,null,null,null,null,null,null,null,null,"Legacy Data Centers - Low Cost",null,null,null,null,0.55000000000000004,{"$f":"1/(1-BE7)","v":2.2222222222222223},0.4,1.6666666666666667,null,null,null,null,null,null,null,null,null,"Legacy Data Centers - Low Cost",null,null,null,null,0.16,0.12,null,null,null,null,null,null,null,null,null,null,null,null,"Legacy Data Centers - Low Cost",null,null,null,null,1.4999999999999999E-2,0.01,null,null,null,null,null,null,null,null,null,null,null,null,null,null,null,null,null,null,null,null,null,null,null,null,null,null,"Legacy Data Centers - Computer Room Air Conditioning",null,null,null,null,null,null,2,1.7,1.6,1.8,2.15,2.2000000000000002,0.38,0.09,8.0000000000000002E-3,0.48,0.13,1.2999999999999999E-2,0.02,null,null,null,null,null,null,null,null,null,null,null,null,null,null,null,null,"Legacy Data Centers Low Cost",2,{"$f":"1/FC7","v":0.5}]
[null,null,null,"Legacy Data Centers - Computer Room Air Conditioning",null,null,null,null,2,1.7,null,null,null,null,null,null,null,null,null,"Legacy Data Centers - Computer Room Air Conditioning",null,null,null,1.6,1.8,2.15,null,null,null,null,null,null,null,null,"Legacy Data Centers - Computer Room Air Conditioning",null,null,null,2.2000000000000002,1.5,null,null,null,null,null,null,null,null,null,null,null,"Legacy Data Centers - Computer Room Air Conditioning",null,null,null,null,0.48,1.9230769230769229,0.38,1.6129032258064517,null,null,null,null,null,null,null,null,null,"Legacy Data Centers - Computer Room Air Conditioning",null,null,null,null,0.13,0.09,null,null,null,null,null,null,null,null,null,null,null,null,"Legacy Data Centers - Computer Room Air Conditioning",null,null,null,null,1.2999999999999999E-2,8.0000000000000002E-3,null,null,null,null,null,null,null,null,null,null,"Legacy Data Centers - High Cost",null,null,null,1.4999999999999999E-2,null,null,null,null,null,null,null,null,null,null,null,"Legacy Data Centers - Hot/Cold Aisle Containment",null,null,null,null,null,null,1.6,1.4,1.35,1.48,1.7,1.8,0.25,0.08,8.9999999999999993E-3,0.33,0.11,8.9999999999999993E-3,1.2E-2,null,null,null,null,null,null,null,null,null,null,null,null,null,null,null,null,"Early AI Data Centers High Cost",1.35,0.7407407407407407]
[null,null,null,"Legacy Data Centers - Hot/Cold Aisle Containment",null,null,null,null,1.6,1.4,null,null,null,null,null,null,null,null,null,"Legacy Data Centers - Hot/Cold Aisle Containment",null,null,null,1.35,1.48,1.7,null,null,null,null,null,null,null,null,"Legacy Data Centers - Hot/Cold Aisle Containment",null,null,null,1.8,1.2,null,null,null,null,null,null,null,null,null,null,null,"Legacy Data Centers - Hot/Cold Aisle Containment",null,null,null,null,0.33,1.4925373134328359,0.25,1.3333333333333333,null,null,null,null,null,null,null,null,null,"Legacy Data Centers - Hot/Cold Aisle Containment",null,null,null,null,0.11,0.08,null,null,null,null,null,null,null,null,null,null,null,null,"Legacy Data Centers - Hot/Cold Aisle Containment",null,null,null,null,8.9999999999999993E-3,8.9999999999999993E-3,null,null,null,null,null,null,null,null,null,null,"Legacy Data Centers - Low Cost",null,null,null,2.5000000000000001E-2,null,null,null,null,null,null,null,null,null,null,null,"Legacy Data Centers - Chilled Water Central Loops",null,null,null,null,null,null,1.5,1.35,1.28,1.4,1.6,2.6,0.22,7.0000000000000007E-2,6.0000000000000001E-3,0.3,0.1,0.01,1.7999999999999999E-2,null,null,null,null,null,null,null,null,null,null,null,null,null,null,null,null,"Early AI Data Centers Low Cost",1.5,0.66666666666666663]
[null,null,null,"Legacy Data Centers - Chilled Water Central Loops",null,null,null,null,1.5,1.35,null,null,null,null,null,null,null,null,null,"Legacy Data Centers - Chilled Water Central Loops",null,null,null,1.28,1.4,1.6,null,null,null,null,null,null,null,null,"Legacy Data Centers - Chilled Water Central Loops",null,null,null,2.6,1.8,null,null,null,null,null,null,null,null,null,null,null,"Legacy Data Centers - Chilled Water Central Loops",null,null,null,null,0.3,1.4285714285714286,0.22,1.2820512820512819,null,null,null,null,null,null,null,null,null,"Legacy Data Centers - Chilled Water Central Loops",null,null,null,null,0.1,7.0000000000000007E-2,null,null,null,null,null,null,null,null,null,null,null,null,"Legacy Data Centers - Chilled Water Central Loops",null,null,null,null,0.01,6.0000000000000001E-3,null,null,null,null,null,null,null,null,null,null,"Legacy Data Centers - Computer Room Air Conditioning",null,null,null,0.02,null,null,null,null,null,null,null,null,null,null,null,"Early AI Date Centers - High Cost",null,null,null,null,null,null,1.45,1.3,1.22,1.32,1.5,1.6,0.2,0.06,2E-3,0.28000000000000003,0.08,4.0000000000000001E-3,2.1999999999999999E-2,null,null,null,null,null,null,null,null,null,null,null,null,null,null,null,null,"Modern AI Factories High Cost",1.2,0.83333333333333337]
[null,null,null,null,null,null,null,null,null,null,null,null,null,null,null,null,null,null,null,null,null,null,null,null,null,null,null,null,null,null,null,null,null,null,null,null,null,null,null,null,null,null,null,null,null,null,null,null,null,null,null,null,null,null,null,null,null,null,null,null,null,null,null,null,null,null,null,null,null,null,null,null,null,null,null,null,null,null,null,null,null,null,null,null,null,null,null,null,null,null,null,null,null,null,null,null,null,null,null,null,null,null,null,null,null,"Legacy Data Centers - Hot/Cold Aisle Containment",null,null,null,1.2E-2,null,null,null,null,null,null,null,null,null,null,null,"Early AI Date Centers - Low Cost",null,null,null,null,null,null,1.65,1.45,1.38,1.5,1.75,2.2000000000000002,0.28000000000000003,0.09,5.0000000000000001E-3,0.36,0.12,8.0000000000000002E-3,2.8000000000000001E-2,null,null,null,null,null,null,null,null,null,null,null,null,null,null,null,null,"Modern AI Factories Low Cost",1.3,0.76923076923076916]
[null,null,null,null,null,null,null,null,null,null,null,null,null,null,null,null,null,null,null,null,null,null,null,null,null,null,null,null,null,null,null,null,null,null,null,null,null,null,null,null,null,null,null,null,null,null,null,null,null,null,null,null,null,null,null,null,null,null,null,null,null,null,null,null,null,null,null,null,null,null,null,null,null,null,null,null,null,null,null,null,null,null,null,null,null,null,null,null,null,null,null,null,null,null,null,null,null,null,null,null,null,null,null,null,null,"Legacy Data Centers - Chilled Water Central Loops",null,null,null,1.7999999999999999E-2,null,null,null,null,null,null,null,null,null,null,null,"Early AI Date Centers - Single Phase Direct to Liquid Cooling",null,null,null,null,null,null,1.3,1.2,1.1499999999999999,1.22,1.35,0.8,0.14000000000000001,0.06,2E-3,0.2,0.08,4.0000000000000001E-3,1.4E-2,null,null,null,null,null,null,null,null,null,null,null,null,null,null,null,null,"Next-Gen Superclusters High Cost",1.1000000000000001,0.90909090909090906]
[null,null,null,null,null,null,null,null,null,null,null,null,null,null,null,null,null,null,null,null,null,null,null,null,null,null,null,null,null,null,null,null,null,null,null,null,null,null,null,null,null,null,null,null,null,null,null,null,null,null,null,null,null,null,null,null,null,null,null,null,null,null,null,null,null,null,null,null,null,null,null,null,null,null,null,null,null,null,null,null,null,null,null,null,null,null,null,null,null,null,null,null,null,null,null,null,null,null,null,null,null,null,null,null,null,null,null,null,null,null,null,null,null,null,null,null,null,null,null,null,null,"Early AI Date Centers - Coolant Distribution Units",null,null,null,null,null,null,1.32,1.22,1.17,1.25,1.38,0.9,0.15,0.06,2E-3,0.22,0.08,4.0000000000000001E-3,1.4999999999999999E-2,null,null,null,null,null,null,null,null,null,null,null,null,null,null,null,null,"Next-Gen Superclusters Low Cost",1.18,0.84745762711864414]
[null,null,null,null,null,null,null,null,null,null,null,null,null,null,null,null,null,null,null,null,null,null,null,null,null,null,null,null,null,null,null,null,null,null,null,null,null,null,null,null,null,null,null,null,null,null,null,null,null,null,null,null,null,null,null,null,null,null,null,null,null,null,null,null,null,null,null,null,null,null,null,null,null,null,null,null,null,null,null,null,null,null,null,null,null,null,null,null,null,null,null,null,null,null,null,null,null,null,null,null,null,null,null,null,null,null,null,null,null,null,null,null,null,null,null,null,null,null,null,null,null,"Early AI Date Centers - Hybrid Air-Liquid Infrastructure",null,null,null,null,null,null,1.4,1.28,1.2,1.3,1.48,1.4,0.18,7.0000000000000007E-2,3.0000000000000001E-3,0.25,0.09,5.0000000000000001E-3,1.9E-2,null,null,null,null,null,null,null,null,null,null,null,null,null,null,null,null,"Specialized Inference Farms High",1.18,0.84745762711864414]
[null,null,null,null,null,null,null,null,null,null,null,null,null,null,null,null,null,null,null,null,null,null,null,null,null,null,null,null,null,null,null,null,null,null,null,null,null,null,null,null,null,null,null,null,null,null,null,null,null,null,null,null,null,null,null,null,null,null,null,null,null,null,null,null,null,null,null,null,null,null,null,null,null,null,null,null,null,null,null,null,null,null,null,null,null,null,null,null,null,null,null,null,null,null,null,null,null,null,null,null,null,null,null,null,null,null,null,null,null,null,null,null,null,null,null,null,null,null,null,null,null,"Modern AI Factories - High Cost",null,null,null,null,null,null,1.18,1.1200000000000001,1.0900000000000001,1.1299999999999999,1.21,0.5,0.09,0.04,5.0000000000000001E-4,0.13,0.06,1.5E-3,0.01,null,null,null,null,null,null,null,null,null,null,null,null,null,null,null,null,"Specialized Inference Farms Low",1.25,0.8]
[null,null,null,null,null,null,null,null,null,null,null,null,null,null,null,null,null,null,null,null,null,null,null,null,null,null,null,null,null,null,null,null,null,null,null,null,null,null,null,null,null,null,null,null,null,null,null,null,null,null,null,null,null,null,null,null,null,null,null,null,null,null,null,null,null,null,null,null,null,null,null,null,null,null,null,null,null,null,null,null,null,null,null,null,null,null,null,null,null,null,null,null,null,null,null,null,null,null,null,null,null,null,null,null,null,null,null,null,null,null,null,null,null,null,null,null,null,null,null,null,null,"Modern AI Factories - Low Cost",null,null,null,null,null,null,1.35,1.22,1.18,1.25,1.4,1.5,0.16,7.0000000000000007E-2,2E-3,0.24,0.1,4.0000000000000001E-3,1.6E-2,null,null,null,null,null,null,null,null,null,null,null,null,null,null,null,null,"NVIDIA Hopper H200 High",1.22,0.81967213114754101]
[null,null,null,null,null,null,null,null,null,null,null,null,null,null,null,null,null,null,null,null,null,null,null,null,null,null,null,null,null,null,null,null,null,null,null,null,null,null,null,null,null,null,null,null,null,null,null,null,null,null,null,null,null,null,null,null,null,null,null,null,null,null,null,null,null,null,null,null,null,null,null,null,null,null,null,null,null,null,null,null,null,null,null,null,null,null,null,null,null,null,null,null,null,null,null,null,null,null,null,null,null,null,null,null,null,null,null,null,null,null,null,null,null,null,null,null,null,null,null,null,null,"Modern AI Factories - Single Phase Direct-to-Chip Liquid Cooling",null,null,null,null,null,null,1.1499999999999999,1.1000000000000001,1.08,1.1100000000000001,1.18,0.4,0.08,0.04,5.0000000000000001E-4,0.12,0.06,1.5E-3,1.0999999999999999E-2,null,null,null,null,null,null,null,null,null,null,null,null,null,null,null,null,"NVIDIA Hopper H200 Low",1.3,0.76923076923076916]
[null,null,null,"Early AI Date Centers - High Cost",null,null,null,null,1.45,1.3,null,null,null,null,null,null,null,null,null,null,null,null,null,null,null,null,null,null,null,null,null,null,null,null,"Early AI Date Centers - High Cost",null,null,null,1.6,1,null,null,null,null,null,null,null,null,null,null,null,"Early AI Date Centers - High Cost",null,null,null,null,0.28000000000000003,{"$f":"1/(1-BE18)","v":1.3888888888888888},0.2,{"$f":"1/(1-BG18)","v":1.25},null,null,null,null,null,null,null,null,null,null,null,null,null,null,null,null,null,null,null,null,null,null,null,null,null,null,null,null,null,null,null,null,null,null,null,null,null,null,null,null,null,null,null,null,null,null,null,null,null,null,null,null,null,null,null,null,null,null,null,null,null,"Modern AI Factories - Coolant Distribution Units (CDUs)",null,null,null,null,null,null,1.1599999999999999,1.1100000000000001,1.0900000000000001,1.1200000000000001,1.19,0.45,0.09,0.04,5.0000000000000001E-4,0.13,0.06,1.5E-3,1.2E-2,null,null,null,null,null,null,null,null,null,null,null,null,null,null,null,null,"NVIDIA Blackwell GB300 High",1.1000000000000001,0.90909090909090906]
[null,null,null,"Early AI Date Centers - Low Cost",null,null,null,null,1.65,1.45,null,null,null,null,null,null,null,null,null,null,null,null,null,null,null,null,null,null,null,null,null,null,null,null,"Early AI Date Centers - Low Cost",null,null,null,2.2000000000000002,1.5,null,null,null,null,null,null,null,null,null,null,null,"Early AI Date Centers - Low Cost",null,null,null,null,0.36,{"$f":"1/(1-BE19)","v":1.5625},0.28000000000000003,1.3888888888888888,null,null,null,null,null,null,null,null,null,null,null,null,null,null,null,null,null,null,null,null,null,null,null,null,null,null,null,null,null,null,null,null,null,null,null,null,null,null,null,null,null,null,null,null,null,null,null,null,null,null,null,null,null,null,null,null,null,null,null,null,null,"Modern AI Factories - Hybrid Air-Liquid Infrastructure",null,null,null,null,null,null,1.25,1.18,1.1399999999999999,1.2,1.3,0.8,0.13,0.05,1E-3,0.18,7.0000000000000007E-2,2.5000000000000001E-3,1.4999999999999999E-2,null,null,null,null,null,null,null,null,null,null,null,null,null,null,null,null,"NVIDIA Blackwell GB300 Low",1.1499999999999999,0.86956521739130443]
[null,null,null,"Early AI Date Centers - Single Phase Direct to Liquid Cooling",null,null,null,null,1.3,1.2,null,null,null,null,null,null,null,null,null,null,null,null,null,null,null,null,null,null,null,null,null,null,null,null,"Early AI Date Centers - Single Phase Direct to Liquid Cooling",null,null,null,0.8,0.4,null,null,null,null,null,null,null,null,null,null,null,"Early AI Date Centers - Single Phase Direct to Liquid Cooling",null,null,null,null,0.2,1.25,0.14000000000000001,1.1627906976744187,null,null,null,null,null,null,null,null,null,null,null,null,null,null,null,null,null,null,null,null,null,null,null,null,null,null,null,null,null,null,null,null,null,null,null,null,null,null,null,null,null,null,null,null,null,null,null,null,null,null,null,null,null,null,null,null,null,null,null,null,null,"Next-Gen Superclusters - High Cost",null,null,null,null,null,null,1.1000000000000001,1.05,1.04,1.06,1.1200000000000001,0.15,0.04,0.03,1E-4,0.08,0.05,5.0000000000000001E-4,8.0000000000000002E-3]
[null,null,null,"Early AI Date Centers - Coolant Distribution Units",null,null,null,null,1.32,1.22,null,null,null,null,null,null,null,null,null,null,null,null,null,null,null,null,null,null,null,null,null,null,null,null,"Early AI Date Centers - Coolant Distribution Units",null,null,null,0.9,0.5,null,null,null,null,null,null,null,null,null,null,null,"Early AI Date Centers - Coolant Distribution Units",null,null,null,null,0.22,1.2820512820512819,0.15,1.1764705882352942,null,null,null,null,null,null,null,null,null,"Early AI Date Centers - High Cost",null,null,null,null,0.08,0.06,null,null,null,null,null,null,null,null,null,null,null,null,"Early AI Date Centers - High Cost",null,null,null,null,4.0000000000000001E-3,2E-3,null,null,null,null,null,null,null,null,null,null,"Early AI Date Centers - High Cost",null,null,null,2.1999999999999999E-2,null,null,null,null,null,null,null,null,null,null,null,"Next-Gen Superclusters - Low Cost",null,null,null,null,null,null,1.25,1.1499999999999999,1.1200000000000001,1.18,1.28,1.2,0.11,0.06,8.0000000000000004E-4,0.16,0.08,1.5E-3,1.2999999999999999E-2]
[null,null,null,"Early AI Date Centers - Hybrid Air-Liquid Infrastructure",null,null,null,null,1.4,1.28,null,null,null,null,null,null,null,null,null,null,null,null,null,null,null,null,null,null,null,null,null,null,null,null,"Early AI Date Centers - Hybrid Air-Liquid Infrastructure",null,null,null,1.4,0.8,null,null,null,null,null,null,null,null,null,null,null,"Early AI Date Centers - Hybrid Air-Liquid Infrastructure",null,null,null,null,0.25,1.3333333333333333,0.18,1.2195121951219512,null,null,null,null,null,null,null,null,null,"Early AI Date Centers - Low Cost",null,null,null,null,0.12,0.09,null,null,null,null,null,null,null,null,null,null,null,null,"Early AI Date Centers - Low Cost",null,null,null,null,8.0000000000000002E-3,5.0000000000000001E-3,null,null,null,null,null,null,null,null,null,null,"Early AI Date Centers - Low Cost",null,null,null,2.8000000000000001E-2,null,null,null,null,null,null,null,null,null,null,null,"Next-Gen Superclusters - Chiller-Less Dry Cooling",null,null,null,null,null,null,1.1200000000000001,1.06,1.05,1.08,1.1399999999999999,0,0.05,0.03,2.0000000000000001E-4,0.09,0.05,5.9999999999999995E-4,8.9999999999999993E-3]
[null,null,null,null,null,null,null,null,null,null,null,null,null,null,null,null,null,null,null,null,null,null,null,null,null,null,null,null,null,null,null,null,null,null,null,null,null,null,null,null,null,null,null,null,null,null,null,null,null,null,null,null,null,null,null,null,null,null,null,null,null,null,null,null,null,null,null,null,null,"Early AI Date Centers - Single Phase Direct to Liquid Cooling",null,null,null,null,0.08,0.06,null,null,null,null,null,null,null,null,null,null,null,null,"Early AI Date Centers - Single Phase Direct to Liquid Cooling",null,null,null,null,4.0000000000000001E-3,2E-3,null,null,null,null,null,null,null,null,null,null,"Early AI Date Centers - Single Phase Direct to Liquid Cooling",null,null,null,1.4E-2,null,null,null,null,null,null,null,null,null,null,null,"Next-Gen Superclusters - High -Impedance Dielectric Coolants",null,null,null,null,null,null,1.07,1.03,1.02,1.04,1.08,0.05,0.02,0.03,1E-4,0.05,0.04,4.0000000000000002E-4,7.0000000000000001E-3]
[null,null,null,null,null,null,null,null,null,null,null,null,null,null,null,null,null,null,null,null,null,null,null,null,null,null,null,null,null,null,null,null,null,null,null,null,null,null,null,null,null,null,null,null,null,null,null,null,null,null,null,null,null,null,null,null,null,null,null,null,null,null,null,null,null,null,null,null,null,"Early AI Date Centers - Coolant Distribution Units",null,null,null,null,0.08,0.06,null,null,null,null,null,null,null,null,null,null,null,null,"Early AI Date Centers - Coolant Distribution Units",null,null,null,null,4.0000000000000001E-3,2E-3,null,null,null,null,null,null,null,null,null,null,"Early AI Date Centers - Coolant Distribution Units",null,null,null,1.4999999999999999E-2,null,null,null,null,null,null,null,null,null,null,null,"Next-Gen Superclusters - AI-Driven Grid Balance Cooling",null,null,null,null,null,null,1.1200000000000001,1.07,1.05,1.08,1.1499999999999999,0.3,0.1,0.04,2.0000000000000001E-4,0.1,0.06,5.0000000000000001E-4,1.0999999999999999E-2]
[null,null,null,null,null,null,null,null,null,null,null,null,null,null,null,null,null,null,null,"Early AI Date Centers - High Cost",null,null,null,1.22,1.32,1.5,null,null,null,null,null,null,null,null,null,null,null,null,null,null,null,null,null,null,null,null,null,null,null,null,null,null,null,null,null,null,null,null,null,null,null,null,null,null,null,null,null,null,null,"Early AI Date Centers - Hybrid Air-Liquid Infrastructure",null,null,null,null,0.09,7.0000000000000007E-2,null,null,null,null,null,null,null,null,null,null,null,null,"Early AI Date Centers - Hybrid Air-Liquid Infrastructure",null,null,null,null,5.0000000000000001E-3,3.0000000000000001E-3,null,null,null,null,null,null,null,null,null,null,"Early AI Date Centers - Hybrid Air-Liquid Infrastructure",null,null,null,1.9E-2,null,null,null,null,null,null,null,null,null,null,null,"Specialized Inference Farms - High Cost",null,null,null,null,null,null,1.35,1.2,1.1599999999999999,1.24,1.42,0.7,0.15,0.05,1.5E-3,0.15,7.0000000000000007E-2,3.5000000000000001E-3,1.2E-2]
[null,null,null,null,null,null,null,null,null,null,null,null,null,null,null,null,null,null,null,"Early AI Date Centers - Low Cost",null,null,null,1.38,1.5,1.75,null,null,null,null,null,null,null,null,null,null,null,null,null,null,null,null,null,null,null,null,null,null,null,null,null,null,null,null,null,null,null,null,null,null,null,null,null,null,null,null,null,null,null,null,null,null,null,null,null,null,null,null,null,null,null,null,null,null,null,null,null,null,null,null,null,null,null,null,null,null,null,null,null,null,null,null,null,null,null,null,null,null,null,null,null,null,null,null,null,null,null,null,null,null,null,"Specialized Inference Farms - Low Cost",null,null,null,null,null,null,1.55,1.35,1.28,1.4,1.68,1.4,0.22,0.08,3.0000000000000001E-3,0.32,0.08,6.0000000000000001E-3,1.7999999999999999E-2]
[null,null,null,null,null,null,null,null,null,null,null,null,null,null,null,null,null,null,null,"Early AI Date Centers - Single Phase Direct to Liquid Cooling",null,null,null,1.1499999999999999,1.22,1.35,null,null,null,null,null,null,null,null,null,null,null,null,null,null,null,null,null,null,null,null,null,null,null,null,null,null,null,null,null,null,null,null,null,null,null,null,null,null,null,null,null,null,null,null,null,null,null,null,null,null,null,null,null,null,null,null,null,null,null,null,null,null,null,null,null,null,null,null,null,null,null,null,null,null,null,null,null,null,null,null,null,null,null,null,null,null,null,null,null,null,null,null,null,null,null,"Specialized Inference Farms - Chassis-Level Immersion Cooling",null,null,null,null,null,null,1.18,1.1200000000000001,1.1000000000000001,1.1399999999999999,1.22,0.1,0.09,0.04,1E-3,0.13,0.04,2E-3,6.0000000000000001E-3]
[null,null,null,null,null,null,null,null,null,null,null,null,null,null,null,null,null,null,null,"Early AI Date Centers - Coolant Distribution Units",null,null,null,1.17,1.25,1.38,null,null,null,null,null,null,null,null,null,null,null,null,null,null,null,null,null,null,null,null,null,null,null,null,null,null,null,null,null,null,null,null,null,null,null,null,null,null,null,null,null,null,null,null,null,null,null,null,null,null,null,null,null,null,null,null,null,null,null,null,null,null,null,null,null,null,null,null,null,null,null,null,null,null,null,null,null,null,null,null,null,null,null,null,null,null,null,null,null,null,null,null,null,null,null,"Specialized Inference Farms - Open-Tank-Phase Immersion",null,null,null,null,null,null,1.08,1.04,1.03,1.05,1.0900000000000001,0.04,0.03,0.03,5.0000000000000001E-4,0.06,0.03,1.5E-3,8.9999999999999993E-3]
[null,null,null,null,null,null,null,null,null,null,null,null,null,null,null,null,null,null,null,"Early AI Date Centers - Hybrid Air-Liquid Infrastructure",null,null,null,1.2,1.3,1.48,null,null,null,null,null,null,null,null,null,null,null,null,null,null,null,null,null,null,null,null,null,null,null,null,null,null,null,null,null,null,null,null,null,null,null,null,null,null,null,null,null,null,null,null,null,null,null,null,null,null,null,null,null,null,null,null,null,null,null,null,null,null,null,null,null,null,null,null,null,null,null,null,null,null,null,null,null,null,null,null,null,null,null,null,null,null,null,null,null,null,null,null,null,null,null,"Specialized Inference Farms - Liquid-to-Air (L2A) Sidecars",null,null,null,null,null,null,1.35,1.25,1.18,1.28,1.45,0,0.18,0.06,2E-3,0.24,0.06,4.4999999999999997E-3,1.4E-2]
[null,null,null,"Modern AI Factories - High Cost",null,null,null,null,1.18,1.1200000000000001,null,null,null,null,null,null,null,null,null,null,null,null,null,null,null,null,null,null,null,null,null,null,null,null,null,null,null,null,null,null,null,null,null,null,null,null,null,null,null,null,null,null,null,null,null,null,null,null,null,null,null,null,null,null,null,null,null,null,null,null,null,null,null,null,null,null,null,null,null,null,null,null,null,null,null,null,null,null,null,null,null,null,null,null,null,null,null,null,null,null,null,null,null,null,null,null,null,null,null,null,null,null,null,null,null,null,null,null,null,null,null,"NVIDIA Hopper (H200) - High Cost",null,null,null,null,null,null,1.22,1.1499999999999999,1.1200000000000001,1.17,1.26,0.8,0.11,0.05,1E-3,0.16,7.0000000000000007E-2,2E-3,1.2999999999999999E-2]
[null,null,null,"Modern AI Factories - Low Cost",null,null,null,null,1.35,1.22,null,null,null,null,null,null,null,null,null,null,null,null,null,null,null,null,null,null,null,null,null,null,null,null,null,null,null,null,null,null,null,null,null,null,null,null,null,null,null,null,null,null,null,null,null,null,null,null,null,null,null,null,null,null,null,null,null,null,null,null,null,null,null,null,null,null,null,null,null,null,null,null,null,null,null,null,null,null,null,null,null,null,null,null,null,null,null,null,null,null,null,null,null,null,null,null,null,null,null,null,null,null,null,null,null,null,null,null,null,null,null,"NVIDIA Hopper (H200) - Low Cost",null,null,null,null,null,null,1.45,1.3,1.24,1.35,1.52,1.8,0.21,0.11,3.5000000000000001E-3,0.28000000000000003,0.08,6.0000000000000001E-3,1.9E-2]
[null,null,null,"Modern AI Factories - Single Phase Direct-to-Chip Liquid Cooling",null,null,null,null,1.1499999999999999,1.1000000000000001,null,null,null,null,null,null,null,null,null,null,null,null,null,null,null,null,null,null,null,null,null,null,null,null,"Modern AI Factories - High Cost",null,null,null,0.5,0.2,null,null,null,null,null,null,null,null,null,null,null,"Modern AI Factories - High Cost",null,null,null,null,0.13,{"$f":"1/(1-BE32)","v":1.1494252873563218},0.09,{"$f":"1/(1-BG32)","v":1.0989010989010988},null,null,null,null,null,null,null,null,null,null,null,null,null,null,null,null,null,null,null,null,null,null,null,null,null,null,null,null,null,null,null,null,null,null,null,null,null,null,null,null,null,null,null,null,null,null,null,null,null,null,null,null,null,null,null,null,null,null,null,null,null,"NVIDIA Hopper (H200) - Hyrid Air",null,null,null,null,null,null,1.5,1.35,1.28,1.4,1.62,2,0.23,7.0000000000000007E-2,2.5000000000000001E-3,0.3,0.1,4.4999999999999997E-3,1.6E-2]
[null,null,null,"Modern AI Factories - Coolant Distribution Units (CDUs)",null,null,null,null,1.1599999999999999,1.1100000000000001,null,null,null,null,null,null,null,null,null,null,null,null,null,null,null,null,null,null,null,null,null,null,null,null,"Modern AI Factories - Low Cost",null,null,null,1.5,1,null,null,null,null,null,null,null,null,null,null,null,"Modern AI Factories - Low Cost",null,null,null,null,0.24,{"$f":"1/(1-BE33)","v":1.3157894736842106},0.16,1.1904761904761905,null,null,null,null,null,null,null,null,null,null,null,null,null,null,null,null,null,null,null,null,null,null,null,null,null,null,null,null,null,null,null,null,null,null,null,null,null,null,null,null,null,null,null,null,null,null,null,null,null,null,null,null,null,null,null,null,null,null,null,null,null,"NVIDIA Hopper (H200) - Fluid-Assisted",null,null,null,null,null,null,1.35,1.25,1.2,1.28,1.42,1.3,0.17,0.06,1.5E-3,0.23,0.08,3.0000000000000001E-3,1.4E-2]
[null,null,null,"Modern AI Factories - Hybrid Air-Liquid Infrastructure",null,null,null,null,1.25,1.18,null,null,null,null,null,null,null,null,null,null,null,null,null,null,null,null,null,null,null,null,null,null,null,null,"Modern AI Factories - Single Phase Direct-to-Chip Liquid Cooling",null,null,null,0.4,0.1,null,null,null,null,null,null,null,null,null,null,null,"Modern AI Factories - Single Phase Direct-to-Chip Liquid Cooling",null,null,null,null,0.12,1.1363636363636365,0.08,1.0869565217391304,null,null,null,null,null,null,null,null,null,null,null,null,null,null,null,null,null,null,null,null,null,null,null,null,null,null,null,null,null,null,null,null,null,null,null,null,null,null,null,null,null,null,null,null,null,null,null,null,null,null,null,null,null,null,null,null,null,null,null,null,null,"NVIDIA Hopper (H200) - Single Phase Direct-to-Chip Liquid Cooling",null,null,null,null,null,null,1.18,1.1200000000000001,1.1000000000000001,1.1399999999999999,1.22,0.6,0.1,0.05,1E-3,0.14000000000000001,7.0000000000000007E-2,2E-3,1.0999999999999999E-2]
[null,null,null,null,null,null,null,null,null,null,null,null,null,null,null,null,null,null,null,null,null,null,null,null,null,null,null,null,null,null,null,null,null,null,"Modern AI Factories - Coolant Distribution Units (CDUs)",null,null,null,0.45,0.15,null,null,null,null,null,null,null,null,null,null,null,"Modern AI Factories - Coolant Distribution Units (CDUs)",null,null,null,null,0.13,1.1494252873563218,0.09,1.0989010989010988,null,null,null,null,null,null,null,null,null,"Modern AI Factories - High Cost",null,null,null,null,0.06,0.04,null,null,null,null,null,null,null,null,null,null,null,null,"Modern AI Factories - High Cost",null,null,null,null,1.5E-3,5.0000000000000001E-4,null,null,null,null,null,null,null,null,null,null,"Modern AI Factories - High Cost",null,null,null,0.01,null,null,null,null,null,null,null,null,null,null,null,"NVIDIA Hopper (H200) - Double Phase Direct-to-Chip Liquid Cooling",null,null,null,null,null,null,1.1399999999999999,1.08,1.07,1.1000000000000001,1.1599999999999999,0.4,7.0000000000000007E-2,0.04,8.0000000000000004E-4,0.11,0.06,1.8E-3,0.01]
[null,null,null,null,null,null,null,null,null,null,null,null,null,null,null,null,null,null,null,null,null,null,null,null,null,null,null,null,null,null,null,null,null,null,"Modern AI Factories - Hybrid Air-Liquid Infrastructure",null,null,null,0.8,0.4,null,null,null,null,null,null,null,null,null,null,null,"Modern AI Factories - Hybrid Air-Liquid Infrastructure",null,null,null,null,0.18,1.2195121951219512,0.13,1.1494252873563218,null,null,null,null,null,null,null,null,null,"Modern AI Factories - Low Cost",null,null,null,null,0.1,7.0000000000000007E-2,null,null,null,null,null,null,null,null,null,null,null,null,"Modern AI Factories - Low Cost",null,null,null,null,4.0000000000000001E-3,2E-3,null,null,null,null,null,null,null,null,null,null,"Modern AI Factories - Low Cost",null,null,null,1.6E-2,null,null,null,null,null,null,null,null,null,null,null,"NVIDIA Blackwell (GB300 / B300) - High  Cost",null,null,null,null,null,null,1.1399999999999999,1.1000000000000001,1.08,1.1100000000000001,1.1599999999999999,0.15,0.08,3.5000000000000003E-2,2.9999999999999997E-4,0.11,0.05,8.0000000000000004E-4,8.9999999999999993E-3]
[null,null,null,null,null,null,null,null,null,null,null,null,null,null,null,null,null,null,null,null,null,null,null,null,null,null,null,null,null,null,null,null,null,null,null,null,null,null,null,null,null,null,null,null,null,null,null,null,null,null,null,null,null,null,null,null,null,null,null,null,null,null,null,null,null,null,null,null,null,"Modern AI Factories - Single Phase Direct-to-Chip Liquid Cooling",null,null,null,null,0.06,0.04,null,null,null,null,null,null,null,null,null,null,null,null,"Modern AI Factories - Single Phase Direct-to-Chip Liquid Cooling",null,null,null,null,1.5E-3,5.0000000000000001E-4,null,null,null,null,null,null,null,null,null,null,"Modern AI Factories - Single Phase Direct-to-Chip Liquid Cooling",null,null,null,1.0999999999999999E-2,null,null,null,null,null,null,null,null,null,null,null,"NVIDIA Blackwell (GB300 / B300) - Low Cost",null,null,null,null,null,null,1.3,1.2,1.1599999999999999,1.23,1.35,1.1000000000000001,0.15,0.06,1.1999999999999999E-3,0.21,0.08,2.5000000000000001E-3,1.4999999999999999E-2]
[null,null,null,null,null,null,null,null,null,null,null,null,null,null,null,null,null,null,null,null,null,null,null,null,null,null,null,null,null,null,null,null,null,null,null,null,null,null,null,null,null,null,null,null,null,null,null,null,null,null,null,null,null,null,null,null,null,null,null,null,null,null,null,null,null,null,null,null,null,"Modern AI Factories - Coolant Distribution Units (CDUs)",null,null,null,null,0.06,0.04,null,null,null,null,null,null,null,null,null,null,null,null,"Modern AI Factories - Coolant Distribution Units (CDUs)",null,null,null,null,1.5E-3,5.0000000000000001E-4,null,null,null,null,null,null,null,null,null,null,"Modern AI Factories - Coolant Distribution Units (CDUs)",null,null,null,1.2E-2,null,null,null,null,null,null,null,null,null,null,null,"NVIDIA Blackwell (GB300 / B300) - 90% Direct-to-Chip Liquid",null,null,null,null,null,null,1.1299999999999999,1.0900000000000001,1.07,1.1000000000000001,1.1499999999999999,0.1,7.0000000000000007E-2,3.5000000000000003E-2,2.0000000000000001E-4,0.1,0.05,6.9999999999999999E-4,1.0999999999999999E-2]
[null,null,null,null,null,null,null,null,null,null,null,null,null,null,null,null,null,null,null,null,null,null,null,null,null,null,null,null,null,null,null,null,null,null,null,null,null,null,null,null,null,null,null,null,null,null,null,null,null,null,null,null,null,null,null,null,null,null,null,null,null,null,null,null,null,null,null,null,null,"Modern AI Factories - Hybrid Air-Liquid Infrastructure",null,null,null,null,7.0000000000000007E-2,0.05,null,null,null,null,null,null,null,null,null,null,null,null,"Modern AI Factories - Hybrid Air-Liquid Infrastructure",null,null,null,null,2.5000000000000001E-3,1E-3,null,null,null,null,null,null,null,null,null,null,"Modern AI Factories - Hybrid Air-Liquid Infrastructure",null,null,null,1.4999999999999999E-2,null,null,null,null,null,null,null,null,null,null,null,"NVIDIA Blackwell (GB300 / B300) - Single Phase Direct-to-Chip Liquid Cooling",null,null,null,null,null,null,1.1499999999999999,1.1000000000000001,1.08,1.1200000000000001,1.17,0.3,0.08,0.04,2.9999999999999997E-4,0.12,5.5E-2,8.9999999999999998E-4,0.01]
[null,null,null,null,null,null,null,null,null,null,null,null,null,null,null,null,null,null,null,null,null,null,null,null,null,null,null,null,null,null,null,null,null,null,null,null,null,null,null,null,null,null,null,null,null,null,null,null,null,null,null,null,null,null,null,null,null,null,null,null,null,null,null,null,null,null,null,null,null,null,null,null,null,null,null,null,null,null,null,null,null,null,null,null,null,null,null,null,null,null,null,null,null,null,null,null,null,null,null,null,null,null,null,null,null,null,null,null,null,null,null,null,null,null,null,null,null,null,null,null,null,"NVIDIA Blackwell (GB300 / B300) - Double Phase Direct-to-Chip Liquid Cooling",null,null,null,null,null,null,1.1100000000000001,1.05,1.04,1.07,1.1200000000000001,0.1,0.04,3.5000000000000003E-2,2.0000000000000001E-4,0.09,4.4999999999999998E-2,5.9999999999999995E-4,8.0000000000000002E-3]
[null,null,null,null,null,null,null,null,null,null,null,null,null,null,null,null,null,null,null,null,null,null,null,null,null,null,null,null,null,null,null,null,null,null,null,null,null,null,null,null,null,null,null,null,null,null,null,null,null,null,null,null,null,null,null,null,null,null,null,null,null,null,null,null,null,null,null,null,null,null,null,null,null,null,null,null,null,null,null,null,null,null,null,null,null,null,null,null,null,null,null,null,null,null,null,null,null,null,null,null,null,null,null,null,null,null,null,null,null,null,null,null,null,null,null,null,null,null,null,null,null,"NVIDIA Vera Rubin NVL72 - High Cost",null,null,null,null,null,null,1.1200000000000001,1.08,1.06,1.0900000000000001,1.1399999999999999,0.1,0.06,2.5000000000000001E-2,1E-4,0.09,0.04,4.0000000000000002E-4,7.0000000000000001E-3]
[null,null,null,"Next-Gen Superclusters - High Cost",null,null,null,null,1.1000000000000001,1.05,null,null,null,null,null,null,null,null,null,null,null,null,null,null,null,null,null,null,null,null,null,null,null,null,null,null,null,null,null,null,null,null,null,null,null,null,null,null,null,null,null,null,null,null,null,null,null,null,null,null,null,null,null,null,null,null,null,null,null,null,null,null,null,null,null,null,null,null,null,null,null,null,null,null,null,null,null,null,null,null,null,null,null,null,null,null,null,null,null,null,null,null,null,null,null,null,null,null,null,null,null,null,null,null,null,null,null,null,null,null,null,"NVIDIA Vera Rubin NVL72 - Low Cost",null,null,null,null,null,null,1.25,1.18,1.1399999999999999,1.2,1.32,0.8,0.13,0.05,5.9999999999999995E-4,0.18,7.0000000000000007E-2,1.5E-3,1.2E-2]
[null,null,null,"Next-Gen Superclusters - Low Cost",null,null,null,null,1.25,1.1499999999999999,null,null,null,null,null,null,null,null,null,null,null,null,null,null,null,null,null,null,null,null,null,null,null,null,null,null,null,null,null,null,null,null,null,null,null,null,null,null,null,null,null,null,null,null,null,null,null,null,null,null,null,null,null,null,null,null,null,null,null,null,null,null,null,null,null,null,null,null,null,null,null,null,null,null,null,null,null,null,null,null,null,null,null,null,null,null,null,null,null,null,null,null,null,null,null,null,null,null,null,null,null,null,null,null,null,null,null,null,null,null,null,"NVIDIA Vera Rubin NVL72 - 45 C Warm-Water Closed-Loop Liquid",null,null,null,null,null,null,1.07,1.04,1.03,1.05,1.08,0,0.03,0.03,2.0000000000000001E-4,0.06,4.4999999999999998E-2,5.0000000000000001E-4,8.0000000000000002E-3]
[null,null,null,"Next-Gen Superclusters - Chiller-Less Dry Cooling",null,null,null,null,1.1200000000000001,1.06,null,null,null,null,null,null,null,null,null,null,null,null,null,null,null,null,null,null,null,null,null,null,null,null,"Next-Gen Superclusters - High Cost",null,null,null,0.15,0.05,null,null,null,null,null,null,null,null,null,null,null,"Next-Gen Superclusters - High Cost",null,null,null,null,0.08,{"$f":"1/(1-BE44)","v":1.0869565217391304},0.04,{"$f":"1/(1-BG44)","v":1.0416666666666667},null,null,null,null,null,null,null,null,null,null,null,null,null,null,null,null,null,null,null,null,null,null,null,null,null,null,null,null,null,null,null,null,null,null,null,null,null,null,null,null,null,null,null,null,null,null,null,null,null,null,null,null,null,null,null,null,null,null,null,null,null,"NVIDIA Vera Rubin NVL72 - Single Phase Direct-to-Chip Liquid Cooling",null,null,null,null,null,null,1.1399999999999999,1.0900000000000001,1.07,1.1000000000000001,1.1499999999999999,0.2,7.0000000000000007E-2,0.03,2.0000000000000001E-4,0.1,0.05,5.9999999999999995E-4,8.9999999999999993E-3]
[null,null,null,"Next-Gen Superclusters - High -Impedance Dielectric Coolants",null,null,null,null,1.07,1.03,null,null,null,null,null,null,null,null,null,null,null,null,null,null,null,null,null,null,null,null,null,null,null,null,"Next-Gen Superclusters - Low Cost",null,null,null,1.2,0.6,null,null,null,null,null,null,null,null,null,null,null,"Next-Gen Superclusters - Low Cost",null,null,null,null,0.16,{"$f":"1/(1-BE45)","v":1.1904761904761905},0.11,1.1235955056179776,null,null,null,null,null,null,null,null,null,null,null,null,null,null,null,null,null,null,null,null,null,null,null,null,null,null,null,null,null,null,null,null,null,null,null,null,null,null,null,null,null,null,null,null,null,null,null,null,null,null,null,null,null,null,null,null,null,null,null,null,null,"NVIDIA Vera Rubin NVL72 - Double Phase Direct-to-Chip Liquid Cooling",null,null,null,null,null,null,1.1000000000000001,1.05,1.04,1.06,1.1100000000000001,0.08,0.04,2.5000000000000001E-2,1E-4,0.08,0.04,4.0000000000000002E-4,7.0000000000000001E-3]
[null,null,null,"Next-Gen Superclusters - AI-Driven Grid Balance Cooling",null,null,null,null,1.1200000000000001,1.07,null,null,null,null,null,null,null,null,null,null,null,null,null,null,null,null,null,null,null,null,null,null,null,null,"Next-Gen Superclusters - Chiller-Less Dry Cooling",null,null,null,0,0,null,null,null,null,null,null,null,null,null,null,null,"Next-Gen Superclusters - Chiller-Less Dry Cooling",null,null,null,null,0.09,1.0989010989010988,0.05,1.0526315789473684]
[null,null,null,null,null,null,null,null,null,null,null,null,null,null,null,null,null,null,null,null,null,null,null,null,null,null,null,null,null,null,null,null,null,null,"Next-Gen Superclusters - High -Impedance Dielectric Coolants",null,null,null,0.05,0.01,null,null,null,null,null,null,null,null,null,null,null,"Next-Gen Superclusters - High -Impedance Dielectric Coolants",null,null,null,null,0.05,1.0526315789473684,0.02,1.0204081632653061,null,null,null,null,null,null,null,null,null,"Next-Gen Superclusters - High Cost",null,null,null,null,0.05,0.03,null,null,null,null,null,null,null,null,null,null,null,null,"Next-Gen Superclusters - High Cost",null,null,null,null,5.0000000000000001E-4,1E-4]
[null,null,null,null,null,null,null,null,null,null,null,null,null,null,null,null,null,null,null,null,null,null,null,null,null,null,null,null,null,null,null,null,null,null,"Next-Gen Superclusters - AI-Driven Grid Balance Cooling",null,null,null,0.3,0.1,null,null,null,null,null,null,null,null,null,null,null,"Next-Gen Superclusters - AI-Driven Grid Balance Cooling",null,null,null,null,0.1,1.1111111111111112,0.1,1.1111111111111112,null,null,null,null,null,null,null,null,null,"Next-Gen Superclusters - Low Cost",null,null,null,null,0.08,0.06,null,null,null,null,null,null,null,null,null,null,null,null,"Next-Gen Superclusters - Low Cost",null,null,null,null,1.5E-3,8.0000000000000004E-4]
[null,null,null,null,null,null,null,null,null,null,null,null,null,null,null,null,null,null,null,null,null,null,null,null,null,null,null,null,null,null,null,null,null,null,null,null,null,null,null,null,null,null,null,null,null,null,null,null,null,null,null,null,null,null,null,null,null,null,null,null,null,null,null,null,null,null,null,null,null,"Next-Gen Superclusters - Chiller-Less Dry Cooling",null,null,null,null,0.05,0.03,null,null,null,null,null,null,null,null,null,null,null,null,"Next-Gen Superclusters - Chiller-Less Dry Cooling",null,null,null,null,5.9999999999999995E-4,2.0000000000000001E-4]
[null,null,null,null,null,null,null,null,null,null,null,null,null,null,null,null,null,null,null,"Modern AI Factories - High Cost",null,null,null,1.0900000000000001,1.1299999999999999,1.21,null,null,null,null,null,null,null,null,null,null,null,null,null,null,null,null,null,null,null,null,null,null,null,null,null,null,null,null,null,null,null,null,null,null,null,null,null,null,null,null,null,null,null,"Next-Gen Superclusters - High -Impedance Dielectric Coolants",null,null,null,null,0.04,0.03,null,null,null,null,null,null,null,null,null,null,null,null,"Next-Gen Superclusters - High -Impedance Dielectric Coolants",null,null,null,null,4.0000000000000002E-4,1E-4,null,null,null,null,null,null,null,null,null,null,"Next-Gen Superclusters - High Cost",null,null,null,8.0000000000000002E-3]
[null,null,null,null,null,null,null,null,null,null,null,null,null,null,null,null,null,null,null,"Modern AI Factories - Low Cost",null,null,null,1.18,1.25,1.4,null,null,null,null,null,null,null,null,null,null,null,null,null,null,null,null,null,null,null,null,null,null,null,null,null,null,null,null,null,null,null,null,null,null,null,null,null,null,null,null,null,null,null,"Next-Gen Superclusters - AI-Driven Grid Balance Cooling",null,null,null,null,0.06,0.04,null,null,null,null,null,null,null,null,null,null,null,null,"Next-Gen Superclusters - AI-Driven Grid Balance Cooling",null,null,null,null,5.0000000000000001E-4,2.0000000000000001E-4,null,null,null,null,null,null,null,null,null,null,"Next-Gen Superclusters - Low Cost",null,null,null,1.2999999999999999E-2]
[null,null,null,null,null,null,null,null,null,null,null,null,null,null,null,null,null,null,null,"Modern AI Factories - Single Phase Direct-to-Chip Liquid Cooling",null,null,null,1.08,1.1100000000000001,1.18,null,null,null,null,null,null,null,null,null,null,null,null,null,null,null,null,null,null,null,null,null,null,null,null,null,null,null,null,null,null,null,null,null,null,null,null,null,null,null,null,null,null,null,null,null,null,null,null,null,null,null,null,null,null,null,null,null,null,null,null,null,null,null,null,null,null,null,null,null,null,null,null,null,null,null,null,null,null,null,"Next-Gen Superclusters - Chiller-Less Dry Cooling",null,null,null,8.9999999999999993E-3]
[null,null,null,null,null,null,null,null,null,null,null,null,null,null,null,null,null,null,null,"Modern AI Factories - Coolant Distribution Units (CDUs)",null,null,null,1.0900000000000001,1.1200000000000001,1.19,null,null,null,null,null,null,null,null,null,null,null,null,null,null,null,null,null,null,null,null,null,null,null,null,null,null,null,null,null,null,null,null,null,null,null,null,null,null,null,null,null,null,null,null,null,null,null,null,null,null,null,null,null,null,null,null,null,null,null,null,null,null,null,null,null,null,null,null,null,null,null,null,null,null,null,null,null,null,null,"Next-Gen Superclusters - High -Impedance Dielectric Coolants",null,null,null,7.0000000000000001E-3]
[null,null,null,"Specialized Inference Farms - High Cost",null,null,null,null,1.35,1.2,null,null,null,null,null,null,null,null,null,"Modern AI Factories - Hybrid Air-Liquid Infrastructure",null,null,null,1.1399999999999999,1.2,1.3,null,null,null,null,null,null,null,null,null,null,null,null,null,null,null,null,null,null,null,null,null,null,null,null,null,null,null,null,null,null,null,null,null,null,null,null,null,null,null,null,null,null,null,null,null,null,null,null,null,null,null,null,null,null,null,null,null,null,null,null,null,null,null,null,null,null,null,null,null,null,null,null,null,null,null,null,null,null,null,"Next-Gen Superclusters - AI-Driven Grid Balance Cooling",null,null,null,1.0999999999999999E-2]
[null,null,null,"Specialized Inference Farms - Low Cost",null,null,null,null,1.55,1.35]
[null,null,null,"Specialized Inference Farms - Chassis-Level Immersion Cooling",null,null,null,null,1.18,1.1200000000000001,null,null,null,null,null,null,null,null,null,null,null,null,null,null,null,null,null,null,null,null,null,null,null,null,"Specialized Inference Farms - High Cost",null,null,null,0.7,0.3]
[null,null,null,"Specialized Inference Farms - Open-Tank-Phase Immersion",null,null,null,null,1.08,1.04,null,null,null,null,null,null,null,null,null,null,null,null,null,null,null,null,null,null,null,null,null,null,null,null,"Specialized Inference Farms - Low Cost",null,null,null,1.4,0.8]
[null,null,null,"Specialized Inference Farms - Liquid-to-Air (L2A) Sidecars",null,null,null,null,1.35,1.25,null,null,null,null,null,null,null,null,null,null,null,null,null,null,null,null,null,null,null,null,null,null,null,null,"Specialized Inference Farms - Chassis-Level Immersion Cooling",null,null,null,0.1,0.02,null,null,null,null,null,null,null,null,null,null,null,"Specialized Inference Farms - High Cost",null,null,null,null,0.15,{"$f":"1/(1-BE58)","v":1.1764705882352942},0.15,{"$f":"1/(1-BG58)","v":1.1764705882352942}]
[null,null,null,null,null,null,null,null,null,null,null,null,null,null,null,null,null,null,null,null,null,null,null,null,null,null,null,null,null,null,null,null,null,null,"Specialized Inference Farms - Open-Tank-Phase Immersion",null,null,null,0.04,0.01,null,null,null,null,null,null,null,null,null,null,null,"Specialized Inference Farms - Low Cost",null,null,null,null,0.32,{"$f":"1/(1-BE59)","v":1.4705882352941178},0.22,1.2820512820512819]
[null,null,null,null,null,null,null,null,null,null,null,null,null,null,null,null,null,null,null,null,null,null,null,null,null,null,null,null,null,null,null,null,null,null,"Specialized Inference Farms - Liquid-to-Air (L2A) Sidecars",null,null,null,0,0,null,null,null,null,null,null,null,null,null,null,null,"Specialized Inference Farms - Chassis-Level Immersion Cooling",null,null,null,null,0.13,1.1494252873563218,0.09,1.0989010989010988,null,null,null,null,null,null,null,null,null,"Specialized Inference Farms - High Cost",null,null,null,null,7.0000000000000007E-2,0.05,null,null,null,null,null,null,null,null,null,null,null,null,"Specialized Inference Farms - High Cost",null,null,null,null,3.5000000000000001E-3,1.5E-3]
[null,null,null,null,null,null,null,null,null,null,null,null,null,null,null,null,null,null,null,null,null,null,null,null,null,null,null,null,null,null,null,null,null,null,null,null,null,null,null,null,null,null,null,null,null,null,null,null,null,null,null,"Specialized Inference Farms - Open-Tank-Phase Immersion",null,null,null,null,0.06,1.0638297872340425,0.03,1.0309278350515465,null,null,null,null,null,null,null,null,null,"Specialized Inference Farms - Low Cost",null,null,null,null,0.08,0.08,null,null,null,null,null,null,null,null,null,null,null,null,"Specialized Inference Farms - Low Cost",null,null,null,null,6.0000000000000001E-3,3.0000000000000001E-3]
[null,null,null,null,null,null,null,null,null,null,null,null,null,null,null,null,null,null,null,null,null,null,null,null,null,null,null,null,null,null,null,null,null,null,null,null,null,null,null,null,null,null,null,null,null,null,null,null,null,null,null,"Specialized Inference Farms - Liquid-to-Air (L2A) Sidecars",null,null,null,null,0.24,1.3157894736842106,0.18,1.2195121951219512,null,null,null,null,null,null,null,null,null,"Specialized Inference Farms - Chassis-Level Immersion Cooling",null,null,null,null,0.04,0.04,null,null,null,null,null,null,null,null,null,null,null,null,"Specialized Inference Farms - Chassis-Level Immersion Cooling",null,null,null,null,2E-3,1E-3]
[null,null,null,null,null,null,null,null,null,null,null,null,null,null,null,null,null,null,null,null,null,null,null,null,null,null,null,null,null,null,null,null,null,null,null,null,null,null,null,null,null,null,null,null,null,null,null,null,null,null,null,null,null,null,null,null,null,null,null,null,null,null,null,null,null,null,null,null,null,"Specialized Inference Farms - Open-Tank-Phase Immersion",null,null,null,null,0.03,0.03,null,null,null,null,null,null,null,null,null,null,null,null,"Specialized Inference Farms - Open-Tank-Phase Immersion",null,null,null,null,1.5E-3,5.0000000000000001E-4]
[null,null,null,null,null,null,null,null,null,null,null,null,null,null,null,null,null,null,null,null,null,null,null,null,null,null,null,null,null,null,null,null,null,null,null,null,null,null,null,null,null,null,null,null,null,null,null,null,null,null,null,null,null,null,null,null,null,null,null,null,null,null,null,null,null,null,null,null,null,"Specialized Inference Farms - Liquid-to-Air (L2A) Sidecars",null,null,null,null,0.06,0.06,null,null,null,null,null,null,null,null,null,null,null,null,"Specialized Inference Farms - Liquid-to-Air (L2A) Sidecars",null,null,null,null,4.4999999999999997E-3,2E-3,null,null,null,null,null,null,null,null,null,null,"Specialized Inference Farms - High Cost",null,null,null,1.2E-2]
[null,null,null,null,null,null,null,null,null,null,null,null,null,null,null,null,null,null,null,null,null,null,null,null,null,null,null,null,null,null,null,null,null,null,null,null,null,null,null,null,null,null,null,null,null,null,null,null,null,null,null,null,null,null,null,null,null,null,null,null,null,null,null,null,null,null,null,null,null,null,null,null,null,null,null,null,null,null,null,null,null,null,null,null,null,null,null,null,null,null,null,null,null,null,null,null,null,null,null,null,null,null,null,null,null,"Specialized Inference Farms - Low Cost",null,null,null,1.7999999999999999E-2]
[null,null,null,null,null,null,null,null,null,null,null,null,null,null,null,null,null,null,null,null,null,null,null,null,null,null,null,null,null,null,null,null,null,null,null,null,null,null,null,null,null,null,null,null,null,null,null,null,null,null,null,null,null,null,null,null,null,null,null,null,null,null,null,null,null,null,null,null,null,null,null,null,null,null,null,null,null,null,null,null,null,null,null,null,null,null,null,null,null,null,null,null,null,null,null,null,null,null,null,null,null,null,null,null,null,"Specialized Inference Farms - Chassis-Level Immersion Cooling",null,null,null,6.0000000000000001E-3]
[null,null,null,null,null,null,null,null,null,null,null,null,null,null,null,null,null,null,null,null,null,null,null,null,null,null,null,null,null,null,null,null,null,null,null,null,null,null,null,null,null,null,null,null,null,null,null,null,null,null,null,null,null,null,null,null,null,null,null,null,null,null,null,null,null,null,null,null,null,null,null,null,null,null,null,null,null,null,null,null,null,null,null,null,null,null,null,null,null,null,null,null,null,null,null,null,null,null,null,null,null,null,null,null,null,"Specialized Inference Farms - Open-Tank-Phase Immersion",null,null,null,8.9999999999999993E-3]
[null,null,null,null,null,null,null,null,null,null,null,null,null,null,null,null,null,null,null,null,null,null,null,null,null,null,null,null,null,null,null,null,null,null,null,null,null,null,null,null,null,null,null,null,null,null,null,null,null,null,null,null,null,null,null,null,null,null,null,null,null,null,null,null,null,null,null,null,null,null,null,null,null,null,null,null,null,null,null,null,null,null,null,null,null,null,null,null,null,null,null,null,null,null,null,null,null,null,null,null,null,null,null,null,null,"Specialized Inference Farms - Liquid-to-Air (L2A) Sidecars",null,null,null,1.4E-2]
[null,null,null,"NVIDIA Hopper (H200) - High Cost",null,null,null,null,1.22,1.1499999999999999]
[null,null,null,"NVIDIA Hopper (H200) - Low Cost",null,null,null,null,1.45,1.3,null,null,null,null,null,null,null,null,null,"Next-Gen Superclusters - High Cost",null,null,null,1.04,1.06,1.1200000000000001]
[null,null,null,"NVIDIA Hopper (H200) - Hyrid Air",null,null,null,null,1.5,1.35,null,null,null,null,null,null,null,null,null,"Next-Gen Superclusters - Low Cost",null,null,null,1.1200000000000001,1.18,1.28,null,null,null,null,null,null,null,null,"NVIDIA Hopper (H200) - High Cost",null,null,null,0.8,0.4]
[null,null,null,"NVIDIA Hopper (H200) - Fluid-Assisted",null,null,null,null,1.35,1.25,null,null,null,null,null,null,null,null,null,"Next-Gen Superclusters - Chiller-Less Dry Cooling",null,null,null,1.05,1.08,1.1399999999999999,null,null,null,null,null,null,null,null,"NVIDIA Hopper (H200) - Low Cost",null,null,null,1.8,1.2]
[null,null,null,"NVIDIA Hopper (H200) - Single Phase Direct-to-Chip Liquid Cooling",null,null,null,null,1.18,1.1200000000000001,null,null,null,null,null,null,null,null,null,"Next-Gen Superclusters - High -Impedance Dielectric Coolants",null,null,null,1.02,1.04,1.08,null,null,null,null,null,null,null,null,"NVIDIA Hopper (H200) - Hyrid Air",null,null,null,2,1.4,null,null,null,null,null,null,null,null,null,null,null,"NVIDIA Hopper (H200) - High Cost",null,null,null,null,0.16,{"$f":"1/(1-BE73)","v":1.1904761904761905},0.11,{"$f":"1/(1-BG73)","v":1.1235955056179776},null,null,null,null,null,null,null,null,null,"NVIDIA Hopper (H200) - High Cost",null,null,null,null,7.0000000000000007E-2,0.05,null,null,null,null,null,null,null,null,null,null,null,null,"NVIDIA Hopper (H200) - High Cost",null,null,null,null,2E-3,1E-3]
[null,null,null,"NVIDIA Hopper (H200) - Double Phase Direct-to-Chip Liquid Cooling",null,null,null,null,1.1399999999999999,1.08,null,null,null,null,null,null,null,null,null,"Next-Gen Superclusters - AI-Driven Grid Balance Cooling",null,null,null,1.05,1.08,1.1499999999999999,null,null,null,null,null,null,null,null,"NVIDIA Hopper (H200) - Fluid-Assisted",null,null,null,1.3,0.8,null,null,null,null,null,null,null,null,null,null,null,"NVIDIA Hopper (H200) - Low Cost",null,null,null,null,0.28000000000000003,{"$f":"1/(1-BE74)","v":1.3888888888888888},0.21,1.2658227848101264,null,null,null,null,null,null,null,null,null,"NVIDIA Hopper (H200) - Low Cost",null,null,null,null,0.08,0.11,null,null,null,null,null,null,null,null,null,null,null,null,"NVIDIA Hopper (H200) - Low Cost",null,null,null,null,6.0000000000000001E-3,3.5000000000000001E-3]
[null,null,null,null,null,null,null,null,null,null,null,null,null,null,null,null,null,null,null,null,null,null,null,null,null,null,null,null,null,null,null,null,null,null,"NVIDIA Hopper (H200) - Single Phase Direct-to-Chip Liquid Cooling",null,null,null,0.6,0.3,null,null,null,null,null,null,null,null,null,null,null,"NVIDIA Hopper (H200) - Hyrid Air",null,null,null,null,0.3,1.4285714285714286,0.23,1.2987012987012987,null,null,null,null,null,null,null,null,null,"NVIDIA Hopper (H200) - Hyrid Air",null,null,null,null,0.1,7.0000000000000007E-2,null,null,null,null,null,null,null,null,null,null,null,null,"NVIDIA Hopper (H200) - Hyrid Air",null,null,null,null,4.4999999999999997E-3,2.5000000000000001E-3]
[null,null,null,null,null,null,null,null,null,null,null,null,null,null,null,null,null,null,null,null,null,null,null,null,null,null,null,null,null,null,null,null,null,null,"NVIDIA Hopper (H200) - Double Phase Direct-to-Chip Liquid Cooling",null,null,null,0.4,0.1,null,null,null,null,null,null,null,null,null,null,null,"NVIDIA Hopper (H200) - Fluid-Assisted",null,null,null,null,0.23,1.2987012987012987,0.17,1.2048192771084338,null,null,null,null,null,null,null,null,null,"NVIDIA Hopper (H200) - Fluid-Assisted",null,null,null,null,0.08,0.06,null,null,null,null,null,null,null,null,null,null,null,null,"NVIDIA Hopper (H200) - Fluid-Assisted",null,null,null,null,3.0000000000000001E-3,1.5E-3]
[null,null,null,null,null,null,null,null,null,null,null,null,null,null,null,null,null,null,null,null,null,null,null,null,null,null,null,null,null,null,null,null,null,null,null,null,null,null,null,null,null,null,null,null,null,null,null,null,null,null,null,"NVIDIA Hopper (H200) - Single Phase Direct-to-Chip Liquid Cooling",null,null,null,null,0.14000000000000001,1.1627906976744187,0.1,1.1111111111111112,null,null,null,null,null,null,null,null,null,"NVIDIA Hopper (H200) - Single Phase Direct-to-Chip Liquid Cooling",null,null,null,null,7.0000000000000007E-2,0.05,null,null,null,null,null,null,null,null,null,null,null,null,"NVIDIA Hopper (H200) - Single Phase Direct-to-Chip Liquid Cooling",null,null,null,null,2E-3,1E-3]
[null,null,null,null,null,null,null,null,null,null,null,null,null,null,null,null,null,null,null,null,null,null,null,null,null,null,null,null,null,null,null,null,null,null,null,null,null,null,null,null,null,null,null,null,null,null,null,null,null,null,null,"NVIDIA Hopper (H200) - Double Phase Direct-to-Chip Liquid Cooling",null,null,null,null,0.11,1.1235955056179776,7.0000000000000007E-2,1.0752688172043012,null,null,null,null,null,null,null,null,null,"NVIDIA Hopper (H200) - Double Phase Direct-to-Chip Liquid Cooling",null,null,null,null,0.06,0.04,null,null,null,null,null,null,null,null,null,null,null,null,"NVIDIA Hopper (H200) - Double Phase Direct-to-Chip Liquid Cooling",null,null,null,null,1.8E-3,8.0000000000000004E-4]
[null,null,null,null,null,null,null,null,null,null,null,null,null,null,null,null,null,null,null,null,null,null,null,null,null,null,null,null,null,null,null,null,null,null,null,null,null,null,null,null,null,null,null,null,null,null,null,null,null,null,null,null,null,null,null,null,null,null,null,null,null,null,null,null,null,null,null,null,null,null,null,null,null,null,null,null,null,null,null,null,null,null,null,null,null,null,null,null,null,null,null,null,null,null,null,null,null,null,null,null,null,null,null,null,null,"NVIDIA Hopper (H200) - High Cost",null,null,null,1.2999999999999999E-2]
[null,null,null,null,null,null,null,null,null,null,null,null,null,null,null,null,null,null,null,null,null,null,null,null,null,null,null,null,null,null,null,null,null,null,null,null,null,null,null,null,null,null,null,null,null,null,null,null,null,null,null,null,null,null,null,null,null,null,null,null,null,null,null,null,null,null,null,null,null,null,null,null,null,null,null,null,null,null,null,null,null,null,null,null,null,null,null,null,null,null,null,null,null,null,null,null,null,null,null,null,null,null,null,null,null,"NVIDIA Hopper (H200) - Low Cost",null,null,null,1.9E-2]
[null,null,null,null,null,null,null,null,null,null,null,null,null,null,null,null,null,null,null,null,null,null,null,null,null,null,null,null,null,null,null,null,null,null,null,null,null,null,null,null,null,null,null,null,null,null,null,null,null,null,null,null,null,null,null,null,null,null,null,null,null,null,null,null,null,null,null,null,null,null,null,null,null,null,null,null,null,null,null,null,null,null,null,null,null,null,null,null,null,null,null,null,null,null,null,null,null,null,null,null,null,null,null,null,null,"NVIDIA Hopper (H200) - Hyrid Air",null,null,null,1.6E-2]
[null,null,null,null,null,null,null,null,null,null,null,null,null,null,null,null,null,null,null,null,null,null,null,null,null,null,null,null,null,null,null,null,null,null,null,null,null,null,null,null,null,null,null,null,null,null,null,null,null,null,null,null,null,null,null,null,null,null,null,null,null,null,null,null,null,null,null,null,null,null,null,null,null,null,null,null,null,null,null,null,null,null,null,null,null,null,null,null,null,null,null,null,null,null,null,null,null,null,null,null,null,null,null,null,null,"NVIDIA Hopper (H200) - Fluid-Assisted",null,null,null,1.4E-2]
[null,null,null,"NVIDIA Blackwell (GB300 / B300) - High  Cost",null,null,null,null,1.1399999999999999,1.1000000000000001,null,null,null,null,null,null,null,null,null,null,null,null,null,null,null,null,null,null,null,null,null,null,null,null,null,null,null,null,null,null,null,null,null,null,null,null,null,null,null,null,null,null,null,null,null,null,null,null,null,null,null,null,null,null,null,null,null,null,null,null,null,null,null,null,null,null,null,null,null,null,null,null,null,null,null,null,null,null,null,null,null,null,null,null,null,null,null,null,null,null,null,null,null,null,null,"NVIDIA Hopper (H200) - Single Phase Direct-to-Chip Liquid Cooling",null,null,null,1.0999999999999999E-2]
[null,null,null,"NVIDIA Blackwell (GB300 / B300) - Low Cost",null,null,null,null,1.3,1.2,null,null,null,null,null,null,null,null,null,null,null,null,null,null,null,null,null,null,null,null,null,null,null,null,null,null,null,null,null,null,null,null,null,null,null,null,null,null,null,null,null,null,null,null,null,null,null,null,null,null,null,null,null,null,null,null,null,null,null,null,null,null,null,null,null,null,null,null,null,null,null,null,null,null,null,null,null,null,null,null,null,null,null,null,null,null,null,null,null,null,null,null,null,null,null,"NVIDIA Hopper (H200) - Double Phase Direct-to-Chip Liquid Cooling",null,null,null,0.01]
[null,null,null,"NVIDIA Blackwell (GB300 / B300) - 90% Direct-to-Chip Liquid",null,null,null,null,1.1299999999999999,1.0900000000000001]
[null,null,null,"NVIDIA Blackwell (GB300 / B300) - Single Phase Direct-to-Chip Liquid Cooling",null,null,null,null,1.1499999999999999,1.1000000000000001,null,null,null,null,null,null,null,null,null,null,null,null,null,null,null,null,null,null,null,null,null,null,null,null,"NVIDIA Blackwell (GB300 / B300) - High  Cost",null,null,null,0.15,0.05,null,null,null,null,null,null,null,null,null,null,null,"NVIDIA Blackwell (GB300 / B300) - High  Cost",null,null,null,null,0.11,{"$f":"1/(1-BE86)","v":1.1235955056179776},0.08,{"$f":"1/(1-BG86)","v":1.0869565217391304}]
[null,null,null,"NVIDIA Blackwell (GB300 / B300) - Double Phase Direct-to-Chip Liquid Cooling",null,null,null,null,1.1100000000000001,1.05,null,null,null,null,null,null,null,null,null,null,null,null,null,null,null,null,null,null,null,null,null,null,null,null,"NVIDIA Blackwell (GB300 / B300) - Low Cost",null,null,null,1.1000000000000001,0.6,null,null,null,null,null,null,null,null,null,null,null,"NVIDIA Blackwell (GB300 / B300) - Low Cost",null,null,null,null,0.21,{"$f":"1/(1-BE87)","v":1.2658227848101264},0.15,1.1764705882352942]
[null,null,null,null,null,null,null,null,null,null,null,null,null,null,null,null,null,null,null,null,null,null,null,null,null,null,null,null,null,null,null,null,null,null,"NVIDIA Blackwell (GB300 / B300) - 90% Direct-to-Chip Liquid",null,null,null,0.1,0.02,null,null,null,null,null,null,null,null,null,null,null,"NVIDIA Blackwell (GB300 / B300) - 90% Direct-to-Chip Liquid",null,null,null,null,0.1,1.1111111111111112,7.0000000000000007E-2,1.0752688172043012,null,null,null,null,null,null,null,null,null,"NVIDIA Blackwell (GB300 / B300) - High  Cost",null,null,null,null,0.05,3.5000000000000003E-2,null,null,null,null,null,null,null,null,null,null,null,null,"NVIDIA Blackwell (GB300 / B300) - High  Cost",null,null,null,null,8.0000000000000004E-4,2.9999999999999997E-4]
[null,null,null,null,null,null,null,null,null,null,null,null,null,null,null,null,null,null,null,null,null,null,null,null,null,null,null,null,null,null,null,null,null,null,"NVIDIA Blackwell (GB300 / B300) - Single Phase Direct-to-Chip Liquid Cooling",null,null,null,0.3,0.1,null,null,null,null,null,null,null,null,null,null,null,"NVIDIA Blackwell (GB300 / B300) - Single Phase Direct-to-Chip Liquid Cooling",null,null,null,null,0.12,1.1363636363636365,0.08,1.0869565217391304,null,null,null,null,null,null,null,null,null,"NVIDIA Blackwell (GB300 / B300) - Low Cost",null,null,null,null,0.08,0.06,null,null,null,null,null,null,null,null,null,null,null,null,"NVIDIA Blackwell (GB300 / B300) - Low Cost",null,null,null,null,2.5000000000000001E-3,1.1999999999999999E-3]
[null,null,null,null,null,null,null,null,null,null,null,null,null,null,null,null,null,null,null,null,null,null,null,null,null,null,null,null,null,null,null,null,null,null,"NVIDIA Blackwell (GB300 / B300) - Double Phase Direct-to-Chip Liquid Cooling",null,null,null,0.1,0.01,null,null,null,null,null,null,null,null,null,null,null,"NVIDIA Blackwell (GB300 / B300) - Double Phase Direct-to-Chip Liquid Cooling",null,null,null,null,0.09,1.0989010989010988,0.04,1.0416666666666667,null,null,null,null,null,null,null,null,null,"NVIDIA Blackwell (GB300 / B300) - 90% Direct-to-Chip Liquid",null,null,null,null,0.05,3.5000000000000003E-2,null,null,null,null,null,null,null,null,null,null,null,null,"NVIDIA Blackwell (GB300 / B300) - 90% Direct-to-Chip Liquid",null,null,null,null,6.9999999999999999E-4,2.0000000000000001E-4]
[null,null,null,null,null,null,null,null,null,null,null,null,null,null,null,null,null,null,null,null,null,null,null,null,null,null,null,null,null,null,null,null,null,null,null,null,null,null,null,null,null,null,null,null,null,null,null,null,null,null,null,null,null,null,null,null,null,null,null,null,null,null,null,null,null,null,null,null,null,"NVIDIA Blackwell (GB300 / B300) - Single Phase Direct-to-Chip Liquid Cooling",null,null,null,null,5.5E-2,0.04,null,null,null,null,null,null,null,null,null,null,null,null,"NVIDIA Blackwell (GB300 / B300) - Single Phase Direct-to-Chip Liquid Cooling",null,null,null,null,8.9999999999999998E-4,2.9999999999999997E-4]
[null,null,null,null,null,null,null,null,null,null,null,null,null,null,null,null,null,null,null,null,null,null,null,null,null,null,null,null,null,null,null,null,null,null,null,null,null,null,null,null,null,null,null,null,null,null,null,null,null,null,null,null,null,null,null,null,null,null,null,null,null,null,null,null,null,null,null,null,null,"NVIDIA Blackwell (GB300 / B300) - Double Phase Direct-to-Chip Liquid Cooling",null,null,null,null,4.4999999999999998E-2,3.5000000000000003E-2,null,null,null,null,null,null,null,null,null,null,null,null,"NVIDIA Blackwell (GB300 / B300) - Double Phase Direct-to-Chip Liquid Cooling",null,null,null,null,5.9999999999999995E-4,2.0000000000000001E-4]
[]
[]
[null,null,null,null,null,null,null,null,null,null,null,null,null,null,null,null,null,null,null,"Specialized Inference Farms - High Cost",null,null,null,1.1599999999999999,1.24,1.42]
[null,null,null,"NVIDIA Vera Rubin NVL72 - High Cost",null,null,null,null,1.1200000000000001,1.08,null,null,null,null,null,null,null,null,null,"Specialized Inference Farms - Low Cost",null,null,null,1.28,1.4,1.68,null,null,null,null,null,null,null,null,null,null,null,null,null,null,null,null,null,null,null,null,null,null,null,null,null,null,null,null,null,null,null,null,null,null,null,null,null,null,null,null,null,null,null,null,null,null,null,null,null,null,null,null,null,null,null,null,null,null,null,null,null,null,null,null,null,null,null,null,null,null,null,null,null,null,null,null,null,null,null,"NVIDIA Blackwell (GB300 / B300) - High  Cost",null,null,null,8.9999999999999993E-3]
[null,null,null,"NVIDIA Vera Rubin NVL72 - Low Cost",null,null,null,null,1.25,1.18,null,null,null,null,null,null,null,null,null,"Specialized Inference Farms - Chassis-Level Immersion Cooling",null,null,null,1.1000000000000001,1.1399999999999999,1.22,null,null,null,null,null,null,null,null,null,null,null,null,null,null,null,null,null,null,null,null,null,null,null,null,null,null,null,null,null,null,null,null,null,null,null,null,null,null,null,null,null,null,null,null,null,null,null,null,null,null,null,null,null,null,null,null,null,null,null,null,null,null,null,null,null,null,null,null,null,null,null,null,null,null,null,null,null,null,null,"NVIDIA Blackwell (GB300 / B300) - Low Cost",null,null,null,1.4999999999999999E-2]
[null,null,null,"NVIDIA Vera Rubin NVL72 - 45 C Warm-Water Closed-Loop Liquid",null,null,null,null,1.07,1.04,null,null,null,null,null,null,null,null,null,"Specialized Inference Farms - Open-Tank-Phase Immersion",null,null,null,1.03,1.05,1.0900000000000001,null,null,null,null,null,null,null,null,null,null,null,null,null,null,null,null,null,null,null,null,null,null,null,null,null,null,null,null,null,null,null,null,null,null,null,null,null,null,null,null,null,null,null,null,null,null,null,null,null,null,null,null,null,null,null,null,null,null,null,null,null,null,null,null,null,null,null,null,null,null,null,null,null,null,null,null,null,null,null,"NVIDIA Blackwell (GB300 / B300) - 90% Direct-to-Chip Liquid",null,null,null,1.0999999999999999E-2]
[null,null,null,"NVIDIA Vera Rubin NVL72 - Single Phase Direct-to-Chip Liquid Cooling",null,null,null,null,1.1399999999999999,1.0900000000000001,null,null,null,null,null,null,null,null,null,"Specialized Inference Farms - Liquid-to-Air (L2A) Sidecars",null,null,null,1.18,1.28,1.45,null,null,null,null,null,null,null,null,"NVIDIA Vera Rubin NVL72 - High Cost",null,null,null,0.1,0.02,null,null,null,null,null,null,null,null,null,null,null,"NVIDIA Vera Rubin NVL72 - High Cost",null,null,null,null,0.09,{"$f":"1/(1-BE99)","v":1.0989010989010988},0.06,{"$f":"1/(1-BG99)","v":1.0638297872340425},null,null,null,null,null,null,null,null,null,null,null,null,null,null,null,null,null,null,null,null,null,null,null,null,null,null,null,null,null,null,null,null,null,null,null,null,null,null,null,null,null,null,null,null,null,"NVIDIA Blackwell (GB300 / B300) - Single Phase Direct-to-Chip Liquid Cooling",null,null,null,0.01]
[null,null,null,"NVIDIA Vera Rubin NVL72 - Double Phase Direct-to-Chip Liquid Cooling",null,null,null,null,1.1000000000000001,1.05,null,null,null,null,null,null,null,null,null,null,null,null,null,null,null,null,null,null,null,null,null,null,null,null,"NVIDIA Vera Rubin NVL72 - Low Cost",null,null,null,0.8,0.4,null,null,null,null,null,null,null,null,null,null,null,"NVIDIA Vera Rubin NVL72 - Low Cost",null,null,null,null,0.18,{"$f":"1/(1-BE100)","v":1.2195121951219512},0.13,{"$f":"1/(1-BG100)","v":1.1494252873563218},null,null,null,null,null,null,null,null,null,null,null,null,null,null,null,null,null,null,null,null,null,null,null,null,null,null,null,null,null,null,null,null,null,null,null,null,null,null,null,null,null,null,null,null,null,"NVIDIA Blackwell (GB300 / B300) - Double Phase Direct-to-Chip Liquid Cooling",null,null,null,8.0000000000000002E-3]
[null,null,null,null,null,null,null,null,null,null,null,null,null,null,null,null,null,null,null,null,null,null,null,null,null,null,null,null,null,null,null,null,null,null,"NVIDIA Vera Rubin NVL72 - 45 C Warm-Water Closed-Loop Liquid",null,null,null,0,0,null,null,null,null,null,null,null,null,null,null,null,"NVIDIA Vera Rubin NVL72 - 45 C Warm-Water Closed-Loop Liquid",null,null,null,null,0.06,1.0638297872340425,0.03,1.0309278350515465,null,null,null,null,null,null,null,null,null,"NVIDIA Vera Rubin NVL72 - High Cost",null,null,null,null,0.04,2.5000000000000001E-2,null,null,null,null,null,null,null,null,null,null,null,null,"NVIDIA Vera Rubin NVL72 - High Cost",null,null,null,null,4.0000000000000002E-4,1E-4]
[null,null,null,null,null,null,null,null,null,null,null,null,null,null,null,null,null,null,null,null,null,null,null,null,null,null,null,null,null,null,null,null,null,null,"NVIDIA Vera Rubin NVL72 - Single Phase Direct-to-Chip Liquid Cooling",null,null,null,0.2,0.05,null,null,null,null,null,null,null,null,null,null,null,"NVIDIA Vera Rubin NVL72 - Single Phase Direct-to-Chip Liquid Cooling",null,null,null,null,0.1,1.1111111111111112,7.0000000000000007E-2,1.0752688172043012,null,null,null,null,null,null,null,null,null,"NVIDIA Vera Rubin NVL72 - Low Cost",null,null,null,null,7.0000000000000007E-2,0.05,null,null,null,null,null,null,null,null,null,null,null,null,"NVIDIA Vera Rubin NVL72 - Low Cost",null,null,null,null,1.5E-3,5.9999999999999995E-4]
[null,null,null,null,null,null,null,null,null,null,null,null,null,null,null,null,null,null,null,null,null,null,null,null,null,null,null,null,null,null,null,null,null,null,"NVIDIA Vera Rubin NVL72 - Double Phase Direct-to-Chip Liquid Cooling",null,null,null,0.08,0.01,null,null,null,null,null,null,null,null,null,null,null,"NVIDIA Vera Rubin NVL72 - Double Phase Direct-to-Chip Liquid Cooling",null,null,null,null,0.08,1.0869565217391304,0.04,1.0416666666666667,null,null,null,null,null,null,null,null,null,"NVIDIA Vera Rubin NVL72 - 45 C Warm-Water Closed-Loop Liquid",null,null,null,null,4.4999999999999998E-2,0.03,null,null,null,null,null,null,null,null,null,null,null,null,"NVIDIA Vera Rubin NVL72 - 45 C Warm-Water Closed-Loop Liquid",null,null,null,null,5.0000000000000001E-4,2.0000000000000001E-4]
[null,null,null,null,null,null,null,null,null,null,null,null,null,null,null,null,null,null,null,null,null,null,null,null,null,null,null,null,null,null,null,null,null,null,null,null,null,null,null,null,null,null,null,null,null,null,null,null,null,null,null,null,null,null,null,null,null,null,null,null,null,null,null,null,null,null,null,null,null,"NVIDIA Vera Rubin NVL72 - Single Phase Direct-to-Chip Liquid Cooling",null,null,null,null,0.05,0.03,null,null,null,null,null,null,null,null,null,null,null,null,"NVIDIA Vera Rubin NVL72 - Single Phase Direct-to-Chip Liquid Cooling",null,null,null,null,5.9999999999999995E-4,2.0000000000000001E-4]
[null,null,null,null,null,null,null,null,null,null,null,null,null,null,null,null,null,null,null,null,null,null,null,null,null,null,null,null,null,null,null,null,null,null,null,null,null,null,null,null,null,null,null,null,null,null,null,null,null,null,null,null,null,null,null,null,null,null,null,null,null,null,null,null,null,null,null,null,null,"NVIDIA Vera Rubin NVL72 - Double Phase Direct-to-Chip Liquid Cooling",null,null,null,null,0.04,2.5000000000000001E-2,null,null,null,null,null,null,null,null,null,null,null,null,"NVIDIA Vera Rubin NVL72 - Double Phase Direct-to-Chip Liquid Cooling",null,null,null,null,4.0000000000000002E-4,1E-4]
[]
[]
[]
[]
[]
[]
[null,null,null,null,null,null,null,null,null,null,null,null,null,null,null,null,null,0.7,null,null,null,null,null,null,null,null,null,null,null,null,null,null,null,null,null,null,null,null,null,null,null,null,null,null,null,null,null,null,null,null,null,null,null,null,null,null,null,null,null,null,null,null,null,null,null,null,null,null,null,null,null,null,null,null,null,null,null,null,null,null,null,null,null,null,null,null,null,null,null,null,null,null,null,null,null,null,null,null,null,null,null,null,null,null,null,"NVIDIA Vera Rubin NVL72 - High Cost",null,null,null,7.0000000000000001E-3]
[null,null,null,null,null,null,null,null,null,null,null,null,null,null,null,null,null,{"$f":"1/R112","v":1.4285714285714286},null,null,null,null,null,null,null,null,null,null,null,null,null,null,null,null,null,null,null,null,null,null,null,null,null,null,null,null,null,null,null,null,null,null,null,null,null,null,null,null,null,null,null,null,null,null,null,null,null,null,null,null,null,null,null,null,null,null,null,null,null,null,null,null,null,null,null,null,null,null,null,null,null,null,null,null,null,null,null,null,null,null,null,null,null,null,null,"NVIDIA Vera Rubin NVL72 - Low Cost",null,null,null,1.2E-2]
[null,null,null,null,null,null,null,null,null,null,null,null,null,null,null,null,null,null,null,null,null,null,null,null,null,null,null,null,null,null,null,null,null,null,null,null,null,null,null,null,null,null,null,null,null,null,null,null,null,null,null,null,null,null,null,null,null,null,null,null,null,null,null,null,null,null,null,null,null,null,null,null,null,null,null,null,null,null,null,null,null,null,null,null,null,null,null,null,null,null,null,null,null,null,null,null,null,null,null,null,null,null,null,null,null,"NVIDIA Vera Rubin NVL72 - 45 C Warm-Water Closed-Loop Liquid",null,null,null,8.0000000000000002E-3]
[null,null,null,null,null,null,null,null,null,null,null,null,null,null,null,null,null,null,null,null,null,null,null,null,null,null,null,null,null,null,null,null,null,null,null,null,null,null,null,null,null,null,null,null,null,null,null,null,null,null,null,null,null,null,null,null,null,null,null,null,null,null,null,null,null,null,null,null,null,null,null,null,null,null,null,null,null,null,null,null,null,null,null,null,null,null,null,null,null,null,null,null,null,null,null,null,null,null,null,null,null,null,null,null,null,"NVIDIA Vera Rubin NVL72 - Single Phase Direct-to-Chip Liquid Cooling",null,null,null,8.9999999999999993E-3]
[null,null,null,null,null,null,null,null,null,null,null,null,null,null,null,null,null,null,null,null,null,null,null,null,null,null,null,null,null,null,null,null,null,null,null,null,null,null,null,null,null,null,null,null,null,null,null,null,null,null,null,null,null,null,null,null,null,null,null,null,null,null,null,null,null,null,null,null,null,null,null,null,null,null,null,null,null,null,null,null,null,null,null,null,null,null,null,null,null,null,null,null,null,null,null,null,null,null,null,null,null,null,null,null,null,"NVIDIA Vera Rubin NVL72 - Double Phase Direct-to-Chip Liquid Cooling",null,null,null,7.0000000000000001E-3]
[]
[]
[]
[]
[null,null,null,null,null,null,null,null,null,null,null,null,null,null,null,null,null,null,null,"NVIDIA Hopper (H200) - High Cost",null,null,null,1.1200000000000001,1.17,1.26]
[null,null,null,null,null,null,null,null,null,null,null,null,null,null,null,null,null,null,null,"NVIDIA Hopper (H200) - Low Cost",null,null,null,1.24,1.35,1.52]
[null,null,null,null,null,null,null,null,null,null,null,null,null,null,null,null,null,null,null,"NVIDIA Hopper (H200) - Hyrid Air",null,null,null,1.28,1.4,1.62]
[null,null,null,null,null,null,null,null,null,null,null,null,null,null,null,null,null,null,null,"NVIDIA Hopper (H200) - Fluid-Assisted",null,null,null,1.2,1.28,1.42]
[null,null,null,null,null,null,null,null,null,null,null,null,null,null,null,null,null,null,null,"NVIDIA Hopper (H200) - Single Phase Direct-to-Chip Liquid Cooling",null,null,null,1.1000000000000001,1.1399999999999999,1.22]
[null,null,null,null,null,null,null,null,null,null,null,null,null,null,null,null,null,null,null,"NVIDIA Hopper (H200) - Double Phase Direct-to-Chip Liquid Cooling",null,null,null,1.07,1.1000000000000001,1.1599999999999999]
[]
[]
[]
[]
[]
[]
[]
[]
[null,null,null,null,null,null,null,null,null,null,null,null,null,null,null,null,null,null,null,"NVIDIA Blackwell (GB300 / B300) - High  Cost",null,null,null,1.08,1.1100000000000001,1.1599999999999999]
[null,null,null,null,null,null,null,null,null,null,null,null,null,null,null,null,null,null,null,"NVIDIA Blackwell (GB300 / B300) - Low Cost",null,null,null,1.1599999999999999,1.23,1.35]
[null,null,null,null,null,null,null,null,null,null,null,null,null,null,null,null,null,null,null,"NVIDIA Blackwell (GB300 / B300) - 90% Direct-to-Chip Liquid",null,null,null,1.07,1.1000000000000001,1.1499999999999999]
[null,null,null,null,null,null,null,null,null,null,null,null,null,null,null,null,null,null,null,"NVIDIA Blackwell (GB300 / B300) - Single Phase Direct-to-Chip Liquid Cooling",null,null,null,1.08,1.1200000000000001,1.17]
[null,null,null,null,null,null,null,null,null,null,null,null,null,null,null,null,null,null,null,"NVIDIA Blackwell (GB300 / B300) - Double Phase Direct-to-Chip Liquid Cooling",null,null,null,1.04,1.07,1.1200000000000001]
[]
[]
[]
[]
[]
[]
[]
[]
[]
[]
[]
[]
[null,null,null,null,null,null,null,null,null,null,null,null,null,null,null,null,null,null,null,"NVIDIA Vera Rubin NVL72 - High Cost",null,null,null,1.06,1.0900000000000001,1.1399999999999999]
[null,null,null,null,null,null,null,null,null,null,null,null,null,null,null,null,null,null,null,"NVIDIA Vera Rubin NVL72 - Low Cost",null,null,null,1.1399999999999999,1.2,1.32]
[null,null,null,null,null,null,null,null,null,null,null,null,null,null,null,null,null,null,null,"NVIDIA Vera Rubin NVL72 - 45 C Warm-Water Closed-Loop Liquid",null,null,null,1.03,1.05,1.08]
[null,null,null,null,null,null,null,null,null,null,null,null,null,null,null,null,null,null,null,"NVIDIA Vera Rubin NVL72 - Single Phase Direct-to-Chip Liquid Cooling",null,null,null,1.07,1.1000000000000001,1.1499999999999999]
[null,null,null,null,null,null,null,null,null,null,null,null,null,null,null,null,null,null,null,"NVIDIA Vera Rubin NVL72 - Double Phase Direct-to-Chip Liquid Cooling",null,null,null,1.04,1.06,1.1100000000000001]

{"sheet":"Capital Expenditures","index":14,"n_rows":193,"n_cols":292,"rows_kept":193,"cut":false,"hidden":false,"merged":[]}
["Return",null,null,null,null,null,null,null,null,null,null,"Total Cost with IT and Electricity Breakdown",null,null,null,null,null,null,null,null,"Total Cost with IT and Electricity Breakdown",null,null,{"$error":"#VALUE!"},null,null,null,null,null,"Total Cost with civil and Buiding Cap Exp",null,null,null,null,null,null,null,null,null,"Total Cost with civil and Buiding Cap Exp",null,null,null,null,null,null,null,null,null,null,null,null,null,null,null,null,null,null,null,null,null,null,null,null,"Electricity Cost Components",null,null,null,null,null,null,null,null,null,null,null,null,null,null,null,null,null,null,"Electricity Cost Components"]
[null,null,null,null,null,null,null,null,null,null,null,null,null,null,null,null,null,null,null,null,null,null,null,null,null,null,null,null,null,null,null,null,null,null,null,null,null,null,null,null,null,null,null,null,null,null,null,null,null,null,null,null,null,null,null,null,null,null,null,null,null,null,null,null,null,null,null,null,null,null,null,null,null,null,null,null,null,null,null,null,null,null,null,null,null,null,null,null,null,null,null,null,null,null,null,null,null,null,null,null,null,null,null,null,null,null,null,null,null,null,null,null,null,null,null,null,null,null,null,null,null,null,null,null,null,null,null,null,null,null,null,null,null,null,null,null,null,null,null,null,null,null,null,null,null,null,null,null,null,null,null,null,null,null,null,null,null,null,null,null,null,null,null,null,null,null,null,null,null,"IT Life",null,null,null,null,null,null,null,null,null,null,null,null,null,null,null,null,null,null,null,null,null,null,null,null,null,null,null,null,null,"Notes",null,null,null,null,null,null,null,null,null,null,null,null,null,null,null,null,null,null,null,null,null,null,null,null,null,null,null,null,null,null,"Total Rev","IT Rev","Other Rev","Total","IT ","Electric","Mechanical",null,null,null,null,null,null,null,null,null,null,null,null,null,null,null,"Elec/kW","Elec/kW","Elec/kW","Elec/kW","IT","IT","Replace IT","Replace IT","Cost/Ton","Tons/","% Elec ","Cost/MW "]
[null,null,null,null,null,null,null,null,null,null,null,null,null,null,null,null,null,null,null,null,null,null,null,null,null,null,null,null,null,null,null,null,null,null,null,null,null,null,null,null,null,null,null,null,null,null,null,null,null,null,null,null,null,null,null,null,null,null,null,null,null,null,null,null,null,null,null,null,null,null,null,null,null,null,null,null,null,null,null,null,null,null,null,null,null,null,null,null,null,null,null,null,null,null,null,null,null,null,null,null,null,null,null,null,null,null,null,null,null,null,null,null,null,null,null,null,null,null,null,null,null,null,null,null,null,null,null,null,null,null,null,null,null,null,null,null,null,null,null,null,null,null,null,null,null,null,null,null,null,null,null,null,null,null,null,null,null,null,null,null,null,null,null,null,null,"Months","Months",null,null,null,null,null,null,null,null,null,null,null,null,null,null,null,null,null,null,"Cost per Ton","Tons/100 MW",null,null,null,null,null,null,null,null,null,null,null,null,null,null,null,null,null,null,null,null,null,null,null,null,null,null,"% Elec Repl","Cost/MW Repl",null,null,null,null,null,null,null,null,null,null,null,null,null,null,null,"Revised Search","Cap Exp/kW","Cap Exp/kW","Original Search","Cap Exp","Cap Exp","Cap Exp","Total without Bulding","Building  Cost","Total Cost","Total Electric Cost","Total Mechanical Cost","Back-up Generators","Universal Power Supply","Transmission Step Down","Switchgear/Dense Busway Distribution","Chillers","CRAH","CDU","Piping/Liq Loop/Adiabatic Dry Fluid Coolers/Dense Secondary Loops","In Chassis CDU/Dielectric Fluid Pumps and Loops","Other - Loops, CDUs and Mechanical Sheel","High","Low","High","Low","High","Low","High","Low","Chemical","100 MW","Repl","Repl",null,null,"Revised Prompt","Initial Prompt"]
[null,null,null,null,null,null,null,null,null,null,null,null,null,null,null,"Total","IT","Electrical","Other",null,null,null,null,null,null,null,null,null,null,null,null,null,null,null,null,null,null,null,null,null,null,null,null,null,null,null,null,null,null,null,null,null,null,null,null,null,null,null,null,null,null,null,null,null,null,null,null,null,null,null,null,null,null,null,null,null,null,null,null,null,null,null,null,null,null,null,null,null,null,null,null,null,null,null,null,null,null,null,null,null,null,null,null,null,"Electricity","Electricity",null,null,null,null,null,null,null,null,null,null,null,null,null,null,null,"Alt Elec","Alt Elec",null,null,null,null,null,null,null,null,null,null,null,null,null,null,null,null,"Alt Elec","Alt Elec",null,null,null,null,null,null,null,null,null,null,null,null,null,null,null,null,null,null,null,null,null,null,null,null,"High","Low",null,null,null,null,null,null,null,null,null,null,null,null,null,null,null,null,null,null,null,null,null,null,null,null,null,null,null,null,null,null,null,null,null,null,null,null,null,null,null,null,null,null,null,null,null,null,null,null,null,null,null,null,null,null,null,null,null,"Legacy Data Centers - High Cost",null,null,null,null,null,{"$f":"_xlfn.XLOOKUP($HQ4,$AV:$AV,BA:BA,0,0)","v":13500},{"$f":"_xlfn.XLOOKUP($HQ4,$AV:$AV,BB:BB,0,0)","v":3500},{"$f":"_xlfn.XLOOKUP($HQ4,$AV:$AV,BC:BC,0,0)","v":10000},{"$f":"_xlfn.XLOOKUP($HQ4,$L:$L,P:P,0,0)","v":14500},{"$f":"_xlfn.XLOOKUP($HQ4,$L:$L,Q:Q,0,0)","v":3500},{"$f":"_xlfn.XLOOKUP($HQ4,$L:$L,R:R,0,0)","v":5000},{"$f":"_xlfn.XLOOKUP($HQ4,$L:$L,S:S,0,0)","v":6000},{"$f":"_xlfn.XLOOKUP($HQ4,$AD:$AD,AJ:AJ,0,0,1)","v":14500},{"$f":"_xlfn.XLOOKUP($HQ4,$AD:$AD,AK:AK,0,0,1)","v":2200},{"$f":"_xlfn.XLOOKUP($HQ4,$AD:$AD,AL:AL,0,0,1)","v":16700},{"$f":"_xlfn.XLOOKUP($HQ4,$BM:$BM,BR:BR,0,0,1)","v":5000},6000,1800,1500,700,1000,2800,1500,1700,0,0,0,{"$f":"_xlfn.XLOOKUP($HQ4,$CW:$CW,DA:DA,0,0)","v":5500},{"$f":"_xlfn.XLOOKUP($HQ4,$CW:$CW,DB:DB,0,0)","v":4500},{"$f":"_xlfn.XLOOKUP($HQ4,$DN:$DN,DR:DR,0,0)","v":8000},{"$f":"_xlfn.XLOOKUP($HQ4,$DN:$DN,DS:DS,0,0)","v":6500},{"$f":"_xlfn.XLOOKUP($HQ4,$EF:$EF,EJ:EJ)","v":2400},{"$f":"_xlfn.XLOOKUP($HQ4,$EF:$EF,EK:EK)","v":1800},{"$f":"_xlfn.XLOOKUP($HQ4,$FF:$FF,FJ:FJ)","v":84},{"$f":"_xlfn.XLOOKUP($HQ4,$FF:$FF,FK:FK)","v":60},{"$f":"_xlfn.XLOOKUP($HQ4,$FY:$FY,GD:GD,0,0)","v":4500},{"$f":"_xlfn.XLOOKUP($HQ4,$FY:$FY,GE:GE,0,0)","v":140},{"$f":"_xlfn.XLOOKUP($HQ4,$HA:$HA,HF:HF,0,0)","v":0.12},{"$f":"_xlfn.XLOOKUP($HQ4,$HA:$HA,HG:HG,0,0)","v":185},null,{"$f":"HQ4","v":"Legacy Data Centers - High Cost"},{"$f":"HW4","v":13500},{"$f":"HZ4","v":14500}]
[null,null,null,null,null,null,null,null,null,null,null,null,null,null,null,null,null,null,null,null,null,null,null,null,null,null,null,null,null,null,null,null,null,null,null,null,null,null,null,null,null,null,null,null,null,null,null,null,null,null,null,null,null,null,null,null,null,null,null,null,null,null,null,null,null,null,null,null,null,null,null,null,null,null,null,null,null,null,null,null,null,null,null,null,null,null,null,null,null,null,null,null,null,null,null,null,null,null,null,null,null,null,null,null,"High","Low",null,null,null,null,null,null,null,null,null,null,null,null,null,null,null,"High","Low",null,null,null,null,null,null,null,null,null,null,null,null,null,null,null,null,"High","Low",null,null,null,null,null,null,null,null,null,null,null,null,null,null,null,null,null,null,null,null,null,null,null,null,null,null,null,null,null,null,null,null,null,null,null,null,null,null,null,null,null,null,null,null,null,null,null,null,null,null,null,null,null,null,null,null,null,null,null,null,null,null,null,null,null,null,null,null,null,null,null,null,null,null,null,null,null,null,null,null,null,null,null,"Legacy Data Centers - Low Cost",null,null,null,null,null,{"$f":"_xlfn.XLOOKUP($HQ5,$AV:$AV,BA:BA,0,0)","v":9500},{"$f":"_xlfn.XLOOKUP($HQ5,$AV:$AV,BB:BB,0,0)","v":2500},{"$f":"_xlfn.XLOOKUP($HQ5,$AV:$AV,BC:BC,0,0)","v":7000},{"$f":"_xlfn.XLOOKUP($HQ5,$L:$L,P:P)","v":8000},{"$f":"_xlfn.XLOOKUP($HQ5,$L:$L,Q:Q)","v":2500},{"$f":"_xlfn.XLOOKUP($HQ5,$L:$L,R:R,0,0)","v":3000},{"$f":"_xlfn.XLOOKUP($HQ5,$L:$L,S:S,0,0)","v":2500},{"$f":"_xlfn.XLOOKUP($HQ5,$AD:$AD,AJ:AJ,0,0,1)","v":8000},{"$f":"_xlfn.XLOOKUP($HQ5,$AD:$AD,AK:AK,0,0,1)","v":1000},{"$f":"_xlfn.XLOOKUP($HQ5,$AD:$AD,AL:AL,0,0,1)","v":9000},{"$f":"_xlfn.XLOOKUP($HQ5,$BM:$BM,BR:BR,0,0,1)","v":3000},{"$f":"_xlfn.XLOOKUP($HQ5,$BM:$BM,BS:BS,0,0,1)","v":2500},{"$f":"_xlfn.XLOOKUP($HQ5,$BM:$BM,BT:BT,0,0,1)","v":1100},{"$f":"_xlfn.XLOOKUP($HQ5,$BM:$BM,BU:BU,0,0,1)","v":900},{"$f":"_xlfn.XLOOKUP($HQ5,$BM:$BM,BV:BV,0,0,1)","v":400},{"$f":"_xlfn.XLOOKUP($HQ5,$BM:$BM,BW:BW,0,0,1)","v":600},{"$f":"_xlfn.XLOOKUP($HQ5,$BM:$BM,BX:BX,0,0,1)","v":1000},{"$f":"_xlfn.XLOOKUP($HQ5,$BM:$BM,BY:BY,0,0,1)","v":700},{"$f":"_xlfn.XLOOKUP($HQ5,$BM:$BM,BZ:BZ,0,0,1)","v":800},{"$f":"_xlfn.XLOOKUP($HQ5,$BM:$BM,CA:CA,0,0,1)","v":0},{"$f":"_xlfn.XLOOKUP($HQ5,$BM:$BM,CB:CB,0,0,1)","v":0},{"$f":"_xlfn.XLOOKUP($HQ5,$BM:$BM,CC:CC,0,0,1)","v":0},{"$f":"_xlfn.XLOOKUP($HQ5,$CW:$CW,DA:DA)","v":3000},{"$f":"_xlfn.XLOOKUP($HQ5,$CW:$CW,DB:DB)","v":2500},4600,3800,{"$f":"_xlfn.XLOOKUP($HQ5,$EF:$EF,EJ:EJ)","v":1200},{"$f":"_xlfn.XLOOKUP($HQ5,$EF:$EF,EK:EK)","v":800},{"$f":"_xlfn.XLOOKUP($HQ5,$FF:$FF,FJ:FJ)","v":48},{"$f":"_xlfn.XLOOKUP($HQ5,$FF:$FF,FK:FK)","v":36},{"$f":"_xlfn.XLOOKUP($HQ5,$FY:$FY,GD:GD,0,0)","v":2200},{"$f":"_xlfn.XLOOKUP($HQ5,$FY:$FY,GE:GE,0,0)","v":110},{"$f":"_xlfn.XLOOKUP($HQ5,$HA:$HA,HF:HF,0,0)","v":0.05},{"$f":"_xlfn.XLOOKUP($HQ5,$HA:$HA,HG:HG,0,0)","v":75},null,{"$f":"HQ5","v":"Legacy Data Centers - Low Cost"},{"$f":"HW5","v":9500},{"$f":"HZ5","v":8000}]
[null,null,null,null,null,null,null,null,null,null,null,"Legacy Data Centers - High Cost",null,null,null,14500,3500,5000,6000,null,null,null,null,null,null,null,null,null,null,null,null,null,null,null,null,null,null,null,null,null,null,null,null,null,null,null,null,null,null,null,null,null,null,null,null,null,null,null,null,null,null,null,null,null,null,null,null,null,null,null,null,null,null,null,null,null,null,null,null,null,null,null,null,null,null,null,null,null,null,null,null,null,null,null,null,null,null,null,null,null,"Legacy Data Centers - High Cost",null,null,null,5500,4500,null,null,null,null,null,null,null,null,null,null,null,"Legacy Data Centers - High Cost",null,null,null,8000,6500,null,null,null,null,null,null,null,null,null,null,null,null,"Legacy Data Centers - High Cost",null,null,null,2400,1800,null,null,null,null,null,null,null,null,null,null,null,null,null,null,null,null,null,null,null,null,"Legacy Data Centers - High Cost",null,null,null,84,60,null,null,null,null,null,null,null,null,null,null,null,null,null,"Legacy Data Centers - High Cost",null,null,null,null,4500,140,null,null,null,null,null,null,null,null,null,null,null,null,null,null,null,null,null,null,null,null,null,"Legacy Data Centers - High Cost",null,null,null,null,0.12,185,null,null,null,null,null,null,null,null,null,"Legacy Data Centers - Computer Room Air Conditioning",null,null,null,null,null,10200,2700,7500,9500,3000,3500,3000,9500,1400,10900,3500,3000,1300,1050,450,700,0,1800,1200,0,0,0,3400,2800,4200,4200,1400,1000,60,48,1800,45,0.06,90,null,"Legacy Data Centers - Computer Room Air Conditioning",10200,9500]
[null,null,null,null,null,null,null,null,null,null,null,"Legacy Data Centers - Low Cost",null,null,null,8000,2500,3000,2500,null,null,null,null,null,null,null,null,null,null,null,null,null,null,null,null,null,null,null,null,null,null,null,null,null,null,null,null,null,null,null,null,null,"Total","Elec & Other","IT",null,null,null,null,null,null,null,null,null,null,null,null,null,null,null,null,null,null,null,null,null,null,null,null,null,null,null,null,null,null,null,null,null,null,null,null,null,null,null,null,null,null,null,null,null,"Legacy Data Centers - Low Cost",null,null,null,3000,2500,null,null,null,null,null,null,null,null,null,null,null,"Legacy Data Centers - Low Cost",null,null,null,4600,3800,null,null,null,null,null,null,null,null,null,null,null,null,"Legacy Data Centers - Low Cost",null,null,null,1200,800,null,null,null,null,null,null,null,null,null,null,null,null,null,null,null,null,null,null,null,null,"Legacy Data Centers - Low Cost",null,null,null,48,36,null,null,null,null,null,null,null,null,null,null,null,null,null,"Legacy Data Centers - Low Cost",null,null,null,null,2200,110,null,null,null,null,null,null,null,null,null,null,null,null,null,null,null,null,null,null,null,null,null,"Legacy Data Centers - Low Cost",null,null,null,null,0.05,75,null,null,null,null,null,null,null,null,null,"Legacy Data Centers - Hot/Cold Aisle Containment",null,null,null,null,null,11200,3000,8200,10200,3000,3700,3500,10200,1450,11650,3500,3000,1300,1050,450,700,0,1800,1200,0,0,0,3800,3200,5400,4500,1600,1200,72,48,2400,95,0.08,110,null,"Legacy Data Centers - Hot/Cold Aisle Containment",11200,10200,null,null,null,"Legacy Data Centers High Cost",null,null,null,13500,3500,null,null,null,null,null,null,null,null,null,null,null,"Legacy Data Centers High Cost",null,null,6000]
[null,null,null,null,null,null,null,null,null,null,null,"Legacy Data Centers - Computer Room Air Conditioning",null,null,null,9500,3000,3500,3000,null,null,null,null,null,null,null,null,null,null,null,null,null,null,null,null,null,null,null,null,null,null,null,null,null,null,null,null,null,null,null,null,null,null,null,null,null,null,null,null,null,null,null,null,null,null,null,null,null,null,null,null,null,null,null,null,null,null,null,null,null,null,null,null,null,null,null,null,null,null,null,null,null,null,null,null,null,null,null,null,null,"Legacy Data Centers - Computer Room Air Conditioning",null,null,null,3400,2800,null,"   ",null,null,null,null,null,null,null,null,null,"Legacy Data Centers - Computer Room Air Conditioning",null,null,null,4200,4200,null,null,null,null,null,null,null,null,null,null,null,null,"Legacy Data Centers - Computer Room Air Conditioning",null,null,null,1400,1000,null,null,null,null,null,null,null,null,null,null,null,null,null,null,null,null,null,null,null,null,"Legacy Data Centers - Computer Room Air Conditioning",null,null,null,60,48,null,null,null,null,null,null,null,null,null,null,null,null,null,"Legacy Data Centers - Computer Room Air Conditioning",null,null,null,null,1800,45,null,null,null,null,null,null,null,null,null,null,null,null,null,null,null,null,null,null,null,null,null,"Legacy Data Centers - Computer Room Air Conditioning",null,null,null,null,0.06,90,null,null,null,null,null,null,null,null,null,"Legacy Data Centers - Chilled Water Central Loops",null,null,null,null,null,12200,3200,9000,13500,3000,4000,4500,11500,1600,13100,4000,4500,1450,1200,550,800,2400,1000,1100,0,0,0,4500,3800,7200,5800,2000,1500,72,60,3800,220,0.1,145,null,"Legacy Data Centers - Chilled Water Central Loops",12200,13500,null,null,null,"Legacy Data Centers Low Cost",null,null,null,9500,1500,null,null,null,null,null,null,null,null,null,null,null,"Legacy Data Centers Low Cost",null,null,4500]
[null,null,null,null,null,null,null,null,null,null,null,"Legacy Data Centers - Hot/Cold Aisle Containment",null,null,null,10200,3000,3700,3500,null,null,null,null,null,null,null,null,null,null,null,null,null,null,null,null,null,null,null,null,null,null,null,null,null,null,null,null,null,null,null,null,null,null,null,null,null,null,null,null,null,null,null,null,null,null,null,null,null,null,"Elec","Mech","Back up","UPS","Trans","Switch Gear","Chillers","CRAH","Other - Shell",null,null,null,null,null,null,null,null,null,null,null,null,null,null,null,null,null,null,null,null,null,null,"Legacy Data Centers - Hot/Cold Aisle Containment",null,null,null,3800,3200,null,null,null,null,null,null,null,null,null,null,null,"Legacy Data Centers - Hot/Cold Aisle Containment",null,null,null,5400,4500,null,null,null,null,null,null,null,null,null,null,null,null,"Legacy Data Centers - Hot/Cold Aisle Containment",null,null,null,1600,1200,null,null,null,null,null,null,null,null,null,null,null,null,null,null,null,null,null,null,null,null,"Legacy Data Centers - Hot/Cold Aisle Containment",null,null,null,72,48,null,null,null,null,null,null,null,null,null,null,null,null,null,"Legacy Data Centers - Hot/Cold Aisle Containment",null,null,null,null,2400,95,null,null,null,null,null,null,null,null,null,null,null,null,null,null,null,null,null,null,null,null,null,"Legacy Data Centers - Hot/Cold Aisle Containment",null,null,null,null,0.08,110,null,null,null,null,null,null,null,null,null,"Early AI Date Centers - High Cost",null,null,null,null,null,33000,18000,15000,26000,14000,6000,6000,26000,2400,28400,0,0,0,0,0,0,0,0,0,0,0,0,6200,5200,9500,7800,15000,12500,48,36,12500,340,0.24,410,null,"Early AI Date Centers - High Cost",33000,26000,null,null,null,"Early AI Data Centers High Cost",null,null,null,33000,14000,null,null,null,null,null,null,null,null,null,null,null,"Early AI Data Centers High Cost",null,null,7000]
[null,null,null,null,null,null,null,null,null,null,null,"Legacy Data Centers - Chilled Water Central Loops",null,null,null,13500,3000,4000,4500,null,null,null,null,null,null,null,null,null,null,"Legacy Data Centers - High Cost",null,null,null,null,null,14500,2200,16700,null,null,null,null,null,null,null,null,null,"Legacy Data Centers - High Cost",null,null,null,null,13500,3500,10000,null,null,null,null,null,null,null,null,null,"Legacy Data Centers - High Cost",null,null,null,null,5000,6000,1800,1500,700,1000,2800,1500,1700,null,null,null,{"$f":"SUM(BT10:BW10)=BR10","v":true},{"$f":"SUM(BX10:CC10)=BS10","v":true},null,null,null,null,null,null,null,null,null,null,null,null,null,null,null,null,null,"Legacy Data Centers - Chilled Water Central Loops",null,null,null,4500,3800,null,null,null,null,null,null,null,null,null,null,null,"Legacy Data Centers - Chilled Water Central Loops",null,null,null,7200,5800,null,null,null,null,null,null,null,null,null,null,null,null,"Legacy Data Centers - Chilled Water Central Loops",null,null,null,2000,1500,null,null,null,null,null,null,null,null,null,null,null,null,null,null,null,null,null,null,null,null,"Legacy Data Centers - Chilled Water Central Loops",null,null,null,72,60,null,null,null,null,null,null,null,null,null,null,null,null,null,"Legacy Data Centers - Chilled Water Central Loops",null,null,null,null,3800,220,null,null,null,null,null,null,null,null,null,null,null,null,null,null,null,null,null,null,null,null,null,"Legacy Data Centers - Chilled Water Central Loops",null,null,null,null,0.1,145,null,null,null,null,null,null,null,null,null,"Early AI Date Centers - Low Cost",null,null,null,null,null,22000,12000,10000,18500,11000,4500,3000,18500,1300,19800,0,0,0,0,0,0,0,0,0,0,0,0,4200,3500,6200,5200,8500,6000,36,24,5500,280,0.14000000000000001,215,null,"Early AI Date Centers - Low Cost",22000,18500,null,null,null,"Early AI Data Centers Low Cost",null,null,null,22000,8000,null,null,null,null,null,null,null,null,null,null,null,"Early AI Data Centers Low Cost",null,null,5500]
[null,null,null,null,null,null,null,null,null,null,null,null,null,null,null,null,null,null,null,null,null,null,null,null,null,null,null,null,null,"Legacy Data Centers - Low Cost",null,null,null,null,null,8000,1000,9000,null,null,null,null,null,null,null,null,null,"Legacy Data Centers - Low Cost",null,null,null,null,9500,2500,7000,null,null,null,null,null,null,null,null,null,"Legacy Data Centers - Low Cost",null,null,null,null,3000,2500,1100,900,400,600,1000,700,800,null,null,null,{"$f":"SUM(BT11:BW11)=BR11","v":true},{"$f":"SUM(BX11:CC11)=BS11","v":true},null,null,null,null,null,null,null,null,null,null,null,null,null,null,null,null,null,null,null,null,null,null,null,null,null,null,null,null,null,null,null,null,null,null,null,null,null,null,null,null,null,null,null,null,null,null,null,null,null,null,null,null,null,null,null,null,null,null,null,null,null,null,null,null,null,null,null,null,null,null,null,null,null,null,null,null,null,null,null,null,null,null,null,null,null,null,null,null,null,null,null,null,null,null,null,null,null,null,null,null,null,null,null,null,null,null,null,null,null,null,null,null,null,null,null,null,null,null,null,null,null,null,null,null,null,null,null,null,null,null,null,null,null,null,null,null,null,null,null,null,null,"Early AI Date Centers - Single Phase Direct to Liquid Cooling",null,null,null,null,null,27000,14500,12500,20500,11500,4800,4200,20500,1500,22000,0,0,0,0,0,0,0,0,0,0,0,0,4800,4000,7400,6000,11500,9000,54,42,14000,410,0.18,295,null,"Early AI Date Centers - Single Phase Direct to Liquid Cooling",27000,20500,null,null,null,"Modern AI Factories High Cost",null,null,null,75000,28000,null,null,null,null,null,null,null,null,null,null,null,"Modern AI Factories High Cost",null,null,9500]
[null,null,null,null,null,null,null,null,null,null,null,null,null,null,null,null,null,null,null,null,null,null,null,null,null,null,null,null,null,"Legacy Data Centers - Computer Room Air Conditioning",null,null,null,null,null,9500,1400,10900,null,null,null,null,null,null,null,null,null,"Legacy Data Centers - Computer Room Air Conditioning",null,null,null,null,10200,2700,7500,null,null,null,null,null,null,null,null,null,"Legacy Data Centers - Computer Room Air Conditioning",null,null,null,null,3500,3000,1300,1050,450,700,0,1800,1200,null,null,null,true,true,null,null,null,null,null,null,null,null,null,null,null,null,null,null,null,null,null,null,null,null,null,null,null,null,null,null,null,null,null,null,null,null,null,null,null,null,null,null,null,null,null,null,null,null,null,null,null,null,null,null,null,null,null,null,null,null,null,null,null,null,null,null,null,null,null,null,null,null,null,null,null,null,null,null,null,null,null,null,null,null,null,null,null,null,null,null,null,null,null,null,null,null,null,null,null,null,null,null,null,null,null,null,null,null,null,null,null,null,null,null,null,null,null,null,null,null,null,null,null,null,null,null,null,null,null,null,null,null,null,null,null,null,null,null,null,null,null,null,null,null,null,"Early AI Date Centers - Coolant Distribution Units",null,null,null,null,null,24500,13500,11000,19800,11000,4800,4200,19800,1450,21250,0,0,0,0,0,0,0,0,0,0,0,0,5000,4200,7800,6400,12000,9500,48,36,16500,180,0.16,260,null,"Early AI Date Centers - Coolant Distribution Units",24500,19800,null,null,null,"Modern AI Factories Low Cost",null,null,null,55000,20000,null,null,null,null,null,null,null,null,null,null,null,"Modern AI Factories Low Cost",null,null,7500]
[null,null,null,null,null,null,null,null,null,null,null,null,null,null,null,null,null,null,null,null,null,null,null,null,null,null,null,null,null,"Legacy Data Centers - Hot/Cold Aisle Containment",null,null,null,null,null,10200,1450,11650,null,null,null,null,null,null,null,null,null,"Legacy Data Centers - Hot/Cold Aisle Containment",null,null,null,null,11200,3000,8200,null,null,null,null,null,null,null,null,null,"Legacy Data Centers - Hot/Cold Aisle Containment",null,null,null,null,3500,3000,1300,1050,450,700,0,1800,1200,null,null,null,true,true,null,null,null,null,null,null,null,null,null,null,null,null,null,null,null,null,null,null,null,null,null,null,null,null,null,null,null,null,null,null,null,null,null,null,null,null,null,null,null,null,null,null,null,null,null,null,null,null,null,null,null,null,null,null,null,null,null,null,null,null,null,null,null,null,null,null,null,null,null,null,null,null,null,null,null,null,null,null,null,null,null,null,null,null,null,null,null,null,null,null,null,null,null,null,null,null,null,null,null,null,null,null,null,null,null,null,null,null,null,null,null,null,null,null,null,null,null,null,null,null,null,null,null,null,null,null,null,null,null,null,null,null,null,null,null,null,null,null,null,null,null,"Early AI Date Centers - Hybrid Air-Liquid Infrastructure",null,null,null,null,null,29500,16000,13500,21000,11500,5000,4500,21000,1600,22600,0,0,0,0,0,0,0,0,0,0,0,0,5400,4600,8400,6800,11000,8500,60,48,9200,290,0.2,340,null,"Early AI Date Centers - Hybrid Air-Liquid Infrastructure",29500,21000,null,null,null,"Next-Gen Superclusters High Cost",null,null,null,125000,42000,null,null,null,null,null,null,null,null,null,null,null,"Next-Gen Superclusters High Cost",null,null,13500]
[null,null,null,null,null,null,null,null,null,null,null,null,null,null,null,null,null,null,null,null,null,null,null,null,null,null,null,null,null,"Legacy Data Centers - Chilled Water Central Loops",null,null,null,null,null,11500,1600,13100,null,null,null,null,null,null,null,null,null,"Legacy Data Centers - Chilled Water Central Loops",null,null,null,null,12200,3200,9000,null,null,null,null,null,null,null,null,null,"Legacy Data Centers - Chilled Water Central Loops",null,null,null,null,4000,4500,1450,1200,550,800,2400,1000,1100,null,null,null,true,true,null,null,null,null,null,null,null,null,null,null,null,null,null,null,null,null,null,null,null,null,null,null,null,null,null,null,null,null,null,null,null,null,null,null,null,null,null,null,null,null,null,null,null,null,null,null,null,null,null,null,null,null,null,null,null,null,null,null,null,null,null,null,null,null,null,null,null,null,null,null,null,null,null,null,null,null,null,null,null,null,null,null,null,null,null,null,null,null,null,null,null,null,null,null,null,null,null,null,null,null,null,null,null,null,null,null,null,null,null,null,null,null,null,null,null,null,null,null,null,null,null,null,null,null,null,null,null,null,null,null,null,null,null,null,null,null,null,null,null,null,null,"Modern AI Factories - High Cost",null,null,null,null,null,75000,50000,25000,42000,26000,8500,7500,42000,2700,44700,0,0,0,0,0,0,0,0,0,0,0,0,6800,5800,10500,8500,38000,32000,36,30,38000,620,0.42,880,null,"Modern AI Factories - High Cost",75000,42000,null,null,null,"Next-Gen Superclusters Low Cost",null,null,null,105000,30000,null,null,null,null,null,null,null,null,null,null,null,"Next-Gen Superclusters Low Cost",null,null,10000]
[null,null,null,null,null,null,null,null,null,null,null,null,null,null,null,null,null,null,null,null,null,null,null,null,null,null,null,null,null,null,null,null,null,null,null,null,null,null,null,null,null,null,null,null,null,null,null,null,null,null,null,null,null,null,null,null,null,null,null,null,null,null,null,null,null,null,null,null,null,null,null,null,null,null,null,null,null,null,null,null,null,null,null,null,null,null,null,null,null,null,null,null,null,null,null,null,null,null,null,null,null,null,null,null,null,null,null,null,null,null,null,null,null,null,null,null,null,null,null,null,null,null,null,null,null,null,null,null,null,null,null,null,null,null,null,null,null,null,null,null,null,null,null,null,null,null,null,null,null,null,null,null,null,null,null,null,null,null,null,null,null,null,null,null,null,null,null,null,null,null,null,null,null,null,null,null,null,null,null,null,null,null,null,null,null,null,null,null,null,null,null,null,null,null,null,null,null,null,null,null,null,null,null,null,null,null,null,null,null,null,null,null,null,null,null,null,null,null,null,null,null,null,null,null,"Modern AI Factories - Low Cost",null,null,null,null,null,55000,40000,15000,33000,21000,6500,5500,33000,1700,34700,0,0,0,0,0,0,0,0,0,0,0,0,4800,4200,7500,6200,24000,18000,30,24,18500,510,0.28000000000000003,540,null,"Modern AI Factories - Low Cost",55000,33000,null,null,null,"Specialized Inference Farms High",null,null,null,58000,11000,null,null,null,null,null,null,null,null,null,null,null,"Specialized Inference Farms High",null,null,6500]
[null,null,null,null,null,null,null,null,null,null,null,null,null,null,null,null,null,null,null,null,null,null,null,null,null,null,null,null,null,null,null,null,null,null,null,null,null,null,null,null,null,null,null,null,null,null,null,null,null,null,null,null,null,null,null,null,null,null,null,null,null,null,null,null,null,null,null,null,null,null,null,null,null,null,null,null,null,null,null,null,null,null,null,null,null,null,null,null,null,null,null,null,null,null,null,null,null,null,null,null,null,null,null,null,null,null,null,null,null,null,null,null,null,null,null,null,null,null,null,null,null,null,null,null,null,null,null,null,null,null,null,null,null,null,null,null,null,null,null,null,null,null,null,null,null,null,null,null,null,null,null,null,null,null,null,null,null,null,null,null,null,null,null,null,null,null,null,null,null,null,null,null,null,null,null,null,null,null,null,null,null,null,null,null,null,null,null,null,null,null,null,null,null,null,null,null,null,null,null,null,null,null,null,null,null,null,null,null,null,null,null,null,null,null,null,null,null,null,null,null,null,null,null,null,"Modern AI Factories - Single Phase Direct-to-Chip Liquid Cooling",null,null,null,null,null,63550,44000,19500,35500,22000,7000,6500,35500,1800,37300,0,0,0,0,0,0,0,0,0,0,0,0,5200,4400,7800,6500,31000,25000,42,36,32000,740,0.32,620,null,"Modern AI Factories - Single Phase Direct-to-Chip Liquid Cooling",63550,35500,null,null,null,"Specialized Inference Farms Low",null,null,null,42000,6000,null,null,null,null,null,null,null,null,null,null,null,"Specialized Inference Farms Low",null,null,5000]
[null,null,null,null,null,null,null,null,null,null,null,null,null,null,null,null,null,null,null,null,null,null,null,null,null,null,null,null,null,null,null,null,null,null,null,null,null,null,null,null,null,null,null,null,null,null,null,null,null,null,null,null,null,null,null,null,null,null,null,null,null,null,null,null,null,null,null,null,null,null,null,null,null,null,null,null,null,null,null,null,null,null,null,null,null,null,null,null,null,null,null,null,null,null,null,null,null,null,null,null,null,null,null,null,null,null,null,null,null,null,null,null,null,null,null,null,null,null,null,null,null,null,null,null,null,null,null,null,null,null,null,null,null,null,null,null,null,null,null,null,null,null,null,null,null,null,null,null,null,null,null,null,null,null,null,null,null,null,null,null,null,null,null,null,null,null,null,null,null,null,null,null,null,null,null,null,null,null,null,null,null,null,null,null,null,null,null,null,null,null,null,null,null,null,null,null,null,null,null,null,null,null,null,null,null,null,null,null,null,null,null,null,null,null,null,null,null,null,null,null,null,null,null,null,"Modern AI Factories - Coolant Distribution Units (CDUs)",null,null,null,null,null,59000,42000,17000,34800,21500,6800,6500,34800,1800,36600,0,0,0,0,0,0,0,0,0,0,0,0,5400,4600,8200,6800,30000,24000,36,30,35000,480,0.3,590,null,"Modern AI Factories - Coolant Distribution Units (CDUs)",59000,34800,null,null,null,"NVIDIA Hopper H200 High",null,null,null,65000,36000,null,null,null,null,null,null,null,null,null,null,null,"NVIDIA Hopper H200 High",null,null,8500]
[null,null,null,null,null,null,null,null,null,null,null,null,null,null,null,null,null,null,null,null,null,null,null,null,null,null,null,null,null,null,null,null,null,null,null,null,null,null,null,null,null,null,null,null,null,null,null,null,null,null,null,null,null,null,null,null,null,null,null,null,null,null,null,null,null,null,null,null,null,null,null,null,null,null,null,null,null,null,null,null,null,null,null,null,null,null,null,null,null,null,null,null,null,null,null,null,null,null,null,null,"Early AI Date Centers - High Cost",null,null,null,6200,5200,null,null,null,null,null,null,null,null,null,null,null,null,null,null,null,null,null,null,null,null,null,null,null,null,null,null,null,null,null,null,null,null,null,null,null,null,null,null,null,null,null,null,null,null,null,null,null,null,null,null,null,null,null,null,null,null,null,null,null,null,null,null,null,null,null,null,null,null,null,null,null,null,null,null,null,null,null,null,null,null,null,null,null,null,null,null,null,null,null,null,null,null,null,null,null,null,null,null,null,null,null,null,null,null,null,null,null,null,null,null,null,null,null,null,null,null,null,null,"Modern AI Factories - Hybrid Air-Liquid Infrastructure",null,null,null,null,null,69000,47000,22000,37000,23000,7200,6800,37000,1900,38900,0,0,0,0,0,0,0,0,0,0,0,0,5600,4800,8800,7200,27000,22000,48,36,24000,580,0.35,70,null,"Modern AI Factories - Hybrid Air-Liquid Infrastructure",69000,37000,null,null,null,"NVIDIA Hopper H200 Low",null,null,null,55000,34000,null,null,null,null,null,null,null,null,null,null,null,"NVIDIA Hopper H200 Low",null,null,7000]
[null,null,null,null,null,null,null,null,null,null,null,null,null,null,null,null,null,null,null,null,null,null,null,null,null,null,null,null,null,null,null,null,null,null,null,null,null,null,null,null,null,null,null,null,null,null,null,null,null,null,null,null,null,null,null,null,null,null,null,null,null,null,null,null,null,null,null,null,null,null,null,null,null,null,null,null,null,null,null,null,null,null,null,null,null,null,null,null,null,null,null,null,null,null,null,null,null,null,null,null,"Early AI Date Centers - Low Cost",null,null,null,4200,3500,null,null,null,null,null,null,null,null,null,null,null,null,null,null,null,null,null,null,null,null,null,null,null,null,null,null,null,null,null,null,null,null,null,null,null,null,null,null,null,null,null,null,null,null,null,null,null,null,null,null,null,null,null,null,null,null,null,null,null,null,null,null,null,null,null,null,null,null,null,null,null,null,null,null,null,null,null,null,null,null,null,null,null,null,null,null,null,null,null,null,null,null,null,null,null,null,null,null,null,null,null,null,null,null,null,null,null,null,null,null,null,null,null,null,null,null,null,null,"Next-Gen Superclusters - High Cost",null,null,null,null,null,125000,70000,55000,55000,35000,11000,9000,55000,3200,58200,11000,9000,3400,3000,1800,2800,3000,0,0,3400,0,2600,7200,6200,11500,9500,48000,40000,30,24,140000,1850,0.55000000000000004,1450,null,"Next-Gen Superclusters - High Cost",125000,55000,null,null,null,"NVIDIA Blackwell GB300 High",null,null,null,155000,25000,null,null,null,null,null,null,null,null,null,null,null,"NVIDIA Blackwell GB300 High",null,null,13000]
[null,null,null,null,null,null,null,null,null,null,null,null,null,null,null,null,null,null,null,null,null,null,null,null,null,null,null,null,null,null,null,null,null,null,null,null,null,null,null,null,null,null,null,null,null,null,null,null,null,null,null,null,null,null,null,null,null,null,null,null,null,null,null,null,null,null,null,null,null,null,null,null,null,null,null,null,null,null,null,null,null,null,null,null,null,null,null,null,null,null,null,null,null,null,null,null,null,null,null,null,"Early AI Date Centers - Single Phase Direct to Liquid Cooling",null,null,null,4800,4000,null,null,null,null,null,null,null,null,null,null,null,null,null,null,null,null,null,null,null,null,null,null,null,null,null,null,null,null,null,null,null,null,null,null,null,null,null,null,null,null,null,null,null,null,null,null,null,null,null,null,null,null,null,null,null,null,null,null,null,null,null,null,null,null,null,null,null,null,null,null,null,null,null,null,null,null,null,null,null,null,null,null,null,null,null,null,null,null,null,null,null,null,null,null,null,null,null,null,null,null,null,null,"Early AI Date Centers - High Cost",null,null,null,null,0.24,410,null,null,null,null,null,null,null,null,null,"Next-Gen Superclusters - Low Cost",null,null,null,null,null,105000,60000,45000,44000,29000,8500,6500,44000,2100,46100,8500,{"$f":"_xlfn.XLOOKUP($HQ20,$BM:$BM,BS:BS,0,0,1)","v":6500},{"$f":"_xlfn.XLOOKUP($HQ20,$BM:$BM,BT:BT,0,0,1)","v":2700},{"$f":"_xlfn.XLOOKUP($HQ20,$BM:$BM,BU:BU,0,0,1)","v":2300},{"$f":"_xlfn.XLOOKUP($HQ20,$BM:$BM,BV:BV,0,0,1)","v":1400},{"$f":"_xlfn.XLOOKUP($HQ20,$BM:$BM,BW:BW,0,0,1)","v":2100},{"$f":"_xlfn.XLOOKUP($HQ20,$BM:$BM,BX:BX,0,0,1)","v":2000},{"$f":"_xlfn.XLOOKUP($HQ20,$BM:$BM,BY:BY,0,0,1)","v":0},{"$f":"_xlfn.XLOOKUP($HQ20,$BM:$BM,BZ:BZ,0,0,1)","v":0},{"$f":"_xlfn.XLOOKUP($HQ20,$BM:$BM,CA:CA,0,0,1)","v":2500},{"$f":"_xlfn.XLOOKUP($HQ20,$BM:$BM,CB:CB,0,0,1)","v":0},{"$f":"_xlfn.XLOOKUP($HQ20,$BM:$BM,CC:CC,0,0,1)","v":2000},5200,4600,8200,6800,32000,26000,24,18,65000,1400,0.38,920,null,"Next-Gen Superclusters - Low Cost",105000,44000,null,null,null,"NVIDIA Blackwell GB300 Low",null,null,null,135000,22500,null,null,null,null,null,null,null,null,null,null,null,"NVIDIA Blackwell GB300 Low",null,null,10500]
[null,null,null,null,null,null,null,null,null,null,null,null,null,null,null,null,null,null,null,null,null,null,null,null,null,null,null,null,null,null,null,null,null,null,null,null,null,null,null,null,null,null,null,null,null,null,null,null,null,null,null,null,null,null,null,null,null,null,null,null,null,null,null,null,null,null,null,null,null,null,null,null,null,null,null,null,null,null,null,null,null,null,null,null,null,null,null,null,null,null,null,null,null,null,null,null,null,null,null,null,"Early AI Date Centers - Coolant Distribution Units",null,null,null,5000,4200,null,null,null,null,null,null,null,null,null,null,null,null,null,null,null,null,null,null,null,null,null,null,null,null,null,null,null,null,null,null,null,null,null,null,null,null,null,null,null,null,null,null,null,null,null,null,null,null,null,null,null,null,null,null,null,null,null,null,null,null,null,null,null,null,null,null,null,null,null,null,null,null,null,null,null,null,null,null,null,null,null,null,null,null,null,null,null,null,null,null,null,null,null,null,null,null,null,null,null,null,null,null,"Early AI Date Centers - Low Cost",null,null,null,null,0.14000000000000001,215,null,null,null,null,null,null,null,null,null,"Next-Gen Superclusters - Chiller-Less Dry Cooling",null,null,null,null,null,109000,62000,47000,46000,30000,9000,7000,46000,2200,48200,9000,7000,2850,2450,1500,2200,0,0,0,3800,0,3200,5500,4800,8500,7000,36000,30000,36,30,110000,1650,0.4,980,null,"Next-Gen Superclusters - Chiller-Less Dry Cooling",109000,46000]
[null,null,null,null,null,null,null,null,null,null,null,null,null,null,null,null,null,null,null,null,null,null,null,null,null,null,null,null,null,null,null,null,null,null,null,null,null,null,null,null,null,null,null,null,null,null,null,null,null,null,null,null,null,null,null,null,null,null,null,null,null,null,null,null,null,null,null,null,null,null,null,null,null,null,null,null,null,null,null,null,null,null,null,null,null,null,null,null,null,null,null,null,null,null,null,null,null,null,null,null,"Early AI Date Centers - Hybrid Air-Liquid Infrastructure",null,null,null,5400,4600,null,null,null,null,null,null,null,null,null,null,null,"Early AI Date Centers - High Cost",null,null,null,9500,7800,null,null,null,null,null,null,null,null,null,null,null,null,"Early AI Date Centers - High Cost",null,null,null,15000,12500,null,null,null,null,null,null,null,null,null,null,null,null,null,null,null,null,null,null,null,null,"Early AI Date Centers - High Cost",null,null,null,48,36,null,null,null,null,null,null,null,null,null,null,null,null,null,"Early AI Date Centers - High Cost",null,null,null,null,12500,340,null,null,null,null,null,null,null,null,null,null,null,null,null,null,null,null,null,null,null,null,null,"Early AI Date Centers - Single Phase Direct to Liquid Cooling",null,null,null,null,0.18,295,null,null,null,null,null,null,null,null,null,"Next-Gen Superclusters - High -Impedance Dielectric Coolants",null,null,null,null,null,120000,68000,52000,49500,31000,9500,9000,49500,2400,51900,9500,9000,3000,2600,1600,2300,2500,0,0,0,3900,2600,6500,5500,10000,8200,34000,28000,48,36,165000,2100,0.44,1120,null,"Next-Gen Superclusters - High -Impedance Dielectric Coolants",120000,49500]
[null,null,null,null,null,null,null,null,null,null,null,null,null,null,null,null,null,null,null,null,null,null,null,null,null,null,null,null,null,null,null,null,null,null,null,null,null,null,null,null,null,null,null,null,null,null,null,null,null,null,null,null,null,null,null,null,null,null,null,null,null,null,null,null,null,null,null,null,null,null,null,null,null,null,null,null,null,null,null,null,null,null,null,null,null,null,null,null,null,null,null,null,null,null,null,null,null,null,null,null,null,null,null,null,null,null,null,null,null,null,null,null,null,null,null,null,null,"Early AI Date Centers - Low Cost",null,null,null,6200,5200,null,null,null,null,null,null,null,null,null,null,null,null,"Early AI Date Centers - Low Cost",null,null,null,8500,6000,null,null,null,null,null,null,null,null,null,null,null,null,null,null,null,null,null,null,null,null,"Early AI Date Centers - Low Cost",null,null,null,36,24,null,null,null,null,null,null,null,null,null,null,null,null,null,"Early AI Date Centers - Low Cost",null,null,null,null,5500,280,null,null,null,null,null,null,null,null,null,null,null,null,null,null,null,null,null,null,null,null,null,"Early AI Date Centers - Coolant Distribution Units",null,null,null,null,0.16,260,null,null,null,null,null,null,null,null,null,"Next-Gen Superclusters - AI-Driven Grid Balance Cooling",null,null,null,null,null,123500,69500,54000,48000,30500,10500,7000,48000,2200,50200,10500,7000,2500,4100,1700,2200,2200,0,0,0,2800,2000,6600,5800,10800,8800,42000,35000,36,24,45000,880,0.48,1280,null,"Next-Gen Superclusters - AI-Driven Grid Balance Cooling",123500,48000]
[null,null,null,null,null,null,null,null,null,null,null,null,null,null,null,null,null,null,null,null,null,null,null,null,null,null,null,null,null,null,null,null,null,null,null,null,null,null,null,null,null,null,null,null,null,null,null,null,null,null,null,null,null,null,null,null,null,null,null,null,null,null,null,null,null,null,null,null,null,null,null,null,null,null,null,null,null,null,null,null,null,null,null,null,null,null,null,null,null,null,null,null,null,null,null,null,null,null,null,null,null,null,null,null,null,null,null,null,null,null,null,null,null,null,null,null,null,"Early AI Date Centers - Single Phase Direct to Liquid Cooling",null,null,null,7400,6000,null,null,null,null,null,null,null,null,null,null,null,null,"Early AI Date Centers - Single Phase Direct to Liquid Cooling",null,null,null,11500,9000,null,null,null,null,null,null,null,null,null,null,null,null,null,null,null,null,null,null,null,null,"Early AI Date Centers - Single Phase Direct to Liquid Cooling",null,null,null,54,42,null,null,null,null,null,null,null,null,null,null,null,null,null,"Early AI Date Centers - Single Phase Direct to Liquid Cooling",null,null,null,null,14000,410,null,null,null,null,null,null,null,null,null,null,null,null,null,null,null,null,null,null,null,null,null,"Early AI Date Centers - Hybrid Air-Liquid Infrastructure",null,null,null,null,0.2,340,null,null,null,null,null,null,null,null,null,"Specialized Inference Farms - High Cost",null,null,null,null,null,58000,40000,18000,28500,16500,6000,6000,28500,2500,31000,6000,6000,2000,1700,850,1450,2200,0,0,2000,0,1800,5600,4800,8800,7200,18000,14000,48,36,0,0,0.48,1150,null,"Specialized Inference Farms - High Cost",58000,28500]
[null,null,null,null,null,null,null,null,null,null,null,null,null,null,null,null,null,null,null,null,null,null,null,null,null,null,null,null,null,null,null,null,null,null,null,null,null,null,null,null,null,null,null,null,null,null,null,null,null,null,null,null,null,null,null,null,null,null,null,null,null,null,null,null,null,null,null,null,null,null,null,null,null,null,null,null,null,null,null,null,null,null,null,null,null,null,null,null,null,null,null,null,null,null,null,null,null,null,null,null,null,null,null,null,null,null,null,null,null,null,null,null,null,null,null,null,null,"Early AI Date Centers - Coolant Distribution Units",null,null,null,7800,6400,null,null,null,null,null,null,null,null,null,null,null,null,"Early AI Date Centers - Coolant Distribution Units",null,null,null,12000,9500,null,null,null,null,null,null,null,null,null,null,null,null,null,null,null,null,null,null,null,null,"Early AI Date Centers - Coolant Distribution Units",null,null,null,48,36,null,null,null,null,null,null,null,null,null,null,null,null,null,"Early AI Date Centers - Coolant Distribution Units",null,null,null,null,16500,180,null,null,null,null,null,null,null,null,null,null,null,null,null,null,null,null,null,null,null,null,null,null,null,null,null,null,null,null,null,null,null,null,null,null,null,null,null,"Specialized Inference Farms - Low Cost",null,null,null,null,null,42000,30000,12000,21000,12500,4500,4000,21000,1400,22400,4500,4000,1550,1250,600,1100,1400,0,0,1300,0,1300,3800,3200,5800,4800,8000,5000,36,24,0,0,0.32,740,null,"Specialized Inference Farms - Low Cost",42000,21000]
[null,null,null,null,null,null,null,null,null,null,null,null,null,null,null,null,null,null,null,null,null,null,null,null,null,null,null,null,null,null,null,null,null,null,null,null,null,null,null,null,null,null,null,null,null,null,null,null,null,null,null,null,null,null,null,null,null,null,null,null,null,null,null,null,null,null,null,null,null,null,null,null,null,null,null,null,null,null,null,null,null,null,null,null,null,null,null,null,null,null,null,null,null,null,null,null,null,null,null,null,null,null,null,null,null,null,null,null,null,null,null,null,null,null,null,null,null,"Early AI Date Centers - Hybrid Air-Liquid Infrastructure",null,null,null,8400,6800,null,null,null,null,null,null,null,null,null,null,null,null,"Early AI Date Centers - Hybrid Air-Liquid Infrastructure",null,null,null,11000,8500,null,null,null,null,null,null,null,null,null,null,null,null,null,null,null,null,null,null,null,null,"Early AI Date Centers - Hybrid Air-Liquid Infrastructure",null,null,null,60,48,null,null,null,null,null,null,null,null,null,null,null,null,null,"Early AI Date Centers - Hybrid Air-Liquid Infrastructure",null,null,null,null,9200,290,null,null,null,null,null,null,null,null,null,null,null,null,null,null,null,null,null,null,null,null,null,null,null,null,null,null,null,null,null,null,null,null,null,null,null,null,null,"Specialized Inference Farms - Chassis-Level Immersion Cooling",null,null,null,null,null,47000,33000,14000,25500,14500,5200,5800,25500,1500,27000,5200,5800,1750,1450,700,1300,1800,0,0,0,2500,1500,4800,4200,7500,6200,14000,11000,54,42,0,0,0.36,820,null,"Specialized Inference Farms - Chassis-Level Immersion Cooling",47000,25500]
[null,null,null,null,null,null,null,null,null,null,null,null,null,null,null,null,null,null,null,null,null,null,null,null,null,null,null,null,null,null,null,null,null,null,null,null,null,null,null,null,null,null,null,null,null,null,null,null,null,null,null,null,null,null,null,null,null,null,null,null,null,null,null,null,null,null,null,null,null,null,null,null,null,null,null,null,null,null,null,null,null,null,null,null,null,null,null,null,null,null,null,null,null,null,null,null,null,null,null,null,null,null,null,null,null,null,null,null,null,null,null,null,null,null,null,null,null,null,null,null,null,null,null,null,null,null,null,null,null,null,null,null,null,null,null,null,null,null,null,null,null,null,null,null,null,null,null,null,null,null,null,null,null,null,null,null,null,null,null,null,null,null,null,null,null,null,null,null,null,null,null,null,null,null,null,null,null,null,null,null,null,null,null,null,null,null,null,null,null,null,null,null,null,null,null,null,null,null,null,null,null,null,null,null,null,null,null,null,null,null,null,null,null,null,null,null,null,null,null,null,null,null,null,null,"Specialized Inference Farms - Open-Tank-Phase Immersion",null,null,null,null,null,56000,38500,17500,27000,14000,5200,5800,27000,1600,28600,5500,7500,1850,1550,750,1350,2000,0,0,3800,0,1700,5400,4600,8200,6800,13000,10000,60,48,0,0,0.42,960,null,"Specialized Inference Farms - Open-Tank-Phase Immersion",56000,27000]
[null,null,null,null,null,null,null,null,null,null,null,null,null,null,null,null,null,null,null,null,null,null,null,null,null,null,null,null,null,null,null,null,null,null,null,null,null,null,null,null,null,null,null,null,null,null,null,null,null,null,null,null,null,null,null,null,null,null,null,null,null,null,null,null,null,null,null,null,null,null,null,null,null,null,null,null,null,null,null,null,null,null,null,null,null,null,null,null,null,null,null,null,null,null,null,null,null,null,null,null,null,null,null,null,null,null,null,null,null,null,null,null,null,null,null,null,null,null,null,null,null,null,null,null,null,null,null,null,null,null,null,null,null,null,null,null,null,null,null,null,null,null,null,null,null,null,null,null,null,null,null,null,null,null,null,null,null,null,null,null,null,null,null,null,null,null,null,null,null,null,null,null,null,null,null,null,null,null,null,null,null,null,null,null,null,null,null,null,null,null,null,null,null,null,null,null,null,null,null,null,null,null,null,null,null,null,null,null,null,null,null,null,null,null,null,null,null,null,null,null,null,null,null,null,"Specialized Inference Farms - Liquid-to-Air (L2A) Sidecars",null,null,null,null,null,44500,31500,13000,23500,13500,4800,5200,23500,1400,24900,4800,5200,1600,1350,650,1200,0,0,0,3400,0,1800,4200,3600,6200,5200,10500,7500,42,30,0,0,0.34,790,null,"Specialized Inference Farms - Liquid-to-Air (L2A) Sidecars",44500,23500]
[null,null,null,null,null,null,null,null,null,null,null,"Early AI Date Centers - High Cost",null,null,null,26000,14000,6000,6000,null,null,null,null,null,null,null,null,null,null,null,null,null,null,null,null,null,null,null,null,null,null,null,null,null,null,null,null,null,null,null,null,null,"Total","Elec & Other","IT",null,null,null,null,null,null,null,null,null,null,null,null,null,null,null,null,null,null,null,null,null,null,null,null,null,null,null,null,null,null,null,null,null,null,null,null,null,null,null,null,null,null,null,null,null,null,null,null,null,null,null,null,null,null,null,null,null,null,null,null,null,null,null,null,null,null,null,null,null,null,null,null,null,null,null,null,null,null,null,null,null,null,null,null,null,null,null,null,null,null,null,null,null,null,null,null,null,null,null,null,null,null,null,null,null,null,null,null,null,null,null,null,null,null,null,null,null,null,null,null,null,null,null,null,null,null,null,null,null,null,null,null,null,null,null,null,null,null,null,null,null,null,null,null,null,null,null,null,null,null,null,null,null,null,null,null,null,null,null,null,null,null,null,null,null,null,null,null,null,"NVIDIA Hopper (H200) - High Cost",null,null,null,null,null,65000,41000,24000,34500,22000,6500,6000,34500,2300,36800,6500,6000,2200,1800,900,1600,2300,0,0,2100,0,1600,2000,1600,3000,2400,19500,16000,60,48,35000,580,0.3,680,null,"NVIDIA Hopper (H200) - High Cost",65000,34500]
[null,null,null,null,null,null,null,null,null,null,null,"Early AI Date Centers - Low Cost",null,null,null,18500,11000,4500,3000,null,null,null,null,null,null,null,null,null,null,null,null,null,null,null,null,null,null,null,null,null,null,null,null,null,null,null,null,null,null,null,null,null,null,null,null,null,null,null,null,null,null,null,null,null,null,null,null,null,null,null,null,null,null,null,null,null,null,null,null,null,null,null,null,null,null,null,null,null,null,null,null,null,null,null,null,null,null,null,null,null,null,null,null,null,null,null,null,null,null,null,null,null,null,null,null,null,null,null,null,null,null,null,null,null,null,null,null,null,null,null,null,null,null,null,null,null,null,null,null,null,null,null,null,null,null,null,null,null,null,null,null,null,null,null,null,null,null,null,null,null,null,null,null,null,null,null,null,null,null,null,null,null,null,null,null,null,null,null,null,null,null,null,null,null,null,null,null,null,null,null,null,null,null,null,null,null,null,null,null,null,null,null,null,null,null,null,null,null,null,null,null,null,null,null,null,null,null,null,null,null,null,null,null,null,"NVIDIA Hopper (H200) - Low Cost",null,null,null,null,null,55000,35000,20000,27000,17500,5000,5300,27000,1500,28500,5000,4500,1700,1400,700,1200,1600,0,0,1500,0,1400,1400,1100,2000,1600,13500,11000,42,36,16000,460,0.18,390,null,"NVIDIA Hopper (H200) - Low Cost",55000,27000]
[null,null,null,null,null,null,null,null,null,null,null,"Early AI Date Centers - Single Phase Direct to Liquid Cooling",null,null,null,20500,11500,4800,4200,null,null,null,null,null,null,null,null,null,null,null,null,null,null,null,null,null,null,null,null,null,null,null,null,null,null,null,null,null,null,null,null,null,null,null,null,null,null,null,null,null,null,null,null,null,null,null,null,null,null,"Elec","Mech","Back-up","UPS","Trans","Switch","Chillers","CRAH","CDU","Piping","In Chassis CDU","Other",null,null,null,null,null,null,null,null,null,null,null,null,null,null,null,null,null,null,null,null,null,null,null,null,null,null,null,null,null,null,null,null,null,null,null,null,null,null,null,null,null,null,null,null,null,null,null,null,null,null,null,null,null,null,null,null,null,null,null,null,null,null,null,null,null,null,null,null,null,null,null,null,null,null,null,null,null,null,null,null,null,null,null,null,null,null,null,null,null,null,null,null,null,null,null,null,null,null,null,null,null,null,null,null,null,null,null,null,null,null,null,null,null,null,null,null,null,null,null,null,null,null,null,null,null,null,null,null,null,null,null,null,null,null,null,null,null,null,null,null,null,null,null,"NVIDIA Hopper (H200) - Hyrid Air",null,null,null,null,null,57500,36500,21000,28500,18000,5200,5300,28500,1600,30100,5200,5300,1750,1450,700,1300,1800,0,0,0,2100,1400,1500,1200,2200,1800,15000,12500,48,36,12000,240,0.22,440,null,"NVIDIA Hopper (H200) - Hyrid Air",57500,28500]
[null,null,null,null,null,null,null,null,null,null,null,"Early AI Date Centers - Coolant Distribution Units",null,null,null,19800,11000,4800,4200,null,null,null,null,null,null,null,null,null,null,null,null,null,null,null,null,null,null,null,null,null,null,null,null,null,null,null,null,"Early AI Date Centers - High Cost",null,null,null,null,33000,18000,15000,null,null,null,null,null,null,null,null,null,null,null,null,null,null,6000,6000,2100,1800,850,1250,2600,null,1600,null,null,1800,{"$f":"SUM(BT32:BW32)=BR32","v":true},{"$f":"SUM(BX32:CC32)=BS32","v":true},null,null,null,null,null,null,null,null,null,null,null,null,null,null,null,null,null,null,null,null,null,null,null,null,null,null,null,null,null,null,null,null,null,null,null,null,null,null,null,null,null,null,null,null,null,null,null,null,null,null,null,null,null,null,null,null,null,null,null,null,null,null,null,null,null,null,null,null,null,null,null,null,null,null,null,null,null,null,null,null,null,null,null,null,null,null,null,null,null,null,null,null,null,null,null,null,null,null,null,null,null,null,null,null,null,null,null,null,null,null,null,null,null,null,null,null,null,null,null,null,null,null,null,null,null,"Modern AI Factories - High Cost",null,null,null,null,0.42,880,null,null,null,null,null,null,null,null,null,"NVIDIA Hopper (H200) - Fluid-Assisted",null,null,null,null,null,59800,38000,21800,29800,18500,5400,5900,29800,1600,31400,5400,5900,1800,1500,750,1350,1900,0,0,0,2400,1600,1600,1300,2500,2000,16000,13000,54,42,26000,510,0.25,510,null,"NVIDIA Hopper (H200) - Fluid-Assisted",59800,29800]
[null,null,null,null,null,null,null,null,null,null,null,"Early AI Date Centers - Hybrid Air-Liquid Infrastructure",null,null,null,21000,11500,5000,4500,null,null,null,null,null,null,null,null,null,null,"Early AI Date Centers - High Cost",null,null,null,null,null,26000,2400,28400,null,null,null,null,null,null,null,null,null,"Early AI Date Centers - Low Cost",null,null,null,null,22000,12000,10000,null,null,null,null,null,null,null,null,null,null,null,null,null,null,4500,3000,1650,1350,600,900,1200,null,900,null,null,900,{"$f":"SUM(BT33:BW33)=BR33","v":true},{"$f":"SUM(BX33:CC33)=BS33","v":true},null,null,null,null,null,null,null,null,null,null,null,null,null,null,null,null,null,null,null,null,null,null,null,null,null,null,null,null,null,null,null,null,null,null,null,null,null,null,null,null,null,null,null,null,null,null,null,null,null,null,null,null,null,null,null,null,null,null,null,null,null,null,null,null,null,null,null,null,null,null,null,null,null,null,null,null,null,null,null,null,null,null,null,null,null,null,null,null,null,null,null,null,null,null,null,null,null,null,null,null,null,null,null,null,null,null,null,null,null,null,null,null,null,null,null,null,null,null,null,null,null,null,null,null,null,"Modern AI Factories - Low Cost",null,null,null,null,0.28000000000000003,540,null,null,null,null,null,null,null,null,null,"NVIDIA Hopper (H200) - Single Phase Direct-to-Chip Liquid Cooling",null,null,null,null,null,61500,39000,22500,31200,19000,5700,6500,31200,1600,32800,5700,6500,1900,1600,800,1400,2100,0,0,0,2800,1600,1800,1400,2700,2200,16500,13500,60,48,34000,720,0.26,560,null,"NVIDIA Hopper (H200) - Single Phase Direct-to-Chip Liquid Cooling",61500,31200]
[null,null,null,null,null,null,null,null,null,null,null,null,null,null,null,null,null,null,null,null,null,null,null,null,null,null,null,null,null,"Early AI Date Centers - Low Cost",null,null,null,null,null,18500,1300,19800,null,null,null,null,null,null,null,null,null,"Early AI Date Centers - Single Phase Direct to Liquid Cooling",null,null,null,null,27000,14500,12500,null,null,null,null,null,null,null,null,null,null,null,null,null,null,4800,4200,1700,1450,650,1000,1500,null,null,1400,null,1300,true,true,null,null,null,null,null,null,null,null,null,null,null,null,null,null,null,null,null,null,null,null,null,null,null,null,null,null,null,null,null,null,null,null,null,null,null,null,null,null,null,null,null,null,null,null,null,null,null,null,null,null,null,null,null,null,null,null,null,null,null,null,null,null,null,null,null,null,null,null,null,null,null,null,null,null,null,null,null,null,null,null,null,null,null,null,null,null,null,null,null,null,null,null,null,null,null,null,null,null,null,null,null,null,null,null,null,null,null,null,null,null,null,null,null,null,null,null,null,null,null,null,null,null,null,null,null,"Modern AI Factories - Single Phase Direct-to-Chip Liquid Cooling",null,null,null,null,0.32,620,null,null,null,null,null,null,null,null,null,"NVIDIA Hopper (H200) - Double Phase Direct-to-Chip Liquid Cooling",null,null,null,null,null,64300,40500,23800,33500,19500,6000,8000,33500,1700,35200,6000,8000,2000,1700,850,1450,2200,0,0,0,4100,1700,2200,1700,3200,2600,17000,14000,49,36,88000,850,0.28000000000000003,610,null,"NVIDIA Hopper (H200) - Double Phase Direct-to-Chip Liquid Cooling",64300,33500]
[null,null,null,null,null,null,null,null,null,null,null,null,null,null,null,null,null,null,null,null,null,null,null,null,null,null,null,null,null,"Early AI Date Centers - Single Phase Direct to Liquid Cooling",null,null,null,null,null,20500,1500,22000,null,null,null,null,null,null,null,null,null,"Early AI Date Centers - Coolant Distribution Units",null,null,null,null,24500,13500,11000,null,null,null,null,null,null,null,null,null,null,null,null,null,null,4600,4200,1650,1400,600,950,1600,null,null,null,1350,1250,true,true,null,null,null,null,null,null,null,null,null,null,null,null,null,null,null,null,null,null,null,null,null,null,null,null,null,null,null,null,null,null,null,null,null,null,null,null,null,null,null,null,null,null,null,null,null,null,null,null,null,null,null,null,null,null,null,null,null,null,null,null,null,null,null,null,null,null,null,null,null,null,null,null,null,null,null,null,null,null,null,null,null,null,null,null,null,null,null,null,null,null,null,null,null,null,null,null,null,null,null,null,null,null,null,null,null,null,null,null,null,null,null,null,null,null,null,null,null,null,null,null,null,null,null,null,null,"Modern AI Factories - Coolant Distribution Units (CDUs)",null,null,null,null,0.3,590,null,null,null,null,null,null,null,null,null,"NVIDIA Blackwell (GB300 / B300) - High  Cost",null,null,null,null,null,155000,95000,60000,53000,35000,9500,8500,53000,2600,55600,9500,8500,3000,2650,1450,2400,3000,0,0,3400,0,2100,2600,2200,4200,3400,42000,35000,24,24,95000,1250,0.65,1950,null,"NVIDIA Blackwell (GB300 / B300) - High  Cost",155000,53000]
[null,null,null,null,null,null,null,null,null,null,null,null,null,null,null,null,null,null,null,null,null,null,null,null,null,null,null,null,null,"Early AI Date Centers - Coolant Distribution Units",null,null,null,null,null,19800,1450,21250,null,null,null,null,null,null,null,null,null,"Early AI Date Centers - Hybrid Air-Liquid Infrastructure",null,null,null,null,29500,16000,13500,null,null,null,null,null,null,null,null,null,null,null,null,null,null,5000,4500,1800,1500,700,1000,1600,null,null,null,1700,1200,true,true,null,null,null,null,null,null,null,null,null,null,null,null,null,null,null,null,null,null,null,null,null,null,null,null,null,null,null,null,null,null,null,null,null,null,null,null,null,null,null,null,null,null,null,null,null,null,null,null,null,null,null,null,null,null,null,null,null,null,null,null,null,null,null,null,null,null,null,null,null,null,null,null,null,null,null,null,null,null,null,null,null,null,null,null,null,null,null,null,null,null,null,null,null,null,null,null,null,null,null,null,null,null,null,null,null,null,null,null,null,null,null,null,null,null,null,null,null,null,null,null,null,null,null,null,null,"Modern AI Factories - Hybrid Air-Liquid Infrastructure",null,null,null,null,0.35,70,null,null,null,null,null,null,null,null,null,"NVIDIA Blackwell (GB300 / B300) - Low Cost",null,null,null,null,null,135000,85000,50000,42000,27500,8000,6500,42000,1700,43700,8000,6500,2550,2250,1200,2000,2200,0,0,2600,0,1700,2000,1600,3000,2400,29000,24000,30,30,48000,980,0.45,1250,null,"NVIDIA Blackwell (GB300 / B300) - Low Cost",135000,42000]
[null,null,null,null,null,null,null,null,null,null,null,null,null,null,null,null,null,null,null,null,null,null,null,null,null,null,null,null,null,"Early AI Date Centers - Hybrid Air-Liquid Infrastructure",null,null,null,null,null,21000,1600,22600,null,null,null,null,null,null,null,null,null,null,null,null,null,null,null,null,null,null,null,null,null,null,null,null,null,null,null,null,null,null,null,null,null,null,null,null,null,null,null,null,null,null,null,null,null,null,null,null,null,null,null,null,null,null,null,null,null,null,null,null,null,null,"Modern AI Factories - High Cost",null,null,null,6800,5800,null,null,null,null,null,null,null,null,null,null,null,"Modern AI Factories - High Cost",null,null,null,10500,8500,null,null,null,null,null,null,null,null,null,null,null,null,"Modern AI Factories - High Cost",null,null,null,38000,32000,null,null,null,null,null,null,null,null,null,null,null,null,null,null,null,null,null,null,null,null,"Modern AI Factories - High Cost",null,null,null,36,30,null,null,null,null,null,null,null,null,null,null,null,null,null,"Modern AI Factories - High Cost",null,null,null,null,38000,620,null,null,null,null,null,null,null,null,null,null,null,null,null,null,null,null,null,null,null,null,null,null,null,null,null,null,null,null,null,null,null,null,null,null,null,null,null,"NVIDIA Blackwell (GB300 / B300) - 90% Direct-to-Chip Liquid",null,null,null,null,null,141500,88000,53500,45500,29000,8500,8000,45500,1800,47300,8500,8000,2700,2400,1300,2100,2400,0,0,0,3800,1800,2200,1800,3500,2800,34000,28000,26,26,78000,1100,0.5,1400,null,"NVIDIA Blackwell (GB300 / B300) - 90% Direct-to-Chip Liquid",141500,45500]
[null,null,null,null,null,null,null,null,null,null,null,null,null,null,null,null,null,null,null,null,null,null,null,null,null,null,null,null,null,null,null,null,null,null,null,null,null,null,null,null,null,null,null,null,null,null,null,null,null,null,null,null,null,null,null,null,null,null,null,null,null,null,null,null,null,null,null,null,null,null,null,null,null,null,null,null,null,null,null,null,null,null,null,null,null,null,null,null,null,null,null,null,null,null,null,null,null,null,null,null,"Modern AI Factories - Low Cost",null,null,null,4800,4200,null,null,null,null,null,null,null,null,null,null,null,"Modern AI Factories - Low Cost",null,null,null,7500,6200,null,null,null,null,null,null,null,null,null,null,null,null,"Modern AI Factories - Low Cost",null,null,null,24000,18000,null,null,null,null,null,null,null,null,null,null,null,null,null,null,null,null,null,null,null,null,"Modern AI Factories - Low Cost",null,null,null,30,24,null,null,null,null,null,null,null,null,null,null,null,null,null,"Modern AI Factories - Low Cost",null,null,null,null,18500,510,null,null,null,null,null,null,null,null,null,null,null,null,null,null,null,null,null,null,null,null,null,null,null,null,null,null,null,null,null,null,null,null,null,null,null,null,null,"NVIDIA Blackwell (GB300 / B300) - Single Phase Direct-to-Chip Liquid Cooling",null,null,null,null,null,145000,90000,55000,46800,30000,8800,8000,46800,1800,48600,8800,8000,2800,2450,1350,2200,2500,0,0,0,3700,1800,2100,1700,3200,2600,32000,27000,26,26,85000,1320,0.52,1480,null,"NVIDIA Blackwell (GB300 / B300) - Single Phase Direct-to-Chip Liquid Cooling",145000,46800]
[null,null,null,null,null,null,null,null,null,null,null,null,null,null,null,null,null,null,null,null,null,null,null,null,null,null,null,null,null,null,null,null,null,null,null,null,null,null,null,null,null,null,null,null,null,null,null,null,null,null,null,null,null,null,null,null,null,null,null,null,null,null,null,null,null,null,null,null,null,null,null,null,null,null,null,null,null,null,null,null,null,null,null,null,null,null,null,null,null,null,null,null,null,null,null,null,null,null,null,null,"Modern AI Factories - Single Phase Direct-to-Chip Liquid Cooling",null,null,null,5200,4400,null,null,null,null,null,null,null,null,null,null,null,"Modern AI Factories - Single Phase Direct-to-Chip Liquid Cooling",null,null,null,7800,6500,null,null,null,null,null,null,null,null,null,null,null,null,"Modern AI Factories - Single Phase Direct-to-Chip Liquid Cooling",null,null,null,31000,25000,null,null,null,null,null,null,null,null,null,null,null,null,null,null,null,null,null,null,null,null,"Modern AI Factories - Single Phase Direct-to-Chip Liquid Cooling",null,null,null,42,36,null,null,null,null,null,null,null,null,null,null,null,null,null,"Modern AI Factories - Single Phase Direct-to-Chip Liquid Cooling",null,null,null,null,32000,740,null,null,null,null,null,null,null,null,null,null,null,null,null,null,null,null,null,null,null,null,null,null,null,null,null,null,null,null,null,null,null,null,null,null,null,null,null,"NVIDIA Blackwell (GB300 / B300) - Double Phase Direct-to-Chip Liquid Cooling",null,null,null,null,null,151500,93500,58000,49500,31000,9000,9500,49500,1900,51400,9000,9500,2850,2500,1400,2250,2600,0,0,0,4900,2000,3000,2400,4500,3600,36000,30000,28,28,145000,1480,0.56000000000000005,1620,null,"NVIDIA Blackwell (GB300 / B300) - Double Phase Direct-to-Chip Liquid Cooling",151500,49500]
[null,null,null,null,null,null,null,null,null,null,null,null,null,null,null,null,null,null,null,null,null,null,null,null,null,null,null,null,null,null,null,null,null,null,null,null,null,null,null,null,null,null,null,null,null,null,null,null,null,null,null,null,null,null,null,null,null,null,null,null,null,null,null,null,null,null,null,null,null,null,null,null,null,null,null,null,null,null,null,null,null,null,null,null,null,null,null,null,null,null,null,null,null,null,null,null,null,null,null,null,"Modern AI Factories - Coolant Distribution Units (CDUs)",null,null,null,5400,4600,null,null,null,null,null,null,null,null,null,null,null,"Modern AI Factories - Coolant Distribution Units (CDUs)",null,null,null,8200,6800,null,null,null,null,null,null,null,null,null,null,null,null,"Modern AI Factories - Coolant Distribution Units (CDUs)",null,null,null,30000,24000,null,null,null,null,null,null,null,null,null,null,null,null,null,null,null,null,null,null,null,null,"Modern AI Factories - Coolant Distribution Units (CDUs)",null,null,null,36,30,null,null,null,null,null,null,null,null,null,null,null,null,null,"Modern AI Factories - Coolant Distribution Units (CDUs)",null,null,null,null,35000,480,null,null,null,null,null,null,null,null,null,null,null,null,null,null,null,null,null,null,null,null,null,null,null,null,null,null,null,null,null,null,null,null,null,null,null,null,null,"NVIDIA Vera Rubin NVL72 - High Cost",null,null,null,null,null,520000,380000,140000,61000,43000,10000,8000,61000,2800,63800,0,0,0,0,0,0,0,0,0,0,0,0,3200,2600,5200,4200,56000,48000,36,30,180000,2100,0.82,2800,null,"NVIDIA Vera Rubin NVL72 - High Cost",520000,61000]
[null,null,null,null,null,null,null,null,null,null,null,null,null,null,null,null,null,null,null,null,null,null,null,null,null,null,null,null,null,null,null,null,null,null,null,null,null,null,null,null,null,null,null,null,null,null,null,null,null,null,null,null,null,null,null,null,null,null,null,null,null,null,null,null,null,null,null,null,null,null,null,null,null,null,null,null,null,null,null,null,null,null,null,null,null,null,null,null,null,null,null,null,null,null,null,null,null,null,null,null,"Modern AI Factories - Hybrid Air-Liquid Infrastructure",null,null,null,5600,4800,null,null,null,null,null,null,null,null,null,null,null,"Modern AI Factories - Hybrid Air-Liquid Infrastructure",null,null,null,8800,7200,null,null,null,null,null,null,null,null,null,null,null,null,"Modern AI Factories - Hybrid Air-Liquid Infrastructure",null,null,null,27000,22000,null,null,null,null,null,null,null,null,null,null,null,null,null,null,null,null,null,null,null,null,"Modern AI Factories - Hybrid Air-Liquid Infrastructure",null,null,null,48,36,null,null,null,null,null,null,null,null,null,null,null,null,null,"Modern AI Factories - Hybrid Air-Liquid Infrastructure",null,null,null,null,24000,580,null,null,null,null,null,null,null,null,null,null,null,null,null,null,null,null,null,null,null,null,null,null,null,null,null,null,null,null,null,null,null,null,null,null,null,null,null,"NVIDIA Vera Rubin NVL72 - Low Cost",null,null,null,null,null,425000,310000,115000,48500,34500,8000,6000,48500,2000,50500,0,0,0,0,0,0,0,0,0,0,0,0,2200,1800,3500,2800,38000,32000,26,20,88000,1650,0.6,1850,null,"NVIDIA Vera Rubin NVL72 - Low Cost",425000,48500]
[null,null,null,null,null,null,null,null,null,null,null,null,null,null,null,null,null,null,null,null,null,null,null,null,null,null,null,null,null,null,null,null,null,null,null,null,null,null,null,null,null,null,null,null,null,null,null,null,null,null,null,null,null,null,null,null,null,null,null,null,null,null,null,null,null,null,null,null,null,null,null,null,null,null,null,null,null,null,null,null,null,null,null,null,null,null,null,null,null,null,null,null,null,null,null,null,null,null,null,null,null,null,null,null,null,null,null,null,null,null,null,null,null,null,null,null,null,null,null,null,null,null,null,null,null,null,null,null,null,null,null,null,null,null,null,null,null,null,null,null,null,null,null,null,null,null,null,null,null,null,null,null,null,null,null,null,null,null,null,null,null,null,null,null,null,null,null,null,null,null,null,null,null,null,null,null,null,null,null,null,null,null,null,null,null,null,null,null,null,null,null,null,null,null,null,null,null,null,null,null,null,null,null,null,null,null,null,null,null,null,null,null,null,null,null,null,null,null,null,null,null,null,null,null,"NVIDIA Vera Rubin NVL72 - 45 C Warm-Water Closed-Loop Liquid",null,null,null,null,null,450000,330000,120000,51000,35500,8000,7000,51000,2000,53000,0,0,0,0,0,0,0,0,0,0,0,0,2400,1900,3800,3000,42000,36000,42,36,55000,1400,0.64,1980,null,"NVIDIA Vera Rubin NVL72 - 45 C Warm-Water Closed-Loop Liquid",450000,51000]
[null,null,null,null,null,null,null,null,null,null,null,null,null,null,null,null,null,null,null,null,null,null,null,null,null,null,null,null,null,null,null,null,null,null,null,null,null,null,null,null,null,null,null,null,null,null,null,null,null,null,null,null,null,null,null,null,null,null,null,null,null,null,null,null,null,null,null,null,null,null,null,null,null,null,null,null,null,null,null,null,null,null,null,null,null,null,null,null,null,null,null,null,null,null,null,null,null,null,null,null,null,null,null,null,null,null,null,null,null,null,null,null,null,null,null,null,null,null,null,null,null,null,null,null,null,null,null,null,null,null,null,null,null,null,null,null,null,null,null,null,null,null,null,null,null,null,null,null,null,null,null,null,null,null,null,null,null,null,null,null,null,null,null,null,null,null,null,null,null,null,null,null,null,null,null,null,null,null,null,null,null,null,null,null,null,null,null,null,null,null,null,null,null,null,null,null,null,null,null,null,null,null,null,null,null,null,null,null,null,null,null,null,null,null,null,null,null,null,null,null,null,null,null,null,"NVIDIA Vera Rubin NVL72 - Single Phase Direct-to-Chip Liquid Cooling",null,null,null,null,null,470000,345000,125000,53200,37000,8700,7500,53200,2000,55200,0,0,0,0,0,0,0,0,0,0,0,0,2500,2000,4000,3200,41000,35000,36,30,160000,2400,0.68,2200,null,"NVIDIA Vera Rubin NVL72 - Single Phase Direct-to-Chip Liquid Cooling",470000,53200]
[null,null,null,null,null,null,null,null,null,null,null,null,null,null,null,null,null,null,null,null,null,null,null,null,null,null,null,null,null,null,null,null,null,null,null,null,null,null,null,null,null,null,null,null,null,null,null,null,null,null,null,null,null,null,null,null,null,null,null,null,null,null,null,null,null,null,null,null,null,null,null,null,null,null,null,null,null,null,null,null,null,null,null,null,null,null,null,null,null,null,null,null,null,null,null,null,null,null,null,null,null,null,null,null,null,null,null,null,null,null,null,null,null,null,null,null,null,null,null,null,null,null,null,null,null,null,null,null,null,null,null,null,null,null,null,null,null,null,null,null,null,null,null,null,null,null,null,null,null,null,null,null,null,null,null,null,null,null,null,null,null,null,null,null,null,null,null,null,null,null,null,null,null,null,null,null,null,null,null,null,null,null,null,null,null,null,null,null,null,null,null,null,null,null,null,null,null,null,null,null,null,null,null,null,null,null,null,null,null,null,null,null,null,null,null,null,null,null,null,null,null,null,null,null,"NVIDIA Vera Rubin NVL72 - Double Phase Direct-to-Chip Liquid Cooling",null,null,null,null,null,505000,370000,135000,56000,38500,9000,8500,56000,2100,58100,0,0,0,0,0,0,0,0,0,0,0,0,3500,2800,5800,4400,47000,40000,32,24,230000,2850,0.72,2450,null,"NVIDIA Vera Rubin NVL72 - Double Phase Direct-to-Chip Liquid Cooling",505000,56000]
[null,null,null,null,null,null,null,null,null,null,null,null,null,null,null,null,null,null,null,null,null,null,null,null,null,null,null,null,null,null,null,null,null,null,null,null,null,null,null,null,null,null,null,null,null,null,null,null,null,null,null,null,null,null,null,null,null,null,null,null,null,null,null,null,null,null,null,null,null,null,null,null,null,null,null,null,null,null,null,null,null,null,null,null,null,null,null,null,null,null,null,null,null,null,null,null,null,null,null,null,null,null,null,null,null,null,null,null,null,null,null,null,null,null,null,null,null,null,null,null,null,null,null,null,null,null,null,null,null,null,null,null,null,null,null,null,null,null,null,null,null,null,null,null,null,null,null,null,null,null,null,null,null,null,null,null,null,null,null,null,null,null,null,null,null,null,null,null,null,null,null,null,null,null,null,null,null,null,null,null,null,null,null,null,null,null,null,null,null,null,null,null,null,null,null,null,null,null,null,null,null,null,null,null,null,null,null,null,"Next-Gen Superclusters - High Cost",null,null,null,null,0.55000000000000004,1450]
[null,null,null,null,null,null,null,null,null,null,null,null,null,null,null,null,null,null,null,null,null,null,null,null,null,null,null,null,null,null,null,null,null,null,null,null,null,null,null,null,null,null,null,null,null,null,null,null,null,null,null,null,null,null,null,null,null,null,null,null,null,null,null,null,null,null,null,null,null,null,null,null,null,null,null,null,null,null,null,null,null,null,null,null,null,null,null,null,null,null,null,null,null,null,null,null,null,null,null,null,null,null,null,null,null,null,null,null,null,null,null,null,null,null,null,null,null,null,null,null,null,null,null,null,null,null,null,null,null,null,null,null,null,null,null,null,null,null,null,null,null,null,null,null,null,null,null,null,null,null,null,null,null,null,null,null,null,null,null,null,null,null,null,null,null,null,null,null,null,null,null,null,null,null,null,null,null,null,null,null,null,null,null,null,null,null,null,null,null,null,null,null,null,null,null,null,null,null,null,null,null,null,null,null,null,null,null,null,"Next-Gen Superclusters - Low Cost",null,null,null,null,0.38,920]
[null,null,null,null,null,null,null,null,null,null,null,null,null,null,null,null,null,null,null,null,null,null,null,null,null,null,null,null,null,null,null,null,null,null,null,null,null,null,null,null,null,null,null,null,null,null,null,null,null,null,null,null,null,null,null,null,null,null,null,null,null,null,null,null,null,null,null,null,null,null,null,null,null,null,null,null,null,null,null,null,null,null,null,null,null,null,null,null,null,null,null,null,null,null,null,null,null,null,null,null,null,null,null,null,null,null,null,null,null,null,null,null,null,null,null,null,null,null,null,null,null,null,null,null,null,null,null,null,null,null,null,null,null,null,null,null,null,null,null,null,null,null,null,null,null,null,null,null,null,null,null,null,null,null,null,null,null,null,null,null,null,null,null,null,null,null,null,null,null,null,null,null,null,null,null,null,null,null,null,null,null,null,null,null,null,null,null,null,null,null,null,null,null,null,null,null,null,null,null,null,null,null,null,null,null,null,null,null,"Next-Gen Superclusters - Chiller-Less Dry Cooling",null,null,null,null,0.4,980]
[null,null,null,null,null,null,null,null,null,null,null,null,null,null,null,null,null,null,null,null,null,null,null,null,null,null,null,null,null,null,null,null,null,null,null,null,null,null,null,null,null,null,null,null,null,null,null,null,null,null,null,null,null,null,null,null,null,null,null,null,null,null,null,null,null,null,null,null,null,null,null,null,null,null,null,null,null,null,null,null,null,null,null,null,null,null,null,null,null,null,null,null,null,null,null,null,null,null,null,null,null,null,null,null,null,null,null,null,null,null,null,null,null,null,null,null,null,null,null,null,null,null,null,null,null,null,null,null,null,null,null,null,null,null,null,null,null,null,null,null,null,null,null,null,null,null,null,null,null,null,null,null,null,null,null,null,null,null,null,null,null,null,null,null,null,null,null,null,null,null,null,null,null,null,null,null,null,null,null,null,null,null,null,null,null,null,null,null,null,null,null,null,null,null,null,null,null,null,null,null,null,null,null,null,null,null,null,null,"Next-Gen Superclusters - High -Impedance Dielectric Coolants",null,null,null,null,0.44,1120]
[null,null,null,null,null,null,null,null,null,null,null,null,null,null,null,null,null,null,null,null,null,null,null,null,null,null,null,null,null,null,null,null,null,null,null,null,null,null,null,null,null,null,null,null,null,null,null,null,null,null,null,null,null,null,null,null,null,null,null,null,null,null,null,null,null,null,null,null,null,null,null,null,null,null,null,null,null,null,null,null,null,null,null,null,null,null,null,null,null,null,null,null,null,null,null,null,null,null,null,null,null,null,null,null,null,null,null,null,null,null,null,null,null,null,null,null,null,null,null,null,null,null,null,null,null,null,null,null,null,null,null,null,null,null,null,null,null,null,null,null,null,null,null,null,null,null,null,null,null,null,null,null,null,null,null,null,null,null,null,null,null,null,null,null,null,null,null,null,null,null,null,null,null,null,null,null,null,null,null,null,null,null,null,null,null,null,null,null,null,null,null,null,null,null,null,null,null,null,null,null,null,null,null,null,null,null,null,null,"Next-Gen Superclusters - AI-Driven Grid Balance Cooling",null,null,null,null,0.48,1280]
[null,null,null,null,null,null,null,null,null,null,null,null,null,null,null,null,null,null,null,null,null,null,null,null,null,null,null,null,null,null,null,null,null,null,null,null,null,null,null,null,null,null,null,null,null,null,null,null,null,null,null,null,null,null,null,null,null,null,null,null,null,null,null,null,null,null,null,null,null,null,null,null,null,null,null,null,null,null,null,null,null,null,null,null,null,null,null,null,null,null,null,null,null,null,null,null,null,null,null,null,null,null,null,null,null,null,null,null,null,null,null,null,null,null,null,null,null,null,null,null,null,null,null,null,null,null,null,null,null,null,null,null,null,null,null,null,null,null,null,null,null,null,null,null,null,null,null,null,null,null,null,null,null,null,null,null,null,null,null,null,null,"Next-Gen Superclusters - High Cost",null,null,null,30,24,null,null,null,null,null,null,null,null,null,null,null,null,null,"Next-Gen Superclusters - High Cost",null,null,null,null,140000,1850]
[null,null,null,null,null,null,null,null,null,null,null,null,null,null,null,null,null,null,null,null,null,null,null,null,null,null,null,null,null,null,null,null,null,null,null,null,null,null,null,null,null,null,null,null,null,null,null,null,null,null,null,null,null,null,null,null,null,null,null,null,null,null,null,null,null,null,null,null,null,null,null,null,null,null,null,null,null,null,null,null,null,null,null,null,null,null,null,null,null,null,null,null,null,null,null,null,null,null,null,null,"Next-Gen Superclusters - High Cost",null,null,null,7200,6200,null,null,null,null,null,null,null,null,null,null,null,null,null,null,null,null,null,null,null,null,null,null,null,null,null,null,null,null,null,null,null,null,null,null,null,null,null,null,null,null,null,null,null,null,null,null,null,null,null,null,null,null,null,null,null,"Next-Gen Superclusters - Low Cost",null,null,null,24,18,null,null,null,null,null,null,null,null,null,null,null,null,null,"Next-Gen Superclusters - Low Cost",null,null,null,null,65000,1400]
[null,null,null,null,null,null,null,null,null,null,null,null,null,null,null,null,null,null,null,null,null,null,null,null,null,null,null,null,null,null,null,null,null,null,null,null,null,null,null,null,null,null,null,null,null,null,null,null,null,null,null,null,null,null,null,null,null,null,null,null,null,null,null,null,null,null,null,null,null,null,null,null,null,null,null,null,null,null,null,null,null,null,null,null,null,null,null,null,null,null,null,null,null,null,null,null,null,null,null,null,"Next-Gen Superclusters - Low Cost",null,null,null,5200,4600,null,null,null,null,null,null,null,null,null,null,null,null,null,null,null,null,null,null,null,null,null,null,null,null,null,null,null,null,null,null,null,null,null,null,null,null,null,null,null,null,null,null,null,null,null,null,null,null,null,null,null,null,null,null,null,"Next-Gen Superclusters - Chiller-Less Dry Cooling",null,null,null,36,30,null,null,null,null,null,null,null,null,null,null,null,null,null,"Next-Gen Superclusters - Chiller-Less Dry Cooling",null,null,null,null,110000,1650]
[null,null,null,null,null,null,null,null,null,null,null,null,null,null,null,null,null,null,null,null,null,null,null,null,null,null,null,null,null,"Modern AI Factories - High Cost",null,null,null,null,null,42000,2700,44700,null,null,null,null,null,null,null,null,null,null,null,null,null,null,null,null,null,null,null,null,null,null,null,null,null,null,null,null,null,null,null,null,null,null,null,null,null,null,null,null,null,null,null,null,null,null,null,null,null,null,null,null,null,null,null,null,null,null,null,null,null,null,"Next-Gen Superclusters - Chiller-Less Dry Cooling",null,null,null,5500,4800,null,null,null,null,null,null,null,null,null,null,null,"Next-Gen Superclusters - High Cost",null,null,null,11500,9500,null,null,null,null,null,null,null,null,null,null,null,null,"Next-Gen Superclusters - High Cost",null,null,null,48000,40000,null,null,null,null,null,null,null,null,null,null,null,null,null,null,null,null,null,null,null,null,"Next-Gen Superclusters - High -Impedance Dielectric Coolants",null,null,null,48,36,null,null,null,null,null,null,null,null,null,null,null,null,null,"Next-Gen Superclusters - High -Impedance Dielectric Coolants",null,null,null,null,165000,2100]
[null,null,null,null,null,null,null,null,null,null,null,null,null,null,null,null,null,null,null,null,null,null,null,null,null,null,null,null,null,"Modern AI Factories - Low Cost",null,null,null,null,null,33000,1700,34700,null,null,null,null,null,null,null,null,null,null,null,null,null,null,null,null,null,null,null,null,null,null,null,null,null,null,null,null,null,null,null,null,null,null,null,null,null,null,null,null,null,null,null,null,null,null,null,null,null,null,null,null,null,null,null,null,null,null,null,null,null,null,"Next-Gen Superclusters - High -Impedance Dielectric Coolants",null,null,null,6500,5500,null,null,null,null,null,null,null,null,null,null,null,"Next-Gen Superclusters - Low Cost",null,null,null,8200,6800,null,null,null,null,null,null,null,null,null,null,null,null,"Next-Gen Superclusters - Low Cost",null,null,null,32000,26000,null,null,null,null,null,null,null,null,null,null,null,null,null,null,null,null,null,null,null,null,"Next-Gen Superclusters - AI-Driven Grid Balance Cooling",null,null,null,36,24,null,null,null,null,null,null,null,null,null,null,null,null,null,"Next-Gen Superclusters - AI-Driven Grid Balance Cooling",null,null,null,null,45000,880]
[null,null,null,null,null,null,null,null,null,null,null,null,null,null,null,null,null,null,null,null,null,null,null,null,null,null,null,null,null,"Modern AI Factories - Single Phase Direct-to-Chip Liquid Cooling",null,null,null,null,null,35500,1800,37300,null,null,null,null,null,null,null,null,null,null,null,null,null,null,null,null,null,null,null,null,null,null,null,null,null,null,null,null,null,null,null,null,null,null,null,null,null,null,null,null,null,null,null,null,null,null,null,null,null,null,null,null,null,null,null,null,null,null,null,null,null,null,"Next-Gen Superclusters - AI-Driven Grid Balance Cooling",null,null,null,6600,5800,null,null,null,null,null,null,null,null,null,null,null,"Next-Gen Superclusters - Chiller-Less Dry Cooling",null,null,null,8500,7000,null,null,null,null,null,null,null,null,null,null,null,null,"Next-Gen Superclusters - Chiller-Less Dry Cooling",null,null,null,36000,30000]
[null,null,null,null,null,null,null,null,null,null,null,"Modern AI Factories - High Cost",null,null,null,42000,26000,8500,7500,null,null,null,null,null,null,null,null,null,null,"Modern AI Factories - Coolant Distribution Units (CDUs)",null,null,null,null,null,34800,1800,36600,null,null,null,null,null,null,null,null,null,null,null,null,null,null,"Total","Elec & Other","IT",null,null,null,null,null,null,null,null,null,null,null,null,null,null,null,null,null,null,null,null,null,null,null,null,null,null,null,null,null,null,null,null,null,null,null,null,null,null,null,null,null,null,null,null,null,null,null,null,null,null,null,null,null,null,null,null,null,null,null,null,null,null,"Next-Gen Superclusters - High -Impedance Dielectric Coolants",null,null,null,10000,8200,null,null,null,null,null,null,null,null,null,null,null,null,"Next-Gen Superclusters - High -Impedance Dielectric Coolants",null,null,null,34000,28000,null,null,null,null,null,null,null,null,null,null,null,null,null,null,null,null,null,null,null,null,null,null,null,null,null,null,null,null,null,null,null,null,null,null,null,null,null,null,null,null,null,null,null,null,null,null,null,null,null,null,null,null,null,null,null,null,null,null,null,null,null,null,null,null,null,null,null,"Specialized Inference Farms - High Cost",null,null,null,null,0.48,1150]
[null,null,null,null,null,null,null,null,null,null,null,"Modern AI Factories - Low Cost",null,null,null,33000,21000,6500,5500,null,null,null,null,null,null,null,null,null,null,"Modern AI Factories - Hybrid Air-Liquid Infrastructure",null,null,null,null,null,37000,1900,38900,null,null,null,null,null,null,null,null,null,null,null,null,null,null,null,null,null,null,null,null,null,null,null,null,null,null,null,null,null,null,null,null,null,null,null,null,null,null,null,null,null,null,null,null,null,null,null,null,null,null,null,null,null,null,null,null,null,null,null,null,null,null,null,null,null,null,null,null,null,null,null,null,null,null,null,null,null,null,null,"Next-Gen Superclusters - AI-Driven Grid Balance Cooling",null,null,null,10800,8800,null,null,null,null,null,null,null,null,null,null,null,null,"Next-Gen Superclusters - AI-Driven Grid Balance Cooling",null,null,null,42000,35000,null,null,null,null,null,null,null,null,null,null,null,null,null,null,null,null,null,null,null,null,null,null,null,null,null,null,null,null,null,null,null,null,null,null,null,null,null,null,null,null,null,null,null,null,null,null,null,null,null,null,null,null,null,null,null,null,null,null,null,null,null,null,null,null,null,null,null,"Specialized Inference Farms - Low Cost",null,null,null,null,0.32,740]
[null,null,null,null,null,null,null,null,null,null,null,"Modern AI Factories - Single Phase Direct-to-Chip Liquid Cooling",null,null,null,35500,22000,7000,6500,null,null,null,null,null,null,null,null,null,null,null,null,null,null,null,null,null,null,null,null,null,null,null,null,null,null,null,null,null,null,null,null,null,null,null,null,null,null,null,null,null,null,null,null,null,null,null,null,null,null,"Elec","Mech","Back-up","UPS","Trans","Switch","Chillers","CRAH","CDU","Piping/Liq Loop","In Chassis CDU","Other",null,null,null,null,null,null,null,null,null,null,null,null,null,null,null,null,null,null,null,null,null,null,null,null,null,null,null,null,null,null,null,null,null,null,null,null,null,null,null,null,null,null,null,null,null,null,null,null,null,null,null,null,null,null,null,null,null,null,null,null,null,null,null,null,null,null,null,null,null,null,null,null,null,null,null,null,null,null,null,null,null,null,null,null,null,null,null,null,null,null,null,null,null,null,null,null,null,null,null,null,null,null,null,null,null,null,null,null,null,null,null,null,null,null,null,null,null,null,null,null,null,null,null,null,null,null,null,"Specialized Inference Farms - Chassis-Level Immersion Cooling",null,null,null,null,0.36,820]
[null,null,null,null,null,null,null,null,null,null,null,"Modern AI Factories - Coolant Distribution Units (CDUs)",null,null,null,34800,21500,6800,6500,null,null,null,null,null,null,null,null,null,null,null,null,null,null,null,null,null,null,null,null,null,null,null,null,null,null,null,null,"Modern AI Factories - High Cost",null,null,null,null,75000,50000,25000,null,null,null,null,null,null,null,null,null,null,null,null,null,null,8500,7500,2800,2400,1300,2000,2800,null,null,2700,null,2000,{"$f":"SUM(BT59:BW59)=BR59","v":true},{"$f":"SUM(BX59:CC59)=BS59","v":true},null,null,null,null,null,null,null,null,null,null,null,null,null,null,null,null,null,null,null,null,null,null,null,null,null,null,null,null,null,null,null,null,null,null,null,null,null,null,null,null,null,null,null,null,null,null,null,null,null,null,null,null,null,null,null,null,null,null,null,null,null,null,null,null,null,null,null,null,null,null,null,null,null,null,null,null,null,null,null,null,null,null,null,null,null,null,null,null,null,null,null,null,null,null,null,null,null,null,null,null,null,null,null,null,null,null,null,null,null,null,null,null,null,null,null,null,null,null,null,null,null,null,null,null,null,"Specialized Inference Farms - Open-Tank-Phase Immersion",null,null,null,null,0.42,960]
[null,null,null,null,null,null,null,null,null,null,null,"Modern AI Factories - Hybrid Air-Liquid Infrastructure",null,null,null,37000,23000,7200,6800,null,null,null,null,null,null,null,null,null,null,null,null,null,null,null,null,null,null,null,null,null,null,null,null,null,null,null,null,"Modern AI Factories - Low Cost",null,null,null,null,55000,40000,15000,null,null,null,null,null,null,null,null,null,null,null,null,null,null,6500,5500,2200,1800,1000,1500,2000,null,null,1900,null,1600,{"$f":"SUM(BT60:BW60)=BR60","v":true},{"$f":"SUM(BX60:CC60)=BS60","v":true},null,null,null,null,null,null,null,null,null,null,null,null,null,null,null,null,null,null,null,null,null,null,null,null,null,null,null,null,null,null,null,null,null,null,null,null,null,null,null,null,null,null,null,null,null,null,null,null,null,null,null,null,null,null,null,null,null,null,null,null,null,null,null,null,null,null,null,null,null,null,null,null,null,null,null,null,null,null,null,null,null,null,null,null,null,null,null,null,null,null,null,null,null,null,null,null,null,null,null,null,null,null,null,null,null,null,null,null,null,null,null,null,null,null,null,null,null,null,null,null,null,null,null,null,null,"Specialized Inference Farms - Liquid-to-Air (L2A) Sidecars",null,null,null,null,0.34,790]
[null,null,null,null,null,null,null,null,null,null,null,null,null,null,null,null,null,null,null,null,null,null,null,null,null,null,null,null,null,null,null,null,null,null,null,null,null,null,null,null,null,null,null,null,null,null,null,"Modern AI Factories - Single Phase Direct-to-Chip Liquid Cooling",null,null,null,null,63550,44000,19500,null,null,null,null,null,null,null,null,null,null,null,null,null,null,7000,6500,2350,1950,1100,1600,2200,null,null,2500,null,1800,true,true]
[null,null,null,null,null,null,null,null,null,null,null,null,null,null,null,null,null,null,null,null,null,null,null,null,null,null,null,null,null,null,null,null,null,null,null,null,null,null,null,null,null,null,null,null,null,null,null,"Modern AI Factories - Coolant Distribution Units (CDUs)",null,null,null,null,59000,42000,17000,null,null,null,null,null,null,null,null,null,null,null,null,null,null,6800,6500,2300,1900,1050,1550,2100,null,null,2600,null,1800,true,true]
[null,null,null,null,null,null,null,null,null,null,null,null,null,null,null,null,null,null,null,null,null,null,null,null,null,null,null,null,null,null,null,null,null,null,null,null,null,null,null,null,null,null,null,null,null,null,null,"Modern AI Factories - Hybrid Air-Liquid Infrastructure",null,null,null,null,69000,47000,22000,null,null,null,null,null,null,null,null,null,null,null,null,null,null,7200,6800,2400,2000,1150,1650,2100,null,null,2800,null,1900,true,true,null,null,null,null,null,null,null,null,null,null,null,null,null,null,null,null,null,null,null,null,null,null,null,null,null,null,null,null,null,null,null,null,null,null,null,null,null,null,null,null,null,null,null,null,null,null,null,null,null,null,null,null,null,null,null,null,null,null,null,null,null,null,null,null,null,null,null,null,null,null,null,null,null,null,null,null,null,null,"Specialized Inference Farms - High Cost",null,null,null,48,36,null,null,null,null,null,null,null,null,null,null,null,null,null,"NVIDIA Hopper (H200) - High Cost",null,null,null,null,35000,580]
[null,null,null,null,null,null,null,null,null,null,null,null,null,null,null,null,null,null,null,null,null,null,null,null,null,null,null,null,null,null,null,null,null,null,null,null,null,null,null,null,null,null,null,null,null,null,null,null,null,null,null,null,null,null,null,null,null,null,null,null,null,null,null,null,null,null,null,null,null,null,null,null,null,null,null,null,null,null,null,null,null,null,null,null,null,null,null,null,null,null,null,null,null,null,null,null,null,null,null,null,null,null,null,null,null,null,null,null,null,null,null,null,null,null,null,null,null,null,null,null,null,null,null,null,null,null,null,null,null,null,null,null,null,null,null,null,null,null,null,null,null,null,null,null,null,null,null,null,null,null,null,null,null,null,null,null,null,null,null,null,null,"Specialized Inference Farms - Low Cost",null,null,null,36,24,null,null,null,null,null,null,null,null,null,null,null,null,null,"NVIDIA Hopper (H200) - Low Cost",null,null,null,null,16000,460]
[null,null,null,null,null,null,null,null,null,null,null,null,null,null,null,null,null,null,null,null,null,null,null,null,null,null,null,null,null,null,null,null,null,null,null,null,null,null,null,null,null,null,null,null,null,null,null,null,null,null,null,null,null,null,null,null,null,null,null,null,null,null,null,null,null,null,null,null,null,null,null,null,null,null,null,null,null,null,null,null,null,null,null,null,null,null,null,null,null,null,null,null,null,null,null,null,null,null,null,null,null,null,null,null,null,null,null,null,null,null,null,null,null,null,null,null,null,null,null,null,null,null,null,null,null,null,null,null,null,null,null,null,null,null,null,null,null,null,null,null,null,null,null,null,null,null,null,null,null,null,null,null,null,null,null,null,null,null,null,null,null,"Specialized Inference Farms - Chassis-Level Immersion Cooling",null,null,null,54,42,null,null,null,null,null,null,null,null,null,null,null,null,null,"NVIDIA Hopper (H200) - Hyrid Air",null,null,null,null,12000,240]
[null,null,null,null,null,null,null,null,null,null,null,null,null,null,null,null,null,null,null,null,null,null,null,null,null,null,null,null,null,null,null,null,null,null,null,null,null,null,null,null,null,null,null,null,null,null,null,null,null,null,null,null,null,null,null,null,null,null,null,null,null,null,null,null,null,null,null,null,null,null,null,null,null,null,null,null,null,null,null,null,null,null,null,null,null,null,null,null,null,null,null,null,null,null,null,null,null,null,null,null,null,null,null,null,null,null,null,null,null,null,null,null,null,null,null,null,null,null,null,null,null,null,null,null,null,null,null,null,null,null,null,null,null,null,null,"Specialized Inference Farms - High Cost",null,null,null,18000,14000,null,null,null,null,null,null,null,null,null,null,null,null,null,null,null,null,null,null,null,null,"Specialized Inference Farms - Open-Tank-Phase Immersion",null,null,null,60,48,null,null,null,null,null,null,null,null,null,null,null,null,null,"NVIDIA Hopper (H200) - Fluid-Assisted",null,null,null,null,26000,510]
[null,null,null,null,null,null,null,null,null,null,null,null,null,null,null,null,null,null,null,null,null,null,null,null,null,null,null,null,null,null,null,null,null,null,null,null,null,null,null,null,null,null,null,null,null,null,null,null,null,null,null,null,null,null,null,null,null,null,null,null,null,null,null,null,null,null,null,null,null,null,null,null,null,null,null,null,null,null,null,null,null,null,null,null,null,null,null,null,null,null,null,null,null,null,null,null,null,null,null,null,"Specialized Inference Farms - High Cost",null,null,null,5600,4800,null,null,null,null,null,null,null,null,null,null,null,null,null,null,null,null,null,null,null,null,null,null,null,null,null,null,null,null,null,"Specialized Inference Farms - Low Cost",null,null,null,8000,5000,null,null,null,null,null,null,null,null,null,null,null,null,null,null,null,null,null,null,null,null,"Specialized Inference Farms - Liquid-to-Air (L2A) Sidecars",null,null,null,42,30,null,null,null,null,null,null,null,null,null,null,null,null,null,"NVIDIA Hopper (H200) - Single Phase Direct-to-Chip Liquid Cooling",null,null,null,null,34000,720]
[null,null,null,null,null,null,null,null,null,null,null,null,null,null,null,null,null,null,null,null,null,null,null,null,null,null,null,null,null,null,null,null,null,null,null,null,null,null,null,null,null,null,null,null,null,null,null,null,null,null,null,null,null,null,null,null,null,null,null,null,null,null,null,null,null,null,null,null,null,null,null,null,null,null,null,null,null,null,null,null,null,null,null,null,null,null,null,null,null,null,null,null,null,null,null,null,null,null,null,null,"Specialized Inference Farms - Low Cost",null,null,null,3800,3200,null,null,null,null,null,null,null,null,null,null,null,null,null,null,null,null,null,null,null,null,null,null,null,null,null,null,null,null,null,"Specialized Inference Farms - Chassis-Level Immersion Cooling",null,null,null,14000,11000,null,null,null,null,null,null,null,null,null,null,null,null,null,null,null,null,null,null,null,null,null,null,null,null,null,null,null,null,null,null,null,null,null,null,null,null,null,null,null,"NVIDIA Hopper (H200) - Double Phase Direct-to-Chip Liquid Cooling",null,null,null,null,88000,850]
[null,null,null,null,null,null,null,null,null,null,null,null,null,null,null,null,null,null,null,null,null,null,null,null,null,null,null,null,null,null,null,null,null,null,null,null,null,null,null,null,null,null,null,null,null,null,null,null,null,null,null,null,null,null,null,null,null,null,null,null,null,null,null,null,null,null,null,null,null,null,null,null,null,null,null,null,null,null,null,null,null,null,null,null,null,null,null,null,null,null,null,null,null,null,null,null,null,null,null,null,"Specialized Inference Farms - Chassis-Level Immersion Cooling",null,null,null,4800,4200,null,null,null,null,null,null,null,null,null,null,null,"Specialized Inference Farms - High Cost",null,null,null,8800,7200,null,null,null,null,null,null,null,null,null,null,null,null,"Specialized Inference Farms - Open-Tank-Phase Immersion",null,null,null,13000,10000]
[null,null,null,null,null,null,null,null,null,null,null,null,null,null,null,null,null,null,null,null,null,null,null,null,null,null,null,null,null,null,null,null,null,null,null,null,null,null,null,null,null,null,null,null,null,null,null,null,null,null,null,null,null,null,null,null,null,null,null,null,null,null,null,null,null,null,null,null,null,null,null,null,null,null,null,null,null,null,null,null,null,null,null,null,null,null,null,null,null,null,null,null,null,null,null,null,null,null,null,null,"Specialized Inference Farms - Open-Tank-Phase Immersion",null,null,null,5400,4600,null,null,null,null,null,null,null,null,null,null,null,"Specialized Inference Farms - Low Cost",null,null,null,5800,4800,null,null,null,null,null,null,null,null,null,null,null,null,"Specialized Inference Farms - Liquid-to-Air (L2A) Sidecars",null,null,null,10500,7500,null,null,null,null,null,null,null,null,null,null,null,null,null,null,null,null,null,null,null,null,null,null,null,null,null,null,null,null,null,null,null,null,null,null,null,null,null,null,null,null,null,null,null,null,null,null,null,null,null,null,null,null,null,null,null,null,null,null,null,null,null,null,null,null,null,null,null,"NVIDIA Hopper (H200) - High Cost",null,null,null,null,0.3,680]
[null,null,null,null,null,null,null,null,null,null,null,null,null,null,null,null,null,null,null,null,null,null,null,null,null,null,null,null,null,null,null,null,null,null,null,null,null,null,null,null,null,null,null,null,null,null,null,null,null,null,null,null,null,null,null,null,null,null,null,null,null,null,null,null,null,null,null,null,null,null,null,null,null,null,null,null,null,null,null,null,null,null,null,null,null,null,null,null,null,null,null,null,null,null,null,null,null,null,null,null,"Specialized Inference Farms - Liquid-to-Air (L2A) Sidecars",null,null,null,4200,3600,null,null,null,null,null,null,null,null,null,null,null,"Specialized Inference Farms - Chassis-Level Immersion Cooling",null,null,null,7500,6200,null,null,null,null,null,null,null,null,null,null,null,null,null,null,null,null,null,null,null,null,null,null,null,null,null,null,null,null,null,null,null,null,null,null,null,null,null,null,null,null,null,null,null,null,null,null,null,null,null,null,null,null,null,null,null,null,null,null,null,null,null,null,null,null,null,null,null,null,null,null,null,null,null,null,null,null,null,null,null,null,null,null,null,null,null,"NVIDIA Hopper (H200) - Low Cost",null,null,null,null,0.18,390]
[null,null,null,null,null,null,null,null,null,null,null,null,null,null,null,null,null,null,null,null,null,null,null,null,null,null,null,null,null,null,null,null,null,null,null,null,null,null,null,null,null,null,null,null,null,null,null,null,null,null,null,null,null,null,null,null,null,null,null,null,null,null,null,null,null,null,null,null,null,null,null,null,null,null,null,null,null,null,null,null,null,null,null,null,null,null,null,null,null,null,null,null,null,null,null,null,null,null,null,null,null,null,null,null,null,null,null,null,null,null,null,null,null,null,null,null,null,"Specialized Inference Farms - Open-Tank-Phase Immersion",null,null,null,8200,6800,null,null,null,null,null,null,null,null,null,null,null,null,null,null,null,null,null,null,null,null,null,null,null,null,null,null,null,null,null,null,null,null,null,null,null,null,null,null,null,null,null,null,null,null,null,null,null,null,null,null,null,null,null,null,null,null,null,null,null,null,null,null,null,null,null,null,null,null,null,null,null,null,null,null,null,null,null,null,null,null,null,null,null,null,null,"NVIDIA Hopper (H200) - Hyrid Air",null,null,null,null,0.22,440]
[null,null,null,null,null,null,null,null,null,null,null,null,null,null,null,null,null,null,null,null,null,null,null,null,null,null,null,null,null,null,null,null,null,null,null,null,null,null,null,null,null,null,null,null,null,null,null,null,null,null,null,null,null,null,null,null,null,null,null,null,null,null,null,null,null,null,null,null,null,null,null,null,null,null,null,null,null,null,null,null,null,null,null,null,null,null,null,null,null,null,null,null,null,null,null,null,null,null,null,null,null,null,null,null,null,null,null,null,null,null,null,null,null,null,null,null,null,"Specialized Inference Farms - Liquid-to-Air (L2A) Sidecars",null,null,null,6200,5200,null,null,null,null,null,null,null,null,null,null,null,null,null,null,null,null,null,null,null,null,null,null,null,null,null,null,null,null,null,null,null,null,null,null,null,null,null,null,null,null,null,null,null,null,null,null,null,null,null,null,null,null,null,null,null,null,null,null,null,null,null,null,null,null,null,null,null,null,null,null,null,null,null,null,null,null,null,null,null,null,null,null,null,null,null,"NVIDIA Hopper (H200) - Fluid-Assisted",null,null,null,null,0.25,510]
[null,null,null,null,null,null,null,null,null,null,null,null,null,null,null,null,null,null,null,null,null,null,null,null,null,null,null,null,null,null,null,null,null,null,null,null,null,null,null,null,null,null,null,null,null,null,null,null,null,null,null,null,null,null,null,null,null,null,null,null,null,null,null,null,null,null,null,null,null,null,null,null,null,null,null,null,null,null,null,null,null,null,null,null,null,null,null,null,null,null,null,null,null,null,null,null,null,null,null,null,null,null,null,null,null,null,null,null,null,null,null,null,null,null,null,null,null,null,null,null,null,null,null,null,null,null,null,null,null,null,null,null,null,null,null,null,null,null,null,null,null,null,null,null,null,null,null,null,null,null,null,null,null,null,null,null,null,null,null,null,null,null,null,null,null,null,null,null,null,null,null,null,null,null,null,null,null,null,null,null,null,null,null,null,null,null,null,null,null,null,null,null,null,null,null,null,null,null,null,null,null,null,null,null,null,null,null,null,"NVIDIA Hopper (H200) - Single Phase Direct-to-Chip Liquid Cooling",null,null,null,null,0.26,560]
[null,null,null,null,null,null,null,null,null,null,null,null,null,null,null,null,null,null,null,null,null,null,null,null,null,null,null,null,null,null,null,null,null,null,null,null,null,null,null,null,null,null,null,null,null,null,null,null,null,null,null,null,null,null,null,null,null,null,null,null,null,null,null,null,null,null,null,null,null,null,null,null,null,null,null,null,null,null,null,null,null,null,null,null,null,null,null,null,null,null,null,null,null,null,null,null,null,null,null,null,null,null,null,null,null,null,null,null,null,null,null,null,null,null,null,null,null,null,null,null,null,null,null,null,null,null,null,null,null,null,null,null,null,null,null,null,null,null,null,null,null,null,null,null,null,null,null,null,null,null,null,null,null,null,null,null,null,null,null,null,null,null,null,null,null,null,null,null,null,null,null,null,null,null,null,null,null,null,null,null,null,null,null,null,null,null,null,null,null,null,null,null,null,null,null,null,null,null,null,null,null,null,null,null,null,null,null,null,"NVIDIA Hopper (H200) - Double Phase Direct-to-Chip Liquid Cooling",null,null,null,null,0.28000000000000003,610]
[]
[null,null,null,null,null,null,null,null,null,null,null,null,null,null,null,null,null,null,null,null,null,null,null,null,null,null,null,null,null,null,null,null,null,null,null,null,null,null,null,null,null,null,null,null,null,null,null,null,null,null,null,null,"Total","Elec & Other","IT"]
[null,null,null,null,null,null,null,null,null,null,null,null,null,null,null,null,null,null,null,null,null,null,null,null,null,null,null,null,null,null,null,null,null,null,null,null,null,null,null,null,null,null,null,null,null,null,null,null,null,null,null,null,null,null,null,null,null,null,null,null,null,null,null,null,null,null,null,null,null,null,null,null,null,null,null,null,null,null,null,null,null,null,null,null,null,null,null,null,null,null,null,null,null,null,null,null,null,null,null,null,null,null,null,null,null,null,null,null,null,null,null,null,null,null,null,null,null,null,null,null,null,null,null,null,null,null,null,null,null,null,null,null,null,null,null,null,null,null,null,null,null,null,null,null,null,null,null,null,null,null,null,null,null,null,null,null,null,null,null,null,null,"NVIDIA Hopper (H200) - High Cost",null,null,null,60,48,null,null,null,null,null,null,null,null,null,null,null,null,null,"NVIDIA Blackwell (GB300 / B300) - High  Cost",null,null,null,null,95000,1250]
[null,null,null,null,null,null,null,null,null,null,null,null,null,null,null,null,null,null,null,null,null,null,null,null,null,null,null,null,null,null,null,null,null,null,null,null,null,null,null,null,null,null,null,null,null,null,null,null,null,null,null,null,null,null,null,null,null,null,null,null,null,null,null,null,null,null,null,null,null,null,null,null,null,null,null,null,null,null,null,null,null,null,null,null,null,null,null,null,null,null,null,null,null,null,null,null,null,null,null,null,null,null,null,null,null,null,null,null,null,null,null,null,null,null,null,null,null,null,null,null,null,null,null,null,null,null,null,null,null,null,null,null,null,null,null,null,null,null,null,null,null,null,null,null,null,null,null,null,null,null,null,null,null,null,null,null,null,null,null,null,null,"NVIDIA Hopper (H200) - Low Cost",null,null,null,42,36,null,null,null,null,null,null,null,null,null,null,null,null,null,"NVIDIA Blackwell (GB300 / B300) - Low Cost",null,null,null,null,48000,980]
[null,null,null,null,null,null,null,null,null,null,null,"Next-Gen Superclusters - High Cost",null,null,null,55000,35000,11000,9000,null,null,null,null,null,null,null,null,null,null,null,null,null,null,null,null,null,null,null,null,null,null,null,null,null,null,null,null,null,null,null,null,null,null,null,null,null,null,null,null,null,null,null,null,null,null,null,null,null,null,"Elec","Mech","Back-up","UPS","Trans","Switch/Dense Busway Distribution","Chillers","CRAH","CDU","Piping/Liq Loop/Adiabatic Dry Fluid Coolers","In Chassis CDU/Dielectric Fluid Pumps and Loops","Other - Loops, CDUs and Mechanical Sheel",null,null,null,null,null,null,null,null,null,null,null,null,null,null,null,null,null,null,null,null,null,null,null,null,null,null,null,null,null,null,null,null,null,null,null,null,null,null,null,null,null,null,null,null,null,null,null,null,null,null,null,null,null,null,null,null,null,null,null,null,null,null,null,null,null,null,null,null,null,null,null,null,null,null,null,null,null,null,null,null,"NVIDIA Hopper (H200) - Hyrid Air",null,null,null,48,36,null,null,null,null,null,null,null,null,null,null,null,null,null,"NVIDIA Blackwell (GB300 / B300) - 90% Direct-to-Chip Liquid",null,null,null,null,78000,1100]
[null,null,null,null,null,null,null,null,null,null,null,"Next-Gen Superclusters - Low Cost",null,null,null,44000,29000,8500,6500,null,null,null,null,null,null,null,null,null,null,"Next-Gen Superclusters - High Cost",null,null,null,null,null,55000,3200,58200,null,null,null,null,null,null,null,null,null,"Next-Gen Superclusters - High Cost",null,null,null,null,125000,70000,55000,null,null,null,null,null,null,null,null,null,"Next-Gen Superclusters - High Cost",null,null,null,null,11000,9000,3400,3000,1800,2800,3000,null,null,3400,null,2600,{"$f":"SUM(BT81:BW81)=BR81","v":true},{"$f":"SUM(BX81:CC81)=BS81","v":true},null,null,null,null,null,null,null,null,null,null,null,null,null,null,null,null,null,null,null,null,null,null,null,null,null,null,null,null,null,null,null,null,null,null,null,null,null,null,null,null,null,null,null,null,null,null,null,null,null,null,null,null,"NVIDIA Hopper (H200) - High Cost",null,null,null,19500,16000,null,null,null,null,null,null,null,null,null,null,null,null,null,null,null,null,null,null,null,null,"NVIDIA Hopper (H200) - Fluid-Assisted",null,null,null,54,42,null,null,null,null,null,null,null,null,null,null,null,null,null,"NVIDIA Blackwell (GB300 / B300) - Single Phase Direct-to-Chip Liquid Cooling",null,null,null,null,85000,1320]
[null,null,null,null,null,null,null,null,null,null,null,"Next-Gen Superclusters - Chiller-Less Dry Cooling",null,null,null,46000,30000,9000,7000,null,null,null,null,null,null,null,null,null,null,"Next-Gen Superclusters - Low Cost",null,null,null,null,null,44000,2100,46100,null,null,null,null,null,null,null,null,null,"Next-Gen Superclusters - Low Cost",null,null,null,null,105000,60000,45000,null,null,null,null,null,null,null,null,null,"Next-Gen Superclusters - Low Cost",null,null,null,null,8500,6500,2700,2300,1400,2100,2000,null,null,2500,null,2000,{"$f":"SUM(BT82:BW82)=BR82","v":true},{"$f":"SUM(BX82:CC82)=BS82","v":true},null,null,null,null,null,null,null,null,null,null,null,null,null,null,null,null,null,"NVIDIA Hopper (H200) - High Cost",null,null,null,2000,1600,null,null,null,null,null,null,null,null,null,null,null,null,null,null,null,null,null,null,null,null,null,null,null,null,null,null,null,null,null,"NVIDIA Hopper (H200) - Low Cost",null,null,null,13500,11000,null,null,null,null,null,null,null,null,null,null,null,null,null,null,null,null,null,null,null,null,"NVIDIA Hopper (H200) - Single Phase Direct-to-Chip Liquid Cooling",null,null,null,60,48,null,null,null,null,null,null,null,null,null,null,null,null,null,"NVIDIA Blackwell (GB300 / B300) - Double Phase Direct-to-Chip Liquid Cooling",null,null,null,null,145000,1480]
[null,null,null,null,null,null,null,null,null,null,null,"Next-Gen Superclusters - High -Impedance Dielectric Coolants",null,null,null,49500,31000,9500,9000,null,null,null,null,null,null,null,null,null,null,"Next-Gen Superclusters - Chiller-Less Dry Cooling",null,null,null,null,null,46000,2200,48200,null,null,null,null,null,null,null,null,null,"Next-Gen Superclusters - Chiller-Less Dry Cooling",null,null,null,null,109000,62000,47000,null,null,null,null,null,null,null,null,null,"Next-Gen Superclusters - Chiller-Less Dry Cooling",null,null,null,null,9000,7000,2850,2450,1500,2200,0,null,null,3800,null,3200,true,true,null,null,null,null,null,null,null,null,null,null,null,null,null,null,null,null,null,"NVIDIA Hopper (H200) - Low Cost",null,null,null,1400,1100,null,null,null,null,null,null,null,null,null,null,null,null,null,null,null,null,null,null,null,null,null,null,null,null,null,null,null,null,null,"NVIDIA Hopper (H200) - Hyrid Air",null,null,null,15000,12500,null,null,null,null,null,null,null,null,null,null,null,null,null,null,null,null,null,null,null,null,"NVIDIA Hopper (H200) - Double Phase Direct-to-Chip Liquid Cooling",null,null,null,49,36]
[null,null,null,null,null,null,null,null,null,null,null,"Next-Gen Superclusters - AI-Driven Grid Balance Cooling",null,null,null,48000,30500,10500,7000,null,null,null,null,null,null,null,null,null,null,"Next-Gen Superclusters - High -Impedance Dielectric Coolants",null,null,null,null,null,49500,2400,51900,null,null,null,null,null,null,null,null,null,"Next-Gen Superclusters - High -Impedance Dielectric Coolants",null,null,null,null,120000,68000,52000,null,null,null,null,null,null,null,null,null,"Next-Gen Superclusters - High -Impedance Dielectric Coolants",null,null,null,null,9500,9000,3000,2600,1600,2300,2500,null,null,null,3900,2600,true,true,null,null,null,null,null,null,null,null,null,null,null,null,null,null,null,null,null,"NVIDIA Hopper (H200) - Hyrid Air",null,null,null,1500,1200,null,null,null,null,null,null,null,null,null,null,null,"NVIDIA Hopper (H200) - High Cost",null,null,null,3000,2400,null,null,null,null,null,null,null,null,null,null,null,null,"NVIDIA Hopper (H200) - Fluid-Assisted",null,null,null,16000,13000]
[null,null,null,null,null,null,null,null,null,null,null,null,null,null,null,null,null,null,null,null,null,null,null,null,null,null,null,null,null,"Next-Gen Superclusters - AI-Driven Grid Balance Cooling",null,null,null,null,null,48000,2200,50200,null,null,null,null,null,null,null,null,null,"Next-Gen Superclusters - AI-Driven Grid Balance Cooling",null,null,null,null,123500,69500,54000,null,null,null,null,null,null,null,null,null,"Next-Gen Superclusters - AI-Driven Grid Balance Cooling",null,null,null,null,10500,7000,2500,4100,1700,2200,2200,null,null,null,2800,2000,true,true,null,null,null,null,null,null,null,null,null,null,null,null,null,null,null,null,null,"NVIDIA Hopper (H200) - Fluid-Assisted",null,null,null,1600,1300,null,null,null,null,null,null,null,null,null,null,null,"NVIDIA Hopper (H200) - Low Cost",null,null,null,2000,1600,null,null,null,null,null,null,null,null,null,null,null,null,"NVIDIA Hopper (H200) - Single Phase Direct-to-Chip Liquid Cooling",null,null,null,16500,13500,null,null,null,null,null,null,null,null,null,null,null,null,null,null,null,null,null,null,null,null,null,null,null,null,null,null,null,null,null,null,null,null,null,null,null,null,null,null,null,null,null,null,null,null,null,null,null,null,null,null,null,null,null,null,null,null,null,null,null,null,null,null,null,null,null,null,null,"NVIDIA Blackwell (GB300 / B300) - High  Cost",null,null,null,null,0.65,1950]
[null,null,null,null,null,null,null,null,null,null,null,null,null,null,null,null,null,null,null,null,null,null,null,null,null,null,null,null,null,null,null,null,null,null,null,null,null,null,null,null,null,null,null,null,null,null,null,null,null,null,null,null,null,null,null,null,null,null,null,null,null,null,null,null,null,null,null,null,null,null,null,null,null,null,null,null,null,null,null,null,null,null,null,null,null,null,null,null,null,null,null,null,null,null,null,null,null,null,null,null,"NVIDIA Hopper (H200) - Single Phase Direct-to-Chip Liquid Cooling",null,null,null,1800,1400,null,null,null,null,null,null,null,null,null,null,null,"NVIDIA Hopper (H200) - Hyrid Air",null,null,null,2200,1800,null,null,null,null,null,null,null,null,null,null,null,null,"NVIDIA Hopper (H200) - Double Phase Direct-to-Chip Liquid Cooling",null,null,null,17000,14000,null,null,null,null,null,null,null,null,null,null,null,null,null,null,null,null,null,null,null,null,null,null,null,null,null,null,null,null,null,null,null,null,null,null,null,null,null,null,null,null,null,null,null,null,null,null,null,null,null,null,null,null,null,null,null,null,null,null,null,null,null,null,null,null,null,null,null,"NVIDIA Blackwell (GB300 / B300) - Low Cost",null,null,null,null,0.45,1250]
[null,null,null,null,null,null,null,null,null,null,null,null,null,null,null,null,null,null,null,null,null,null,null,null,null,null,null,null,null,null,null,null,null,null,null,null,null,null,null,null,null,null,null,null,null,null,null,null,null,null,null,null,null,null,null,null,null,null,null,null,null,null,null,null,null,null,null,null,null,null,null,null,null,null,null,null,null,null,null,null,null,null,null,null,null,null,null,null,null,null,null,null,null,null,null,null,null,null,null,null,"NVIDIA Hopper (H200) - Double Phase Direct-to-Chip Liquid Cooling",null,null,null,2200,1700,null,null,null,null,null,null,null,null,null,null,null,"NVIDIA Hopper (H200) - Fluid-Assisted",null,null,null,2500,2000,null,null,null,null,null,null,null,null,null,null,null,null,null,null,null,null,null,null,null,null,null,null,null,null,null,null,null,null,null,null,null,null,null,null,null,null,null,null,null,null,null,null,null,null,null,null,null,null,null,null,null,null,null,null,null,null,null,null,null,null,null,null,null,null,null,null,null,null,null,null,null,null,null,null,null,null,null,null,null,null,null,null,null,null,null,"NVIDIA Blackwell (GB300 / B300) - 90% Direct-to-Chip Liquid",null,null,null,null,0.5,1400]
[null,null,null,null,null,null,null,null,null,null,null,null,null,null,null,null,null,null,null,null,null,null,null,null,null,null,null,null,null,null,null,null,null,null,null,null,null,null,null,null,null,null,null,null,null,null,null,null,null,null,null,null,null,null,null,null,null,null,null,null,null,null,null,null,null,null,null,null,null,null,null,null,null,null,null,null,null,null,null,null,null,null,null,null,null,null,null,null,null,null,null,null,null,null,null,null,null,null,null,null,null,null,null,null,null,null,null,null,null,null,null,null,null,null,null,null,null,"NVIDIA Hopper (H200) - Single Phase Direct-to-Chip Liquid Cooling",null,null,null,2700,2200,null,null,null,null,null,null,null,null,null,null,null,null,null,null,null,null,null,null,null,null,null,null,null,null,null,null,null,null,null,null,null,null,null,null,null,null,null,null,null,null,null,null,null,null,null,null,null,null,null,null,null,null,null,null,null,null,null,null,null,null,null,null,null,null,null,null,null,null,null,null,null,null,null,null,null,null,null,null,null,null,null,null,null,null,null,"NVIDIA Blackwell (GB300 / B300) - Single Phase Direct-to-Chip Liquid Cooling",null,null,null,null,0.52,1480]
[null,null,null,null,null,null,null,null,null,null,null,null,null,null,null,null,null,null,null,null,null,null,null,null,null,null,null,null,null,null,null,null,null,null,null,null,null,null,null,null,null,null,null,null,null,null,null,null,null,null,null,null,null,null,null,null,null,null,null,null,null,null,null,null,null,null,null,null,null,null,null,null,null,null,null,null,null,null,null,null,null,null,null,null,null,null,null,null,null,null,null,null,null,null,null,null,null,null,null,null,null,null,null,null,null,null,null,null,null,null,null,null,null,null,null,null,null,"NVIDIA Hopper (H200) - Double Phase Direct-to-Chip Liquid Cooling",null,null,null,3200,2600,null,null,null,null,null,null,null,null,null,null,null,null,null,null,null,null,null,null,null,null,null,null,null,null,null,null,null,null,null,null,null,null,null,null,null,null,null,null,null,null,null,null,null,null,null,null,null,null,null,null,null,null,null,null,null,null,null,null,null,null,null,null,null,null,null,null,null,null,null,null,null,null,null,null,null,null,null,null,null,null,null,null,null,null,null,"NVIDIA Blackwell (GB300 / B300) - Double Phase Direct-to-Chip Liquid Cooling",null,null,null,null,0.56000000000000005,1620]
[]
[]
[null,null,null,null,null,null,null,null,null,null,null,null,null,null,null,null,null,null,null,null,null,null,null,null,null,null,null,null,null,null,null,null,null,null,null,null,null,null,null,null,null,null,null,null,null,null,null,null,null,null,null,null,null,null,null,null,null,null,null,null,null,null,null,null,null,null,null,null,null,null,null,null,null,null,null,null,null,null,null,null,null,null,null,null,null,null,null,null,null,null,null,null,null,null,null,null,null,null,null,null,null,null,null,null,null,null,null,null,null,null,null,null,null,null,null,null,null,null,null,null,null,null,null,null,null,null,null,null,null,null,null,null,null,null,null,null,null,null,null,null,null,null,null,null,null,null,null,null,null,null,null,null,null,null,null,null,null,null,null,null,null,"NVIDIA Blackwell (GB300 / B300) - High  Cost",null,null,null,24,24,null,null,null,null,null,null,null,null,null,null,null,null,null,"NVIDIA Vera Rubin NVL72 - High Cost",null,null,null,null,180000,2100]
[null,null,null,null,null,null,null,null,null,null,null,null,null,null,null,null,null,null,null,null,null,null,null,null,null,null,null,null,null,null,null,null,null,null,null,null,null,null,null,null,null,null,null,null,null,null,null,null,null,null,null,null,null,null,null,null,null,null,null,null,null,null,null,null,null,null,null,null,null,null,null,null,null,null,null,null,null,null,null,null,null,null,null,null,null,null,null,null,null,null,null,null,null,null,null,null,null,null,null,null,null,null,null,null,null,null,null,null,null,null,null,null,null,null,null,null,null,null,null,null,null,null,null,null,null,null,null,null,null,null,null,null,null,null,null,null,null,null,null,null,null,null,null,null,null,null,null,null,null,null,null,null,null,null,null,null,null,null,null,null,null,"NVIDIA Blackwell (GB300 / B300) - Low Cost",null,null,null,30,30,null,null,null,null,null,null,null,null,null,null,null,null,null,"NVIDIA Vera Rubin NVL72 - Low Cost",null,null,null,null,88000,1650]
[null,null,null,null,null,null,null,null,null,null,null,null,null,null,null,null,null,null,null,null,null,null,null,null,null,null,null,null,null,null,null,null,null,null,null,null,null,null,null,null,null,null,null,null,null,null,null,null,null,null,null,null,null,null,null,null,null,null,null,null,null,null,null,null,null,null,null,null,null,null,null,null,null,null,null,null,null,null,null,null,null,null,null,null,null,null,null,null,null,null,null,null,null,null,null,null,null,null,null,null,null,null,null,null,null,null,null,null,null,null,null,null,null,null,null,null,null,null,null,null,null,null,null,null,null,null,null,null,null,null,null,null,null,null,null,null,null,null,null,null,null,null,null,null,null,null,null,null,null,null,null,null,null,null,null,null,null,null,null,null,null,"NVIDIA Blackwell (GB300 / B300) - 90% Direct-to-Chip Liquid",null,null,null,26,26,null,null,null,null,null,null,null,null,null,null,null,null,null,"NVIDIA Vera Rubin NVL72 - 45 C Warm-Water Closed-Loop Liquid",null,null,null,null,55000,1400]
[null,null,null,null,null,null,null,null,null,null,null,null,null,null,null,null,null,null,null,null,null,null,null,null,null,null,null,null,null,null,null,null,null,null,null,null,null,null,null,null,null,null,null,null,null,null,null,null,null,null,null,null,null,null,null,null,null,null,null,null,null,null,null,null,null,null,null,null,null,null,null,null,null,null,null,null,null,null,null,null,null,null,null,null,null,null,null,null,null,null,null,null,null,null,null,null,null,null,null,null,null,null,null,null,null,null,null,null,null,null,null,null,null,null,null,null,null,null,null,null,null,null,null,null,null,null,null,null,null,null,null,null,null,null,null,"NVIDIA Blackwell (GB300 / B300) - High  Cost",null,null,null,42000,35000,null,null,null,null,null,null,null,null,null,null,null,null,null,null,null,null,null,null,null,null,"NVIDIA Blackwell (GB300 / B300) - Single Phase Direct-to-Chip Liquid Cooling",null,null,null,26,26,null,null,null,null,null,null,null,null,null,null,null,null,null,"NVIDIA Vera Rubin NVL72 - Single Phase Direct-to-Chip Liquid Cooling",null,null,null,null,160000,2400]
[null,null,null,null,null,null,null,null,null,null,null,null,null,null,null,null,null,null,null,null,null,null,null,null,null,null,null,null,null,null,null,null,null,null,null,null,null,null,null,null,null,null,null,null,null,null,null,null,null,null,null,null,null,null,null,null,null,null,null,null,null,null,null,null,null,null,null,null,null,null,null,null,null,null,null,null,null,null,null,null,null,null,null,null,null,null,null,null,null,null,null,null,null,null,null,null,null,null,null,null,"NVIDIA Blackwell (GB300 / B300) - High  Cost",null,null,null,2600,2200,null,null,null,null,null,null,null,null,null,null,null,null,null,null,null,null,null,null,null,null,null,null,null,null,null,null,null,null,null,"NVIDIA Blackwell (GB300 / B300) - Low Cost",null,null,null,29000,24000,null,null,null,null,null,null,null,null,null,null,null,null,null,null,null,null,null,null,null,null,"NVIDIA Blackwell (GB300 / B300) - Double Phase Direct-to-Chip Liquid Cooling",null,null,null,28,28,null,null,null,null,null,null,null,null,null,null,null,null,null,"NVIDIA Vera Rubin NVL72 - Double Phase Direct-to-Chip Liquid Cooling",null,null,null,null,230000,2850]
[null,null,null,null,null,null,null,null,null,null,null,null,null,null,null,null,null,null,null,null,null,null,null,null,null,null,null,null,null,null,null,null,null,null,null,null,null,null,null,null,null,null,null,null,null,null,null,null,null,null,null,null,null,null,null,null,null,null,null,null,null,null,null,null,null,null,null,null,null,null,null,null,null,null,null,null,null,null,null,null,null,null,null,null,null,null,null,null,null,null,null,null,null,null,null,null,null,null,null,null,"NVIDIA Blackwell (GB300 / B300) - Low Cost",null,null,null,2000,1600,null,null,null,null,null,null,null,null,null,null,null,null,null,null,null,null,null,null,null,null,null,null,null,null,null,null,null,null,null,"NVIDIA Blackwell (GB300 / B300) - 90% Direct-to-Chip Liquid",null,null,null,34000,28000]
[null,null,null,null,null,null,null,null,null,null,null,null,null,null,null,null,null,null,null,null,null,null,null,null,null,null,null,null,null,null,null,null,null,null,null,null,null,null,null,null,null,null,null,null,null,null,null,null,null,null,null,null,null,null,null,null,null,null,null,null,null,null,null,null,null,null,null,null,null,null,null,null,null,null,null,null,null,null,null,null,null,null,null,null,null,null,null,null,null,null,null,null,null,null,null,null,null,null,null,null,"NVIDIA Blackwell (GB300 / B300) - 90% Direct-to-Chip Liquid",null,null,null,2200,1800,null,null,null,null,null,null,null,null,null,null,null,"NVIDIA Blackwell (GB300 / B300) - High  Cost",null,null,null,4200,3400,null,null,null,null,null,null,null,null,null,null,null,null,"NVIDIA Blackwell (GB300 / B300) - Single Phase Direct-to-Chip Liquid Cooling",null,null,null,32000,27000,null,null,null,null,null,null,null,null,null,null,null,null,null,null,null,null,null,null,null,null,null,null,null,null,null,null,null,null,null,null,null,null,null,null,null,null,null,null,null,null,null,null,null,null,null,null,null,null,null,null,null,null,null,null,null,null,null,null,null,null,null,null,null,null,null,null,null,"NVIDIA Vera Rubin NVL72 - High Cost",null,null,null,null,0.82,2800]
[null,null,null,null,null,null,null,null,null,null,null,null,null,null,null,null,null,null,null,null,null,null,null,null,null,null,null,null,null,null,null,null,null,null,null,null,null,null,null,null,null,null,null,null,null,null,null,null,null,null,null,null,null,null,null,null,null,null,null,null,null,null,null,null,null,null,null,null,null,null,null,null,null,null,null,null,null,null,null,null,null,null,null,null,null,null,null,null,null,null,null,null,null,null,null,null,null,null,null,null,"NVIDIA Blackwell (GB300 / B300) - Single Phase Direct-to-Chip Liquid Cooling",null,null,null,2100,1700,null,null,null,null,null,null,null,null,null,null,null,"NVIDIA Blackwell (GB300 / B300) - Low Cost",null,null,null,3000,2400,null,null,null,null,null,null,null,null,null,null,null,null,"NVIDIA Blackwell (GB300 / B300) - Double Phase Direct-to-Chip Liquid Cooling",null,null,null,36000,30000,null,null,null,null,null,null,null,null,null,null,null,null,null,null,null,null,null,null,null,null,null,null,null,null,null,null,null,null,null,null,null,null,null,null,null,null,null,null,null,null,null,null,null,null,null,null,null,null,null,null,null,null,null,null,null,null,null,null,null,null,null,null,null,null,null,null,null,"NVIDIA Vera Rubin NVL72 - Low Cost",null,null,null,null,0.6,1850]
[null,null,null,null,null,null,null,null,null,null,null,null,null,null,null,null,null,null,null,null,null,null,null,null,null,null,null,null,null,null,null,null,null,null,null,null,null,null,null,null,null,null,null,null,null,null,null,null,null,null,null,null,null,null,null,null,null,null,null,null,null,null,null,null,null,null,null,null,null,null,null,null,null,null,null,null,null,null,null,null,null,null,null,null,null,null,null,null,null,null,null,null,null,null,null,null,null,null,null,null,"NVIDIA Blackwell (GB300 / B300) - Double Phase Direct-to-Chip Liquid Cooling",null,null,null,3000,2400,null,null,null,null,null,null,null,null,null,null,null,"NVIDIA Blackwell (GB300 / B300) - 90% Direct-to-Chip Liquid",null,null,null,3500,2800,null,null,null,null,null,null,null,null,null,null,null,null,null,null,null,null,null,null,null,null,null,null,null,null,null,null,null,null,null,null,null,null,null,null,null,null,null,null,null,null,null,null,null,null,null,null,null,null,null,null,null,null,null,null,null,null,null,null,null,null,null,null,null,null,null,null,null,null,null,null,null,null,null,null,null,null,null,null,null,null,null,null,null,null,null,"NVIDIA Vera Rubin NVL72 - 45 C Warm-Water Closed-Loop Liquid",null,null,null,null,0.64,1980]
[null,null,null,null,null,null,null,null,null,null,null,null,null,null,null,null,null,null,null,null,null,null,null,null,null,null,null,null,null,null,null,null,null,null,null,null,null,null,null,null,null,null,null,null,null,null,null,null,null,null,null,null,null,null,null,null,null,null,null,null,null,null,null,null,null,null,null,null,null,null,null,null,null,null,null,null,null,null,null,null,null,null,null,null,null,null,null,null,null,null,null,null,null,null,null,null,null,null,null,null,null,null,null,null,null,null,null,null,null,null,null,null,null,null,null,null,null,"NVIDIA Blackwell (GB300 / B300) - Single Phase Direct-to-Chip Liquid Cooling",null,null,null,3200,2600,null,null,null,null,null,null,null,null,null,null,null,null,null,null,null,null,null,null,null,null,null,null,null,null,null,null,null,null,null,null,null,null,null,null,null,null,null,null,null,null,null,null,null,null,null,null,null,null,null,null,null,null,null,null,null,null,null,null,null,null,null,null,null,null,null,null,null,null,null,null,null,null,null,null,null,null,null,null,null,null,null,null,null,null,null,"NVIDIA Vera Rubin NVL72 - Single Phase Direct-to-Chip Liquid Cooling",null,null,null,null,0.68,2200]
[null,null,null,null,null,null,null,null,null,null,null,null,null,null,null,null,null,null,null,null,null,null,null,null,null,null,null,null,null,null,null,null,null,null,null,null,null,null,null,null,null,null,null,null,null,null,null,null,null,null,null,null,"Total","Elec & Other","IT",null,null,null,null,null,null,null,null,null,null,null,null,null,null,null,null,null,null,null,null,null,null,null,null,null,null,null,null,null,null,null,null,null,null,null,null,null,null,null,null,null,null,null,null,null,null,null,null,null,null,null,null,null,null,null,null,null,null,null,null,null,null,"NVIDIA Blackwell (GB300 / B300) - Double Phase Direct-to-Chip Liquid Cooling",null,null,null,4500,3600,null,null,null,null,null,null,null,null,null,null,null,null,null,null,null,null,null,null,null,null,null,null,null,null,null,null,null,null,null,null,null,null,null,null,null,null,null,null,null,null,null,null,null,null,null,null,null,null,null,null,null,null,null,null,null,null,null,null,null,null,null,null,null,null,null,null,null,null,null,null,null,null,null,null,null,null,null,null,null,null,null,null,null,null,null,"NVIDIA Vera Rubin NVL72 - Double Phase Direct-to-Chip Liquid Cooling",null,null,null,null,0.72,2450]
[null,null,null,null,null,null,null,null,null,null,null,"Specialized Inference Farms - High Cost",null,null,null,28500,16500,6000,6000]
[null,null,null,null,null,null,null,null,null,null,null,"Specialized Inference Farms - Low Cost",null,null,null,21000,12500,4500,4000]
[null,null,null,null,null,null,null,null,null,null,null,"Specialized Inference Farms - Chassis-Level Immersion Cooling",null,null,null,25500,14500,5200,5800]
[null,null,null,null,null,null,null,null,null,null,null,"Specialized Inference Farms - Open-Tank-Phase Immersion",null,null,null,27000,14000,5200,5800,null,null,null,null,null,null,null,null,null,null,null,null,null,null,null,null,null,null,null,null,null,null,null,null,null,null,null,null,null,null,null,null,null,null,null,null,null,null,null,null,null,null,null,null,null,null,null,null,null,null,"Total Electric Cost","Total Mechanical Cost","Back-up","UPS","Transmission Step Down","Switchgear/Dense Busway Distribution","Chillers","CRAH","CDU","Piping/Liq Loop/Adiabatic Dry Fluid Coolers/Dense Secondary Loops","In Chassis CDU/Dielectric Fluid Pumps and Loops","Other - Loops, CDUs and Mechanical Sheel"]
[null,null,null,null,null,null,null,null,null,null,null,"Specialized Inference Farms - Liquid-to-Air (L2A) Sidecars",null,null,null,23500,13500,4800,5200,null,null,null,null,null,null,null,null,null,null,"Specialized Inference Farms - High Cost",null,null,null,null,null,28500,2500,31000,null,null,null,null,null,null,null,null,null,"Specialized Inference Farms - High Cost",null,null,null,null,58000,40000,18000,null,null,null,null,null,null,null,null,null,"Specialized Inference Farms - High Cost",null,null,null,null,6000,6000,2000,1700,850,1450,2200,null,null,2000,null,1800,{"$f":"SUM(BT107:BW107)=BR107","v":true},{"$f":"SUM(BX107:CC107)=BS107","v":true}]
[null,null,null,null,null,null,null,null,null,null,null,null,null,null,null,null,null,null,null,null,null,null,null,null,null,null,null,null,null,"Specialized Inference Farms - Low Cost",null,null,null,null,null,21000,1400,22400,null,null,null,null,null,null,null,null,null,"Specialized Inference Farms - Low Cost",null,null,null,null,42000,30000,12000,null,null,null,null,null,null,null,null,null,"Specialized Inference Farms - Low Cost",null,null,null,null,4500,4000,1550,1250,600,1100,1400,null,null,1300,null,1300,{"$f":"SUM(BT108:BW108)=BR108","v":true},{"$f":"SUM(BX108:CC108)=BS108","v":true},null,null,null,null,null,null,null,null,null,null,null,null,null,null,null,null,null,null,null,null,null,null,null,null,null,null,null,null,null,null,null,null,null,null,null,null,null,null,null,null,null,null,null,null,null,null,null,null,null,null,null,null,null,null,null,null,null,null,null,null,null,null,null,null,null,null,null,null,null,null,null,null,null,null,null,null,null,null,"NVIDIA Vera Rubin NVL72 - High Cost",null,null,null,36,30,null,null,null,null,null,null,null,null,null,null,null,null,null,"NVIDIA Vera Rubin NVL72 - High Cost"]
[null,null,null,null,null,null,null,null,null,null,null,null,null,null,null,null,null,null,null,null,null,null,null,null,null,null,null,null,null,"Specialized Inference Farms - Chassis-Level Immersion Cooling",null,null,null,null,null,25500,1500,27000,null,null,null,null,null,null,null,null,null,"Specialized Inference Farms - Chassis-Level Immersion Cooling",null,null,null,null,47000,33000,14000,null,null,null,null,null,null,null,null,null,"Specialized Inference Farms - Chassis-Level Immersion Cooling",null,null,null,null,5200,5800,1750,1450,700,1300,1800,null,null,null,2500,1500,true,true,null,null,null,null,null,null,null,null,null,null,null,null,null,null,null,null,null,null,null,null,null,null,null,null,null,null,null,null,null,null,null,null,null,null,null,null,null,null,null,null,null,null,null,null,null,null,null,null,null,null,null,null,null,null,null,null,null,null,null,null,null,null,null,null,null,null,null,null,null,null,null,null,null,null,null,null,null,null,"NVIDIA Vera Rubin NVL72 - Low Cost",null,null,null,26,20,null,null,null,null,null,null,null,null,null,null,null,null,null,"NVIDIA Vera Rubin NVL72 - Low Cost"]
[null,null,null,null,null,null,null,null,null,null,null,null,null,null,null,null,null,null,null,null,null,null,null,null,null,null,null,null,null,"Specialized Inference Farms - Open-Tank-Phase Immersion",null,null,null,null,null,27000,1600,28600,null,null,null,null,null,null,null,null,null,"Specialized Inference Farms - Open-Tank-Phase Immersion",null,null,null,null,56000,38500,17500,null,null,null,null,null,null,null,null,null,"Specialized Inference Farms - Open-Tank-Phase Immersion",null,null,null,null,5500,7500,1850,1550,750,1350,2000,null,null,3800,null,1700,true,true,null,null,null,null,null,null,null,null,null,null,null,null,null,null,null,null,null,null,null,null,null,null,null,null,null,null,null,null,null,null,null,null,null,null,null,null,null,null,null,null,null,null,null,null,null,null,null,null,null,null,null,null,null,null,null,null,null,null,null,null,null,null,null,null,null,null,null,null,null,null,null,null,null,null,null,null,null,null,"NVIDIA Vera Rubin NVL72 - 45 C Warm-Water Closed-Loop Liquid",null,null,null,42,36,null,null,null,null,null,null,null,null,null,null,null,null,null,"NVIDIA Vera Rubin NVL72 - 45 C Warm-Water Closed-Loop Liquid"]
[null,null,null,null,null,null,null,null,null,null,null,null,null,null,null,null,null,null,null,null,null,null,null,null,null,null,null,null,null,"Specialized Inference Farms - Liquid-to-Air (L2A) Sidecars",null,null,null,null,null,23500,1400,24900,null,null,null,null,null,null,null,null,null,"Specialized Inference Farms - Liquid-to-Air (L2A) Sidecars",null,null,null,null,44500,31500,13000,null,null,null,null,null,null,null,null,null,"Specialized Inference Farms - Liquid-to-Air (L2A) Sidecars",null,null,null,null,4800,5200,1600,1350,650,1200,0,null,null,3400,null,1800,true,true,null,null,null,null,null,null,null,null,null,null,null,null,null,null,null,null,null,null,null,null,null,null,null,null,null,null,null,null,null,null,null,null,null,null,null,null,null,null,null,null,null,null,null,null,null,null,null,null,null,null,null,null,"NVIDIA Vera Rubin NVL72 - High Cost",null,null,null,56000,48000,null,null,null,null,null,null,null,null,null,null,null,null,null,null,null,null,null,null,null,null,"NVIDIA Vera Rubin NVL72 - Single Phase Direct-to-Chip Liquid Cooling",null,null,null,36,30,null,null,null,null,null,null,null,null,null,null,null,null,null,"NVIDIA Vera Rubin NVL72 - Single Phase Direct-to-Chip Liquid Cooling"]
[null,null,null,null,null,null,null,null,null,null,null,null,null,null,null,null,null,null,null,null,null,null,null,null,null,null,null,null,null,null,null,null,null,null,null,null,null,null,null,null,null,null,null,null,null,null,null,null,null,null,null,null,null,null,null,null,null,null,null,null,null,null,null,null,null,null,null,null,null,null,null,null,null,null,null,null,null,null,null,null,null,null,null,null,null,null,null,null,null,null,null,null,null,null,null,null,null,null,null,null,null,null,null,null,null,null,null,null,null,null,null,null,null,null,null,null,null,null,null,null,null,null,null,null,null,null,null,null,null,null,null,null,null,null,null,"NVIDIA Vera Rubin NVL72 - Low Cost",null,null,null,38000,32000,null,null,null,null,null,null,null,null,null,null,null,null,null,null,null,null,null,null,null,null,"NVIDIA Vera Rubin NVL72 - Double Phase Direct-to-Chip Liquid Cooling",null,null,null,32,24,null,null,null,null,null,null,null,null,null,null,null,null,null,"NVIDIA Vera Rubin NVL72 - Double Phase Direct-to-Chip Liquid Cooling"]
[null,null,null,null,null,null,null,null,null,null,null,null,null,null,null,null,null,null,null,null,null,null,null,null,null,null,null,null,null,null,null,null,null,null,null,null,null,null,null,null,null,null,null,null,null,null,null,null,null,null,null,null,null,null,null,null,null,null,null,null,null,null,null,null,null,null,null,null,null,null,null,null,null,null,null,null,null,null,null,null,null,null,null,null,null,null,null,null,null,null,null,null,null,null,null,null,null,null,null,null,null,null,null,null,null,null,null,null,null,null,null,null,null,null,null,null,null,null,null,null,null,null,null,null,null,null,null,null,null,null,null,null,null,null,null,"NVIDIA Vera Rubin NVL72 - 45 C Warm-Water Closed-Loop Liquid",null,null,null,42000,36000]
[null,null,null,null,null,null,null,null,null,null,null,null,null,null,null,null,null,null,null,null,null,null,null,null,null,null,null,null,null,null,null,null,null,null,null,null,null,null,null,null,null,null,null,null,null,null,null,null,null,null,null,null,null,null,null,null,null,null,null,null,null,null,null,null,null,null,null,null,null,null,null,null,null,null,null,null,null,null,null,null,null,null,null,null,null,null,null,null,null,null,null,null,null,null,null,null,null,null,null,null,"NVIDIA Vera Rubin NVL72 - High Cost",null,null,null,3200,2600,null,null,null,null,null,null,null,null,null,null,null,"NVIDIA Vera Rubin NVL72 - High Cost",null,null,null,5200,4200,null,null,null,null,null,null,null,null,null,null,null,null,"NVIDIA Vera Rubin NVL72 - Single Phase Direct-to-Chip Liquid Cooling",null,null,null,41000,35000]
[null,null,null,null,null,null,null,null,null,null,null,null,null,null,null,null,null,null,null,null,null,null,null,null,null,null,null,null,null,null,null,null,null,null,null,null,null,null,null,null,null,null,null,null,null,null,null,null,null,null,null,null,null,null,null,null,null,null,null,null,null,null,null,null,null,null,null,null,null,null,null,null,null,null,null,null,null,null,null,null,null,null,null,null,null,null,null,null,null,null,null,null,null,null,null,null,null,null,null,null,"NVIDIA Vera Rubin NVL72 - Low Cost",null,null,null,2200,1800,null,null,null,null,null,null,null,null,null,null,null,"NVIDIA Vera Rubin NVL72 - Low Cost",null,null,null,3500,2800,null,null,null,null,null,null,null,null,null,null,null,null,"NVIDIA Vera Rubin NVL72 - Double Phase Direct-to-Chip Liquid Cooling",null,null,null,47000,40000]
[null,null,null,null,null,null,null,null,null,null,null,null,null,null,null,null,null,null,null,null,null,null,null,null,null,null,null,null,null,null,null,null,null,null,null,null,null,null,null,null,null,null,null,null,null,null,null,null,null,null,null,null,null,null,null,null,null,null,null,null,null,null,null,null,null,null,null,null,null,null,null,null,null,null,null,null,null,null,null,null,null,null,null,null,null,null,null,null,null,null,null,null,null,null,null,null,null,null,null,null,"NVIDIA Vera Rubin NVL72 - 45 C Warm-Water Closed-Loop Liquid",null,null,null,2400,1900,null,null,null,null,null,null,null,null,null,null,null,"NVIDIA Vera Rubin NVL72 - 45 C Warm-Water Closed-Loop Liquid",null,null,null,3800,3000]
[null,null,null,null,null,null,null,null,null,null,null,null,null,null,null,null,null,null,null,null,null,null,null,null,null,null,null,null,null,null,null,null,null,null,null,null,null,null,null,null,null,null,null,null,null,null,null,null,null,null,null,null,null,null,null,null,null,null,null,null,null,null,null,null,null,null,null,null,null,null,null,null,null,null,null,null,null,null,null,null,null,null,null,null,null,null,null,null,null,null,null,null,null,null,null,null,null,null,null,null,"NVIDIA Vera Rubin NVL72 - Single Phase Direct-to-Chip Liquid Cooling",null,null,null,2500,2000,null,null,null,null,null,null,null,null,null,null,null,"NVIDIA Vera Rubin NVL72 - Single Phase Direct-to-Chip Liquid Cooling",null,null,null,4000,3200]
[null,null,null,null,null,null,null,null,null,null,null,null,null,null,null,null,null,null,null,null,null,null,null,null,null,null,null,null,null,null,null,null,null,null,null,null,null,null,null,null,null,null,null,null,null,null,null,null,null,null,null,null,null,null,null,null,null,null,null,null,null,null,null,null,null,null,null,null,null,null,null,null,null,null,null,null,null,null,null,null,null,null,null,null,null,null,null,null,null,null,null,null,null,null,null,null,null,null,null,null,"NVIDIA Vera Rubin NVL72 - Double Phase Direct-to-Chip Liquid Cooling",null,null,null,3500,2800,null,null,null,null,null,null,null,null,null,null,null,"NVIDIA Vera Rubin NVL72 - Double Phase Direct-to-Chip Liquid Cooling",null,null,null,5800,4400]
[]
[]
[]
[]
[]
[]
[]
[null,null,null,null,null,null,null,null,null,null,null,null,null,null,null,null,null,null,null,null,null,null,null,null,null,null,null,null,null,"NVIDIA Hopper (H200) - High Cost",null,null,null,null,null,34500,2300,36800]
[null,null,null,null,null,null,null,null,null,null,null,null,null,null,null,null,null,null,null,null,null,null,null,null,null,null,null,null,null,"NVIDIA Hopper (H200) - Low Cost",null,null,null,null,null,27000,1500,28500]
[null,null,null,null,null,null,null,null,null,null,null,null,null,null,null,null,null,null,null,null,null,null,null,null,null,null,null,null,null,"NVIDIA Hopper (H200) - Hyrid Air",null,null,null,null,null,28500,1600,30100,null,null,null,null,null,null,null,null,null,null,null,null,null,null,"Total","Elec & Other","IT"]
[null,null,null,null,null,null,null,null,null,null,null,null,null,null,null,null,null,null,null,null,null,null,null,null,null,null,null,null,null,"NVIDIA Hopper (H200) - Fluid-Assisted",null,null,null,null,null,29800,1600,31400]
[null,null,null,null,null,null,null,null,null,null,null,"NVIDIA Hopper (H200) - High Cost",null,null,null,34500,22000,6500,6000,null,null,null,null,null,null,null,null,null,null,"NVIDIA Hopper (H200) - Single Phase Direct-to-Chip Liquid Cooling",null,null,null,null,null,31200,1600,32800]
[null,null,null,null,null,null,null,null,null,null,null,"NVIDIA Hopper (H200) - Low Cost",null,null,null,27000,17500,5000,5300,null,null,null,null,null,null,null,null,null,null,"NVIDIA Hopper (H200) - Double Phase Direct-to-Chip Liquid Cooling",null,null,null,null,null,33500,1700,35200]
[null,null,null,null,null,null,null,null,null,null,null,"NVIDIA Hopper (H200) - Hyrid Air",null,null,null,28500,18000,5200,5300,null,null,null,null,null,null,null,null,null,null,null,null,null,null,null,null,null,null,null,null,null,null,null,null,null,null,null,null,null,null,null,null,null,null,null,null,null,null,null,null,null,null,null,null,null,null,null,null,null,null,"Total Electric Cost","Total Mechanical Cost","Back-up","UPS","Transmission Step Down","Switchgear/Dense Busway Distribution","Chillers","CRAH","CDU","Piping/Liq Loop/Adiabatic Dry Fluid Coolers/Dense Secondary Loops","In Chassis CDU/Dielectric Fluid Pumps and Loops","Other - Loops, CDUs and Mechanical Sheel"]
[null,null,null,null,null,null,null,null,null,null,null,"NVIDIA Hopper (H200) - Fluid-Assisted",null,null,null,29800,18500,5400,5900,null,null,null,null,null,null,null,null,null,null,null,null,null,null,null,null,null,null,null,null,null,null,null,null,null,null,null,null,"NVIDIA Hopper (H200) - High Cost",null,null,null,null,65000,41000,24000,null,null,null,null,null,null,null,null,null,"NVIDIA Hopper (H200) - High Cost",null,null,null,null,6500,6000,2200,1800,900,1600,2300,null,null,2100,null,1600,{"$f":"SUM(BT133:BW133)=BR133","v":true},{"$f":"SUM(BX133:CC133)=BS133","v":true}]
[null,null,null,null,null,null,null,null,null,null,null,"NVIDIA Hopper (H200) - Single Phase Direct-to-Chip Liquid Cooling",null,null,null,31200,19000,5700,6500,null,null,null,null,null,null,null,null,null,null,null,null,null,null,null,null,null,null,null,null,null,null,null,null,null,null,null,null,"NVIDIA Hopper (H200) - Low Cost",null,null,null,null,55000,35000,20000,null,null,null,null,null,null,null,null,null,"NVIDIA Hopper (H200) - Low Cost",null,null,null,null,5000,4500,1700,1400,700,1200,1600,null,null,1500,null,1400,{"$f":"SUM(BT134:BW134)=BR134","v":true},{"$f":"SUM(BX134:CC134)=BS134","v":true}]
[null,null,null,null,null,null,null,null,null,null,null,"NVIDIA Hopper (H200) - Double Phase Direct-to-Chip Liquid Cooling",null,null,null,33500,19500,6000,{"$f":"P135-Q135-R135","v":8000},null,null,null,null,null,null,null,null,null,null,null,null,null,null,null,null,null,null,null,null,null,null,null,null,null,null,null,null,"NVIDIA Hopper (H200) - Hyrid Air",null,null,null,null,57500,36500,21000,null,null,null,null,null,null,null,null,null,"NVIDIA Hopper (H200) - Hyrid Air",null,null,null,null,5200,5300,1750,1450,700,1300,1800,null,null,null,2100,1400,true,true]
[null,null,null,null,null,null,null,null,null,null,null,null,null,null,null,null,null,null,null,null,null,null,null,null,null,null,null,null,null,null,null,null,null,null,null,null,null,null,null,null,null,null,null,null,null,null,null,"NVIDIA Hopper (H200) - Fluid-Assisted",null,null,null,null,59800,38000,21800,null,null,null,null,null,null,null,null,null,"NVIDIA Hopper (H200) - Fluid-Assisted",null,null,null,null,5400,5900,1800,1500,750,1350,1900,null,null,null,2400,1600,true,true]
[null,null,null,null,null,null,null,null,null,null,null,null,null,null,null,null,null,null,null,null,null,null,null,null,null,null,null,null,null,null,null,null,null,null,null,null,null,null,null,null,null,null,null,null,null,null,null,"NVIDIA Hopper (H200) - Single Phase Direct-to-Chip Liquid Cooling",null,null,null,null,61500,39000,22500,null,null,null,null,null,null,null,null,null,"NVIDIA Hopper (H200) - Single Phase Direct-to-Chip Liquid Cooling",null,null,null,null,5700,6500,1900,1600,800,1400,2100,null,null,null,2800,1600,true,true]
[null,null,null,null,null,null,null,null,null,null,null,null,null,null,null,null,null,null,null,null,null,null,null,null,null,null,null,null,null,null,null,null,null,null,null,null,null,null,null,null,null,null,null,null,null,null,null,"NVIDIA Hopper (H200) - Double Phase Direct-to-Chip Liquid Cooling",null,null,null,null,64300,40500,23800,null,null,null,null,null,null,null,null,null,"NVIDIA Hopper (H200) - Double Phase Direct-to-Chip Liquid Cooling",null,null,null,null,6000,8000,2000,1700,850,1450,2200,null,null,null,4100,1700,{"$f":"SUM(BT138:BW138)=BR138","v":true},{"$f":"SUM(BX138:CC138)=BS138","v":true}]
[]
[]
[]
[]
[]
[]
[]
[]
[]
[]
[]
[]
[]
[]
[null,null,null,null,null,null,null,null,null,null,null,null,null,null,null,null,null,null,null,null,null,null,null,null,null,null,null,null,null,null,null,null,null,null,null,null,null,null,null,null,null,null,null,null,null,null,null,null,null,null,null,null,"Total","Elec & Other","IT"]
[]
[null,null,null,null,null,null,null,null,null,null,null,"NVIDIA Blackwell (GB300 / B300) - High  Cost",null,null,null,53000,35000,9500,8500]
[null,null,null,null,null,null,null,null,null,null,null,"NVIDIA Blackwell (GB300 / B300) - Low Cost",null,null,null,42000,27500,8000,6500]
[null,null,null,null,null,null,null,null,null,null,null,"NVIDIA Blackwell (GB300 / B300) - 90% Direct-to-Chip Liquid",null,null,null,45500,29000,8500,8000]
[null,null,null,null,null,null,null,null,null,null,null,"NVIDIA Blackwell (GB300 / B300) - Single Phase Direct-to-Chip Liquid Cooling",null,null,null,46800,30000,8800,8000]
[null,null,null,null,null,null,null,null,null,null,null,"NVIDIA Blackwell (GB300 / B300) - Double Phase Direct-to-Chip Liquid Cooling",null,null,null,49500,31000,9000,9500]
[]
[null,null,null,null,null,null,null,null,null,null,null,null,null,null,null,null,null,null,null,null,null,null,null,null,null,null,null,null,null,null,null,null,null,null,null,null,null,null,null,null,null,null,null,null,null,null,null,null,null,null,null,null,null,null,null,null,null,null,null,null,null,null,null,null,null,null,null,null,null,"Total Electric Cost","Total Mechanical Cost","Back-up","UPS","Transmission Step Down","Switchgear/Dense Busway Distribution","Chillers","CRAH","CDU","Piping/Liq Loop/Adiabatic Dry Fluid Coolers/Dense Secondary Loops","In Chassis CDU/Dielectric Fluid Pumps and Loops","Other - Loops, CDUs and Mechanical Sheel"]
[null,null,null,null,null,null,null,null,null,null,null,null,null,null,null,null,null,null,null,null,null,null,null,null,null,null,null,null,null,"NVIDIA Blackwell (GB300 / B300) - High  Cost",null,null,null,null,null,53000,2600,55600,null,null,null,null,null,null,null,null,null,"NVIDIA Blackwell (GB300 / B300) - High  Cost",null,null,null,null,155000,95000,60000,null,null,null,null,null,null,null,null,null,"NVIDIA Blackwell (GB300 / B300) - High  Cost",null,null,null,null,9500,8500,3000,2650,1450,2400,3000,null,null,3400,null,2100,{"$f":"SUM(BT162:BW162)=BR162","v":true},{"$f":"SUM(BX162:CC162)=BS162","v":true}]
[null,null,null,null,null,null,null,null,null,null,null,null,null,null,null,null,null,null,null,null,null,null,null,null,null,null,null,null,null,"NVIDIA Blackwell (GB300 / B300) - Low Cost",null,null,null,null,null,42000,1700,43700,null,null,null,null,null,null,null,null,null,"NVIDIA Blackwell (GB300 / B300) - Low Cost",null,null,null,null,135000,85000,50000,null,null,null,null,null,null,null,null,null,"NVIDIA Blackwell (GB300 / B300) - Low Cost",null,null,null,null,8000,6500,2550,2250,1200,2000,2200,null,null,2600,null,1700,{"$f":"SUM(BT163:BW163)=BR163","v":true},{"$f":"SUM(BX163:CC163)=BS163","v":true}]
[null,null,null,null,null,null,null,null,null,null,null,null,null,null,null,null,null,null,null,null,null,null,null,null,null,null,null,null,null,"NVIDIA Blackwell (GB300 / B300) - 90% Direct-to-Chip Liquid",null,null,null,null,null,45500,1800,47300,null,null,null,null,null,null,null,null,null,"NVIDIA Blackwell (GB300 / B300) - 90% Direct-to-Chip Liquid",null,null,null,null,141500,88000,53500,null,null,null,null,null,null,null,null,null,"NVIDIA Blackwell (GB300 / B300) - 90% Direct-to-Chip Liquid",null,null,null,null,8500,8000,2700,2400,1300,2100,2400,null,null,null,3800,1800,true,true]
[null,null,null,null,null,null,null,null,null,null,null,null,null,null,null,null,null,null,null,null,null,null,null,null,null,null,null,null,null,"NVIDIA Blackwell (GB300 / B300) - Single Phase Direct-to-Chip Liquid Cooling",null,null,null,null,null,46800,1800,48600,null,null,null,null,null,null,null,null,null,"NVIDIA Blackwell (GB300 / B300) - Single Phase Direct-to-Chip Liquid Cooling",null,null,null,null,145000,90000,55000,null,null,null,null,null,null,null,null,null,"NVIDIA Blackwell (GB300 / B300) - Single Phase Direct-to-Chip Liquid Cooling",null,null,null,null,8800,8000,2800,2450,1350,2200,2500,null,null,null,3700,1800,true,true]
[null,null,null,null,null,null,null,null,null,null,null,null,null,null,null,null,null,null,null,null,null,null,null,null,null,null,null,null,null,"NVIDIA Blackwell (GB300 / B300) - Double Phase Direct-to-Chip Liquid Cooling",null,null,null,null,null,49500,1900,51400,null,null,null,null,null,null,null,null,null,"NVIDIA Blackwell (GB300 / B300) - Double Phase Direct-to-Chip Liquid Cooling",null,null,null,null,151500,93500,58000,null,null,null,null,null,null,null,null,null,"NVIDIA Blackwell (GB300 / B300) - Double Phase Direct-to-Chip Liquid Cooling",null,null,null,null,9000,9500,2850,2500,1400,2250,2600,null,null,null,4900,2000,true,true]
[]
[]
[]
[]
[]
[]
[]
[]
[]
[]
[]
[]
[]
[null,null,null,null,null,null,null,null,null,null,null,null,null,null,null,null,null,null,null,null,null,null,null,null,null,null,null,null,null,null,null,null,null,null,null,null,null,null,null,null,null,null,null,null,null,null,null,null,null,null,null,null,"Total","Elec & Other","IT"]
[]
[null,null,null,null,null,null,null,null,null,null,null,"NVIDIA Vera Rubin NVL72 - High Cost",null,null,null,61000,43000,10000,8000]
[null,null,null,null,null,null,null,null,null,null,null,"NVIDIA Vera Rubin NVL72 - Low Cost",null,null,null,48500,34500,8000,6000]
[null,null,null,null,null,null,null,null,null,null,null,"NVIDIA Vera Rubin NVL72 - 45 C Warm-Water Closed-Loop Liquid",null,null,null,51000,35500,8000,7000]
[null,null,null,null,null,null,null,null,null,null,null,"NVIDIA Vera Rubin NVL72 - Single Phase Direct-to-Chip Liquid Cooling",null,null,null,53200,37000,8700,7500]
[null,null,null,null,null,null,null,null,null,null,null,"NVIDIA Vera Rubin NVL72 - Double Phase Direct-to-Chip Liquid Cooling",null,null,null,56000,38500,9000,8500]
[]
[null,null,null,null,null,null,null,null,null,null,null,null,null,null,null,null,null,null,null,null,null,null,null,null,null,null,null,null,null,null,null,null,null,null,null,null,null,null,null,null,null,null,null,null,null,null,null,null,null,null,null,null,null,null,null,null,null,null,null,null,null,null,null,null,null,null,null,null,null,"Total Electric Cost","Total Mechanical Cost","Back-up","UPS","Transmission Step Down","Switchgear/Dense Busway Distribution","Chillers","CRAH","CDU","Piping/Liq Loop/Adiabatic Dry Fluid Coolers/Dense Secondary Loops","In Chassis CDU/Dielectric Fluid Pumps and Loops","Other - Loops, CDUs and Mechanical Sheel"]
[null,null,null,null,null,null,null,null,null,null,null,null,null,null,null,null,null,null,null,null,null,null,null,null,null,null,null,null,null,"NVIDIA Vera Rubin NVL72 - High Cost",null,null,null,null,null,61000,2800,63800,null,null,null,null,null,null,null,null,null,"NVIDIA Vera Rubin NVL72 - High Cost",null,null,null,null,520000,380000,140000,null,null,null,null,null,null,null,null,null,null,null,null,null,null,10000,8000,3100,2800,1600,2500,2800,null,null,3300,null,1900]
[null,null,null,null,null,null,null,null,null,null,null,null,null,null,null,null,null,null,null,null,null,null,null,null,null,null,null,null,null,"NVIDIA Vera Rubin NVL72 - Low Cost",null,null,null,null,null,48500,2000,50500,null,null,null,null,null,null,null,null,null,"NVIDIA Vera Rubin NVL72 - Low Cost",null,null,null,null,425000,310000,115000,null,null,null,null,null,null,null,null,null,null,null,null,null,null,8000,6000,2500,2250,1250,2000,2000,null,null,2500,null,1500]
[null,null,null,null,null,null,null,null,null,null,null,null,null,null,null,null,null,null,null,null,null,null,null,null,null,null,null,null,null,"NVIDIA Vera Rubin NVL72 - 45 C Warm-Water Closed-Loop Liquid",null,null,null,null,null,51000,2000,53000,null,null,null,null,null,null,null,null,null,"NVIDIA Vera Rubin NVL72 - 45 C Warm-Water Closed-Loop Liquid",null,null,null,null,450000,330000,120000,null,null,null,null,null,null,null,null,null,null,null,null,null,null,8500,7000,2650,2400,1350,2100,2100,null,null,2300,null,1500]
[null,null,null,null,null,null,null,null,null,null,null,null,null,null,null,null,null,null,null,null,null,null,null,null,null,null,null,null,null,"NVIDIA Vera Rubin NVL72 - Single Phase Direct-to-Chip Liquid Cooling",null,null,null,null,null,53200,2000,55200,null,null,null,null,null,null,null,null,null,"NVIDIA Vera Rubin NVL72 - Single Phase Direct-to-Chip Liquid Cooling",null,null,null,null,470000,345000,125000,null,null,null,null,null,null,null,null,null,null,null,null,null,null,8700,7500,2700,2450,1400,2150,2150,null,null,null,3500,1700]
[null,null,null,null,null,null,null,null,null,null,null,null,null,null,null,null,null,null,null,null,null,null,null,null,null,null,null,null,null,"NVIDIA Vera Rubin NVL72 - Double Phase Direct-to-Chip Liquid Cooling",null,null,null,null,null,56000,2100,58100,null,null,null,null,null,null,null,null,null,"NVIDIA Vera Rubin NVL72 - Double Phase Direct-to-Chip Liquid Cooling",null,null,null,null,505000,370000,135000,null,null,null,null,null,null,null,null,null,null,null,null,null,null,9000,8500,2800,2500,1450,2250,2250,null,null,null,4300,1800]

{"sheet":"Non Electricity Operating Cost","index":15,"n_rows":94,"n_cols":54,"rows_kept":94,"cut":false,"hidden":false,"merged":[]}
["Return"]
[null,null,null,null,null,null,null,null,null,null,null,null,null,null,null,null,null,null,null,null,null,null,null,null,null,null,null,null,null,null,null,null,null,null,null,"O&M per kW-yr"]
[null,null,null,null,null,null,null,null,null,null,null,null,null,null,null,null,null,null,null,null,null,null,null,null,null,null,null,null,null,"Legacy Data Centers - High Cost",null,null,null,null,null,{"$f":"_xlfn.XLOOKUP(AD3,C:C,H:H,0,0)","v":320}]
[null,null,null,null,null,null,null,null,null,null,null,null,null,null,null,null,null,null,null,null,null,null,null,null,null,null,null,null,null,"Legacy Data Centers - Low Cost",null,null,null,null,null,{"$f":"_xlfn.XLOOKUP(AD4,C:C,H:H,0,0)","v":145}]
[null,null,null,null,null,null,null,null,null,null,null,null,null,null,null,null,null,null,null,null,null,null,null,null,null,null,null,null,null,"Legacy Data Centers - Computer Room Air Conditioning",null,null,null,null,null,160]
[null,null,null,null,null,null,null,null,null,null,null,null,null,null,null,null,null,null,null,null,null,null,null,null,null,null,null,null,null,"Legacy Data Centers - Hot/Cold Aisle Containment",null,null,null,null,null,185]
[null,null,"Legacy Data Centers - High Cost",null,null,null,null,320,null,null,null,null,null,null,null,null,null,null,null,null,null,null,null,null,null,null,null,null,null,"Legacy Data Centers - Chilled Water Central Loops",null,null,null,null,null,240]
[null,null,"Legacy Data Centers - Low Cost",null,null,null,null,145,null,null,null,null,null,null,null,null,null,null,null,null,null,null,null,null,null,null,null,null,null,"Early AI Date Centers - High Cost",null,null,null,null,null,480]
[null,null,"Legacy Data Centers - Computer Room Air Conditioning",null,null,null,null,160,null,null,null,null,null,null,null,null,null,null,null,null,null,null,null,null,null,null,null,null,null,"Early AI Date Centers - Low Cost",null,null,null,null,null,220]
[null,null,"Legacy Data Centers - Hot/Cold Aisle Containment",null,null,null,null,185,null,null,null,null,null,null,null,null,null,null,null,null,null,null,null,null,null,null,null,null,null,"Early AI Date Centers - Single Phase Direct to Liquid Cooling",null,null,null,null,null,295]
[null,null,"Legacy Data Centers - Chilled Water Central Loops",null,null,null,null,240,null,null,null,null,null,null,null,null,null,null,null,null,null,null,null,null,null,null,null,null,null,"Early AI Date Centers - Coolant Distribution Units",null,null,null,null,null,310,null,null,null,null,null,null,null,null,null,null,null,null,null,null,"Legacy Data Centers High Cost",null,null,50]
[null,null,null,null,null,null,null,null,null,null,null,null,null,null,null,null,null,null,null,null,null,null,null,null,null,null,null,null,null,"Early AI Date Centers - Hybrid Air-Liquid Infrastructure",null,null,null,null,null,340,null,null,null,null,null,null,null,null,null,null,null,null,null,null,"Legacy Data Centers Low Cost",null,null,50]
[null,null,null,null,null,null,null,null,null,null,null,null,null,null,null,null,null,null,null,null,null,null,null,null,null,null,null,null,null,"Modern AI Factories - High Cost",null,null,null,null,null,650,null,null,null,null,null,null,null,null,null,null,null,null,null,null,"Early AI Data Centers High Cost",null,null,1400]
[null,null,null,null,null,null,null,null,null,null,null,null,null,null,null,null,null,null,null,null,null,null,null,null,null,null,null,null,null,"Modern AI Factories - Low Cost",null,null,null,null,null,310,null,null,null,null,null,null,null,null,null,null,null,null,null,null,"Early AI Data Centers Low Cost",null,null,950]
[null,null,null,null,null,null,null,null,null,null,null,null,null,null,null,null,null,null,null,null,null,null,null,null,null,null,null,null,null,"Modern AI Factories - Single Phase Direct-to-Chip Liquid Cooling",null,null,null,null,null,415,null,null,null,null,null,null,null,null,null,null,null,null,null,null,"Modern AI Factories High Cost",null,null,3300]
[null,null,null,null,null,null,null,null,null,null,null,null,null,null,null,null,null,null,null,null,null,null,null,null,null,null,null,null,null,"Modern AI Factories - Coolant Distribution Units (CDUs)",null,null,null,null,null,390,null,null,null,null,null,null,null,null,null,null,null,null,null,null,"Modern AI Factories Low Cost",null,null,2500]
[null,null,null,null,null,null,null,null,null,null,null,null,null,null,null,null,null,null,null,null,null,null,null,null,null,null,null,null,null,"Modern AI Factories - Hybrid Air-Liquid Infrastructure",null,null,null,null,null,450,null,null,null,null,null,null,null,null,null,null,null,null,null,null,"Next-Gen Superclusters High Cost",null,null,5300]
[null,null,null,null,null,null,null,null,null,null,null,null,null,null,null,null,null,null,null,null,null,null,null,null,null,null,null,null,null,"Next-Gen Superclusters - High Cost",null,null,null,null,null,820,null,null,null,null,null,null,null,null,null,null,null,null,null,null,"Next-Gen Superclusters Low Cost",null,null,4200]
[null,null,"Early AI Date Centers - High Cost",null,null,null,null,480,null,null,null,null,null,null,null,null,null,null,null,null,null,null,null,null,null,null,null,null,null,"Next-Gen Superclusters - Low Cost",null,null,null,null,null,395,null,null,null,null,null,null,null,null,null,null,null,null,null,null,"Specialized Inference Farms Low",null,null,2650]
[null,null,"Early AI Date Centers - Low Cost",null,null,null,null,220,null,null,null,null,null,null,null,null,null,null,null,null,null,null,null,null,null,null,null,null,null,"Next-Gen Superclusters - Chiller-Less Dry Cooling",null,null,null,null,null,360,null,null,null,null,null,null,null,null,null,null,null,null,null,null,"Specialized Inference Farms High",null,null,1900]
[null,null,"Early AI Date Centers - Single Phase Direct to Liquid Cooling",null,null,null,null,295,null,null,null,null,null,null,null,null,null,null,null,null,null,null,null,null,null,null,null,null,null,"Next-Gen Superclusters - High -Impedance Dielectric Coolants",null,null,null,null,null,520,null,null,null,null,null,null,null,null,null,null,null,null,null,null,"NVIDIA Hopper H200 Low",null,null,2850]
[null,null,"Early AI Date Centers - Coolant Distribution Units",null,null,null,null,310,null,null,null,null,null,null,null,null,null,null,null,null,null,null,null,null,null,null,null,null,null,"Next-Gen Superclusters - AI-Driven Grid Balance Cooling",null,null,null,null,null,480,null,null,null,null,null,null,null,null,null,null,null,null,null,null,"NVIDIA Hopper H200 High",null,null,2350]
[null,null,"Early AI Date Centers - Hybrid Air-Liquid Infrastructure",null,null,null,null,340,null,null,null,null,null,null,null,null,null,null,null,null,null,null,null,null,null,null,null,null,null,"Specialized Inference Farms - High Cost",null,null,null,null,null,940,null,null,null,null,null,null,null,null,null,null,null,null,null,null,"NVIDIA Blackwell GB300 low",null,null,6650]
[null,null,null,null,null,null,null,null,null,null,null,null,null,null,null,null,null,null,null,null,null,null,null,null,null,null,null,null,null,"Specialized Inference Farms - Low Cost",null,null,null,null,null,440,null,null,null,null,null,null,null,null,null,null,null,null,null,null,"NVIDIA Blackwell GB300 High",null,null,5650]
[null,null,null,null,null,null,null,null,null,null,null,null,null,null,null,null,null,null,null,null,null,null,null,null,null,null,null,null,null,"Specialized Inference Farms - Chassis-Level Immersion Cooling",null,null,null,null,null,510]
[null,null,null,null,null,null,null,null,null,null,null,null,null,null,null,null,null,null,null,null,null,null,null,null,null,null,null,null,null,"Specialized Inference Farms - Open-Tank-Phase Immersion",null,null,null,null,null,680]
[null,null,null,null,null,null,null,null,null,null,null,null,null,null,null,null,null,null,null,null,null,null,null,null,null,null,null,null,null,"Specialized Inference Farms - Liquid-to-Air (L2A) Sidecars",null,null,null,null,null,460]
[null,null,null,null,null,null,null,null,null,null,null,null,null,null,null,null,null,null,null,null,null,null,null,null,null,null,null,null,null,"NVIDIA Hopper (H200) - High Cost",null,null,null,null,null,580]
[null,null,null,null,null,null,null,null,null,null,null,null,null,null,null,null,null,null,null,null,null,null,null,null,null,null,null,null,null,"NVIDIA Hopper (H200) - Low Cost",null,null,null,null,null,280]
[null,null,null,null,null,null,null,null,null,null,null,null,null,null,null,null,null,null,null,null,null,null,null,null,null,null,null,null,null,"NVIDIA Hopper (H200) - Hyrid Air",null,null,null,null,null,310]
[null,null,"Modern AI Factories - High Cost",null,null,null,null,650,null,null,null,null,null,null,null,null,null,null,null,null,null,null,null,null,null,null,null,null,null,"NVIDIA Hopper (H200) - Fluid-Assisted",null,null,null,null,null,365]
[null,null,"Modern AI Factories - Low Cost",null,null,null,null,310,null,null,null,null,null,null,null,null,null,null,null,null,null,null,null,null,null,null,null,null,null,"NVIDIA Hopper (H200) - Single Phase Direct-to-Chip Liquid Cooling",null,null,null,null,null,420]
[null,null,"Modern AI Factories - Single Phase Direct-to-Chip Liquid Cooling",null,null,null,null,415,null,null,null,null,null,null,null,null,null,null,null,null,null,null,null,null,null,null,null,null,null,"NVIDIA Hopper (H200) - Double Phase Direct-to-Chip Liquid Cooling",null,null,null,null,null,540]
[null,null,"Modern AI Factories - Coolant Distribution Units (CDUs)",null,null,null,null,390,null,null,null,null,null,null,null,null,null,null,null,null,null,null,null,null,null,null,null,null,null,"NVIDIA Blackwell (GB300 / B300) - High  Cost",null,null,null,null,null,1150]
[null,null,"Modern AI Factories - Hybrid Air-Liquid Infrastructure",null,null,null,null,450,null,null,null,null,null,null,null,null,null,null,null,null,null,null,null,null,null,null,null,null,null,"NVIDIA Blackwell (GB300 / B300) - Low Cost",null,null,null,null,null,520]
[null,null,null,null,null,null,null,null,null,null,null,null,null,null,null,null,null,null,null,null,null,null,null,null,null,null,null,null,null,"NVIDIA Blackwell (GB300 / B300) - 90% Direct-to-Chip Liquid",null,null,null,null,null,640]
[null,null,null,null,null,null,null,null,null,null,null,null,null,null,null,null,null,null,null,null,null,null,null,null,null,null,null,null,null,"NVIDIA Blackwell (GB300 / B300) - Single Phase Direct-to-Chip Liquid Cooling",null,null,null,null,null,690]
[null,null,null,null,null,null,null,null,null,null,null,null,null,null,null,null,null,null,null,null,null,null,null,null,null,null,null,null,null,"NVIDIA Blackwell (GB300 / B300) - Double Phase Direct-to-Chip Liquid Cooling",null,null,null,null,null,840]
[null,null,null,null,null,null,null,null,null,null,null,null,null,null,null,null,null,null,null,null,null,null,null,null,null,null,null,null,null,"NVIDIA Vera Rubin NVL72 - High Cost",null,null,null,null,null,1650]
[null,null,null,null,null,null,null,null,null,null,null,null,null,null,null,null,null,null,null,null,null,null,null,null,null,null,null,null,null,"NVIDIA Vera Rubin NVL72 - Low Cost",null,null,null,null,null,780]
[null,null,null,null,null,null,null,null,null,null,null,null,null,null,null,null,null,null,null,null,null,null,null,null,null,null,null,null,null,"NVIDIA Vera Rubin NVL72 - 45 C Warm-Water Closed-Loop Liquid",null,null,null,null,null,810]
[null,null,null,null,null,null,null,null,null,null,null,null,null,null,null,null,null,null,null,null,null,null,null,null,null,null,null,null,null,"NVIDIA Vera Rubin NVL72 - Single Phase Direct-to-Chip Liquid Cooling",null,null,null,null,null,960]
[null,null,"Next-Gen Superclusters - High Cost",null,null,null,null,820,null,null,null,null,null,null,null,null,null,null,null,null,null,null,null,null,null,null,null,null,null,"NVIDIA Vera Rubin NVL72 - Double Phase Direct-to-Chip Liquid Cooling",null,null,null,null,null,1220]
[null,null,"Next-Gen Superclusters - Low Cost",null,null,null,null,395]
[null,null,"Next-Gen Superclusters - Chiller-Less Dry Cooling",null,null,null,null,360]
[null,null,"Next-Gen Superclusters - High -Impedance Dielectric Coolants",null,null,null,null,520]
[null,null,"Next-Gen Superclusters - AI-Driven Grid Balance Cooling",null,null,null,null,480]
[]
[]
[]
[]
[null,null,"Specialized Inference Farms - High Cost",null,null,null,null,940]
[null,null,"Specialized Inference Farms - Low Cost",null,null,null,null,440]
[null,null,"Specialized Inference Farms - Chassis-Level Immersion Cooling",null,null,null,null,510]
[null,null,"Specialized Inference Farms - Open-Tank-Phase Immersion",null,null,null,null,680]
[null,null,"Specialized Inference Farms - Liquid-to-Air (L2A) Sidecars",null,null,null,null,460]
[]
[]
[]
[]
[]
[]
[]
[]
[null,null,"NVIDIA Hopper (H200) - High Cost",null,null,null,null,580]
[null,null,"NVIDIA Hopper (H200) - Low Cost",null,null,null,null,280]
[null,null,"NVIDIA Hopper (H200) - Hyrid Air",null,null,null,null,310]
[null,null,"NVIDIA Hopper (H200) - Fluid-Assisted",null,null,null,null,365]
[null,null,"NVIDIA Hopper (H200) - Single Phase Direct-to-Chip Liquid Cooling",null,null,null,null,420]
[null,null,"NVIDIA Hopper (H200) - Double Phase Direct-to-Chip Liquid Cooling",null,null,null,null,540]
[]
[]
[]
[]
[]
[]
[null,null,"NVIDIA Blackwell (GB300 / B300) - High  Cost",null,null,null,null,1150]
[null,null,"NVIDIA Blackwell (GB300 / B300) - Low Cost",null,null,null,null,520]
[null,null,"NVIDIA Blackwell (GB300 / B300) - 90% Direct-to-Chip Liquid",null,null,null,null,640]
[null,null,"NVIDIA Blackwell (GB300 / B300) - Single Phase Direct-to-Chip Liquid Cooling",null,null,null,null,690]
[null,null,"NVIDIA Blackwell (GB300 / B300) - Double Phase Direct-to-Chip Liquid Cooling",null,null,null,null,840]
[]
[]
[]
[]
[]
[]
[]
[]
[null,null,"NVIDIA Vera Rubin NVL72 - High Cost",null,null,null,null,1650]
[null,null,"NVIDIA Vera Rubin NVL72 - Low Cost",null,null,null,null,780]
[null,null,"NVIDIA Vera Rubin NVL72 - 45 C Warm-Water Closed-Loop Liquid",null,null,null,null,810]
[null,null,"NVIDIA Vera Rubin NVL72 - Single Phase Direct-to-Chip Liquid Cooling",null,null,null,null,960]
[null,null,"NVIDIA Vera Rubin NVL72 - Double Phase Direct-to-Chip Liquid Cooling",null,null,null,null,1220]

{"sheet":"Token per kW","index":16,"n_rows":106,"n_cols":256,"rows_kept":106,"cut":false,"hidden":false,"merged":[]}
["Return",null,null,null,null,null,null,null,null,null,null,null,null,null,null,null,null,null,null,null,null,null,null,null,null,null,null,null,null,null,null,null,null,null,null,null,null,null,null,null,null,null,null,null,null,null,null,null,null,null,null,null,null,null,null,null,null,null,null,null,null,null,null,null,null,null,null,null,null,null,null,null,null,null,null,null,null,null,null,null,null,null,null,null,null,null,null,null,null,null,null,null,null,null,null,null,null,null,null,null,null,null,null,null,null,null,null,null,null,"MM Tokens","Sold MM","Assmumed","MM Tokens"]
[null,null,null,null,null,null,null,null,null,null,null,null,null,null,null,null,null,null,null,null,null,null,null,null,null,null,null,null,null,null,null,null,null,null,null,null,null,null,null,null,null,null,null,null,null,null,null,null,null,null,null,null,null,null,null,null,null,null,null,null,null,null,null,null,null,null,null,null,null,null,null,null,null,null,null,null,null,null,null,null,null,null,null,null,null,null,null,null,null,null,null,null,null,null,null,null,null,null,null,null,null,null,null,null,null,null,null,null,null,"per Month","Tokens","Load Factor","per Month","Tokens"]
[null,null,null,null,null,null,null,null,null,null,null,null,null,null,null,null,null,null,null,null,null,null,null,null,null,null,null,null,null,null,null,null,null,null,null,null,null,null,null,null,null,null,null,null,null,null,null,null,null,null,null,null,null,null,null,null,null,null,null,null,null,null,null,null,null,null,null,null,null,null,null,null,null,null,null,null,null,null,null,null,null,null,null,null,null,null,null,null,null,null,null,null,null,null,null,null,null,null,null,null,null,null,null,"Legacy Data Centers - High Cost",null,null,null,null,null,{"$f":"_xlfn.XLOOKUP($CZ3,$V:$V,$AA:$AA,0,0)","v":5.0000000000000001E-3},{"$f":"_xlfn.XLOOKUP($CZ3,$AM:$AM,AR:AR,0,0)","v":3.0000000000000001E-3},{"$f":"DG3/DF3","v":0.6},{"$f":"_xlfn.XLOOKUP($CZ3,$BA:$BA,BF:BF,0,0,1)","v":0.02},{"$f":"_xlfn.XLOOKUP($CZ3,$BA:$BA,BG:BG,0,0,1)","v":0.05},null,null,null,null,null,null,null,null,null,null,null,null,"Legacy Data Centers - High Cost",null,null,null,null,null,null,null,null,null,null,null,null,null,null,null,null,null,null,null,null,null,null,"Per Month","Per Month","Per Month","Per Day","Per Day","Per Hour","Per Second"]
[null,null,null,null,null,null,null,null,null,null,null,null,null,null,null,null,null,null,null,null,null,null,null,null,null,null,null,null,null,null,null,null,null,null,null,null,null,null,null,null,null,null,null,null,null,null,null,null,null,null,null,null,null,null,null,null,null,null,null,null,null,null,null,null,null,null,null,null,null,null,null,null,null,null,null,null,null,null,null,null,null,null,null,null,null,null,null,null,null,null,null,null,null,null,null,null,null,null,null,null,null,null,null,"Legacy Data Centers - Low Cost",null,null,null,null,null,{"$f":"_xlfn.XLOOKUP($CZ4,$V:$V,$AA:$AA,0,0)","v":1.2E-2},{"$f":"_xlfn.XLOOKUP($CZ4,$AM:$AM,AR:AR,0,0)","v":8.0000000000000002E-3},{"$f":"DG4/DF4","v":0.66666666666666663},{"$f":"_xlfn.XLOOKUP($CZ4,$BA:$BA,BF:BF,0,0,1)","v":0.04},{"$f":"_xlfn.XLOOKUP($CZ4,$BA:$BA,BG:BG,0,0,1)","v":0.08},null,null,null,null,null,null,null,null,null,null,null,null,"Legacy Data Centers - Low Cost",null,null,null,null,null,null,null,null,null,null,null,null,null,null,null,null,null,null,null,null,null,null,"Billion/MW","Million/MW","Million/kW","Million/kW","/kW","/kW","/kW",null,null,null,null,null,null,null,null,null,null,null,null,null,null,null,null,null,null,null,null,null,null,null,null,null,null,null,null,null,null,null,null,null,null,null,null,null,null,null,null,null,null,null,null,null,null,null,null,null,null,null,null,null,null,null,null,null,null,null,null,null,null,null,null,null,null,null,null,null,null,null,null,null,null,null,null,null,null,null,null,null,null,null,null,null,null,null,null,null,null,null,null,null,null,null,null,null,null,"Tokens/kW-second"]
[null,null,null,null,null,null,null,null,null,null,null,null,null,null,null,null,null,null,null,null,null,null,null,null,null,null,null,null,null,null,null,null,null,null,null,null,null,null,"Legacy Data Centers - High Cost",null,null,null,null,3.0000000000000001E-3,null,null,null,null,null,null,null,null,"Legacy Data Centers - High Cost",null,null,null,null,0.02,0.05,null,null,null,null,null,null,null,null,null,null,null,null,null,null,null,null,null,null,null,null,null,null,null,null,null,null,null,null,null,null,null,null,null,null,null,null,null,null,null,null,null,null,null,null,"Legacy Data Centers - Computer Room Air Conditioning",null,null,null,null,null,6.0000000000000001E-3,4.0000000000000001E-3,0.66666666666666663,0.03,0.06,null,null,null,null,null,null,null,null,null,null,null,null,"Legacy Data Centers - Computer Room Air Conditioning",null,null,null,null,null,null,null,null,null,null,null,null,null,null,null,null,null,null,null,null,null,null,null,null,null,null,null,null,{"$f":"60*60","v":3600},null,null,null,null,null,null,null,null,null,null,null,null,null,null,null,null,null,null,null,null,null,null,null,null,null,null,null,null,null,null,null,null,null,null,null,null,null,null,null,null,null,null,null,null,null,null,null,null,null,null,null,null,null,null,null,null,null,null,null,null,null,null,null,null,null,null,null,null,null,null,null,null,null,null,null,null,null,null,null,null,null,null,null,null,null,null,null,null,null,null,null,null,null,null,null,null,null,null,null,0.1]
[null,null,null,null,null,null,null,null,null,null,null,null,null,null,null,null,null,null,null,null,null,null,null,null,null,null,null,null,null,null,null,null,null,null,null,null,null,null,"Legacy Data Centers - Low Cost",null,null,null,null,8.0000000000000002E-3,null,null,null,null,null,null,null,null,"Legacy Data Centers - Low Cost",null,null,null,null,0.04,0.08,null,null,null,null,null,null,null,null,null,null,null,null,null,null,null,null,null,null,null,null,null,null,null,null,null,null,null,null,null,null,null,null,null,null,null,null,null,null,null,null,null,null,null,null,"Legacy Data Centers - Hot/Cold Aisle Containment",null,null,null,null,null,1.7999999999999999E-2,1.2E-2,0.66666666666666674,0.04,7.0000000000000007E-2,null,null,null,null,null,null,null,null,null,null,null,null,"Legacy Data Centers - Hot/Cold Aisle Containment",null,null,null,null,null,null,null,null,null,null,null,null,null,null,null,null,null,null,null,"Legacy Data Centers High Cost",null,null,0.5,10000,{"$f":"EU6/1000","v":10},{"$f":"EV6/1000","v":0.01},{"$f":"EW6*1000000","v":10000},{"$f":"EX6/24","v":416.66666666666669},{"$f":"EY6/$EZ$5","v":0.11574074074074074},null,null,null,null,null,null,null,null,null,null,null,null,null,null,null,null,null,null,null,null,null,null,null,null,null,null,null,null,null,null,null,null,null,null,null,null,null,null,null,null,null,null,null,null,null,null,null,null,null,null,null,null,null,null,null,null,null,null,null,null,null,null,null,null,null,null,null,null,null,null,null,null,null,null,"Legacy Data Centers High Cost",null,null,40,null,null,null,null,null,null,null,null,null,null,null,null,null,null,null,null,"Legacy Data Centers High Cost",null,null,null,{"$f":"(50000*(1/100))*0.1","v":50}]
[null,null,null,null,null,null,null,null,null,null,null,null,null,null,null,null,null,null,null,null,null,"Legacy Data Centers - High Cost",null,null,null,null,5.0000000000000001E-3,null,null,null,null,null,null,null,null,null,null,null,"Legacy Data Centers - Computer Room Air Conditioning",null,null,null,null,4.0000000000000001E-3,null,null,null,null,null,null,null,null,"Legacy Data Centers - Computer Room Air Conditioning",null,null,null,null,0.03,0.06,null,null,null,null,null,null,null,null,null,null,null,null,null,null,null,null,null,null,null,null,null,null,null,null,null,null,null,null,null,null,null,null,null,null,null,null,null,null,null,null,null,null,null,null,"Legacy Data Centers - Chilled Water Central Loops",null,null,null,null,null,2.5000000000000001E-2,1.6E-2,0.64,0.04,0.08,null,null,null,null,null,null,null,null,null,null,null,null,"Legacy Data Centers - Chilled Water Central Loops",null,null,null,null,null,null,null,null,null,null,null,null,null,null,null,null,null,85,{"$f":"EO7*100","v":8500},"Legacy Data Centers Low Cost",null,null,0.5,10000,{"$f":"EU7/1000","v":10},0.01,{"$f":"EW7*1000000","v":10000},{"$f":"EX7/24","v":416.66666666666669},{"$f":"EY7/$EZ$5","v":0.11574074074074074},null,null,null,null,null,null,null,null,null,null,null,null,null,null,null,null,null,null,null,null,null,null,null,null,null,null,null,null,null,null,null,null,null,null,null,null,null,null,null,null,null,null,null,null,null,null,null,null,null,null,null,null,null,null,null,null,null,null,null,null,null,null,null,null,null,null,null,null,null,null,null,null,null,null,"Legacy Data Centers Low Cost",null,null,50,null,null,null,null,null,null,null,null,null,null,null,null,null,null,null,null,"Legacy Data Centers Low Cost",null,null,null,{"$f":"(85000*(1/100))*0.1","v":85}]
[null,null,null,null,null,null,null,null,null,null,null,null,null,null,null,null,null,null,null,null,null,"Legacy Data Centers - Low Cost",null,null,null,null,1.2E-2,null,null,null,null,null,null,null,null,null,null,null,"Legacy Data Centers - Hot/Cold Aisle Containment",null,null,null,null,1.2E-2,null,null,null,null,null,null,null,null,"Legacy Data Centers - Hot/Cold Aisle Containment",null,null,null,null,0.04,7.0000000000000007E-2,null,null,null,null,null,null,null,null,null,null,null,null,null,null,null,null,null,null,null,null,null,null,null,null,null,null,null,null,null,null,null,null,null,null,null,null,null,null,null,null,null,null,null,null,"Early AI Date Centers - High Cost",null,null,null,null,null,0.85,0.55000000000000004,0.6470588235294118,1.2,2.5,null,null,null,null,null,null,null,null,null,null,null,null,"Early AI Date Centers - High Cost",null,null,null,null,null,null,null,null,null,null,null,null,null,null,null,null,null,null,null,"Early AI Data Centers High Cost",null,null,15,{"$f":"ET8*1000","v":15000},15,1.4999999999999999E-2,15000,625,0.1736111111111111,null,null,null,null,null,null,null,null,null,null,null,null,null,null,null,null,null,null,null,null,null,null,null,null,null,null,null,null,null,null,null,null,null,null,null,null,null,null,null,null,null,null,null,null,null,null,null,null,null,null,null,null,null,null,null,null,null,null,null,null,null,null,null,null,null,null,null,null,null,null,null,null,null,null,"Early AI Data Centers High Cost",null,null,3000,null,null,null,null,null,null,null,null,null,null,null,null,null,null,null,null,"Early AI Data Centers High Cost",null,null,null,{"$f":"(420000*(1/100))*0.1","v":420}]
[null,null,null,null,null,null,null,null,null,null,null,null,null,null,null,null,null,null,null,null,null,"Legacy Data Centers - Computer Room Air Conditioning",null,null,null,null,6.0000000000000001E-3,null,null,null,null,null,null,null,null,null,null,null,"Legacy Data Centers - Chilled Water Central Loops",null,null,null,null,1.6E-2,null,null,null,null,null,null,null,null,"Legacy Data Centers - Chilled Water Central Loops",null,null,null,null,0.04,0.08,null,null,null,null,null,null,null,null,null,null,null,null,null,null,null,null,null,null,null,null,null,null,null,null,null,null,null,null,null,null,null,null,null,null,null,null,null,null,null,null,null,null,null,null,"Early AI Date Centers - Low Cost",null,null,null,null,null,1.95,1.25,0.64102564102564108,1.5,3.2,null,null,null,null,null,null,null,null,null,null,null,null,"Early AI Date Centers - Low Cost",null,null,null,null,null,null,null,null,null,null,null,null,null,null,null,null,null,null,null,"Early AI Data Centers Low Cost",null,null,30,30000,30,0.03,30000,1250,0.34722222222222221,null,null,null,null,null,null,null,null,null,null,null,null,null,null,null,null,null,null,null,null,null,null,null,null,null,null,null,null,null,null,null,null,null,null,null,null,null,null,null,null,null,null,null,null,null,null,null,null,null,null,null,null,null,null,null,null,null,null,null,null,null,null,null,null,null,null,null,null,null,null,null,null,null,null,"Early AI Data Centers Low Cost",null,null,8000,null,null,null,null,null,null,null,null,null,null,null,null,null,null,null,null,"Early AI Data Centers Low Cost",null,null,null,{"$f":"(1120000*(1/100))*0.1","v":1120}]
[null,null,null,null,null,null,null,null,null,null,null,null,null,null,null,null,null,null,null,null,null,"Legacy Data Centers - Hot/Cold Aisle Containment",null,null,null,null,1.7999999999999999E-2,null,null,null,null,null,null,null,null,null,null,null,null,null,null,null,null,null,null,null,null,null,null,null,null,null,null,null,null,null,null,null,null,null,null,null,null,null,null,null,null,null,null,null,null,null,null,null,null,null,null,null,null,null,null,null,null,null,null,null,null,null,null,null,null,null,null,null,null,null,null,null,null,null,null,null,null,"Early AI Date Centers - Single Phase Direct to Liquid Cooling",null,null,null,null,null,3.4,2.2000000000000002,0.6470588235294118,1.8,3.8,null,null,null,null,null,null,null,null,null,null,null,null,"Early AI Date Centers - Single Phase Direct to Liquid Cooling",null,null,null,null,null,null,null,null,null,null,null,null,null,null,null,null,null,null,null,"Modern AI Factories High Cost",null,null,180,180000,180,0.18,180000,7500,2.0833333333333335,null,null,null,null,null,null,null,null,null,null,null,null,null,null,null,null,null,null,null,null,null,null,null,null,null,null,null,null,null,null,null,null,null,null,null,null,null,null,null,null,null,null,null,null,null,null,null,null,null,null,null,null,null,null,null,null,null,null,null,null,null,null,null,null,null,null,null,null,null,null,null,null,null,null,"Modern AI Factories High Cost",null,null,25000,null,null,null,null,null,null,null,null,null,null,null,null,null,null,null,null,"Modern AI Factories High Cost",null,null,null,{"$f":"(3000000*(1/100))*0.1","v":3000}]
[null,null,null,null,null,null,null,null,null,null,null,null,null,null,null,null,null,null,null,null,null,"Legacy Data Centers - Chilled Water Central Loops",null,null,null,null,2.5000000000000001E-2,null,null,null,null,null,null,null,null,null,null,null,null,null,null,null,null,null,null,null,null,null,null,null,null,null,null,null,null,null,null,null,null,null,null,null,null,null,null,null,null,null,null,null,null,null,null,null,null,null,null,null,null,null,null,null,null,null,null,null,null,null,null,null,null,null,null,null,null,null,null,null,null,null,null,null,null,"Early AI Date Centers - Coolant Distribution Units",null,null,null,null,null,3.85,2.5,0.64935064935064934,1.7,3.6,null,null,null,null,null,null,null,null,null,null,null,null,"Early AI Date Centers - Coolant Distribution Units",null,null,null,null,null,null,null,null,null,null,null,null,null,null,null,null,null,null,null,"Modern AI Factories Low Cost",null,null,240,240000,240,0.24,240000,10000,2.7777777777777777,null,null,null,null,null,null,null,null,null,null,null,null,null,null,null,null,null,null,null,null,null,null,null,null,null,null,null,null,null,null,null,null,null,null,null,null,null,null,null,null,null,null,null,null,null,null,null,null,null,null,null,null,null,null,null,null,null,null,null,null,null,null,null,null,null,null,null,null,null,null,null,null,null,null,"Modern AI Factories Low Cost",null,null,40000,null,null,null,null,null,null,null,null,null,null,null,null,null,null,null,null,"Modern AI Factories Low Cost",null,null,null,{"$f":"(4800000*(1/100))*0.1","v":4800}]
[null,null,null,null,null,null,null,null,null,null,null,null,null,null,null,null,null,null,null,null,null,null,null,null,null,null,null,null,null,null,null,null,null,null,null,null,null,null,null,null,null,null,null,null,null,null,null,null,null,null,null,null,null,null,null,null,null,null,null,null,null,null,null,null,null,null,null,null,null,null,null,null,null,null,null,null,null,null,null,null,null,null,null,null,null,null,null,null,null,null,null,null,null,null,null,null,null,null,null,null,null,null,null,"Early AI Date Centers - Hybrid Air-Liquid Infrastructure",null,null,null,null,null,2.9,1.9,0.65517241379310343,1.6,3.4,null,null,null,null,null,null,null,null,null,null,null,null,"Early AI Date Centers - Hybrid Air-Liquid Infrastructure",null,null,null,null,null,null,null,null,null,null,null,null,null,null,null,null,null,null,null,"Next-Gen Superclusters High Cost",null,null,800,800000,800,0.8,800000,33333.333333333336,9.2592592592592595,null,null,null,null,null,null,null,null,null,null,null,null,null,null,null,null,null,null,null,null,null,null,null,null,null,null,null,null,null,null,null,null,null,null,null,null,null,null,null,null,null,null,null,null,null,null,null,null,null,null,null,null,null,null,null,null,null,null,null,null,null,null,null,null,null,null,null,null,null,null,null,null,null,null,"Next-Gen Superclusters High Cost",null,null,55000,null,null,null,null,null,null,null,null,null,null,null,null,null,null,null,null,"Next-Gen Superclusters High Cost",null,null,null,{"$f":"(6100000*(1/100))*0.1","v":6100}]
[null,null,null,null,null,null,null,null,null,null,null,null,null,null,null,null,null,null,null,null,null,null,null,null,null,null,null,null,null,null,null,null,null,null,null,null,null,null,null,null,null,null,null,null,null,null,null,null,null,null,null,null,null,null,null,null,null,null,null,null,null,null,null,null,null,null,null,null,null,null,null,null,null,null,null,null,null,null,null,null,null,null,null,null,null,null,null,null,null,null,null,null,null,null,null,null,null,null,null,null,null,null,null,"Modern AI Factories - High Cost",null,null,null,null,null,12.5,8.1,0.64800000000000002,4.5,9.5,null,null,null,null,null,null,null,null,null,null,null,null,"Modern AI Factories - High Cost",null,null,null,null,null,null,null,null,null,null,null,null,null,null,null,null,null,null,null,"Next-Gen Superclusters Low Cost",null,null,1200,1200000,1200,1.2,1200000,50000,13.888888888888889,null,null,null,null,null,null,null,null,null,null,null,null,null,null,null,null,null,null,null,null,null,null,null,null,null,null,null,null,null,null,null,null,null,null,null,null,null,null,null,null,null,null,null,null,null,null,null,null,null,null,null,null,null,null,null,null,null,null,null,null,null,null,null,null,null,null,null,null,null,null,null,null,null,null,"Next-Gen Superclusters Low Cost",null,null,75000,null,null,null,null,null,null,null,null,null,null,null,null,null,null,null,null,"Next-Gen Superclusters Low Cost",null,null,null,{"$f":"(8250000*(1/100))*0.1","v":8250}]
[null,null,null,null,null,null,null,null,null,null,null,null,null,null,null,null,null,null,null,null,null,null,null,null,null,null,null,null,null,null,null,null,null,null,null,null,null,null,null,null,null,null,null,null,null,null,null,null,null,null,null,null,null,null,null,null,null,null,null,null,null,null,null,null,null,null,null,null,null,null,null,null,null,null,null,null,null,null,null,null,null,null,null,null,null,null,null,null,null,null,null,null,null,null,null,null,null,null,null,null,null,null,null,"Modern AI Factories - Low Cost",null,null,null,null,null,26,16.899999999999999,0.64999999999999991,5.5,11.5,null,null,null,null,null,null,null,null,null,null,null,null,"Modern AI Factories - Low Cost",null,null,null,null,null,null,null,null,null,null,null,null,null,null,null,null,null,null,null,"Specialized Inference Farms Low",null,null,350,350000,350,0.35,350000,14583.333333333334,4.0509259259259265,null,null,null,null,null,null,null,null,null,null,null,null,null,null,null,null,null,null,null,null,null,null,null,null,null,null,null,null,null,null,null,null,null,null,null,null,null,null,null,null,null,null,null,null,null,null,null,null,null,null,null,null,null,null,null,null,null,null,null,null,null,null,null,null,null,null,null,null,null,null,null,null,null,null,"Specialized Inference Farms Low",null,null,70000,null,null,null,null,null,null,null,null,null,null,null,null,null,null,null,null,"Specialized Inference Farms Low",null,null,null,{"$f":"(8400000*(1/100))*0.1","v":8400}]
[null,null,null,null,null,null,null,null,null,null,null,null,null,null,null,null,null,null,null,null,null,null,null,null,null,null,null,null,null,null,null,null,null,null,null,null,null,null,null,null,null,null,null,null,null,null,null,null,null,null,null,null,null,null,null,null,null,null,null,null,null,null,null,null,null,null,null,null,null,null,null,null,null,null,null,null,null,null,null,null,null,null,null,null,null,null,null,null,null,null,null,null,null,null,null,null,null,null,null,null,null,null,null,"Modern AI Factories - Single Phase Direct-to-Chip Liquid Cooling",null,null,null,null,null,42.5,27.6,0.64941176470588236,6.2,13,null,null,null,null,null,null,null,null,null,null,null,null,"Modern AI Factories - Single Phase Direct-to-Chip Liquid Cooling",null,null,null,null,null,null,null,null,null,null,null,null,null,null,null,null,null,null,null,"Specialized Inference Farms High",null,null,500,500000,500,0.5,500000,20833.333333333332,5.7870370370370363,null,null,null,null,null,null,null,null,null,null,null,null,null,null,null,null,null,null,null,null,null,null,null,null,null,null,null,null,null,null,null,null,null,null,null,null,null,null,null,null,null,null,null,null,null,null,null,null,null,null,null,null,null,null,null,null,null,null,null,null,null,null,null,null,null,null,null,null,null,null,null,null,null,null,"Specialized Inference Farms High",null,null,90000,null,null,null,null,null,null,null,null,null,null,null,null,null,null,null,null,"Specialized Inference Farms High",null,null,null,{"$f":"(10800000*(1/100))*0.1","v":10800}]
[null,null,null,null,null,null,null,null,null,null,null,null,null,null,null,null,null,null,null,null,null,null,null,null,null,null,null,null,null,null,null,null,null,null,null,null,null,null,null,null,null,null,null,null,null,null,null,null,null,null,null,null,null,null,null,null,null,null,null,null,null,null,null,null,null,null,null,null,null,null,null,null,null,null,null,null,null,null,null,null,null,null,null,null,null,null,null,null,null,null,null,null,null,null,null,null,null,null,null,null,null,null,null,"Modern AI Factories - Coolant Distribution Units (CDUs)",null,null,null,null,null,45,29.3,0.65111111111111108,6,12.5,null,null,null,null,null,null,null,null,null,null,null,null,"Modern AI Factories - Coolant Distribution Units (CDUs)",null,null,null,null,null,null,null,null,null,null,null,null,null,null,null,null,null,null,null,"NVIDIA Hopper H200 Low",null,null,240,240000,240,0.24,240000,10000,2.7777777777777777,null,null,null,null,null,null,null,null,null,null,null,null,null,null,null,null,null,null,null,null,null,null,null,null,null,null,null,null,null,null,null,null,null,null,null,null,null,null,null,null,null,null,null,null,null,null,null,null,null,null,null,null,null,null,null,null,null,null,null,null,null,null,null,null,null,null,null,null,null,null,null,null,null,null,"NVIDIA Hopper H200 Low",null,null,54000,null,null,null,null,null,null,null,null,null,null,null,null,null,null,null,null,"NVIDIA Hopper H200 Low",null,null,null,{"$f":"(6600000*(1/100))*0.1","v":6600}]
[null,null,null,null,null,null,null,null,null,null,null,null,null,null,null,null,null,null,null,null,null,"Early AI Date Centers - High Cost",null,null,null,null,0.85,null,null,null,null,null,null,null,null,null,null,null,"Early AI Date Centers - High Cost",null,null,null,null,0.55000000000000004,null,null,null,null,null,null,null,null,"Early AI Date Centers - High Cost",null,null,null,null,1.2,2.5,null,null,null,null,null,null,null,null,null,null,null,null,null,null,null,null,null,null,null,null,null,null,null,null,null,null,null,null,null,null,null,null,null,null,null,null,null,null,null,null,null,null,null,null,"Modern AI Factories - Hybrid Air-Liquid Infrastructure",null,null,null,null,null,34.5,22.4,0.64927536231884053,5.2,11,null,null,null,null,null,null,null,null,null,null,null,null,"Modern AI Factories - Hybrid Air-Liquid Infrastructure",null,null,null,null,null,null,null,null,null,null,null,null,null,null,null,null,null,null,null,"NVIDIA Hopper H200 High",null,null,240,240000,240,0.24,240000,10000,2.7777777777777777,null,null,null,null,null,null,null,null,null,null,null,null,null,null,null,null,null,null,null,null,null,null,null,null,null,null,null,null,null,null,null,null,null,null,null,null,null,null,null,null,null,null,null,null,null,null,null,null,null,null,null,null,null,null,null,null,null,null,null,null,null,null,null,null,null,null,null,null,null,null,null,null,null,null,"NVIDIA Hopper H200 High",null,null,60000,null,null,null,null,null,null,null,null,null,null,null,null,null,null,null,null,"NVIDIA Hopper H200 High",null,null,null,{"$f":"(7500000*(1/100))*0.1","v":7500}]
[null,null,null,null,null,null,null,null,null,null,null,null,null,null,null,null,null,null,null,null,null,"Early AI Date Centers - Low Cost",null,null,null,null,1.95,null,null,null,null,null,null,null,null,null,null,null,"Early AI Date Centers - Low Cost",null,null,null,null,1.25,null,null,null,null,null,null,null,null,"Early AI Date Centers - Low Cost",null,null,null,null,1.5,3.2,null,null,null,null,null,null,null,null,null,null,null,null,null,null,null,null,null,null,null,null,null,null,null,null,null,null,null,null,null,null,null,null,null,null,null,null,null,null,null,null,null,null,null,null,"Next-Gen Superclusters - High Cost",null,null,null,null,null,95,61.8,0.65052631578947362,8.5,18,null,null,null,null,null,null,null,null,null,null,null,null,"Next-Gen Superclusters - High Cost",null,null,null,null,null,null,null,null,null,null,null,null,null,null,null,null,null,null,null,"NVIDIA Blackwell GB300 low",null,null,12000,12000000,12000,12,12000000,500000,138.88888888888889,null,null,null,null,null,null,null,null,null,null,null,null,null,null,null,null,null,null,null,null,null,null,null,null,null,null,null,null,null,null,null,null,null,null,null,null,null,null,null,null,null,null,null,null,null,null,null,null,null,null,null,null,null,null,null,null,null,null,null,null,null,null,null,null,null,null,null,null,null,null,null,null,null,null,"NVIDIA Blackwell GB300 low",null,null,54000,null,null,null,null,null,null,null,null,null,null,null,null,null,null,null,null,"NVIDIA Blackwell GB300 low",null,null,null,{"$f":"(300000000*(1/100))*0.1","v":300000}]
[null,null,null,null,null,null,null,null,null,null,null,null,null,null,null,null,null,null,null,null,null,"Early AI Date Centers - Single Phase Direct to Liquid Cooling",null,null,null,null,3.4,null,null,null,null,null,null,null,null,null,null,null,"Early AI Date Centers - Single Phase Direct to Liquid Cooling",null,null,null,null,2.2000000000000002,null,null,null,null,null,null,null,null,"Early AI Date Centers - Single Phase Direct to Liquid Cooling",null,null,null,null,1.8,3.8,null,null,null,null,null,null,null,null,null,null,null,null,null,null,null,null,null,null,null,null,null,null,null,null,null,null,null,null,null,null,null,null,null,null,null,null,null,null,null,null,null,null,null,null,"Next-Gen Superclusters - Low Cost",null,null,null,null,null,185,120.3,0.65027027027027029,11,22.5,null,null,null,null,null,null,null,null,null,null,null,null,"Next-Gen Superclusters - Low Cost",null,null,null,null,null,null,null,null,null,null,null,null,null,null,null,null,null,null,null,"NVIDIA Blackwell GB300 High",null,null,12000,12000000,12000,12,12000000,500000,138.88888888888889,null,null,null,null,null,null,null,null,null,null,null,null,null,null,null,null,null,null,null,null,null,null,null,null,null,null,null,null,null,null,null,null,null,null,null,null,null,null,null,null,null,null,null,null,null,null,null,null,null,null,null,null,null,null,null,null,null,null,null,null,null,null,null,null,null,null,null,null,null,null,null,null,null,null,"NVIDIA Blackwell GB300 High",null,null,60000,null,null,null,null,null,null,null,null,null,null,null,null,null,null,null,null,"NVIDIA Blackwell GB300 High",null,null,null,{"$f":"(330000000*(1/100))*0.1","v":330000}]
[null,null,null,null,null,null,null,null,null,null,null,null,null,null,null,null,null,null,null,null,null,"Early AI Date Centers - Coolant Distribution Units",null,null,null,null,3.85,null,null,null,null,null,null,null,null,null,null,null,"Early AI Date Centers - Coolant Distribution Units",null,null,null,null,2.5,null,null,null,null,null,null,null,null,"Early AI Date Centers - Coolant Distribution Units",null,null,null,null,1.7,3.6,null,null,null,null,null,null,null,null,null,null,null,null,null,null,null,null,null,null,null,null,null,null,null,null,null,null,null,null,null,null,null,null,null,null,null,null,null,null,null,null,null,null,null,null,"Next-Gen Superclusters - Chiller-Less Dry Cooling",null,null,null,null,null,210,136.5,0.65,10.5,21,null,null,null,null,null,null,null,null,null,null,null,null,"Next-Gen Superclusters - Chiller-Less Dry Cooling"]
[null,null,null,null,null,null,null,null,null,null,null,null,null,null,null,null,null,null,null,null,null,"Early AI Date Centers - Hybrid Air-Liquid Infrastructure",null,null,null,null,2.9,null,null,null,null,null,null,null,null,null,null,null,"Early AI Date Centers - Hybrid Air-Liquid Infrastructure",null,null,null,null,1.9,null,null,null,null,null,null,null,null,"Early AI Date Centers - Hybrid Air-Liquid Infrastructure",null,null,null,null,1.6,3.4,null,null,null,null,null,null,null,null,null,null,null,null,null,null,null,null,null,null,null,null,null,null,null,null,null,null,null,null,null,null,null,null,null,null,null,null,null,null,null,null,null,null,null,null,"Next-Gen Superclusters - High -Impedance Dielectric Coolants",null,null,null,null,null,245,159.19999999999999,0.64979591836734685,12,24.5,null,null,null,null,null,null,null,null,null,null,null,null,"Next-Gen Superclusters - High -Impedance Dielectric Coolants"]
[null,null,null,null,null,null,null,null,null,null,null,null,null,null,null,null,null,null,null,null,null,null,null,null,null,null,null,null,null,null,null,null,null,null,null,null,null,null,null,null,null,null,null,null,null,null,null,null,null,null,null,null,null,null,null,null,null,null,null,null,null,null,null,null,null,null,null,null,null,null,null,null,null,null,null,null,null,null,null,null,null,null,null,null,null,null,null,null,null,null,null,null,null,null,null,null,null,null,null,null,null,null,null,"Next-Gen Superclusters - AI-Driven Grid Balance Cooling",null,null,null,null,null,260,169,0.65,10,21.5,null,null,null,null,null,null,null,null,null,null,null,null,"Next-Gen Superclusters - AI-Driven Grid Balance Cooling"]
[null,null,null,null,null,null,null,null,null,null,null,null,null,null,null,null,null,null,null,null,null,null,null,null,null,null,null,null,null,null,null,null,null,null,null,null,null,null,null,null,null,null,null,null,null,null,null,null,null,null,null,null,null,null,null,null,null,null,null,null,null,null,null,null,null,null,null,null,null,null,null,null,null,null,null,null,null,null,null,null,null,null,null,null,null,null,null,null,null,null,null,null,null,null,null,null,null,null,null,null,null,null,null,"Specialized Inference Farms - High Cost",null,null,null,null,null,150,105,0.7,14,30,null,null,null,null,null,null,null,null,null,null,null,null,"Specialized Inference Farms - High Cost"]
[null,null,null,null,null,null,null,null,null,null,null,null,null,null,null,null,null,null,null,null,null,null,null,null,null,null,null,null,null,null,null,null,null,null,null,null,null,null,null,null,null,null,null,null,null,null,null,null,null,null,null,null,null,null,null,null,null,null,null,null,null,null,null,null,null,null,null,null,null,null,null,null,null,null,null,null,null,null,null,null,null,null,null,null,null,null,null,null,null,null,null,null,null,null,null,null,null,null,null,null,null,null,null,"Specialized Inference Farms - Low Cost",null,null,null,null,null,310,217,0.7,18.5,38,null,null,null,null,null,null,null,null,null,null,null,null,"Specialized Inference Farms - Low Cost"]
[null,null,null,null,null,null,null,null,null,null,null,null,null,null,null,null,null,null,null,null,null,null,null,null,null,null,null,null,null,null,null,null,null,null,null,null,null,null,null,null,null,null,null,null,null,null,null,null,null,null,null,null,null,null,null,null,null,null,null,null,null,null,null,null,null,null,null,null,null,null,null,null,null,null,null,null,null,null,null,null,null,null,null,null,null,null,null,null,null,null,null,null,null,null,null,null,null,null,null,null,null,null,null,"Specialized Inference Farms - Chassis-Level Immersion Cooling",null,null,null,null,null,415,290,0.6987951807228916,22,45,null,null,null,null,null,null,null,null,null,null,null,null,"Specialized Inference Farms - Chassis-Level Immersion Cooling"]
[null,null,null,null,null,null,null,null,null,null,null,null,null,null,null,null,null,null,null,null,null,null,null,null,null,null,null,null,null,null,null,null,null,null,null,null,null,null,null,null,null,null,null,null,null,null,null,null,null,null,null,null,null,null,null,null,null,null,null,null,null,null,null,null,null,null,null,null,null,null,null,null,null,null,null,null,null,null,null,null,null,null,null,null,null,null,null,null,null,null,null,null,null,null,null,null,null,null,null,null,null,null,null,"Specialized Inference Farms - Open-Tank-Phase Immersion",null,null,null,null,null,480,336,0.7,24.5,50,null,null,null,null,null,null,null,null,null,null,null,null,"Specialized Inference Farms - Open-Tank-Phase Immersion"]
[null,null,null,null,null,null,null,null,null,null,null,null,null,null,null,null,null,null,null,null,null,null,null,null,null,null,null,null,null,null,null,null,null,null,null,null,null,null,null,null,null,null,null,null,null,null,null,null,null,null,null,null,null,null,null,null,null,null,null,null,null,null,null,null,null,null,null,null,null,null,null,null,null,null,null,null,null,null,null,null,null,null,null,null,null,null,null,null,null,null,null,null,null,null,null,null,null,null,null,null,null,null,null,"Specialized Inference Farms - Liquid-to-Air (L2A) Sidecars",null,null,null,null,null,365,255,0.69863013698630139,16,34,null,null,null,null,null,null,null,null,null,null,null,null,"Specialized Inference Farms - Liquid-to-Air (L2A) Sidecars"]
[null,null,null,null,null,null,null,null,null,null,null,null,null,null,null,null,null,null,null,null,null,null,null,null,null,null,null,null,null,null,null,null,null,null,null,null,null,null,null,null,null,null,null,null,null,null,null,null,null,null,null,null,null,null,null,null,null,null,null,null,null,null,null,null,null,null,null,null,null,null,null,null,null,null,null,null,null,null,null,null,null,null,null,null,null,null,null,null,null,null,null,null,null,null,null,null,null,null,null,null,null,null,null,"NVIDIA Hopper (H200) - High Cost",null,null,null,null,null,48,31.2,0.65,3.8,8,null,null,null,null,null,null,null,null,null,null,null,null,"NVIDIA Hopper (H200) - High Cost"]
[null,null,null,null,null,null,null,null,null,null,null,null,null,null,null,null,null,null,null,null,null,"Modern AI Factories - High Cost",null,null,null,null,12.5,null,null,null,null,null,null,null,null,null,null,null,"Modern AI Factories - High Cost",null,null,null,null,8.1,null,null,null,null,null,null,null,null,"Modern AI Factories - High Cost",null,null,null,null,4.5,9.5,null,null,null,null,null,null,null,null,null,null,null,null,null,null,null,null,null,null,null,null,null,null,null,null,null,null,null,null,null,null,null,null,null,null,null,null,null,null,null,null,null,null,null,null,"NVIDIA Hopper (H200) - Low Cost",null,null,null,null,null,92,59.8,0.65,4.8,10.199999999999999,null,null,null,null,null,null,null,null,null,null,null,null,"NVIDIA Hopper (H200) - Low Cost"]
[null,null,null,null,null,null,null,null,null,null,null,null,null,null,null,null,null,null,null,null,null,"Modern AI Factories - Low Cost",null,null,null,null,26,null,null,null,null,null,null,null,null,null,null,null,"Modern AI Factories - Low Cost",null,null,null,null,16.899999999999999,null,null,null,null,null,null,null,null,"Modern AI Factories - Low Cost",null,null,null,null,5.5,11.5,null,null,null,null,null,null,null,null,null,null,null,null,null,null,null,null,null,null,null,null,null,null,null,null,null,null,null,null,null,null,null,null,null,null,null,null,null,null,null,null,null,null,null,null,"NVIDIA Hopper (H200) - Hyrid Air",null,null,null,null,null,62,40.299999999999997,0.64999999999999991,4,8.5,null,null,null,null,null,null,null,null,null,null,null,null,"NVIDIA Hopper (H200) - Hyrid Air"]
[null,null,null,null,null,null,null,null,null,null,null,null,null,null,null,null,null,null,null,null,null,"Modern AI Factories - Single Phase Direct-to-Chip Liquid Cooling",null,null,null,null,42.5,null,null,null,null,null,null,null,null,null,null,null,"Modern AI Factories - Single Phase Direct-to-Chip Liquid Cooling",null,null,null,null,27.6,null,null,null,null,null,null,null,null,"Modern AI Factories - Single Phase Direct-to-Chip Liquid Cooling",null,null,null,null,6.2,13,null,null,null,null,null,null,null,null,null,null,null,null,null,null,null,null,null,null,null,null,null,null,null,null,null,null,null,null,null,null,null,null,null,null,null,null,null,null,null,null,null,null,null,null,"NVIDIA Hopper (H200) - Fluid-Assisted",null,null,null,null,null,84,54.6,0.65,4.4000000000000004,9.1999999999999993,null,null,null,null,null,null,null,null,null,null,null,null,"NVIDIA Hopper (H200) - Fluid-Assisted"]
[null,null,null,null,null,null,null,null,null,null,null,null,null,null,null,null,null,null,null,null,null,"Modern AI Factories - Coolant Distribution Units (CDUs)",null,null,null,null,45,null,null,null,null,null,null,null,null,null,null,null,"Modern AI Factories - Coolant Distribution Units (CDUs)",null,null,null,null,29.3,null,null,null,null,null,null,null,null,"Modern AI Factories - Coolant Distribution Units (CDUs)",null,null,null,null,6,12.5,null,null,null,null,null,null,null,null,null,null,null,null,null,null,null,null,null,null,null,null,null,null,null,null,null,null,null,null,null,null,null,null,null,null,null,null,null,null,null,null,null,null,null,null,"NVIDIA Hopper (H200) - Single Phase Direct-to-Chip Liquid Cooling",null,null,null,null,null,115,74.8,0.65043478260869558,5,10.5,null,null,null,null,null,null,null,null,null,null,null,null,"NVIDIA Hopper (H200) - Single Phase Direct-to-Chip Liquid Cooling"]
[null,null,null,null,null,null,null,null,null,null,null,null,null,null,null,null,null,null,null,null,null,"Modern AI Factories - Hybrid Air-Liquid Infrastructure",null,null,null,null,34.5,null,null,null,null,null,null,null,null,null,null,null,"Modern AI Factories - Hybrid Air-Liquid Infrastructure",null,null,null,null,22.4,null,null,null,null,null,null,null,null,"Modern AI Factories - Hybrid Air-Liquid Infrastructure",null,null,null,null,5.2,11,null,null,null,null,null,null,null,null,null,null,null,null,null,null,null,null,null,null,null,null,null,null,null,null,null,null,null,null,null,null,null,null,null,null,null,null,null,null,null,null,null,null,null,null,"NVIDIA Hopper (H200) - Double Phase Direct-to-Chip Liquid Cooling",null,null,null,null,null,138,89.7,0.65,5.4,11.2,null,null,null,null,null,null,null,null,null,null,null,null,"NVIDIA Hopper (H200) - Double Phase Direct-to-Chip Liquid Cooling"]
[null,null,null,null,null,null,null,null,null,null,null,null,null,null,null,null,null,null,null,null,null,null,null,null,null,null,null,null,null,null,null,null,null,null,null,null,null,null,null,null,null,null,null,null,null,null,null,null,null,null,null,null,null,null,null,null,null,null,null,null,null,null,null,null,null,null,null,null,null,null,null,null,null,null,null,null,null,null,null,null,null,null,null,null,null,null,null,null,null,null,null,null,null,null,null,null,null,null,null,null,null,null,null,"NVIDIA Blackwell (GB300 / B300) - High  Cost",null,null,null,null,null,380,266,0.7,18,38,null,null,null,null,null,null,null,null,null,null,null,null,"NVIDIA Blackwell (GB300 / B300) - High  Cost"]
[null,null,null,null,null,null,null,null,null,null,null,null,null,null,null,null,null,null,null,null,null,null,null,null,null,null,null,null,null,null,null,null,null,null,null,null,null,null,null,null,null,null,null,null,null,null,null,null,null,null,null,null,null,null,null,null,null,null,null,null,null,null,null,null,null,null,null,null,null,null,null,null,null,null,null,null,null,null,null,null,null,null,null,null,null,null,null,null,null,null,null,null,null,null,null,null,null,null,null,null,null,null,null,"NVIDIA Blackwell (GB300 / B300) - Low Cost",null,null,null,null,null,740,518,0.7,23,48,null,null,null,null,null,null,null,null,null,null,null,null,"NVIDIA Blackwell (GB300 / B300) - Low Cost"]
[null,null,null,null,null,null,null,null,null,null,null,null,null,null,null,null,null,null,null,null,null,null,null,null,null,null,null,null,null,null,null,null,null,null,null,null,null,null,null,null,null,null,null,null,null,null,null,null,null,null,null,null,null,null,null,null,null,null,null,null,null,null,null,null,null,null,null,null,null,null,null,null,null,null,null,null,null,null,null,null,null,null,null,null,null,null,null,null,null,null,null,null,null,null,null,null,null,null,null,null,null,null,null,"NVIDIA Blackwell (GB300 / B300) - 90% Direct-to-Chip Liquid",null,null,null,null,null,890,623,0.7,21.5,45,null,null,null,null,null,null,null,null,null,null,null,null,"NVIDIA Blackwell (GB300 / B300) - 90% Direct-to-Chip Liquid"]
[null,null,null,null,null,null,null,null,null,null,null,null,null,null,null,null,null,null,null,null,null,null,null,null,null,null,null,null,null,null,null,null,null,null,null,null,null,null,null,null,null,null,null,null,null,null,null,null,null,null,null,null,null,null,null,null,null,null,null,null,null,null,null,null,null,null,null,null,null,null,null,null,null,null,null,null,null,null,null,null,null,null,null,null,null,null,null,null,null,null,null,null,null,null,null,null,null,null,null,null,null,null,null,"NVIDIA Blackwell (GB300 / B300) - Single Phase Direct-to-Chip Liquid Cooling",null,null,null,null,null,980,686,0.7,22.5,47,null,null,null,null,null,null,null,null,null,null,null,null,"NVIDIA Blackwell (GB300 / B300) - Single Phase Direct-to-Chip Liquid Cooling"]
[null,null,null,null,null,null,null,null,null,null,null,null,null,null,null,null,null,null,null,null,null,null,null,null,null,null,null,null,null,null,null,null,null,null,null,null,null,null,null,null,null,null,null,null,null,null,null,null,null,null,null,null,null,null,null,null,null,null,null,null,null,null,null,null,null,null,null,null,null,null,null,null,null,null,null,null,null,null,null,null,null,null,null,null,null,null,null,null,null,null,null,null,null,null,null,null,null,null,null,null,null,null,null,"NVIDIA Blackwell (GB300 / B300) - Double Phase Direct-to-Chip Liquid Cooling",null,null,null,null,null,1120,784,0.7,24.5,51,null,null,null,null,null,null,null,null,null,null,null,null,"NVIDIA Blackwell (GB300 / B300) - Double Phase Direct-to-Chip Liquid Cooling"]
[null,null,null,null,null,null,null,null,null,null,null,null,null,null,null,null,null,null,null,null,null,null,null,null,null,null,null,null,null,null,null,null,null,null,null,null,null,null,null,null,null,null,null,null,null,null,null,null,null,null,null,null,null,null,null,null,null,null,null,null,null,null,null,null,null,null,null,null,null,null,null,null,null,null,null,null,null,null,null,null,null,null,null,null,null,null,null,null,null,null,null,null,null,null,null,null,null,null,null,null,null,null,null,"NVIDIA Vera Rubin NVL72 - High Cost",null,null,null,null,null,2400,1680,0.7,32,68,null,null,null,null,null,null,null,null,null,null,null,null,"NVIDIA Vera Rubin NVL72 - High Cost"]
[null,null,null,null,null,null,null,null,null,null,null,null,null,null,null,null,null,null,null,null,null,null,null,null,null,null,null,null,null,null,null,null,null,null,null,null,null,null,null,null,null,null,null,null,null,null,null,null,null,null,null,null,null,null,null,null,null,null,null,null,null,null,null,null,null,null,null,null,null,null,null,null,null,null,null,null,null,null,null,null,null,null,null,null,null,null,null,null,null,null,null,null,null,null,null,null,null,null,null,null,null,null,null,"NVIDIA Vera Rubin NVL72 - Low Cost",null,null,null,null,null,4600,3220,0.7,41,85,null,null,null,null,null,null,null,null,null,null,null,null,"NVIDIA Vera Rubin NVL72 - Low Cost"]
[null,null,null,null,null,null,null,null,null,null,null,null,null,null,null,null,null,null,null,null,null,"Next-Gen Superclusters - High Cost",null,null,null,null,95,null,null,null,null,null,null,null,null,null,null,null,"Next-Gen Superclusters - High Cost",null,null,null,null,61.8,null,null,null,null,null,null,null,null,"Next-Gen Superclusters - High Cost",null,null,null,null,8.5,18,null,null,null,null,null,null,null,null,null,null,null,null,null,null,null,null,null,null,null,null,null,null,null,null,null,null,null,null,null,null,null,null,null,null,null,null,null,null,null,null,null,null,null,null,"NVIDIA Vera Rubin NVL72 - 45 C Warm-Water Closed-Loop Liquid",null,null,null,null,null,5100,3570,0.7,38,80,null,null,null,null,null,null,null,null,null,null,null,null,"NVIDIA Vera Rubin NVL72 - 45 C Warm-Water Closed-Loop Liquid"]
[null,null,null,null,null,null,null,null,null,null,null,null,null,null,null,null,null,null,null,null,null,"Next-Gen Superclusters - Low Cost",null,null,null,null,185,null,null,null,null,null,null,null,null,null,null,null,"Next-Gen Superclusters - Low Cost",null,null,null,null,120.3,null,null,null,null,null,null,null,null,"Next-Gen Superclusters - Low Cost",null,null,null,null,11,22.5,null,null,null,null,null,null,null,null,null,null,null,null,null,null,null,null,null,null,null,null,null,null,null,null,null,null,null,null,null,null,null,null,null,null,null,null,null,null,null,null,null,null,null,null,"NVIDIA Vera Rubin NVL72 - Single Phase Direct-to-Chip Liquid Cooling",null,null,null,null,null,5800,4060,0.7,40,83,null,null,null,null,null,null,null,null,null,null,null,null,"NVIDIA Vera Rubin NVL72 - Single Phase Direct-to-Chip Liquid Cooling"]
[null,null,null,null,null,null,null,null,null,null,null,null,null,null,null,null,null,null,null,null,null,"Next-Gen Superclusters - Chiller-Less Dry Cooling",null,null,null,null,210,null,null,null,null,null,null,null,null,null,null,null,"Next-Gen Superclusters - Chiller-Less Dry Cooling",null,null,null,null,136.5,null,null,null,null,null,null,null,null,"Next-Gen Superclusters - Chiller-Less Dry Cooling",null,null,null,null,10.5,21,null,null,null,null,null,null,null,null,null,null,null,null,null,null,null,null,null,null,null,null,null,null,null,null,null,null,null,null,null,null,null,null,null,null,null,null,null,null,null,null,null,null,null,null,"NVIDIA Vera Rubin NVL72 - Double Phase Direct-to-Chip Liquid Cooling",null,null,null,null,null,6500,4550,0.7,44,92,null,null,null,null,null,null,null,null,null,null,null,null,"NVIDIA Vera Rubin NVL72 - Double Phase Direct-to-Chip Liquid Cooling"]
[null,null,null,null,null,null,null,null,null,null,null,null,null,null,null,null,null,null,null,null,null,"Next-Gen Superclusters - High -Impedance Dielectric Coolants",null,null,null,null,245,null,null,null,null,null,null,null,null,null,null,null,"Next-Gen Superclusters - High -Impedance Dielectric Coolants",null,null,null,null,159.19999999999999,null,null,null,null,null,null,null,null,"Next-Gen Superclusters - High -Impedance Dielectric Coolants",null,null,null,null,12,24.5]
[null,null,null,null,null,null,null,null,null,null,null,null,null,null,null,null,null,null,null,null,null,"Next-Gen Superclusters - AI-Driven Grid Balance Cooling",null,null,null,null,260,null,null,null,null,null,null,null,null,null,null,null,"Next-Gen Superclusters - AI-Driven Grid Balance Cooling",null,null,null,null,169,null,null,null,null,null,null,null,null,"Next-Gen Superclusters - AI-Driven Grid Balance Cooling",null,null,null,null,10,21.5]
[]
[]
[]
[]
[null,null,null,null,null,null,null,null,null,null,null,null,null,null,null,null,null,null,null,null,null,null,null,null,null,null,null,null,null,null,null,null,null,null,null,null,null,null,"Specialized Inference Farms - High Cost",null,null,null,null,105]
[null,null,null,null,null,null,null,null,null,null,null,null,null,null,null,null,null,null,null,null,null,null,null,null,null,null,null,null,null,null,null,null,null,null,null,null,null,null,"Specialized Inference Farms - Low Cost",null,null,null,null,217]
[null,null,null,null,null,null,null,null,null,null,null,null,null,null,null,null,null,null,null,null,null,null,null,null,null,null,null,null,null,null,null,null,null,null,null,null,null,null,"Specialized Inference Farms - Chassis-Level Immersion Cooling",null,null,null,null,290]
[null,null,null,null,null,null,null,null,null,null,null,null,null,null,null,null,null,null,null,null,null,"Specialized Inference Farms - High Cost",null,null,null,null,150,null,null,null,null,null,null,null,null,null,null,null,"Specialized Inference Farms - Open-Tank-Phase Immersion",null,null,null,null,336]
[null,null,null,null,null,null,null,null,null,null,null,null,null,null,null,null,null,null,null,null,null,"Specialized Inference Farms - Low Cost",null,null,null,null,310,null,null,null,null,null,null,null,null,null,null,null,"Specialized Inference Farms - Liquid-to-Air (L2A) Sidecars",null,null,null,null,255,null,null,null,null,null,null,null,null,"Specialized Inference Farms - High Cost",null,null,null,null,14,30]
[null,null,null,null,null,null,null,null,null,null,null,null,null,null,null,null,null,null,null,null,null,"Specialized Inference Farms - Chassis-Level Immersion Cooling",null,null,null,null,415,null,null,null,null,null,null,null,null,null,null,null,null,null,null,null,null,null,null,null,null,null,null,null,null,null,"Specialized Inference Farms - Low Cost",null,null,null,null,18.5,38]
[null,null,null,null,null,null,null,null,null,null,null,null,null,null,null,null,null,null,null,null,null,"Specialized Inference Farms - Open-Tank-Phase Immersion",null,null,null,null,480,null,null,null,null,null,null,null,null,null,null,null,null,null,null,null,null,null,null,null,null,null,null,null,null,null,"Specialized Inference Farms - Chassis-Level Immersion Cooling",null,null,null,null,22,45]
[null,null,null,null,null,null,null,null,null,null,null,null,null,null,null,null,null,null,null,null,null,"Specialized Inference Farms - Liquid-to-Air (L2A) Sidecars",null,null,null,null,365,null,null,null,null,null,null,null,null,null,null,null,null,null,null,null,null,null,null,null,null,null,null,null,null,null,"Specialized Inference Farms - Open-Tank-Phase Immersion",null,null,null,null,24.5,50]
[null,null,null,null,null,null,null,null,null,null,null,null,null,null,null,null,null,null,null,null,null,null,null,null,null,null,null,null,null,null,null,null,null,null,null,null,null,null,null,null,null,null,null,null,null,null,null,null,null,null,null,null,"Specialized Inference Farms - Liquid-to-Air (L2A) Sidecars",null,null,null,null,16,34]
[]
[]
[]
[]
[null,null,null,null,null,null,null,null,null,null,null,null,null,null,null,null,null,null,null,null,null,null,null,null,null,null,null,null,null,null,null,null,null,null,null,null,null,null,"NVIDIA Hopper (H200) - High Cost",null,null,null,null,31.2]
[null,null,null,null,null,null,null,null,null,null,null,null,null,null,null,null,null,null,null,null,null,null,null,null,null,null,null,null,null,null,null,null,null,null,null,null,null,null,"NVIDIA Hopper (H200) - Low Cost",null,null,null,null,59.8]
[null,null,null,null,null,null,null,null,null,null,null,null,null,null,null,null,null,null,null,null,null,null,null,null,null,null,null,null,null,null,null,null,null,null,null,null,null,null,"NVIDIA Hopper (H200) - Hyrid Air",null,null,null,null,40.299999999999997]
[null,null,null,null,null,null,null,null,null,null,null,null,null,null,null,null,null,null,null,null,null,"NVIDIA Hopper (H200) - High Cost",null,null,null,null,48,null,null,null,null,null,null,null,null,null,null,null,"NVIDIA Hopper (H200) - Fluid-Assisted",null,null,null,null,54.6]
[null,null,null,null,null,null,null,null,null,null,null,null,null,null,null,null,null,null,null,null,null,"NVIDIA Hopper (H200) - Low Cost",null,null,null,null,92,null,null,null,null,null,null,null,null,null,null,null,"NVIDIA Hopper (H200) - Single Phase Direct-to-Chip Liquid Cooling",null,null,null,null,74.8]
[null,null,null,null,null,null,null,null,null,null,null,null,null,null,null,null,null,null,null,null,null,"NVIDIA Hopper (H200) - Hyrid Air",null,null,null,null,62,null,null,null,null,null,null,null,null,null,null,null,"NVIDIA Hopper (H200) - Double Phase Direct-to-Chip Liquid Cooling",null,null,null,null,89.7]
[null,null,null,null,null,null,null,null,null,null,null,null,null,null,null,null,null,null,null,null,null,"NVIDIA Hopper (H200) - Fluid-Assisted",null,null,null,null,84]
[null,null,null,null,null,null,null,null,null,null,null,null,null,null,null,null,null,null,null,null,null,"NVIDIA Hopper (H200) - Single Phase Direct-to-Chip Liquid Cooling",null,null,null,null,115]
[null,null,null,null,null,null,null,null,null,null,null,null,null,null,null,null,null,null,null,null,null,"NVIDIA Hopper (H200) - Double Phase Direct-to-Chip Liquid Cooling",null,null,null,null,138,null,null,null,null,null,null,null,null,null,null,null,null,null,null,null,null,null,null,null,null,null,null,null,null,null,"NVIDIA Hopper (H200) - High Cost",null,null,null,null,3.8,8]
[null,null,null,null,null,null,null,null,null,null,null,null,null,null,null,null,null,null,null,null,null,null,null,null,null,null,null,null,null,null,null,null,null,null,null,null,null,null,null,null,null,null,null,null,null,null,null,null,null,null,null,null,"NVIDIA Hopper (H200) - Low Cost",null,null,null,null,4.8,10.199999999999999]
[null,null,null,null,null,null,null,null,null,null,null,null,null,null,null,null,null,null,null,null,null,null,null,null,null,null,null,null,null,null,null,null,null,null,null,null,null,null,null,null,null,null,null,null,null,null,null,null,null,null,null,null,"NVIDIA Hopper (H200) - Hyrid Air",null,null,null,null,4,8.5]
[null,null,null,null,null,null,null,null,null,null,null,null,null,null,null,null,null,null,null,null,null,null,null,null,null,null,null,null,null,null,null,null,null,null,null,null,null,null,null,null,null,null,null,null,null,null,null,null,null,null,null,null,"NVIDIA Hopper (H200) - Fluid-Assisted",null,null,null,null,4.4000000000000004,9.1999999999999993]
[null,null,null,null,null,null,null,null,null,null,null,null,null,null,null,null,null,null,null,null,null,null,null,null,null,null,null,null,null,null,null,null,null,null,null,null,null,null,"NVIDIA Blackwell (GB300 / B300) - High  Cost",null,null,null,null,266,null,null,null,null,null,null,null,null,"NVIDIA Hopper (H200) - Single Phase Direct-to-Chip Liquid Cooling",null,null,null,null,5,10.5]
[null,null,null,null,null,null,null,null,null,null,null,null,null,null,null,null,null,null,null,null,null,null,null,null,null,null,null,null,null,null,null,null,null,null,null,null,null,null,"NVIDIA Blackwell (GB300 / B300) - Low Cost",null,null,null,null,518,null,null,null,null,null,null,null,null,"NVIDIA Hopper (H200) - Double Phase Direct-to-Chip Liquid Cooling",null,null,null,null,5.4,11.2]
[null,null,null,null,null,null,null,null,null,null,null,null,null,null,null,null,null,null,null,null,null,null,null,null,null,null,null,null,null,null,null,null,null,null,null,null,null,null,"NVIDIA Blackwell (GB300 / B300) - 90% Direct-to-Chip Liquid",null,null,null,null,623]
[null,null,null,null,null,null,null,null,null,null,null,null,null,null,null,null,null,null,null,null,null,"NVIDIA Blackwell (GB300 / B300) - High  Cost",null,null,null,null,380,null,null,null,null,null,null,null,null,null,null,null,"NVIDIA Blackwell (GB300 / B300) - Single Phase Direct-to-Chip Liquid Cooling",null,null,null,null,686]
[null,null,null,null,null,null,null,null,null,null,null,null,null,null,null,null,null,null,null,null,null,"NVIDIA Blackwell (GB300 / B300) - Low Cost",null,null,null,null,740,null,null,null,null,null,null,null,null,null,null,null,"NVIDIA Blackwell (GB300 / B300) - Double Phase Direct-to-Chip Liquid Cooling",null,null,null,null,784]
[null,null,null,null,null,null,null,null,null,null,null,null,null,null,null,null,null,null,null,null,null,"NVIDIA Blackwell (GB300 / B300) - 90% Direct-to-Chip Liquid",null,null,null,null,890]
[null,null,null,null,null,null,null,null,null,null,null,null,null,null,null,null,null,null,null,null,null,"NVIDIA Blackwell (GB300 / B300) - Single Phase Direct-to-Chip Liquid Cooling",null,null,null,null,980]
[null,null,null,null,null,null,null,null,null,null,null,null,null,null,null,null,null,null,null,null,null,"NVIDIA Blackwell (GB300 / B300) - Double Phase Direct-to-Chip Liquid Cooling",null,null,null,null,1120]
[]
[]
[null,null,null,null,null,null,null,null,null,null,null,null,null,null,null,null,null,null,null,null,null,null,null,null,null,null,null,null,null,null,null,null,null,null,null,null,null,null,null,null,null,null,null,null,null,null,null,null,null,null,null,null,"NVIDIA Blackwell (GB300 / B300) - High  Cost",null,null,null,null,18,38]
[null,null,null,null,null,null,null,null,null,null,null,null,null,null,null,null,null,null,null,null,null,null,null,null,null,null,null,null,null,null,null,null,null,null,null,null,null,null,null,null,null,null,null,null,null,null,null,null,null,null,null,null,"NVIDIA Blackwell (GB300 / B300) - Low Cost",null,null,null,null,23,48]
[null,null,null,null,null,null,null,null,null,null,null,null,null,null,null,null,null,null,null,null,null,null,null,null,null,null,null,null,null,null,null,null,null,null,null,null,null,null,null,null,null,null,null,null,null,null,null,null,null,null,null,null,"NVIDIA Blackwell (GB300 / B300) - 90% Direct-to-Chip Liquid",null,null,null,null,21.5,45]
[null,null,null,null,null,null,null,null,null,null,null,null,null,null,null,null,null,null,null,null,null,null,null,null,null,null,null,null,null,null,null,null,null,null,null,null,null,null,"NVIDIA Vera Rubin NVL72 - High Cost",null,null,null,null,1680,null,null,null,null,null,null,null,null,"NVIDIA Blackwell (GB300 / B300) - Single Phase Direct-to-Chip Liquid Cooling",null,null,null,null,22.5,47]
[null,null,null,null,null,null,null,null,null,null,null,null,null,null,null,null,null,null,null,null,null,null,null,null,null,null,null,null,null,null,null,null,null,null,null,null,null,null,"NVIDIA Vera Rubin NVL72 - Low Cost",null,null,null,null,3220,null,null,null,null,null,null,null,null,"NVIDIA Blackwell (GB300 / B300) - Double Phase Direct-to-Chip Liquid Cooling",null,null,null,null,24.5,51]
[null,null,null,null,null,null,null,null,null,null,null,null,null,null,null,null,null,null,null,null,null,null,null,null,null,null,null,null,null,null,null,null,null,null,null,null,null,null,"NVIDIA Vera Rubin NVL72 - 45 C Warm-Water Closed-Loop Liquid",null,null,null,null,3570]
[null,null,null,null,null,null,null,null,null,null,null,null,null,null,null,null,null,null,null,null,null,"NVIDIA Vera Rubin NVL72 - High Cost",null,null,null,null,2400,null,null,null,null,null,null,null,null,null,null,null,"NVIDIA Vera Rubin NVL72 - Single Phase Direct-to-Chip Liquid Cooling",null,null,null,null,4060]
[null,null,null,null,null,null,null,null,null,null,null,null,null,null,null,null,null,null,null,null,null,"NVIDIA Vera Rubin NVL72 - Low Cost",null,null,null,null,4600,null,null,null,null,null,null,null,null,null,null,null,"NVIDIA Vera Rubin NVL72 - Double Phase Direct-to-Chip Liquid Cooling",null,null,null,null,4550]
[null,null,null,null,null,null,null,null,null,null,null,null,null,null,null,null,null,null,null,null,null,"NVIDIA Vera Rubin NVL72 - 45 C Warm-Water Closed-Loop Liquid",null,null,null,null,5100]
[null,null,null,null,null,null,null,null,null,null,null,null,null,null,null,null,null,null,null,null,null,"NVIDIA Vera Rubin NVL72 - Single Phase Direct-to-Chip Liquid Cooling",null,null,null,null,5800]
[null,null,null,null,null,null,null,null,null,null,null,null,null,null,null,null,null,null,null,null,null,"NVIDIA Vera Rubin NVL72 - Double Phase Direct-to-Chip Liquid Cooling",null,null,null,null,6500]
[]
[]
[]
[]
[]
[]
[null,null,null,null,null,null,null,null,null,null,null,null,null,null,null,null,null,null,null,null,null,null,null,null,null,null,null,null,null,null,null,null,null,null,null,null,null,null,null,null,null,null,null,null,null,null,null,null,null,null,null,null,"NVIDIA Vera Rubin NVL72 - High Cost",null,null,null,null,32,68]
[null,null,null,null,null,null,null,null,null,null,null,null,null,null,null,null,null,null,null,null,null,null,null,null,null,null,null,null,null,null,null,null,null,null,null,null,null,null,null,null,null,null,null,null,null,null,null,null,null,null,null,null,"NVIDIA Vera Rubin NVL72 - Low Cost",null,null,null,null,41,85]
[null,null,null,null,null,null,null,null,null,null,null,null,null,null,null,null,null,null,null,null,null,null,null,null,null,null,null,null,null,null,null,null,null,null,null,null,null,null,null,null,null,null,null,null,null,null,null,null,null,null,null,null,"NVIDIA Vera Rubin NVL72 - 45 C Warm-Water Closed-Loop Liquid",null,null,null,null,38,80]
[null,null,null,null,null,null,null,null,null,null,null,null,null,null,null,null,null,null,null,null,null,null,null,null,null,null,null,null,null,null,null,null,null,null,null,null,null,null,null,null,null,null,null,null,null,null,null,null,null,null,null,null,"NVIDIA Vera Rubin NVL72 - Single Phase Direct-to-Chip Liquid Cooling",null,null,null,null,40,83]
[null,null,null,null,null,null,null,null,null,null,null,null,null,null,null,null,null,null,null,null,null,null,null,null,null,null,null,null,null,null,null,null,null,null,null,null,null,null,null,null,null,null,null,null,null,null,null,null,null,null,null,null,"NVIDIA Vera Rubin NVL72 - Double Phase Direct-to-Chip Liquid Cooling",null,null,null,null,44,92]

{"sheet":"Price per Token","index":17,"n_rows":10,"n_cols":24,"rows_kept":10,"cut":false,"hidden":false,"merged":[]}
["Return"]
[null,null,null,null,null,null,null,null,"Task Category",null,null,"Input Tokens (Context/Data)","Output Tokens (Response)","Total Typical Tokens"]
[null,null,null,null,null,null,null,null,"Model Auditing (Finding errors/inconsistencies)",null,null,"20,000 – 50,000","500 – 1,500","20,500 – 51,500"]
[null,null,null,null,null,null,null,null,"Three-Statement Model Build (From historical data)",null,null,"50,000 – 100,000+","1,000 – 3,000","51,000 – 103,000+"]
[null,null,null,null,null,null,null,null,"Sensitivity & Scenario Analysis",null,null,"30,000 – 60,000","1,000 – 2,000","31,000 – 62,000",null,null,"Price",null,null,"Input","Output",null,"Input","Output"]
[null,null,null,null,null,null,null,null,null,null,null,"Input Tokens Low","Input Tokens High","Output Tokens Low","Output Tokens High",null,"Input","Output",null,"Low","Low","Total","Low","Low"]
[null,null,null,null,null,null,null,null,"Model Auditing (Finding errors/inconsistencies)",null,null,20000,50000,500,1500,null,15,75,null,{"$f":"$Q$7*L7","v":300000},{"$f":"$R$7*N7","v":37500},{"$f":"U7+T7","v":337500},{"$f":"$Q$7*O7","v":22500},{"$f":"$R$7*Q7","v":1125}]
[null,null,null,null,null,null,null,null,"Three-Statement Model Build (From historical data)",null,null,50000,100000,1000,3000,null,15,75,null,{"$f":"$Q$7*L8","v":750000},{"$f":"$R$7*N8","v":75000},{"$f":"U8+T8","v":825000},{"$f":"$Q$7*O8","v":45000},{"$f":"$R$7*Q8","v":1125}]
[null,null,null,null,null,null,null,null,"Sensitivity & Scenario Analysis",null,null,30000,60000,1000,2000,null,15,75,null,{"$f":"$Q$7*L9","v":450000},{"$f":"$R$7*N9","v":75000},525000,{"$f":"$Q$7*O9","v":30000},{"$f":"$R$7*Q9","v":1125}]
[null,null,null,null,null,null,null,null,null,null,null,null,null,{"$f":"SUM(N7:N9)","v":2500},{"$f":"SUM(O7:O9)","v":6500}]

{"sheet":"Weather","index":18,"n_rows":0,"n_cols":0,"rows_kept":0,"cut":false,"hidden":false,"merged":[]}

{"sheet":"Commodity Prices -->","index":19,"n_rows":5,"n_cols":2,"rows_kept":5,"cut":false,"hidden":false,"merged":[]}
["          "]
[]
[null,"Use of Index"]
[null,"Use of Time Lines"]
[null,"Use of NA Trick"]

{"sheet":"Monthly Prices","index":21,"n_rows":806,"n_cols":77,"rows_kept":806,"cut":false,"hidden":false,"merged":[]}
["World Bank Commodity Price Data (The Pink Sheet)"]
["monthly prices in nominal US dollars, 1960 to present"]
["(monthly series are available only in nominal US dollars)"]
["Updated on June 02, 2026"]
[null,null,null,null,{"$f":"E8","v":"Natural gas, US"},{"$f":"F8","v":"Liquefied natural gas, Japan"}]
[]
[null,null,null,null,7,9]
[null,null,"1990-01-01",null,{"$f":"INDEX(G8:BY8,$E$7)","v":"Natural gas, US"},{"$f":"INDEX(G8:BY8,$F$7)","v":"Liquefied natural gas, Japan"},"Crude oil, average","Crude oil, Brent","Crude oil, Dubai","Crude oil, WTI","Coal, Australian","Coal, South African **","Natural gas, US","Natural gas, Europe","Liquefied natural gas, Japan","Natural gas index","Cocoa","Coffee, Arabica","Coffee, Robusta","Tea, avg 3 auctions","Tea, Colombo","Tea, Kolkata","Tea, Mombasa","Coconut oil","Groundnuts","Fish meal","Groundnut oil **","Palm oil","Palm kernel oil","Soybeans","Soybean oil","Soybean meal","Rapeseed oil","Sunflower oil","Barley","Maize","Sorghum","Rice, Thai 5% ","Rice, Thai 25% ","Rice, Thai A.1","Rice, Viet Namese 5%","Wheat, US SRW","Wheat, US HRW","Banana, Europe","Banana, US","Orange","Beef **","Chicken **","Lamb **","Shrimps, Mexican","Sugar, EU","Sugar, US","Sugar, world","Tobacco, US import u.v.","Logs, Cameroon","Logs, Malaysian","Sawnwood, Cameroon","Sawnwood, Malaysian","Plywood","Cotton, A Index","Rubber, TSR20 **","Rubber, RSS3","Phosphate rock","DAP","TSP","Urea ","Potassium chloride **","Aluminum","Iron ore, cfr spot","Copper","Lead","Tin","Nickel","Zinc","Gold","Platinum","Silver"]
[null,null,null,null,{"$f":"INDEX(G9:BY9,$E$7)","v":"($/mmbtu)"},{"$f":"INDEX(G9:BY9,$F$7)","v":"($/mmbtu)"},"($/bbl)","($/bbl)","($/bbl)","($/bbl)","($/mt)","($/mt)","($/mmbtu)","($/mmbtu)","($/mmbtu)","(2010=100)","($/kg)","($/kg)","($/kg)","($/kg)","($/kg)","($/kg)","($/kg)","($/mt)","($/mt)","($/mt)","($/mt)","($/mt)","($/mt)","($/mt)","($/mt)","($/mt)","($/mt)","($/mt)","($/mt)","($/mt)","($/mt)","($/mt)","($/mt)","($/mt)","($/mt)","($/mt)","($/mt)","($/kg)","($/kg)","($/kg)","($/kg)","($/kg)","($/kg)","($/kg)","($/kg)","($/kg)","($/kg)","($/mt)","($/cubic meter)","($/cubic meter)","($/cubic meter)","($/cubic meter)","(cents/sheet)","($/kg)","($/kg)","($/kg)","($/mt)","($/mt)","($/mt)","($/mt)","($/mt)","($/mt)","($/dmtu)","($/mt)","($/mt)","($/mt)","($/mt)","($/mt)","($/troy oz)","($/troy oz)","($/troy oz)"]
["1960M01","1960-01-01",{"$f":"B10>$C$8","v":false},{"$f":"IF(C10,B10,NA())","v":{"$error":"#N/A"}},{"$f":"INDEX(G10:BY10,$E$7)","v":0.14000000000000001},{"$f":"INDEX(G10:BY10,$F$7)","v":"…"},1.63,1.63,1.63,"…","…","…",0.14000000000000001,0.4,"…","…",0.63,0.94,0.7,1.03,0.93,1.1200000000000001,1.04,390,"…","…",334,233,"…",94,204,91.9,"…","…",20.36,45,39,104.45,"…","…","…","…",59.89,"…",0.14000000000000001,0.12,0.71,0.3,"…",1.43,0.12,0.12,7.0000000000000007E-2,1736.87,"…",31.94,"…",149.16999999999999,"…",0.65,"…",0.82,13,"...",53,42.25,28.5,511.47,11.42,715.4,206.1,2180.4,1631,260.8,35.270000000000003,83.5,0.91]
["1960M02",{"$f":"EDATE(B10,1)","v":"1960-02-01"},{"$f":"B11>$C$8","v":false},{"$f":"IF(C11,B11,NA())","v":{"$error":"#N/A"}},{"$f":"INDEX(G11:BY11,$E$7)","v":0.14000000000000001},{"$f":"INDEX(G11:BY11,$F$7)","v":"…"},1.63,1.63,1.63,"…","…","…",0.14000000000000001,0.4,"…","…",0.61,0.95,0.69,1.03,0.93,1.1200000000000001,1.04,379,"…","…",341,229,"…",91,201,86.7,"…","…",20.41,44,39,103.54,"…","…","…","…",60.99,"…",0.14000000000000001,0.11,0.71,0.3,"…",1.5,0.12,0.12,7.0000000000000007E-2,1736.87,"…",31.94,"…",149.16999999999999,"…",0.65,"…",0.83,13,"...",53,42.25,28.5,511.47,11.42,728.19,203.7,2180.4,1631,244.9,35.270000000000003,83.5,0.91]
["1960M03","1960-03-01",false,{"$error":"#N/A"},{"$f":"INDEX(G12:BY12,$E$7)","v":0.14000000000000001},{"$f":"INDEX(G12:BY12,$F$7)","v":"…"},1.63,1.63,1.63,"…","…","…",0.14000000000000001,0.4,"…","…",0.57999999999999996,0.93,0.69,1.03,0.93,1.1200000000000001,1.04,361,"…","…",338,225,"…",92,201,84.1,"…","…",20.72,45,35,103.79,"…","…","…","…",61.73,"…",0.14000000000000001,0.13,0.77,0.3,"…",1.5,0.12,0.12,7.0000000000000007E-2,1736.87,"…",31.94,"…",149.16999999999999,"…",0.65,"…",0.86,13,"...",53,42.25,28.5,511.47,11.42,684.94,210.3,2173.8000000000002,1631,248.7,35.270000000000003,83.5,0.91]
["1960M04","1960-04-01",false,{"$error":"#N/A"},{"$f":"INDEX(G13:BY13,$E$7)","v":0.14000000000000001},{"$f":"INDEX(G13:BY13,$F$7)","v":"…"},1.63,1.63,1.63,"…","…","…",0.14000000000000001,0.4,"…","…",0.6,0.93,0.68,1.03,0.93,1.1200000000000001,1.04,338,"…","…",333,225,"…",93,207,86.7,"…","…",20.64,45,35,100.97,"…","…","…","…",60.99,"…",0.14000000000000001,0.14000000000000001,0.84,0.3,"…",1.68,0.12,0.12,7.0000000000000007E-2,1736.87,"…",31.94,"…",149.16999999999999,"…",0.64,"…",0.86,13,"...",53,42.25,28.5,511.47,11.42,723.11,213.6,2178.1999999999998,1631,254.6,35.270000000000003,83.5,0.91]
["1960M05","1960-05-01",false,{"$error":"#N/A"},{"$f":"INDEX(G14:BY14,$E$7)","v":0.14000000000000001},{"$f":"INDEX(G14:BY14,$F$7)","v":"…"},1.63,1.63,1.63,"…","…","…",0.14000000000000001,0.4,"…","…",0.6,0.92,0.69,1.03,0.93,1.1200000000000001,1.04,321,"…","…",335,225,"…",93,209,81.5,"…","…",20.61,48,35,102.15,"…","…","…","…",57.69,"…",0.15,0.14000000000000001,0.76,0.3,"…",1.76,0.12,0.12,7.0000000000000007E-2,1736.87,"…",31.94,"…",149.16999999999999,"…",0.65,"…",0.93,13,"...",53,42.25,28.5,511.47,11.42,684.75,213.4,2162.6999999999998,1631,253.8,35.270000000000003,83.5,0.91]
["1960M06","1960-06-01",false,{"$error":"#N/A"},{"$f":"INDEX(G15:BY15,$E$7)","v":0.14000000000000001},{"$f":"INDEX(G15:BY15,$F$7)","v":"…"},1.63,1.63,1.63,"…","…","…",0.14000000000000001,0.4,"…","…",0.59,0.91,0.7,1.03,0.93,1.1200000000000001,1.04,287,"…","…",334,219,"…",91,218,80.3,"…","…",20.13,47,36,103.13,"…","…","…","…",55.48,"…",0.15,0.14000000000000001,0.71,0.3,"…",1.76,0.12,0.13,7.0000000000000007E-2,1736.87,"…",31.94,"…",149.16999999999999,"…",0.66,"…",0.89,13,"...",53,42.25,28.5,511.47,11.42,691.59,202.4,2184.8000000000002,1631,249.8,35.270000000000003,83.5,0.91]
["1960M07","1960-07-01",false,{"$error":"#N/A"},{"$f":"INDEX(G16:BY16,$E$7)","v":0.14000000000000001},{"$f":"INDEX(G16:BY16,$F$7)","v":"…"},1.63,1.63,1.63,"…","…","…",0.14000000000000001,0.4,"…","…",0.6,0.92,0.69,1.03,0.93,1.1200000000000001,1.04,298,"…","…",336,221,"…",92,224,77.7,"…","…",20.04,47,39.9,102.05,"…","…","…","…",54.75,"…",0.15,0.13,0.75,0.3,"…",1.74,0.12,0.13,7.0000000000000007E-2,1736.87,"…",31.94,"…",149.16999999999999,"…",0.66,"…",0.79,13,"...",53,42.25,28.5,511.47,11.42,702.39,196.2,2248.6999999999998,1631,248.7,35.270000000000003,83.5,0.91]
["1960M08","1960-08-01",false,{"$error":"#N/A"},{"$f":"INDEX(G17:BY17,$E$7)","v":0.14000000000000001},{"$f":"INDEX(G17:BY17,$F$7)","v":"…"},1.63,1.63,1.63,"…","…","…",0.14000000000000001,0.4,"…","…",0.59,0.93,0.7,1.03,0.93,1.1200000000000001,1.04,292,"…","…",336,225,"…",93,237,77.7,"…","…",20.13,47,39,109.71,"…","…","…","…",55.12,"…",0.13,0.13,0.78,0.3,"…",1.59,0.12,0.13,7.0000000000000007E-2,1736.87,"…",31.94,"…",149.16999999999999,"…",0.65,"…",0.72,13,"...",53,42.25,28.5,511.47,11.42,675.94,195.3,2204.6,1631,241,35.270000000000003,83.5,0.91]
["1960M09","1960-09-01",false,{"$error":"#N/A"},{"$f":"INDEX(G18:BY18,$E$7)","v":0.14000000000000001},{"$f":"INDEX(G18:BY18,$F$7)","v":"…"},1.63,1.63,1.63,"…","…","…",0.14000000000000001,0.4,"…","…",0.57999999999999996,0.92,0.7,1.03,0.93,1.1200000000000001,1.04,276,"…","…",323,224,"…",92,231,82.8,"…","…",20.260000000000002,46,35,116.1,"…","…","…","…",56.59,"…",0.14000000000000001,0.13,0.81,0.3,"…",1.52,0.12,0.13,7.0000000000000007E-2,1736.87,"…",31.94,"…",149.16999999999999,"…",0.66,"…",0.73,13,"...",53,42.25,28.5,511.47,11.42,647.05999999999995,192.7,2226.6999999999998,1631,240.1,35.270000000000003,83.5,0.91]
["1960M10","1960-10-01",false,{"$error":"#N/A"},{"$f":"INDEX(G19:BY19,$E$7)","v":0.14000000000000001},{"$f":"INDEX(G19:BY19,$F$7)","v":"…"},1.63,1.63,1.63,"…","…","…",0.14000000000000001,0.4,"…","…",0.59,0.92,0.71,1.03,0.93,1.1200000000000001,1.04,280,"…","…",310,222,"…",88,237,75.099999999999994,"…","…",19.72,42,35,115.21,"…","…","…","…",56.95,"…",0.15,0.13,0.71,0.3,"…",1.63,0.12,0.13,0.05,1736.87,"…",31.94,"…",149.16999999999999,"…",0.67,"…",0.69,13,"...",53,42.25,28.5,511.47,11.42,612.66,185.2,2226.6999999999998,1631,242.3,35.270000000000003,83.5,0.91]
["1960M11","1960-11-01",false,{"$error":"#N/A"},{"$f":"INDEX(G20:BY20,$E$7)","v":0.14000000000000001},{"$f":"INDEX(G20:BY20,$F$7)","v":"…"},1.63,1.63,1.63,"…","…","…",0.14000000000000001,0.4,"…","…",0.56999999999999995,0.91,0.71,1.03,0.93,1.1200000000000001,1.04,274,"…","…",303,222,"…",90,259,68.599999999999994,"…","…",19.2,38,35,114.43,"…","…","…","…",57.69,"…",0.13,0.15,0.63,0.3,"…",1.63,0.12,0.13,0.05,1736.87,"…",31.94,"…",149.16999999999999,"…",0.67,"…",0.63,13,"...",53,42.25,28.5,511.47,11.42,642.13,188.1,2204.6,1631,241.4,35.270000000000003,83.5,0.91]
["1960M12","1960-12-01",false,{"$error":"#N/A"},{"$f":"INDEX(G21:BY21,$E$7)","v":0.14000000000000001},{"$f":"INDEX(G21:BY21,$F$7)","v":"…"},1.63,1.63,1.63,"…","…","…",0.14000000000000001,0.4,"…","…",0.52,0.9,0.7,1.03,0.93,1.1200000000000001,1.04,252,"…","…",301,223,"…",93,259,79,"…","…",19.63,40,36,112.66,"…","…","…","…",58.05,"…",0.15,0.12,0.67,0.3,"…",1.52,0.12,0.13,0.06,1736.87,"…",31.94,"…",149.16999999999999,"…",0.66,"…",0.62,13,"...",53,42.25,28.5,511.47,11.42,636.91,179.2,2189.1999999999998,1631,228.2,35.270000000000003,83.5,0.91]
["1961M01","1961-01-01",false,{"$error":"#N/A"},{"$f":"INDEX(G22:BY22,$E$7)","v":0.15},{"$f":"INDEX(G22:BY22,$F$7)","v":"…"},1.57,1.57,1.57,"…","…","…",0.15,0.4,"…","…",0.49,0.91,0.68,0.95,0.89,0.98,0.98,269,"…","…",331,223,"…",102,278,85.4,"…","…",20.28,43,38,113.47,"…","…","…","…",58.79,"…",0.13,0.11,0.64,0.31,"…",1.52,0.12,0.13,0.06,1563.19,"…",33.06,"…",151.97999999999999,"…",0.66,"…",0.6,13,"...",52,42.25,30,511.47,11.02,606.71,175.9,2162.6999999999998,1711,218,35.25,83.5,0.91]
["1961M02","1961-02-01",false,{"$error":"#N/A"},{"$f":"INDEX(G23:BY23,$E$7)","v":0.15},{"$f":"INDEX(G23:BY23,$F$7)","v":"…"},1.57,1.57,1.57,"…","…","…",0.15,0.4,"…","…",0.49,0.92,0.68,0.95,0.89,0.98,0.98,281,"…","…",349,228,"…",114,303,94.6,"…","…",20.53,44,39,109.52,"…","…","…","…",59.16,"…",0.13,0.11,0.64,0.31,"…",1.54,0.12,0.13,0.06,1563.19,"…",33.06,"…",151.97999999999999,"…",0.68,"…",0.57999999999999996,13,"...",52,42.25,30,511.47,11.02,616.63,179.9,2187,1711,228.2,35.25,83.5,0.91]
["1961M03","1961-03-01",false,{"$error":"#N/A"},{"$f":"INDEX(G24:BY24,$E$7)","v":0.15},{"$f":"INDEX(G24:BY24,$F$7)","v":"…"},1.57,1.57,1.57,"…","…","…",0.15,0.4,"…","…",0.46,0.91,0.67,0.95,0.89,0.98,0.98,276,"…","…",373,231,"…",121,311,98.5,"…","…",20.39,44,39,117.65,"…","…","…","…",58.05,"…",0.14000000000000001,0.12,0.78,0.31,"…",1.52,0.12,0.12,0.06,1563.19,"…",33.06,"…",151.97999999999999,"…",0.67,"…",0.62,13,"...",52,42.25,30,511.47,11.02,621.26,181.7,2248.6999999999998,1711,233.2,35.25,83.5,0.91]
["1961M04","1961-04-01",false,{"$error":"#N/A"},{"$f":"INDEX(G25:BY25,$E$7)","v":0.15},{"$f":"INDEX(G25:BY25,$F$7)","v":"…"},1.57,1.57,1.57,"…","…","…",0.15,0.4,"…","…",0.44,0.9,0.66,0.95,0.89,0.98,0.98,269,"…","…",369,233,"…",129,322,110.7,"…","…",20.14,43,38,115.17,"…","…","…","…",57.32,"…",0.14000000000000001,0.13,0.71,0.31,"…",1.52,0.12,0.12,7.0000000000000007E-2,1563.19,"…",33.06,"…",151.97999999999999,"…",0.67,"…",0.64,13,"...",52,42.25,30,511.47,11.02,631.84,185,2308.1999999999998,1711,231.3,35.25,83.5,0.91]
["1961M05","1961-05-01",false,{"$error":"#N/A"},{"$f":"INDEX(G26:BY26,$E$7)","v":0.15},{"$f":"INDEX(G26:BY26,$F$7)","v":"…"},1.57,1.57,1.57,"…","…","…",0.15,0.4,"…","…",0.48,0.89,0.66,0.95,0.89,0.98,0.98,258,"…","…",352,234,"…",122,314,109.1,"…","…",20.25,45,42,119.42,"…","…","…","…",55.85,"…",0.13,0.13,0.64,0.31,"…",1.5,0.12,0.13,7.0000000000000007E-2,1563.19,"…",33.06,"…",151.97999999999999,"…",0.68,"…",0.64,13,"...",52,42.25,30,511.47,11.02,668.44,183.6,2376.6,1711,227.1,35.25,83.5,0.91]
["1961M06","1961-06-01",false,{"$error":"#N/A"},{"$f":"INDEX(G27:BY27,$E$7)","v":0.15},{"$f":"INDEX(G27:BY27,$F$7)","v":"…"},1.57,1.57,1.57,"…","…","…",0.15,0.4,"…","…",0.49,0.89,0.67,0.95,0.89,0.98,0.98,243,"…","…",330,233,"…",114,295,98.5,"…","…",19.88,44,45,121.4,"…","…","…","…",54.38,"…",0.12,0.19,0.68,0.31,"…",1.52,0.12,0.13,7.0000000000000007E-2,1563.19,"…",33.06,"…",151.97999999999999,"…",0.68,"…",0.61,13,"...",52,42.25,30,511.47,11.02,652.12,178.4,2467,1711,217.8,35.25,83.5,0.91]
["1961M07","1961-07-01",false,{"$error":"#N/A"},{"$f":"INDEX(G28:BY28,$E$7)","v":0.15},{"$f":"INDEX(G28:BY28,$F$7)","v":"…"},1.57,1.57,1.57,"…","…","…",0.15,0.4,"…","…",0.48,0.89,0.67,0.95,0.89,0.98,0.98,245,"…","…",328,229,"…",112,282,99.9,"…","…",20.440000000000001,45,45,123.41,"…","…","…","…",56.59,"…",0.13,0.13,0.67,0.31,"…",1.57,0.12,0.13,0.06,1563.19,"…",33.06,"…",151.97999999999999,"…",0.68,"…",0.61,13,"...",52,42.25,30,511.47,11.02,633.39,178.8,2519.9,1711,214.7,35.25,83.5,0.91]
["1961M08","1961-08-01",false,{"$error":"#N/A"},{"$f":"INDEX(G29:BY29,$E$7)","v":0.15},{"$f":"INDEX(G29:BY29,$F$7)","v":"…"},1.57,1.57,1.57,"…","…","…",0.15,0.4,"…","…",0.48,0.89,0.67,0.95,0.89,0.98,0.98,248,"…","…",321,226,"…",101,276,102.5,"…","…",20.68,44,44,119.63,"…","…","…","…",58.79,"…",0.13,0.13,0.69,0.31,"…",1.81,0.12,0.12,0.05,1563.19,"…",33.06,"…",151.97999999999999,"…",0.67,"…",0.62,13,"...",52,42.25,30,511.47,11.02,636.47,178.4,2605.9,1711,210.8,35.25,83.5,0.91]
["1961M09","1961-09-01",false,{"$error":"#N/A"},{"$f":"INDEX(G30:BY30,$E$7)","v":0.15},{"$f":"INDEX(G30:BY30,$F$7)","v":"…"},1.57,1.57,1.57,"…","…","…",0.15,0.4,"…","…",0.47,0.89,0.67,0.95,0.89,0.98,0.98,243,"…","…",301,226,"…",98,267,92,"…","…",20.72,43,45,118.99,"…","…","…","…",59.89,"…",0.15,0.13,0.71,0.31,"…",1.9,0.12,0.12,0.05,1563.19,"…",33.06,"…",151.97999999999999,"…",0.67,"…",0.62,13,"...",52,42.25,30,511.47,11.02,632.72,176.4,2630.1,1711,203.7,35.25,83.5,0.91]
["1961M10","1961-10-01",false,{"$error":"#N/A"},{"$f":"INDEX(G31:BY31,$E$7)","v":0.15},{"$f":"INDEX(G31:BY31,$F$7)","v":"…"},1.57,1.57,1.57,"…","…","…",0.15,0.4,"…","…",0.46,0.89,0.67,0.95,0.89,0.98,0.98,236,"…","…",293,226,"…",98,270,86.7,"…","…",21.57,47.64,40,120.32,"…","…","…","…",60.26,"…",0.13,0.13,0.67,0.31,"…",1.94,0.12,0.12,0.05,1563.19,"…",33.06,"…",151.97999999999999,"…",0.68,"…",0.59,13,"...",52,42.25,30,511.47,11.02,630.29999999999995,172.5,2605.9,1711,198.2,35.25,83.5,0.91]
["1961M11","1961-11-01",false,{"$error":"#N/A"},{"$f":"INDEX(G32:BY32,$E$7)","v":0.15},{"$f":"INDEX(G32:BY32,$F$7)","v":"…"},1.57,1.57,1.57,"…","…","…",0.15,0.4,"…","…",0.48,0.88,0.67,0.95,0.89,0.98,0.98,236,"…","…",297,226,"…",100,265,92,"…","…",21.97,48.42,41,128.32,"…","…","…","…",61.73,"…",0.15,0.16,0.64,0.32,"…",1.96,0.12,0.13,0.05,1563.19,"…",33.06,"…",151.97999999999999,"…",0.66,"…",0.54,13,"...",52,42.25,30,511.47,11.02,632.28,166.4,2667.6,1711,191.8,35.25,83.5,0.92]
["1961M12","1961-12-01",false,{"$error":"#N/A"},{"$f":"INDEX(G33:BY33,$E$7)","v":0.15},{"$f":"INDEX(G33:BY33,$F$7)","v":"…"},1.57,1.57,1.57,"…","…","…",0.15,0.4,"…","…",0.54,0.88,0.67,0.95,0.89,0.98,0.98,237,"…","…",319,226,"…",101,265,93,"…","…",22.12,48.42,41,120.1,"…","…","…","…",62.46,"…",0.14000000000000001,0.11,0.72,0.32,"…",2.0299999999999998,0.12,0.13,0.05,1563.19,"…",33.06,"…",151.97999999999999,"…",0.66,"…",0.56000000000000005,13,"...",52,42.25,30,511.47,11.02,634.85,166.7,2619.1,1711,196.9,35.25,83.5,1.03]
["1962M01","1962-01-01",false,{"$error":"#N/A"},{"$f":"INDEX(G34:BY34,$E$7)","v":0.16},{"$f":"INDEX(G34:BY34,$F$7)","v":"…"},1.52,1.52,1.52,"…","…","…",0.16,0.4,"…","…",0.46,0.88,0.67,0.97,0.86,1.1000000000000001,0.95,246.9,"…","…",327.94,235.89,"…",101.41,265,80.2,"…","…",21.8,48.03,44.53,117.79,"…","…","…","…",60.63,"…",0.13,0.1,0.76,0.32,"…",2.0299999999999998,0.13,0.13,0.05,1404.9,"…",36.39,"…",160.06,"…",0.66,"…",0.57999999999999996,11.5,"...",51,42.25,30,511.47,11.01,635.37,162.9,2610.3000000000002,1761,193.6,35.229999999999997,83.5,1.04]
["1962M02","1962-02-01",false,{"$error":"#N/A"},{"$f":"INDEX(G35:BY35,$E$7)","v":0.16},{"$f":"INDEX(G35:BY35,$F$7)","v":"…"},1.52,1.52,1.52,"…","…","…",0.16,0.4,"…","…",0.49,0.88,0.67,0.97,0.86,1.1000000000000001,0.95,248.6,"…","…",299.27999999999997,237,"…",100.59,259,77.900000000000006,"…","…",21.95,48.03,44.53,119.18,"…","…","…","…",61.36,"…",0.14000000000000001,0.1,0.76,0.32,"…",2.0699999999999998,0.13,0.13,0.05,1404.9,"…",36.39,"…",160.06,"…",0.66,"…",0.6,11.5,"...",51,42.25,30,504.86,11.01,647.94000000000005,161.9,2623.5,1761,189.6,35.229999999999997,83.5,1.02]
["1962M03","1962-03-01",false,{"$error":"#N/A"},{"$f":"INDEX(G36:BY36,$E$7)","v":0.16},{"$f":"INDEX(G36:BY36,$F$7)","v":"…"},1.52,1.52,1.52,"…","…","…",0.16,0.4,"…","…",0.44,0.86,0.67,0.97,0.86,1.1000000000000001,0.95,250.8,"…","…",290.73,223.22,"…",102.79,256,82.5,"…","…",22.18,48.82,45.64,123.75,"…","…","…","…",61.73,"…",0.15,0.11,0.71,0.32,"…",2.0699999999999998,0.13,0.13,0.06,1404.9,"…",36.39,"…",160.06,"…",0.66,"…",0.57999999999999996,11.5,"...",51,42.25,30,496.04,11.01,647.5,167.1,2652.2,1761,191.4,35.229999999999997,83.5,1.02]
["1962M04","1962-04-01",false,{"$error":"#N/A"},{"$f":"INDEX(G37:BY37,$E$7)","v":0.16},{"$f":"INDEX(G37:BY37,$F$7)","v":"…"},1.52,1.52,1.52,"…","…","…",0.16,0.4,"…","…",0.46,0.85,0.67,0.97,0.86,1.1000000000000001,0.95,260.7,"…","…",281.64,220.46,"…",104.44,254,83.7,"…","…",22.27,48.82,46.52,130.84,"…","…","…","…",62.1,"…",0.15,0.1,0.65,0.32,"…",2.09,0.13,0.13,0.06,1404.9,"…",36.39,"…",160.06,"…",0.66,"…",0.56999999999999995,11.5,"...",51,42.25,30,496.04,11.01,645.95000000000005,166.7,2614.6999999999998,1761,191.4,35.229999999999997,83.5,1.02]
["1962M05","1962-05-01",false,{"$error":"#N/A"},{"$f":"INDEX(G38:BY38,$E$7)","v":0.16},{"$f":"INDEX(G38:BY38,$F$7)","v":"…"},1.52,1.52,1.52,"…","…","…",0.16,0.4,"…","…",0.47,0.83,0.67,0.97,0.86,1.1000000000000001,0.95,253.3,"…","…",270.33999999999997,219.08,"…",103.62,234,85.9,"…","…",22.68,49.6,47.18,149.13999999999999,"…","…","…","…",63.57,"…",0.14000000000000001,0.1,0.73,0.32,"…",2.16,0.13,0.13,0.06,1404.9,"…",36.39,"…",160.06,"…",0.66,"…",0.56000000000000005,11.5,"...",51,42.25,30,496.04,11.01,645.73,164.9,2533.1,1761,188.5,35.229999999999997,83.5,1.02]
["1962M06","1962-06-01",false,{"$error":"#N/A"},{"$f":"INDEX(G39:BY39,$E$7)","v":0.16},{"$f":"INDEX(G39:BY39,$F$7)","v":"…"},1.52,1.52,1.52,"…","…","…",0.16,0.4,"…","…",0.47,0.8,0.67,0.97,0.86,1.1000000000000001,0.95,239.5,"…","…",264.58999999999997,216.33,"…",102.24,215,89.4,"…","…",22.83,49.6,47.18,144.11000000000001,"…","…","…","…",64.3,"…",0.12,0.1,0.79,0.32,"…",2.27,0.13,0.13,0.06,1404.9,"…",36.39,"…",160.06,"…",0.66,"…",0.54,11.5,"...",51,42.25,30,496.04,11.01,645.51,159,2414.1,1761,184.7,35.229999999999997,83.5,1.02]
["1962M07","1962-07-01",false,{"$error":"#N/A"},{"$f":"INDEX(G40:BY40,$E$7)","v":0.16},{"$f":"INDEX(G40:BY40,$F$7)","v":"…"},1.52,1.52,1.52,"…","…","…",0.16,0.4,"…","…",0.46,0.81,0.68,0.97,0.86,1.1000000000000001,0.95,240.3,"…","…",266.76,212.75,"…",100.86,198,91.7,"…","…",22.92,48.82,44.34,144.22,"…","…","…","…",65.400000000000006,"…",0.12,0.11,0.76,0.32,"…",2.27,0.13,0.13,0.06,1404.9,"…",36.39,"…",160.06,"…",0.65,"…",0.55000000000000004,11.5,"...",51,42.25,30,496.04,11.01,645.51,148.4,2376.6,1761,182.1,35.229999999999997,83.5,1.04]
["1962M08","1962-08-01",false,{"$error":"#N/A"},{"$f":"INDEX(G41:BY41,$E$7)","v":0.16},{"$f":"INDEX(G41:BY41,$F$7)","v":"…"},1.52,1.52,1.52,"…","…","…",0.16,0.4,"…","…",0.46,0.82,0.68,0.97,0.86,1.1000000000000001,0.95,244.7,"…","…",265.10000000000002,209.16,"…",95.35,198,94,"…","…",22.88,47.24,42.55,142.91999999999999,"…","…","…","…",66.510000000000005,"…",0.12,0.11,0.75,0.32,"…",2.38,0.13,0.13,0.06,1404.9,"…",36.39,"…",160.06,"…",0.64,"…",0.53,11.5,"...",51,42.25,30,496.04,11.01,645.51,140.69999999999999,2350.1,1761,178.1,35.229999999999997,83.5,1.08]
["1962M09","1962-09-01",false,{"$error":"#N/A"},{"$f":"INDEX(G42:BY42,$E$7)","v":0.16},{"$f":"INDEX(G42:BY42,$F$7)","v":"…"},1.52,1.52,1.52,"…","…","…",0.16,0.4,"…","…",0.45,0.83,0.69,0.97,0.86,1.1000000000000001,0.95,246.6,"…","…",268.69,205.3,"…",95.35,198,102,"…","…",22.86,47.64,42.55,140.63999999999999,"…","…","…","…",65.77,"…",0.12,0.11,0.8,0.32,"…",2.54,0.13,0.13,0.06,1404.9,"…",36.39,"…",160.06,"…",0.63,"…",0.54,11.5,"...",51,42.25,30,496.04,11.01,645.51,143.1,2350.1,1761,176.6,35.229999999999997,83.5,1.1499999999999999]
["1962M10","1962-10-01",false,{"$error":"#N/A"},{"$f":"INDEX(G43:BY43,$E$7)","v":0.16},{"$f":"INDEX(G43:BY43,$F$7)","v":"…"},1.52,1.52,1.52,"…","…","…",0.16,0.4,"…","…",0.44,0.81,0.69,0.97,0.86,1.1000000000000001,0.95,253.5,"…","…",251.6,196.76,"…",97,212,92.8,"…","…",22.67,47.64,42.77,142.94999999999999,"…","…","…","…",64.3,"…",0.12,0.11,0.68,0.32,"…",2.4900000000000002,0.13,0.13,7.0000000000000007E-2,1404.9,"…",36.39,"…",160.06,"…",0.63,"…",0.56999999999999995,11.5,"...",51,42.25,30,496.04,11.01,645.95000000000005,146.19999999999999,2358.9,1761,181.9,35.229999999999997,83.5,1.21]
["1962M11","1962-11-01",false,{"$error":"#N/A"},{"$f":"INDEX(G44:BY44,$E$7)","v":0.16},{"$f":"INDEX(G44:BY44,$F$7)","v":"…"},1.52,1.52,1.52,"…","…","…",0.16,0.4,"…","…",0.44,0.81,0.69,0.97,0.86,1.1000000000000001,0.95,257.39999999999998,"…","…",251.05,208.06,"…",100.59,220,94,"…","…",23.54,48.42,43.43,142.5,"…","…","…","…",68.709999999999994,"…",0.15,0.14000000000000001,0.59,0.32,"…",2.38,0.13,0.13,0.08,1404.9,"…",36.39,"…",160.06,"…",0.63,"…",0.57999999999999996,11.5,"...",51,42.25,30,496.04,11.01,645.51,149.69999999999999,2407.4,1761,188.5,35.229999999999997,83.5,1.19]
["1962M12","1962-12-01",false,{"$error":"#N/A"},{"$f":"INDEX(G45:BY45,$E$7)","v":0.16},{"$f":"INDEX(G45:BY45,$F$7)","v":"…"},1.52,1.52,1.52,"…","…","…",0.16,0.4,"…","…",0.45,0.82,0.72,0.97,0.86,1.1000000000000001,0.95,272.3,"…","…",254.36,210.82,"…",102.24,215,94,"…","…",23.86,51.18,45.19,121.07,"…","…","…","…",67.61,"…",0.13,0.1,0.6,0.32,"…",2.27,0.13,0.13,0.09,1404.9,"…",36.39,"…",160.06,"…",0.65,"…",0.57999999999999996,11.5,"...",51,42.25,30,496.04,11.01,645.73,152.80000000000001,2365.6,1761,184.7,35.229999999999997,83.5,1.2]
["1963M01","1963-01-01",false,{"$error":"#N/A"},{"$f":"INDEX(G46:BY46,$E$7)","v":0.16},{"$f":"INDEX(G46:BY46,$F$7)","v":"…"},1.5,1.5,1.5,"…","…","…",0.16,0.39,"…","…",0.5,0.83,0.65,0.95,0.81,1.08,0.96,278.89999999999998,"…","…",261.25,217.71,"…",107.47,223,92.3,"…","…",24.08,52.75,46.52,121.77,"…","…","…","…",67.239999999999995,"…",0.13,0.08,0.56999999999999995,0.32,"…",2.29,0.13,0.13,0.12,1343.61,"…",36.67,"…",160.72,"…",0.66,"…",0.56999999999999995,11.5,"...",52,42.25,30,496.04,11.02,645.51,149.4,2350.1,1741,186.3,35.090000000000003,83.5,1.24]
["1963M02","1963-02-01",false,{"$error":"#N/A"},{"$f":"INDEX(G47:BY47,$E$7)","v":0.16},{"$f":"INDEX(G47:BY47,$F$7)","v":"…"},1.5,1.5,1.5,"…","…","…",0.16,0.39,"…","…",0.54,0.8,0.61,0.95,0.81,1.08,0.96,272.5,"…","…",264.83,217.71,"…",109.96,231,92.3,"…","…",24.37,53.15,47.18,123.35,"…","…","…","…",68.34,"…",0.13,0.08,0.56000000000000005,0.32,"…",2.29,0.13,0.14000000000000001,0.13,1343.61,"…",36.67,"…",160.72,"…",0.65,"…",0.56000000000000005,11.5,"...",52,42.25,30,496.04,11.02,645.51,150.6,2350.1,1742,191.6,35.090000000000003,83.5,1.26]
["1963M03","1963-03-01",false,{"$error":"#N/A"},{"$f":"INDEX(G48:BY48,$E$7)","v":0.16},{"$f":"INDEX(G48:BY48,$F$7)","v":"…"},1.5,1.5,1.5,"…","…","…",0.16,0.39,"…","…",0.53,0.81,0.62,0.95,0.81,1.08,0.96,272.5,"…","…",264.27999999999997,217.71,"…",109.13,229,90.1,"…","…",24.46,52.36,47.18,123.28,"…","…","…","…",69.45,"…",0.13,0.08,0.56000000000000005,0.32,"…",2.29,0.13,0.14000000000000001,0.14000000000000001,1343.61,"…",36.94,"…",161.36000000000001,"…",0.65,"…",0.54,11.5,"...",52,42.25,30,496.04,11.02,645.51,153.69999999999999,2358.9,1742,197.5,35.090000000000003,83.5,1.27]
["1963M04","1963-04-01",false,{"$error":"#N/A"},{"$f":"INDEX(G49:BY49,$E$7)","v":0.16},{"$f":"INDEX(G49:BY49,$F$7)","v":"…"},1.5,1.5,1.5,"…","…","…",0.16,0.39,"…","…",0.56000000000000005,0.81,0.62,0.95,0.81,1.08,0.96,278.3,"…","…",261.52,217.71,"…",107.2,229,86.8,"…","…",24.68,51.97,46.3,122.38,"…","…","…","…",70.92,"…",0.13,0.1,0.65,0.33,"…",2.29,0.13,0.16,0.16,1343.61,"…",36.94,"…",161.36000000000001,"…",0.64,"…",0.55000000000000004,11.5,"...",52,42.25,30,496.04,11.02,645.73,159.4,2427.3000000000002,1741,204.4,35.090000000000003,78.5,1.27]
["1963M05","1963-05-01",false,{"$error":"#N/A"},{"$f":"INDEX(G50:BY50,$E$7)","v":0.16},{"$f":"INDEX(G50:BY50,$F$7)","v":"…"},1.5,1.5,1.5,"…","…","…",0.16,0.39,"…","…",0.61,0.8,0.61,0.95,0.81,1.08,0.96,279.7,"…","…",268.69,217.71,"…",109.13,231,86.8,"…","…",24.24,52.36,46.52,123.17,"…","…","…","…",67.61,"…",0.13,0.11,0.69,0.33,"…",2.23,0.13,0.22,0.22,1343.61,"…",37.78,"…",163.33000000000001,"…",0.64,"…",0.54,11.5,"...",52,42.25,30,496.04,11.02,645.51,167.1,2495.6,1742,209.4,35.090000000000003,78.5,1.28]
["1963M06","1963-06-01",false,{"$error":"#N/A"},{"$f":"INDEX(G51:BY51,$E$7)","v":0.16},{"$f":"INDEX(G51:BY51,$F$7)","v":"…"},1.5,1.5,1.5,"…","…","…",0.16,0.39,"…","…",0.56000000000000005,0.8,0.61,0.95,0.81,1.08,0.96,282.5,"…","…",274.47000000000003,219.91,"…",108.3,231,90.1,"…","…",23.17,55.51,48.28,128.13,"…","…","…","…",58.42,"…",0.13,0.12,0.69,0.33,"…",2.2000000000000002,0.13,0.18,0.22,1343.61,"…",37.5,"…",162.68,"…",0.64,"…",0.53,11.5,"...",52,42.25,30,496.04,11.02,645.73,179,2500,1742,209.2,35.090000000000003,78.5,1.28]
["1963M07","1963-07-01",false,{"$error":"#N/A"},{"$f":"INDEX(G52:BY52,$E$7)","v":0.16},{"$f":"INDEX(G52:BY52,$F$7)","v":"…"},1.5,1.5,1.5,"…","…","…",0.16,0.39,"…","…",0.52,0.81,0.62,0.95,0.81,1.08,0.96,286.3,"…","…",274.47000000000003,221.84,"…",108.58,229,91,"…","…",23.25,56.69,48.38,130.63,"…","…","…","…",57.69,"…",0.13,0.09,0.76,0.33,"…",2.0299999999999998,0.13,0.16,0.2,1343.61,"…",36.11,"…",159.38999999999999,"…",0.64,"…",0.52,11.5,"...",52,42.25,30,496.04,11.02,645.51,179.5,2482.4,1741,204.8,35.090000000000003,78.5,1.29]
["1963M08","1963-08-01",false,{"$error":"#N/A"},{"$f":"INDEX(G53:BY53,$E$7)","v":0.16},{"$f":"INDEX(G53:BY53,$F$7)","v":"…"},1.5,1.5,1.5,"…","…","…",0.16,0.39,"…","…",0.52,0.8,0.61,0.95,0.81,1.08,0.96,291.8,"…","…",264.55,224.6,"…",105.82,207,91,"…","…",23.25,55.51,47.84,129.86000000000001,"…","…","…","…",58.42,"…",0.17,0.09,0.83,0.33,"…",1.72,0.13,0.13,0.14000000000000001,1343.61,"…",34.72,"…",156.05000000000001,"…",0.64,"…",0.49,11.5,"...",52,42.25,30,496.04,11.02,645.51,184.7,2495.6,1742,210.3,35.090000000000003,78.95,1.29]
["1963M09","1963-09-01",false,{"$error":"#N/A"},{"$f":"INDEX(G54:BY54,$E$7)","v":0.16},{"$f":"INDEX(G54:BY54,$F$7)","v":"…"},1.5,1.5,1.5,"…","…","…",0.16,0.39,"…","…",0.55000000000000004,0.8,0.62,0.95,0.81,1.08,0.96,297.60000000000002,"…","…",265.66000000000003,224.6,"…",108.58,204,91,"…","…",23.75,55.9,48.94,130.29,"…","…","…","…",60.63,"…",0.16,0.09,0.7,0.33,"…",1.68,0.13,0.15,0.16,1343.61,"…",33.89,"…",154.03,"…",0.65,"…",0.48,11.5,"...",52,42.25,30,496.04,11.02,645.51,187,2572.8000000000002,1742,211.2,35.090000000000003,80.75,1.29]
["1963M10","1963-10-01",false,{"$error":"#N/A"},{"$f":"INDEX(G55:BY55,$E$7)","v":0.16},{"$f":"INDEX(G55:BY55,$F$7)","v":"…"},1.5,1.5,1.5,"…","…","…",0.16,0.39,"…","…",0.57999999999999996,0.8,0.63,0.95,0.81,1.08,0.96,303.7,"…","…",275.58,227.35,"…",116.84,234,91,"…","…",24.14,53.15,48.98,128.72,"…","…","…","…",65.040000000000006,"…",0.18,0.09,0.67,0.33,"…",1.59,0.13,0.19,0.23,1343.61,"…",32.78,"…",151.28,"…",0.65,"…",0.5,11.5,"...",52,42.25,30,507.06,11.02,645.51,192,2590.4,1741,220.9,35.090000000000003,80.5,1.29]
["1963M11","1963-11-01",false,{"$error":"#N/A"},{"$f":"INDEX(G56:BY56,$E$7)","v":0.16},{"$f":"INDEX(G56:BY56,$F$7)","v":"…"},1.5,1.5,1.5,"…","…","…",0.16,0.39,"…","…",0.56999999999999995,0.81,0.63,0.95,0.81,1.08,0.96,303.39999999999998,"…","…",274.47000000000003,230.11,"…",116.02,223,91,"…","…",24.05,52.36,48.98,124.84,"…","…","…","…",65.040000000000006,"…",0.15,0.09,0.63,0.33,"…",1.65,0.13,0.19,0.25,1343.61,"…",32.5,"…",150.58000000000001,"…",0.64,"…",0.5,11.5,"...",52,42.25,30,507.06,11.02,645.73,190.5,2687.4,1742,231.5,35.090000000000003,82.97,1.29]
["1963M12","1963-12-01",false,{"$error":"#N/A"},{"$f":"INDEX(G57:BY57,$E$7)","v":0.16},{"$f":"INDEX(G57:BY57,$F$7)","v":"…"},1.5,1.5,1.5,"…","…","…",0.16,0.39,"…","…",0.56999999999999995,0.8,0.65,0.95,0.81,1.08,0.96,288.8,"…","…",272.27,231.76,"…",114.09,212,98.8,"…","…",24.28,53.54,48.98,121.54,"…","…","…","…",65.040000000000006,"…",0.16,0.08,0.69,0.33,"…",1.7,0.13,0.18,0.23,1343.61,"…",33.33,"…",152.65,"…",0.64,"…",0.47,11.5,"...",52,42.25,30,507.06,11.02,650.14,204.8,2782.2,1742,261,35.090000000000003,83.5,1.29]
["1964M01","1964-01-01",false,{"$error":"#N/A"},{"$f":"INDEX(G58:BY58,$E$7)","v":0.15},{"$f":"INDEX(G58:BY58,$F$7)","v":"…"},1.45,1.45,1.45,"…","…","…",0.15,0.38,"…","…",0.55000000000000004,0.93,0.7,0.93,0.82,1.04,0.92,286.89999999999998,"…","…",269.79000000000002,232.86,"…",116.84,215,98.8,"…","…",24.39,55.12,49.6,124.01,"…","…","…","…",64.040000000000006,"…",0.15,0.08,0.73,0.33,"…",1.76,0.13,0.19,0.23,1488.3,"…",32.78,"…",151.28,"…",0.66,"…",0.45,12.5,"...",53,60.5,32.5,507.06,10.24,655.65,217.6,2872.6,1741,264.10000000000002,35.1,88.27,1.29]
["1964M02","1964-02-01",false,{"$error":"#N/A"},{"$f":"INDEX(G59:BY59,$E$7)","v":0.15},{"$f":"INDEX(G59:BY59,$F$7)","v":"…"},1.45,1.45,1.45,"…","…","…",0.15,0.38,"…","…",0.51,0.94,0.72,0.93,0.82,1.04,0.92,271.39999999999998,"…","…",258.49,232.59,"…",112.71,209,95.5,"…","…",24.42,52.75,49.9,119.06,"…","…","…","…",66.14,"…",0.16,0.08,0.79,0.33,"…",1.7,0.13,0.16,0.2,1488.3,"…",32.78,"…",151.28,"…",0.66,"…",0.47,12.5,"...",53,60.5,32.5,507.06,10.24,693.79,223.1,3060,1742,270.5,35.1,88.5,1.29]
["1964M03","1964-03-01",false,{"$error":"#N/A"},{"$f":"INDEX(G60:BY60,$E$7)","v":0.15},{"$f":"INDEX(G60:BY60,$F$7)","v":"…"},1.45,1.45,1.45,"…","…","…",0.15,0.38,"…","…",0.51,1.04,0.78,0.93,0.82,1.04,0.92,280.5,"…","…",265.10000000000002,232.86,"…",110.51,209,94.4,"…","…",24.84,54.33,48.98,115.11,"…","…","…","…",66.87,"…",0.16,0.09,0.82,0.34,"…",1.63,0.13,0.15,0.16,1488.3,"…",31.94,"…",149.16999999999999,"…",0.65,"…",0.5,12.5,"...",53,60.5,32.5,524.70000000000005,10.24,745.16,223.8,2958.6,1742,277.10000000000002,35.1,88.5,1.29]
["1964M04","1964-04-01",false,{"$error":"#N/A"},{"$f":"INDEX(G61:BY61,$E$7)","v":0.15},{"$f":"INDEX(G61:BY61,$F$7)","v":"…"},1.45,1.45,1.45,"…","…","…",0.15,0.38,"…","…",0.48,1,0.82,0.93,0.82,1.04,0.92,280.3,"…","…",273.10000000000002,232.86,"…",106.65,204,90,"…","…",25.19,55.51,48.06,116.89,"…","…","…","…",67.61,"…",0.2,0.09,0.83,0.34,"…",1.61,0.13,0.15,0.17,1488.3,"…",30.56,"…",145.66,"…",0.65,"…",0.5,12.5,"...",53,60.5,32.5,529.11,10.24,861.56,226.8,2879.2,1741,298.7,35.1,88.5,1.29]
["1964M05","1964-05-01",false,{"$error":"#N/A"},{"$f":"INDEX(G62:BY62,$E$7)","v":0.15},{"$f":"INDEX(G62:BY62,$F$7)","v":"…"},1.45,1.45,1.45,"…","…","…",0.15,0.38,"…","…",0.48,1.02,0.83,0.93,0.82,1.04,0.92,282.5,"…","…",292.39,232.86,"…",104.72,215,84.5,"…","…",25.61,55.9,48.06,117.02,"…","…","…","…",69.45,"…",0.21,0.08,0.87,0.34,"…",1.63,0.13,0.13,0.15,1488.3,"…",29.44,"…",142.75,"…",0.66,"…",0.5,12.5,"...",53,60.5,32.5,529.11,10.24,828.28,243.8,2910.1,1742,343,35.1,88.5,1.29]
["1964M06","1964-06-01",false,{"$error":"#N/A"},{"$f":"INDEX(G63:BY63,$E$7)","v":0.15},{"$f":"INDEX(G63:BY63,$F$7)","v":"…"},1.45,1.45,1.45,"…","…","…",0.15,0.38,"…","…",0.5,1.01,0.85,0.93,0.82,1.04,0.92,294.89999999999998,"…","…",317.19,233.96,"…",104.44,212,85.6,"…","…",24.95,56.3,47.4,119.18,"…","…","…","…",65.040000000000006,"…",0.21,0.09,0.86,0.34,"…",1.81,0.13,0.13,0.12,1488.3,"…",29.44,"…",142.75,"…",0.66,"…",0.49,12.5,"...",53,60.5,32.5,529.11,10.24,808.43,246.3,3265,1742,357.1,35.1,88.5,1.29]
["1964M07","1964-07-01",false,{"$error":"#N/A"},{"$f":"INDEX(G64:BY64,$E$7)","v":0.15},{"$f":"INDEX(G64:BY64,$F$7)","v":"…"},1.45,1.45,1.45,"…","…","…",0.15,0.38,"…","…",0.51,1.02,0.82,0.93,0.82,1.04,0.92,303.7,"…","…",335.1,235.34,"…",102.24,209,84.5,"…","…",25.57,55.9,47.4,122.61,"…","…","…","…",68.709999999999994,"…",0.17,0.08,0.94,0.34,"…",1.83,0.13,0.12,0.1,1488.3,"…",29.17,"…",142.04,"…",0.65,"…",0.48,12.5,"...",53,60.5,32.5,529.11,10.24,854.95,270.89999999999998,3452.4,1741,385.1,35.1,88.5,1.29]
["1964M08","1964-08-01",false,{"$error":"#N/A"},{"$f":"INDEX(G65:BY65,$E$7)","v":0.15},{"$f":"INDEX(G65:BY65,$F$7)","v":"…"},1.45,1.45,1.45,"…","…","…",0.15,0.38,"…","…",0.5,1.05,0.82,0.93,0.82,1.04,0.92,303.10000000000002,"…","…",323.52999999999997,235.62,"…",104.44,223,82.5,"…","…",25.42,54.72,47.62,122.92,"…","…","…","…",68.709999999999994,"…",0.16,0.08,0.9,0.34,"…",1.76,0.13,0.12,0.09,1488.3,"…",29.17,"…",142.04,"…",0.64,"…",0.48,12.5,"...",53,60.5,32.5,529.11,10.24,999.33,300.89999999999998,3512,1742,345.2,35.1,88.5,1.29]
["1964M09","1964-09-01",false,{"$error":"#N/A"},{"$f":"INDEX(G66:BY66,$E$7)","v":0.15},{"$f":"INDEX(G66:BY66,$F$7)","v":"…"},1.45,1.45,1.45,"…","…","…",0.15,0.38,"…","…",0.51,1.04,0.79,0.93,0.82,1.04,0.92,302.60000000000002,"…","…",346.68,237.55,"…",109.96,243,92.2,"…","…",25.59,55.12,48.5,123.44,"…","…","…","…",69.08,"…",0.18,0.08,0.82,0.34,"…",1.9,0.13,0.12,0.08,1488.3,"…",28.89,"…",141.31,"…",0.65,"…",0.5,12.5,"...",53,60.5,32.5,529.11,10.24,1162.05,300.89999999999998,3933,1742,355.1,35.1,88.5,1.29]
["1964M10","1964-10-01",false,{"$error":"#N/A"},{"$f":"INDEX(G67:BY67,$E$7)","v":0.15},{"$f":"INDEX(G67:BY67,$F$7)","v":"…"},1.45,1.45,1.45,"…","…","…",0.15,0.38,"…","…",0.51,1.04,0.77,0.93,0.82,1.04,0.92,311.39999999999998,"…","…",370.65,250.77,"…",114.09,270,88.9,"…","…",25.2,52.8,47.4,121.48,"…","…","…","…",68.709999999999994,"…",0.16,0.08,0.84,0.34,"…",1.92,0.13,0.13,0.08,1488.3,"…",28.89,"…",141.31,"…",0.65,"…",0.52,12.5,"...",53,60.5,32.5,529.11,10.24,1358.27,331.8,4371.8,1741,334.4,35.1,88.5,1.29]
["1964M11","1964-11-01",false,{"$error":"#N/A"},{"$f":"INDEX(G68:BY68,$E$7)","v":0.15},{"$f":"INDEX(G68:BY68,$F$7)","v":"…"},1.45,1.45,1.45,"…","…","…",0.15,0.38,"…","…",0.52,1.03,0.79,0.93,0.82,1.04,0.92,314.39999999999998,"…","…",359.63,254.91,"…",117.67,270,84.5,"…","…",25.11,52.8,47.18,120.97,"…","…","…","…",67.98,"…",0.16,0.08,0.84,0.34,"…",2.09,0.13,0.12,7.0000000000000007E-2,1488.3,"…",29.44,"…",142.75,"…",0.64,"…",0.51,12.5,"...",53,60.5,32.5,529.11,10.24,1400.37,365.1,4105,1742,344.6,35.1,88.5,1.29]
["1964M12","1964-12-01",false,{"$error":"#N/A"},{"$f":"INDEX(G69:BY69,$E$7)","v":0.15},{"$f":"INDEX(G69:BY69,$F$7)","v":"…"},1.45,1.45,1.45,"…","…","…",0.15,0.38,"…","…",0.5,1.01,0.76,0.93,0.82,1.04,0.92,326,"…","…",372.86,261.25,"…",121.8,317,86.7,"…","…",25.41,54.33,48.72,119.08,"…","…","…","…",67.98,"…",0.13,0.09,0.86,0.34,"…",2.12,0.12,0.13,0.06,1488.3,"…",30.56,"…",145.66,"…",0.64,"…",0.5,12.5,"...",53,60.5,32.5,540.13,10.24,1269.2,383.6,3633.2,1742,343,35.1,88.5,1.29]
["1965M01","1965-01-01",false,{"$error":"#N/A"},{"$f":"INDEX(G70:BY70,$E$7)","v":0.16},{"$f":"INDEX(G70:BY70,$F$7)","v":"…"},1.42,1.42,1.42,"…","…","…",0.16,0.41,"…","…",0.47,1.01,0.63,1,0.85,1.1399999999999999,1.01,337.6,"…","…",361.28,266.20999999999998,"…",123.46,284,92.4,"…","…",25.38,55.9,49.82,114.61,"…","…","…","…",66.14,"…",0.13,0.08,0.85,0.34,"…",2.09,0.12,0.14000000000000001,0.05,1265.4100000000001,"…",30.56,"…",145.66,"…",0.64,"…",0.51,14,"...",54,65.75,29.5,540.13,10.24,1000.68,347.9,3456.8,1735,322.3,35.119999999999997,93,1.29]
["1965M02","1965-02-01",false,{"$error":"#N/A"},{"$f":"INDEX(G71:BY71,$E$7)","v":0.16},{"$f":"INDEX(G71:BY71,$F$7)","v":"…"},1.42,1.42,1.42,"…","…","…",0.16,0.41,"…","…",0.42,1.04,0.64,1,0.85,1.1399999999999999,1.01,356.9,"…","…",373.13,283.02,"…",128.41999999999999,303,96,"…","…",24.68,56.69,49.82,115.94,"…","…","…","…",61.36,"…",0.16,0.08,0.85,0.35,"…",2.0099999999999998,0.12,0.14000000000000001,0.05,1265.4100000000001,"…",33.33,"…",152.65,"…",0.67,"…",0.52,14,"...",54,65.75,29.5,540.13,10.24,1179.9100000000001,389.6,3390.7,1735,320.3,35.119999999999997,98.5,1.29]
["1965M03","1965-03-01",false,{"$error":"#N/A"},{"$f":"INDEX(G72:BY72,$E$7)","v":0.16},{"$f":"INDEX(G72:BY72,$F$7)","v":"…"},1.42,1.42,1.42,"…","…","…",0.16,0.41,"…","…",0.35,0.99,0.57999999999999996,1,0.85,1.1399999999999999,1.01,356.9,"…","…",344.2,292.11,"…",124.84,300,93.6,"…","…",24.71,57.08,48.94,115.56,"…","…","…","…",60.99,"…",0.15,0.08,0.85,0.35,"…",2.0299999999999998,0.12,0.13,0.05,1265.4100000000001,"…",34.17,"…",154.71,"…",0.65,"…",0.52,14,"...",54,65.75,29.5,540.13,10.24,1237.23,395.3,3584.7,1735,315.89999999999998,35.119999999999997,98.5,1.29]
["1965M04","1965-04-01",false,{"$error":"#N/A"},{"$f":"INDEX(G73:BY73,$E$7)","v":0.16},{"$f":"INDEX(G73:BY73,$F$7)","v":"…"},1.42,1.42,1.42,"…","…","…",0.16,0.41,"…","…",0.35,0.97,0.55000000000000004,1,0.85,1.1399999999999999,1.01,356.9,"…","…",325.73,297.62,"…",123.46,295,94.8,"…","…",24.6,57.48,47.84,113.29,"…","…","…","…",59.89,"…",0.16,0.09,0.85,0.35,"…",2.0699999999999998,0.12,0.13,0.05,1265.4100000000001,"…",35.56,"…",158.08000000000001,"…",0.65,"…",0.53,14,"...",54,65.75,29.5,540.13,10.24,1348.34,353,3944.1,1735,315.89999999999998,35.119999999999997,98.5,1.29]
["1965M05","1965-05-01",false,{"$error":"#N/A"},{"$f":"INDEX(G74:BY74,$E$7)","v":0.16},{"$f":"INDEX(G74:BY74,$F$7)","v":"…"},1.42,1.42,1.42,"…","…","…",0.16,0.41,"…","…",0.33,0.96,0.49,1,0.85,1.1399999999999999,1.01,356.9,"…","…",293.76,303.13,"…",118.5,256,93.6,"…","…",24.68,58.66,47.84,111.77,"…","…","…","…",59.16,"…",0.15,0.15,0.84,0.35,"…",2.0499999999999998,0.12,0.14000000000000001,0.05,1265.4100000000001,"…",35.56,"…",158.08000000000001,"…",0.65,"…",0.53,14,"...",54,65.75,29.5,540.13,15.3,1378.55,302,4215.2,1735,323.39999999999998,35.119999999999997,98.5,1.29]
["1965M06",{"$f":"EDATE(B74,1)","v":"1965-06-01"},{"$f":"B75>$C$8","v":false},{"$f":"IF(C75,B75,NA())","v":{"$error":"#N/A"}},{"$f":"INDEX(G75:BY75,$E$7)","v":0.16},{"$f":"INDEX(G75:BY75,$F$7)","v":"…"},1.42,1.42,1.42,"…","…","…",0.16,0.41,"…","…",0.28999999999999998,0.98,0.61,1,0.85,1.1399999999999999,1.01,420.5,"…","…",296.52,294.87,"…",122.08,256,93.6,"…","…",24.45,58.26,47.84,110.88,"…","…","…","…",58.05,"…",0.17,0.11,0.86,0.35,"…",1.96,0.12,0.14000000000000001,0.04,1265.4100000000001,"…",35.56,"…",158.08000000000001,"…",0.63,"…",0.52,14,"...",54,65.75,29.5,540.13,10.24,1308.8800000000001,278.7,4131.5,1735,314.39999999999998,35.119999999999997,98.5,1.29]
["1965M07","1965-07-01",false,{"$error":"#N/A"},{"$f":"INDEX(G76:BY76,$E$7)","v":0.16},{"$f":"INDEX(G76:BY76,$F$7)","v":"…"},1.42,1.42,1.42,"…","…","…",0.16,0.41,"…","…",0.26,0.98,0.72,1,0.85,1.1399999999999999,1.01,372.6,"…","…",301.76,279.99,"…",119.88,248,101.8,"…","…",24.12,56.69,47.84,112.04,"…","…","…","…",57.32,"…",0.18,0.1,0.88,0.35,"…",1.94,0.12,0.13,0.04,1265.4100000000001,"…",35.56,"…",158.08000000000001,"…",0.63,"…",0.49,14,"...",54,65.75,29.5,540.13,10.24,1134.06,271.60000000000002,3966.1,1735,310.39999999999998,35.119999999999997,98.5,1.29]
["1965M08","1965-08-01",false,{"$error":"#N/A"},{"$f":"INDEX(G77:BY77,$E$7)","v":0.16},{"$f":"INDEX(G77:BY77,$F$7)","v":"…"},1.42,1.42,1.42,"…","…","…",0.16,0.41,"…","…",0.33,1,0.79,1,0.85,1.1399999999999999,1.01,334.8,"…","…",299.27999999999997,257.66000000000003,"…",110.78,234,96,"…","…",24,55.12,47.4,116.92,"…","…","…","…",57.69,"…",0.17,0.1,0.89,0.35,"…",1.87,0.12,0.14000000000000001,0.04,1265.4100000000001,"…",35.56,"…",158.08000000000001,"…",0.63,"…",0.48,14,"...",54,65.75,29.5,540.13,10.24,1209.9000000000001,272,4091.8,1735,303.60000000000002,35.119999999999997,98.5,1.29]
["1965M09","1965-09-01",false,{"$error":"#N/A"},{"$f":"INDEX(G78:BY78,$E$7)","v":0.16},{"$f":"INDEX(G78:BY78,$F$7)","v":"…"},1.42,1.42,1.42,"…","…","…",0.16,0.41,"…","…",0.36,1,0.78,1,0.85,1.1399999999999999,1.01,312,"…","…",308.92,246.64,"…",106.1,248,105.3,"…","…",23.99,53.93,47.4,126.55,"…","…","…","…",58.42,"…",0.18,0.1,0.91,0.35,"…",1.9,0.12,0.14000000000000001,0.04,1265.4100000000001,"…",36.11,"…",159.38999999999999,"…",0.63,"…",0.48,14,"...",54,65.75,29.5,540.13,10.24,1327.84,289.2,4208.6000000000004,1735,299.60000000000002,35.119999999999997,98.5,1.29]
["1965M10","1965-10-01",false,{"$error":"#N/A"},{"$f":"INDEX(G79:BY79,$E$7)","v":0.16},{"$f":"INDEX(G79:BY79,$F$7)","v":"…"},1.42,1.42,1.42,"…","…","…",0.16,0.41,"…","…",0.37,1.01,0.81,1,0.85,1.1399999999999999,1.01,331,"…","…",324.08,250.22,"…",104.44,284,97.1,"…","…",23.6,51.57,46.52,126.65,"…","…","…","…",58.05,"…",0.19,0.1,0.93,0.35,"…",1.92,0.12,0.14000000000000001,0.04,1265.4100000000001,"…",36.11,"…",159.38999999999999,"…",0.62,"…",0.47,14,"...",54,65.75,29.5,540.13,10.24,1401.92,306.89999999999998,4010.2,1735,307.8,35.119999999999997,98.5,1.29]
["1965M11","1965-11-01",false,{"$error":"#N/A"},{"$f":"INDEX(G80:BY80,$E$7)","v":0.16},{"$f":"INDEX(G80:BY80,$F$7)","v":"…"},1.42,1.42,1.42,"…","…","…",0.16,0.41,"…","…",0.4,1.03,0.76,1,0.85,1.1399999999999999,1.01,334.8,"…","…",336.2,250.22,"…",107.47,276,103,"…","…",23.63,51.57,46.3,129.19999999999999,"…","…","…","…",58.05,"…",0.15,0.1,0.91,0.36,"…",2.0099999999999998,0.12,0.14000000000000001,0.04,1265.4100000000001,"…",36.11,"…",159.38999999999999,"…",0.62,"…",0.49,14,"...",54,65.75,29.5,540.13,10.24,1469.16,299.2,3820.6,1735,298.7,35.119999999999997,98.5,1.29]
["1965M12","1965-12-01",false,{"$error":"#N/A"},{"$f":"INDEX(G81:BY81,$E$7)","v":0.16},{"$f":"INDEX(G81:BY81,$F$7)","v":"…"},1.42,1.42,1.42,"…","…","…",0.16,0.41,"…","…",0.46,1.03,0.79,1,0.85,1.1399999999999999,1.01,330.7,"…","…",322.14999999999998,248.57,"…",112.99,256,97.1,"…","…",24.3,55.12,47.62,132.06,"…","…","…","…",58.42,"…",0.13,0.09,0.94,0.36,"…",2.0099999999999998,0.12,0.13,0.04,1265.4100000000001,"…",36.11,"…",159.38999999999999,"…",0.62,"…",0.5,14,"...",54,65.75,29.5,540.13,10.24,1517.66,300.7,3869.1,1735,302.7,35.119999999999997,98.5,1.29]
["1966M01","1966-01-01",false,{"$error":"#N/A"},{"$f":"INDEX(G82:BY82,$E$7)","v":0.16},{"$f":"INDEX(G82:BY82,$F$7)","v":"…"},1.36,1.36,1.36,"…","…","…",0.16,0.42,"…","…",0.47,1.01,0.8,0.96,0.76,1.21,0.91,355.5,"…","…",307.27,246.92,"…",119.6,267,101.93,"…","…",24.63,57.08,47.62,125.51,"…","…","…","…",58.42,"…",0.13,0.09,0.97,0.36,"…",2.31,0.13,0.14000000000000001,0.05,1581.22,"…",36.11,"…",159.38999999999999,"…",0.62,"…",0.51,13,"...",50,59.25,27.5,540.13,9.52,1679.04,301.2,3926.4,1739,302.7,35.130000000000003,98.5,1.29]
["1966M02","1966-02-01",false,{"$error":"#N/A"},{"$f":"INDEX(G83:BY83,$E$7)","v":0.16},{"$f":"INDEX(G83:BY83,$F$7)","v":"…"},1.36,1.36,1.36,"…","…","…",0.16,0.42,"…","…",0.47,0.97,0.76,0.96,0.76,1.21,0.91,348.6,"…","…",299.69,248.02,"…",121.8,273,99.1,"…","…",24.74,57.08,48.5,124.79,"…","…","…","…",58.79,"…",0.14000000000000001,7.0000000000000007E-2,0.96,0.36,"…",2.31,0.13,0.14000000000000001,0.05,1581.22,"…",36.94,"…",161.36000000000001,"…",0.62,"…",0.51,13,"...",50,59.25,27.5,540.13,9.52,1874.37,291.5,3877.9,1739,299.8,35.130000000000003,98.5,1.29]
["1966M03","1966-03-01",false,{"$error":"#N/A"},{"$f":"INDEX(G84:BY84,$E$7)","v":0.16},{"$f":"INDEX(G84:BY84,$F$7)","v":"…"},1.36,1.36,1.36,"…","…","…",0.16,0.42,"…","…",0.49,0.95,0.74,0.96,0.76,1.21,0.91,338.4,"…","…",292.8,245.26,"…",119.88,265,92.5,"…","…",24.55,55.51,47.4,131.72999999999999,"…","…","…","…",58.79,"…",0.17,0.09,1.07,0.36,"…",2.31,0.13,0.14000000000000001,0.05,1581.22,"…",36.94,"…",161.36000000000001,"…",0.64,"…",0.5,13,"...",50,59.25,27.5,540.13,9.52,1874.81,292.8,3772.1,1739,300.7,35.130000000000003,99.65,1.29]
["1966M04","1966-04-01",false,{"$error":"#N/A"},{"$f":"INDEX(G85:BY85,$E$7)","v":0.16},{"$f":"INDEX(G85:BY85,$F$7)","v":"…"},1.36,1.36,1.36,"…","…","…",0.16,0.42,"…","…",0.53,0.95,0.76,0.96,0.76,1.21,0.91,331.2,"…","…",285.77,233.69,"…",122.08,267,96.9,"…","…",24.65,55.9,46.96,143.04,"…","…","…","…",58.79,"…",0.19,0.09,1.07,0.36,"…",2.31,0.13,0.14000000000000001,0.05,1581.22,"…",36.39,"…",160.06,"…",0.62,"…",0.48,13,"...",50,59.25,27.5,540.13,9.52,1907.44,280.39999999999998,3763.3,1739,278.7,35.130000000000003,100,1.29]
["1966M05","1966-05-01",false,{"$error":"#N/A"},{"$f":"INDEX(G86:BY86,$E$7)","v":0.16},{"$f":"INDEX(G86:BY86,$F$7)","v":"…"},1.36,1.36,1.36,"…","…","…",0.16,0.42,"…","…",0.51,0.95,0.77,0.96,0.76,1.21,0.91,330.7,"…","…",288.31,225.7,"…",124.84,256,102.4,"…","…",24.57,55.12,46.96,140.86000000000001,"…","…","…","…",58.79,"…",0.18,0.09,1.04,0.36,"…",2.31,0.13,0.14000000000000001,0.05,1581.22,"…",36.94,"…",161.36000000000001,"…",0.62,"…",0.49,13,"...",50,59.25,27.5,540.13,9.52,1663.61,261.89999999999998,3688.3,1739,270,35.130000000000003,100,1.29]
["1966M06","1966-06-01",false,{"$error":"#N/A"},{"$f":"INDEX(G87:BY87,$E$7)","v":0.16},{"$f":"INDEX(G87:BY87,$F$7)","v":"…"},1.36,1.36,1.36,"…","…","…",0.16,0.42,"…","…",0.53,0.92,0.74,0.81,0.76,0.77,0.91,332.1,"…","…",288.31,225.42,"…",130.62,256,117.8,"…","…",25.54,57.08,46.74,144.44999999999999,"…","…","…","…",62.1,"…",0.18,0.08,0.99,0.36,"…",2.31,0.13,0.14000000000000001,0.04,1581.22,"…",36.94,"…",161.36000000000001,"…",0.62,"…",0.47,13,"...",50,59.25,27.5,540.13,9.52,1695.79,259.3,3516.4,1739,272.10000000000002,35.130000000000003,100,1.29]
["1966M07","1966-07-01",false,{"$error":"#N/A"},{"$f":"INDEX(G88:BY88,$E$7)","v":0.16},{"$f":"INDEX(G88:BY88,$F$7)","v":"…"},1.36,1.36,1.36,"…","…","…",0.16,0.42,"…","…",0.57999999999999996,0.92,0.73,0.81,0.76,0.77,0.91,330.4,"…","…",294.58999999999997,235.34,"…",138.88999999999999,267,123.3,"…","…",26.51,59.05,47.18,153.30000000000001,"…","…","…","…",65.400000000000006,"…",0.14000000000000001,0.08,0.97,0.37,"…",2.31,0.13,0.14000000000000001,0.04,1581.22,"…",36.94,"…",161.36000000000001,"…",0.62,"…",0.47,13,"...",50,59.25,27.5,540.13,9.52,1567.93,263.39999999999998,3514.2,1739,264.60000000000002,35.130000000000003,100,1.29]
["1966M08","1966-08-01",false,{"$error":"#N/A"},{"$f":"INDEX(G89:BY89,$E$7)","v":0.16},{"$f":"INDEX(G89:BY89,$F$7)","v":"…"},1.36,1.36,1.36,"…","…","…",0.16,0.42,"…","…",0.56999999999999995,0.92,0.72,0.81,0.76,0.77,0.91,319.10000000000002,"…","…",304.83999999999997,239.75,"…",140.27000000000001,276,124.4,"…","…",27.51,62.6,50.49,150.38999999999999,"…","…","…","…",67.61,"…",0.16,0.08,1,0.37,"…",2.31,0.13,0.14000000000000001,0.04,1581.22,"…",36.94,"…",161.36000000000001,"…",0.62,"…",0.46,13,"...",50,59.25,27.5,540.13,9.52,1195.3399999999999,242.5,3428.2,1739,264.60000000000002,35.130000000000003,100,1.29]
["1966M09","1966-09-01",false,{"$error":"#N/A"},{"$f":"INDEX(G90:BY90,$E$7)","v":0.16},{"$f":"INDEX(G90:BY90,$F$7)","v":"…"},1.36,1.36,1.36,"…","…","…",0.16,0.42,"…","…",0.5,0.9,0.7,0.81,0.76,0.77,0.91,317.2,"…","…",298.73,239.75,"…",127.59,267,112.3,"…","…",27.25,61.02,51.59,155.38999999999999,"…","…","…","…",67.239999999999995,"…",0.14000000000000001,0.08,1.05,0.37,"…",2.31,0.13,0.14000000000000001,0.03,1581.22,"…",36.94,"…",161.36000000000001,"…",0.61,"…",0.43,13,"...",50,59.25,27.5,540.13,9.52,1128.32,254.2,3377.5,1739,270.5,35.130000000000003,100,1.29]
["1966M10","1966-10-01",false,{"$error":"#N/A"},{"$f":"INDEX(G91:BY91,$E$7)","v":0.16},{"$f":"INDEX(G91:BY91,$F$7)","v":"…"},1.36,1.36,1.36,"…","…","…",0.16,0.42,"…","…",0.51,0.89,0.72,0.81,0.76,0.77,0.91,303.10000000000002,"…","…",291.83999999999997,230.93,"…",120.15,251,104.6,"…","…",26.72,58.66,48.72,164.26,"…","…","…","…",66.14,"…",0.13,0.08,1.05,0.37,"…",2.31,0.13,0.15,0.03,1581.22,"…",36.94,"…",161.36000000000001,"…",0.63,"…",0.45,13,"...",50,59.25,27.5,540.13,9.52,1275.3699999999999,233.7,3362,1739,276,35.130000000000003,100,1.29]
["1966M11","1966-11-01",false,{"$error":"#N/A"},{"$f":"INDEX(G92:BY92,$E$7)","v":0.16},{"$f":"INDEX(G92:BY92,$F$7)","v":"…"},1.36,1.36,1.36,"…","…","…",0.16,0.42,"…","…",0.5,0.89,0.72,0.81,0.76,0.77,0.91,277.8,"…","…",292.66000000000003,225.97,"…",121.25,248,101.3,"…","…",26.76,59.05,49.38,166.11,"…","…","…","…",65.77,"…",0.14000000000000001,0.08,1.03,0.37,"…",2.31,0.13,0.14000000000000001,0.03,1581.22,"…",36.94,"…",161.36000000000001,"…",0.63,"…",0.45,13,"...",50,59.25,27.5,540.13,9.52,1301.6099999999999,222.7,3320.2,1739,288.10000000000002,35.130000000000003,100,1.29]
["1966M12",{"$f":"EDATE(B92,1)","v":"1966-12-01"},false,{"$error":"#N/A"},{"$f":"INDEX(G93:BY93,$E$7)","v":0.16},{"$f":"INDEX(G93:BY93,$F$7)","v":"…"},1.36,1.36,1.36,"…","…","…",0.16,0.42,"…","…",0.55000000000000004,0.87,0.72,0.81,0.76,0.77,0.91,300.39999999999998,"…","…",310.85000000000002,230.93,"…",120.98,245,107.9,"…","…",27.51,61.41,51.37,142.6,"…","…","…","…",67.61,"…",0.14000000000000001,0.08,1.06,0.37,"…",2.31,0.13,0.14000000000000001,0.03,1581.22,"…",36.94,"…",161.36000000000001,"…",0.63,"…",0.43,13,"...",50,59.25,27.5,540.13,9.52,1214.53,224.2,3335.6,1739,285.5,35.130000000000003,100,1.29]
["1967M01",{"$f":"EDATE(B93,1)","v":"1967-01-01"},false,{"$error":"#N/A"},{"$f":"INDEX(G94:BY94,$E$7)","v":0.16},{"$f":"INDEX(G94:BY94,$F$7)","v":"…"},1.33,1.33,1.33,"…","…","…",0.16,0.46,"…","…",0.56999999999999995,0.85,0.71,0.84,0.73,0.8,0.99,310,"…","…",303.41000000000003,234.24,"…",117.4,231,104.6,"…","…",27.3,60.23,52.91,142.27000000000001,"…","…","…","…",67.239999999999995,"…",0.16,0.18,1.08,0.37,"…",2.29,0.13,0.14000000000000001,0.03,1299.43,"…",36.94,"…",161.36000000000001,"…",0.64,"…",0.43,12,68.5,46.5,49.25,25.5,540.13,8.86,1243.8499999999999,220.2,3302.5,1935.7,279.5,34.950000000000003,102.93,1.29]
["1967M02","1967-02-01",false,{"$error":"#N/A"},{"$f":"INDEX(G95:BY95,$E$7)","v":0.16},{"$f":"INDEX(G95:BY95,$F$7)","v":"…"},1.33,1.33,1.33,"…","…","…",0.16,0.46,"…","…",0.61,0.84,0.73,0.84,0.73,0.8,0.99,316.89999999999998,"…","…",297.07,230.66,"…",116.84,225,101.3,"…","…",27.3,59.05,52.91,151.44999999999999,"…","…","…","…",67.98,"…",0.14000000000000001,0.15,1.06,0.37,"…",2.29,0.13,0.15,0.04,1299.43,"…",37.5,"…",162.68,"…",0.66,"…",0.41,12,68.5,46.5,49.25,25.5,540.13,8.86,1220.48,221.8,3309.1,1935.7,282.2,34.950000000000003,110.5,1.29]
["1967M03","1967-03-01",false,{"$error":"#N/A"},{"$f":"INDEX(G96:BY96,$E$7)","v":0.16},{"$f":"INDEX(G96:BY96,$F$7)","v":"…"},1.33,1.33,1.33,"…","…","…",0.16,0.46,"…","…",0.6,0.82,0.73,0.84,0.73,0.8,0.99,314.2,"…","…",300.64999999999998,223.22,"…",115.74,231,98,"…","…",27.68,59.05,54.89,163.53,"…","…","…","…",69.81,"…",0.16,0.16,1.04,0.37,"…",2.29,0.13,0.15,0.03,1299.43,"…",38.33,"…",164.61,"…",0.66,"…",0.41,12,68.5,46.5,49.25,25.5,540.13,8.86,1098.3399999999999,228.4,3318,1935.7,279.3,34.950000000000003,110.5,1.29]
["1967M04","1967-04-01",false,{"$error":"#N/A"},{"$f":"INDEX(G97:BY97,$E$7)","v":0.16},{"$f":"INDEX(G97:BY97,$F$7)","v":"…"},1.33,1.33,1.33,"…","…","…",0.16,0.46,"…","…",0.57999999999999996,0.85,0.75,0.84,0.73,0.8,0.99,305.10000000000002,"…","…",292.39,223.22,"…",116.29,227,95.8,"…","…",27.27,57.87,54.23,168.53,"…","…","…","…",68.34,"…",0.16,0.16,1.06,0.37,"…",2.29,0.13,0.15,0.05,1299.43,"…",38.33,"…",164.61,"…",0.66,"…",0.41,12,68.5,46.5,49.25,25.5,540.13,8.86,994.72,226.6,3351,1935.7,272.10000000000002,34.950000000000003,110.5,1.29]
["1967M05","1967-05-01",false,{"$error":"#N/A"},{"$f":"INDEX(G98:BY98,$E$7)","v":0.16},{"$f":"INDEX(G98:BY98,$F$7)","v":"…"},1.33,1.33,1.33,"…","…","…",0.16,0.46,"…","…",0.56999999999999995,0.89,0.77,0.84,0.73,0.8,0.99,283.8,"…","…",288.8,223.77,"…",116.29,224,94.7,"…","…",27.18,57.08,54.45,175.8,"…","…","…","…",68.34,"…",0.15,0.15,1.04,0.37,"…",2.29,0.13,0.15,0.06,1299.43,"…",38.89,"…",165.91,"…",0.66,"…",0.4,12,68.5,46.5,49.25,25.5,540.13,8.86,1036.17,226.2,3357.6,1935.7,275.10000000000002,34.950000000000003,110.5,1.3]
["1967M06","1967-06-01",false,{"$error":"#N/A"},{"$f":"INDEX(G99:BY99,$E$7)","v":0.16},{"$f":"INDEX(G99:BY99,$F$7)","v":"…"},1.33,1.33,1.33,"…","…","…",0.16,0.46,"…","…",0.57999999999999996,0.91,0.78,0.84,0.73,0.8,0.99,319.7,"…","…",293.76,229.28,"…",117.4,226,98.9,"…","…",26.89,57.08,52.91,184.54,"…","…","…","…",66.510000000000005,"…",0.16,0.16,1.04,0.37,"…",2.29,0.13,0.15,0.05,1299.43,"…",38.89,"…",165.91,"…",0.67,"…",0.41,12,68.5,46.5,49.25,25.5,540.13,8.86,1015.22,228.2,3366.5,1935.7,274.3,34.950000000000003,110.5,1.3]
["1967M07","1967-07-01",false,{"$error":"#N/A"},{"$f":"INDEX(G100:BY100,$E$7)","v":0.16},{"$f":"INDEX(G100:BY100,$F$7)","v":"…"},1.33,1.33,1.33,"…","…","…",0.16,0.46,"…","…",0.56999999999999995,0.9,0.74,0.84,0.73,0.8,0.99,318.3,"…","…",294.58999999999997,228.73,"…",115.19,212,98.9,"…","…",26.27,55.12,52.03,206.24,"…","…","…","…",64.67,"…",0.16,0.16,1.04,0.37,"…",2.29,0.13,0.15,0.04,1299.43,"…",38.89,"…",165.91,"…",0.67,"…",0.4,12,68.5,43.5,49.25,25.5,540.13,8.86,997.37,231.3,3362,1935.7,267.2,34.950000000000003,110.5,1.59]
["1967M08","1967-08-01",false,{"$error":"#N/A"},{"$f":"INDEX(G101:BY101,$E$7)","v":0.16},{"$f":"INDEX(G101:BY101,$F$7)","v":"…"},1.33,1.33,1.33,"…","…","…",0.16,0.46,"…","…",0.59,0.88,0.72,0.84,0.73,0.8,0.99,310,"…","…",291.56,228.73,"…",111.13,210,98.9,"…","…",25.65,51.97,50.26,207.22,"…","…","…","…",63.93,"…",0.15,0.16,1.03,0.37,"…",2.29,0.13,0.15,0.04,1299.43,"…",38.89,"…",165.91,"…",0.68,"…",0.37,12,68.5,43.5,49.25,25.5,540.13,8.86,1044.55,232.3,3291.5,1935.7,268.7,34.950000000000003,110.5,1.75]
["1967M09","1967-09-01",false,{"$error":"#N/A"},{"$f":"INDEX(G102:BY102,$E$7)","v":0.16},{"$f":"INDEX(G102:BY102,$F$7)","v":"…"},1.33,1.33,1.33,"…","…","…",0.16,0.46,"…","…",0.62,0.86,0.72,0.84,0.73,0.8,0.99,324.89999999999998,"…","…",275.3,225.15,"…",111.06,206,98.9,"…","…",25.08,49.21,49.6,221.64,"…","…","…","…",63.2,"…",0.18,0.16,1.04,0.37,"…",2.29,0.13,0.15,0.04,1299.43,"…",40.28,"…",169.08,"…",0.69,"…",0.36,12,68.5,43.5,49.25,25.5,540.13,8.86,1060.2,226.9,3267.2,1935.7,264.60000000000002,34.950000000000003,110.5,1.68]
["1967M10","1967-10-01",false,{"$error":"#N/A"},{"$f":"INDEX(G103:BY103,$E$7)","v":0.16},{"$f":"INDEX(G103:BY103,$F$7)","v":"…"},1.33,1.33,1.33,"…","…","…",0.16,0.46,"…","…",0.61,0.85,0.73,0.84,0.73,0.8,0.99,350.5,"…","…",259.04000000000002,221.56,"…",109.96,203,98.9,"…","…",24.98,48.03,49.38,224.12,"…","…","…","…",63.57,"…",0.18,0.16,1.04,0.37,"…",2.29,0.13,0.15,0.04,1299.43,"…",41.67,"…",172.21,"…",0.7,"…",0.36,12,68.5,43.5,49.25,25.5,540.13,8.86,1138.47,225.7,3280.5,1935.7,263.89999999999998,34.950000000000003,110.5,1.79]
["1967M11","1967-11-01",false,{"$error":"#N/A"},{"$f":"INDEX(G104:BY104,$E$7)","v":0.16},{"$f":"INDEX(G104:BY104,$F$7)","v":"…"},1.33,1.33,1.33,"…","…","…",0.16,0.46,"…","…",0.64,0.87,0.75,0.84,0.73,0.8,0.99,376.2,"…","…",248.02,217.98,"…",116.02,211,98.9,"…","…",24.81,47.64,48.94,213.57,"…","…","…","…",62.83,"…",0.16,0.16,1.01,0.38,"…",2.29,0.13,0.15,0.05,1299.43,"…",41.67,"…",172.21,"…",0.71,"…",0.35,12,68.5,43.5,49.25,25.5,540.13,8.86,1443.81,242.1,3298.1,1935.7,287,34.950000000000003,110.5,1.95]
["1967M12","1967-12-01",false,{"$error":"#N/A"},{"$f":"INDEX(G105:BY105,$E$7)","v":0.16},{"$f":"INDEX(G105:BY105,$F$7)","v":"…"},1.33,1.33,1.33,"…","…","…",0.16,0.46,"…","…",0.65,0.85,0.75,0.79,0.57999999999999996,0.8,0.99,386.7,"…","…",250.85,194.87,"…",113.38,196,98.9,"…","…",24.59,46.9,50.26,213.57,"…","…","…","…",62.1,"…",0.13,0.17,1.02,0.38,"…",2.29,0.13,0.15,0.05,1299.43,"…",41.67,"…",172.21,"…",0.72,"…",0.36,12,68.5,43.5,49.25,25.5,540.13,8.86,1324.09,222.4,3192.3,1935.7,266.10000000000002,34.950000000000003,115.05,2.06]
["1968M01","1968-01-01",false,{"$error":"#N/A"},{"$f":"INDEX(G106:BY106,$E$7)","v":0.16},{"$f":"INDEX(G106:BY106,$F$7)","v":"…"},1.32,1.32,1.32,"…","…","…",0.16,0.45,"…","…",0.65,0.87,0.76,0.75,0.68,0.73,0.84,398,"…","…",251.33,191.33,"…",114.09,196,97,"…","…",25.45,51.57,55.6,198.78,"…","…","…","…",62.1,"…",0.11,0.16,1.03,0.38,"…",2.58,0.11,0.15,0.05,1253.81,"…",41.67,"…",172.21,"…",0.72,"…",0.35,11.5,60.5,39,35.5,24,540.13,8.77,1408.75,218,3126.2,2074.5,262.8,35.5,114,1.99]
["1968M02","1968-02-01",false,{"$error":"#N/A"},{"$f":"INDEX(G107:BY107,$E$7)","v":0.16},{"$f":"INDEX(G107:BY107,$F$7)","v":"…"},1.32,1.32,1.32,"…","…","…",0.16,0.45,"…","…",0.63,0.87,0.76,0.75,0.68,0.73,0.84,412.2,"…","…",255.34,191.33,"…",114.56,193,97,"…","…",25.56,51.18,58.1,207.03,"…","…","…","…",62.83,"…",0.17,0.17,1.02,0.38,"…",2.58,0.11,0.15,0.05,1248.52,"…",41.67,"…",172.21,"…",0.71,"…",0.33,11.5,60.5,39,35.5,24,540.13,8.77,1719.82,227.5,3110.7,2074.5,259.7,36,111.5,1.85]
["1968M03","1968-03-01",false,{"$error":"#N/A"},{"$f":"INDEX(G108:BY108,$E$7)","v":0.16},{"$f":"INDEX(G108:BY108,$F$7)","v":"…"},1.32,1.32,1.32,"…","…","…",0.16,0.45,"…","…",0.62,0.88,0.75,0.75,0.68,0.73,0.84,423,"…","…",256.52,191.33,"…",115.51,191,96,"…","…",25.54,50,57,209.78,"…","…","…","…",63.57,"…",0.16,0.18,1.03,0.38,"…",2.58,0.11,0.15,0.04,1234.74,"…",41.67,"…",172.21,"…",0.71,"…",0.36,11.5,60.5,39,35.5,24,540.13,8.77,1701.08,233.9,3112.9,2074.5,257.5,37,111.5,2.1800000000000002]
["1968M04","1968-04-01",false,{"$error":"#N/A"},{"$f":"INDEX(G109:BY109,$E$7)","v":0.16},{"$f":"INDEX(G109:BY109,$F$7)","v":"…"},1.32,1.32,1.32,"…","…","…",0.16,0.45,"…","…",0.63,0.89,0.75,0.75,0.68,0.73,0.84,435.8,"…","…",259.58999999999997,188.97,"…",113.14,190,95,"…","…",24.89,48.03,57,197.01,"…","…","…","…",61.73,"…",0.17,0.18,1.05,0.38,"…",2.58,0.11,0.15,0.04,1210.46,"…",41.67,"…",172.21,"…",0.71,"…",0.36,11.5,60.5,39,35.5,24,540.13,8.77,1255.0899999999999,235,3106.3,2074.5,258.2,37.86,111.5,2.2000000000000002]
["1968M05","1968-05-01",false,{"$error":"#N/A"},{"$f":"INDEX(G110:BY110,$E$7)","v":0.16},{"$f":"INDEX(G110:BY110,$F$7)","v":"…"},1.32,1.32,1.32,"…","…","…",0.16,0.45,"…","…",0.62,0.88,0.76,0.75,0.68,0.73,0.84,439.8,"…","…",271.64,186.13,"…",114.32,189,96,"…","…",24.73,48.42,53.1,187.09,"…","…","…","…",60.26,"…",0.18,0.19,1.08,0.38,"…",2.58,0.11,0.15,0.04,1200.8800000000001,"…",41.67,"…",172.21,"…",0.71,"…",0.37,11.5,60.5,39,35.5,24,540.13,8.77,1096.58,237.7,3084.3,2074.5,261.5,40.700000000000003,111.5,2.38]
["1968M06","1968-06-01",false,{"$error":"#N/A"},{"$f":"INDEX(G111:BY111,$E$7)","v":0.16},{"$f":"INDEX(G111:BY111,$F$7)","v":"…"},1.32,1.32,1.32,"…","…","…",0.16,0.45,"…","…",0.61,0.89,0.76,0.75,0.68,0.73,0.84,406.8,"…","…",279.2,174.79,"…",111.96,178,96,"…","…",24.9,47.64,51.3,179.34,"…","…","…","…",61.73,"…",0.15,0.16,1.1100000000000001,0.38,"…",2.58,0.11,0.15,0.04,1205.4100000000001,"…",38.89,"…",165.91,"…",0.7,"…",0.4,11.5,60.5,39,35.5,24,562.17999999999995,8.77,1136.7,238.5,3084.3,2074.5,262.10000000000002,41.14,111.5,2.46]
["1968M07","1968-07-01",false,{"$error":"#N/A"},{"$f":"INDEX(G112:BY112,$E$7)","v":0.16},{"$f":"INDEX(G112:BY112,$F$7)","v":"…"},1.32,1.32,1.32,"…","…","…",0.16,0.45,"…","…",0.63,0.88,0.75,0.75,0.68,0.73,0.84,377.9,"…","…",261.25,172.43,"…",110.78,162,96,"…","…",25.21,47.24,49.8,181.69,"…","…","…","…",63.57,"…",0.16,0.16,1.1000000000000001,0.38,"…",2.58,0.11,0.15,0.04,1173.9000000000001,"…",38.89,"…",165.91,"…",0.69,"…",0.39,11.5,60.5,36,35.5,24,562.17999999999995,8.77,1054.25,247.1,3075.4,2074.5,265.7,39.46,122.5,2.31]
["1968M08","1968-08-01",false,{"$error":"#N/A"},{"$f":"INDEX(G113:BY113,$E$7)","v":0.16},{"$f":"INDEX(G113:BY113,$F$7)","v":"…"},1.32,1.32,1.32,"…","…","…",0.16,0.45,"…","…",0.65,0.87,0.75,0.75,0.68,0.73,0.84,385.5,"…","…",266.68,150.22999999999999,"…",105.82,157,96,"…","…",24.87,44.88,46.9,177.69,"…","…","…","…",63.93,"…",0.14000000000000001,0.16,1.1000000000000001,0.39,"…",2.58,0.11,0.15,0.03,1180.58,"…",38.89,"…",165.91,"…",0.68,"…",0.4,11.5,60.5,36,35.5,24,562.17999999999995,8.77,1056.45,250.2,3062.2,2074.5,269,39.19,122.5,2.19]
["1968M09","1968-09-01",false,{"$error":"#N/A"},{"$f":"INDEX(G114:BY114,$E$7)","v":0.16},{"$f":"INDEX(G114:BY114,$F$7)","v":"…"},1.32,1.32,1.32,"…","…","…",0.16,0.45,"…","…",0.77,0.85,0.75,0.75,0.68,0.73,0.84,375.6,"…","…",272.82,141.72999999999999,"…",105.35,161,99,"…","…",24.7,44.09,47.3,175.8,"…","…","…","…",63.57,"…",0.16,0.16,1.1599999999999999,0.39,"…",2.58,0.11,0.15,0.03,1228.75,"…",38.89,"…",165.91,"…",0.66,"…",0.39,11.5,60.5,36,35.5,24,562.17999999999995,8.77,1110.03,251.5,3071,2074.5,263,40.18,122.5,2.21]
["1968M10","1968-10-01",false,{"$error":"#N/A"},{"$f":"INDEX(G115:BY115,$E$7)","v":0.16},{"$f":"INDEX(G115:BY115,$F$7)","v":"…"},1.32,1.32,1.32,"…","…","…",0.16,0.45,"…","…",0.83,0.85,0.74,0.75,0.68,0.73,0.84,373.7,"…","…",269.75,141.72999999999999,"…",104.17,166,98,"…","…",24.89,44.88,48.8,163.72,"…","…","…","…",63.57,"…",0.15,0.16,1.17,0.39,"…",2.58,0.11,0.16,0.04,1183.73,"…",38.89,"…",165.91,"…",0.66,"…",0.41,11.5,60.5,36,35.5,24,562.17999999999995,8.77,1079.82,247.8,3110.7,2074.5,262.10000000000002,39.21,122.5,1.97]
["1968M11","1968-11-01",false,{"$error":"#N/A"},{"$f":"INDEX(G116:BY116,$E$7)","v":0.16},{"$f":"INDEX(G116:BY116,$F$7)","v":"…"},1.32,1.32,1.32,"…","…","…",0.16,0.45,"…","…",0.97,0.85,0.72,0.75,0.68,0.73,0.84,376,"…","…",284.63,143.13999999999999,"…",108.89,173,97,"…","…",25.67,49.21,52,157.13999999999999,"…","…","…","…",63.2,"…",0.14000000000000001,0.16,1.1000000000000001,0.39,"…",2.58,0.11,0.15,0.05,1167.22,"…",38.89,"…",165.91,"…",0.63,"…",0.42,11.5,60.5,36,35.5,24,562.17999999999995,8.77,1099.8800000000001,248.5,3320.2,2074.5,264.10000000000002,39.78,122.5,2.02]
["1968M12","1968-12-01",false,{"$error":"#N/A"},{"$f":"INDEX(G117:BY117,$E$7)","v":0.16},{"$f":"INDEX(G117:BY117,$F$7)","v":"…"},1.32,1.32,1.32,"…","…","…",0.16,0.45,"…","…",1.02,0.83,0.71,0.75,0.68,0.73,0.84,386.9,"…","…",320.06,152.83000000000001,"…",111.02,181,94,"…","…",25.57,48.42,53.9,159.88999999999999,"…","…","…","…",63.2,"…",0.13,0.18,1.0900000000000001,0.39,"…",2.58,0.11,0.15,0.06,1165.6300000000001,"…",38.89,"…",165.91,"…",0.62,"…",0.42,11.5,60.5,36,35.5,24,562.17999999999995,8.77,1184.98,250.2,3258.4,2074.5,269,41.08,122.5,1.96]
["1969M01","1969-01-01",false,{"$error":"#N/A"},{"$f":"INDEX(G118:BY118,$E$7)","v":0.17},{"$f":"INDEX(G118:BY118,$F$7)","v":"…"},1.27,1.27,1.27,"…","…","…",0.17,0.45,"…","…",0.94,0.83,0.71,0.73,0.6,0.86,0.72,398.7,"…","…",319.58999999999997,158.26,"…",111.49,181,95,"…","…",25.96,50.39,53.2,162.35,"…","…","…","…",63.2,"…",0.14000000000000001,0.15,1.0900000000000001,0.39,"…",2.87,0.11,0.16,0.06,1135.81,"…",38.89,"…",165.91,"…",0.63,"…",0.43,11.25,58,38.5,26.6,22,573.20000000000005,9.84,1255.53,254.2,3227.6,2363.4,269.39999999999998,42.3,122.5,1.98]
["1969M02","1969-02-01",false,{"$error":"#N/A"},{"$f":"INDEX(G119:BY119,$E$7)","v":0.17},{"$f":"INDEX(G119:BY119,$F$7)","v":"…"},1.27,1.27,1.27,"…","…","…",0.17,0.45,"…","…",0.91,0.84,0.71,0.73,0.6,0.86,0.72,396.4,"…","…",346.05,158.26,"…",109.36,185,95,"…","…",25.94,50.39,54.1,160.47999999999999,"…","…","…","…",62.83,"…",0.14000000000000001,0.15,1.0900000000000001,0.39,"…",2.87,0.11,0.16,7.0000000000000007E-2,1097.9100000000001,"…",38.89,"…",165.91,"…",0.63,"…",0.47,11.25,58,38.5,26.6,22,584.22,9.84,1285.29,258.39999999999998,3245.2,2363.4,267.39999999999998,42.6,122.5,1.84]
["1969M03","1969-03-01",false,{"$error":"#N/A"},{"$f":"INDEX(G120:BY120,$E$7)","v":0.17},{"$f":"INDEX(G120:BY120,$F$7)","v":"…"},1.27,1.27,1.27,"…","…","…",0.17,0.45,"…","…",0.9,0.83,0.69,0.73,0.6,0.86,0.72,388.1,"…","…",347.82,179.52,"…",110.55,178,94,"…","…",25.84,50.39,53.1,166.96,"…","…","…","…",62.1,"…",0.15,0.17,1.1299999999999999,0.4,"…",2.87,0.11,0.16,0.08,1098.6500000000001,"…",38.89,"…",165.91,"…",0.63,"…",0.51,11.25,58,38.5,26.6,22,584.22,9.84,1278.46,261.2,3243,2363.4,271.60000000000002,43.16,122.5,1.83]
["1969M04","1969-04-01",false,{"$error":"#N/A"},{"$f":"INDEX(G121:BY121,$E$7)","v":0.17},{"$f":"INDEX(G121:BY121,$F$7)","v":"…"},1.27,1.27,1.27,"…","…","…",0.17,0.45,"…","…",0.88,0.81,0.66,0.73,0.6,0.86,0.72,376.3,"…","…",340.14,170.07,"…",110.07,167,95,"…","…",26.09,51.57,51.9,165.2,"…","…","…","…",62.1,"…",0.15,0.18,1.1599999999999999,0.4,"…",2.87,0.11,0.16,0.08,1110.75,"…",38.89,"…",165.91,"…",0.63,"…",0.52,11.25,58,38.5,26.6,22,584.22,9.84,1388.03,268.3,3304.7,2363.4,272.7,43.31,122.5,1.78]
["1969M05","1969-05-01",false,{"$error":"#N/A"},{"$f":"INDEX(G122:BY122,$E$7)","v":0.17},{"$f":"INDEX(G122:BY122,$F$7)","v":"…"},1.27,1.27,1.27,"…","…","…",0.17,0.45,"…","…",0.81,0.81,0.65,0.73,0.6,0.86,0.72,353.1,"…","…",345.17,166.29,"…",112.44,170,96,"…","…",26.61,54.33,49.9,171.09,"…","…","…","…",62.1,"…",0.17,0.18,1.24,0.4,"…",2.87,0.11,0.16,0.08,1114.6300000000001,"…",38.89,"…",165.91,"…",0.63,"…",0.5,11.25,58,38.5,26.6,22,584.22,9.84,1392.44,278.2,3355.4,2363.4,278.89999999999998,43.46,122.5,1.76]
["1969M06","1969-06-01",false,{"$error":"#N/A"},{"$f":"INDEX(G123:BY123,$E$7)","v":0.17},{"$f":"INDEX(G123:BY123,$F$7)","v":"…"},1.27,1.27,1.27,"…","…","…",0.17,0.45,"…","…",0.89,0.8,0.68,0.73,0.6,0.86,0.72,339,"…","…",315.10000000000002,165.35,"…",109.6,173,99,"…","…",26.58,54.33,49,178.75,"…","…","…","…",61.73,"…",0.16,0.18,1.31,0.4,"…",2.87,0.11,0.16,0.08,1125.81,"…",38.89,"…",165.91,"…",0.62,"…",0.51,11.25,58,38.5,26.6,22,584.22,9.84,1483.04,285.5,3379.7,2363.4,281.3,41.44,122.5,1.65]
["1969M07","1969-07-01",false,{"$error":"#N/A"},{"$f":"INDEX(G124:BY124,$E$7)","v":0.17},{"$f":"INDEX(G124:BY124,$F$7)","v":"…"},1.27,1.27,1.27,"…","…","…",0.17,0.45,"…","…",0.93,0.78,0.69,0.73,0.6,0.86,0.72,326.89999999999998,"…","…",323.37,161.80000000000001,"…",101.57,180,95,"…","…",26.27,53.93,51.5,180.51,"…","…","…","…",60.26,"…",0.15,0.18,1.3,0.4,"…",2.87,0.11,0.15,0.08,1149.6099999999999,"…",38.89,"…",165.91,"…",0.61,"…",0.54,11.25,58,40,26.6,22,584.22,9.84,1453.95,311.10000000000002,3439.2,2363.4,283.7,41.76,122.5,1.62]
["1969M08","1969-08-01",false,{"$error":"#N/A"},{"$f":"INDEX(G125:BY125,$E$7)","v":0.17},{"$f":"INDEX(G125:BY125,$F$7)","v":"…"},1.27,1.27,1.27,"…","…","…",0.17,0.45,"…","…",0.91,0.81,0.72,0.73,0.6,0.86,0.72,330.7,"…","…",309.91000000000003,171.49,"…",99.21,181,96,"…","…",25.42,53.54,54.2,171.58,"…","…","…","…",56.22,"…",0.17,0.18,1.37,0.4,"…",2.87,0.11,0.16,7.0000000000000007E-2,1121.04,"…",38.89,"…",165.91,"…",0.6,"…",0.57999999999999996,11.25,58,40,26.6,22,584.22,9.84,1606.73,315.89999999999998,3470.1,2363.4,293.89999999999998,41.09,122.5,1.65]
["1969M09","1969-09-01",false,{"$error":"#N/A"},{"$f":"INDEX(G126:BY126,$E$7)","v":0.17},{"$f":"INDEX(G126:BY126,$F$7)","v":"…"},1.27,1.27,1.27,"…","…","…",0.17,0.45,"…","…",0.9,0.9,0.76,0.73,0.6,0.86,0.72,332.6,"…","…",318.88,180.94,"…",100.86,200,92,"…","…",24.54,51.18,56.8,167.55,"…","…","…","…",53.65,"…",0.18,0.18,1.32,0.4,"…",2.87,0.11,0.16,0.06,1096.94,"…",38.89,"…",165.91,"…",0.61,"…",0.54,11.25,58,40,26.6,22,584.22,9.84,1578.95,302.5,3470.1,2363.4,299.39999999999998,40.869999999999997,122.5,1.79]
["1969M10","1969-10-01",false,{"$error":"#N/A"},{"$f":"INDEX(G127:BY127,$E$7)","v":0.17},{"$f":"INDEX(G127:BY127,$F$7)","v":"…"},1.27,1.27,1.27,"…","…","…",0.17,0.45,"…","…",0.92,1.04,0.85,0.73,0.6,0.86,0.72,336.6,"…","…",331.09,203.14,"…",102.99,240,92,"…","…",24.38,51.87,57.4,167.36,"…","…","…","…",52.18,"…",0.17,0.18,1.23,0.41,"…",2.87,0.11,0.16,7.0000000000000007E-2,1139.1400000000001,"…",38.89,"…",165.91,"…",0.63,"…",0.5,11.25,58,40,26.6,22,601.86,9.84,1554.48,293.7,3534,2363.4,298.89999999999998,40.44,122.75,1.87]
["1969M11","1969-11-01",false,{"$error":"#N/A"},{"$f":"INDEX(G128:BY128,$E$7)","v":0.17},{"$f":"INDEX(G128:BY128,$F$7)","v":"…"},1.27,1.27,1.27,"…","…","…",0.17,0.45,"…","…",0.93,1.02,0.82,0.73,0.6,0.86,0.72,357.4,"…","…",346.64,203.14,"…",106.53,260,91,"…","…",24.63,53.16,57.5,167.55,"…","…","…","…",52.18,"…",0.16,0.18,1.21,0.41,"…",2.87,0.11,0.16,7.0000000000000007E-2,1096.3800000000001,"…",38.89,"…",165.91,"…",0.65,"…",0.45,11.25,58,40,26.6,22,606.27,9.84,1631.42,315.7,3642,2363.4,309.5,37.4,132.5,1.92]
["1969M12","1969-12-01",false,{"$error":"#N/A"},{"$f":"INDEX(G129:BY129,$E$7)","v":0.17},{"$f":"INDEX(G129:BY129,$F$7)","v":"…"},1.27,1.27,1.27,"…","…","…",0.17,0.45,"…","…",0.85,1.05,0.83,0.73,0.6,0.86,0.72,399.4,"…","…",334.54,255.11,"…",106.29,251,96,"…","…",24.54,52.36,56.5,161.07,"…","…","…","…",52.18,"…",0.16,0.16,1.21,0.41,"…",2.87,0.11,0.15,0.06,1061.92,"…",38.89,"…",165.91,"…",0.66,"…",0.47,11.25,58,40,26.6,22,606.27,9.84,1699.76,334,3818.4,2363.4,310.2,35.17,132.5,1.81]
["1970M01","1970-01-01",false,{"$error":"#N/A"},{"$f":"INDEX(G130:BY130,$E$7)","v":0.17},{"$f":"INDEX(G130:BY130,$F$7)","v":"…"},1.21,1.21,1.21,"…",7.8,"…",0.17,0.45,"…","…",0.68,1.1399999999999999,0.86,0.84,0.63,0.99,0.89,405.8,"…","…",349.83,255.34,"…",107,252,101,"…","…",25.53,58.4,51.8,140.44999999999999,"…","…","…","…",52.18,"…",0.17,0.17,1.3,0.41,"…",2.73,0.11,0.17,0.08,1078.1099999999999,42.99,38.89,175,165.91,"…",0.64,"…",0.5,11,54,44,18.25,31.5,606.27,9.84,1626.3,324.7,3842.7,2846.2,302.39999999999998,34.94,132.5,1.88]
["1970M02","1970-02-01",false,{"$error":"#N/A"},{"$f":"INDEX(G131:BY131,$E$7)","v":0.17},{"$f":"INDEX(G131:BY131,$F$7)","v":"…"},1.21,1.21,1.21,"…",7.8,"…",0.17,0.45,"…","…",0.68,1.1499999999999999,0.85,0.84,0.63,0.99,0.89,406.28,"…","…",346.99,256.29000000000002,"…",110,257,102,"…","…",25.57,58.4,51.8,133.38,"…","…","…","…",52.18,"…",0.17,0.17,1.33,0.41,"…",2.73,0.11,0.16,7.0000000000000007E-2,1114.27,42.99,40.630000000000003,175,169.88,"…",0.65,"…",0.48,11,54,44,18.25,31.5,606.27,9.84,1657.2,341,3767.7,2846.2,298,34.99,132.5,1.9]
["1970M03","1970-03-01",false,{"$error":"#N/A"},{"$f":"INDEX(G132:BY132,$E$7)","v":0.17},{"$f":"INDEX(G132:BY132,$F$7)","v":"…"},1.21,1.21,1.21,"…",7.8,"…",0.17,0.45,"…","…",0.68,1.17,0.87,0.84,0.63,0.99,0.89,406.28,"…","…",343.45,258.88,"…",111,268,97,"…","…",25.61,58.4,51.8,126.31,"…","…","…","…",52.18,"…",0.19,0.16,1.35,0.41,"…",2.73,0.11,0.16,7.0000000000000007E-2,1111.53,42.99,41.67,175,172.21,"…",0.66,"…",0.44,11,54,44,18.25,31.5,606.27,9.84,1754,335.5,3796.4,2846.2,296,35.090000000000003,132.5,1.89]
["1970M04","1970-04-01",false,{"$error":"#N/A"},{"$f":"INDEX(G133:BY133,$E$7)","v":0.17},{"$f":"INDEX(G133:BY133,$F$7)","v":"…"},1.21,1.21,1.21,"…",7.8,"…",0.17,0.45,"…","…",0.68,1.2,0.91,0.84,0.63,0.99,0.89,406.28,"…","…",358.57,267.62,"…",112,298,97,"…","…",25.65,58.4,51.8,121.59,"…","…","…","…",52.18,"…",0.17,0.16,1.36,0.42,"…",2.73,0.11,0.16,0.08,1119.96,42.99,41.81,175,172.52,"…",0.66,"…",0.42,11,54,44,18.25,31.5,612.88,9.84,1741.6,321.2,3849.3,2846.2,293.39999999999998,35.619999999999997,132.5,1.85]
["1970M05","1970-05-01",false,{"$error":"#N/A"},{"$f":"INDEX(G134:BY134,$E$7)","v":0.17},{"$f":"INDEX(G134:BY134,$F$7)","v":"…"},1.21,1.21,1.21,"…",7.8,"…",0.17,0.45,"…","…",0.68,1.22,0.94,0.84,0.63,0.99,0.89,399.19,"…","…",383.84,278.73,"…",115,292,98,"…","…",25.7,58.4,51.8,121.59,"…","…","…","…",52.18,"…",0.19,0.16,1.33,0.42,"…",2.73,0.11,0.17,0.08,1074.77,42.99,43.5,175,176.25,"…",0.66,"…",0.41,11,54,44,18.25,31.5,617.29,9.84,1597.9,291.60000000000002,3736.8,2846.2,291.7,35.950000000000003,132.5,1.67]
["1970M06","1970-06-01",false,{"$error":"#N/A"},{"$f":"INDEX(G135:BY135,$E$7)","v":0.17},{"$f":"INDEX(G135:BY135,$F$7)","v":"…"},1.21,1.21,1.21,"…",7.8,"…",0.17,0.45,"…","…",0.68,1.21,0.93,0.84,0.63,0.99,0.89,389.74,"…","…",383.37,277.07,"…",118,288,102,"…","…",25.74,58.4,51.8,123.95,"…","…","…","…",52.18,"…",0.18,0.16,1.3,0.42,"…",2.73,0.11,0.17,0.08,1047.3399999999999,42.99,44.44,175,178.3,"…",0.67,"…",0.41,11,54,44,18.25,31.5,617.29,9.84,1458,308.2,3542.8,2846.2,293.2,35.42,132.5,1.64]
["1970M07","1970-07-01",false,{"$error":"#N/A"},{"$f":"INDEX(G136:BY136,$E$7)","v":0.17},{"$f":"INDEX(G136:BY136,$F$7)","v":"…"},1.21,1.21,1.21,"…",7.8,"…",0.17,0.45,"…","…",0.68,1.21,0.94,0.84,0.63,0.99,0.89,389.74,"…","…",385.73,261.01,"…",122,290,106,"…","…",25.86,58.4,51.8,124.93,"…","…","…","…",52.54,"…",0.15,0.17,1.29,0.42,"…",2.73,0.11,0.17,0.08,1065.43,42.99,44.44,175,178.3,"…",0.67,"…",0.38,11,54,41,18.25,31.5,617.29,9.84,1366.6,300.7,3498.7,2846.2,298.10000000000002,35.32,132.5,1.69]
["1970M08","1970-08-01",false,{"$error":"#N/A"},{"$f":"INDEX(G137:BY137,$E$7)","v":0.17},{"$f":"INDEX(G137:BY137,$F$7)","v":"…"},1.21,1.21,1.21,"…",7.8,"…",0.17,0.45,"…","…",0.68,1.18,0.94,0.84,0.63,0.99,0.89,377.93,"…","…",392.11,240.22,"…",120,270,107,"…","…",26.24,58.4,51.8,128.08000000000001,"…","…","…","…",54.01,"…",0.16,0.17,1.25,0.42,"…",2.73,0.11,0.17,0.08,1082.5999999999999,42.99,44.44,175,178.3,"…",0.68,"…",0.37,11,54,41,18.25,31.5,617.29,9.84,1266.5,285.39999999999998,3620,2846.2,298.10000000000002,35.380000000000003,132.5,1.8]
["1970M09","1970-09-01",false,{"$error":"#N/A"},{"$f":"INDEX(G138:BY138,$E$7)","v":0.17},{"$f":"INDEX(G138:BY138,$F$7)","v":"…"},1.21,1.21,1.21,"…",7.8,"…",0.17,0.45,"…","…",0.68,1.1599999999999999,0.94,0.84,0.63,0.99,0.89,381,"…","…",364.47,226.29,"…",119,276,106,"…","…",26.77,58.4,51.8,125.72,"…","…","…","…",56.22,"…",0.16,0.17,1.28,0.42,"…",2.73,0.11,0.17,0.09,1071.75,42.99,44.44,175,178.3,"…",0.69,"…",0.36,11,54,41,18.25,31.5,617.29,9.84,1246.9000000000001,284.8,3646.4,2846.2,300,36.19,132.5,1.8]
["1970M10","1970-10-01",{"$f":"B139>$C$8","v":false},{"$f":"IF(C139,B139,NA())","v":{"$error":"#N/A"}},{"$f":"INDEX(G139:BY139,$E$7)","v":0.17},{"$f":"INDEX(G139:BY139,$F$7)","v":"…"},1.21,1.21,1.21,"…",7.8,"…",0.17,0.45,"…","…",0.68,1.1200000000000001,0.94,0.84,0.63,0.99,0.89,398.48,"…","…",390.22,257.47000000000003,"…",123,304,104,"…","…",27.37,58.4,51.8,124.44,"…","…","…","…",58.79,"…",0.17,0.17,1.28,0.43,"…",2.73,0.11,0.17,0.09,1025.76,42.99,44.44,175,178.3,"…",0.7,"…",0.35,11,54,41,18.25,31.5,617.29,9.84,1142.4000000000001,285.2,3668.5,2846.2,296.5,37.520000000000003,132.5,1.75]
["1970M11","1970-11-01",false,{"$error":"#N/A"},{"$f":"INDEX(G140:BY140,$E$7)","v":0.17},{"$f":"INDEX(G140:BY140,$F$7)","v":"…"},1.21,1.21,1.21,"…",7.8,"…",0.17,0.45,"…","…",0.68,1.03,0.92,0.84,0.63,0.99,0.89,401.56,"…","…",406.28,269.99,"…",125,330,105,"…","…",27.88,58.4,51.8,124.84,"…","…","…","…",60.99,"…",0.15,0.17,1.27,0.43,"…",2.73,0.11,0.16,0.09,1057.02,42.99,44.44,175,178.3,"…",0.71,"…",0.37,11,54,41,18.25,31.5,617.29,9.84,1085.3,279.89999999999998,3615.6,2846.2,293.2,37.44,132.5,1.76]
["1970M12","1970-12-01",false,{"$error":"#N/A"},{"$f":"INDEX(G141:BY141,$E$7)","v":0.17},{"$f":"INDEX(G141:BY141,$F$7)","v":"…"},1.21,1.21,1.21,"…",7.8,"…",0.17,0.45,"…","…",0.68,0.98,0.92,0.84,0.63,0.99,0.89,403.92,"…","…",437.69,271.64,"…",121,311,106,"…","…",28.39,58.4,51.8,120.42,"…","…","…","…",63.2,"…",0.13,0.19,1.31,0.43,"…",2.73,0.11,0.17,0.09,1063.19,42.99,44.44,175,178.3,"…",0.72,"…",0.37,11,54,41,18.25,31.5,617.29,9.84,1045.7,276.7,3496.5,2846.2,289.2,37.44,132.5,1.63]
["1971M01","1971-01-01",false,{"$error":"#N/A"},{"$f":"INDEX(G142:BY142,$E$7)","v":0.18},{"$f":"INDEX(G142:BY142,$F$7)","v":"…"},1.64,1.64,1.64,"…",8.68,"…",0.18,0.5,"…","…",0.54,1,0.93,0.78,0.64,0.8,0.9,409.82,"…","…",448.32,273.29000000000002,"…",125,309,105,"…","…",28.51,58.4,55.77,121.4,"…","…","…","…",63.57,"…",0.14000000000000001,0.13,1.34,0.43,0.8,3.31,0.11,0.17,0.1,1045.9100000000001,44.43,44.44,"…",178.3,"…",0.73,"…",0.35,11.25,57.5,40,16,32.5,617.29,10.33,1010,262.5,3465.7,2932.1,284.60000000000002,37.880000000000003,129,1.64]
["1971M02","1971-02-01",false,{"$error":"#N/A"},{"$f":"INDEX(G143:BY143,$E$7)","v":0.18},{"$f":"INDEX(G143:BY143,$F$7)","v":"…"},1.64,1.64,1.64,"…",8.68,"…",0.18,0.5,"…","…",0.54,0.98,0.93,0.78,0.67,0.76,0.9,393.4,"…","…",479.5,273.29000000000002,"…",125,297,101,"…","…",28.56,58.4,55.77,105.1,"…","…","…","…",63.57,"…",0.14000000000000001,0.15,1.37,0.43,0.79,3.31,0.11,0.17,0.11,1018.55,44.43,44.44,"…",178.3,"…",0.74,"…",0.33,11.25,57.5,40,16,32.5,617.29,10.33,1020.2,266.10000000000002,3463.5,2932.1,272.10000000000002,38.74,122.5,1.6]
["1971M03","1971-03-01",false,{"$error":"#N/A"},{"$f":"INDEX(G144:BY144,$E$7)","v":0.18},{"$f":"INDEX(G144:BY144,$F$7)","v":"…"},1.64,1.64,1.64,"…",8.68,"…",0.18,0.5,"…","…",0.54,1.01,0.94,0.76,0.7,0.66,0.9,401.56,"…","…",481.87,278.02,"…",124,300,100,"…","…",28.45,58.4,55.77,98.91,"…","…","…","…",62.83,"…",0.14000000000000001,0.15,1.38,0.43,0.78,3.31,0.11,0.17,0.1,1020.68,44.43,44.44,"…",178.3,"…",0.73,"…",0.34,11.25,57.5,40,16,32.5,617.29,10.33,1144.0999999999999,267.39999999999998,3527.4,2932.1,283.7,38.869999999999997,122.5,1.67]
["1971M04","1971-04-01",false,{"$error":"#N/A"},{"$f":"INDEX(G145:BY145,$E$7)","v":0.18},{"$f":"INDEX(G145:BY145,$F$7)","v":"…"},1.64,1.64,1.64,"…",8.68,"…",0.18,0.5,"…","…",0.54,0.99,0.94,1.03,0.65,1.54,0.9,388.8,"…","…",462.97,269.27999999999997,"…",119,292,98,"…","…",28.42,58.4,55.77,95.67,"…","…","…","…",62.46,"…",0.14000000000000001,0.17,1.4,0.43,0.82,3.31,0.11,0.17,0.1,1012.52,44.43,44.44,"…",178.3,"…",0.73,"…",0.36,11.25,57.5,40,16,32.5,617.29,10.33,1251.5,268,3562.7,2932.1,283.5,39.01,122.5,1.73]
["1971M05","1971-05-01",false,{"$error":"#N/A"},{"$f":"INDEX(G146:BY146,$E$7)","v":0.18},{"$f":"INDEX(G146:BY146,$F$7)","v":"…"},1.64,1.64,1.64,"…",8.68,"…",0.18,0.5,"…","…",0.54,1.02,0.94,0.91,0.66,1.19,0.9,359.04,"…","…",453.52,242.82,"…",122,293,101,"…","…",28.62,58.4,55.77,105.98,"…","…","…","…",63.2,"…",0.14000000000000001,0.15,1.4,0.44,0.79,3.31,0.11,0.17,0.1,1038.8,44.43,44.31,"…",178.02,"…",0.75,"…",0.38,11.25,57.5,40,16,32.5,617.29,10.33,1114.4000000000001,264.5,3520.8,2932.1,287.7,40.520000000000003,122.5,1.67]
["1971M06","1971-06-01",false,{"$error":"#N/A"},{"$f":"INDEX(G147:BY147,$E$7)","v":0.18},{"$f":"INDEX(G147:BY147,$F$7)","v":"…"},1.64,1.64,1.64,"…",8.68,"…",0.18,0.5,"…","…",0.54,1,0.93,0.85,0.64,1.02,0.9,354.31,"…","…",441.24,240.93,"…",127,310,104,"…","…",28.28,58.4,55.77,109.22,"…","…","…","…",61.36,"…",0.14000000000000001,0.15,1.37,0.44,0.76,3.31,0.11,0.18,0.09,1035.0899999999999,44.43,43.26,"…",175.73,"…",0.79,"…",0.34,11.25,57.5,40,16,32.5,617.29,10.33,1074.2,273.3,3448,2932.1,308.60000000000002,40.1,122.5,1.61]
["1971M07","1971-07-01",false,{"$error":"#N/A"},{"$f":"INDEX(G148:BY148,$E$7)","v":0.18},{"$f":"INDEX(G148:BY148,$F$7)","v":"…"},1.74,1.74,1.74,"…",8.68,"…",0.18,0.5,"…","…",0.54,0.99,0.93,0.91,0.63,1.19,0.9,351.01,"…","…",439.58,263.37,"…",134,336,107,"…","…",28.33,58.4,55.77,111.48,"…","…","…","…",61.36,"…",0.14000000000000001,0.15,1.35,0.44,0.75,3.31,0.11,0.18,0.09,1011.61,44.43,41.94,"…",172.81,"…",0.8,"…",0.33,11.25,66,46.5,16,32.5,617.29,10.33,1115.3,261.89999999999998,3456.8,2932.1,317.60000000000002,40.950000000000003,122.5,1.58]
["1971M08","1971-08-01",false,{"$error":"#N/A"},{"$f":"INDEX(G149:BY149,$E$7)","v":0.18},{"$f":"INDEX(G149:BY149,$F$7)","v":"…"},1.74,1.74,1.74,"…",8.68,"…",0.18,0.5,"…","…",0.54,1.01,0.93,0.86,0.71,0.97,0.9,355.49,"…","…",439.64,282.56,"…",131,335,108,"…","…",28.3,58.4,55.77,113.35,"…","…","…","…",60.99,"…",0.15,0.15,1.32,0.44,0.75,3.31,0.11,0.18,0.09,1001.25,44.43,42.19,"…",173.37,"…",0.83,"…",0.32,11.25,66,46.5,16,32.5,628.32000000000005,10.33,1097.9000000000001,258.3,3478.9,2932.1,322.5,42.71,122.5,1.59]
["1971M09","1971-09-01",false,{"$error":"#N/A"},{"$f":"INDEX(G150:BY150,$E$7)","v":0.18},{"$f":"INDEX(G150:BY150,$F$7)","v":"…"},1.74,1.74,1.74,"…",8.68,"…",0.18,0.5,"…","…",0.54,0.96,0.92,0.85,0.73,0.94,0.9,356.72,"…","…",429.75,272.24,"…",124,296,99,"…","…",28.35,58.4,55.77,120.61,"…","…","…","…",60.99,"…",0.15,0.15,1.3,0.44,0.79,3.31,0.12,0.17,0.09,1042.75,44.43,43.12,"…",175.42,"…",0.83,"…",0.32,11.25,66,46.5,16,32.5,639.34,10.33,1056.4000000000001,239.2,3525.2,2932.1,311.2,42.03,122.5,1.42]
["1971M10","1971-10-01",false,{"$error":"#N/A"},{"$f":"INDEX(G151:BY151,$E$7)","v":0.18},{"$f":"INDEX(G151:BY151,$F$7)","v":"…"},1.74,1.74,1.74,"…",8.68,"…",0.18,0.5,"…","…",0.54,0.94,0.92,0.85,0.7,0.94,0.9,357.94,"…","…",404.03,253.99,"…",125,305,101,"…","…",28.24,58.4,55.77,121.69,"…","…","…","…",60.26,"…",0.14000000000000001,0.15,1.31,0.45,0.8,3.31,0.12,0.17,0.09,1081.58,44.43,43.58,"…",176.43,"…",0.82,"…",0.32,11.25,66,46.5,16,32.5,639.34,10.33,1041.2,229.5,3489.9,2932.1,336.6,42.5,122.5,1.34]
["1971M11","1971-11-01",false,{"$error":"#N/A"},{"$f":"INDEX(G152:BY152,$E$7)","v":0.18},{"$f":"INDEX(G152:BY152,$F$7)","v":"…"},1.74,1.74,1.74,"…",8.68,"…",0.18,0.5,"…","…",0.54,0.97,0.93,0.82,0.69,0.87,0.9,358.23,"…","…",396.01,247.82,"…",125,301,102,"…","…",28.28,58.4,55.77,118.06,"…","…","…","…",60.26,"…",0.14000000000000001,0.15,1.29,0.45,0.85,3.31,0.12,0.18,0.09,1102.4000000000001,44.43,41.57,"…",171.99,"…",0.82,"…",0.32,11.25,66,46.5,16,32.5,641.54,10.33,1013.9,221.8,3534,2932.1,344.4,42.86,122.5,1.32]
["1971M12","1971-12-01",false,{"$error":"#N/A"},{"$f":"INDEX(G153:BY153,$E$7)","v":0.18},{"$f":"INDEX(G153:BY153,$F$7)","v":"…"},1.74,1.74,1.74,"…",8.68,"…",0.18,0.5,"…","…",0.54,1.02,0.94,0.8,0.7,0.81,0.9,300,"…","…",410.95,233.69,"…",126,271,101,"…","…",28.25,58.4,55.77,116.98,"…","…","…","…",59.89,"…",0.14000000000000001,0.16,1.32,0.45,0.88,3.31,0.12,0.18,0.13,1100.6199999999999,44.43,41.45,"…",171.72,"…",0.85,"…",0.28999999999999998,11.25,66,46.5,16,32.5,665.8,10.33,1037.9000000000001,231,3670.7,2932.1,358.9,43.48,122.5,1.39]
["1972M01","1972-01-01",false,{"$error":"#N/A"},{"$f":"INDEX(G154:BY154,$E$7)","v":0.19},{"$f":"INDEX(G154:BY154,$F$7)","v":"…"},1.77,1.77,1.77,"…",9.6,"…",0.19,0.54,"…","…",0.64,0.99,0.93,0.79,0.75,0.8,0.81,300,"…","…",426.69,218.34,"…",125,249,105,"…","…",27.06,51.33,53.08,113.84,"…","…","…","…",59.89,"…",0.13,0.19,1.39,0.45,0.92,4.12,0.15,0.19,0.17,1106.83,52.48,40.35,"…",169.24,"…",0.89,"…",0.32,11.5,83,60,29.25,33.5,670.2,10.33,1078,251.9,3626.6,3079.9,379.8,45.75,122.5,1.47]
["1972M02","1972-02-01",false,{"$error":"#N/A"},{"$f":"INDEX(G155:BY155,$E$7)","v":0.19},{"$f":"INDEX(G155:BY155,$F$7)","v":"…"},1.77,1.77,1.77,"…",9.6,"…",0.19,0.54,"…","…",0.64,1,0.93,0.79,0.78,0.78,0.81,250,"…","…",437.61,185.17,"…",127,246,107,"…","…",27.18,51.72,53.46,112.56,"…","…","…","…",59.89,"…",0.14000000000000001,0.19,1.4,0.46,0.89,4.12,0.16,0.19,0.18,1115.1600000000001,52.48,42.13,"…",173.23,"…",0.9,"…",0.31,11.5,83,60,29.25,33.5,670.2,10.33,1112.4000000000001,294.3,3631,3079.9,389.7,48.26,122.5,1.5]
["1972M03","1972-03-01",false,{"$error":"#N/A"},{"$f":"INDEX(G156:BY156,$E$7)","v":0.19},{"$f":"INDEX(G156:BY156,$F$7)","v":"…"},1.77,1.77,1.77,"…",9.6,"…",0.19,0.54,"…","…",0.64,1.02,0.95,0.8,0.82,0.75,0.81,210,"…","…",434.41,216.68,"…",135,258,114,"…","…",27.37,52.51,53.57,113.05,"…","…","…","…",59.89,"…",0.13,0.16,1.45,0.46,0.92,4.12,0.16,0.19,0.19,1088.67,52.48,43.98,"…",177.3,"…",0.87,"…",0.31,11.5,83,60,29.25,33.5,670.2,10.33,1108.2,320.5,3789.7,3079.9,397.4,48.33,122.5,1.54]
["1972M04","1972-04-01",false,{"$error":"#N/A"},{"$f":"INDEX(G157:BY157,$E$7)","v":0.19},{"$f":"INDEX(G157:BY157,$F$7)","v":"…"},1.77,1.77,1.77,"…",9.6,"…",0.19,0.54,"…","…",0.64,1.01,0.96,0.81,0.81,0.82,0.81,200,"…","…",439.9,227.34,"…",140,272,117,"…","…",27.7,53.68,53.68,111.58,"…","…","…","…",60.26,"…",0.14000000000000001,0.15,1.5,0.46,0.93,4.12,0.16,0.19,0.16,1066.04,52.48,43.57,"…",176.41,"…",0.87,"…",0.31,11.5,83,60,29.25,33.5,670.2,10.33,1133,315.89999999999998,3844.9,3079.9,395,49.03,122.5,1.57]
["1972M05",{"$f":"EDATE(B157,1)","v":"1972-05-01"},false,{"$error":"#N/A"},{"$f":"INDEX(G158:BY158,$E$7)","v":0.19},{"$f":"INDEX(G158:BY158,$F$7)","v":"…"},1.77,1.77,1.77,"…",9.6,"…",0.19,0.54,"…","…",0.64,1.04,0.96,0.86,0.8,0.96,0.81,220,"…","…",441.52,227.51,"…",140,252,117,"…","…",27.89,54.48,51.53,114.13,"…","…","…","…",60.26,"…",0.14000000000000001,0.13,1.51,0.47,0.98,4.12,0.16,0.18,0.15,1060.8699999999999,52.48,42.54,"…",174.14,"…",0.86,"…",0.33,11.5,83,60,29.25,33.5,599.66,10.33,1106.4000000000001,317.89999999999998,3765.5,3079.9,386.2,54.62,122.5,1.58]
["1972M06","1972-06-01",false,{"$error":"#N/A"},{"$f":"INDEX(G159:BY159,$E$7)","v":0.19},{"$f":"INDEX(G159:BY159,$F$7)","v":"…"},1.77,1.77,1.77,"…",9.6,"…",0.19,0.54,"…","…",0.64,1.07,0.96,0.87,0.74,1.05,0.81,248.46,"…","…",422.12,216.13,"…",138,234,119,"…","…",27.57,52.9,49.82,118.35,"…","…","…","…",59.89,"…",0.14000000000000001,0.13,1.54,0.47,1.23,4.12,0.15,0.18,0.14000000000000001,1072.21,52.48,40.75,"…",170.15,"…",0.83,"…",0.33,11.5,83,60,29.25,33.5,566.59,10.33,1063.2,311.89999999999998,3741.2,3079.9,371,62.09,122.5,1.57]
["1972M07","1972-07-01",false,{"$error":"#N/A"},{"$f":"INDEX(G160:BY160,$E$7)","v":0.19},{"$f":"INDEX(G160:BY160,$F$7)","v":"…"},1.87,1.87,1.87,"…",9.6,"…",0.19,0.54,"…","…",0.64,1.24,1.04,0.79,0.55000000000000004,1.01,0.81,222.41,"…","…",403.2,214.6,"…",141,226,127,"…","…",27.91,54.07,51.92,119.33,"…","…","…","…",60.26,"…",0.13,0.13,1.51,0.47,1.1499999999999999,4.12,0.15,0.19,0.12,1062.48,52.48,39.020000000000003,"…",166.21,"…",0.78,"…",0.32,11.5,99,75,29.25,33.5,537.92999999999995,10.33,1034.5999999999999,303.7,3732.4,3079.9,363.7,65.66,128,1.74]
["1972M08","1972-08-01",false,{"$error":"#N/A"},{"$f":"INDEX(G161:BY161,$E$7)","v":0.19},{"$f":"INDEX(G161:BY161,$F$7)","v":"…"},1.87,1.87,1.87,"…",9.6,"…",0.19,0.54,"…","…",0.64,1.2,1.04,0.77,0.64,0.87,0.81,217.02,"…","…",413.54,220.64,"…",141,223,126,"…","…",28.63,55.66,54.94,135.55000000000001,"…","…","…","…",62.1,"…",0.14000000000000001,0.13,1.49,0.48,1.22,4.12,0.15,0.19,0.14000000000000001,1081.81,52.48,39.270000000000003,"…",166.78,"…",0.74,"…",0.32,11.5,99,75,29.25,33.5,540.13,10.33,1046.7,297.8,3754.5,3079.9,363.5,67.03,132.5,1.85]
["1972M09","1972-09-01",false,{"$error":"#N/A"},{"$f":"INDEX(G162:BY162,$E$7)","v":0.19},{"$f":"INDEX(G162:BY162,$F$7)","v":"…"},1.87,1.87,1.87,"…",9.6,"…",0.19,0.54,"…","…",0.64,1.17,1.03,0.76,0.69,0.76,0.81,226,"…","…",412.33,224.87,"…",135,225,138,"…","…",32.15,59.2,58.2,144.80000000000001,"…","…","…","…",76.06,"…",0.13,0.13,1.46,0.48,1.2,4.12,0.15,0.19,0.16,1062.8399999999999,52.48,39.380000000000003,"…",167.03,"…",0.73,"…",0.31,11.5,99,75,29.25,33.5,537.92999999999995,10.33,1060.5999999999999,302.39999999999998,3803,3079.9,368.4,65.459999999999994,132.5,1.78]
["1972M10","1972-10-01",false,{"$error":"#N/A"},{"$f":"INDEX(G163:BY163,$E$7)","v":0.19},{"$f":"INDEX(G163:BY163,$F$7)","v":"…"},1.87,1.87,1.87,"…",9.6,"…",0.19,0.54,"…","…",0.64,1.18,1.04,0.74,0.63,0.78,0.81,232,"…","…",401.48,224.02,"…",136,228,135,"…","…",33.93,57.22,56.88,148.69999999999999,"…","…","…","…",87.45,"…",0.14000000000000001,0.13,1.47,0.48,1.1100000000000001,4.12,0.14000000000000001,0.19,0.16,1061.76,52.48,39.46,"…",167.22,"…",0.78,"…",0.36,11.5,99,75,29.25,33.5,537.92999999999995,10.33,917.5,297.2,3758.9,3079.9,363.7,64.86,132.5,1.81]
["1972M11","1972-11-01",false,{"$error":"#N/A"},{"$f":"INDEX(G164:BY164,$E$7)","v":0.19},{"$f":"INDEX(G164:BY164,$F$7)","v":"…"},1.87,1.87,1.87,"…",9.6,"…",0.19,0.54,"…","…",0.64,1.19,1.04,0.71,0.57999999999999996,0.74,0.81,234.96,"…","…",422.59,218.54,"…",148,240,155,"…","…",34.65,59.2,61.95,156,"…","…","…","…",88.92,"…",0.14000000000000001,0.13,1.48,0.49,1.1200000000000001,4.12,0.14000000000000001,0.19,0.16,1048.8599999999999,52.48,39.46,"…",167.22,"…",0.81,"…",0.37,11.5,99,75,29.25,33.5,540.13,10.33,1007.1,298,3701.6,3079.9,378.9,62.91,132.5,1.83]
["1972M12","1972-12-01",false,{"$error":"#N/A"},{"$f":"INDEX(G165:BY165,$E$7)","v":0.19},{"$f":"INDEX(G165:BY165,$F$7)","v":"…"},1.87,1.87,1.87,"…",9.6,"…",0.19,0.54,"…","…",0.64,1.22,1.05,0.71,0.6,0.71,0.81,247.87,"…","…",455.82,213.26,"…",174,234,198,"…","…",38.75,67.06,75.83,165.5,"…","…","…","…",102.88,"…",0.13,0.23,1.57,0.5,1.1399999999999999,4.12,0.14000000000000001,0.19,0.2,1056.18,52.48,43.48,"…",176.21,"…",0.86,"…",0.4,11.5,99,75,29.25,33.5,540.13,10.33,1024.4000000000001,308.39999999999998,3730.2,3079.9,375,63.91,132.5,1.98]
["1973M01","1973-01-01",false,{"$error":"#N/A"},{"$f":"INDEX(G166:BY166,$E$7)","v":0.21},{"$f":"INDEX(G166:BY166,$F$7)","v":"…"},2.08,2.08,2.08,"…",11.48,"…",0.21,0.69,"…","…",1.1299999999999999,1.28,1.05,0.72,0.6,0.73,0.82,231,"…","…",445.79,211.77,"…",214,239,215,"…","…",42.1,79.13,81.349999999999994,160.88,"…","…","…","…",108.39,"…",0.14000000000000001,0.15,1.7,0.5,1.17,5,0.14000000000000001,0.21,0.21,1041.72,133.47,48.85,"…",187.65,"…",0.89,"…",0.44,13.75,105,84,64.75,42.5,542.34,10.33,1119,318.3,3789.7,3373.1,387,65.14,132.5,2.02]
["1973M02","1973-02-01",false,{"$error":"#N/A"},{"$f":"INDEX(G167:BY167,$E$7)","v":0.21},{"$f":"INDEX(G167:BY167,$F$7)","v":"…"},2.08,2.08,2.08,"…",11.48,"…",0.21,0.69,"…","…",1.1299999999999999,1.45,1.0900000000000001,0.73,0.66,0.71,0.82,299,"…","…",460.54,258.66000000000003,"…",259,291,247,"…","…",40.76,81.099999999999994,78.48,173.53,"…","…","…","…",98.84,"…",0.14000000000000001,0.18,1.87,0.51,1.18,5,0.15,0.2,0.2,1039.48,133.47,63.34,"…",215.9,"…",0.91,"…",0.46,13.75,105,84,64.75,42.5,557.77,10.33,1243.5999999999999,339.9,4027.8,3373.1,422,74.2,141.97,2.2400000000000002]
["1973M03","1973-03-01",false,{"$error":"#N/A"},{"$f":"INDEX(G168:BY168,$E$7)","v":0.21},{"$f":"INDEX(G168:BY168,$F$7)","v":"…"},2.08,2.08,2.08,"…",11.48,"…",0.21,0.69,"…","…",1.1299999999999999,1.42,1.1100000000000001,0.73,0.7,0.69,0.82,315,"…","…",462.7,280.36,"…",258,311,238,"…","…",40.56,79.92,76.28,185.87,"…","…","…","…",98.47,"…",0.14000000000000001,0.18,1.98,0.51,1.23,5,0.15,0.21,0.19,1046.8599999999999,133.47,74.099999999999994,"…",234.99,"…",0.96,"…",0.55000000000000004,13.75,105,84,64.75,42.5,571,10.33,1509.5,372.1,4288,3373.1,474,84.37,152.5,2.31]
["1973M04","1973-04-01",false,{"$error":"#N/A"},{"$f":"INDEX(G169:BY169,$E$7)","v":0.21},{"$f":"INDEX(G169:BY169,$F$7)","v":"…"},2.35,2.35,2.35,"…",11.48,"…",0.21,0.69,"…","…",1.1299999999999999,1.29,1.08,0.8,0.69,0.9,0.82,360,"…","…",473.56,290.2,"…",260,333,256,"…","…",40.72,77.77,74.510000000000005,185.87,"…","…","…","…",101.05,"…",0.15,0.15,1.85,0.52,1.27,5,0.15,0.21,0.2,1066.55,133.47,70.97,"…",229.58,"…",1.03,"…",0.54,13.75,105,84,64.75,42.5,571,10.33,1588.4,387.1,4270.3,3373.1,513,90.5,152.5,2.21]
["1973M05","1973-05-01",false,{"$error":"#N/A"},{"$f":"INDEX(G170:BY170,$E$7)","v":0.21},{"$f":"INDEX(G170:BY170,$F$7)","v":"…"},2.35,2.35,2.35,"…",11.48,"…",0.21,0.69,"…","…",1.1299999999999999,1.42,1.07,0.81,0.64,0.96,0.82,416,"…","…",493.84,323.83,"…",358,373,364,"…","…",42.94,88.97,78.48,185.87,"…","…","…","…",102.15,"…",0.16,0.15,1.85,0.53,1.24,5,0.15,0.22,0.2,1087.3599999999999,133.47,61.74,"…",212.94,"…",1.1499999999999999,"…",0.55000000000000004,13.75,105,84,64.75,42.5,582.02,10.33,1552.2,396.4,4347.5,3373.1,549,101.96,152.5,2.4]
["1973M06","1973-06-01",false,{"$error":"#N/A"},{"$f":"INDEX(G171:BY171,$E$7)","v":0.21},{"$f":"INDEX(G171:BY171,$F$7)","v":"…"},2.35,2.35,2.35,"…",11.48,"…",0.21,0.69,"…","…",1.1299999999999999,1.41,1.08,0.84,0.6,1.08,0.85,457,"…","…",524.80999999999995,371.41,"…",470,455,497,"…","…",46.21,101.17,87.3,185.87,"…","…","…","…",108.39,"…",0.16,0.15,1.8,0.54,1.29,5,0.15,0.23,0.21,1116.3,133.47,55.72,"…",201.47,"…",1.22,"…",0.67,13.75,105,84,64.75,42.5,601.86,10.33,1748.7,425.3,4530.5,3373.1,656,120.12,152.5,2.62]
["1973M07","1973-07-01",false,{"$error":"#N/A"},{"$f":"INDEX(G172:BY172,$E$7)","v":0.21},{"$f":"INDEX(G172:BY172,$F$7)","v":"…"},2.7,2.7,2.7,"…",11.48,"…",0.21,0.69,"…","…",1.1299999999999999,1.36,1.06,0.87,0.63,1.1399999999999999,0.85,552,"…","…",593.55999999999995,472.85,"…",330,550,582,"…","…",48.8,109.44,99.65,332.53,"…","…","…","…",114.64,"…",0.15,0.15,1.96,0.55000000000000004,1.44,5,0.15,0.23,0.21,1135.95,133.47,56.35,"…",202.69,"…",1.46,"…",0.85,13.75,132.5,115,64.75,42.5,634.92999999999995,10.33,2021.2,469.8,4962.6000000000004,3373.1,842,120.17,152.5,2.71]
["1973M08","1973-08-01",false,{"$error":"#N/A"},{"$f":"INDEX(G173:BY173,$E$7)","v":0.21},{"$f":"INDEX(G173:BY173,$F$7)","v":"…"},2.7,2.7,2.7,"…",11.48,"…",0.21,0.69,"…","…",1.1299999999999999,1.33,1.04,0.85,0.74,0.97,0.85,573,"…","…",597.88,536.33000000000004,"…",331,548,330,"…","…",64.47,122.43,113.32,377.7,"…","…","…","…",192.54,"…",0.15,0.15,2.46,0.54,1.47,5,0.15,0.24,0.2,1150.06,133.47,63.55,"…",216.29,"…",1.67,"…",0.82,13.75,132.5,115,64.75,42.5,619.5,10.33,2123,447.5,5004.5,3373.1,914,106.76,152.5,2.64]
["1973M09","1973-09-01",false,{"$error":"#N/A"},{"$f":"INDEX(G174:BY174,$E$7)","v":0.21},{"$f":"INDEX(G174:BY174,$F$7)","v":"…"},2.7,2.7,2.7,"…",11.48,"…",0.21,0.69,"…","…",1.1299999999999999,1.33,1.1000000000000001,0.81,0.74,0.84,0.85,550,"…","…",533.73,424.13,"…",266,508,218,"…","…",61.22,107.08,105.82,377.7,"…","…","…","…",189.6,"…",0.14000000000000001,0.15,2.2599999999999998,0.53,1.56,5,0.15,0.24,0.2,1179.2,133.47,70.27,"…",228.36,"…",1.91,"…",0.73,13.75,132.5,115,64.75,42.5,604.07000000000005,10.33,1936.1,444.7,5011.1000000000004,3373.1,976,102.97,155.24,2.68]
["1973M10","1973-10-01",false,{"$error":"#N/A"},{"$f":"INDEX(G175:BY175,$E$7)","v":0.21},{"$f":"INDEX(G175:BY175,$F$7)","v":"…"},4.0999999999999996,4.0999999999999996,4.0999999999999996,"…",11.48,"…",0.21,0.69,"…","…",1.1299999999999999,1.38,1.1499999999999999,0.79,0.67,0.85,0.85,617,"…","…",560.67999999999995,434.92,"…",245,531,207,"…","…",60.08,106.39,109.24,337.7,"…","…","…","…",182.25,"…",0.15,0.15,2.1800000000000002,0.54,1.6,5,0.15,0.25,0.21,1202.69,133.47,78,"…",241.59,"…",1.93,"…",0.71,13.75,132.5,115,64.75,42.5,621.70000000000005,10.33,2065.3000000000002,471.6,5359.4,3373.1,1163,100.08,160.5,2.89]
["1973M11","1973-11-01",false,{"$error":"#N/A"},{"$f":"INDEX(G176:BY176,$E$7)","v":0.21},{"$f":"INDEX(G176:BY176,$F$7)","v":"…"},4.0999999999999996,4.0999999999999996,4.0999999999999996,"…",11.48,"…",0.21,0.69,"…","…",1.1299999999999999,1.39,1.17,0.76,0.63,0.79,0.85,718,"…","…",617.23,429.29,"…",239,490,223,"…","…",60.41,107.87,106.7,475.9,"…","…","…","…",181.88,"…",0.14000000000000001,0.15,2.14,0.54,1.61,5,0.14000000000000001,0.24,0.22,1222.18,133.47,77.03,"…",239.97,"…",1.75,"…",0.8,13.75,132.5,115,64.75,42.5,650.36,10.33,2273,490,5573.3,3373.1,1625,94.92,160.5,2.86]
["1973M12","1973-12-01",false,{"$error":"#N/A"},{"$f":"INDEX(G177:BY177,$E$7)","v":0.21},{"$f":"INDEX(G177:BY177,$F$7)","v":"…"},4.0999999999999996,4.0999999999999996,4.0999999999999996,"…",11.48,"…",0.21,0.69,"…","…",1.1299999999999999,1.42,1.19,0.74,0.65,0.73,0.85,1068,"…","…",789.7,496.71,"…",254,603,243,"…","…",64.08,112.59,109.57,495.54,"…","…","…","…",199.52,"…",0.13,0.22,2.0699999999999998,0.55000000000000004,1.62,5,0.14000000000000001,0.25,0.26,1247.9000000000001,133.47,96.43,"…",270.91000000000003,"…",1.82,"…",1.01,13.75,132.5,115,64.75,42.5,632.73,10.33,2244.3000000000002,593.5,6461.7,3373.1,1623,106.72,160.5,3.14]
["1974M01","1974-01-01",false,{"$error":"#N/A"},{"$f":"INDEX(G178:BY178,$E$7)","v":0.28999999999999998},{"$f":"INDEX(G178:BY178,$F$7)","v":"…"},13,13,13,"…",16.89,"…",0.28999999999999998,1.73,"…","…",1.56,1.53,1.23,0.84,0.68,0.71,1.1399999999999999,1191,"…","…",958.77,578.77,"…",261,665,221,"…","…",66.150000000000006,112.28,115.79,512.23,"…","…","…","…",213.48,"…",0.17,0.14000000000000001,2.04,0.55000000000000004,1.6,4.6500000000000004,0.18,0.28000000000000003,0.33,1280.6300000000001,120.43,95.43,"…",269.39,"…",1.99,"…",1.08,42,215,180,285.75,53,604.07000000000005,13.38,2032.4,565.70000000000005,6503.6,3571.5,1330,129.19,162.68,3.64]
["1974M02","1974-02-01",false,{"$error":"#N/A"},{"$f":"INDEX(G179:BY179,$E$7)","v":0.28999999999999998},{"$f":"INDEX(G179:BY179,$F$7)","v":"…"},13,13,13,"…",16.89,"…",0.28999999999999998,1.73,"…","…",1.56,1.65,1.33,0.87,0.69,0.8,1.1399999999999999,1160,"…","…",1093.4000000000001,667.24,"…",271,780,203,"…","…",70.94,131.1,121.31,539.73,"…","…","…","…",220.46,"…",0.16,0.17,1.98,0.55000000000000004,1.46,4.6500000000000004,0.19,0.38,0.47,1310.72,120.43,97.86,"…",273.08,"…",1.84,"…",0.98,42,232.5,220,285.75,55,619.5,13.38,2291.6999999999998,649.20000000000005,7418.5,3571.5,1516,150.13,172.5,5.36]
["1974M03","1974-03-01",false,{"$error":"#N/A"},{"$f":"INDEX(G180:BY180,$E$7)","v":0.28999999999999998},{"$f":"INDEX(G180:BY180,$F$7)","v":"…"},13,13,13,"…",16.89,"…",0.28999999999999998,1.73,"…","…",1.56,1.58,1.38,0.94,0.86,0.83,1.1399999999999999,1266,"…","…",1123.83,632.88,"…",265,711,200,"…","…",65.650000000000006,126.37,113.54,570.16999999999996,"…","…","…","…",190.7,"…",0.14000000000000001,0.17,1.74,0.55000000000000004,1.45,4.6500000000000004,0.19,0.4,0.47,1341.7,120.43,99.71,"…",275.85000000000002,"…",1.69,"…",0.94,42,262.5,242,285.75,55,687.84,13.38,2743.4,708.3,8218.7999999999993,3571.5,1630,168.42,172.5,5.33]
["1974M04","1974-04-01",false,{"$error":"#N/A"},{"$f":"INDEX(G181:BY181,$E$7)","v":0.28999999999999998},{"$f":"INDEX(G181:BY181,$F$7)","v":"…"},10.6,10.6,10.6,"…",16.89,"…",0.28999999999999998,1.73,"…","…",1.56,1.55,1.41,1.1499999999999999,0.86,1.46,1.1399999999999999,1150,"…","…",1113.3599999999999,613.85,"…",235,660,172,"…","…",58.92,114.17,103.07,603.55999999999995,"…","…","…","…",162.04,"…",0.16,0.17,1.62,0.55000000000000004,1.45,4.6500000000000004,0.2,0.42,0.48,1401.16,120.43,94.68,"…",268.25,"…",1.61,"…",0.84,42,293.8,281,285.75,55,751.78,13.38,3031.8,702,9206.5,3571.5,1743,172.24,172.5,5.04]
["1974M05","1974-05-01",false,{"$error":"#N/A"},{"$f":"INDEX(G182:BY182,$E$7)","v":0.28999999999999998},{"$f":"INDEX(G182:BY182,$F$7)","v":"…"},10.6,10.6,10.6,"…",16.89,"…",0.28999999999999998,1.73,"…","…",1.56,1.57,1.42,1.0900000000000001,0.84,1.3,1.1399999999999999,996,"…","…",1102.24,591.5,"…",229,775,157,"…","…",55.37,113.7,95.9,598.65,"…","…","…","…",141.46,"…",0.21,0.2,1.54,0.55000000000000004,1.42,4.6500000000000004,0.2,0.51,0.52,1427.35,120.43,87.12,"…",256.45999999999998,"…",1.47,"…",0.86,42,301.3,294,285.75,55,765,13.38,2875.7,668.7,9305.7000000000007,3571.5,1782,163.27000000000001,174.55,5.43]
["1974M06","1974-06-01",false,{"$error":"#N/A"},{"$f":"INDEX(G183:BY183,$E$7)","v":0.28999999999999998},{"$f":"INDEX(G183:BY183,$F$7)","v":"…"},10.6,10.6,10.6,"…",16.89,"…",0.28999999999999998,1.73,"…","…",1.56,1.59,1.36,1.19,0.91,1.53,1.1399999999999999,1039,"…","…",1070.19,603.30999999999995,"…",228,788,142,"…","…",58.48,116.63,93.7,570.41999999999996,"…","…","…","…",155.79,"…",0.19,0.2,1.45,0.55000000000000004,1.39,4.6500000000000004,0.2,0.57999999999999996,0.52,1502.41,120.43,79.489999999999995,"…",244.08,"…",1.4,"…",0.74,63,339.5,336,285.75,57,756.18,13.38,2440,570.1,9041.1,3571.5,1410,154.1,195,4.9000000000000004]
["1974M07","1974-07-01",false,{"$error":"#N/A"},{"$f":"INDEX(G184:BY184,$E$7)","v":0.28999999999999998},{"$f":"INDEX(G184:BY184,$F$7)","v":"…"},10,10,10,"…",16.89,"…",0.28999999999999998,1.73,"…","…",1.56,1.52,1.3,1.31,0.93,1.85,1.1399999999999999,1007,"…","…",1010.85,609.64,"…",276,872,163,"…","…",63.52,132.28,116.02,494.56,"…","…","…","…",169.02,"…",0.22,0.2,1.64,0.56000000000000005,1.31,4.6500000000000004,0.2,0.63,0.55000000000000004,1530.14,120.43,83.19,"…",250.15,"…",1.32,"…",0.67,63,358.1,341,285.75,58,760.59,13.38,1919.1,548.5,8547.2999999999993,4079,1097,142.97999999999999,195,4.42]
["1974M08","1974-08-01",false,{"$error":"#N/A"},{"$f":"INDEX(G185:BY185,$E$7)","v":0.28999999999999998},{"$f":"INDEX(G185:BY185,$F$7)","v":"…"},10,10,10,"…",16.89,"…",0.28999999999999998,1.73,"…","…",1.56,1.38,1.23,1.18,0.97,1.45,1.1399999999999999,1053,"…","…",1085.19,727.84,"…",320,922,197,"…","…",65.540000000000006,145.82,127.87,496.52,"…","…","…","…",167.55,"…",0.19,0.2,1.61,0.56000000000000005,1.3,4.6500000000000004,0.19,0.72,0.68,1554.54,120.43,80.069999999999993,"…",245.04,"…",1.33,"…",0.68,63,365,337,285.75,62,848.78,13.38,1802.9,549.6,8787.6,4079,1066,154.63999999999999,195,4.43]
["1974M09","1974-09-01",false,{"$error":"#N/A"},{"$f":"INDEX(G186:BY186,$E$7)","v":0.28999999999999998},{"$f":"INDEX(G186:BY186,$F$7)","v":"…"},10,10,10,"…",16.89,"…",0.28999999999999998,1.73,"…","…",1.56,1.2,1.19,1.1200000000000001,0.96,1.26,1.1399999999999999,826,"…","…",1057.69,706.65,"…",303,933,184,"…","…",65.48,141.43,128.69999999999999,491.86,"…","…","…","…",170.49,"…",0.22,0.2,1.4,0.56999999999999995,1.35,4.6500000000000004,0.32,0.74,0.75,1576.75,120.43,71.42,"…",230.37,"…",1.32,"…",0.6,63,405,361,285.75,66,837.76,13.38,1460.5,539.29999999999995,9166.7999999999993,4079,911,151.75,195,4.05]
["1974M10","1974-10-01",false,{"$error":"#N/A"},{"$f":"INDEX(G187:BY187,$E$7)","v":0.28999999999999998},{"$f":"INDEX(G187:BY187,$F$7)","v":"…"},10.3,10.3,10.3,"…",16.89,"…",0.28999999999999998,1.73,"…","…",1.56,1.25,1.21,1.1100000000000001,0.96,1.23,1.1399999999999999,875,"…","…",1139.17,840.17,"…",335,1045,210,"…","…",70.97,151.57,149.25,478.36,"…","…","…","…",192.17,"…",0.19,0.2,1.39,0.56999999999999995,1.43,4.6500000000000004,0.32,0.86,0.87,1590.67,120.43,65.11,"…",219.14,"…",1.26,"…",0.57999999999999996,63,405,355,285.75,70,844.37,13.38,1398.8,537.29999999999995,7409.7,4079,825,158.78,195,4.83]
["1974M11","1974-11-01",false,{"$error":"#N/A"},{"$f":"INDEX(G188:BY188,$E$7)","v":0.28999999999999998},{"$f":"INDEX(G188:BY188,$F$7)","v":"…"},10.3,10.3,10.3,"…",16.89,"…",0.28999999999999998,1.73,"…","…",1.56,1.31,1.23,1.1299999999999999,1,1.27,1.1399999999999999,748,"…","…",1085.08,767.53,"…",312,943,179,"…","…",69.06,144.09,146.16999999999999,436.62,"…","…","…","…",187.39,"…",0.17,0.2,1.32,0.56999999999999995,1.44,4.6500000000000004,0.32,1.26,1.24,1624.69,120.43,59.98,"…",209.64,"…",1.17,"…",0.5,65,405,355,285.75,70,842.16,13.38,1416.7,534.20000000000005,7403.1,4079,794,181.66,195,4.6900000000000004]
["1974M12","1974-12-01",false,{"$error":"#N/A"},{"$f":"INDEX(G189:BY189,$E$7)","v":0.28999999999999998},{"$f":"INDEX(G189:BY189,$F$7)","v":"…"},10.3,10.3,10.3,"…",16.89,"…",0.28999999999999998,1.73,"…","…",1.56,1.3,1.22,1.18,1.02,1.37,1.1399999999999999,660,"…","…",1082.8800000000001,689.26,"…",288,892,184,"…","…",69.12,145.27000000000001,139.99,413.3,"…","…","…","…",185.92,"…",0.17,0.17,1.26,0.56999999999999995,1.48,4.6500000000000004,0.32,1.03,0.99,1644.11,120.43,65.900000000000006,"…",220.57,"…",1.0900000000000001,"…",0.56000000000000005,64.25,408.75,341,285.75,70,859.8,13.38,1289,534.20000000000005,7202.5,4079,771,183.78,195,4.3899999999999997]
["1975M01","1975-01-01",false,{"$error":"#N/A"},{"$f":"INDEX(G190:BY190,$E$7)","v":0.43},{"$f":"INDEX(G190:BY190,$F$7)","v":"…"},10.42,10.42,10.42,"…",26.84,"…",0.43,1.68,"…","…",1.25,1.23,1.2,1.1399999999999999,1.02,1.29,1.1200000000000001,548,"…","…",1078,589.4,"…",256,775,156,"…","…",63.23,131.72999999999999,118.83,376.72,"…","…","…","…",164.24,"…",0.22,0.15,1.1499999999999999,0.56999999999999995,1.54,5.89,0.6,0.89,0.84,1677.78,126.57,68.42,"…",225.09,"…",1.05,"…",0.55000000000000004,68,396,335,168,70,895.08,17.3,1211.2,538.4,7676.5,4431,799,176.27,195,4.1900000000000004]
["1975M02","1975-02-01",false,{"$error":"#N/A"},{"$f":"INDEX(G191:BY191,$E$7)","v":0.43},{"$f":"INDEX(G191:BY191,$F$7)","v":"…"},10.42,10.42,10.42,"…",26.84,"…",0.43,1.68,"…","…",1.25,1.18,1.1499999999999999,1.1299999999999999,1.06,1.19,1.1200000000000001,467,"…","…",1078,497.67,"…",231,661,141,"…","…",59.48,120.47,109.13,381.38,"…","…","…","…",153.22,"…",0.24,0.17,1.1499999999999999,0.56999999999999995,1.46,5.89,0.33,0.8,0.75,1732.73,126.57,61.61,"…",212.7,"…",1.06,"…",0.57999999999999996,68,383,320,168,70,908.3,17.3,1266.5,541.20000000000005,7557.4,4431,794,179.6,180.53,4.37]
["1975M03","1975-03-01",false,{"$error":"#N/A"},{"$f":"INDEX(G192:BY192,$E$7)","v":0.43},{"$f":"INDEX(G192:BY192,$F$7)","v":"…"},10.42,10.42,10.42,"…",26.84,"…",0.43,1.68,"…","…",1.25,1.1000000000000001,1.0900000000000001,1.1000000000000001,1.03,1.1299999999999999,1.1200000000000001,450,"…","…",965,478.26,"…",226,622,144,"…","…",58.47,120.17,111.06,374.02,"…","…","…","…",147.34,"…",0.25,0.19,1.1399999999999999,0.56999999999999995,1.57,5.89,0.33,0.63,0.57999999999999996,1809.61,126.57,68.05,"…",224.43,"…",1.0900000000000001,"…",0.56999999999999995,68,363,297,168,88,917.12,17.3,1344.2,542.79999999999995,7383.3,4431,803,178.16,175,4.33]
["1975M04","1975-04-01",false,{"$error":"#N/A"},{"$f":"INDEX(G193:BY193,$E$7)","v":0.43},{"$f":"INDEX(G193:BY193,$F$7)","v":"…"},10.42,10.42,10.42,"…",26.84,"…",0.43,1.68,"…","…",1.25,1.05,1.08,1.37,0.96,2.0299999999999998,1.1200000000000001,428,"…","…",882,451.1,"…",229,624,153,"…","…",57.19,119.66,111.61,377.7,"…","…","…","…",140.36000000000001,"…",0.25,0.27,1.28,0.57999999999999996,1.58,5.89,0.33,0.56999999999999995,0.53,1843.91,126.57,67.099999999999994,"…",222.73,"…",1.1599999999999999,"…",0.53,68,307,249,168,88,897.28,17.3,1329.2,479.5,7129.7,4431,783,169.84,163.06,4.21]
["1975M05","1975-05-01",false,{"$error":"#N/A"},{"$f":"INDEX(G194:BY194,$E$7)","v":0.43},{"$f":"INDEX(G194:BY194,$F$7)","v":"…"},10.42,10.42,10.42,"…",26.84,"…",0.43,1.68,"…","…",1.25,1.1200000000000001,1.05,1.17,0.9,1.5,1.1200000000000001,355,"…","…",727,391.74,"…",208,516,148,"…","…",54.76,114.52,110.12,365.43,"…","…","…","…",131.54,"…",0.25,0.27,1.37,0.57999999999999996,1.52,5.89,0.33,0.42,0.39,1859.52,126.57,67.25,"…",223,"…",1.22,"…",0.53,68,242,206,168,89,903.89,17.3,1253.8,356.9,6898.3,4431,747,167.39,160,4.54]
["1975M06","1975-06-01",false,{"$error":"#N/A"},{"$f":"INDEX(G195:BY195,$E$7)","v":0.43},{"$f":"INDEX(G195:BY195,$F$7)","v":"…"},10.42,10.42,10.42,"…",26.84,"…",0.43,1.68,"…","…",1.25,1.23,1.0900000000000001,1.22,0.85,1.7,1.1200000000000001,333,"…","…",660,356,"…",207,525,150,"…","…",54.74,119.1,105.82,324.92,"…","…","…","…",127.13,"…",0.24,0.27,1.33,0.57999999999999996,1.53,5.89,0.33,0.35,0.3,1852.98,126.57,66.760000000000005,"…",222.12,"…",1.23,"…",0.54,68,194,172,168,88,903.89,17.3,1193,353.4,6926.9,4431,751,164.24,160,4.49]
["1975M07","1975-07-01",false,{"$error":"#N/A"},{"$f":"INDEX(G196:BY196,$E$7)","v":0.43},{"$f":"INDEX(G196:BY196,$F$7)","v":"…"},10.43,10.43,10.43,"…",26.84,"…",0.43,1.68,"…","…",1.25,1.45,1.29,1.23,0.83,1.73,1.1200000000000001,372,"…","…",813,401.98,"…",224,578,157,"…","…",58.39,119.82,103.39,307.73,"…","…","…","…",145.13999999999999,"…",0.17,0.27,1.35,0.57999999999999996,1.44,5.89,0.32,0.44,0.37,1864.54,126.57,66.17,"…",221.06,"…",1.25,"…",0.56999999999999995,68,181,158,168,85,864.21,17.3,1222.4000000000001,359.3,6810.1,4431,707,165.17,162.72999999999999,4.7]
["1975M08","1975-08-01",false,{"$error":"#N/A"},{"$f":"INDEX(G197:BY197,$E$7)","v":0.43},{"$f":"INDEX(G197:BY197,$F$7)","v":"…"},10.43,10.43,10.43,"…",26.84,"…",0.43,1.68,"…","…",1.25,1.84,1.7,1.17,0.86,1.53,1.1200000000000001,388,"…","…",908,472.61,"…",243,599,170,"…","…",63.67,131.56,122.36,323.69,"…","…","…","…",162.77000000000001,"…",0.2,0.27,1.3,0.59,1.35,5.89,0.31,0.47,0.41,1885.59,126.57,69.48,"…",226.97,"…",1.31,"…",0.59,68,185,158,168,85,837.76,17.3,1277.0999999999999,383.6,6774.8,4431,737,163,175,4.93]
["1975M09","1975-09-01",false,{"$error":"#N/A"},{"$f":"INDEX(G198:BY198,$E$7)","v":0.43},{"$f":"INDEX(G198:BY198,$F$7)","v":"…"},10.43,10.43,10.43,"…",26.84,"…",0.43,1.68,"…","…",1.25,1.78,1.68,1.1100000000000001,0.8,1.4,1.1200000000000001,368,"…","…",871,412.35,"…",227,551,169,"…","…",62.7,122.31,118.17,336.21,"…","…","…","…",165.71,"…",0.22,0.27,1.42,0.59,1.39,5.89,0.3,0.38,0.34,1879.64,126.57,68.239999999999995,"…",224.77,"…",1.33,"…",0.56000000000000005,68,192,158,168,84,826.73,17.3,1210.0999999999999,370,6558.7,4852,724,144.16999999999999,175,4.5199999999999996]
["1975M10","1975-10-01",false,{"$error":"#N/A"},{"$f":"INDEX(G199:BY199,$E$7)","v":0.43},{"$f":"INDEX(G199:BY199,$F$7)","v":"…"},10.46,10.46,10.46,"…",26.84,"…",0.43,1.68,"…","…",1.25,1.77,1.61,1.08,0.75,1.4,1.0900000000000001,347,"…","…",840,412.19,"…",211,495,163,"…","…",61.13,116.87,114.84,332.53,"…","…","…","…",161.66999999999999,"…",0.19,0.27,1.53,0.59,1.41,5.89,0.3,0.34,0.31,1898.57,126.57,67.13,"…",222.79,"…",1.32,"…",0.53,68,162,131,168,78,815.71,17.3,1178.8,344.6,6347.1,4852,706,142.79,172.17,4.33]
["1975M11","1975-11-01",false,{"$error":"#N/A"},{"$f":"INDEX(G200:BY200,$E$7)","v":0.43},{"$f":"INDEX(G200:BY200,$F$7)","v":"…"},10.46,10.46,10.46,"…",26.84,"…",0.43,1.68,"…","…",1.25,1.71,1.57,1,0.76,1.27,0.98,327,"…","…",755,378.8,"…",192,423,152,"…","…",57.44,110.26,108.85,309.45,"…","…","…","…",146.97,"…",0.2,0.14000000000000001,1.47,0.59,1.45,5.89,0.3,0.33,0.3,1893.61,126.57,69.25,"…",226.56,"…",1.3,"…",0.56999999999999995,68,150,123,168,76,813.5,17.3,1179.7,337.3,6281,4852,705,142.41999999999999,160,4.33]
["1975M12","1975-12-01",false,{"$error":"#N/A"},{"$f":"INDEX(G201:BY201,$E$7)","v":0.43},{"$f":"INDEX(G201:BY201,$F$7)","v":"…"},10.46,10.46,10.46,"…",26.84,"…",0.43,1.68,"…","…",1.25,1.84,1.63,0.98,0.77,1.21,0.97,339,"…","…",713,367.93,"…",185,391,157,"…","…",56.54,109.15,108.3,287.36,"…","…","…","…",142.57,"…",0.19,0.18,1.44,0.59,1.49,5.89,0.3,0.33,0.28999999999999998,1905.39,126.57,70.66,"…",229.04,"…",1.35,"…",0.62,58,155,123,168,75,837.76,17.3,1151,333.1,6175.1,4852,686,139.30000000000001,160,4.08]
["1976M01","1976-01-01",false,{"$error":"#N/A"},{"$f":"INDEX(G202:BY202,$E$7)","v":0.54},{"$f":"INDEX(G202:BY202,$F$7)","v":"…"},11.51,11.51,11.51,"…",27.16,"…",0.54,1.74,"…","…",1.4,2.0499999999999998,1.74,1.1000000000000001,0.86,1.21,1.23,332,"…","…",720,353.88,"…",189,385,160,"…","…",57.04,110.26,108.58,259.86,"…","…","…","…",143.66999999999999,"…",0.24,0.22,1.49,0.59,1.46,8.31,0.3,0.34,0.31,1977.71,145.74,73.2,"…",233.45,"…",1.47,"…",0.64,40,130,105,82,70,853.19,22.72,1193,337,6241.3,4850,692,131.05000000000001,160,4.0599999999999996]
["1976M02","1976-02-01",{"$f":"B203>$C$8","v":false},{"$f":"IF(C203,B203,NA())","v":{"$error":"#N/A"}},{"$f":"INDEX(G203:BY203,$E$7)","v":0.54},{"$f":"INDEX(G203:BY203,$F$7)","v":"…"},11.51,11.51,11.51,"…",27.16,"…",0.54,1.74,"…","…",1.43,2.19,1.82,1.08,0.82,1.19,1.23,336,"…","…",734,365.84,"…",191,390,164,"…","…",59.32,113.24,110.07,233.35,"…","…","…","…",152.85,"…",0.26,0.22,1.59,0.59,1.36,8.31,0.3,0.33,0.3,2052.2600000000002,145.43,77.510000000000005,"…",240.77,"…",1.52,"…",0.71,40,125,98,82,56,850.98,22.72,1219,348,6508,4850,690,131.06,160,4.09]
["1976M03","1976-03-01",false,{"$error":"#N/A"},{"$f":"INDEX(G204:BY204,$E$7)","v":0.54},{"$f":"INDEX(G204:BY204,$F$7)","v":"…"},11.51,11.51,11.51,"…",27.16,"…",0.54,1.74,"…","…",1.42,2.2000000000000002,1.82,1.07,0.85,1.1499999999999999,1.22,349,"…","…",669,375.79,"…",190,399,162,"…","…",59.32,113.06,110.51,228.44,"…","…","…","…",152.49,"…",0.27,0.22,1.71,0.6,1.52,8.31,0.28999999999999998,0.36,0.33,2110.0100000000002,140.59,79.64,"…",244.32,"…",1.54,"…",0.74,35,126,98,82,56,815.71,22.72,1329,384,6902.7,4850,728,132.76,160,4.1900000000000004]
["1976M04","1976-04-01",false,{"$error":"#N/A"},{"$f":"INDEX(G205:BY205,$E$7)","v":0.55000000000000004},{"$f":"INDEX(G205:BY205,$F$7)","v":"…"},11.51,11.51,11.51,"…",27.16,"…",0.55000000000000004,1.74,"…","…",1.64,2.7,2.38,1.27,0.89,1.71,1.21,347,"…","…",701,348.4,"…",190,384,163,"…","…",57.81,111.1,107.8,226.47,"…","…","…","…",145.5,"…",0.27,0.22,1.81,0.6,1.49,8.31,0.3,0.34,0.31,2107.46,143.47,83.04,"…",249.9,"…",1.56,"…",0.75,35,113,90,82,55,820.12,22.72,1510,454,7123.1,4850,789,127.94,160,4.3600000000000003]
["1976M05","1976-05-01",false,{"$error":"#N/A"},{"$f":"INDEX(G206:BY206,$E$7)","v":0.55000000000000004},{"$f":"INDEX(G206:BY206,$F$7)","v":"…"},11.51,11.51,11.51,"…",27.16,"…",0.55000000000000004,1.74,"…","…",1.77,2.99,2.68,1.1399999999999999,0.86,1.34,1.21,355,"…","…",643,344.8,"…",210,370,189,"…","…",58.47,118.2,107.8,226.47,"…","…","…","…",141.83000000000001,"…",0.28000000000000003,0.22,1.78,0.61,1.56,8.31,0.3,0.35,0.32,2174.4299999999998,142.55000000000001,83.06,"…",249.93,"…",1.61,"…",0.81,35,104,80,82,53,824.53,22.72,1512,483,7449.4,4850,774,126.92,160,4.49]
["1976M06","1976-06-01",false,{"$error":"#N/A"},{"$f":"INDEX(G207:BY207,$E$7)","v":0.57999999999999996},{"$f":"INDEX(G207:BY207,$F$7)","v":"…"},11.51,11.51,11.51,"…",27.16,"…",0.57999999999999996,1.74,"…","…",1.92,3.3,2.87,1.21,0.86,1.58,1.2,380,"…","…",671,394.8,"…",248,408,244,"…","…",60.01,121.8,109.5,222.84,"…","…","…","…",146.24,"…",0.27,0.22,1.6,0.61,1.53,8.31,0.28999999999999998,0.32,0.28999999999999998,2198.62,141.43,86.57,"…",255.58,"…",1.8,"…",0.85,35,100,80,82,53,804.69,22.72,1550,476,7766.9,4850,750,125.71,163.54,4.8099999999999996]
["1976M07","1976-07-01",false,{"$error":"#N/A"},{"$f":"INDEX(G208:BY208,$E$7)","v":0.57999999999999996},{"$f":"INDEX(G208:BY208,$F$7)","v":"…"},11.6,11.6,11.6,"…",27.16,"…",0.57999999999999996,1.74,"…","…",1.96,3.03,2.78,1.26,0.95,1.63,1.21,455,"…","…",420,450.5,"…",264,457,231,"…","…",59.26,121.3,113,222.74,"…","…","…","…",142.19999999999999,"…",0.26,0.22,1.53,0.62,1.55,8.31,0.28999999999999998,0.32,0.28999999999999998,2212.9499999999998,138.30000000000001,94.04,"…",267.27,"…",2,"…",0.79,35,120,85,82,55,903.89,22.72,1647,509,8496.6,4850,776,117.73,171.12,4.76]
["1976M08","1976-08-01",false,{"$error":"#N/A"},{"$f":"INDEX(G209:BY209,$E$7)","v":0.6},{"$f":"INDEX(G209:BY209,$F$7)","v":"…"},11.6,11.6,11.6,"…",27.16,"…",0.6,1.74,"…","…",2.12,3.38,2.92,1.24,1.03,1.47,1.21,451,"…","…",748,431,"…",248,456,212,"…","…",55.39,116.1,101.3,223.53,"…","…","…","…",126.4,"…",0.27,0.22,1.58,0.62,1.61,8.31,0.28999999999999998,0.25,0.22,2231.33,135.02000000000001,100.91,"…",277.64,"…",1.92,"…",0.78,35,125,93,82,53,939.17,22.72,1539,483,8084.3,4850,741,109.93,156.15,4.28]
["1976M09","1976-09-01",false,{"$error":"#N/A"},{"$f":"INDEX(G210:BY210,$E$7)","v":0.6},{"$f":"INDEX(G210:BY210,$F$7)","v":"…"},11.6,11.6,11.6,"…",27.16,"…",0.6,1.74,"…","…",2.39,3.51,3.02,1.21,1.01,1.41,1.21,484,"…","…",808,456.5,"…",261,505,218,"…","…",53.95,115,105.9,244.93,"…","…","…","…",119.78,"…",0.26,0.22,1.56,0.62,1.62,8.31,0.3,0.22,0.18,2280.46,136.31,105.12,"…",283.83,"…",1.88,"…",0.77,35,140,100,82,53,996.49,22.72,1459,481,7960.9,4938,712,114.15,158.24,4.3]
["1976M10","1976-10-01",false,{"$error":"#N/A"},{"$f":"INDEX(G211:BY211,$E$7)","v":0.62},{"$f":"INDEX(G211:BY211,$F$7)","v":"…"},11.9,11.9,11.9,"…",27.16,"…",0.62,1.74,"…","…",2.59,3.82,3.35,1.22,1.02,1.42,1.22,481,"…","…",829,443.6,"…",254,495,211,"…","…",50.84,106.2,98.1,250.04,"…","…","…","…",111.33,"…",0.27,0.22,1.43,0.62,1.65,8.31,0.3,0.23,0.18,2276.0300000000002,134.53,107.04,"…",286.62,"…",1.92,"…",0.83,35,128,93,82,55,947.99,22.72,1285,465,7971.9,5313,639,116.15,157.9,4.22]
["1976M11","1976-11-01",false,{"$error":"#N/A"},{"$f":"INDEX(G212:BY212,$E$7)","v":0.63},{"$f":"INDEX(G212:BY212,$F$7)","v":"…"},11.9,11.9,11.9,"…",27.16,"…",0.63,1.74,"…","…",2.93,4.03,3.89,1.21,0.98,1.43,1.22,499,"…","…",834,456.5,"…",260,506,215,"…","…",48.66,98.7,93.5,239.24,"…","…","…","…",106.56,"…",0.23,0.22,1.41,0.62,1.69,8.31,0.3,0.23,0.17,2292.6999999999998,148.31,107.04,"…",286.62,"…",1.91,"…",0.83,35,115,86,82,54,947.99,22.72,1279,459,8121.8,5313,604,130.46,156.83000000000001,4.3499999999999996]
["1976M12","1976-12-01",false,{"$error":"#N/A"},{"$f":"INDEX(G213:BY213,$E$7)","v":0.64},{"$f":"INDEX(G213:BY213,$F$7)","v":"…"},11.9,11.9,11.9,"…",27.16,"…",0.64,1.74,"…","…",2.98,4.57,4.5,1.23,1.01,1.48,1.22,553,"…","…",777,456.8,"…",269,505,231,"…","…",49.47,103.5,96.5,238.26,"…","…","…","…",106.19,"…",0.24,0.22,1.5,0.63,1.75,8.31,0.3,0.23,0.17,2326.62,156.38999999999999,107.04,"…",286.62,"…",1.84,"…",0.79,35,113,83,82,53,974.44,22.72,1287,478,8399.6,5313,642,133.93,151.99,4.3600000000000003]
["1977M01","1977-01-01",false,{"$error":"#N/A"},{"$f":"INDEX(G214:BY214,$E$7)","v":0.67},{"$f":"INDEX(G214:BY214,$F$7)","v":2.77},12.5,12.5,12.5,"…",28.68,"…",0.67,1.79,2.77,18.53,3.45,4.83,4.7699999999999996,1.6,1.1599999999999999,1.55,2.08,546,"…","…",933,462,"…",287,502,251,"…","…",51.42,111.6,99.7,239.53,"…","…","…","…",108.76,"…",0.24,0.25,1.58,0.63,1.79,7.91,0.3,0.24,0.18,2323.42,156.96,92,"…",264.12,"…",1.75,"…",0.82,140,130,95,115,54.5,1058.22,23.06,1396,560,9486.5,5313,692,132.26,154.55000000000001,4.42]
["1977M02","1977-02-01",false,{"$error":"#N/A"},{"$f":"INDEX(G215:BY215,$E$7)","v":0.71},{"$f":"INDEX(G215:BY215,$F$7)","v":2.77},12.5,12.5,12.5,"…",28.68,"…",0.71,1.79,2.77,19.02,3.82,5.41,5.43,1.89,1.7,1.91,2.08,576,"…","…",856,507,"…",293,553,248,"…","…",51.74,110.6,99.5,235.11,"…","…","…","…",110.6,"…",0.3,0.25,1.64,0.64,1.65,7.91,0.3,0.24,0.19,2269.89,156.66,95.2,"…",269.04000000000002,"…",1.86,"…",0.82,142.5,133,95,100.5,54.5,1078.06,23.06,1426,648,10227.200000000001,5313,703,136.24,161.27000000000001,4.53]
["1977M03","1977-03-01",false,{"$error":"#N/A"},{"$f":"INDEX(G216:BY216,$E$7)","v":0.75},{"$f":"INDEX(G216:BY216,$F$7)","v":2.77},12.5,12.5,12.5,"…",28.68,"…",0.75,1.79,2.77,19.5,4.03,6.71,6.75,2.19,2.42,2.06,2.08,735,"…","…",871,598,"…",328,630,272,"…","…",50.61,108,98,242.48,"…","…","…","…",106.92,"…",0.33,0.25,1.62,0.64,1.59,7.91,0.3,0.26,0.2,2240.98,156.58000000000001,96.6,"…",271.17,"…",1.92,"…",0.82,123.5,137,99,100.5,54.5,1082.47,23.06,1515,703,10372.700000000001,5313,719,148.22999999999999,162.99,4.87]
["1977M04","1977-04-01",false,{"$error":"#N/A"},{"$f":"INDEX(G217:BY217,$E$7)","v":0.77},{"$f":"INDEX(G217:BY217,$F$7)","v":2.77},12.45,12.45,12.45,"…",28.68,"…",0.77,1.79,2.77,19.75,3.59,7,6.88,2.88,3.56,2.98,2.09,793,"…","…",881,647,"…",384,782,316,"…","…",49.29,105.8,93.6,232.56,"…","…","…","…",102.15,"…",0.3,0.25,1.55,0.65,1.57,7.91,0.3,0.28000000000000003,0.22,2260.9299999999998,157.11000000000001,94.7,"…",268.27999999999997,"…",1.89,"…",0.79,44,134,98,109.5,54.5,1082.47,23.06,1429,648,9596.7000000000007,5187,655,149.16999999999999,160.74,4.79]
["1977M05","1977-05-01",false,{"$error":"#N/A"},{"$f":"INDEX(G218:BY218,$E$7)","v":0.77},{"$f":"INDEX(G218:BY218,$F$7)","v":2.77},12.45,12.45,12.45,"…",28.68,"…",0.77,1.79,2.77,19.75,3.78,6.29,5.94,2.2000000000000002,2.2599999999999998,2.25,2.09,718,"…","…",897,659,"…",371,741,298,"…","…",46.94,100.9,91.7,237.67,"…","…","…","…",94.8,"…",0.32,0.25,1.5,0.65,1.6,7.91,0.31,0.25,0.2,2264.9699999999998,157.47999999999999,91.1,"…",262.72000000000003,"…",1.78,"…",0.78,44,129,92,116.1,54.3,1082.47,23.06,1371,661,9843.6,5282,611,146.61000000000001,156.55000000000001,4.7]
["1977M06","1977-06-01",false,{"$error":"#N/A"},{"$f":"INDEX(G219:BY219,$E$7)","v":0.82},{"$f":"INDEX(G219:BY219,$F$7)","v":2.77},12.45,12.45,12.45,"…",28.68,"…",0.82,1.79,2.77,20.350000000000001,4.25,5.78,4.9400000000000004,2.09,1.63,2.5499999999999998,2.09,620,"…","…",848,619,"…",326,666,253,"…","…",45.55,94.5,84.2,244.64,"…","…","…","…",92.96,"…",0.28999999999999998,0.25,1.46,0.65,1.62,7.91,0.31,0.23,0.17,2246.77,157.88999999999999,90.8,"…",262.25,"…",1.61,"…",0.77,40.75,133,96,120,55,1102.31,23.06,1312,567,9627.6,5313,542,140.78,150.36000000000001,4.4800000000000004]
["1977M07","1977-07-01",false,{"$error":"#N/A"},{"$f":"INDEX(G220:BY220,$E$7)","v":0.83},{"$f":"INDEX(G220:BY220,$F$7)","v":2.77},12.63,12.63,12.63,"…",28.68,"…",0.83,1.79,2.77,20.47,4.3600000000000003,4.8499999999999996,4.33,2.0499999999999998,1.62,2.4300000000000002,2.11,513,"…","…",804,520,"…",252,548,193,"…","…",44.77,85,80.3,251.22,"…","…","…","…",96.64,"…",0.23,0.25,1.42,0.65,1.59,7.91,0.31,0.22,0.16,2222.4,160.80000000000001,91.5,"…",263.33999999999997,"…",1.57,"…",0.77,37.5,133,95,123.13,55,1170.6500000000001,23.06,1248,562,10416.799999999999,5313,542,143.38999999999999,149.57,4.53]
["1977M08","1977-08-01",false,{"$error":"#N/A"},{"$f":"INDEX(G221:BY221,$E$7)","v":0.82},{"$f":"INDEX(G221:BY221,$F$7)","v":2.77},12.63,12.63,12.63,"…",28.68,"…",0.82,1.79,2.77,20.350000000000001,3.97,4.4000000000000004,4.4800000000000004,1.93,1.55,2.13,2.1,451,"…","…",807,493,"…",230,498,174,"…","…",43.09,76.900000000000006,75.7,254.95,"…","…","…","…",95.53,"…",0.24,0.25,1.39,0.65,1.59,7.91,0.31,0.25,0.17,2206.8200000000002,159.35,90.9,"…",262.41000000000003,"…",1.51,"…",0.8,31.2,143,104,129.6,55.1,1183.8800000000001,23.06,1160,551,11309.7,5313,520,144.94,148.86000000000001,4.47]
["1977M09",{"$f":"EDATE(B221,1)","v":"1977-09-01"},false,{"$error":"#N/A"},{"$f":"INDEX(G222:BY222,$E$7)","v":0.83},{"$f":"INDEX(G222:BY222,$F$7)","v":2.77},12.63,12.63,12.63,"…",28.68,"…",0.83,1.79,2.77,20.47,3.85,4.18,4.4400000000000004,1.81,1.35,1.99,2.09,463,"…","…",773,459.5,"…",205,512,174,"…","…",44.34,78.3,76.8,254.95,"…","…","…","…",99.94,"…",0.25,0.25,1.41,0.65,1.68,7.91,0.31,0.23,0.16,2224.09,158.47,90.9,"…",262.41000000000003,"…",1.43,"…",0.86,34.5,148,108,132.5,56.63,1183.8800000000001,23.06,1195,582,11157.6,5313,518,149.53,150.33000000000001,4.54]
["1977M10","1977-10-01",false,{"$error":"#N/A"},{"$f":"INDEX(G223:BY223,$E$7)","v":0.84},{"$f":"INDEX(G223:BY223,$F$7)","v":2.77},12.68,12.68,12.68,"…",28.68,"…",0.84,1.79,2.77,20.6,3.69,3.77,3.83,1.77,1.36,1.85,2.11,479,"…","…",794,450,"…",209,490,179,"…","…",46.19,83.2,81,256.91000000000003,"…","…","…","…",103.98,"…",0.26,0.25,1.46,0.66,1.86,7.91,0.31,0.23,0.16,2255.52,160.52000000000001,92.3,"…",264.58,"…",1.39,"…",0.87,34.5,138,107,131,57.5,1203.72,23.06,1210,615,12153.8,4586,511,158.94999999999999,157.62,4.76]
["1977M11","1977-11-01",false,{"$error":"#N/A"},{"$f":"INDEX(G224:BY224,$E$7)","v":0.83},{"$f":"INDEX(G224:BY224,$F$7)","v":2.77},12.68,12.68,12.68,"…",28.68,"…",0.83,1.79,2.77,20.47,3.48,4.3499999999999996,3.68,1.54,0.97,1.54,2.13,505,"…","…",852,444.8,"…",236,500,200,"…","…",49.76,93.4,90,274.10000000000002,"…","…","…","…",111.7,"…",0.26,0.25,1.46,0.67,1.92,7.91,0.32,0.23,0.16,2261.85,160.69999999999999,93.1,"…",265.82,"…",1.41,"…",0.86,34.5,123,93,137,56,1236.79,23.06,1182,633,12676.6,4586,525,162.1,169.67,4.83]
["1977M12","1977-12-01",false,{"$error":"#N/A"},{"$f":"INDEX(G225:BY225,$E$7)","v":0.84},{"$f":"INDEX(G225:BY225,$F$7)","v":2.77},12.68,12.68,12.68,"…",28.68,"…",0.84,1.79,2.77,20.6,3.19,4.47,3.72,1.5,0.78,1.58,2.16,539,"…","…",917,501,"…",241,541,200,"…","…",50.93,96,89.9,302.58,"…","…","…","…",114.64,"…",0.26,0.25,1.58,0.67,1.94,7.91,0.33,0.26,0.18,2269.4699999999998,162.72,91.7,"…",263.64999999999998,"…",1.42,"…",0.83,34.5,128,93,134.33000000000001,56,1261.04,23.06,1261,686,12784.6,4586,538,160.44999999999999,177.35,4.72]
["1978M01","1978-01-01",false,{"$error":"#N/A"},{"$f":"INDEX(G226:BY226,$E$7)","v":0.87},{"$f":"INDEX(G226:BY226,$F$7)","v":3.04},12.66,12.66,12.66,"…",27.87,"…",0.87,2.2999999999999998,3.04,23.57,2.98,4.55,3.9,1.36,0.78,1.74,1.56,541,"…","…",956,514,"…",239,522,200,"…","…",50.9,95.8,88.4,317.31,"…","…","…","…",114.27,"…",0.26,0.27,1.72,0.67,2,8.07,0.33,0.28999999999999998,0.19,2212.4699999999998,165.36,93.9,"…",267.05,"…",1.46,"…",0.85,28,138,98,133,56,1316.16,21.45,1261,664,12121,4586,518,173.18,201.73,4.92]
["1978M02","1978-02-01",false,{"$error":"#N/A"},{"$f":"INDEX(G227:BY227,$E$7)","v":0.88},{"$f":"INDEX(G227:BY227,$F$7)","v":3.04},12.66,12.66,12.66,"…",27.06,"…",0.88,2.2999999999999998,3.04,23.69,2.83,4.3600000000000003,3.85,1.4,0.92,1.73,1.57,561,"…","…",910,558,"…",239,534,187.5,"…","…",52.23,101,89.9,341.07,"…","…","…","…",115.74,"…",0.3,0.25,1.91,0.68,1.96,8.07,0.34,0.33,0.19,2230.98,161.19,96.6,"…",271.17,"…",1.53,"…",0.86,28,138,93,134.75,56,1320.57,21.45,1217,582,12149.7,4586,478,178.14,224.41,4.96]
["1978M03","1978-03-01",false,{"$error":"#N/A"},{"$f":"INDEX(G228:BY228,$E$7)","v":0.89},{"$f":"INDEX(G228:BY228,$F$7)","v":3.04},12.66,12.66,12.66,"…",27.06,"…",0.89,2.2999999999999998,3.04,23.81,3.38,3.86,3.48,1.36,0.85,1.65,1.58,650,"…","…",1020,598,"…",273,629,215,"…","…",54.96,106.1,95.6,373.77,"…","…","…","…",124.19,"…",0.35,0.28000000000000003,2,0.68,1.92,8.07,0.34,0.31,0.17,2207,165.48,96,"…",270.26,"…",1.58,"…",0.87,28,137,97,134.5,56,1298.52,21.45,1254,582,11422.1,4586,507,183.61,226.78,5.27]
["1978M04","1978-04-01",false,{"$error":"#N/A"},{"$f":"INDEX(G229:BY229,$E$7)","v":0.88},{"$f":"INDEX(G229:BY229,$F$7)","v":3.04},12.68,12.68,12.68,"…",27.06,"…",0.88,2.2999999999999998,3.04,23.69,3.44,3.94,3.19,1.79,0.71,3.08,1.59,600,"…","…",1127,603,"…",290,624,224,"…","…",57.36,111.5,101.1,388.5,"…","…","…","…",130.81,"…",0.36,0.3,2.2400000000000002,0.69,1.9,8.07,0.34,0.31,0.17,2231.6799999999998,170.13,100.4,"…",276.88,"…",1.6,"…",0.86,31.38,131,97,134,56,1258.8399999999999,21.45,1285,573,11005.5,4696,553,175.28,214.09,5.17]
["1978M05","1978-05-01",false,{"$error":"#N/A"},{"$f":"INDEX(G230:BY230,$E$7)","v":0.91},{"$f":"INDEX(G230:BY230,$F$7)","v":3.04},12.7,12.7,12.7,"…",28.61,"…",0.91,2.2999999999999998,3.04,24.05,3.14,3.74,3,1.36,0.67,1.84,1.56,596,"…","…",1128,624,"…",290,657,221,"…","…",56.38,112.69,101.8,386.54,"…","…","…","…",124.56,"…",0.36,0.3,2.25,0.69,2,8.07,0.33,0.3,0.16,2211.87,193.5,93.8,"…",266.89999999999998,"…",1.63,"…",0.91,32.5,128,93,130.80000000000001,56,1236.79,21.45,1303,545,11704.3,4696,562,176.31,232.73,5.13]
["1978M06","1978-06-01",false,{"$error":"#N/A"},{"$f":"INDEX(G231:BY231,$E$7)","v":0.91},{"$f":"INDEX(G231:BY231,$F$7)","v":3.04},12.73,12.73,12.73,"…",30.15,"…",0.91,2.2999999999999998,3.04,24.05,2.99,3.71,3.33,1.35,0.62,1.86,1.58,646,"…","…",1106,654,"…",278,631,208,"…","…",55.77,106.55,97.05,381.14,"…","…","…","…",126.4,"…",0.26,0.31,1.99,0.69,2.11,8.07,0.34,0.3,0.16,2234.8000000000002,196.51,92.4,"…",264.74,"…",1.6,"…",0.98,32.5,130,92,132.5,56,1247.81,21.45,1333,570,12356.9,4645,578,183.75,244.96,5.33]
["1978M07","1978-07-01",false,{"$error":"#N/A"},{"$f":"INDEX(G232:BY232,$E$7)","v":0.89},{"$f":"INDEX(G232:BY232,$F$7)","v":3.04},12.77,12.77,12.77,"…",30.15,"…",0.89,2.2999999999999998,3.04,23.81,3.16,2.95,2.79,1.43,0.66,2.02,1.61,644,"…","…",1042,622,"…",266,586,207,"…","…",54.27,97.26,90.61,362.23,"…","…","…","…",127.13,"…",0.24,0.31,1.95,0.7,2.2799999999999998,8.07,0.35,0.28000000000000003,0.14000000000000001,2286.81,202.73,94.3,"…",267.66000000000003,"…",1.55,"…",0.98,32.5,137,95,142,57,1289.7,21.45,1337,582,12414.2,4586,584,188.73,245.64,5.36]
["1978M08","1978-08-01",false,{"$error":"#N/A"},{"$f":"INDEX(G233:BY233,$E$7)","v":0.91},{"$f":"INDEX(G233:BY233,$F$7)","v":3.04},12.79,12.79,12.79,"…",30.15,"…",0.91,2.2999999999999998,3.04,24.05,3.36,3.05,2.83,1.4,0.73,1.82,1.63,657,"…","…",1044,585,"…",262,587,202,"…","…",53.4,92.02,88.02,344.31,"…","…","…","…",127.5,"…",0.25,0.31,2.0299999999999998,0.7,2.3199999999999998,8.07,0.36,0.28999999999999998,0.16,2311.11,206.4,100.4,"…",276.88,"…",1.59,"…",1.03,32.5,143,102,142.5,58.5,1320.57,21.45,1426,639,12994.5,4586,618,206.3,267.35000000000002,5.54]
["1978M09","1978-09-01",false,{"$error":"#N/A"},{"$f":"INDEX(G234:BY234,$E$7)","v":0.92},{"$f":"INDEX(G234:BY234,$F$7)","v":3.04},12.8,12.8,12.8,"…",30.15,"…",0.92,2.2999999999999998,3.04,24.17,3.75,3.42,3.24,1.36,0.73,1.72,1.64,777.5,"…","…",1210,615,"…",264,630,208,"…","…",53.91,90.99,87.25,347.01,"…","…","…","…",130.81,"…",0.25,0.31,2.2400000000000002,0.7,2.41,8.07,0.36,0.32,0.18,2309.2399999999998,206.34,99.3,"…",275.24,"…",1.63,"…",1.0900000000000001,32.5,151.5,105.5,134.63,63.13,1382.3,21.45,1442,693,13889.1,4586,634,212.08,269.33999999999997,5.59]
["1978M10","1978-10-01",false,{"$error":"#N/A"},{"$f":"INDEX(G235:BY235,$E$7)","v":0.92},{"$f":"INDEX(G235:BY235,$F$7)","v":3.04},12.85,12.85,12.85,"…",30.15,"…",0.92,2.2999999999999998,3.04,24.17,3.83,3.4,3.31,1.41,0.82,1.73,1.68,805,"…","…",1194,623,"…",271,637,223,"…","…",56.26,95.94,93.81,338.42,"…","…","…","…",137.41999999999999,"…",0.26,0.31,2.35,0.71,2.54,8.07,0.38,0.35,0.2,2305.41,213.08,101.6,"…",278.66000000000003,"…",1.67,"…",1.1599999999999999,32.5,151.5,105.5,132,63.5,1424.63,21.45,1506,830,15256,4586,713,227.44,331.83,5.94]
["1978M11","1978-11-01",false,{"$error":"#N/A"},{"$f":"INDEX(G236:BY236,$E$7)","v":0.93},{"$f":"INDEX(G236:BY236,$F$7)","v":3.04},13.2,13.2,13.2,"…",30.15,"…",0.93,2.2999999999999998,3.04,24.29,4.03,3.22,3.18,1.37,0.76,1.69,1.66,835,"…","…",1191,604,"…",270,620,227,"…","…",57.34,100.54,96.47,294.23,"…","…","…","…",137.79,"…",0.27,0.32,2.42,0.71,2.48,8.07,0.37,0.31,0.18,2328.9899999999998,206.32,97.8,"…",272.98,"…",1.73,"…",1.1399999999999999,32.5,151.5,101,140.75,65,1394.42,21.45,1481,824,15035.5,4586,695,206.2,328.51,5.87]
["1978M12","1978-12-01",false,{"$error":"#N/A"},{"$f":"INDEX(G237:BY237,$E$7)","v":0.96},{"$f":"INDEX(G237:BY237,$F$7)","v":3.04},14.5,14.5,14.5,"…",30.15,"…",0.96,2.2999999999999998,3.04,24.66,3.95,2.89,2.91,1.33,0.7,1.62,1.65,886,"…","…",1022,604,"…",278,627,237,"…","…",56.75,98.52,96.05,273.36,"…","…","…","…",136.32,"…",0.28999999999999998,0.34,2.57,0.72,2.41,8.07,0.37,0.31,0.18,2345.85,208.33,101.8,"…",278.95999999999998,"…",1.71,"…",1.08,32.5,141.5,97.5,141,65,1408.75,21.45,1533,859,14153.7,4586,687,207.85,340.44,5.94]
["1979M01","1979-01-01",false,{"$error":"#N/A"},{"$f":"INDEX(G238:BY238,$E$7)","v":1.02},{"$f":"INDEX(G238:BY238,$F$7)","v":3.69},17.45,18.95,15.95,"…",30.15,"…",1.02,3.26,3.69,30.38,3.66,2.83,2.94,1.31,0.71,1.59,1.63,966,"…",381,976,636,"…",284,616,235,"…","…",58.48,105.41,97.06,278.52,"…","…","…",140.36000000000001,137.79,"…",0.27,0.33,2.8,0.72,2.34,11.97,0.38,0.32,0.17,2380.71,212.2,116.2,"…",299.62,270,1.68,"…",1.07,32.5,153,109.5,143,65,1264.76,23.5,1659,992,13853.8,4586,720,227.28,358.47,6.2]
["1979M02","1979-02-01",false,{"$error":"#N/A"},{"$f":"INDEX(G239:BY239,$E$7)","v":1.05},{"$f":"INDEX(G239:BY239,$F$7)","v":3.69},20.75,22,19.5,"…",30.15,"…",1.05,3.26,3.69,30.75,3.5,2.71,2.92,1.28,0.7,1.53,1.62,981,"…",382,969,694,"…",298,653,238,"…","…",59.38,107.01,97.83,279.5,"…","…","…",144.77000000000001,140.36000000000001,"…",0.31,0.28000000000000003,2.93,0.72,2.17,11.97,0.38,0.34,0.18,2364.48,191.8,127.8,"…",315.41000000000003,238,1.67,"…",1.1299999999999999,32.5,157.5,116.5,143,64.5,1441.91,23.5,1944,1055,14526.2,4546,793,245.67,410.41,7.35]
["1979M03","1979-03-01",false,{"$error":"#N/A"},{"$f":"INDEX(G240:BY240,$E$7)","v":1.1000000000000001},{"$f":"INDEX(G240:BY240,$F$7)","v":3.69},22.02,23.25,20.8,"…",30.15,"…",1.1000000000000001,3.26,3.69,31.35,3.4,2.87,2.98,1.26,0.67,1.5,1.62,986,"…",381,972,688,"…",310,669,241,"…","…",59.89,109.52,99.21,293,"…","…","…",144.04,139.99,"…",0.32,0.31,3.01,0.73,2.1800000000000002,11.97,0.38,0.34,0.19,2398.7399999999998,199.4,131.69999999999999,"…",320.58,206.6,1.69,"…",1.1599999999999999,32.5,162.5,132,131.88,65.5,1541.69,23.5,2050,1177,15022.3,4819,795,242.05,397.76,7.42]
["1979M04","1979-04-01",false,{"$error":"#N/A"},{"$f":"INDEX(G241:BY241,$E$7)","v":1.1100000000000001},{"$f":"INDEX(G241:BY241,$F$7)","v":3.69},22.43,23.65,21.2,"…",30.15,"…",1.1100000000000001,3.26,3.69,31.48,3.25,3.06,3.13,2.0699999999999998,0.62,3.96,1.62,1062,"…",365.5,970,666,"…",300,648,238,"…","…",60.36,111.49,98.27,295.45999999999998,"…","…","…",142.19999999999999,139.99,"…",0.37,0.37,3.15,0.73,2.2599999999999998,11.97,0.37,0.32,0.17,2350.83,204.6,133.1,"…",322.41000000000003,225.4,1.64,"…",1.24,32.5,164,134.19999999999999,135,70,1569.19,23.5,2100,1161,15136.9,5379,789,239.11,391.16,7.44]
["1979M05","1979-05-01",false,{"$error":"#N/A"},{"$f":"INDEX(G242:BY242,$E$7)","v":1.1499999999999999},{"$f":"INDEX(G242:BY242,$F$7)","v":3.69},33.5,32.75,34.25,"…",30.15,"…",1.1499999999999999,3.26,3.69,31.96,3.36,3.3,3.26,1.44,0.52,2.19,1.6,1056,"…",368,925,665,"…",300,636,240,"…","…",61.31,112.57,100.49,296.77999999999997,"…","…","…",141.43,143.30000000000001,"…",0.37,0.41,3.04,0.73,2.35,11.97,0.37,0.32,0.17,2362.0700000000002,201.9,148.4,"…",341.92,256,1.68,"…",1.28,32.5,162,130.5,141.75,70,1576.08,23.5,1926,1239,15361.8,5968,778,257.58999999999997,430.39,8.3800000000000008]
["1979M06","1979-06-01",false,{"$error":"#N/A"},{"$f":"INDEX(G243:BY243,$E$7)","v":1.17},{"$f":"INDEX(G243:BY243,$F$7)","v":3.69},34.67,36.5,32.85,"…",30.15,"…",1.17,3.26,3.69,32.200000000000003,3.48,4.26,4.16,1.33,0.43,1.96,1.61,1062,"…",393,893,675,"…",322,673,261,"…","…",67.599999999999994,120.35,109.46,303.31,"…","…","…",163.88,167.92,"…",0.38,0.49,2.78,0.74,2.4,11.97,0.37,0.32,0.18,2342.29,203.9,180.5,"…",380.06,285,1.7,"…",1.38,32.5,175.5,131.5,148.5,71.25,1596.56,23.5,1877.9,1382,16135.6,6519,754,279.07,430.29,8.56]
["1979M07","1979-07-01",false,{"$error":"#N/A"},{"$f":"INDEX(G244:BY244,$E$7)","v":1.2},{"$f":"INDEX(G244:BY244,$F$7)","v":3.69},33.5,35,32,"…",30.15,"…",1.2,3.26,3.69,32.57,3.25,4.49,4.32,1.42,0.65,1.97,1.64,1095,"…",415,913,678,"…",322,690,246,"…","…",70.88,130.51,118.9,304.05,"…","…","…",168.29,174.53,"…",0.34,0.52,2.48,0.74,2.5299999999999998,11.97,0.47,0.34,0.19,2335.4499999999998,209.7,208,"…",410.31,333,1.7,"…",1.33,35.75,187.5,141.5,155.4,77,1534.47,23.5,1814,1272,15780.7,6614,722,294.74,411.79,9.0500000000000007]
["1979M08","1979-08-01",false,{"$error":"#N/A"},{"$f":"INDEX(G245:BY245,$E$7)","v":1.24},{"$f":"INDEX(G245:BY245,$F$7)","v":3.69},34,35.75,32.25,"…",31.26,"…",1.24,3.26,3.69,33.049999999999997,3.14,4.3499999999999996,4.01,1.56,0.93,2.12,1.64,1002,"…",400,867,652,"…",302,682.2,236,"…","…",67.73,118.85,111.38,328.43,"…","…","…",162.77000000000001,169.02,"…",0.3,0.48,2.56,0.74,2.42,11.97,0.47,0.35,0.2,2340.27,209,222.5,"…",425.51,281,1.71,"…",1.31,39,207.5,151.5,160,79,1561.89,23.5,1976.4,1213,14793,6614,665,300.82,394.34,9.31]
["1979M09","1979-09-01",false,{"$error":"#N/A"},{"$f":"INDEX(G246:BY246,$E$7)","v":1.24},{"$f":"INDEX(G246:BY246,$F$7)","v":3.69},35.5,36.5,34.5,"…",31.26,"…",1.24,3.26,3.69,33.049999999999997,3.22,4.57,4.2300000000000004,1.56,0.96,2.0699999999999998,1.65,905,"…",394,872,640,"…",292,691,238,"…","…",68.599999999999994,117.96,112.6,338.17,"…","…","…",164.98,174.16,"…",0.3,0.44,2.88,0.75,2.38,11.97,0.48,0.35,0.22,2339.9299999999998,212.5,218.5,"…",421.37,283,1.72,"…",1.3,39,215,153,163.75,80.13,1615.61,23.5,2095.9,1231,15399.3,6614,724,354.95,462.93,13.76]
["1979M10","1979-10-01",false,{"$error":"#N/A"},{"$f":"INDEX(G247:BY247,$E$7)","v":1.28},{"$f":"INDEX(G247:BY247,$F$7)","v":3.69},37.25,38.5,36,"…",32.369999999999997,"…",1.28,3.26,3.69,33.54,3.06,4.62,4.0599999999999996,1.57,0.96,2.11,1.64,907,"…",394,812,602,"…",283,671,238,"…","…",69.680000000000007,119.1,116.2,340.38,"…","…","…",163.1,178.21,"…",0.31,0.45,2.86,0.75,2.41,11.97,0.48,0.35,0.26,2328.3200000000002,226.4,191.4,"…",392.29,258,1.72,"…",1.3,39,247.5,177.5,167.5,83.5,1786.22,23.5,2075.9,1319,16012.2,6614,707,391.66,519.87,16.63]
["1979M11","1979-11-01",false,{"$error":"#N/A"},{"$f":"INDEX(G248:BY248,$E$7)","v":1.29},{"$f":"INDEX(G248:BY248,$F$7)","v":3.69},40.75,42,39.5,"…",32.369999999999997,"…",1.29,3.26,3.69,33.659999999999997,3.02,4.5599999999999996,3.91,1.58,0.92,2.2000000000000002,1.63,907,"…",415,775,620,"…",281,670,251,"…","…",69.61,118.2,117.7,342.35,"…","…","…",166.8,178.21,"…",0.31,0.36,3.03,0.76,2.42,11.97,0.48,0.36,0.3,2295.14,229.5,179.7,"…",379.15,252,1.77,"…",1.31,39,242,187,170,83.5,1832.55,23.5,2090,1225,16360.5,6614,702,391.99,505.64,16.649999999999999]
["1979M12","1979-12-01",false,{"$error":"#N/A"},{"$f":"INDEX(G249:BY249,$E$7)","v":1.31},{"$f":"INDEX(G249:BY249,$F$7)","v":3.69},39.75,40.5,39,"…",32.369999999999997,"…",1.31,3.26,3.69,33.9,3.19,4.28,3.9,1.67,1.31,2.04,1.66,885,"…",450,720,630,"…",279,647,254.3,"…","…",69.45,115.3,118.2,356.88,"…","…","…",173.1,180.04,"…",0.34,0.35,3.1,0.76,2.6,11.97,0.49,0.4,0.33,2294.9699999999998,237.4,182.7,"…",382.56,262,1.82,"…",1.34,39,246,190,176.25,108.25,1913.49,23.5,2214,1233,16986.599999999999,6945,751,455.08,600.53,22.45]
["1980M01","1980-01-01",false,{"$error":"#N/A"},{"$f":"INDEX(G250:BY250,$E$7)","v":1.37},{"$f":"INDEX(G250:BY250,$F$7)","v":5.7},39,40,38,"…",32.369999999999997,"…",1.37,4.22,5.7,40.56,3.17,3.81,3.57,1.69,1.19,2.0299999999999998,1.84,885,869,491,744,662,"…",268,609,244,"…","…",66.58,105.4,111.5,372.79,"…","…","…",169.71,175.63,"…",0.4,0.35,3.01,0.75,2.6,10.14,0.49,0.43,0.38,2286.27,245.2,200.1,396,401.82,285.8,1.93,"…",1.52,39,257,197.5,187.5,106.5,2054.86,28.09,2601,1118,17013,6584.8,774,675.31,806.79,38.880000000000003]
["1980M02","1980-02-01",false,{"$error":"#N/A"},{"$f":"INDEX(G251:BY251,$E$7)","v":1.42},{"$f":"INDEX(G251:BY251,$F$7)","v":5.7},37.25,38.5,36,"…",32.369999999999997,"…",1.42,4.22,5.7,41.16,3.24,3.71,3.55,1.68,1.17,2.0299999999999998,1.83,840,887,518.29999999999995,778,672,"…",271,610,238,"…","…",66.58,113.9,118.3,376.52,"…","…","…",170.49,172.7,"…",0.37,0.35,2.97,0.72,2.7,10.14,0.49,0.54,0.5,2300.11,249,213.6,396,416.24,306.89999999999998,2.1,"…",1.66,39,257.5,195,187.5,106.5,2131.0100000000002,28.09,2918,1168,17100.400000000001,6978.9,870,665.32,882.31,35.24]
["1980M03","1980-03-01",false,{"$error":"#N/A"},{"$f":"INDEX(G252:BY252,$E$7)","v":1.46},{"$f":"INDEX(G252:BY252,$F$7)","v":5.7},37,38.25,35.75,"…",32.369999999999997,"…",1.46,4.22,5.7,41.65,3.09,4.12,3.72,1.64,1.1399999999999999,1.99,1.79,760,895,478,720,637,"…",264,580,242,"…","…",69.900000000000006,110.4,114.6,392.72,"…","…","…",162.4,163.51,"…",0.42,0.34,2.6,0.7,2.63,10.14,0.46,0.47,0.43,2292.46,243.4,209.3,396,411.69,310.10000000000002,2.0299999999999998,"…",1.46,42,260.5,200,187.5,106.5,1978.38,28.09,2306,1121,17470.3,6733.8,743,553.58000000000004,746.54,24.73]
["1980M04","1980-04-01",false,{"$error":"#N/A"},{"$f":"INDEX(G253:BY253,$E$7)","v":1.51},{"$f":"INDEX(G253:BY253,$F$7)","v":5.7},36.58,38.15,35,"…",39.54,"…",1.51,4.22,5.7,42.26,2.91,4.05,3.65,1.63,1.1299999999999999,2,1.77,660,900,470,708,611,"…",252,552,242,"…","…",69.900000000000006,108.2,114.5,395.97,"…","…","…",155.80000000000001,156.53,"…",0.4,0.38,2.52,0.68,2.92,10.14,0.46,0.5,0.47,2323.69,241.8,206.8,396,409.03,285.3,2,"…",1.33,54,202.5,182.5,196.25,106.5,1932.46,28.09,2070,969,17017.2,6233.3,708,517.41,589.05999999999995,14.95]
["1980M05","1980-05-01",false,{"$error":"#N/A"},{"$f":"INDEX(G254:BY254,$E$7)","v":1.56},{"$f":"INDEX(G254:BY254,$F$7)","v":5.7},37.049999999999997,38.5,35.6,"…",40.14,"…",1.56,4.22,5.7,42.86,2.59,4.2300000000000004,3.88,1.67,1.1499999999999999,2.04,1.82,618,918,505,733,584,"…",260,562,224,"…","…",68.239999999999995,110,116.5,410.4,"…","…","…",156.19999999999999,161.30000000000001,"…",0.44,0.44,2.44,0.68,3.14,10.14,0.48,0.7,0.68,2305.8000000000002,251.1,216.73,396,419.52,291.10000000000002,1.96,"…",1.33,54,211,171,205,106.5,1775.8,28.09,2037,772,17041.7,6000.8,691.5,513.79999999999995,559.65,12.68]
["1980M06","1980-06-01",false,{"$error":"#N/A"},{"$f":"INDEX(G255:BY255,$E$7)","v":1.57},{"$f":"INDEX(G255:BY255,$F$7)","v":5.7},37,38,36,"…",40.74,"…",1.57,4.22,5.7,42.99,2.5,4.05,3.76,1.68,1.1399999999999999,2.06,1.84,630,925,484,713,555,"…",262,570,218,"…","…",64.930000000000007,113.6,119.4,418.94,"…","…","…",146.19999999999999,157.63,"…",0.34,0.48,2.5099999999999998,0.69,2.98,10.14,0.49,0.71,0.68,2297.7199999999998,255.3,218.42,396,421.28,264.60000000000002,1.89,"…",1.36,44,212.5,170,205,106.5,1668.96,28.09,2006,739,17223.900000000001,6294.9,678.1,600.72,641.84,15.78]
["1980M07","1980-07-01",false,{"$error":"#N/A"},{"$f":"INDEX(G256:BY256,$E$7)","v":1.64},{"$f":"INDEX(G256:BY256,$F$7)","v":5.7},35.380000000000003,37.4,33.35,"…",40.74,"…",1.64,4.22,5.7,43.84,2.46,3.52,3.28,1.69,1.1399999999999999,2.08,1.85,648,880,479,860,545,"…",303,635,248,"…","…",86.53,128.9,133,418.94,"…","…","…",160.5,168.65,"…",0.35,0.42,2.75,0.76,3.2,10.14,0.52,0.63,0.61,2297.52,259.89999999999998,195.13,396,396.4,276.5,1.98,"…",1.35,44,215,173,205,106.5,1758.07,28.09,2176,811,17090.8,6622.2,714,643.27,670.35,16.32]
["1980M08","1980-08-01",false,{"$error":"#N/A"},{"$f":"INDEX(G257:BY257,$E$7)","v":1.64},{"$f":"INDEX(G257:BY257,$F$7)","v":5.7},32.950000000000003,33.6,32.299999999999997,"…",44.24,"…",1.64,4.22,5.7,43.84,2.31,3.1,2.95,1.67,1.1100000000000001,2.0699999999999998,1.83,620,940,490,914,518,"…",309,636,260,"…","…",81.56,143.44999999999999,143.02000000000001,418.94,"…","…","…",165.28,171.23,"…",0.34,0.4,2.92,0.8,3.07,10.14,0.51,0.73,0.7,2263.02,253,188.51,396,389.08,257.5,2.12,"…",1.4,44,215,167.5,205,106.5,1783.63,28.09,2082.1,853,17018.400000000001,6584.5,769,627.15,644.24,15.94]
["1980M09","1980-09-01",false,{"$error":"#N/A"},{"$f":"INDEX(G258:BY258,$E$7)","v":1.69},{"$f":"INDEX(G258:BY258,$F$7)","v":5.7},32.83,33.4,32.25,"…",44.61,"…",1.69,4.22,5.7,44.44,2.39,2.86,2.76,1.67,1.08,2.09,1.84,590,1200,501,928,509,"…",335,615,292,"…","…",78.239999999999995,140.80000000000001,141.80000000000001,418.94,"…","…","…",175.6,179.68,"…",0.35,0.51,2.85,0.84,3,10.14,0.51,0.77,0.76,2226.88,252.5,213.12,396,415.73,242.5,2.2000000000000002,"…",1.46,44,205,165,207,106.5,1655.07,28.09,2060,883,17308.3,6655.3,796,673.63,695.88,19.89]
["1980M10","1980-10-01",false,{"$error":"#N/A"},{"$f":"INDEX(G259:BY259,$E$7)","v":1.71},{"$f":"INDEX(G259:BY259,$F$7)","v":5.7},37.35,37.9,36.799999999999997,"…",44.61,"…",1.71,4.22,5.7,44.69,2.31,2.84,2.72,1.66,1.05,2.09,1.83,580,1700,511.8,934,507,"…",340,592,310,"…","…",88.18,140.4,142.9,418.94,"…","…","…",187.04,188.13,"…",0.35,0.51,2.86,0.85,2.92,10.14,0.5,0.92,0.89,2224.33,258.89999999999998,159.05000000000001,396,354.96,241,2.17,"…",1.42,44,202.5,164.5,207,106.5,1626.15,28.09,2040,879,16692.099999999999,6691.9,805,661.15,675.6,20.2]
["1980M11","1980-11-01",false,{"$error":"#N/A"},{"$f":"INDEX(G260:BY260,$E$7)","v":1.76},{"$f":"INDEX(G260:BY260,$F$7)","v":5.7},40.299999999999997,40.85,39.75,"…",44.98,"…",1.76,4.22,5.7,45.29,2.17,2.6,2.52,1.63,1.02,2.0699999999999998,1.79,650,2400,568,1093,585,"…",367,639,336,"…","…",103.22,146.6,148.4,439.37,"…","…","…",193.3,195.11,"…",0.38,0.32,2.94,0.82,2.7,10.14,0.48,0.87,0.83,2258.46,258.39999999999998,161.97,396,358.47,259.60000000000002,2.16,"…",1.42,44,214,175.5,207,106.5,1503.91,28.09,2010,813,15615.5,6452.7,802,624.77,632.6,18.579999999999998]
["1980M12","1980-12-01",false,{"$error":"#N/A"},{"$f":"INDEX(G261:BY261,$E$7)","v":1.74},{"$f":"INDEX(G261:BY261,$F$7)","v":5.7},39.75,40.15,39.35,"…",44.98,"…",1.74,4.22,5.7,45.05,2.11,2.72,2.5499999999999998,1.61,1.01,2.04,1.77,605,2325,557,1180,619.29999999999995,"…",323.75,571.29999999999995,295,"…","…",94.88,141.5,142.41,446.44,"…","…","…",177.1,182.62,"…",0.37,0.32,2.75,0.81,2.71,10.14,0.47,0.67,0.63,2234.06,251.8,163.43,396,360.21,264.5,2.2000000000000002,"…",1.38,44,214,201.5,207,106.5,1430.66,28.09,1879,743,14707,6391,784,538.26,604.34,16.46]
["1981M01","1981-01-01",false,{"$error":"#N/A"},{"$f":"INDEX(G262:BY262,$E$7)","v":1.77},{"$f":"INDEX(G262:BY262,$F$7)","v":6.03},39.770000000000003,40.299999999999997,39.25,"…",44.98,"…",1.77,4.5999999999999996,6.03,47.45,2.09,2.89,2.63,1.66,1.0900000000000001,1.97,1.91,613,2000,541,1110,625,"…",323,545,287,"…","…",92.52,148.81,146.66,446.44,"…","…","…",177.5,189.6,"…",0.39,0.35,2.68,0.79,2.92,10.16,0.46,0.65,0.62,2271.12,247.98,166.34,"…",363.66,258.89999999999998,2.1800000000000002,"…",1.37,44,227.5,202.5,207,115,1430.83,28.09,1869.1,705.3,14332.7,6403.8,777.4,557.39,536.01,14.79]
["1981M02","1981-02-01",false,{"$error":"#N/A"},{"$f":"INDEX(G263:BY263,$E$7)","v":1.81},{"$f":"INDEX(G263:BY263,$F$7)","v":6.03},37.9,38.700000000000003,37.1,"…",44.98,"…",1.81,4.5999999999999996,6.03,47.93,2.04,2.85,2.4900000000000002,1.64,1.23,1.91,1.77,603,1500,518,1100,640,"…",306,516,270,"…","…",94.17,143.30000000000001,142.66999999999999,456.26,"…","…","…",176.4,181.51,"…",0.44,0.33,2.57,0.81,2.97,10.16,0.43,0.56999999999999995,0.53,2288.69,231.48,163.11000000000001,"…",359.83,259.39999999999998,2.12,"…",1.32,44,226,204.5,242.5,115,1452.38,28.09,1801,689.3,13633.4,6370.7,731,499.76,479.69,13.06]
["1981M03","1981-03-01",false,{"$error":"#N/A"},{"$f":"INDEX(G264:BY264,$E$7)","v":1.86},{"$f":"INDEX(G264:BY264,$F$7)","v":6.03},37.6,38.35,36.85,"…",44.98,"…",1.86,4.5999999999999996,6.03,48.54,2.12,2.86,2.4700000000000002,1.6,1.22,1.91,1.68,574,1400,507,1115,620,"…",305,535,265,"…","…",89.2,142.13,141.04,480.56,"…","…","…",167.92,175.27,"…",0.46,0.39,2.5,0.79,2.73,10.16,0.43,0.52,0.5,2286.29,231.39,160.77000000000001,"…",357.03,244.3,2.04,"…",1.26,44,207.5,187.5,242.5,115,1442.95,28.09,1818,729.7,13633,6292.4,751,499.11,490.88,12.34]
["1981M04","1981-04-01",false,{"$error":"#N/A"},{"$f":"INDEX(G265:BY265,$E$7)","v":1.93},{"$f":"INDEX(G265:BY265,$F$7)","v":6.03},36.369999999999997,37.19,35.549999999999997,"…",56.5,"…",1.93,4.5999999999999996,6.03,49.39,2.11,2.89,2.4500000000000002,1.57,1.0900000000000001,1.9,1.74,552,1410,501,1105,588,"…",316,531.20000000000005,273,"…","…",82.58,145.5,140.6,490.63,"…","…","…",172.07,180.41,"…",0.43,0.4,2.5299999999999998,0.77,2.97,10.16,0.42,0.44,0.39,2292.4499999999998,225.25,156.28,"…",351.61,259.39999999999998,1.98,"…",1.1499999999999999,47.5,193,177.5,135,70,1369.23,28.09,1821,758.7,13365,6307,824,495.8,481.17,11.47]
["1981M05","1981-05-01",false,{"$error":"#N/A"},{"$f":"INDEX(G266:BY266,$E$7)","v":1.95},{"$f":"INDEX(G266:BY266,$F$7)","v":6.03},34.28,35.19,33.380000000000003,"…",56.5,"…",1.95,4.5999999999999996,6.03,49.63,1.93,2.83,2.35,1.52,0.99,1.87,1.69,563,1408,504,1185,599,"…",306,511,267,"…","…",82.58,141.30000000000001,139.80000000000001,494.36,"…","…","…",142.93,171.59,"…",0.45,0.37,2.4900000000000002,0.74,3.22,10.16,0.4,0.38,0.33,2296.2399999999998,209.45,158.55000000000001,"…",354.36,256.5,1.95,"…",1.1599999999999999,51,195.5,161,215,115,1297,28.09,1742,696.9,12663.5,6352.2,851,479.7,461.92,10.85]
["1981M06","1981-06-01",{"$f":"B267>$C$8","v":false},{"$f":"IF(C267,B267,NA())","v":{"$error":"#N/A"}},{"$f":"INDEX(G267:BY267,$E$7)","v":1.95},{"$f":"INDEX(G267:BY267,$F$7)","v":6.03},32.71,33.25,32.17,"…",56.5,"…",1.95,4.5999999999999996,6.03,49.63,1.66,2.5099999999999998,1.86,1.46,0.9,1.82,1.66,570,1226,485,1185,640,"…",291,512,247,"…","…",70.92,136.1,127.04,510.27,"…","…","…",132.83000000000001,168.65,"…",0.39,0.38,2.44,0.76,2.99,10.16,0.38,0.42,0.36,2298.17,203.14,156.41999999999999,"…",351.78,231.9,1.93,"…",1.1399999999999999,51,190,157.5,215,115,1232.4100000000001,28.09,1700,712.1,12603.5,6169.4,840,461.09,443.42,10]
["1981M07","1981-07-01",false,{"$error":"#N/A"},{"$f":"INDEX(G268:BY268,$E$7)","v":2.0099999999999998},{"$f":"INDEX(G268:BY268,$F$7)","v":6.03},33.51,35.06,31.96,"…",56.5,"…",2.0099999999999998,4.5999999999999996,6.03,50.36,2.0499999999999998,2.67,1.94,1.41,0.85,1.77,1.63,585,1175,470,1160,600,"…",294,530,247,"…","…",77.540000000000006,137.56,123.61,498.49,"…","…","…",138.57,167.92,"…",0.33,0.38,2.41,0.81,2.4900000000000002,10.16,0.4,0.42,0.36,2283.3200000000002,198.3,145.61000000000001,"…",338.44,224.18,1.89,"…",1.03,51,177.5,146.5,180,116.5,1175.31,28.09,1681.9,784.3,13358,6150.2,865.1,409.07,406.71,8.58]
["1981M08","1981-08-01",false,{"$error":"#N/A"},{"$f":"INDEX(G269:BY269,$E$7)","v":2.02},{"$f":"INDEX(G269:BY269,$F$7)","v":6.03},33.979999999999997,35.799999999999997,32.17,"…",56.5,"…",2.02,4.5999999999999996,6.03,50.48,2.25,2.78,1.98,1.39,0.82,1.74,1.61,565,1094,438.8,1160,531,"…",283,506,243,"…","…",75.89,127.11,116.04,473.94,"…","…","…",140.30000000000001,170.12,"…",0.31,0.44,2.41,0.79,2.1800000000000002,10.16,0.39,0.38,0.33,2313.73,192.26,142.83000000000001,"…",334.93,215.24,1.77,"…",1.07,51,179.5,137.5,160,116.5,1230.83,28.09,1787,824,14485,5999.2,955,410.16,417.6,8.92]
["1981M09","1981-09-01",false,{"$error":"#N/A"},{"$f":"INDEX(G270:BY270,$E$7)","v":2.08},{"$f":"INDEX(G270:BY270,$F$7)","v":6.03},33.99,35.909999999999997,32.06,"…",56.5,"…",2.08,4.5999999999999996,6.03,51.21,2.36,2.8,1.97,1.43,1.03,1.72,1.54,535,1046,434,1005,509,"…",264,485,235,"…","…",70.92,115.5,109.1,463.13,"…","…","…",147.07,171.23,"…",0.44,0.52,2.4900000000000002,0.77,2.4700000000000002,10.16,0.41,0.34,0.26,2309.46,203.75,142.19,"…",334.12,236.94,1.7,"…",1.06,51,130,139,160,116.5,1168.9100000000001,28.09,1710.4,763.6,14935.1,5579,939.2,443.75,435.61,10.050000000000001]
["1981M10","1981-10-01",false,{"$error":"#N/A"},{"$f":"INDEX(G271:BY271,$E$7)","v":2.11},{"$f":"INDEX(G271:BY271,$F$7)","v":6.03},34.61,36.54,32.68,"…",56.5,"…",2.11,4.5999999999999996,6.03,51.58,2.17,3.02,2.17,1.28,0.74,1.71,1.41,564,978,405,863,513,"…",260,486,231,"…","…",73.59,112.67,105.9,431.71,"…","…","…",149.66,168.65,"…",0.39,0.51,2.4300000000000002,0.76,2.64,10.16,0.42,0.35,0.27,2378.4,204.46,146.24,"…",339.23,231.37,1.67,"…",1.02,51,122.5,133.5,160,116.5,1140.18,28.09,1666.3,716.5,15112.6,5216.8,891.7,437.76,420.25,9.23]
["1981M11","1981-11-01",false,{"$error":"#N/A"},{"$f":"INDEX(G272:BY272,$E$7)","v":2.15},{"$f":"INDEX(G272:BY272,$F$7)","v":6.03},35.68,37.119999999999997,34.24,"…",56.5,"…",2.15,4.5999999999999996,6.03,52.06,2.06,3.18,2.31,1.32,0.83,1.72,1.42,570,948,407,805,500,"…",257,470,230,"…","…",77.540000000000006,111.76,112.14,405.2,"…","…","…",156.80000000000001,178.57,"…",0.4,0.46,2.37,0.75,2.65,10.16,0.43,0.36,0.26,2405.27,204.82,156.41999999999999,"…",351.78,250.88,1.65,"…",0.99,51,145,146.5,136.5,116.5,1081.8499999999999,28.09,1651.4,666,15836.2,5100.2,876.9,413.37,397.07,8.5399999999999991]
["1981M12","1981-12-01",false,{"$error":"#N/A"},{"$f":"INDEX(G273:BY273,$E$7)","v":2.16},{"$f":"INDEX(G273:BY273,$F$7)","v":6.03},35.409999999999997,36.700000000000003,34.119999999999997,"…",56.5,"…",2.16,4.5999999999999996,6.03,52.18,2.11,3.13,2.27,1.34,0.9,1.72,1.42,545,904,399,720,483,"…",256,455,236,"…","…",69.260000000000005,107.63,111.86,356.88,"…","…","…",152.99,176,"…",0.42,0.34,2.36,0.74,2.62,10.16,0.42,0.38,0.28999999999999998,2437.1,201.2,160,"…",356.11,267.32,1.58,"…",0.9,51,137.5,142.5,136.5,94.5,1130.8800000000001,28.09,1655.3,674.3,15951.5,5496.1,845.5,410.09,399.45,8.4499999999999993]
["1982M01","1982-01-01",false,{"$error":"#N/A"},{"$f":"INDEX(G274:BY274,$E$7)","v":2.23},{"$f":"INDEX(G274:BY274,$F$7)","v":6.05},35.049999999999997,35.85,34,35.299999999999997,55.61,"…",2.23,4.45,6.05,52.33,2.19,3.18,2.31,1.53,0.95,1.91,1.73,536,898,390,685,502,"…",262,455,242,"…","…",72.569999999999993,115.35,116.04,321.24,"…","…","…",148.41999999999999,173.06,"…",0.42,0.32,2.38,0.76,2.96,10.029999999999999,0.42,0.4,0.28999999999999998,2471.1,197.42,163.27000000000001,"…",360.02,255.47,1.55,"…",0.91,51,135,155,112.5,94.5,1113.3,32.5,1610.6,648.20000000000005,16133.1,5628.8,818.5,384.14,369.59,7.99]
["1982M02","1982-02-01",false,{"$error":"#N/A"},{"$f":"INDEX(G275:BY275,$E$7)","v":2.2999999999999998},{"$f":"INDEX(G275:BY275,$F$7)","v":6.05},32.270000000000003,31.62,30.4,34.799999999999997,55.61,"…",2.2999999999999998,4.45,6.05,53.18,2.09,3.4,2.52,1.53,0.99,1.9,1.7,526,868,369,685,528,"…",254,454,235,"…","…",75.89,112.59,112.73,302.82,"…","…","…",153.74,170.86,"…",0.38,0.3,2.38,0.77,2.76,11.46,0.4,0.39,0.28999999999999998,2535.7399999999998,191.11,154.81,"…",349.82,235.29,1.54,"…",0.88,51,190,157.5,130,94.5,1087.7,32.5,1598,618,15992.6,5716.8,822.9,374.13,359.63,8.2799999999999994]
["1982M03","1982-03-01",false,{"$error":"#N/A"},{"$f":"INDEX(G276:BY276,$E$7)","v":2.35},{"$f":"INDEX(G276:BY276,$F$7)","v":6.05},30.17,29.3,28.6,32.6,55.61,"…",2.35,4.45,6.05,53.79,1.95,3.22,2.4700000000000002,1.53,1.02,1.88,1.68,480,855,357,644,507,"…",254.25,452,226.35,"…","…",70.92,114.17,112,305.27999999999997,"…","…","…",141.83000000000001,168.65,"…",0.42,0.32,2.38,0.76,2.66,12.79,0.39,0.38,0.25,2566.2600000000002,187.23,151.18,"…",345.37,240.94,1.55,"…",0.88,51,190,140,130,94.5,1029.2,32.5,1510.4,612.5,12766.3,5653.3,789.7,330.25,317.62,7.23]
["1982M04","1982-04-01",false,{"$error":"#N/A"},{"$f":"INDEX(G277:BY277,$E$7)","v":2.4},{"$f":"INDEX(G277:BY277,$F$7)","v":6.05},31.57,33.119999999999997,30.88,30.7,55.61,"…",2.4,4.45,6.05,54.4,1.74,3.12,2.35,1.53,1.05,1.86,1.67,502,838,357,679,509,"…",265,482,230,"…","…",70.22,117.76,114.6,291.27999999999997,"…","…","…",148.58000000000001,169.76,"…",0.48,0.35,2.4,0.76,2.5499999999999998,13.45,0.39,0.39,0.21,2610.86,184.19,148.88999999999999,"…",342.53,235.85,1.58,"…",0.89,51,168.5,135.5,122.5,94.5,996.2,32.5,1521.7,574.70000000000005,12618.1,5394,742.5,350.3,337.93,7.31]
["1982M05","1982-05-01",false,{"$error":"#N/A"},{"$f":"INDEX(G278:BY278,$E$7)","v":2.4500000000000002},{"$f":"INDEX(G278:BY278,$F$7)","v":6.05},33.04,35.18,33.35,30.6,55.61,"…",2.4500000000000002,4.45,6.05,55.01,1.72,3.03,2.2799999999999998,1.55,1.06,1.88,1.7,493,802,362,645,511,"…",269,509,234,"…","…",76.209999999999994,118.11,116.73,278.52,"…","…","…",128.26,167.55,"…",0.44,0.37,2.41,0.77,2.54,13.89,0.4,0.43,0.18,2652.52,191.1,152.71,"…",347.25,233.8,1.69,"…",0.9,48.4,166,138.5,122.5,90,973.3,32.5,1527.7,574.70000000000005,12735.9,5211.8999999999996,750.2,333.71,310.39,6.68]
["1982M06","1982-06-01",false,{"$error":"#N/A"},{"$f":"INDEX(G279:BY279,$E$7)","v":2.4500000000000002},{"$f":"INDEX(G279:BY279,$F$7)","v":6.05},32.770000000000003,34.6,32.65,31.05,55.61,"…",2.4500000000000002,4.45,6.05,55.01,1.55,3.1,2.2400000000000002,1.5,0.99,1.85,1.65,497,770,348,599,494,"…",254,475,222,"…","…",71.87,114.95,110.45,270.66000000000003,"…","…","…",125.7,155.79,"…",0.4,0.41,2.38,0.78,2.4300000000000002,13.89,0.38,0.46,0.15,2635.91,174.8,140.38999999999999,"…",331.83,207.5,1.67,"…",0.84,44.5,167,133,122.5,75,918.8,32.5,1300,520.70000000000005,11087,5186.6000000000004,691.9,314.98,276.26,5.56]
["1982M07","1982-07-01",false,{"$error":"#N/A"},{"$f":"INDEX(G280:BY280,$E$7)","v":2.4700000000000002},{"$f":"INDEX(G280:BY280,$F$7)","v":6.05},32.92,33.700000000000003,31.7,33.35,55.61,"…",2.4700000000000002,4.45,6.05,55.25,1.56,2.94,2.17,1.52,1.0900000000000001,1.83,1.63,465,798,335,570,421,"…",249,464,212,"…","…",58.56,114.95,102.69,261.82,"…","…","…",127.52,151.75,"…",0.33,0.43,2.23,0.79,2.38,12.68,0.41,0.49,0.17,2597.12,168,140.59,"…",332.09,225.4,1.73,"…",0.83,37.380000000000003,168,133.5,122.5,77.5,957.8,32.5,1440.9,552.4,11316.6,5068.6000000000004,726.9,338.97,287.97000000000003,6.46]
["1982M08","1982-08-01",false,{"$error":"#N/A"},{"$f":"INDEX(G281:BY281,$E$7)","v":2.5299999999999998},{"$f":"INDEX(G281:BY281,$F$7)","v":6.05},32.42,32.85,31.2,33.200000000000003,55.61,"…",2.5299999999999998,4.45,6.05,55.98,1.55,2.93,2.25,1.57,1.27,1.83,1.62,412,770,320,572,396,"…",234,432,203,"…","…",59.26,102.28,100.31,266.73,"…","…","…",123.8,152.49,"…",0.3,0.53,2.2400000000000002,0.76,2.27,13.12,0.41,0.49,0.15,2554.87,166.3,140.11000000000001,"…",331.47,230.3,1.66,"…",0.84,35,165.5,135.5,125,77.5,958.9,32.5,1451.5,522.9,12195.7,4953.1000000000004,715.5,364.23,296.81,7.11]
["1982M09","1982-09-01",false,{"$error":"#N/A"},{"$f":"INDEX(G282:BY282,$E$7)","v":2.56},{"$f":"INDEX(G282:BY282,$F$7)","v":6.05},33.47,34.25,33.049999999999997,33.1,55.61,"…",2.56,4.45,6.05,56.34,1.69,3,2.41,1.63,1.47,1.81,1.62,411,750,319,530,380,"…",217,426,196,"…","…",54.92,100.88,97.08,252,"…","…","…",120.45,152.85,"…",0.35,0.47,2.4300000000000002,0.76,2.1800000000000002,14.55,0.4,0.46,0.13,2585.79,162.79,140.59,"…",332.09,239.1,1.6,"…",0.85,35,167,135,125,77,959.5,32.5,1426.5,515.29999999999995,12675.7,4310.3,749.5,437.31,334.13,8.7799999999999994]
["1982M10","1982-10-01",false,{"$error":"#N/A"},{"$f":"INDEX(G283:BY283,$E$7)","v":2.6},{"$f":"INDEX(G283:BY283,$F$7)","v":6.05},33.78,35,33.4,32.950000000000003,55.61,"…",2.6,4.45,6.05,56.83,1.63,3.1,2.59,1.57,1.3,1.81,1.6,406,851,326,470,355,"…",214,416,192,"…","…",50.27,91.73,97.94,235.06,"…","…","…",112.86,146.61000000000001,"…",0.28999999999999998,0.43,2.48,0.75,2.1,14.22,0.4,0.45,0.13,2516.15,160.97,136.66,"…",327.04000000000002,217.39,1.55,"…",0.85,35,163.5,134,127.5,79,951.5,32.5,1461,497.4,12413.8,3916.5,751.3,422.15,334.54,9.39]
["1982M11","1982-11-01",false,{"$error":"#N/A"},{"$f":"INDEX(G284:BY284,$E$7)","v":2.62},{"$f":"INDEX(G284:BY284,$F$7)","v":6.05},32.85,33.799999999999997,31.75,33,55.61,"…",2.62,4.45,6.05,57.07,1.54,3.05,2.69,1.56,1.3,1.79,1.59,416,868,353,474,362,"…",231,403,213,"…","…",50.27,102.87,110.23,238.26,"…","…","…",131.59,155.06,"…",0.33,0.39,2.48,0.74,1.88,14.44,0.39,0.46,0.14000000000000001,2485,159.4,140.78,"…",332.33,221.6,1.52,"…",0.83,35,160.5,131.5,127.5,72.5,965.2,32.5,1443.8,462.4,11981.9,3433.7,710,414.89,345.91,9.7899999999999991]
["1982M12","1982-12-01",false,{"$error":"#N/A"},{"$f":"INDEX(G285:BY285,$E$7)","v":2.62},{"$f":"INDEX(G285:BY285,$F$7)","v":6.05},31.47,31.75,30.1,32.549999999999997,45.5,"…",2.62,4.45,6.05,57.07,1.63,2.97,2.82,1.51,1.24,1.8,1.48,429,862,399,466,376,"…",232,399,217,"…","…",53.59,105.51,111.55,246.11,"…","…","…",127.87,159.83000000000001,"…",0.34,0.28999999999999998,2.48,0.72,1.82,14.88,0.41,0.46,0.14000000000000001,2556.16,167.7,147.47,"…",340.77,246.72,1.54,"…",0.8,41.25,158.5,132,120,72.5,987.4,32.5,1473.2,448,11992.9,3576.3,668.5,444.5,368.72,10.57]
["1983M01",{"$f":"EDATE(B285,1)","v":"1983-01-01"},false,{"$error":"#N/A"},{"$f":"INDEX(G286:BY286,$E$7)","v":2.66},{"$f":"INDEX(G286:BY286,$F$7)","v":5.55},30.65,30.85,30.05,31.06,43,"…",2.66,4.05,5.55,55.31,1.78,2.87,2.75,1.76,1.38,1.92,1.99,435,840,439,461,372,"…",235,397,216,"…","…",53.59,107.84,114.64,239.97,"…","…","…",131.15,164.98,"…",0.34,0.28999999999999998,2.2799999999999998,0.73,1.78,14.64,0.41,0.47,0.13,2572.2399999999998,169.88,145.53,"…",338.34,244.7,1.58,"…",0.82,47.5,150.5,137.5,124.5,75,1076.5,29,1571.9,475.3,12082.6,3797,699.1,481.29,452.85,12.34]
["1983M02","1983-02-01",false,{"$error":"#N/A"},{"$f":"INDEX(G287:BY287,$E$7)","v":2.66},{"$f":"INDEX(G287:BY287,$F$7)","v":5.55},29.11,29.1,29,29.24,43,"…",2.66,4.05,5.55,55.31,1.94,2.8,2.68,1.82,1.5,1.99,1.97,451,820,423,452,367,"…",239,395,211,"…","…",57.92,117.32,121.03,249.55,"…","…","…",133.38,164.24,"…",0.38,0.28999999999999998,2.38,0.74,1.67,14.37,0.4,0.48,0.14000000000000001,2598.64,167.1,127.51,"…",315.02999999999997,234.9,1.64,"…",0.94,47.5,164,134.5,124.5,75.5,1230.4000000000001,29,1647.4,454.5,13034.2,4228.2,681.4,491.09,464.51,13.98]
["1983M03","1983-03-01",false,{"$error":"#N/A"},{"$f":"INDEX(G288:BY288,$E$7)","v":2.58},{"$f":"INDEX(G288:BY288,$F$7)","v":5.55},28.32,28.2,28.1,28.66,43,"…",2.58,4.05,5.55,54.34,1.87,2.76,2.67,1.88,1.7,1.97,1.97,482.2,815,403.2,445,377.6,"…",242,394,211.4,"…","…",56.9,125.19,124.34,261.82,"…","…","…",133.01,166.08,"…",0.41,0.33,2.4900000000000002,0.75,1.82,13.78,0.4,0.48,0.14000000000000001,2601.79,164.03,125.49,"…",312.32,243.3,1.74,"…",1.06,47.5,179.5,145,120,75.5,1301.8,29,1597.7,443.3,13426,4831.8999999999996,678.4,419.7,401.06,10.64]
["1983M04","1983-04-01",false,{"$error":"#N/A"},{"$f":"INDEX(G289:BY289,$E$7)","v":2.5299999999999998},{"$f":"INDEX(G289:BY289,$F$7)","v":5.55},29.69,29.75,28.7,30.63,43,"…",2.5299999999999998,4.05,5.55,53.73,1.88,2.75,2.67,2.0499999999999998,1.78,2.4,1.96,576.29999999999995,836,440,495,418.5,"…",252.5,434,219,"…","…",66.900000000000006,133.43,132.06,261.82,"…","…","…",137.05000000000001,167.18,"…",0.48,0.41,2.54,0.72,2.12,13.4,0.39,0.49,0.15,2619.7600000000002,157.18,127.11,"…",314.49,237.68,1.77,"…",1.1299999999999999,47.5,180.5,136,109,75.5,1363.6,29,1674.9,457.6,13792.8,4817.8,697.5,432.88,413.68,11.61]
["1983M05","1983-05-01",false,{"$error":"#N/A"},{"$f":"INDEX(G290:BY290,$E$7)","v":2.5299999999999998},{"$f":"INDEX(G290:BY290,$F$7)","v":5.55},29.36,29.6,28.5,29.98,43,"…",2.5299999999999998,4.05,5.55,53.73,2.0699999999999998,2.83,2.72,2.13,1.95,2.4700000000000002,1.96,622,825,437,548,432,"…",252,434,217,"…","…",63.59,133.85,133.43,259.86,"…","…","…",135.69999999999999,160.19999999999999,"…",0.55000000000000004,0.45,2.54,0.73,2.1,13.45,0.39,0.5,0.2,2613,154.78,131.86000000000001,"…",320.79000000000002,240.63,1.81,"…",1.05,43,171.5,132.5,101.5,75.5,1453.4,29,1765.7,433.1,13522.9,5031.6000000000004,735.6,438.01,448.52,12.92]
["1983M06","1983-06-01",false,{"$error":"#N/A"},{"$f":"INDEX(G291:BY291,$E$7)","v":2.59},{"$f":"INDEX(G291:BY291,$F$7)","v":5.55},29.97,30.2,28.75,30.95,43,"…",2.59,4.05,5.55,54.46,2.2999999999999998,2.81,2.65,2.2000000000000002,2.0099999999999998,2.64,1.93,694,831,430,593,394,"…",243,425,210,"…","…",66.58,135.03,127.4,249.06,"…","…","…",132.28,151.75,"…",0.5,0.39,2.4700000000000002,0.75,2.04,13.76,0.38,0.5,0.24,2637.52,150.07,129.77000000000001,"…",318.02999999999997,231.63,1.9,"…",1.08,41.13,158.5,127.5,120,73,1465.6,29,1701.2,408.1,13354,4883.2,718.4,412.84,422.37,11.74]
["1983M07","1983-07-01",false,{"$error":"#N/A"},{"$f":"INDEX(G292:BY292,$E$7)","v":2.52},{"$f":"INDEX(G292:BY292,$F$7)","v":5.55},30.47,30.8,29,31.6,34.75,"…",2.52,4.05,5.55,53.61,2.2999999999999998,2.83,2.65,2.02,1.65,2.5,1.89,846,832,433,635,425,"…",263,477,226,"…","…",64.930000000000007,140.59,125.11,241.45,"…","…","…",135.33000000000001,147.34,"…",0.5,0.34,2.46,0.78,1.97,13.12,0.39,0.49,0.23,2668.06,147.82,129.22999999999999,"…",317.32,215.39,1.95,"…",1.1299999999999999,37.25,157.5,128,109,73,1520.2,29,1704.3,403.3,13193,4804.1000000000004,739.8,402.91,433.27,12.03]
["1983M08","1983-08-01",false,{"$error":"#N/A"},{"$f":"INDEX(G293:BY293,$E$7)","v":2.58},{"$f":"INDEX(G293:BY293,$F$7)","v":5.55},30.65,31.1,28.9,31.96,34.75,"…",2.58,4.05,5.55,54.34,2.2999999999999998,2.86,2.65,2.11,1.84,2.64,1.86,985,950,452,969,559,"…",339,651,279,"…","…",76.59,152.75,136.30000000000001,254.95,"…","…","…",145.13999999999999,152.49,"…",0.46,0.35,2.48,0.79,1.93,12.74,0.38,0.5,0.23,2692.84,143.03,134.5,"…",324.24,214.47,2,"…",1.1299999999999999,34,154.5,122.5,110.5,73,1603.6,29,1639.8,398,12826,4852.8,808.9,416.2,435.56,12.06]
["1983M09","1983-09-01",false,{"$error":"#N/A"},{"$f":"INDEX(G294:BY294,$E$7)","v":2.67},{"$f":"INDEX(G294:BY294,$F$7)","v":5.55},30.07,30.35,28.6,31.26,34.75,"…",2.67,4.05,5.55,55.43,2.15,2.92,2.69,2.16,1.91,2.7,1.86,954,1300,502.8,1052,645,"…",349.8,732.6,276.60000000000002,"…","…",87.36,147.75,135.54,278.27,"…","…","…",141.83000000000001,156.53,"…",0.42,0.44,2.4700000000000002,0.82,1.95,12.61,0.38,0.49,0.21,2678.49,156.63999999999999,138.54,"…",329.46,218.32,1.98,"…",1.0900000000000001,34,160,124.5,110.5,73,1613.7,29,1560.7,404.7,12755.3,4910.6000000000004,837.8,411.8,431.11,11.96]
["1983M10","1983-10-01",false,{"$error":"#N/A"},{"$f":"INDEX(G295:BY295,$E$7)","v":2.58},{"$f":"INDEX(G295:BY295,$F$7)","v":5.55},29.62,29.85,28.6,30.4,34.75,"…",2.58,4.05,5.55,54.34,2.1,3.1,2.87,2.23,1.93,2.87,1.88,860,1275,510,1054,671,"…",328.75,687,267,"…","…",88.18,148.15,132.06,269.68,"…","…","…",141.46,152.85,"…",0.41,0.46,2.4500000000000002,0.78,1.98,12.32,0.38,0.48,0.21,2741.07,168.27,152.84,"…",347.41,227.46,1.94,"…",1.0900000000000001,34,174,145,114,73,1566.3,29,1435.2,419.4,12750.8,4674.2,859,393.6,395.87,9.89]
["1983M11","1983-11-01",false,{"$error":"#N/A"},{"$f":"INDEX(G296:BY296,$E$7)","v":2.6},{"$f":"INDEX(G296:BY296,$F$7)","v":5.55},29.17,29.2,28.3,30,32,"…",2.6,4.05,5.55,54.58,2.2200000000000002,3.19,2.85,2.4,2.23,3.1,1.86,884,1140,479,951,661,"…",324,652,265,"…","…",89.91,147.02000000000001,132.28,264.18,"…","…","…",139.63999999999999,151.75,"…",0.34,0.41,2.41,0.81,1.94,12.24,0.37,0.48,0.18,2745.91,177.43,152.91999999999999,"…",347.51,225.24,1.97,"…",1.1100000000000001,32.75,188.5,140.5,115.5,75.5,1516.8,29,1389.1,404.7,12772.5,4585.2,859.1,381.7,387.67,8.81]
["1983M12","1983-12-01",false,{"$error":"#N/A"},{"$f":"INDEX(G297:BY297,$E$7)","v":2.61},{"$f":"INDEX(G297:BY297,$F$7)","v":5.55},28.81,28.95,28.25,29.24,29.25,"…",2.61,4.05,5.55,54.71,2.54,3.23,2.93,2.42,2.39,3.03,1.84,969,1120,482,876,695,"…",311,644,256,"…","…",78.239999999999995,143.28,130.87,251.02,"…","…","…",141.68,153.59,"…",0.34,0.34,2.31,0.86,1.88,12.06,0.36,0.47,0.17,2709.22,172.99,157.16999999999999,"…",352.69,223.98,1.97,"…",1.1299999999999999,31.5,190,142.5,115.5,75.5,1549.3,29,1415.2,402.1,12345.5,4657,857,388.34,393.22,9.15]
["1984M01","1984-01-01",false,{"$error":"#N/A"},{"$f":"INDEX(G298:BY298,$E$7)","v":2.67},{"$f":"INDEX(G298:BY298,$F$7)","v":5.24},29.04,29.56,27.73,29.84,29.25,29.34,2.67,3.76,5.24,53.85,2.62,3.17,2.93,3.07,2.84,3.47,2.9,1069,1080,480,983,875,"…",305,692,237,"…","…",84.87,141.91999999999999,129.47,237.77,"…","…","…",139.94999999999999,152.85,"…",0.34,0.27,2.2599999999999998,0.89,1.85,11.93,0.36,0.47,0.15,2675.78,168.69,160.6,"…",356.83,222.32,1.93,"…",1.1399999999999999,31.5,191.5,142.5,116.5,82.5,1548.9,26.15,1375.7,397.5,12117.8,4670.5,957.8,370.89,376.25,8.25]
["1984M02","1984-02-01",false,{"$error":"#N/A"},{"$f":"INDEX(G299:BY299,$E$7)","v":2.71},{"$f":"INDEX(G299:BY299,$F$7)","v":5.24},29.2,29.88,27.65,30.08,29.25,29.34,2.71,3.76,5.24,54.33,2.5,3.22,3,2.71,2.65,2.54,2.93,1158,960,466,1024,875,"…",293,669,221,"…","…",84.87,137,125.66,227.85,"…","…","…",133.27000000000001,150.65,"…",0.42,0.25,2.34,0.92,1.87,12.08,0.37,0.48,0.15,2630.46,174.21,158.63,"…",354.46,225.74,1.93,"…",1.1399999999999999,31.5,204,142.5,118,82.5,1491.2,26.15,1429.8,404.5,12297.7,4639.8,998.4,385.96,391.23,9.1199999999999992]
["1984M03","1984-03-01",false,{"$error":"#N/A"},{"$f":"INDEX(G300:BY300,$E$7)","v":2.67},{"$f":"INDEX(G300:BY300,$F$7)","v":5.24},29.53,30.08,27.79,30.73,29.25,29.34,2.67,3.76,5.24,53.85,2.5299999999999998,3.27,3.04,2.79,2.67,2.63,3.08,1123,975,428,1086,845,"…",314,720,229,"…","…",87.55,147.08000000000001,130.82,234.08,"…","…","…",142.66,153.96,"…",0.41,0.26,2.38,0.91,1.96,12.48,0.38,0.49,0.14000000000000001,2632.91,190.58,169.74,"…",367.65,254,1.95,"…",1.1200000000000001,31.5,201,132.5,141,82.5,1455.8,26.15,1501.2,459.5,12406.1,4780.7,1040.5999999999999,394.26,398.43,9.65]
["1984M04","1984-04-01",false,{"$error":"#N/A"},{"$f":"INDEX(G301:BY301,$E$7)","v":2.64},{"$f":"INDEX(G301:BY301,$F$7)","v":5.24},29.57,30.13,27.96,30.63,29.25,29.34,2.64,3.76,5.24,53.48,2.54,3.31,3.03,3.01,2.73,3.35,2.94,1150,950,402,1159,841,"…",315,772,220,"…","…",92.52,148.02000000000001,129.52000000000001,235.31,"…","…","…",148.1,157.26,"…",0.41,0.24,2.4700000000000002,0.9,2.0699999999999998,12.54,0.37,0.49,0.13,2627.55,190.76,181.83,"…",381.57,255.61,1.96,"…",1.07,31.5,198.5,125,127.5,81,1370.3,26.15,1532.6,481.7,12445,4911.5,1004.1,381.37,391.62,9.25]
["1984M05","1984-05-01",false,{"$error":"#N/A"},{"$f":"INDEX(G302:BY302,$E$7)","v":2.67},{"$f":"INDEX(G302:BY302,$F$7)","v":5.24},29.46,29.9,28.03,30.45,29.25,29.34,2.67,3.76,5.24,53.85,2.68,3.31,3.23,2.81,2.5299999999999998,3.06,2.86,1314,910,382,1171,951,"…",338,914,219,"…","…",93.22,146.06,131.91999999999999,234.33,"…","…","…",144.33000000000001,153.96,"…",0.43,0.24,2.4,0.87,2.08,12.02,0.36,0.49,0.12,2687.46,183.43,184.41,"…",384.48,244.95,1.97,"…",0.98,31.5,171.5,116,147.5,81,1289.0999999999999,26.15,1420.9,453.1,12582.8,4811.3999999999996,1001.3,377.4,387.86,8.9700000000000006]
["1984M06","1984-06-01",false,{"$error":"#N/A"},{"$f":"INDEX(G303:BY303,$E$7)","v":2.7},{"$f":"INDEX(G303:BY303,$F$7)","v":5.24},29.05,29.2,27.91,30.04,31.75,34.31,2.7,3.76,5.24,54.21,2.4900000000000002,3.25,3.17,2.71,2.2000000000000002,3.09,2.83,1431,923,372,1155,783,"…",308,844,202,"…","…",89.91,146.97,128.32,235.31,"…","…","…",136.32,149.91,"…",0.46,0.32,2.33,0.87,2.0499999999999998,11.79,0.36,0.49,0.12,2759.88,184.09,175.13,"…",373.91,232.62,1.85,"…",0.88,31.5,156,120,155,81,1275,26.15,1366.5,484.3,12662.2,4773.2,941.5,377.7,381.55,8.77]
["1984M07","1984-07-01",false,{"$error":"#N/A"},{"$f":"INDEX(G304:BY304,$E$7)","v":2.68},{"$f":"INDEX(G304:BY304,$F$7)","v":5.24},27.99,27.91,27.26,28.79,31.75,35.799999999999997,2.68,3.76,5.24,53.97,2.21,3.18,3.04,2.7,2.14,3.19,2.76,1273,840,341,1054,580,"…",270,697,186,"…","…",72.89,142.59,111.39,248.81,"…","…","…",133.66,146.97,"…",0.37,0.41,2.23,0.89,1.96,11.46,0.36,0.48,0.1,2840.07,177.35,157.9,"…",353.57,218.25,1.74,"…",0.89,33.799999999999997,163.5,132.5,162.5,86.5,1162.8,26.15,1330.8,493.6,12438.7,4640.3,853.6,347.71,343.32,7.46]
["1984M08","1984-08-01",false,{"$error":"#N/A"},{"$f":"INDEX(G305:BY305,$E$7)","v":2.69},{"$f":"INDEX(G305:BY305,$F$7)","v":5.24},28.17,28.11,27.23,29.17,31.75,35.799999999999997,2.69,3.76,5.24,54.09,2.21,3.21,3.1,2.7,2.2599999999999998,3.1,2.74,1079,700,333,984,562,"…",261,679,180,"…","…",66.58,138.75,107.23,252,"…","…","…",137.47,152.49,"…",0.34,0.51,2.25,0.85,1.95,11,0.36,0.48,0.09,2907.89,174.9,147.54,"…",340.85,222.86,1.66,"…",0.91,33.5,170.5,137.5,165,86.5,1135.8,26.15,1337.5,467.4,12302.2,4736,834.1,347.7,339.78,7.6]
["1984M09","1984-09-01",false,{"$error":"#N/A"},{"$f":"INDEX(G306:BY306,$E$7)","v":2.62},{"$f":"INDEX(G306:BY306,$F$7)","v":5.24},28.35,28.36,27.4,29.3,31.75,35.799999999999997,2.62,3.76,5.24,53.24,2.31,3.14,3.12,2.65,2.5299999999999998,2.71,2.72,1170,630,318,931,611,"…",245,694,168,"…","…",68.88,130.41,104.78,236.54,"…","…","…",140.78,155.06,"…",0.38,0.56000000000000005,2.1800000000000002,0.86,1.86,10.47,0.34,0.48,0.09,2953.76,167.04,142.78,"…",334.87,216.12,1.61,"…",0.92,33.5,168,137.5,165,86.5,1012.1,26.15,1293.5999999999999,401.6,12091.1,4705.5,873.3,340.2,326.7,7.25]
["1984M10","1984-10-01",false,{"$error":"#N/A"},{"$f":"INDEX(G307:BY307,$E$7)","v":2.63},{"$f":"INDEX(G307:BY307,$F$7)","v":5.24},27.85,27.81,27.11,28.64,31.75,35.799999999999997,2.63,3.76,5.24,53.36,2.2599999999999998,3.02,2.98,2.67,2.5099999999999998,2.8,2.69,1175,655,319,836,615,"…",245,679,170,"…","…",70.599999999999994,121.19,101.34,231.63,"…","…","…",141.28,152.85,"…",0.31,0.5,2.11,0.84,1.8,11.13,0.44,0.48,0.1,2932.06,164.5,135.87,"…",326.02,211.92,1.62,"…",0.85,35,166,137.5,172,86.5,1027.9000000000001,26.15,1273,412,11744.9,4750.3,843.7,341,324.33999999999997,7.29]
["1984M11","1984-11-01",false,{"$error":"#N/A"},{"$f":"INDEX(G308:BY308,$E$7)","v":2.61},{"$f":"INDEX(G308:BY308,$F$7)","v":5.24},27.65,27.7,27.09,28.16,32.75,35.31,2.61,3.76,5.24,53.12,2.2599999999999998,3.09,3,2.5299999999999998,2.5099999999999998,2.41,2.67,993,720,323,905,616,"…",250,698,169,"…","…",71.239999999999995,117.37,106.7,211.74,"…","…","…",143.52000000000001,152.49,"…",0.27,0.36,2.1,0.84,1.84,11.79,0.34,0.47,0.1,2933.26,168.95,136.11000000000001,"…",326.33,211.66,1.6,"…",0.81,36,160.5,127.5,166,86.5,1151.8,26.15,1345.1,440.5,11991.2,4748.3,855.1,342,328.49,7.49]
["1984M12","1984-12-01",false,{"$error":"#N/A"},{"$f":"INDEX(G309:BY309,$E$7)","v":2.57},{"$f":"INDEX(G309:BY309,$F$7)","v":5.24},26.81,26.98,26.76,26.7,33.75,34.94,2.57,3.76,5.24,52.63,2.14,3.1,2.8,2.56,2.4500000000000002,2.63,2.59,920,696,314,912,592,"…",241,630,165,"…","…",61.55,113.95,111.11,204.62,"…","…","…",141.38999999999999,149.55000000000001,"…",0.3,0.32,2.2200000000000002,0.82,1.77,12.13,0.32,0.47,0.08,2854.79,163.21,130.58000000000001,"…",319.10000000000002,207.71,1.59,"…",0.79,36,156.5,124,166,86.5,1095.2,26.15,1321.1,415.6,11722.2,4859,859.7,319.54000000000002,304.13,6.64]
["1985M01","1985-01-01",false,{"$error":"#N/A"},{"$f":"INDEX(G310:BY310,$E$7)","v":2.64},{"$f":"INDEX(G310:BY310,$F$7)","v":5.23},26.63,26.95,27.3,25.65,33.75,35.06,2.64,3.65,5.23,52.95,2.2200000000000002,3.21,2.77,2.1,2.31,2.36,1.63,856,682,307,890,583,"…",243,630,166,"…","…",66.58,119.01,114.7,206.83,"…","…","…",147.57,149.18,"…",0.38,0.24,2.27,0.84,1.73,11.07,0.31,0.46,0.08,2796.84,159.82,120.44,307,305.47000000000003,202.61,1.57,"…",0.76,36,158.5,117.5,168.5,86.5,1075.4000000000001,26.56,1359.1,420.5,11073.4,4947.2,867.1,302.79000000000002,274.39,6.1]
["1985M02","1985-02-01",false,{"$error":"#N/A"},{"$f":"INDEX(G311:BY311,$E$7)","v":2.71},{"$f":"INDEX(G311:BY311,$F$7)","v":5.23},27.6,28.2,27.25,27.35,33.75,35.06,2.71,3.65,5.23,53.8,2.27,3.18,2.7,1.94,2.13,2.09,1.6,756,665,292,873,595,"…",239,664,151,"…","…",68.239999999999995,119.78,112.55,200.94,"…","…","…",140.5,147.34,"…",0.44,0.28000000000000003,2.31,0.85,1.69,11.16,0.3,0.45,0.08,2730.48,153.91,116.49,307,300.02,196.9,1.51,"…",0.74,36,156,113.5,168.5,87,1098.2,26.56,1388.5,368.2,10946,5050.8,886.6,299.10000000000002,269.39999999999998,6.06]
["1985M03","1985-03-01",false,{"$error":"#N/A"},{"$f":"INDEX(G312:BY312,$E$7)","v":2.62},{"$f":"INDEX(G312:BY312,$F$7)","v":5.23},27.85,28.1,27.15,28.3,33.75,35.06,2.62,3.65,5.23,52.71,2.23,3.26,2.71,1.72,1.73,1.85,1.58,843,680,280,944,651,"…",241,667,154,"…","…",64.930000000000007,120.19,117.34,199.96,"…","…","…",140.88,145.13999999999999,"…",0.45,0.36,2.25,0.84,1.71,10.69,0.3,0.46,0.08,2689.7,153.29,116.83,307,300.49,197.19,1.48,"…",0.74,36,179.5,114,105,75.5,1095.3,26.56,1389.9,352,11210.6,5211.7,920.9,313.5,260.76,5.99]
["1985M04","1985-04-01",false,{"$error":"#N/A"},{"$f":"INDEX(G313:BY313,$E$7)","v":2.64},{"$f":"INDEX(G313:BY313,$F$7)","v":5.23},27.8,27.9,26.65,28.85,33.75,35.06,2.64,3.65,5.23,52.95,2.2400000000000002,3.12,2.7,1.82,1.61,2.23,1.62,769,739,271,1020,653,"…",243,693,151,"…","…",68.239999999999995,120.05,118.39,202.9,"…","…","…",139.13999999999999,143.66999999999999,"…",0.48,0.43,2.13,0.84,1.86,10.210000000000001,0.34,0.46,0.08,2675.23,164.7,121.11,307,306.39,202.65,1.46,"…",0.79,36,179.5,116,107.5,75.5,1106.3,26.56,1501.8,389.6,11806.4,5489.5,931.3,326.8,282.72000000000003,6.44]
["1985M05","1985-05-01",false,{"$error":"#N/A"},{"$f":"INDEX(G314:BY314,$E$7)","v":2.5299999999999998},{"$f":"INDEX(G314:BY314,$F$7)","v":5.23},26.65,26.65,25.65,27.65,33.75,35.06,2.5299999999999998,3.65,5.23,51.62,2.13,3.15,2.67,1.77,1.4,2.2999999999999998,1.61,662,768,276,1026,610,"…",231,652,144,"…","…",68.239999999999995,116.73,115.24,202.9,"…","…","…",122.65,136.32,"…",0.46,0.44,2.09,0.82,1.84,10.210000000000001,0.34,0.46,0.06,2634.51,163.66,120.49,307,305.54000000000002,200.4,1.43,"…",0.77,36,154,116,127.5,87,1105.2,26.56,1530.6,376,11909.8,5604.1,881.3,316,272.38,6.27]
["1985M06","1985-06-01",false,{"$error":"#N/A"},{"$f":"INDEX(G315:BY315,$E$7)","v":2.58},{"$f":"INDEX(G315:BY315,$F$7)","v":5.23},26.37,26.45,25.45,27.2,33.75,35.06,2.58,3.65,5.23,52.23,2.09,3.13,2.65,1.71,1.1599999999999999,2.36,1.62,575,760,256,974,556,"…",227,630,141,"…","…",64.930000000000007,116.04,105.3,202.9,"…","…","…",123.15,134.11000000000001,"…",0.38,0.44,2.09,0.84,1.86,10.210000000000001,0.35,0.47,0.06,2611.25,165.96,117.96,307,302.06,196.8,1.39,"…",0.81,36,151.5,112,112.5,87,1032.2,26.56,1432.4,389.4,12385.8,5553.4,808,316.5,267.8,6.18]
["1985M07","1985-07-01",false,{"$error":"#N/A"},{"$f":"INDEX(G316:BY316,$E$7)","v":2.5099999999999998},{"$f":"INDEX(G316:BY316,$F$7)","v":5.23},26.38,26.6,25.7,26.85,33.75,35.06,2.5099999999999998,3.65,5.23,51.38,2.21,2.98,2.34,1.81,1.25,2.57,1.6,520,665,254,880,487,"…",223,568,144,"…","…",59.89,114.91,99.01,191.12,"…","…","…",117.77,128.6,"…",0.32,0.45,2.0499999999999998,0.83,1.98,10.119999999999999,0.37,0.47,7.0000000000000007E-2,2582.5100000000002,174.6,120.79,307,305.95,208.1,1.34,"…",0.78,36,151,114.5,109.5,87,1011.6,26.56,1474.6,403.1,12755.8,5090.5,766.8,317.2,268.91000000000003,6]
["1985M08","1985-08-01",false,{"$error":"#N/A"},{"$f":"INDEX(G317:BY317,$E$7)","v":2.4700000000000002},{"$f":"INDEX(G317:BY317,$F$7)","v":5.23},27.02,27.15,26.3,27.6,33.75,35.06,2.4700000000000002,3.65,5.23,50.89,2.27,2.94,2.35,1.73,1.27,2.39,1.54,456,615,259,896,404,"…",211,518,150,"…","…",48.3,105.53,89.13,191.12,"…","…","…",111.81,123.09,"…",0.42,0.51,2.0699999999999998,0.83,1.96,10.210000000000001,0.37,0.45,0.1,2568.5700000000002,181.84,118.28,307,302.5,212.89,1.26,"…",0.76,36,155.5,122.5,97.5,87,1019.3,26.56,1420.2,413.6,12647.2,4907.5,735.1,330.4,307.8,6.15]
["1985M09","1985-09-01",false,{"$error":"#N/A"},{"$f":"INDEX(G318:BY318,$E$7)","v":2.42},{"$f":"INDEX(G318:BY318,$F$7)","v":5.23},26.98,27.15,26.15,27.65,33.75,35.06,2.42,3.65,5.23,50.28,2.35,2.94,2.29,1.64,1.24,2.16,1.51,427,585,265,810,360,"…",207,469,160,"…","…",46.58,101.91,81.62,191.12,"…","…","…",111.19,125.3,"…",0.36,0.51,2.08,0.84,1.81,10.25,0.37,0.43,0.11,2532.65,179.01,115.69,307,298.91000000000003,210.17,1.18,"…",0.73,36,154,126,87.5,81.5,985.1,26.56,1366.4,400.4,12325.2,4570.2,689.5,323.35000000000002,311.14999999999998,6.05]
["1985M10","1985-10-01",false,{"$error":"#N/A"},{"$f":"INDEX(G319:BY319,$E$7)","v":2.37},{"$f":"INDEX(G319:BY319,$F$7)","v":5.23},27.82,27.9,26.7,28.85,33.75,34.49,2.37,3.65,5.23,49.68,2.36,3.1,2.4500000000000002,1.56,1.1499999999999999,1.97,1.57,430,622,287,808,356,"…",205,448,170,"…","…",48.3,98.58,87.57,191.12,"…","…","…",121.03,127.5,"…",0.28000000000000003,0.45,2.14,0.82,1.87,10.36,0.38,0.41,0.11,2502.7399999999998,192.13,122.19,307,307.86,225.87,1.08,"…",0.75,36,151,132.5,80.5,81.5,970.5,26.56,1384.7,393.4,12391.1,4239.5,631.9,325.85000000000002,323.45999999999998,6.18]
["1985M11","1985-11-01",false,{"$error":"#N/A"},{"$f":"INDEX(G320:BY320,$E$7)","v":2.36},{"$f":"INDEX(G320:BY320,$F$7)","v":5.23},28.6,29.05,26.9,29.85,33.75,34.49,2.36,3.65,5.23,49.55,2.2999999999999998,3.43,2.78,1.57,1.1000000000000001,2.0099999999999998,1.59,393,644,308,911,362,"…",210,455,177,"…","…",48.3,106.2,95.68,191.12,"…","…","…",131.65,132.63999999999999,"…",0.28000000000000003,0.36,2.14,0.85,1.91,10.54,0.39,0.42,0.12,2465.83,196.34,130.9,307,319.52,237.83,1.06,"…",0.74,36,149,135,87.5,81.5,950.4,26.56,1369.5,394.2,9903.2000000000007,4034.5,597.5,321.5,334.4,6.1]
["1985M12","1985-12-01",false,{"$error":"#N/A"},{"$f":"INDEX(G321:BY321,$E$7)","v":2.2799999999999998},{"$f":"INDEX(G321:BY321,$F$7)","v":5.23},26.5,25.85,26.3,27.35,33.75,34.49,2.2799999999999998,3.65,5.23,48.58,2.38,4.34,3.37,1.62,1.1399999999999999,2.13,1.59,395,684,306,827,390,"…",213,470,178,"…","…",53.27,107.87,99.58,191.12,"…","…","…",136.58000000000001,137.05000000000001,"…",0.28000000000000003,0.32,2.23,0.87,1.92,10.87,0.39,0.44,0.12,2551.4899999999998,201.34,139.63999999999999,307,330.87,239.13,1.06,"…",0.73,36,146.5,137,87.5,81.5,1039.2,26.56,1390.9,389.9,9114,4089.6,685.3,321.89999999999998,336.82,5.85]
["1986M01","1986-01-01",false,{"$error":"#N/A"},{"$f":"INDEX(G322:BY322,$E$7)","v":2.2799999999999998},{"$f":"INDEX(G322:BY322,$F$7)","v":4.0999999999999996},24.68,25.75,25.4,22.9,33.75,33.83,2.2799999999999998,3.65,4.0999999999999996,47.82,2.3199999999999998,5.24,3.75,1.53,1.1000000000000001,1.81,1.7,380,702,292,701,342,"…",221,457,186,"…","…",53.27,107.79,98.33,220.58,83.26,98,"…",135.4,132.28,"…",0.33,0.32,2.1800000000000002,0.84,1.88,11.22,0.4,0.45,0.11,2646.02,206.72,144.99,"…",337.66,242.42,1.1399999999999999,"…",0.74,36,145.5,133,82.5,81.5,1119.24,26.26,1418.3,368.4,7910,4034.5,644,347.48,363.76,6.02]
["1986M02","1986-02-01",false,{"$error":"#N/A"},{"$f":"INDEX(G323:BY323,$E$7)","v":2.2599999999999998},{"$f":"INDEX(G323:BY323,$F$7)","v":4.0999999999999996},15.92,17.55,14.8,15.4,33.75,33.83,2.2599999999999998,3.65,4.0999999999999996,47.57,2.23,5.03,3.57,1.52,1.1399999999999999,1.71,1.72,318,693,292,580,283,"…",216,394,185,"…","…",53.27,103.19,95.18,211.99,115.1,97,"…",136.06,129.71,"…",0.39,0.32,2.16,0.85,1.88,11.9,0.4,0.46,0.12,2680.73,216.42,148.69999999999999,"…",342.3,258.61,1.2,"…",0.79,36,143,134.5,77,80,1114.8499999999999,26.26,1405.5,367.3,7922.9,3988.2,608.70000000000005,338.89,376.04,5.86]
["1986M03","1986-03-01",false,{"$error":"#N/A"},{"$f":"INDEX(G324:BY324,$E$7)","v":2.16},{"$f":"INDEX(G324:BY324,$F$7)","v":4.0999999999999996},12.65,13.85,11.45,12.65,30.75,31.64,2.16,3.65,4.0999999999999996,46.36,2.11,5.28,3.72,1.48,1.1399999999999999,1.6,1.71,293,700,321,541,243,"…",217,369,194,"…","…",54.35,100.88,94.47,197.26,101.42,100,"…",139.47999999999999,134.47999999999999,"…",0.5,0.34,2.19,0.85,2.11,12.41,0.41,0.46,0.15,2695.37,192.13,142.12,"…",334.03,257.64,1.1499999999999999,"…",0.78,36,148,139,77,80,1168.01,26.26,1445.1,367.2,7313.6,4122.6000000000004,625.70000000000005,345.7,413.64,5.62]
["1986M04","1986-04-01",false,{"$error":"#N/A"},{"$f":"INDEX(G325:BY325,$E$7)","v":2.1},{"$f":"INDEX(G325:BY325,$F$7)","v":4.0999999999999996},11.9,12.5,10.3,12.9,30.75,31.64,2.1,3.65,4.0999999999999996,45.63,1.99,4.9800000000000004,3.47,1.51,1.05,1.79,1.7,266,726,333,578,242,"…",213,349,187,"…","…",49.64,101.33,98.71,186.21,91.14,97,"…",139.66999999999999,132.63999999999999,"…",0.57999999999999996,0.36,2.06,0.83,2.3199999999999998,12.85,0.42,0.45,0.18,2655.77,215.39,136.47,"…",326.79000000000002,256.95,1.07,"…",0.75,36,149,140,72.5,75,1164.44,26.26,1434.6,369.5,5686.1,3999.2,659.9,340.44,418.39,5.19]
["1986M05","1986-05-01",false,{"$error":"#N/A"},{"$f":"INDEX(G326:BY326,$E$7)","v":1.96},{"$f":"INDEX(G326:BY326,$F$7)","v":4.0999999999999996},13.72,14.2,11.5,15.45,30.75,29.46,1.96,3.65,4.0999999999999996,43.93,1.91,4.66,3.14,1.67,0.98,2.33,1.7,233,898,317,578,238,"…",215,345,184,"…","…",49.95,105.55,105.95,181.3,94.82,98,"…",119.2,119.42,"…",0.39,0.37,2.0699999999999998,0.85,2.56,13.89,0.42,0.46,0.17,2638.78,217.86,145.21,"…",337.94,269.74,1,"…",0.77,36,148,127,72.5,75,1164.3,26.26,1418.74,376.5,5474.2,4043.3,707.3,342.4,413.62,5.07]
["1986M06","1986-06-01",false,{"$error":"#N/A"},{"$f":"INDEX(G327:BY327,$E$7)","v":1.85},{"$f":"INDEX(G327:BY327,$F$7)","v":4.0999999999999996},11.85,11.85,10.199999999999999,13.5,30.75,29.46,1.85,3.65,4.0999999999999996,42.59,1.91,3.9,2.76,1.63,0.9,2.2999999999999998,1.68,254,898,317,560,243,"…",213,351,180,"…","…",43.26,103.54,85.76,181.3,86.36,101,"…",99.61,105.82,"…",0.35,0.4,2.02,0.88,2.57,14.2,0.42,0.46,0.14000000000000001,2604.64,217.42,136.69,"…",327.08,267.94,0.9,"…",0.78,36,140.5,118.5,72.5,75,1183.04,26.26,1413.14,418.4,5378.3,4087.4,804.2,342.7,432.49,5.13]
["1986M07","1986-07-01",false,{"$error":"#N/A"},{"$f":"INDEX(G328:BY328,$E$7)","v":1.8},{"$f":"INDEX(G328:BY328,$F$7)","v":4.0999999999999996},9.6199999999999992,9.4499999999999993,7.85,11.55,30.75,29.46,1.8,3.65,4.0999999999999996,41.99,2.02,3.8,2.78,1.71,0.91,2.4900000000000002,1.72,229,898,319,548,221,"…",209,336,184,"…","…",39.950000000000003,83.03,73.41,181.25,88.32,107,"…",100.09,101.78,"…",0.33,0.43,1.93,0.98,2.37,13.71,0.43,0.46,0.12,2599.2600000000002,223.77,135.96,"…",326.13,280.58,0.83,"…",0.81,36,135.5,110.5,67.5,72.5,1123.06,26.26,1344.3,379.8,5386.6,3911,807.1,348.34,438.8,5.03]
["1986M08","1986-08-01",false,{"$error":"#N/A"},{"$f":"INDEX(G329:BY329,$E$7)","v":1.77},{"$f":"INDEX(G329:BY329,$F$7)","v":4.0999999999999996},13.7,13.65,12.15,15.3,30.75,29.46,1.77,3.65,4.0999999999999996,41.62,2.0699999999999998,3.83,2.98,1.72,1.06,2.36,1.73,211,1326,326,561,197,"…",202,271,187,"…","…",36.64,72.31,62.53,185.75,99.4,122,"…",100.26,102.15,"…",0.32,0.5,2,1.06,2.12,13.45,0.42,0.46,0.12,2568.8200000000002,230.44,132.55000000000001,"…",321.69,280.02999999999997,0.82,"…",0.84,36,135.5,108,71,72.5,1129.23,26.26,1303.0999999999999,392.2,5404.3,3807.4,816,376.66,540.33000000000004,5.18]
["1986M09","1986-09-01",false,{"$error":"#N/A"},{"$f":"INDEX(G330:BY330,$E$7)","v":1.78},{"$f":"INDEX(G330:BY330,$F$7)","v":4.0999999999999996},14.08,14.2,13.1,14.95,30.75,29.46,1.78,3.65,4.0999999999999996,41.74,2.21,4.4000000000000004,3.61,1.7,1.03,2.36,1.72,240,1326,339,534,207,"…",195,276,189,"…","…",39.950000000000003,65.7,64.459999999999994,173.5,106.15,113,"…",102.29,103.62,"…",0.42,0.5,2.09,1.01,2.0699999999999998,12.99,0.41,0.46,0.1,2607.02,232.04,126.18,"…",313.25,274.69,0.96,"…",0.86,36,129.5,111,65,66.5,1205.82,26.26,1347,407.2,5397.2,3723.6,871.1,417.73,604.48,5.63]
["1986M10","1986-10-01",{"$f":"B331>$C$8","v":false},{"$f":"IF(C331,B331,NA())","v":{"$error":"#N/A"}},{"$f":"INDEX(G331:BY331,$E$7)","v":1.73},{"$f":"INDEX(G331:BY331,$F$7)","v":4.0999999999999996},13.95,13.8,13.15,14.9,30.75,29.46,1.73,3.65,4.0999999999999996,41.14,2.0699999999999998,3.92,3.28,1.76,1.0900000000000001,2.48,1.72,341,1625,353,572,272,"…",197,319,185,"…","…",48.3,65.31,69,174.8,96.47,113,"…",114.79,104.72,"…",0.37,0.44,2.11,1,1.98,12.28,0.4,0.46,0.12,2654.09,236.67,123.94,"…",310.23,278.13,1.1299999999999999,"…",0.88,36,134.5,116,62.5,66.5,1161.94,26.26,1316.8,434.6,5542.8,3644.2,886.2,423.51,581.25,5.64]
["1986M11","1986-11-01",false,{"$error":"#N/A"},{"$f":"INDEX(G332:BY332,$E$7)","v":1.77},{"$f":"INDEX(G332:BY332,$F$7)","v":4.0999999999999996},14.45,14.55,13.55,15.25,30.75,29.46,1.77,3.65,4.0999999999999996,41.62,2.02,3.45,3.13,1.84,1.41,2.4300000000000002,1.69,388,1225,328,551,303,"…",204,322,182,"…","…",55.56,72.430000000000007,72.42,174,146,105,"…",118.13,105.09,"…",0.28999999999999998,0.38,2.12,0.99,1.97,12.81,0.4,0.47,0.13,2753.28,233.97,134.11000000000001,"…",323.73,285.14,1.1599999999999999,"…",0.84,36,127,108,64.5,65.5,1131.81,26.26,1303.2,473.4,6092.3,3642,820,397.56,517.07000000000005,5.55]
["1986M12","1986-12-01",false,{"$error":"#N/A"},{"$f":"INDEX(G333:BY333,$E$7)","v":1.76},{"$f":"INDEX(G333:BY333,$F$7)","v":4.0999999999999996},15.68,15.9,14.9,16.25,29.25,27.28,1.76,3.65,4.0999999999999996,41.5,1.98,3,2.75,1.84,1.51,2.31,1.71,405,906,310,529,293,"…",199,320,174,"…","…",46.58,69.64,68.739999999999995,167,141,100,"…",115.69,107.29,"…",0.31,0.36,2.1800000000000002,0.97,2.0099999999999998,12.92,0.4,0.47,0.13,2806.36,236.9,156,"…",351.27,332.74,1.3,"…",0.84,36,122,108.5,64.5,65.5,1133.48,26.26,1335.6,518.4,6428.1,3571.5,798.2,390.92,480.61,5.35]
["1987M01","1987-01-01",false,{"$error":"#N/A"},{"$f":"INDEX(G334:BY334,$E$7)","v":1.74},{"$f":"INDEX(G334:BY334,$F$7)","v":3.35},18.07,18.399999999999999,17.2,18.600000000000001,29.25,27.28,1.74,2.59,3.35,35.71,1.97,2.72,2.5,1.67,1.5,2.17,1.34,425,836,317,520,350,"…",200,315,182,"…","…",46.45,67.91,68.2,172,148,107,"…",117.44,109.13,"…",0.42,0.37,2.1800000000000002,0.96,2.11,12.9,0.42,0.47,0.14000000000000001,2777.67,250.23,169.99,"…",367.95,373.83,1.45,"…",0.88,36,140,113.5,64,63,1171.4000000000001,25.3,1346,464.1,6712.7,3525.2,759.7,408.26,515.97,5.51]
["1987M02","1987-02-01",false,{"$error":"#N/A"},{"$f":"INDEX(G335:BY335,$E$7)","v":1.73},{"$f":"INDEX(G335:BY335,$F$7)","v":3.35},17.25,17.3,16.7,17.75,29.25,27.28,1.73,2.59,3.35,35.590000000000003,1.96,2.66,2.4300000000000002,1.59,1.35,2.08,1.33,403,775,322,500,330,"…",198,307,183,"…","…",46.32,66.14,67.680000000000007,186,164,120,"…",115.67,112.07,"…",0.46,0.36,2.2799999999999998,0.95,2.09,12.35,0.43,0.48,0.16,2769.11,254.75,167.42,"…",364.93,376.27,1.45,"…",0.9,36,161,126.5,68,61.5,1283.44,25.3,1379.83,460.4,6688.4,3717,740.4,401.12,517.86,5.48]
["1987M03","1987-03-01",false,{"$error":"#N/A"},{"$f":"INDEX(G336:BY336,$E$7)","v":1.73},{"$f":"INDEX(G336:BY336,$F$7)","v":3.35},17.75,17.899999999999999,16.899999999999999,18.45,29.25,27.28,1.73,2.59,3.35,35.590000000000003,2.0099999999999998,2.29,2.16,1.62,1.43,2.11,1.33,344,711,332,484,313,"…",199,305,175,"…","…",46.45,71.599999999999994,73.8,198.25,178,131,"…",116.53,115.38,"…",0.45,0.35,2.33,0.92,2.2200000000000002,11.9,0.45,0.48,0.17,2775.51,253.91,171.29,"…",369.46,339.84,1.39,"…",0.9,36,165,131,70.5,61.5,1367.26,25.3,1465.72,487,6631.5,3772.1,731.6,408.91,532.63,5.66]
["1987M04","1987-04-01",false,{"$error":"#N/A"},{"$f":"INDEX(G337:BY337,$E$7)","v":1.69},{"$f":"INDEX(G337:BY337,$F$7)","v":3.35},17.899999999999999,18.100000000000001,16.95,18.649999999999999,24.75,26.18,1.69,2.59,3.35,35.1,2.0699999999999998,2.37,2.23,1.73,1.37,2.48,1.34,389,690,341,507,339,"…",207,333,185,"…","…",58.94,74.88,72.069999999999993,199.4,176,133,"…",113.1,113.17,"…",0.35,0.4,2.4,0.91,2.17,11.75,0.46,0.48,0.15,2797.14,256.98,174.26,"…",372.91,323.47000000000003,1.46,"…",0.93,34.5,157.5,132.5,77.5,61.5,1400.97,25.3,1484.24,555.6,6699.8,3897.8,761.9,438.35,585.65,7.35]
["1987M05","1987-05-01",false,{"$error":"#N/A"},{"$f":"INDEX(G338:BY338,$E$7)","v":1.65},{"$f":"INDEX(G338:BY338,$F$7)","v":3.35},18.399999999999999,18.75,17.05,19.399999999999999,24.75,26.18,1.65,2.59,3.35,34.619999999999997,2.0699999999999998,2.59,2.33,1.67,1.1499999999999999,2.5299999999999998,1.34,405,690,355,525,341,"…",221,351,201,"…","…",63.91,81.84,77.69,197.5,175,136,"…",115.83,119.05,"…",0.45,0.5,2.4,0.91,2.2200000000000002,12.08,0.47,0.49,0.15,2737,259.64999999999998,159.56,"…",355.58,329.09,1.69,"…",0.95,34.5,151.5,132.5,87.5,61.5,1411.6,25.3,1520.44,693.3,6747.4,4435.7,838.7,460.23,606.73,8.4600000000000009]
["1987M06","1987-06-01",false,{"$error":"#N/A"},{"$f":"INDEX(G339:BY339,$E$7)","v":1.65},{"$f":"INDEX(G339:BY339,$F$7)","v":3.35},18.72,18.850000000000001,17.25,20.05,24.75,26.18,1.65,2.59,3.35,34.619999999999997,2,2.3199999999999998,2.16,1.65,1.19,2.4500000000000002,1.32,451,670,393,513,342,"…",228,351,214,"…","…",56.58,80.7,76.42,192.75,174,142,"…",102.15,108.76,"…",0.38,0.56999999999999995,2.3199999999999998,0.89,2.16,11.75,0.46,0.49,0.14000000000000001,2766.86,255.14,160.43,"…",356.62,352.3,1.75,"…",0.98,34.5,149,139.5,87.5,61.5,1472.33,25.3,1571.87,629.29999999999995,6610.4,4435.7,878.4,449.59,569,7.42]
["1987M07","1987-07-01",false,{"$error":"#N/A"},{"$f":"INDEX(G340:BY340,$E$7)","v":1.66},{"$f":"INDEX(G340:BY340,$F$7)","v":3.35},19.62,19.8,17.75,21.3,27,26.18,1.66,2.59,3.35,34.74,2.12,2.2000000000000002,2.04,1.72,1.32,2.5299999999999998,1.3,443,642,403,499,300,"…",222,318,204,"…","…",54.92,76.37,72.2,190.8,170,148,"…",100.6,104.72,"…",0.44,0.51,2.33,0.88,2.1,10.98,0.47,0.49,0.13,2744.43,252.79,166.81,"…",364.21,384.46,1.84,"…",1.02,34.5,159.5,146.5,87.5,70,1653.09,25.3,1694.62,663.6,6404.9,4753.2,829.8,450.52,572.35,7.61]
["1987M08","1987-08-01",false,{"$error":"#N/A"},{"$f":"INDEX(G341:BY341,$E$7)","v":1.63},{"$f":"INDEX(G341:BY341,$F$7)","v":3.35},18.82,18.95,17.3,20.2,27,26.18,1.63,2.59,3.35,34.380000000000003,2.02,2.25,2.08,1.7,1.44,2.34,1.3,479,630,413,467,308,"…",215,322,194,"…","…",50.59,71.650000000000006,67.19,204,186,168,"…",101.74,106.92,"…",0.34,0.52,2.31,0.91,2.06,10.76,0.47,0.48,0.12,2765.26,251.53,199.64,"…",401.32,454.05,1.91,"…",1.03,34.5,167,152.5,85,70,1810.37,25.3,1756.31,659.3,6556.1,5306.5,804.1,461.15,609.91999999999996,7.84]
["1987M09","1987-09-01",false,{"$error":"#N/A"},{"$f":"INDEX(G342:BY342,$E$7)","v":1.56},{"$f":"INDEX(G342:BY342,$F$7)","v":3.35},18.28,18.350000000000001,17,19.5,27,26.18,1.56,2.59,3.35,33.53,1.99,2.44,2.19,1.64,1.36,2.27,1.3,480,645,400,469,335,"…",214,330,207,"…","…",57.6,73.569999999999993,68.7,258,231,195,"…",110.1,112.07,"…",0.35,0.51,2.5099999999999998,0.92,2.1,10.69,0.48,0.48,0.13,2743.91,257.75,254.45,"…",457.49,479.02,1.84,"…",1.06,33.25,167.5,149.5,85,70,1746.28,25.3,1811.01,646.79999999999995,6406.3,5333,756.7,460.38,590,7.61]
["1987M10","1987-10-01",false,{"$error":"#N/A"},{"$f":"INDEX(G343:BY343,$E$7)","v":1.57},{"$f":"INDEX(G343:BY343,$F$7)","v":3.35},18.57,18.8,17.05,19.850000000000001,27,26.18,1.57,2.59,3.35,33.65,1.91,2.63,2.2799999999999998,1.64,1.39,2.27,1.27,482,845,406,502,353,"…",217,348,214,"…","…",60.6,78.849999999999994,74.099999999999994,266.75,232,210,"…",113.46,113.91,"…",0.27,0.47,2.5099999999999998,0.91,2.09,10.56,0.49,0.48,0.15,2726.68,259.14,259.75,"…",462.61,472.87,1.68,"…",1.05,32,163,145.5,92.5,73,1962.66,25.3,1967.2,601.4,6763.8,5692.3,769.9,465.35,568.04999999999995,7.61]
["1987M11","1987-11-01",false,{"$error":"#N/A"},{"$f":"INDEX(G344:BY344,$E$7)","v":1.64},{"$f":"INDEX(G344:BY344,$F$7)","v":3.35},17.75,17.8,16.600000000000001,18.850000000000001,29,26.34,1.64,2.59,3.35,34.5,1.93,2.79,2.31,1.62,1.34,2.2400000000000002,1.27,477,925,445,481,368,"…",228,338,239,"…","…",59.42,81.69,78.12,254.25,231,189,"…",113.72,115.01,"…",0.41,0.46,2.56,0.88,2.23,10.58,0.52,0.48,0.16,2711.86,273.37,275.67,"…",477.71,470.24,1.67,"…",1.04,32,165,144,92.5,73,1681,25.3,2523.9,642.20000000000005,6927.3,5937,848,467.57,500.3,6.76]
["1987M12","1987-12-01",false,{"$error":"#N/A"},{"$f":"INDEX(G345:BY345,$E$7)","v":1.7},{"$f":"INDEX(G345:BY345,$F$7)","v":3.35},16.63,17.100000000000001,15.5,17.3,31,26.5,1.7,2.59,3.35,35.229999999999997,1.9,2.8,2.27,1.57,1.35,2.06,1.29,529,1043,474,530,432,"…",240,393,241,"…","…",58.24,83.16,76.989999999999995,255.6,227,168,"…",124.88,124.56,"…",0.39,0.44,2.5099999999999998,0.86,2.4,10.98,0.54,0.48,0.18,2631.12,281.75,262,"…",464.77,437.44,1.66,"…",1.0900000000000001,32,174,142.5,92.5,81,1823.93,25.3,2868.9,659.1,6829.4,7661.1,866.3,486.24,500.22,6.81]
["1988M01","1988-01-01",false,{"$error":"#N/A"},{"$f":"INDEX(G346:BY346,$E$7)","v":1.96},{"$f":"INDEX(G346:BY346,$F$7)","v":3.34},16.47,16.850000000000001,15.4,17.149999999999999,31,26.5,1.96,2.36,3.34,37.28,1.97,2.82,2.25,1.59,1.49,1.85,1.43,566,1006,473,540,486,"…",254,433,225,"…","…",56.9,85.92,80.47,291.5,265,207,"…",126.17,128.6,"…",0.45,0.39,2.4900000000000002,0.87,2.4700000000000002,11.42,0.53,0.48,0.21,2608.79,279.81,238.71,"…",441.98,414.51,1.59,"…",1.1000000000000001,32,189,154.5,92.5,82,2002.46,24.3,2663.2,666.8,6808.1,8073.3,878.5,476.58,494.07,6.74]
["1988M02","1988-02-01",false,{"$error":"#N/A"},{"$f":"INDEX(G347:BY347,$E$7)","v":1.84},{"$f":"INDEX(G347:BY347,$F$7)","v":3.34},15.85,15.75,15.05,16.75,31,26,1.84,2.36,3.34,35.83,1.8,3.05,2.27,1.6,1.57,1.82,1.4,530,1044,473,503,403,"…",254,406,216,"…","…",56.9,87.99,84.08,306.25,278,214,"…",125.25,131.54,"…",0.49,0.39,2.61,0.88,2.4500000000000002,11.86,0.52,0.49,0.19,2536.19,271.92,196.79,"…",398.21,353.82,1.49,"…",1.0900000000000001,32,194.5,153.5,97.5,83,2138.02,24.3,2330.1999999999998,655.7,6690.1,8666.9,876.4,442.07,458.51,6.34]
["1988M03","1988-03-01",false,{"$error":"#N/A"},{"$f":"INDEX(G348:BY348,$E$7)","v":1.7},{"$f":"INDEX(G348:BY348,$F$7)","v":3.34},14.78,14.75,13.4,16.2,33,26.5,1.7,2.36,3.34,34.130000000000003,1.69,3.01,2.1800000000000002,1.55,1.5,1.75,1.41,516,1058,487,501,381,"…",257,396,227,"…","…",62.25,90.23,84.75,294,270,213,"…",118.2,124.93,"…",0.53,0.41,2.59,0.88,2.54,12.83,0.54,0.49,0.19,2453.13,273.95999999999998,199.48,"…",401.14,373.19,1.46,"…",1.1200000000000001,32,189,154,105,83,2526.41,24.3,2359.3000000000002,648.70000000000005,6772.9,15496.8,981.9,443.61,496.38,6.41]
["1988M04","1988-04-01",false,{"$error":"#N/A"},{"$f":"INDEX(G349:BY349,$E$7)","v":1.59},{"$f":"INDEX(G349:BY349,$F$7)","v":3.34},16.47,16.600000000000001,14.95,17.850000000000001,33,27,1.59,2.36,3.34,32.79,1.65,3.01,2.12,1.56,1.48,1.78,1.41,509,1070,520,515,403,"…",270,409,237,"…","…",67.92,89.52,81.739999999999995,288,267,220,"…",122.91,126.77,"…",0.48,0.47,2.4900000000000002,0.89,2.58,13.56,0.55000000000000004,0.49,0.19,2359.59,274.64,212.62,"…",415.2,376.21,1.45,"…",1.19,32,194.5,154,97.5,83,2508.35,24.3,2286.3000000000002,649.4,6752.6,18011.8,1069.2,451.55,526.98,6.48]
["1988M05",{"$f":"EDATE(B349,1)","v":"1988-05-01"},false,{"$error":"#N/A"},{"$f":"INDEX(G350:BY350,$E$7)","v":1.52},{"$f":"INDEX(G350:BY350,$F$7)","v":3.34},16.22,16.399999999999999,14.85,17.399999999999999,33,27.5,1.52,2.36,3.34,31.94,1.71,3.06,2.0699999999999998,1.68,1.34,2.2799999999999998,1.4,533,1094,541,541,422,"…",285,437,255,"…","…",65.25,89.32,81.41,257,241,211,"…",124.42,128.97,"…",0.56000000000000005,0.45,2.4300000000000002,0.94,2.5499999999999998,13.34,0.55000000000000004,0.49,0.2,2379.98,272.07,210.65,"…",413.12,372.69,1.45,"…",1.3,32,175.5,154,110,84.5,2988.16,24.3,2447.9899999999998,668.3,6777.6,17025,1176.7,451.07,548.84,6.54]
["1988M06","1988-06-01",false,{"$error":"#N/A"},{"$f":"INDEX(G351:BY351,$E$7)","v":1.53},{"$f":"INDEX(G351:BY351,$F$7)","v":3.34},15.33,15.55,13.8,16.649999999999999,36,27.5,1.53,2.36,3.34,32.06,1.62,3.17,2.06,1.67,1.34,2.29,1.37,614,1150,606,637,496,"…",353,544,317,"…","…",79.900000000000006,120.27,114.6,271.5,253,226,"…",139.63,149.91,"…",0.6,0.44,2.42,1.01,2.42,13.37,0.53,0.5,0.23,2340.16,263.43,198.44,"…",400.01,350.01,1.52,"…",1.46,32,166.5,157.5,110,84.5,3577.86,24.3,2540.27,677.5,7035.8,15589.8,1365.3,451.33,579.63,7.02]
["1988M07","1988-07-01",false,{"$error":"#N/A"},{"$f":"INDEX(G352:BY352,$E$7)","v":1.56},{"$f":"INDEX(G352:BY352,$F$7)","v":3.34},14.48,14.9,13.05,15.5,36,27.5,1.56,2.36,3.34,32.43,1.61,3.13,1.88,1.65,1.24,2.37,1.33,666,799,609,769,517,"…",351,600,293,"…","…",78.239999999999995,125.49,116.9,271.75,260,232,"…",138.94,149.55000000000001,"…",0.42,0.4,2.44,1.1000000000000001,2.2999999999999998,12.51,0.5,0.52,0.31,2374,264.87,188.28,"…",388.82,312.81,1.4,"…",1.32,32,177,157.5,110,84.5,2582.0500000000002,24.3,2213.5100000000002,619.29999999999995,7148.8,14591.3,1237.4000000000001,437.63,548.64,7.04]
["1988M08","1988-08-01",false,{"$error":"#N/A"},{"$f":"INDEX(G353:BY353,$E$7)","v":1.62},{"$f":"INDEX(G353:BY353,$F$7)","v":3.34},14.55,14.95,13.15,15.55,36,28.5,1.62,2.36,3.34,33.15,1.45,2.92,1.8,1.56,1.23,2.15,1.31,576,802,577,696,450,"…",342,534,283,"…","…",66.58,119.92,109.79,271.60000000000002,"…",217,"…",145.87,149.91,"…",0.36,0.4,2.5099999999999998,1.1200000000000001,2.27,11.82,0.5,0.48,0.25,2409.75,262.08,175.28,"…",374.09,310.56,1.27,"…",1.29,31.2,176.5,161.5,130,93,2701.14,24.3,2200.6799999999998,601.6,7322.7,14187,1309.2,431.28,532.88,6.71]
["1988M09","1988-09-01",false,{"$error":"#N/A"},{"$f":"INDEX(G354:BY354,$E$7)","v":1.53},{"$f":"INDEX(G354:BY354,$F$7)","v":3.34},13.1,13.3,11.55,14.45,37,29.25,1.53,2.36,3.34,32.06,1.24,3.04,1.98,1.5,1.21,1.99,1.31,567,803,582,649,428,"…",337,478,297,"…","…",88.38,121.37,109.79,273.25,251,221,"…",153.26,159.47,"…",0.53,0.53,2.5099999999999998,1.1399999999999999,2.2599999999999998,11.64,0.5,0.48,0.22,2437.6799999999998,263.77,178.1,"…",377.32,319.85000000000002,1.25,"…",1.19,31,173.5,162,130,90,2387.12,24.3,2435.5300000000002,609.79999999999995,7408.5,11878.4,1330.3,413.46,512.57000000000005,6.38]
["1988M10","1988-10-01",false,{"$error":"#N/A"},{"$f":"INDEX(G355:BY355,$E$7)","v":1.68},{"$f":"INDEX(G355:BY355,$F$7)","v":3.34},12.18,12.45,10.3,13.8,37,30,1.68,2.36,3.34,33.880000000000003,1.3,2.95,2.0699999999999998,1.54,1.29,2.0099999999999998,1.31,564,803,575,606,431,"…",313,449,290,"…","…",76.59,121.35,108.69,273,257,226,"…",162.87,162.04,"…",0.42,0.59,2.57,1.0900000000000001,2.31,11.88,0.51,0.48,0.23,2510.2600000000002,269.39999999999998,199.25,"…",400.89,336.38,1.27,"…",1.06,31,174.5,164,130,91.5,2309.4899999999998,24.3,2939.51,655.20000000000005,7252.7,11557.5,1519.9,406.78,525.73,6.28]
["1988M11","1988-11-01",false,{"$error":"#N/A"},{"$f":"INDEX(G356:BY356,$E$7)","v":1.76},{"$f":"INDEX(G356:BY356,$F$7)","v":3.34},12.53,13,10.6,14,37.5,30,1.76,2.36,3.34,34.85,1.47,2.98,2.04,1.53,1.34,1.94,1.32,570,800,556,564,418,"…",313,431,283,"…","…",74.87,114.43,101.04,271.8,255,227,"…",162.29,163.88,"…",0.41,0.53,2.57,1.06,2.39,12.35,0.53,0.48,0.24,2563,280.56,208.69,"…",411.04,393.7,1.29,"…",1.03,31,173,164,130,91.5,2381.7600000000002,24.3,3304.66,691.4,7312.4,13342,1559,420.17,575.78,6.29]
["1988M12","1988-12-01",false,{"$error":"#N/A"},{"$f":"INDEX(G357:BY357,$E$7)","v":1.89},{"$f":"INDEX(G357:BY357,$F$7)","v":3.34},14.65,15.15,12.5,16.3,38,31,1.89,2.36,3.34,36.43,1.5,3.25,2.2200000000000002,1.52,1.32,1.93,1.31,567,800,534,563,411,"…",313,444,287,"…","…",70.22,116.88,108.25,260,242,223,"…",168.86,166.82,"…",0.5,0.44,2.57,1.05,2.39,12.7,0.54,0.48,0.25,2642.22,279.33,204.04,"…",406.07,392.3,1.35,"…",1.07,31,178.5,164,120,91.5,2502.65,24.3,3498.91,731,7337.4,16920,1594.3,419.05,564.11,6.12]
["1989M01","1989-01-01",false,{"$error":"#N/A"},{"$f":"INDEX(G358:BY358,$E$7)","v":1.78},{"$f":"INDEX(G358:BY358,$F$7)","v":3.28},16.48,17,14.45,18,38,31,1.78,2.09,3.28,33.770000000000003,1.43,3.36,2.23,1.62,1.26,1.92,1.66,537,826,481,592,383,"…",318,423,288,"…","…",73.209999999999994,118.2,110.07,264.8,248,231,"…",172.56,173.8,"…",0.43,0.42,2.44,1.07,2.2999999999999998,12.64,0.54,0.48,0.21,2724.49,270.39,199.36,"…",401.01,363.51,1.39,"…",1.1200000000000001,31,181,164,120,91.5,2397.5500000000002,27.83,3394.06,675.7,7409.6,17725,1734,404.01,526.92999999999995,6]
["1989M02","1989-02-01",false,{"$error":"#N/A"},{"$f":"INDEX(G359:BY359,$E$7)","v":1.71},{"$f":"INDEX(G359:BY359,$F$7)","v":3.28},16.350000000000001,16.649999999999999,14.6,17.8,38,31,1.71,2.09,3.28,32.92,1.48,3.09,2.12,1.65,1.35,1.96,1.65,538,826,464,630,401,"…",307,412,270,"…","…",75.569999999999993,117.42,110.12,269.25,256,235,"…",164.24,171.96,"…",0.49,0.37,2.4900000000000002,1.07,2.2999999999999998,12.68,0.53,0.49,0.23,2870.53,277.45999999999998,195.97,"…",404.55,352.2,1.39,"…",1.1200000000000001,31,178.5,164,120,101.5,2183.0500000000002,27.83,3096.92,621.6,7873.7,18523.8,1932.4,387.51,531.94000000000005,5.88]
["1989M03","1989-03-01",false,{"$error":"#N/A"},{"$f":"INDEX(G360:BY360,$E$7)","v":1.49},{"$f":"INDEX(G360:BY360,$F$7)","v":3.28},18.03,18.7,15.95,19.45,38,31,1.49,2.09,3.28,30.25,1.41,3.1,2.08,1.68,1.45,1.98,1.62,545,820,437,746,399,"…",313,437,277,"…","…",82.9,118.38,110.05,278.5,259,233,"…",168.58,178.21,"…",0.7,0.42,2.44,1.0900000000000001,2.2599999999999998,12.76,0.52,0.49,0.25,3033.02,276.69,187.5,"…",402.44,345.2,1.46,"…",1.0900000000000001,31,176.5,158,120,100.5,2073.71,27.83,3264.14,589.20000000000005,8760.5,17157.099999999999,1961.6,390.15,538.03,5.96]
["1989M04","1989-04-01",false,{"$error":"#N/A"},{"$f":"INDEX(G361:BY361,$E$7)","v":1.53},{"$f":"INDEX(G361:BY361,$F$7)","v":3.28},19.2,19.75,16.899999999999999,20.95,38,31,1.53,2.09,3.28,30.74,1.29,3.17,2.0099999999999998,1.78,1.47,2.25,1.6,549,823,400,753,391,"…",297,440,264,"…","…",84.23,115.74,108.19,293,274,239,"…",161.35,174.53,"…",0.72,0.45,2.4500000000000002,1.1100000000000001,2.39,12.71,0.52,0.49,0.27,3161.72,276.69,184.82,"…",393.65,342.6,1.63,"…",1.1000000000000001,31,167.5,156.5,113.5,98.5,2125.75,27.83,3117.91,608.1,10195.9,15261.3,1656.4,384.4,537.66999999999996,5.79]
["1989M05","1989-05-01",false,{"$error":"#N/A"},{"$f":"INDEX(G362:BY362,$E$7)","v":1.66},{"$f":"INDEX(G362:BY362,$F$7)","v":3.28},18.02,18.350000000000001,15.65,20.05,38,31,1.66,2.09,3.28,32.32,1.21,3.1,2.0099999999999998,1.86,1.53,2.52,1.54,589,842,399,792,406,"…",297,460,256,"…","…",83.21,117.64,111.55,310.25,288,246,"…",162.63999999999999,176.37,"…",0.66,0.45,2.4300000000000002,1.1499999999999999,2.34,11.68,0.49,0.49,0.26,3181.6,264.49,180.18,"…",414.83,346.22,1.71,"…",1.02,31,152.5,149,113.5,98.5,2259.31,27.83,2738.98,643.4,10143.700000000001,13454.2,1628.4,371.05,516.75,5.45]
["1989M06","1989-06-01",false,{"$error":"#N/A"},{"$f":"INDEX(G363:BY363,$E$7)","v":1.7},{"$f":"INDEX(G363:BY363,$F$7)","v":3.28},17.63,17.5,15.4,20,38,31,1.7,2.09,3.28,32.799999999999997,1.25,2.76,1.85,1.72,1.41,2.27,1.48,559,870,371,802,373,"…",291,464,256,"…","…",67.92,112.99,104.63,327.2,"…",244,"…",151.9,168.65,"…",0.53,0.45,2.44,1.1599999999999999,2.23,11.13,0.47,0.51,0.28000000000000003,3237.67,260.38,198.12,"…",526.4,342.51,1.74,"…",0.95,31,142.5,140.5,113.5,98.5,1914.16,27.83,2546.0100000000002,666.1,9935.5,12142.6,1539,367.6,497.35,5.27]
["1989M07","1989-07-01",false,{"$error":"#N/A"},{"$f":"INDEX(G364:BY364,$E$7)","v":1.64},{"$f":"INDEX(G364:BY364,$F$7)","v":3.28},17.670000000000002,17.75,15.5,19.75,38,31,1.64,2.09,3.28,32.07,1.35,1.94,1.44,1.77,1.34,2.4900000000000002,1.49,540,810,380,806,331,"…",272,447,256,"…","…",74.87,108.7,102.96,350.5,297,246,"…",152.38999999999999,166.82,"…",0.45,0.43,2.4900000000000002,1.1399999999999999,2.35,10.89,0.5,0.52,0.31,3257.04,272.43,204.59,"…",532.01,371.66,1.83,"…",0.95,31,137.5,140.5,113.5,98.5,1755.93,27.83,2505,691.6,9605.2000000000007,12275,1616.9,375.04,501.91,5.22]
["1989M08","1989-08-01",false,{"$error":"#N/A"},{"$f":"INDEX(G365:BY365,$E$7)","v":1.58},{"$f":"INDEX(G365:BY365,$F$7)","v":3.28},16.88,17.100000000000001,15,18.55,38,31,1.58,2.09,3.28,31.34,1.29,1.73,1.31,1.78,1.4,2.46,1.47,481,763,359,820,309,"…",236,404,214,"…","…",73.209999999999994,100.92,100.09,332.2,298,221,"…",153.37,164.24,"…",0.51,0.49,2.5499999999999998,1.1299999999999999,2.31,10.41,0.49,0.52,0.31,3229.12,269.14999999999998,197.75,"…",537.16999999999996,370.28,1.83,"…",0.9,31,144,136.5,82.5,98.5,1798.32,27.83,2762.2,702.3,8715.6,12909.7,1730.4,365.14,484.64,5.18]
["1989M09","1989-09-01",false,{"$error":"#N/A"},{"$f":"INDEX(G366:BY366,$E$7)","v":1.53},{"$f":"INDEX(G366:BY366,$F$7)","v":3.28},17.670000000000002,17.8,15.6,19.600000000000001,38,31,1.53,2.09,3.28,30.74,1.1399999999999999,1.73,1.32,2.15,1.79,3.24,1.43,503,754,360,798,323,"…",237,410,216,"…","…",71.55,103.37,102.85,319.75,268,205,"…",157.26,163.51,"…",0.52,0.5,2.65,1.1200000000000001,2.2999999999999998,9.81,0.48,0.52,0.31,3304.64,265.44,188.68,"…",538.89,353.32,1.8,"…",0.87,31,156,136.5,82.5,98.5,1717.93,27.83,2884.4,728.1,8269.7000000000007,11222.1,1628.9,361.75,477.67,5.13]
["1989M10","1989-10-01",false,{"$error":"#N/A"},{"$f":"INDEX(G367:BY367,$E$7)","v":1.6},{"$f":"INDEX(G367:BY367,$F$7)","v":3.28},18.420000000000002,19,16.149999999999999,20.100000000000001,38,31,1.6,2.09,3.28,31.59,1.06,1.51,1.18,2.0699999999999998,1.83,2.97,1.42,480,790,393,813,321,"…",238,419,222,"…","…",71.87,107.28,102.68,304,244,183,"…",160.47999999999999,164.61,"…",0.55000000000000004,0.47,2.74,1.08,2.35,9.7799999999999994,0.49,0.51,0.32,3339.52,276.33,187.17,"…",555.11,352.99,1.81,"…",0.85,31,148,130.5,72.5,98.5,1820.02,27.83,2861.4,751.8,7922.4,10424.9,1584.6,366.88,485.82,5.14]
["1989M11","1989-11-01",false,{"$error":"#N/A"},{"$f":"INDEX(G368:BY368,$E$7)","v":1.9},{"$f":"INDEX(G368:BY368,$F$7)","v":3.28},18.37,19.149999999999999,16.149999999999999,19.8,38,31,1.9,2.09,3.28,35.229999999999997,1.01,1.56,1.17,1.91,1.73,2.59,1.42,456,826,419,868,301,"…",246,433,226,"…","…",69.900000000000006,108.48,103.84,268.5,216,166,"…",163.92,163.51,"…",0.51,0.44,2.84,1.05,2.34,9.85,0.49,0.51,0.33,3333.87,281.35000000000002,184.26,"…",545.77,336.19,1.81,"…",0.84,31,142,126,86,98.5,1736.09,27.83,2591.3000000000002,692.8,6837.3,9793.2000000000007,1437.6,394.26,510.19,5.48]
["1989M12","1989-12-01",false,{"$error":"#N/A"},{"$f":"INDEX(G369:BY369,$E$7)","v":2.2400000000000002},{"$f":"INDEX(G369:BY369,$F$7)","v":3.28},19.350000000000001,19.850000000000001,17.100000000000001,21.1,38,31,2.2400000000000002,2.09,3.28,39.36,0.97,1.6,1.1299999999999999,1.9,1.78,2.4900000000000002,1.43,425,860,438,877,267,"…",248,429,226,"…","…",73.209999999999994,109.17,104.22,272,227,174,"…",166.45,164.61,"…",0.5,0.44,2.88,1.05,2.39,9.52,0.49,0.5,0.3,3337.65,294.33999999999997,178.66,"…",571.53,327.16000000000003,1.71,"…",0.84,31,137.5,126,98,98.5,1633.26,27.83,2418.6,711,6744.1,8809.2000000000007,1455,409.39,506.81,5.57]
["1990M01","1990-01-01",false,{"$error":"#N/A"},{"$f":"INDEX(G370:BY370,$E$7)","v":2.39},{"$f":"INDEX(G370:BY370,$F$7)","v":3.64},20.350000000000001,20.95,17.45,22.65,38,31,2.39,2.82,3.64,44.89,0.99,1.68,1.0900000000000001,2.09,1.89,2.64,1.74,433,923,430,903,279,"…",242,417,221,"…","…",75.569999999999993,105.6,101.91,276.2,248,170,"…",163,167.92,"…",0.59,0.46,2.78,1.05,2.46,9.76,0.51,0.51,0.31,3342.65,303.83,176.16,533,571.44000000000005,317.04000000000002,1.66,"…",0.83,31,138.5,109.5,104.5,98.5,1528.25,32.5,2366.64,707.8,6592,7055.9,1297,410.11,497.66,5.25]
["1990M02","1990-02-01",true,"1990-02-01",{"$f":"INDEX(G371:BY371,$E$7)","v":1.9},{"$f":"INDEX(G371:BY371,$F$7)","v":3.64},19.600000000000001,19.899999999999999,16.8,22.1,38,31,1.9,2.82,3.64,38.94,1.03,1.85,1.1000000000000001,2.13,2.0099999999999998,2.77,1.62,393,900,426,933,271,"…",240,428,209,"…","…",73.86,106.07,100.81,300,256,176,"…",155.52000000000001,160.94,"…",0.64,0.41,2.46,1.07,2.56,9.98,0.52,0.5,0.32,3384.92,324.97000000000003,174.83,533,584.66999999999996,314.37,1.68,"…",0.85,31,139.75,112,106.25,98.5,1454.28,32.5,2360.16,779.8,6156.1,6976.9,1396.8,416.81,516.1,5.29]
["1990M03","1990-03-01",true,"1990-03-01",{"$f":"INDEX(G372:BY372,$E$7)","v":1.55},{"$f":"INDEX(G372:BY372,$F$7)","v":3.64},18.22,18.45,15.8,20.399999999999999,38,31,1.55,2.82,3.64,34.69,1.1299999999999999,2.09,1.23,2.42,3.02,2.61,1.65,372,880,385,971,286,"…",242,442,197,"…","…",70.040000000000006,109.7,103.44,289.25,259,169,"…",153.26,156.53,"…",0.54,0.44,2.48,1.1100000000000001,2.5099999999999998,10.67,0.5,0.52,0.34,3361.05,321.47000000000003,160.26,533,581.70000000000005,314.38,1.74,"…",0.83,31,146,112,111,97.38,1567.39,32.5,2625.61,1062.3,6270.5,9266.7999999999993,1607.4,393.06,497.06,5.08]
["1990M04","1990-04-01",true,"1990-04-01",{"$f":"INDEX(G373:BY373,$E$7)","v":1.49},{"$f":"INDEX(G373:BY373,$F$7)","v":3.64},16.55,16.75,14.3,18.600000000000001,38,31,1.49,2.82,3.64,33.97,1.33,2.09,1.23,2.11,1.89,2.87,1.59,343,875,381,938,267,"…",247,440,198,"…","…",68.77,118.82,109.9,275.75,274,164,"…",150.69,159.47,"…",0.57999999999999996,0.5,2.4700000000000002,1.08,2.63,10.8,0.51,0.52,0.34,3354.45,326.31,161.19999999999999,533,565.29999999999995,312.36,1.83,"…",0.84,31,155.19999999999999,127.5,111,93.2,1525.55,32.5,2686.15,836.1,6390.9,8939.5,1685.6,374.24,478.15,5.07]
["1990M05","1990-05-01",true,"1990-05-01",{"$f":"INDEX(G374:BY374,$E$7)","v":1.47},{"$f":"INDEX(G374:BY374,$F$7)","v":3.64},16.579999999999998,16.7,14.6,18.45,40.5,32.5,1.47,2.82,3.64,33.72,1.44,2.0499999999999998,1.18,2.15,1.79,3.3,1.36,353,883,374,919,281,"…",259,449,198,"…","…",71.03,121.04,111.03,260,288,151,"…",133.49,149.18,"…",0.49,0.57999999999999996,2.48,1.08,2.71,11.02,0.52,0.52,0.32,3406.65,337.58,172.86,533,507.42,350.12,1.89,"…",0.85,31,149.13,127.5,107,93.5,1526.93,32.5,2741.95,825.6,6324.6,8698,1774.6,369.05,488.55,5.08]
["1990M06","1990-06-01",true,"1990-06-01",{"$f":"INDEX(G375:BY375,$E$7)","v":1.47},{"$f":"INDEX(G375:BY375,$F$7)","v":3.64},15.27,15.7,13.25,16.850000000000001,40.5,34,1.47,2.82,3.64,33.72,1.32,1.97,1.1200000000000001,1.94,1.6,3.09,1.1200000000000001,317,905,354,931,272,"…",249,435,184,"…","…",80.23,120.86,110.95,255,"…",140,"…",130.49,135.58000000000001,"…",0.53,0.6,2.5,1.1100000000000001,2.72,11.35,0.53,0.51,0.28999999999999998,3420.22,335.4,181.67,533,510.88,373.94,1.99,"…",0.85,31.5,152.75,130,107,93.5,1565.79,32.5,2584.56,838,6096,8422.1,1714.8,352.33,481.11,4.92]
["1990M07","1990-07-01",true,"1990-07-01",{"$f":"INDEX(G376:BY376,$E$7)","v":1.41},{"$f":"INDEX(G376:BY376,$F$7)","v":3.64},17.170000000000002,17.55,15.3,18.649999999999999,40.5,34,1.41,2.82,3.64,32.99,1.35,1.91,1.1000000000000001,1.99,1.59,3.07,1.32,297,860,383,925,279,"…",252,437,186,"…","…",77.989999999999995,114.91,109.24,256.39999999999998,297,142,"…",119.55,124.93,"…",0.63,0.56999999999999995,2.56,1.1000000000000001,2.77,10.95,0.62,0.52,0.26,3446.4,345.42,187.96,533,501.37,378.48,2.0099999999999998,"…",0.86,31.5,160.69999999999999,131,107,93.5,1570.96,32.5,2769.49,875.4,5924.4,9318.2000000000007,1637,362.53,478.79,4.87]
["1990M08","1990-08-01",true,"1990-08-01",{"$f":"INDEX(G377:BY377,$E$7)","v":1.36},{"$f":"INDEX(G377:BY377,$F$7)","v":3.64},26.4,27.05,25,27.15,40.5,34,1.36,2.82,3.64,32.39,1.29,2.08,1.19,1.96,1.74,2.88,1.26,294,1400,407,963,291,"…",250,460,189,"…","…",83.78,110.05,104.76,259.5,298,149,"…",115.12,116.84,"…",0.55000000000000004,0.59,2.65,1.1000000000000001,2.66,10.01,0.65,0.51,0.24,3483.54,360.32,186.13,533,503.08,364.6,1.79,"…",0.88,31.5,160.5,135.6,114.88,93.5,1782.02,32.5,2957.03,876.1,5905.2,10957.4,1615.1,394.73,492.73,5.01]
["1990M09","1990-09-01",true,"1990-09-01",{"$f":"INDEX(G378:BY378,$E$7)","v":1.44},{"$f":"INDEX(G378:BY378,$F$7)","v":3.64},32.700000000000003,34.1,30.3,33.700000000000003,40.5,34,1.44,2.82,3.64,33.36,1.37,2.1,1.23,2.0299999999999998,1.79,2.8,1.48,284,2050,417,991,284,"…",250,461,197,"…","…",88.39,101.52,98.27,260.75,268,150,"…",108.46,114.27,"…",0.52,0.63,2.7,1.0900000000000001,2.7,10.28,0.64,0.51,0.24,3430.39,361.39,185.33,533,503.32,384.92,1.79,"…",0.9,31.5,165.88,144.25,90.63,93.5,2066.5300000000002,32.5,3031.37,838.5,5707,10844,1537.5,389.32,461.66,4.8]
["1990M10","1990-10-01",true,"1990-10-01",{"$f":"INDEX(G379:BY379,$E$7)","v":1.69},{"$f":"INDEX(G379:BY379,$F$7)","v":3.64},34.5,36.049999999999997,31.55,35.9,40.5,34,1.69,2.82,3.64,36.39,1.31,2.02,1.24,2.08,1.82,2.81,1.6,284,2120,435,1012,290,"…",247,468,211,"…","…",88.16,100.34,97.83,281.39999999999998,244,163,"…",104.77,114.64,"…",0.49,0.64,2.59,1.07,2.77,11.19,0.67,0.51,0.22,3287.27,369.74,189.76,533,520.85,409.31,1.79,"…",0.9,31.5,165.7,149.5,136.5,93.5,1945.7,32.5,2743.56,760.9,6061.4,9145.4,1352.6,380.74,424.95,4.3899999999999997]
["1990M11","1990-11-01",true,"1990-11-01",{"$f":"INDEX(G380:BY380,$E$7)","v":2.1},{"$f":"INDEX(G380:BY380,$F$7)","v":3.64},31.08,33,27.95,32.299999999999997,40.5,34,2.1,2.82,3.64,41.37,1.35,1.87,1.22,1.84,1.7,2.25,1.58,343,2110,473,1040,331,"…",239,455,204,"…","…",91.47,100.39,98.16,272.25,216,153,"…",106.37,112.8,"…",0.43,0.52,2.5299999999999998,1.07,2.74,11.75,0.67,0.51,0.22,3400.25,369.96,179.02,533,529.41999999999996,375.74,1.82,"…",0.9,31.5,163.38,152.5,144.5,93.5,1617.5,32.5,2585.89,701.2,5981.3,8587.4,1277.7,381.73,422.24,4.17]
["1990M12","1990-12-01",true,"1990-12-01",{"$f":"INDEX(G381:BY381,$E$7)","v":2.11},{"$f":"INDEX(G381:BY381,$F$7)","v":3.64},26.13,28,23.25,27.15,40.5,34,2.11,2.82,3.64,41.49,1.3,1.97,1.24,1.94,1.68,2.61,1.52,325,2000,481,1038,346,"…",244,476,208,"…","…",89.81,102.01,100.97,263.75,227,147,"…",108.35,113.17,"…",0.5,0.43,2.5499999999999998,1.05,2.65,11.75,0.66,0.5,0.21,3388.44,365.15,171.13,533,517.53,363.16,1.85,"…",0.88,31.5,158.63,150.5,147.5,93.5,1522.44,32.5,2485.38,624.79999999999995,5615.2,8157.6,1265.4000000000001,376.95,420.07,4.08]
["1991M01","1991-01-01",true,"1991-01-01",{"$f":"INDEX(G382:BY382,$E$7)","v":1.67},{"$f":"INDEX(G382:BY382,$F$7)","v":3.99},22.58,23.65,19.399999999999999,24.7,40.5,34,1.67,3.44,3.99,39.340000000000003,1.24,1.89,1.1599999999999999,1.92,1.68,2.52,1.55,340,1850,480,1013,349,"…",239,455,198,"…","…",93.88,105.67,105.07,303.39999999999998,239,165,"…",107.07,111.33,"…",0.6,0.51,2.59,1.05,2.63,12.02,0.66,0.48,0.19,3429.54,360.57,169.19,"…",515.09,362.26,1.85,"…",0.87,31.5,157.38,152.5,151,93.5,1515.18,34.76,2448.52,600.4,5623.2,8568.7999999999993,1206.2,383.64,407.84,4.05]
["1991M02","1991-02-01",true,"1991-02-01",{"$f":"INDEX(G383:BY383,$E$7)","v":1.36},{"$f":"INDEX(G383:BY383,$F$7)","v":3.99},18.13,19.399999999999999,14.45,20.55,40.5,34,1.36,3.41,3.99,35.43,1.21,1.97,1.1399999999999999,1.77,1.64,2.1800000000000002,1.48,330,1788,476,1027,338,"…",241,445,192,"…","…",92.04,106.1,106.37,327.25,265,187,"…",106.37,113.91,"…",0.69,0.5,2.73,1.08,2.66,12.65,0.67,0.47,0.19,3375.34,367.11,176.93,"…",513.29999999999995,371.7,1.87,"…",0.85,31.5,160.63,152.5,151,95.63,1504.6,34.76,2449.38,593.79999999999995,5583.7,8672.2999999999993,1188.0999999999999,363.83,386.79,3.74]
["1991M03","1991-03-01",true,"1991-03-01",{"$f":"INDEX(G384:BY384,$E$7)","v":1.34},{"$f":"INDEX(G384:BY384,$F$7)","v":3.99},18.07,19.45,14.85,19.899999999999999,39.5,31,1.34,3.33,3.99,34.81,1.21,2.06,1.1299999999999999,1.76,1.74,2.06,1.48,343,1700,455,1022,348,"…",244,453,187,"…","…",88.09,109.54,109.9,311.5,248,175,"…",116.16,119.42,"…",0.84,0.52,2.59,1.07,2.4500000000000002,13.14,0.63,0.47,0.2,3400.39,338.84,162.57,"…",523.01,364.43,1.86,"…",0.83,31.5,163.63,147.5,145,95.63,1496,34.76,2409.63,603,5517.4,8700.7999999999993,1198.5999999999999,363.34,399.99,3.94]
["1991M04","1991-04-01",true,"1991-04-01",{"$f":"INDEX(G385:BY385,$E$7)","v":1.33},{"$f":"INDEX(G385:BY385,$F$7)","v":3.99},18.47,19.25,15.35,20.8,39.5,31,1.33,3.47,3.99,35.35,1.1499999999999999,2.0299999999999998,1.1200000000000001,1.76,1.63,2.17,1.47,323,1500,459,986,319,"…",245,460,188,"…","…",85.15,110.33,109.02,285.8,234,176,"…",117.05,120.89,"…",0.78,0.5,2.61,1.06,2.2999999999999998,13.34,0.6,0.47,0.19,3396.7,303.85000000000002,175.59,"…",551.34,368.34,1.83,"…",0.82,31.5,166,143.25,143.5,108,1391.86,34.76,2472.04,600.9,5560,9021,1252.9000000000001,358.38,396.88,3.98]
["1991M05","1991-05-01",true,"1991-05-01",{"$f":"INDEX(G386:BY386,$E$7)","v":1.31},{"$f":"INDEX(G386:BY386,$F$7)","v":3.99},18.82,19.3,15.9,21.25,39.5,31,1.31,3.37,3.99,34.630000000000003,1.06,1.94,1.04,1.9,1.59,2.65,1.48,335,1256,471,937,318,"…",241,444,200,"…","…",85.3,105.7,101.99,288.25,234,173,"…",115.63,121.99,"…",0.63,0.49,2.63,1.06,2.31,13.2,0.59,0.47,0.17,3439.41,300.79000000000002,174.04,"…",540.19000000000005,365.84,1.82,"…",0.82,31.5,165.25,130.6,138.5,112,1296.05,34.76,2305.88,555.20000000000005,5701.7,8452.4,1090.9000000000001,356.95,389.64,4.05]
["1991M06","1991-06-01",true,"1991-06-01",{"$f":"INDEX(G387:BY387,$E$7)","v":1.2},{"$f":"INDEX(G387:BY387,$F$7)","v":3.99},17.93,18.2,15.4,20.2,39.5,31,1.2,3.29,3.99,32.92,1.04,1.89,1,1.79,1.52,2.48,1.38,369,1103,482,919,311,"…",241,440,201,"…","…",71.28,104.21,98,293.25,230,163,"…",118.18,120.15,"…",0.63,0.4,2.7,1.05,2.2000000000000002,13.12,0.56000000000000005,0.47,0.2,3466.27,288.87,200.15,"…",558.26,361.26,1.78,"…",0.84,31.5,159.25,129.5,135.5,112,1275.1500000000001,34.76,2219.2800000000002,549.4,5710.6,8280,1061.5999999999999,366.72,376.05,4.3899999999999997]
["1991M07","1991-07-01",true,"1991-07-01",{"$f":"INDEX(G388:BY388,$E$7)","v":1.19},{"$f":"INDEX(G388:BY388,$F$7)","v":3.99},19.05,19.45,16.25,21.45,39.5,31,1.19,3,3.99,31.42,1.03,1.84,1,1.6,1.23,2.21,1.36,465,1180,471,930,341,"…",229,431,187,"…","…",72.27,105.11,99.43,303.39999999999998,240,174,"…",116.23,118.31,"…",0.4,0.52,2.69,1.07,2.15,10.62,0.57999999999999996,0.47,0.23,3489.62,288.20999999999998,207.82,"…",557,365.92,1.7,"…",0.82,31.5,163.5,131,132.5,110.4,1296.78,34.76,2236.2800000000002,548.1,5669.6,8541.2999999999993,1063.0999999999999,367.69,376.03,4.3499999999999996]
["1991M08","1991-08-01",true,"1991-08-01",{"$f":"INDEX(G389:BY389,$E$7)","v":1.31},{"$f":"INDEX(G389:BY389,$F$7)","v":3.99},19.37,19.75,16.649999999999999,21.7,39.5,31,1.31,2.98,3.99,32.78,1.1399999999999999,1.8,0.99,1.53,1.23,2.0099999999999998,1.35,459,928,452,929,338,"…",241,457,195,"…","…",67.06,110.43,105.47,298.25,245,184,"…",127.06,125.3,"…",0.48,0.56999999999999995,2.64,1.05,2.1800000000000002,9.94,0.59,0.48,0.21,3531.14,295.08999999999997,210.57,"…",568.58000000000004,363.6,1.62,"…",0.82,31.5,161.88,127,132.5,110,1256.45,34.76,2233.19,540.20000000000005,5638.8,8144.7,1046.3,356.31,346.35,3.96]
["1991M09","1991-09-01",true,"1991-09-01",{"$f":"INDEX(G390:BY390,$E$7)","v":1.63},{"$f":"INDEX(G390:BY390,$F$7)","v":3.99},20.05,20.5,17.8,21.85,39.5,31,1.63,2.97,3.99,36.619999999999997,1.27,1.92,1.03,1.55,1.24,2.0299999999999998,1.38,455,930,478,844,323,"…",246,468,209,"…","…",67.430000000000007,108.85,106.21,291.5,241,193,"…",137.56,135.22,"…",0.37,0.56000000000000005,2.74,1.05,2.23,10.31,0.6,0.49,0.2,3541.1,302.77,210.68,"…",589.13,375.24,1.55,"…",0.81,31.5,159.5,122.5,132.5,110,1211.81,34.76,2324.5700000000002,539.79999999999995,5570.3,7680.7,1023.2,348.74,349.34,4.04]
["1991M10","1991-10-01",true,"1991-10-01",{"$f":"INDEX(G391:BY391,$E$7)","v":1.77},{"$f":"INDEX(G391:BY391,$F$7)","v":3.99},21.47,22.2,18.95,23.25,39.5,31,1.77,2.71,3.99,37.08,1.3,1.76,1.01,1.53,1.25,1.92,1.41,546,965,498,799,345,"…",237,485,207,"…","…",68.209999999999994,109.7,107.01,276.60000000000002,236,191,"…",147.19999999999999,146.97,"…",0.45,0.49,2.72,1.06,2.2200000000000002,10.17,0.6,0.48,0.2,3681.13,303.66000000000003,214.44,"…",573.05999999999995,386.32,1.5,"…",0.83,31.5,155,121.1,132.5,110,1150.03,34.76,2363.64,522.29999999999995,5549.6,7443,991.7,358.69,362.48,4.12]
["1991M11","1991-11-01",true,"1991-11-01",{"$f":"INDEX(G392:BY392,$E$7)","v":1.81},{"$f":"INDEX(G392:BY392,$F$7)","v":3.99},20.77,21.25,18.45,22.6,39.5,31,1.81,2.7,3.99,37.520000000000003,1.31,1.72,1.1100000000000001,1.5,1.21,1.91,1.38,595,854,512,718,362,"…",237,466,202,"…","…",73.3,106.49,105.45,271.75,232,185,"…",147.04,149.55000000000001,"…",0.44,0.6,2.71,1.04,2.2799999999999998,10.119999999999999,0.62,0.48,0.19,3585.13,316.06,195.5,"…",573.89,389.42,1.4,"…",0.81,31.5,143.5,120,134.38,110,1134.8,34.76,2379.84,506.2,5505.5,7244.6,1093.3,360.17,365.11,4.07]
["1991M12","1991-12-01",true,"1991-12-01",{"$f":"INDEX(G393:BY393,$E$7)","v":1.92},{"$f":"INDEX(G393:BY393,$F$7)","v":3.99},17.75,18.399999999999999,15.3,19.55,39.5,31,1.92,2.7,3.99,38.85,1.37,1.66,1.1200000000000001,1.48,1.2,1.8,1.42,636,800,500,614,376,"…",234,442,199,"…","…",75.430000000000007,106.91,107.42,268.39999999999998,230,184,"…",157.81,160.94,"…",0.4,0.59,2.61,1.04,2.37,9.92,0.64,0.47,0.2,3665.05,326.73,200.33,"…",567.39,394.19,1.36,"…",0.79,31.5,143.5,120,131.88,110,1097.55,34.76,2223.14,532.1,5510.1,7117.8,1188,361.73,353.3,3.94]
["1992M01","1992-01-01",true,"1992-01-01",{"$f":"INDEX(G394:BY394,$E$7)","v":1.28},{"$f":"INDEX(G394:BY394,$F$7)","v":3.6},17.38,18.149999999999999,15.2,18.8,39.5,31,1.28,2.57,3.6,30.2,1.28,1.62,1.08,1.41,1.27,1.52,1.45,738,812,500,619,383,"…",236,429,210,"…","…",73.42,109.31,111.64,277.25,238,188,"…",167.26,170.12,"…",0.56999999999999995,0.5,2.57,1.05,2.44,10.029999999999999,0.63,0.47,0.18,3632.64,325.27,202.85,"…",577.78,403.71,1.31,"…",0.8,31.5,145.25,120,122.5,110,1177.07,33.1,2139.23,514.9,5476.9,7517.3,1153.7,354.45,341.19,4.1100000000000003]
["1992M02","1992-02-01",{"$f":"B395>$C$8","v":true},{"$f":"IF(C395,B395,NA())","v":"1992-02-01"},{"$f":"INDEX(G395:BY395,$E$7)","v":1.21},{"$f":"INDEX(G395:BY395,$F$7)","v":3.51},17.62,18.100000000000001,15.75,19,39.5,31,1.21,2.5,3.51,28.96,1.19,1.51,0.94,1.34,1.23,1.42,1.39,702,779,494,605,382,"…",237,414,204,"…","…",71.28,113.62,116.73,278.25,238,189,"…",170.12,177.1,"…",0.61,0.44,2.52,1.03,2.52,10.17,0.62,0.48,0.17,3634.89,317.54000000000002,214.04,"…",599.19000000000005,396,1.24,"…",0.81,31.5,147.88,120,120.63,110,1266.83,33.1,2205.9699999999998,505,5615.7,7861.9,1130.7,353.91,362.12,4.1500000000000004]
["1992M03","1992-03-01",true,"1992-03-01",{"$f":"INDEX(G396:BY396,$E$7)","v":1.28},{"$f":"INDEX(G396:BY396,$F$7)","v":3.59},17.45,17.600000000000001,15.8,18.95,39.5,31,1.28,2.58,3.59,30.24,1.1299999999999999,1.55,0.94,1.38,1.34,1.4,1.39,644,766,488,595,396,"…",240,434,200,"…","…",72.64,117,120.15,277.2,236,186,"…",161.44,169.39,"…",0.61,0.43,2.4500000000000002,1.04,2.48,10.47,0.6,0.47,0.18,3611.67,310.3,201.96,"…",602.24,380.56,1.22,"…",0.83,31.5,144.80000000000001,120,120,110,1280.47,33.1,2227.33,521.20000000000005,5632,7417.7,1214.5999999999999,344.34,356.94,4.1100000000000003]
["1992M04","1992-04-01",true,"1992-04-01",{"$f":"INDEX(G397:BY397,$E$7)","v":1.47},{"$f":"INDEX(G397:BY397,$F$7)","v":3.53},18.63,18.95,16.7,20.25,39.5,31,1.47,2.4700000000000002,3.53,31.98,1.04,1.45,0.91,1.52,1.54,1.48,1.53,647,788,489,616,402,"…",235,425,192,"…","…",75.23,108.52,109.35,278,238,186,"…",153.07,159.83000000000001,"…",0.42,0.51,2.38,1.04,2.5499999999999998,10.64,0.61,0.47,0.21,3631.04,313.95999999999998,199.67,"…",616.38,361.72,1.28,"…",0.86,31.5,142.75,120.2,120,110,1317.05,33.1,2215.33,532.79999999999995,5838.9,7420.6,1304.3,338.62,347.3,4.05]
["1992M05","1992-05-01",true,"1992-05-01",{"$f":"INDEX(G398:BY398,$E$7)","v":1.59},{"$f":"INDEX(G398:BY398,$F$7)","v":3.47},19.5,19.899999999999999,17.600000000000001,21,39.5,31,1.59,2.4900000000000002,3.47,33.5,0.99,1.34,0.83,1.73,1.57,1.98,1.63,638,788,495,651,390,"…",247,439,196,"…","…",84.78,109.64,108.03,274,228,178,"…",139.72,149.55000000000001,"…",0.43,0.49,2.38,1.04,2.78,10.71,0.63,0.46,0.21,3597.63,321.14,200.75,"…",628.67999999999995,338.52,1.34,"…",0.87,31.5,140.5,120.5,120,110,1306.79,33.1,2216.52,520.29999999999995,6121.1,7326.8,1372.9,337.24,358.59,4.07]
["1992M06","1992-06-01",true,"1992-06-01",{"$f":"INDEX(G399:BY399,$E$7)","v":1.56},{"$f":"INDEX(G399:BY399,$F$7)","v":3.49},20.83,21.15,19,22.35,39.5,29,1.56,2.5,3.49,33.19,0.97,1.3,0.82,1.69,1.4,1.97,1.68,589,828,491,665,404,"…",253,456,204,"…","…",84.89,110.9,104.66,268.8,225,171,"…",140.36000000000001,148.81,"…",0.4,0.47,2.33,1.05,2.73,10.78,0.65,0.46,0.23,3565.88,330.28,205.11,"…",610.79999999999995,346.98,1.41,"…",0.88,31.5,143.5,120.5,120,110,1275.55,33.1,2299.1999999999998,548.1,6618.8,7192.8,1385.2,340.81,369.13,4.0599999999999996]
["1992M07","1992-07-01",true,"1992-07-01",{"$f":"INDEX(G400:BY400,$E$7)","v":1.75},{"$f":"INDEX(G400:BY400,$F$7)","v":3.61},20.170000000000002,20.25,18.5,21.75,39.5,27,1.75,2.5499999999999998,3.61,35.82,1.1000000000000001,1.28,0.86,1.7,1.31,2.0299999999999998,1.76,528,830,485,644,382,"…",237,429,205,"…","…",77.37,102.75,95.86,278.5,236,173,"…",129.93,136.32,"…",0.43,0.55000000000000004,2.35,1.06,2.83,11,0.67,0.46,0.23,3512.73,347.83,201.08,"…",609.62,350.18,1.44,"…",0.88,31.5,146,120.5,120,110,1313.05,33.1,2520.3200000000002,626.1,6989.4,7497.9,1320.2,352.72,383.12,3.97]
["1992M08","1992-08-01",true,"1992-08-01",{"$f":"INDEX(G401:BY401,$E$7)","v":1.97},{"$f":"INDEX(G401:BY401,$F$7)","v":3.65},19.62,19.75,17.8,21.3,39.5,27,1.97,2.56,3.65,38.57,1.18,1.17,0.86,1.73,1.59,1.8,1.8,494,796.25,493,600,382,"…",229,409,205,"…","…",77.040000000000006,96.96,93.7,270.8,231,182,"…",118.8,128.24,"…",0.62,0.56999999999999995,2.4500000000000002,1.08,2.91,11.74,0.68,0.47,0.22,3426.62,355.34,197.25,"…",607.44000000000005,348.35,1.32,"…",0.88,31.5,131.4,120.75,120,113.6,1305.05,33.1,2521.64,654.5,6780.4,7268,1360.4,343.06,359.55,3.81]
["1992M09","1992-09-01",true,"1992-09-01",{"$f":"INDEX(G402:BY402,$E$7)","v":2.33},{"$f":"INDEX(G402:BY402,$F$7)","v":3.63},20.149999999999999,20.25,18.3,21.9,39.5,27,2.33,2.57,3.63,42.97,1.1299999999999999,1.17,0.9,1.7,1.54,1.65,1.92,501,758.75,481,562,391,"…",227,421,209,"…","…",83.57,98.05,93.75,257,222,176,"…",131.47,138.88999999999999,"…",0.51,0.56000000000000005,2.44,1.08,2.8,12.21,0.65,0.48,0.21,3368.12,355.41,205.53,"…",606.16999999999996,358.54,1.25,"…",0.87,31.5,131.25,121.5,120,114.5,1269.6099999999999,33.1,2414.06,621.1,6643.2,6917.5,1366.9,345.43,362.14,3.77]
["1992M10","1992-10-01",true,"1992-10-01",{"$f":"INDEX(G403:BY403,$E$7)","v":2.42},{"$f":"INDEX(G403:BY403,$F$7)","v":3.7},20.079999999999998,20.3,18.25,21.7,37.25,27,2.42,2.63,3.7,44.4,1.07,1.36,0.97,1.72,1.6,1.66,1.89,493,799,469,565,396,"…",221,418,207,"…","…",82.21,95.11,91.01,250,214,172,"…",137.41999999999999,140.72999999999999,"…",0.39,0.5,2.5,1.06,2.52,11.73,0.6,0.48,0.19,3244.52,347.86,220.2,"…",600.25,421.35,1.17,"…",0.89,31.5,130.13,121.5,116.88,114.5,1173.78,33.1,2249.15,537.4,6016.7,6305.3,1163.5999999999999,344.38,358.07,3.75]
["1992M11","1992-11-01",true,"1992-11-01",{"$f":"INDEX(G404:BY404,$E$7)","v":2.2400000000000002},{"$f":"INDEX(G404:BY404,$F$7)","v":3.65},18.88,19.2,17.100000000000001,20.350000000000001,35,27,2.2400000000000002,2.64,3.65,42.23,1.08,1.48,1.05,1.66,1.54,1.63,1.82,496,816.25,455,575,413,"…",229,437,206,"…","…",82.12,94.48,92.37,252.6,216,172,"…",145.84,147.71,"…",0.38,0.42,2.54,1.0900000000000001,2.5499999999999998,11.05,0.56999999999999995,0.47,0.19,3097.86,325.92,220.08,"…",623.69000000000005,419.79,1.1599999999999999,"…",0.88,31.5,126.4,121.5,107.5,114.5,1159.05,33.1,2158.3200000000002,460.4,5723,5564.88,1046.9000000000001,335.02,356.11,3.77]
["1992M12","1992-12-01",true,"1992-12-01",{"$f":"INDEX(G405:BY405,$E$7)","v":2.16},{"$f":"INDEX(G405:BY405,$F$7)","v":3.71},17.93,18.149999999999999,16.25,19.399999999999999,35,27,2.16,2.64,3.71,41.29,1.03,1.7,1.1200000000000001,1.66,1.4,1.73,1.86,461,828.33,438,622,401,"…",235,436,215,"…","…",79.55,94.61,95.75,256.25,218,162,"…",146.27000000000001,147.71,"…",0.31,0.42,2.54,1.0900000000000001,2.72,10.91,0.61,0.46,0.18,2950.87,324.49,245.58,"…",604.35,443.44,1.2,"…",0.88,31.5,124.63,121.88,103.75,114,1207.0999999999999,33.1,2206.8200000000002,454.6,5756.2,5724.07,1057.9000000000001,334.82,361.97,3.73]
["1993M01","1993-01-01",true,"1993-01-01",{"$f":"INDEX(G406:BY406,$E$7)","v":1.88},{"$f":"INDEX(G406:BY406,$F$7)","v":3.64},17.22,17.399999999999999,15.2,19.05,35,27,1.88,2.76,3.64,38.42,1.04,1.53,1.03,1.76,1.5,1.87,1.91,444,846.25,418,621,410,"…",239,444,216,"…","…",75.08,94.21,95.18,259.75,219,166,"…",156.91999999999999,155.79,"…",0.52,0.43,2.35,1.1100000000000001,2.69,11.24,0.63,0.46,0.18,2861.41,319.27,249.97,"…",605.36,511.96,1.26,"…",0.91,31.5,123.75,121.88,102.5,113,1206.76,29.09,2256.85,436.5,5900.9,5930.93,1061.0999999999999,329.01,359.14,3.68]
["1993M02","1993-02-01",true,"1993-02-01",{"$f":"INDEX(G407:BY407,$E$7)","v":1.69},{"$f":"INDEX(G407:BY407,$F$7)","v":3.61},18.170000000000002,18.45,16,20.05,31,27,1.69,2.74,3.61,35.99,1,1.49,1.04,1.85,1.59,2.17,1.78,439,852.5,391,611,425,"…",236,433,201,"…","…",74.83,94.38,94.47,254.25,216,172,"…",149.43,148.81,"…",0.59,0.41,2.39,1.1299999999999999,2.59,11.55,0.61,0.46,0.19,2847.42,314.52999999999997,286.7,"…",618.11,611.77,1.33,"…",0.89,31.5,120.25,121.5,102.5,112.5,1201.8499999999999,29.09,2212.6,414,5790.9,6038.68,1072.0999999999999,329.31,359.02,3.66]
["1993M03","1993-03-01",true,"1993-03-01",{"$f":"INDEX(G408:BY408,$E$7)","v":2.1800000000000002},{"$f":"INDEX(G408:BY408,$F$7)","v":3.59},18.47,18.75,16.3,20.350000000000001,31,27,2.1800000000000002,2.75,3.59,41.98,0.98,1.4,1.01,1.61,1.55,1.7,1.58,427,860,377,602,408,"…",238,438,193,"…","…",75.16,97.14,95.4,230.2,197,161,"…",145.46,148.08000000000001,"…",0.66,0.36,2.5299999999999998,1.1499999999999999,2.7,11.66,0.63,0.48,0.23,2805.46,312.77999999999997,345.34,"…",616.80999999999995,700.44,1.36,"…",0.85,31.5,115.1,111,86.2,112.5,1151.33,29.09,2152.59,405.9,5659.4,5971.3,996.1,330.08,350.46,3.65]
["1993M04","1993-04-01",true,"1993-04-01",{"$f":"INDEX(G409:BY409,$E$7)","v":2.35},{"$f":"INDEX(G409:BY409,$F$7)","v":3.62},18.43,18.649999999999999,16.350000000000001,20.3,31,27,2.35,2.68,3.62,43.73,1.01,1.28,0.99,1.57,1.49,1.77,1.46,402,870,361,623,392,"…",244,448,194,"…","…",77.45,100.55,95.06,206.25,182,153,"…",156.34,141.83000000000001,"…",0.56000000000000005,0.38,2.59,1.18,2.91,11.64,0.66,0.48,0.25,2774.73,324.24,463.41,"…",645.41999999999996,738.14,1.35,"…",0.82,31.5,112.75,109.6,81,112.5,1108.53,29.09,1949.88,420.7,5590.9,5972.33,1004.6,342.15,368.01,3.95]
["1993M05","1993-05-01",true,"1993-05-01",{"$f":"INDEX(G410:BY410,$E$7)","v":2.17},{"$f":"INDEX(G410:BY410,$F$7)","v":3.57},18.170000000000002,18.5,16,20,31,27,2.17,2.68,3.57,41.51,1,1.37,1.02,1.53,1.32,1.85,1.42,418,1051.25,348,685,371,"…",246,448,195,"…","…",77.459999999999994,98.59,93.15,184.75,165,145,"…",140.09,136.69,"…",0.46,0.39,2.68,1.24,3.03,11.6,0.66,0.47,0.26,2694.58,323.33,520.80999999999995,"…",776.64,751.81,1.33,"…",0.81,31.5,115.1,107.5,81,112.5,1123.96,29.09,1794.5,407.2,5503.5,5762.55,980.4,367.18,385.16,4.46]
["1993M06","1993-06-01",true,"1993-06-01",{"$f":"INDEX(G411:BY411,$E$7)","v":1.97},{"$f":"INDEX(G411:BY411,$F$7)","v":3.54},17.47,17.649999999999999,15.6,19.149999999999999,31,27,1.97,2.68,3.54,39.06,0.99,1.38,1.03,1.6,1.35,1.98,1.48,436,1026.25,348,712,356,"…",245,461,197,"…","…",75.3,92.76,88.52,189,169,147,"…",112.25,121.99,"…",0.39,0.38,2.74,1.23,3.02,11.24,0.64,0.47,0.23,2665.12,314.45,493.82,"…",803.58,745.3,1.3,"…",0.81,31.5,113.88,105.5,81,112.5,1165.3,29.09,1853.42,393.9,5112.7,5532.43,926,371.89,383.02,4.38]
["1993M07","1993-07-01",true,"1993-07-01",{"$f":"INDEX(G412:BY412,$E$7)","v":2.06},{"$f":"INDEX(G412:BY412,$F$7)","v":3.54},16.32,16.8,14.25,17.899999999999999,31,27,2.06,2.66,3.54,40.06,1.06,1.58,1.0900000000000001,1.62,1.33,1.95,1.59,460,1000,356,773,362,"…",287,505,227,"…","…",74.03,101.25,96.17,200.75,177,149,"…",116.77,127.5,"…",0.35,0.4,2.82,1.25,3.03,10.96,0.61,0.48,0.21,2648.22,299.97000000000003,467.02,"…",829.76,696.18,1.27,"…",0.81,31.5,112.88,105.1,81,112.5,1202.1300000000001,29.09,1927.16,388.2,4972.6000000000004,5036.2,927.6,392.19,403.65,5.0199999999999996]
["1993M08","1993-08-01",true,"1993-08-01",{"$f":"INDEX(G413:BY413,$E$7)","v":2.2599999999999998},{"$f":"INDEX(G413:BY413,$F$7)","v":3.49},16.48,16.7,14.75,18,31,27,2.2599999999999998,2.65,3.49,42.41,1.1000000000000001,1.7,1.29,1.58,1.39,1.84,1.51,455,1061,361,858,356,"…",274,483,223,"…","…",69.69,100.31,98.49,209,187,156,"…",119.55,129.71,"…",0.32,0.44,2.8,1.28,2.88,10.8,0.6,0.48,0.21,2625.52,295.23,450.47,"…",835.61,703.88,1.22,"…",0.82,31.5,113.1,107.5,81,112.5,1172.1400000000001,29.09,1947.45,388.4,4809.3,4721.8100000000004,884,378.84,391.9,4.84]
["1993M09",{"$f":"EDATE(B413,1)","v":"1993-09-01"},true,"1993-09-01",{"$f":"INDEX(G414:BY414,$E$7)","v":2.27},{"$f":"INDEX(G414:BY414,$F$7)","v":3.48},15.9,16,14.2,17.5,31,27,2.27,2.62,3.48,42.38,1.27,1.78,1.38,1.56,1.52,1.72,1.45,424,1501,353,845,352,"…",260,489,214,"…","…",64.41,100.9,97.22,206,185,158,"…",115.71,131.16999999999999,"…",0.35,0.6,2.73,1.27,3.11,11.19,0.61,0.48,0.21,2605.88,308.36,384,"…",851.11,664.86,1.22,"…",0.82,31.5,116.88,107.5,81,112.5,1115.3800000000001,29.09,1861.86,375.7,4493.6000000000004,4352.8900000000003,874.2,355.28,362.46,4.22]
["1993M10","1993-10-01",true,"1993-10-01",{"$f":"INDEX(G415:BY415,$E$7)","v":2.02},{"$f":"INDEX(G415:BY415,$F$7)","v":3.39},16.52,16.600000000000001,14.8,18.149999999999999,31,27,2.02,2.62,3.39,39.28,1.29,1.69,1.3,1.57,1.49,1.69,1.54,419,1423.75,339,807,333,"…",249,491,207,"…","…",60.95,106.53,100.92,256.75,217,162,"…",127.87,135.94999999999999,"…",0.33,0.62,2.67,1.23,2.98,11.68,0.6,0.48,0.23,2591.58,304.38,378.13,"…",851.34,617.28,1.21,"…",0.8,31.5,129.5,111.25,81,112.5,1087.0999999999999,29.09,1646.4,384.3,4681.1000000000004,4448.8999999999996,914.9,364.18,367.91,4.34]
["1993M11","1993-11-01",true,"1993-11-01",{"$f":"INDEX(G416:BY416,$E$7)","v":2.2599999999999998},{"$f":"INDEX(G416:BY416,$F$7)","v":3.36},15.2,15.15,13.7,16.75,31,27,2.2599999999999998,2.62,3.36,42.17,1.32,1.73,1.36,1.54,1.41,1.76,1.46,464,1303.75,358,808,357,"…",267,536,216,"…","…",63.85,116.67,113.81,307.75,263,167,"…",136.41,146.61000000000001,"…",0.37,0.44,2.64,1.21,2.97,11.52,0.59,0.48,0.22,2629.38,299.54000000000002,333.36,"…",835.18,602.97,1.21,"…",0.81,31.5,140.4,112.5,82.8,112.5,1039.81,29.09,1630.02,400.3,4640.8999999999996,4633.8900000000003,928.4,373.83,374.41,4.53]
["1993M12","1993-12-01",true,"1993-12-01",{"$f":"INDEX(G417:BY417,$E$7)","v":2.34},{"$f":"INDEX(G417:BY417,$F$7)","v":3.25},13.77,13.6,12.15,15.55,31,26.5,2.34,2.6,3.25,42.98,1.36,1.79,1.36,1.57,1.38,1.83,1.51,615,1310,367,924,411,"…",276,589,215,"…","…",68.31,121.79,119.93,320.5,252,155,"…",140.49,158.72999999999999,"…",0.41,0.32,2.46,1.18,2.98,11.6,0.59,0.48,0.23,2594.7399999999998,307.76,304.66000000000003,"…",830.08,592.53,1.31,"…",0.82,31.5,150.38,122.5,85.5,112.5,1094.3,29.09,1724.19,461.2,4777.8999999999996,5119.12,974.4,383.3,383.17,4.97]
["1994M01","1994-01-01",true,"1994-01-01",{"$f":"INDEX(G418:BY418,$E$7)","v":2.34},{"$f":"INDEX(G418:BY418,$F$7)","v":3.12},14.13,14.25,13.15,15,31,27,2.34,2.4700000000000002,3.12,42.27,1.26,1.74,1.31,1.54,1.38,1.74,1.5,595,1196.25,366,993,404,"…",282,602,215,"…","…",74.62,127.23,121.92,356,263,151,"…",152.71,153.22,"…",0.53,0.3,2.42,1.1599999999999999,3.02,11.71,0.6,0.49,0.23,2634.14,304.02999999999997,294.83999999999997,"…",773.48,564.97,1.53,"…",0.81,31.5,150,125,85.5,112.5,1174.5899999999999,26.47,1805.35,490.1,4942.8,5577.95,996.7,386.88,387.8,5.15]
["1994M02","1994-02-01",true,"1994-02-01",{"$f":"INDEX(G419:BY419,$E$7)","v":2.71},{"$f":"INDEX(G419:BY419,$F$7)","v":3.19},13.78,13.8,12.8,14.75,31,27,2.71,2.36,3.19,46.29,1.23,1.85,1.34,1.48,1.41,1.43,1.61,573,1170,364,1011,387,"…",273,577,207,"…","…",72.290000000000006,123.22,119.21,343.75,259,155,"…",144.19,146.97,"…",0.67,0.34,2.4900000000000002,1.18,2.96,11.71,0.59,0.48,0.24,2553.7199999999998,304.74,303.35000000000002,"…",758.99,600.26,1.78,"…",0.85,31.5,151.75,125.63,85.5,112.5,1269.93,26.47,1866.4,485.4,5443.4,5824.95,968.9,381.91,394.02,5.25]
["1994M03","1994-03-01",true,"1994-03-01",{"$f":"INDEX(G420:BY420,$E$7)","v":2.21},{"$f":"INDEX(G420:BY420,$F$7)","v":3.15},13.62,13.95,12.25,14.65,29.5,27,2.21,2.36,3.15,40.19,1.31,1.92,1.43,1.47,1.4,1.36,1.66,539,1180,352,1013,395,"…",274,586,200,"…","…",68.290000000000006,119.4,114.33,269.75,222,155.25,"…",133.49,141.1,"…",0.51,0.46,2.69,1.22,2.96,12.29,0.6,0.48,0.26,2595.42,311.57,310.48,"…",771.98,617.1,1.8,"…",0.91,31.5,155.88,127.5,98.63,112.5,1289.03,26.47,1914.87,451.5,5405.4,5587.54,935.9,384.13,400.28,5.44]
["1994M04","1994-04-01",true,"1994-04-01",{"$f":"INDEX(G421:BY421,$E$7)","v":2.04},{"$f":"INDEX(G421:BY421,$F$7)","v":3.07},15.08,15.15,13.8,16.3,29.5,27,2.04,2.36,3.07,38.07,1.24,2,1.58,1.35,1.28,1.18,1.58,560,988,351,1030,434,"…",261,584,193,"…","…",66.89,113.23,107.75,269.25,221,156.75,"…",129.97999999999999,140.36000000000001,"…",0.5,0.36,2.63,1.23,2.93,12.73,0.59,0.49,0.24,2651.55,309.58999999999997,326.24,"…",819.93,647.04999999999995,1.85,"…",0.95,31.5,162.25,130,103.5,112.5,1278.72,26.47,1881.82,439.9,5385.7,5407.97,923.6,377.27,397.9,5.35]
["1994M05","1994-05-01",true,"1994-05-01",{"$f":"INDEX(G422:BY422,$E$7)","v":1.92},{"$f":"INDEX(G422:BY422,$F$7)","v":3.06},16.28,16.2,14.8,17.850000000000001,31.4,27,1.92,2.36,3.06,36.61,1.38,2.69,2.09,1.52,1.18,1.85,1.54,599,908,362,1020,488,"…",256,594,196,"…","…",68.55,109.59,106.21,233,201,160.19999999999999,"…",125.25,139.99,"…",0.38,0.42,2.39,1.3,2.98,12.79,0.6,0.49,0.26,2674.01,318.06,343.5,"…",851.58,637.21,1.9,"…",0.98,31.5,159.19999999999999,132.5,103.5,112.5,1322.59,26.47,2150.6,473.5,5504.4,6086.65,955.6,381.43,398.01,5.42]
["1994M06","1994-06-01",true,"1994-06-01",{"$f":"INDEX(G423:BY423,$E$7)","v":1.9},{"$f":"INDEX(G423:BY423,$F$7)","v":3.1},17.170000000000002,16.75,15.7,19.05,33.6,28.5,1.9,2.36,3.1,36.39,1.46,3.16,2.48,1.48,1.22,1.63,1.57,608,919,365,1014,508,"…",265,571,203,"…","…",67.78,112.16,105.73,213.75,193,166.25,"…",120.15,139.26,"…",0.25,0.44,2.23,1.31,2.96,13.28,0.61,0.5,0.27,2641.3,331.2,344.6,"…",876.93,629.58000000000004,1.89,"…",1.05,31.5,157.63,132.5,103.5,112.5,1400.58,26.47,2364.1999999999998,525.1,5509.2,6281.84,966.2,385.64,401.09,5.39]
["1994M07","1994-07-01",true,"1994-07-01",{"$f":"INDEX(G424:BY424,$E$7)","v":1.96},{"$f":"INDEX(G424:BY424,$F$7)","v":3.14},17.88,17.600000000000001,16.399999999999999,19.649999999999999,33.1,28.5,1.96,2.42,3.14,37.43,1.55,4.83,3.62,1.59,1.22,1.85,1.71,579,920,376,1017,494,"…",237,560,193,"…","…",64.319999999999993,97.83,93.75,226.25,204,177.75,"…",119.51,137.41999999999999,"…",0.45,0.54,2.19,1.28,2.96,13.87,0.63,0.5,0.26,2632.1,343.77,331.98,"…",875.75,649.70000000000005,1.8,"…",1.25,31.5,158.63,132.5,106.5,112.5,1492.42,26.47,2458.19,580.1,5311.2,6226.76,964,385.49,411.95,5.28]
["1994M08","1994-08-01",true,"1994-08-01",{"$f":"INDEX(G425:BY425,$E$7)","v":1.66},{"$f":"INDEX(G425:BY425,$F$7)","v":3.24},17,16.8,15.85,18.350000000000001,33.1,28.5,1.66,2.46,3.24,34.049999999999997,1.55,4.42,3.59,1.58,1.35,1.73,1.66,596,903,378,1018,575,"…",232,600,189,"…","…",66.16,95.99,95.02,252.6,228,199.6,"…",128.15,145.87,"…",0.41,0.54,2.2000000000000002,1.23,2.97,14.14,0.63,0.48,0.27,2608.14,344.81,316.74,"…",885.13,630.99,1.69,"…",1.26,31.5,161.1,132.5,88,112.5,1455.36,26.47,2406.23,570.79999999999995,5161.5,5859.5,944.9,380.36,412.19,5.2]
["1994M09","1994-09-01",true,"1994-09-01",{"$f":"INDEX(G426:BY426,$E$7)","v":1.49},{"$f":"INDEX(G426:BY426,$F$7)","v":3.28},16.2,15.9,15.25,17.45,33.1,29,1.49,2.48,3.28,32.11,1.49,4.8899999999999997,4.03,1.54,1.42,1.62,1.57,622,825,392,1018,614,"…",233,672,184,"…","…",72.27,97.51,91.78,259.75,239,210,"…",142.12,158.72999999999999,"…",0.44,0.54,2.21,1.24,2.97,13.63,0.65,0.48,0.28000000000000003,2634.62,347.76,299.92,"…",861.98,566.5,1.66,"…",1.27,31.5,164,132.5,88,112.5,1569.22,26.47,2505.9299999999998,613.5,5321.1,6364.75,992.4,391.58,417.28,5.52]
["1994M10","1994-10-01",true,"1994-10-01",{"$f":"INDEX(G427:BY427,$E$7)","v":1.51},{"$f":"INDEX(G427:BY427,$F$7)","v":3.26},16.47,16.399999999999999,15.35,17.649999999999999,33.1,30.75,1.51,2.56,3.26,32.72,1.45,4.45,3.74,1.5,1.43,1.48,1.6,621,800,398,1029,616,"…",227,642,177,"…","…",80.14,96.48,92.37,262,243,215.8,"…",157.38,167.18,"…",0.32,0.43,2.12,1.2,3.04,13.92,0.66,0.47,0.28000000000000003,2699.88,354.51,291.55,"…",805.97,567.91,1.63,"…",1.37,31.5,167.13,136.63,88,112.5,1698.05,26.47,2547.67,641.79999999999995,5473.6,6748.29,1058.5,389.77,419.4,5.45]
["1994M11","1994-11-01",true,"1994-11-01",{"$f":"INDEX(G428:BY428,$E$7)","v":1.58},{"$f":"INDEX(G428:BY428,$F$7)","v":3.26},17.079999999999998,17.2,15.95,18.100000000000001,33.1,30.5,1.58,2.57,3.26,33.61,1.44,4.03,3.38,1.43,1.35,1.47,1.46,706,815,394,1048,707,"…",239,706,174,"…","…",83.98,95.47,97.74,264.5,242,216.5,"…",152.38999999999999,162.04,"…",0.3,0.33,2.19,1.1399999999999999,3.03,13.61,0.66,0.48,0.31,2693.64,351.43,279.43,"…",792.71,562.70000000000005,1.71,"…",1.34,33.5,165.88,139,88,112.5,1892.59,26.47,2802.45,667.2,6161.1,7556.14,1151.7,384.39,412.37,5.19]
["1994M12","1994-12-01",true,"1994-12-01",{"$f":"INDEX(G429:BY429,$E$7)","v":1.72},{"$f":"INDEX(G429:BY429,$F$7)","v":3.29},15.94,15.96,14.7,17.16,36.1,32,1.72,2.56,3.29,35.29,1.4,3.72,2.86,1.42,1.33,1.55,1.39,692,833.33,418,1062,719,"…",243,693,178,"…","…",86.49,102.49,100.62,260.5,244,223.5,"…",157.34,164.61,"…",0.54,0.23,2.23,1.1299999999999999,2.94,13.23,0.65,0.49,0.32,2681.41,341.65,247.96,"…",778.01,539.99,1.92,"…",1.47,33.5,171.67,139,88,112.5,1878.31,26.47,2985.3,634.29999999999995,5946.8,8555.5,1114.3,379.29,410.85,4.78]
["1995M01","1995-01-01",true,"1995-01-01",{"$f":"INDEX(G430:BY430,$E$7)","v":1.51},{"$f":"INDEX(G430:BY430,$F$7)","v":3.36},16.899999999999999,16.63,16.079999999999998,17.989999999999998,37.1,34,1.51,2.66,3.36,33.26,1.47,3.81,2.9,1.46,1.36,1.64,1.38,622,878,435,1054,655,"…",243,674,183,"…","…",85.45,106.96,101.74,276.8,258,232.2,"…",152.99,156.16,"…",0.36,0.35,2.13,1.1299999999999999,2.75,13.45,0.65,0.5,0.33,2595.13,341,248.42,632.76,793.79,551.01,2.11,"…",1.64,33.5,188.2,142.38,159.6,112.5,2060.5500000000002,28.38,3008.93,666.6,6199.3,9592.5499999999993,1156.5,378.55,413.9,4.7699999999999996]
["1995M02","1995-02-01",true,"1995-02-01",{"$f":"INDEX(G431:BY431,$E$7)","v":1.58},{"$f":"INDEX(G431:BY431,$F$7)","v":3.4},17.420000000000002,17.079999999999998,16.64,18.53,37.6,34.5,1.58,2.66,3.4,34.14,1.51,3.74,2.97,1.41,1.38,1.5,1.36,636,885,437,1025,661,"…",238,663,185,"…","…",85.77,106.69,102.07,280.5,262,221,"…",149.71,154.32,"…",0.57999999999999996,0.42,2.16,1.1299999999999999,2.71,13.7,0.65,0.5,0.32,2673.19,334.12,251.8,621.54999999999995,753.2,599.11,2.23,"…",1.77,31.5,198.63,147.5,177.5,112.5,1916.15,28.38,2877.65,579.9,5478.3,8505.4500000000007,1032.2,376.64,413.97,4.72]
["1995M03","1995-03-01",true,"1995-03-01",{"$f":"INDEX(G432:BY432,$E$7)","v":1.54},{"$f":"INDEX(G432:BY432,$F$7)","v":3.46},17.350000000000001,17.010000000000002,16.489999999999998,18.54,38.35,34.75,1.54,2.65,3.46,33.64,1.49,3.96,3.22,1.35,1.36,1.34,1.34,632,855,447,990,687,"…",246,652,175,"…","…",90.83,109.7,102.74,286.25,259,223.5,"…",143.08000000000001,150.28,"…",0.4,0.45,2.04,1.1399999999999999,2.73,14.04,0.68,0.5,0.32,2586.7600000000002,346.84,283.10000000000002,642.14,713.58,656.48,2.44,"…",1.8,31.5,205.63,147.5,191.25,112.5,1805.07,28.38,2924.04,585.6,5532.4,7531.91,1022.2,382.12,416.89,4.6500000000000004]
["1995M04","1995-04-01",true,"1995-04-01",{"$f":"INDEX(G433:BY433,$E$7)","v":1.62},{"$f":"INDEX(G433:BY433,$F$7)","v":3.45},18.649999999999999,18.670000000000002,17.399999999999999,19.87,37.1,35,1.62,2.71,3.45,34.89,1.46,3.84,3.19,1.37,1.36,1.39,1.35,619,823,447,981,625,"…",249,610,181,"…","…",93.4,109.3,103.29,281.5,260,226.25,"…",140.68,148.81,"…",0.39,0.56000000000000005,1.92,1.1299999999999999,2.63,14.41,0.7,0.5,0.3,2501.1,350.64,300.91000000000003,639.70000000000005,730.82,665.11,2.5099999999999998,"…",1.84,31.5,204.5,147.5,205,112.5,1849,28.38,2903.5,608.5,5872.1,7397.83,1061.4000000000001,391.03,448.29,5.48]
["1995M05","1995-05-01",true,"1995-05-01",{"$f":"INDEX(G434:BY434,$E$7)","v":1.64},{"$f":"INDEX(G434:BY434,$F$7)","v":3.53},18.420000000000002,18.38,17.25,19.64,38.770000000000003,35,1.64,2.71,3.53,35.19,1.45,3.77,3.11,1.49,1.31,1.87,1.3,616,822,436,973,611,"…",250,595,181,"…","…",100.79,111.97,108.06,291,268,238.6,"…",143.28,158.72999999999999,"…",0.39,0.56000000000000005,1.75,1.1499999999999999,2.5299999999999998,14.88,0.71,0.51,0.3,2518.9299999999998,340.95,285.43,635.25,750.77,635.41,2.5299999999999998,"…",1.72,31.5,197.8,147.5,159,112.5,1762.69,28.38,2773.31,596.5,5926.5,7232.19,1036.2,385.22,437.35,5.56]
["1995M06","1995-06-01",true,"1995-06-01",{"$f":"INDEX(G435:BY435,$E$7)","v":1.62},{"$f":"INDEX(G435:BY435,$F$7)","v":3.56},17.36,17.350000000000001,16.239999999999998,18.5,40.770000000000003,34.89,1.62,2.73,3.56,35.06,1.44,3.41,2.84,1.49,1.2,1.98,1.29,668,841,467,965,631,"…",252,611,180,"…","…",105.77,119.86,112.83,326,303,275.75,"…",153.47999999999999,170.12,"…",0.37,0.65,1.66,1.19,2.5299999999999998,14.88,0.7,0.52,0.31,2587.4699999999998,345.78,274.22000000000003,625.46,759.11,627,2,"…",1.54,31.5,185.63,147.5,90,112.5,1780.05,28.38,2994.64,611.79999999999995,6670.7,7871.57,1009.6,387.56,438.53,5.36]
["1995M07","1995-07-01",true,"1995-07-01",{"$f":"INDEX(G436:BY436,$E$7)","v":1.44},{"$f":"INDEX(G436:BY436,$F$7)","v":3.48},16.079999999999998,15.86,14.97,17.420000000000002,41.05,36.15,1.44,2.8,3.48,33.159999999999997,1.36,3.21,2.64,1.57,1.22,2.2000000000000002,1.28,693,876,502,969,655,"…",261,626,193,"…","…",112.97,126.99,119.1,345.6,327,296,"…",173.36,190.7,"…",0.54,0.69,1.63,1.24,2.54,14.55,0.7,0.54,0.3,2642.87,351.79,259.57,615.64,752.32,584.72,1.93,"…",1.33,33.5,180.8,147.5,90,112.5,1860.1,28.38,3075.67,621.9,6668.9,8596.57,1026.8,386.23,433.63,5.16]
["1995M08","1995-08-01",true,"1995-08-01",{"$f":"INDEX(G437:BY437,$E$7)","v":1.56},{"$f":"INDEX(G437:BY437,$F$7)","v":3.46},16.47,16.07,15.37,17.96,40.880000000000003,35.700000000000003,1.56,2.8,3.46,34.6,1.41,3.38,2.87,1.5,1.4,1.88,1.24,686,885,493,980,616,"…",257,616,190,"…","…",104.87,126.44,118.7,339.5,318,286,"…",168.47,184.45,"…",0.52,0.61,1.69,1.31,2.52,13.45,0.69,0.52,0.28999999999999998,2691.66,341.96,235.66,583.34,741.72,560.55999999999995,1.88,"…",1.3,33.5,185.25,147.5,90,112.5,1888.32,28.38,3036.84,623.6,6992.3,8944.66,1014.4,383.67,425.34,5.4]
["1995M09","1995-09-01",true,"1995-09-01",{"$f":"INDEX(G438:BY438,$E$7)","v":1.64},{"$f":"INDEX(G438:BY438,$F$7)","v":3.46},16.82,16.78,15.65,18.03,40.93,35.93,1.64,2.78,3.46,35.479999999999997,1.4,2.96,2.54,1.55,1.57,1.78,1.31,677,970,505,981,586,"…",266,614,206,"…","…",104.82,130.47999999999999,127.26,359.75,332,284.75,"…",185.61,193.64,"…",0.52,0.54,1.76,1.34,2.56,12.21,0.69,0.51,0.26,2689.09,337.09,221.73,565.66,728.7,527.42999999999995,2.0099999999999998,"…",1.35,33.5,192,147.5,90,112.5,1760.83,28.38,2915.52,592.70000000000005,6328.1,8405.2099999999991,986.2,383.06,429.65,5.43]
["1995M10","1995-10-01",true,"1995-10-01",{"$f":"INDEX(G439:BY439,$E$7)","v":1.77},{"$f":"INDEX(G439:BY439,$F$7)","v":3.45},16.12,16.12,14.92,17.329999999999998,40.97,35.75,1.77,2.75,3.45,36.9,1.39,2.81,2.4900000000000002,1.56,1.62,1.79,1.27,718,1055,522,990,615,"…",271,638,214,"…","…",112.7,140.86000000000001,137.07,382.6,351,294.39999999999998,"…",194.04,203.73,"…",0.43,0.55000000000000004,1.82,1.29,2.67,12.24,0.7,0.51,0.26,2689.44,344.06,233.86,546.45000000000005,723.49,526.54999999999995,2.0099999999999998,"…",1.41,33.5,204.8,150,90,112.5,1674.32,28.38,2813.55,639.1,6220.7,8061.73,979.1,383.14,412.66,5.37]
["1995M11","1995-11-01",true,"1995-11-01",{"$f":"INDEX(G440:BY440,$E$7)","v":2.04},{"$f":"INDEX(G440:BY440,$F$7)","v":3.41},16.739999999999998,16.88,15.56,17.79,39.590000000000003,36.07,2.04,2.75,3.41,40.159999999999997,1.44,2.76,2.44,1.63,1.8,1.84,1.24,750,1016,602,995,607,"…",282,623,225,"…","…",125.76,143.94999999999999,141.80000000000001,340.5,322,298.25,"…",198.27,203.93,"…",0.44,0.56000000000000005,1.94,1.32,2.65,12.43,0.7,0.5,0.26,2744.74,337.67,230.96,521.85,716.07,539.65,1.97,"…",1.61,33.5,224.88,160.69999999999999,90,112.5,1654.07,28.38,2977.36,713.6,6386.9,8505.91,1030.7,385.31,413.12,5.32]
["1995M12","1995-12-01",true,"1995-12-01",{"$f":"INDEX(G441:BY441,$E$7)","v":2.71},{"$f":"INDEX(G441:BY441,$F$7)","v":3.37},17.87,17.96,16.809999999999999,18.829999999999998,39.35,35.01,2.71,2.73,3.37,48.17,1.38,2.34,2.0499999999999998,1.48,1.48,1.69,1.27,718,1013,647,988,590,"…",296,579,250,"…","…",125,148.65,153,341.5,312,277.75,"…",205.33,208.92,"…",0.41,0.44,1.91,1.29,2.62,12.21,0.68,0.5,0.27,2800.9,302.2,241.78,523.80999999999995,715.85,540.20000000000005,1.94,"…",1.64,33.5,229.17,162.5,90,112.5,1656.74,28.38,2926.26,731.6,6289.5,8090.89,1018.1,387.44,408.71,5.18]
["1996M01","1996-01-01",true,"1996-01-01",{"$f":"INDEX(G442:BY442,$E$7)","v":2.93},{"$f":"INDEX(G442:BY442,$F$7)","v":3.43},17.8,17.940000000000001,16.57,18.89,39.369999999999997,34.75,2.93,2.75,3.43,50.98,1.35,2.44,1.98,1.52,1.72,1.48,1.37,711,986,649,959,535,686,305,554,260,"…","…",124.93,156.13,154.30000000000001,369.2,331,271.60000000000002,"…",196.98,206.88,"…",0.41,0.42,1.86,1.29,2.61,11.98,0.69,0.49,0.28000000000000003,2869.95,279.69,234.29,519.41999999999996,719.35,529.12,1.9,"…",1.55,33.5,226.3,162.5,90,112.5,1589.34,30,2616.41,709.5,6271.6,7862.05,1019.1,399.45,415.48,5.46]
["1996M02","1996-02-01",true,"1996-02-01",{"$f":"INDEX(G443:BY443,$E$7)","v":4.4000000000000004},{"$f":"INDEX(G443:BY443,$F$7)","v":3.48},17.7,17.97,16.05,19.07,39.28,34.25,4.4000000000000004,2.77,3.48,68.959999999999994,1.37,2.74,2.14,1.52,1.78,1.42,1.34,738,980,641,925,518,716,299,548,253,"…","…",123.31,164.81,159.81,368,320,256.25,"…",203.96,218.89,"…",0.59,0.43,1.81,1.25,2.63,12.1,0.69,0.5,0.28000000000000003,2890.78,272.77999999999997,246.43,505.89,713.66,548.59,1.87,"…",1.56,33.5,225.88,169.1,90,112.5,1591.55,30,2537.71,769.7,6195.5,8215.5499999999993,1035.8,404.76,420.21,5.66]
["1996M03","1996-03-01",true,"1996-03-01",{"$f":"INDEX(G444:BY444,$E$7)","v":2.95},{"$f":"INDEX(G444:BY444,$F$7)","v":3.47},19.399999999999999,19.989999999999998,17.05,21.16,39.01,32.92,2.95,2.67,3.47,50.87,1.34,2.66,2,1.57,1.92,1.41,1.37,723,988,616,911,519,715,295,538,246,"…","…",124.47,184.86,165.84,359.5,313,259.5,"…",205.51,215.32,"…",0.5,0.47,1.72,1.22,2.64,12.02,0.69,0.5,0.28000000000000003,2965.09,271.79000000000002,253.01,504.04,728.67,529.22,1.83,"…",1.48,33.5,221,173.5,90,112.5,1612.48,30,2561.02,817.9,6196.4,8021.74,1063.9000000000001,396.21,411.19,5.52]
["1996M04","1996-04-01",true,"1996-04-01",{"$f":"INDEX(G445:BY445,$E$7)","v":2.23},{"$f":"INDEX(G445:BY445,$F$7)","v":3.56},20.66,21.01,17.77,23.2,39.33,33.67,2.23,3.1,3.56,44.23,1.46,2.72,2,1.7,1.93,1.75,1.42,756,1015,583,895,562,755,316,582,270,"…","…",132.69,190.37,188.66,327.2,281,244.8,"…",247.52,257.61,"…",0.61,0.53,1.72,1.24,3.09,12.9,0.68,0.5,0.26,2981.05,270.27,252.48,489.62,751.37,521.11,1.83,"…",1.46,33.5,210.75,173.5,160.4,112.5,1587.23,30,2595.7800000000002,815,6480.9,8042.85,1045.4000000000001,392.85,404.39,5.42]
["1996M05","1996-05-01",true,"1996-05-01",{"$f":"INDEX(G446:BY446,$E$7)","v":2.2400000000000002},{"$f":"INDEX(G446:BY446,$F$7)","v":3.6},19.059999999999999,19.12,16.989999999999998,21.08,38.200000000000003,33.28,2.2400000000000002,2.81,3.6,43,1.52,2.85,2.0099999999999998,1.73,1.84,1.92,1.43,778,1015,564,897,552,775,322,591,271,"…","…",137.79,204.02,185.76,332.25,279,244.5,"…",213.43,262.11,"…",0.54,0.52,1.7,1.33,3.34,13.93,0.68,0.5,0.25,2987.62,279.31,261.64999999999998,481.57,753.1,535.48,1.83,"…",1.48,33.5,186.13,173.5,169.5,112.5,1589.26,30,2658.26,840.2,6412.4,8026.55,1035.8,391.93,401.42,5.37]
["1996M06","1996-06-01",true,"1996-06-01",{"$f":"INDEX(G447:BY447,$E$7)","v":2.4900000000000002},{"$f":"INDEX(G447:BY447,$F$7)","v":3.6},18.510000000000002,18.27,17,20.27,38.200000000000003,32.4,2.4900000000000002,2.81,3.6,46.03,1.54,2.77,1.9,1.66,1.74,1.85,1.4,816,950,563,904,508,762,308,563,266,"…","…",138.13999999999999,197.55,174.88,341.5,285,240.25,"…",180.6,227.34,"…",0.48,0.56000000000000005,1.65,1.43,3.53,14.15,0.68,0.5,0.27,2996.06,280.10000000000002,255.85,502.24,747.9,523.62,1.83,"…",1.47,33.5,182.13,174.63,172.13,112.5,1482.48,30,2173.4,796.5,6191.9,7709.48,1008.5,385.27,392.25,5.16]
["1996M07","1996-07-01",true,"1996-07-01",{"$f":"INDEX(G448:BY448,$E$7)","v":2.48},{"$f":"INDEX(G448:BY448,$F$7)","v":3.61},19.59,19.61,17.79,21.36,38.4,32.1,2.48,2.78,3.61,45.78,1.5,2.7,1.71,1.79,1.86,2.14,1.37,775,993,547,902,476,734,312,549,265,"…","…",133.09,197.8,163.63999999999999,358,293,229.2,"…",181.08,202.6,"…",0.43,0.53,1.68,1.46,3.55,13.56,0.7,0.48,0.28000000000000003,3050.38,284.68,259.69,520.28,743.97,521.39,1.76,"…",1.35,32.9,188,175.63,184.5,112.5,1458.7,30,1985.57,783.7,6250.2,7203.65,1000.1,383.47,393.66,5.07]
["1996M08","1996-08-01",true,"1996-08-01",{"$f":"INDEX(G449:BY449,$E$7)","v":2.0299999999999998},{"$f":"INDEX(G449:BY449,$F$7)","v":3.68},20.440000000000001,20.58,18.77,21.97,38.35,32.03,2.0299999999999998,2.79,3.68,40.409999999999997,1.5,2.78,1.75,1.74,1.95,1.82,1.44,742,970,539,885,513,725,317,565,270,"…","…",115.01,185.5,152.47,335.5,276,213,"…",174.99,191.63,"…",0.41,0.53,1.76,1.47,3.51,13.12,0.68,0.49,0.27,3140.87,286.56,263.48,513.83000000000004,743.43,538.27,1.68,"…",1.3,32.5,189.88,178.6,187,112.5,1463.36,30,2008.57,815.7,6110.2,7054.36,1006.9,387.35,400.03,5.14]
["1996M09","1996-09-01",true,"1996-09-01",{"$f":"INDEX(G450:BY450,$E$7)","v":1.84},{"$f":"INDEX(G450:BY450,$F$7)","v":3.68},22.26,22.59,20.260000000000002,23.92,38.1,33.380000000000003,1.84,2.79,3.68,38.1,1.48,2.62,1.64,1.74,2.1,1.68,1.45,721,929,566,879,545,707,319,569,286,"…","…",103.4,145.38999999999999,130.35,328.4,274,214.4,"…",169.71,178.71,"…",0.4,0.53,1.75,1.47,3.47,13.09,0.68,0.49,0.26,3149.7,282.74,258.69,506.99,755.31,537.61,1.66,"…",1.3,32.5,186.7,181.5,181.4,112.5,1407.38,30,1941.45,796.4,6101.9,7318.05,1000.3,383.14,389.86,5.04]
["1996M10","1996-10-01",true,"1996-10-01",{"$f":"INDEX(G451:BY451,$E$7)","v":2.37},{"$f":"INDEX(G451:BY451,$F$7)","v":3.79},23.61,24.18,21.71,24.94,37.6,34.25,2.37,2.94,3.79,45.32,1.48,2.74,1.61,1.73,2.14,1.55,1.49,722,917,581,874,532,693,290,528,270,"…","…",102.41,127.85,113.32,312.75,260,208,"…",158.44,178,"…",0.38,0.47,1.79,1.45,3.59,13.12,0.69,0.49,0.25,3157.84,300,252.67,503.22,758.93,525.09,1.66,"…",1.24,32.5,183.75,182.5,172.25,112.5,1336.34,30,1961.17,741.9,5941.9,7031.39,1003.1,381.07,384.18,4.93]
["1996M11","1996-11-01",true,"1996-11-01",{"$f":"INDEX(G452:BY452,$E$7)","v":3.03},{"$f":"INDEX(G452:BY452,$F$7)","v":4.03},22.39,22.64,20.87,23.66,35.700000000000003,34.14,3.03,2.96,4.03,53.6,1.47,2.74,1.55,1.61,1.86,1.46,1.5,760,904,600,868,550,721,286,517,274,"…","…",99.99,117.74,105.55,315,258,205.75,"…",158.21,176.41,"…",0.43,0.47,1.77,1.45,3.77,13.65,0.7,0.49,0.24,3213.38,303.54000000000002,253.21,558.12,753.66,526.22,1.68,"…",1.27,32.5,188.25,182.5,172.63,112.5,1449.52,30,2230.86,716.6,5991.7,6943.38,1046.5,377.85,381.98,4.83]
["1996M12","1996-12-01",true,"1996-12-01",{"$f":"INDEX(G453:BY453,$E$7)","v":3.82},{"$f":"INDEX(G453:BY453,$F$7)","v":4.08},23.62,23.9,21.65,25.32,35.35,35.04,3.82,2.96,4.08,63.22,1.47,2.58,1.39,1.63,1.82,1.56,1.51,777,897,583,868,561,747,289,514,279,"…","…",100.76,117.69,105.77,319.2,263,205.2,"…",158.6,175.7,"…",0.48,0.43,1.79,1.44,3.79,13.83,0.65,0.49,0.24,3261.76,300.38,233.76,543.65,726.85,518.62,1.75,"…",1.26,32.5,188.5,182.5,174.5,112.5,1500.29,30,2268.08,688.8,5836.3,6580.75,1036.3,369,370.7,4.83]
["1997M01","1997-01-01",true,"1997-01-01",{"$f":"INDEX(G454:BY454,$E$7)","v":3.31},{"$f":"INDEX(G454:BY454,$F$7)","v":4.13},23.23,23.47,21.28,24.93,35.229999999999997,34.57,3.31,2.89,4.13,56.73,1.43,2.93,1.48,1.65,1.77,1.62,1.57,768,893,576,874,567,754,301,534,280,"…","…",98.97,118.36,105.65,356,291,217.5,"…",154.01,175.73,0.94,0.67,0.42,1.77,1.42,3.79,13.89,0.69,0.48,0.24,3333.84,286.14,240.56,516.9,743.82,499.93,1.76,"…",1.23,32.5,188,181.9,173.5,112.5,1575.61,30.15,2434.9299999999998,692.3,5877.7,7071.55,1086.5,355.11,360.1,4.7699999999999996]
["1997M02","1997-02-01",true,"1997-02-01",{"$f":"INDEX(G455:BY455,$E$7)","v":2.2200000000000002},{"$f":"INDEX(G455:BY455,$F$7)","v":4.22},20.420000000000002,20.83,18.600000000000001,21.83,34.6,33.799999999999997,2.2200000000000002,2.89,4.22,43.56,1.37,3.71,1.66,1.68,1.82,1.6,1.61,768,870,558,886,580,757,308,527,282,"…","…",97.73,121.67,111.22,347,283,225.75,"…",143.58000000000001,172.35,0.97,0.79,0.41,1.84,1.38,3.67,13.89,0.65,0.48,0.24,3353.29,282.95,235.18,530.52,753.28,487.78,1.77,"…",1.22,32.5,187.38,181,160.38,112.5,1580.01,30.15,2405.85,660.2,5883.2,7734.53,1179.4000000000001,346.58,365.01,5.07]
["1997M03","1997-03-01",true,"1997-03-01",{"$f":"INDEX(G456:BY456,$E$7)","v":1.89},{"$f":"INDEX(G456:BY456,$F$7)","v":4.25},19.329999999999998,19.21,18.09,20.69,34.5,33.4,1.89,2.83,4.25,39.28,1.52,4.29,1.77,1.74,1.78,1.64,1.79,737,908,554,896,559,730,332,541,300,"…","…",99.75,127.6,119.66,323.39999999999998,273,231.6,"…",153.80000000000001,176.61,1.1100000000000001,0.76,0.42,2.04,1.36,3.5,14,0.65,0.48,0.24,3402.27,279.74,242.04,542.01,756.64,497.39,1.78,"…",1.23,32.5,187.4,181,148,112.5,1631.57,30.15,2421.29,694.6,5909.2,7895.87,1254.8,351.81,378.9,5.2]
["1997M04","1997-04-01",true,"1997-04-01",{"$f":"INDEX(G457:BY457,$E$7)","v":2.0299999999999998},{"$f":"INDEX(G457:BY457,$F$7)","v":4.07},17.88,17.47,16.77,19.399999999999999,35.4,32.99,2.0299999999999998,2.77,4.07,40.590000000000003,1.57,4.5599999999999996,1.71,1.88,1.92,1.75,1.98,710,920,547,938,562,705,338,541,301,"…","…",97.87,124.4,118,304.5,262,217.25,"…",158.62,183.49,1.02,0.59,0.45,2,1.35,3.31,14.41,0.63,0.48,0.25,3451.87,277.66000000000003,240.16,555.30999999999995,749.83,486.03,1.74,"…",1.1499999999999999,32.5,188.5,177.63,135,112.5,1561.44,30.15,2391.1799999999998,642.5,5713.3,7315.52,1240.4000000000001,344.47,371.08,4.7699999999999996]
["1997M05","1997-05-01",true,"1997-05-01",{"$f":"INDEX(G458:BY458,$E$7)","v":2.2400000000000002},{"$f":"INDEX(G458:BY458,$F$7)","v":4.03},19.37,19.14,18.46,20.5,35.729999999999997,32.53,2.2400000000000002,2.74,4.03,42.96,1.57,5.89,2.06,2.06,1.98,2.21,1.99,654,953,548,981,553,668,298,541,300,"…","…",100.07,118.77,114.2,324.5,267,215.5,"…",152.65,172.59,0.97,0.39,0.47,1.9,1.34,3.34,14.64,0.63,0.48,0.24,3557.14,278.60000000000002,252.18,600.72,747.56,512.65,1.75,"…",1.1100000000000001,32.5,188.5,170,113.13,112.5,1625.25,30.15,2514.33,618.6,5711.2,7482.85,1310.5,343.84,387.5,4.75]
["1997M06","1997-06-01",{"$f":"B459>$C$8","v":true},{"$f":"IF(C459,B459,NA())","v":"1997-06-01"},{"$f":"INDEX(G459:BY459,$E$7)","v":2.2000000000000002},{"$f":"INDEX(G459:BY459,$F$7)","v":4.03},17.920000000000002,17.55,17.34,18.87,34.5,32.28,2.2000000000000002,2.76,4.03,42.57,1.69,4.8899999999999997,1.96,2.08,2.02,2.2999999999999998,1.93,637,969,558,1047,533,635,278,550,274,"…","…",94.94,112.05,104.28,323.2,266,220.6,"…",131.59,148.38999999999999,0.8,0.47,0.44,1.76,1.34,3.33,14.88,0.64,0.48,0.25,3604.59,283.07,264.32,591.87,744.94,525.38,1.78,"…",1.1100000000000001,32.5,187,170,108.5,112.5,1567.55,30.15,2612.62,614.9,5566.1,7062.48,1354.2,340.76,430.76,4.76]
["1997M07","1997-07-01",true,"1997-07-01",{"$f":"INDEX(G460:BY460,$E$7)","v":2.19},{"$f":"INDEX(G460:BY460,$F$7)","v":3.89},18.329999999999998,18.399999999999999,17.29,19.3,35,31.27,2.19,2.67,3.89,41.92,1.68,4.2,1.76,2.19,1.95,2.6,2.0099999999999998,597,987,581,1096,498,594,306,535,248,"…","…",91.66,106.06,96.21,320,267,215.75,"…",127.78,136.21,0.92,0.44,0.52,1.8,1.35,3.35,14.92,0.63,0.49,0.25,3582.17,283.77,254.34,570.85,705.71,512.34,1.79,"…",0.94,32.5,186.88,168.2,112.5,112.5,1591.99,30.15,2450.46,634.29999999999995,5442.7,6835.5,1518,324.10000000000002,415.52,4.37]
["1997M08","1997-08-01",true,"1997-08-01",{"$f":"INDEX(G461:BY461,$E$7)","v":2.4700000000000002},{"$f":"INDEX(G461:BY461,$F$7)","v":3.69},18.7,18.71,17.77,19.62,36.93,31.03,2.4700000000000002,2.67,3.69,45.19,1.65,4.21,1.64,2.2400000000000002,2.1,2.4300000000000002,2.21,567,924,621,1093,504,556,265,544,258,"…","…",91.3,112.92,104.06,285,246,209.25,"…",140.91,150.61000000000001,0.92,0.42,0.56999999999999995,1.84,1.38,3.22,15.45,0.6,0.49,0.26,3576.49,285.70999999999998,244.23,556,649.01,500.42,1.79,"…",0.92,32.5,186.63,163.5,102.5,112.5,1710.58,30.15,2251.1999999999998,608.1,5428.4,6761.3,1653.5,324.01,424.55,4.5]
["1997M09","1997-09-01",true,"1997-09-01",{"$f":"INDEX(G462:BY462,$E$7)","v":2.84},{"$f":"INDEX(G462:BY462,$F$7)","v":3.69},18.66,18.45,17.95,19.59,37.15,29.88,2.84,2.7,3.69,49.82,1.77,4.1900000000000004,1.66,2.21,2.1800000000000002,2.37,2.08,615,964,637,1083,525,603,269,555,266,"…","…",92.51,112.24,106.79,270.60000000000002,239,202.8,"…",143.22,151.74,1.08,0.45,0.55000000000000004,1.79,1.39,3.21,15.58,0.57999999999999996,0.49,0.25,3635.2,283.77,232.74,581.89,595.34,479.11,1.76,"…",0.87,32.5,186.6,163.5,88.3,112.5,1610.6,30.15,2107.3000000000002,634.29999999999995,5496.3,6503.84,1640.9,322.82,424.73,4.7300000000000004]
["1997M10","1997-10-01",true,"1997-10-01",{"$f":"INDEX(G463:BY463,$E$7)","v":3.04},{"$f":"INDEX(G463:BY463,$F$7)","v":3.62},20.04,19.850000000000001,19.059999999999999,21.21,37.15,29,3.04,2.63,3.62,51.87,1.74,3.7,1.64,2.2799999999999998,2.2400000000000002,2.38,2.23,627,1054.04,658,1083,547,619,278,611,260,"…","…",102.71,120.36,112.83,265.75,233,192.25,"…",143.65,151.59,1.05,0.38,0.49,1.76,1.31,3.27,15.26,0.59,0.49,0.25,3621.51,295.98,227.39,585.46,533.26,454.33,1.71,"…",0.87,32.5,186,164.3,87.5,112.5,1607.86,30.15,2052.2600000000002,600.29999999999995,5561.3,6380.33,1280.0999999999999,324.87,423.12,5.03]
["1997M11","1997-11-01",true,"1997-11-01",{"$f":"INDEX(G464:BY464,$E$7)","v":3.02},{"$f":"INDEX(G464:BY464,$F$7)","v":3.68},19.09,19,18.38,19.88,33.6,27.69,3.02,2.66,3.68,51.81,1.7,3.53,1.68,2.33,2.23,2.39,2.38,616,1199,716,1090,556,611,288,676,276,"…","…",102.27,117.22,112.33,252.5,221,180.67,"…",138.22999999999999,149.88,0.97,0.43,0.41,1.83,1.27,3.39,15.14,0.61,0.48,0.26,3628.68,293.52,214.79,576.77,519.4,439.04,1.7,"…",0.84,32.5,185.5,169.38,90.63,112.5,1598.99,30.15,1917.45,563.4,5658,6139.5,1173,306.04000000000002,392.29,5.08]
["1997M12","1997-12-01",true,"1997-12-01",{"$f":"INDEX(G465:BY465,$E$7)","v":2.33},{"$f":"INDEX(G465:BY465,$F$7)","v":3.6},17.09,17,16.18,18.09,31.4,27.75,2.33,2.65,3.6,43.33,1.74,3.91,1.82,2.37,2.2599999999999998,2.4700000000000002,2.4,586,1220,721,1058,566,590,284,622,264,"…","…",97.08,113.45,110.23,269.67,237,195.67,"…",135.74,144.62,0.86,0.42,0.35,1.85,1.23,3.33,15.1,0.61,0.48,0.27,3631.5,286.14,211.1,554.6,475.52,425.1,1.64,"…",0.73,32.5,185.5,172.5,90,112.5,1530.51,30.15,1762.33,526.6,5513.8,5945.36,1102.2,288.74,365.42,5.84]
["1998M01","1998-01-01",true,"1998-01-01",{"$f":"INDEX(G466:BY466,$E$7)","v":2.1},{"$f":"INDEX(G466:BY466,$F$7)","v":3.54},15,15.09,13.4,16.510000000000002,31.4,27.5,2.1,2.65,3.54,40.5,1.67,3.92,1.84,2.48,2.38,2.5,2.5499999999999998,558,1146,703,1055,621,590,273,625,231,"…","…",95.77,114.71,111.44,288,247,184.75,"…",130.21,137.1,1.02,0.46,0.36,1.82,1.22,3.23,15.32,0.6,0.48,0.25,3583.29,287.66000000000003,197.1,534.22,413.36,409.42,1.59,"…",0.68,32.5,184,172.5,86.25,112.5,1485.79,31,1688.45,531.6,5206.3,5491.75,1097.2,289.10000000000002,373.86,5.89]
["1998M02","1998-02-01",true,"1998-02-01",{"$f":"INDEX(G467:BY467,$E$7)","v":2.2200000000000002},{"$f":"INDEX(G467:BY467,$F$7)","v":3.43},14.1,14.06,12.43,15.81,33.44,26.76,2.2200000000000002,2.63,3.43,41.79,1.64,3.93,1.84,2.5099999999999998,2.36,2.37,2.81,559,1079,699,1029,659,620,273,634,214,"…","…",91.49,113.38,111.73,297.25,246,186.75,"…",127.32,140.05000000000001,0.97,0.44,0.39,1.79,1.23,3.1,15.4,0.6,0.48,0.24,3497.56,287.8,202.54,526.26,504.15,412.69,1.52,"…",0.82,32.5,183.5,172.5,77.5,112.5,1465.56,31,1664.8,516.4,5242.5,5386.88,1044,297.49,386.08,6.81]
["1998M03","1998-03-01",true,"1998-03-01",{"$f":"INDEX(G468:BY468,$E$7)","v":2.23},{"$f":"INDEX(G468:BY468,$F$7)","v":3.44},13.12,13.08,11.53,14.76,31.88,26.74,2.23,2.61,3.44,41.82,1.72,3.48,1.81,2.23,2.34,2.08,2.29,578,992.5,682,949,671,605,265,652,184,"…","…",93.04,114.21,110.47,296,245,193.2,"…",129.85,138.91999999999999,1.03,0.45,0.41,1.79,1.25,3.04,15.46,0.61,0.48,0.22,3451.77,287.63,190.94,530.86,506.13,388.53,1.51,"…",0.74,32.5,183.5,172.5,84.5,112.5,1437.7,31,1747.98,559.79999999999995,5476.8,5395.8,1047.5999999999999,295.94,398.99,6.24]
["1998M04","1998-04-01",true,"1998-04-01",{"$f":"INDEX(G469:BY469,$E$7)","v":2.42},{"$f":"INDEX(G469:BY469,$F$7)","v":3.19},13.5,13.39,11.79,15.32,31.18,27.35,2.42,2.54,3.19,43.62,1.72,3.31,1.96,2.2000000000000002,2.2000000000000002,2.44,1.95,618,940,684,928,688,643,259,662,165,"…","…",91.85,107.12,103.9,311.5,259,196.75,"…",118.33,130.15,1.04,0.77,0.44,1.79,1.27,2.97,15.79,0.61,0.49,0.21,3493.49,287.67,166.49,534.24,505.98,372.14,1.45,"…",0.77,32.5,185,173.7,100,112.5,1418.16,31,1800.9,572.70000000000005,5714.8,5393.88,1097,308.29000000000002,413.75,6.34]
["1998M05","1998-05-01",true,"1998-05-01",{"$f":"INDEX(G470:BY470,$E$7)","v":2.14},{"$f":"INDEX(G470:BY470,$F$7)","v":3},14.03,14.39,12.79,14.9,30.28,27.63,2.14,2.5099999999999998,3,39.950000000000003,1.78,3.04,2,2.0299999999999998,2.21,2.31,1.56,723,930,685,900,705,776,247,671,162,"…","…",93.01,106.1,100.81,318.25,258.75,197,"…",112.29,128.91999999999999,1.1000000000000001,0.66,0.45,1.78,1.3,2.63,15.92,0.59,0.49,0.2,3391.41,285.85000000000002,146.68,520.84,472.69,362.69,1.42,"…",0.78,32.5,186.5,176.34,95,112.5,1364.72,31,1732.53,543.5,5874.7,5020,1061.0999999999999,299.10000000000002,388.9,5.58]
["1998M06","1998-06-01",true,"1998-06-01",{"$f":"INDEX(G471:BY471,$E$7)","v":2.17},{"$f":"INDEX(G471:BY471,$F$7)","v":3},12.48,12.06,11.67,13.71,30,27.33,2.17,2.5,3,40.270000000000003,1.72,2.75,1.82,1.91,2.04,2.13,1.56,652,989,675,891,633,700,242,629,159,"…","…",91.57,104.23,96.51,325.5,268.33,205.5,"…",107.18,120.64,1.1000000000000001,0.66,0.46,1.7,1.38,2.57,15.28,0.59,0.49,0.18,3329.61,274.49,137.41,515.71,451.42,348.59,1.52,"…",0.7,32.5,189.2,177.5,88.4,112.5,1307.24,31,1660.52,528.29999999999995,5970,4475.7,1009.8,292.32,355.43,5.26]
["1998M07","1998-07-01",true,"1998-07-01",{"$f":"INDEX(G472:BY472,$E$7)","v":2.17},{"$f":"INDEX(G472:BY472,$F$7)","v":2.84},12.7,12.01,11.98,14.11,30,26.55,2.17,2.4,2.84,39.68,1.72,2.59,1.7,1.98,1.98,2.2799999999999998,1.68,667,1034,660,874,661,694,238,612,157,"…","…",85.2,100.51,95.44,324.25,266.25,211,"…",96.78,118.9,1.02,0.46,0.54,1.67,1.48,2.4300000000000002,14.26,0.57999999999999996,0.5,0.19,3283.3,273.82,134.96,510.3,437.54,348.53,1.54,"…",0.7,32.5,190.5,177.5,86,112.5,1309.21,31,1651.04,546.20000000000005,5653.7,4325.43,1040.3,292.87,378.43,5.46]
["1998M08","1998-08-01",true,"1998-08-01",{"$f":"INDEX(G473:BY473,$E$7)","v":1.85},{"$f":"INDEX(G473:BY473,$F$7)","v":2.79},12.49,11.88,12.18,13.4,26.2,26.3,1.85,2.37,2.79,35.619999999999997,1.68,2.72,1.75,1.95,2.0299999999999998,2.13,1.7,667,1087.5,670,862,674,692,219,592,145,"…","…",73.2,87.86,91,321.39999999999998,274.8,228.8,"…",92.85,107.95,0.97,0.35,0.51,1.66,1.56,2.4500000000000002,13.78,0.57999999999999996,0.49,0.19,3237.58,275.22000000000003,136.94,512.91,455.57,335.25,1.5,"…",0.65,32.5,190.5,175,85.5,112.5,1310.9,31,1620.93,536.70000000000005,5691.5,4080.63,1029.8,284.11,369.18,5.18]
["1998M09","1998-09-01",true,"1998-09-01",{"$f":"INDEX(G474:BY474,$E$7)","v":2.0099999999999998},{"$f":"INDEX(G474:BY474,$F$7)","v":2.74},13.8,13.36,13.07,14.98,27.09,26.43,2.0099999999999998,2.33,2.74,37.340000000000003,1.69,2.4700000000000002,1.76,1.9,1.91,2.0299999999999998,1.75,652,965,681,852,703,697,216,615,145,"…","…",73.12,86.31,85.04,321.25,280,237,"…",96.34,107.93,1.08,0.35,0.5,1.64,1.57,2.66,13.12,0.6,0.48,0.16,3209.48,289.13,150.19,534.45000000000005,503.5,349.2,1.46,"…",0.68,32.5,190.5,172.5,83.63,112.5,1342.27,31,1647.64,520.20000000000005,5485.7,4102.16,1000,288.98,361.15,5]
["1998M10","1998-10-01",true,"1998-10-01",{"$f":"INDEX(G475:BY475,$E$7)","v":1.89},{"$f":"INDEX(G475:BY475,$F$7)","v":2.76},13.26,12.56,12.81,14.42,27.1,26.08,1.89,2.17,2.76,35.14,1.65,2.42,1.77,1.86,1.84,2,1.74,695,955,662,850,694,714,223,614,151,"…","…",74.739999999999995,95.53,87.7,298.75,271,251.75,"…",107.64,126.54,0.91,0.33,0.43,1.64,1.52,2.75,12.41,0.61,0.48,0.16,3269.39,300.27,162.94999999999999,555.04999999999995,510.49,379.23,1.36,"…",0.73,32.5,189.63,171.55,75.63,112.5,1304.06,31,1586.39,492.8,5432.1,3871.93,940.5,295.93,342.6,5.01]
["1998M11","1998-11-01",true,"1998-11-01",{"$f":"INDEX(G476:BY476,$E$7)","v":2.1},{"$f":"INDEX(G476:BY476,$F$7)","v":2.78},11.88,10.92,11.76,12.96,26.1,26.7,2.1,2.15,2.78,37.64,1.6,2.57,1.77,1.8,1.88,1.93,1.59,752,890,601,862,681,746,234,614,163,"…","…",79.260000000000005,98.12,92.21,270,250.67,231,"…",115.28,130.21,0.96,0.56000000000000005,0.43,1.66,1.48,2.63,12.02,0.61,0.48,0.18,3183.02,292.64999999999998,159.44999999999999,523.22,513.99,389.78,1.24,"…",0.72,32.5,186.7,167.5,70.7,112.5,1294.96,31,1573.95,494.2,5478.3,4131.91,967.1,294.12,347.18,4.97]
["1998M12","1998-12-01",true,"1998-12-01",{"$f":"INDEX(G477:BY477,$E$7)","v":1.74},{"$f":"INDEX(G477:BY477,$F$7)","v":2.72},10.41,9.8000000000000007,10.119999999999999,11.31,26.1,26.7,1.74,2.13,2.72,33.1,1.52,2.59,1.85,1.7,1.73,1.77,1.61,774,857,541,861,663,763,230,591,168,"…","…",78.39,95.76,90.2,277.75,251.5,232.75,"…",104.11,126.21,0.86,0.38,0.38,1.66,1.43,2.54,12.13,0.61,0.49,0.18,3103.56,294.64,163.46,517.85,534.97,416.59,1.23,"…",0.67,32.5,182.83,167.5,65.5,112.5,1249.06,31,1473.57,501.3,5257.6,3878.21,959.2,291.68,351.79,4.88]
["1999M01",{"$f":"EDATE(B477,1)","v":"1999-01-01"},true,"1999-01-01",{"$f":"INDEX(G478:BY478,$E$7)","v":1.86},{"$f":"INDEX(G478:BY478,$F$7)","v":2.77},11.44,11.06,10.78,12.49,26.1,26.5,1.86,2.02,2.77,34.07,1.46,2.4900000000000002,1.81,1.76,1.8,1.73,1.75,763,880,444.26,952.71,632,744,221,541.63,166.24,"…","…",77.709999999999994,97.44,91.13,299.75,258.75,233.5,"…",103.18,125.29,1.1100000000000001,0.49,0.42,1.71,1.39,2.5,12.13,0.6,0.49,0.18,3111.44,291.19,176.22,508.92,538.46,441.77,1.23,0.6,0.71,32.5,181.75,166.38,64.5,112.5,1218.46,27.59,1431.18,492.3,5109.8,4268.75,932.8,287.08,355.11,5.14]
["1999M02","1999-02-01",true,"1999-02-01",{"$f":"INDEX(G479:BY479,$E$7)","v":1.77},{"$f":"INDEX(G479:BY479,$F$7)","v":2.78},10.75,10.199999999999999,10.050000000000001,12.01,26.1,26.38,1.77,2.0099999999999998,2.78,32.93,1.41,2.33,1.75,1.66,1.54,1.66,1.77,745,857.5,426.97,889.57,561,709,205,482.36,159.25,"…","…",75.31,94.19,90.09,280,239.5,212,"…",94.96,117.03,1.07,0.45,0.4,1.79,1.35,2.46,12.02,0.6,0.49,0.15,3173,281.83999999999997,177.12,444.11,538.46,420.02,1.24,0.56000000000000005,0.69,41.13,181.63,163,64,112.5,1186.8499999999999,27.59,1410.78,513.70000000000005,5268.5,4626.38,1017.3,287.33,364.07,5.53]
["1999M03","1999-03-01",true,"1999-03-01",{"$f":"INDEX(G480:BY480,$E$7)","v":1.79},{"$f":"INDEX(G480:BY480,$F$7)","v":2.78},13.17,12.47,12.37,14.66,26.1,25.05,1.79,1.95,2.78,32.89,1.31,2.3199999999999998,1.62,1.61,1.47,1.47,1.89,700,837.83,407.39,752.45,497,661,205,444.36,162.63,"…","…",75.2,96.18,91.41,256.2,220.6,197.2,"…",100.24,117.34,1.1000000000000001,0.45,0.44,1.76,1.3,2.46,12.24,0.59,0.5,0.13,3058.83,273.74,172.52,431.34,555.94000000000005,417.44,1.25,0.52,0.64,44,181.75,163,75.5,112.5,1181.5899999999999,27.59,1378.35,507.8,5360.2,5011.3,1030,285.95999999999998,369.93,5.19]
["1999M04","1999-04-01",true,"1999-04-01",{"$f":"INDEX(G481:BY481,$E$7)","v":2.15},{"$f":"INDEX(G481:BY481,$F$7)","v":2.76},15.87,15.3,14.96,17.34,26.1,25.05,2.15,1.87,2.76,36.869999999999997,1.18,2.25,1.53,1.72,1.47,1.81,1.87,827,854.5,390.98,663.89,509,776,207,442.68,165.3,"…","…",79.73,94.13,89.53,235.5,204.5,184,"…",99.65,113.87,0.86,0.42,0.45,1.72,1.27,2.54,12.24,0.59,0.5,0.12,3006.36,269.25,175.18,424.28,559.44000000000005,434.04,1.27,0.52,0.59,44,180.5,163,64.5,112.5,1278.2,27.59,1466,519.29999999999995,5393,5102.63,1019,282.62,357.15,5.0599999999999996]
["1999M05","1999-05-01",true,"1999-05-01",{"$f":"INDEX(G482:BY482,$E$7)","v":2.25},{"$f":"INDEX(G482:BY482,$F$7)","v":2.88},16.059999999999999,15.14,15.3,17.75,26.1,25.05,2.25,1.89,2.88,38.26,1.07,2.4500000000000002,1.5,1.92,1.46,2.6,1.71,874,858.42,374.92,762.17,475,755,199,421.5,147.29,"…","…",81.53,92.49,87.19,244.25,207,184.25,"…",96.59,113,0.89,0.33,0.44,1.73,1.31,2.67,12.24,0.59,0.5,0.13,3041.54,251.31,176.52,429.66,580.41999999999996,425.69,1.32,0.55000000000000004,0.6,44,180.5,163,64.900000000000006,112.5,1323.46,27.59,1511.16,541.5,5649.2,5399.34,1040.3,276.44,356.01,5.26]
["1999M06","1999-06-01",true,"1999-06-01",{"$f":"INDEX(G483:BY483,$E$7)","v":2.2999999999999998},{"$f":"INDEX(G483:BY483,$F$7)","v":2.93},16.39,15.77,15.52,17.89,26.1,25.25,2.2999999999999998,1.91,2.93,38.99,1.1599999999999999,2.36,1.45,1.8,1.44,2.29,1.68,796,868.18,424.17,836.25,392,656,194,405.88,146.09,"…","…",80.540000000000006,93.65,85.98,253.8,223.2,200.2,"…",92.94,111.41,0.72,0.28999999999999998,0.48,1.72,1.34,2.68,12.35,0.57999999999999996,0.5,0.13,3041.54,245.21,183.55,419.23,608.39,430.1,1.29,0.55000000000000004,0.6,44,180.5,161.75,63.75,112.5,1315.31,27.59,1422.48,496.1,5265.9,5195,1000.5,261.31,356.78,5.03]
["1999M07","1999-07-01",true,"1999-07-01",{"$f":"INDEX(G484:BY484,$E$7)","v":2.31},{"$f":"INDEX(G484:BY484,$F$7)","v":2.99},18.989999999999998,19.010000000000002,17.88,20.07,26.1,23.78,2.31,2,2.99,39.58,1.1100000000000001,2.09,1.36,1.89,1.6,2.41,1.67,656,875.91,429.73,859.8,319,571,183,391.4,144.18,"…","…",76.86,83.99,76.88,259,231,216,"…",85.3,103.02,0.72,0.35,0.46,1.78,1.35,2.64,12.35,0.57999999999999996,0.5,0.12,3044.28,243.83,186.53,424.74,625.87,423.55,1.2,0.51,0.56999999999999995,44,177,153.88,62.75,112.5,1403.76,27.59,1640,495.8,5230,5700.11,1072.0999999999999,256.08,349.06,5.18]
["1999M08","1999-08-01",true,"1999-08-01",{"$f":"INDEX(G485:BY485,$E$7)","v":2.79},{"$f":"INDEX(G485:BY485,$F$7)","v":3.17},20.27,20.22,19.34,21.25,26.1,23.14,2.79,2.08,3.17,45.92,1,2.0099999999999998,1.39,1.82,1.68,2.12,1.66,684,820,407.3,849.78,354,689,199,412.37,160,"…","…",75.150000000000006,85.65,81.63,244.5,220.25,202.75,"…",92.78,111.3,0.76,0.35,0.49,1.92,1.33,2.69,12.35,0.59,0.47,0.13,3007.82,250.46,198.44,444.37,629.37,441.76,1.1200000000000001,0.54,0.56000000000000005,44,172.4,151.25,65.7,112.5,1431.32,27.59,1647.62,503.1,5230.2,6448.69,1130.5999999999999,256.69,350.06,5.26]
["1999M09","1999-09-01",true,"1999-09-01",{"$f":"INDEX(G486:BY486,$E$7)","v":2.54},{"$f":"INDEX(G486:BY486,$F$7)","v":3.35},22.7,22.4,21.84,23.86,26.1,22.5,2.54,2.2000000000000002,3.35,43.57,1.06,1.86,1.31,2.0099999999999998,1.84,2.21,1.98,704,826.82,395.19,848.78,388,710,207,413.93,176.55,"…","…",71.44,86.47,80.03,229.25,202.5,184.5,"…",102.06,113.19,0.76,0.35,0.47,1.87,1.34,2.68,11.9,0.59,0.44,0.15,3034.31,247.15,202.78,456.18,643.36,455.51,1.0900000000000001,0.6,0.54,44,164.38,147.5,67.5,112.5,1492.48,27.59,1750.34,507.3,5342.5,7028.41,1193.8,264.74,370.93,5.21]
["1999M10","1999-10-01",true,"1999-10-01",{"$f":"INDEX(G487:BY487,$E$7)","v":2.72},{"$f":"INDEX(G487:BY487,$F$7)","v":3.57},21.95,21.95,21.26,22.64,25.6,22.5,2.72,2.4700000000000002,3.57,47.19,1.02,2.08,1.29,2.06,1.87,2.31,2,690,854.76,379.2,888.15,381,684,203,399.53,187.62,"…","…",72.290000000000006,85.8,78.430000000000007,217,190.25,169.75,"…",98.67,108.1,0.77,0.33,0.52,1.85,1.29,2.72,12.13,0.61,0.43,0.15,2929.71,269.27999999999997,198.38,481.44,643.36,462.38,1.05,0.68,0.65,44,157,145.13,65.38,112.5,1474.41,27.59,1724.12,497.1,5430.7,7321.19,1148.7,310.72000000000003,421.14,5.41]
["1999M11","1999-11-01",true,"1999-11-01",{"$f":"INDEX(G488:BY488,$E$7)","v":2.36},{"$f":"INDEX(G488:BY488,$F$7)","v":3.73},24.16,24.59,23.05,24.85,25.1,23.5,2.36,2.5099999999999998,3.73,43.12,0.92,2.5,1.39,1.95,1.84,2.21,1.81,703,916.36,376.36,924.94,370,693,198,387.31,183.36,"…","…",73.14,85.43,79.37,228,199.2,172,"…",96.91,108.8,0.73,0.33,0.34,1.93,1.29,2.67,12.68,0.59,0.38,0.14000000000000001,2961.74,307.48,198.59,504.59,643.36,466.86,1.02,0.76,0.74,44,148.30000000000001,138,66,112.5,1472.76,27.59,1727.55,478.3,5842.1,7949.55,1147.2,293.18,434.02,5.15]
["1999M12","1999-12-01",true,"1999-12-01",{"$f":"INDEX(G489:BY489,$E$7)","v":2.36},{"$f":"INDEX(G489:BY489,$F$7)","v":3.94},25.1,25.59,23.63,26.08,25.1,22.58,2.36,2.66,3.94,43.97,0.92,2.74,1.47,1.86,1.78,1.98,1.83,703,913.33,438.08,765.61,354,681,199,374.67,183.5,"…","…",72.36,87.18,81,233.75,198.75,155.25,"…",92.06,102.16,0.73,0.35,0.34,1.94,1.29,2.61,13.56,0.59,0.39,0.13,3083.62,300.54000000000002,199.49,493.2,643.36,467.47,0.97,0.7,0.65,44,147.5,138,66.83,112.5,1554.48,27.59,1764.75,479.1,5721.3,8083.38,1183.8,283.07,439.13,5.16]
["2000M01","2000-01-01",true,"2000-01-01",{"$f":"INDEX(G490:BY490,$E$7)","v":2.42},{"$f":"INDEX(G490:BY490,$F$7)","v":4.1500000000000004},25.31,25.38,23.28,27.27,25.1,22.78,2.42,3.36,4.1500000000000004,48.17,0.92,2.4500000000000002,1.17,1.85,1.83,1.86,1.88,654,875,444.26,676.08,348,628,208,369.79,195.1,"…","…",73.13,93.29,89.34,241.4,201.6,158.19999999999999,"…",98.56,105.83,0.89,0.48,0.35,1.95,1.28,2.73,14,0.6,0.39,0.12,3038.81,301.32,193.08,509.93,643.36,456.44,1.05,0.71,0.64,44,147.19999999999999,138,77.400000000000006,112.5,1680.28,28.79,1843.98,472.1,5927.8,8309.5,1178.8,284.32,441,5.19]
["2000M02","2000-02-01",true,"2000-02-01",{"$f":"INDEX(G491:BY491,$E$7)","v":2.65},{"$f":"INDEX(G491:BY491,$F$7)","v":4.21},27.22,27.7,24.68,29.28,25.1,23.62,2.65,3.46,4.21,51.48,0.86,2.2799999999999998,1.08,1.81,1.81,1.52,2.11,591,880,426.97,687.63,332,580,214,357.94,203.33,"…","…",73.36,95.15,89.89,241,199,156.66999999999999,"…",100.06,107.93,0.92,0.57999999999999996,0.32,1.96,1.27,2.7,14.11,0.59,0.38,0.12,2985.46,292.31,184.11,494.69,643.36,439.12,1.18,0.73,0.74,44,144.5,138,90.13,112.5,1670.27,28.79,1800.83,452.4,5642.1,9653.33,1094.9000000000001,299.86,519.71,5.25]
["2000M03","2000-03-01",true,"2000-03-01",{"$f":"INDEX(G492:BY492,$E$7)","v":2.79},{"$f":"INDEX(G492:BY492,$F$7)","v":4.46},27.49,27.47,25.08,29.92,25.1,24.4,2.79,3.51,4.46,53.59,0.93,2.2200000000000002,1.02,1.75,1.82,1.37,2.06,552,880,407.39,733.28,349,556,221,363.49,204.74,"…","…",74.400000000000006,95.05,91.73,225.75,187.5,151.5,"…",97.19,105.7,0.86,0.48,0.3,1.98,1.26,2.7,14.44,0.57999999999999996,0.41,0.11,3030.14,286.74,190.87,499.96,636.36,448.84,1.26,0.66,0.68,44,143,138,88.75,112.5,1577.05,28.79,1739.39,441.3,5457.8,10280.11,1116.4000000000001,286.39,479.33,5.0599999999999996]
["2000M04","2000-04-01",true,"2000-04-01",{"$f":"INDEX(G493:BY493,$E$7)","v":3.03},{"$f":"INDEX(G493:BY493,$F$7)","v":4.6399999999999997},23.47,22.54,22.03,25.84,25.1,24.94,3.03,3.68,4.6399999999999997,57.43,0.91,2.09,0.98,1.79,1.81,1.53,2.0299999999999998,550,866.67,390.98,789.81,372,557,229,366.24,198.65,"…","…",76.95,95.2,90.58,214.75,179.75,148,"…",95.19,105.11,0.84,0.48,0.34,1.98,1.26,2.7,14.66,0.57999999999999996,0.43,0.13,3048.4,281.41000000000003,194.19,490.67,636.36,455.05,1.29,0.64,0.7,44,143,138,83.25,112.5,1457.14,28.79,1678.75,421.1,5384.4,9727.5,1127.5999999999999,279.69,497.55,5.0599999999999996]
["2000M05","2000-05-01",true,"2000-05-01",{"$f":"INDEX(G494:BY494,$E$7)","v":3.58},{"$f":"INDEX(G494:BY494,$F$7)","v":4.53},27.19,27.34,25.39,28.83,25.6,26.05,3.58,3.55,4.53,63.42,0.92,2.08,0.98,1.98,1.71,2.2000000000000002,2.0099999999999998,481,853.33,374.92,793.66,324,483,229,337.97,202.14,"…","…",78.260000000000005,96.35,95.02,198.6,168.8,143.6,"…",104.28,112.14,0.7,0.42,0.41,1.99,1.27,2.56,14.88,0.55000000000000004,0.42,0.15,2985.18,269.19,189.5,469.35,629.37,444.04,1.33,0.62,0.69,44,143,138,91,112.5,1466.79,28.79,1785.62,412.1,5451.2,10130.24,1156.9000000000001,275.19,525.89,4.9800000000000004]
["2000M06","2000-06-01",true,"2000-06-01",{"$f":"INDEX(G495:BY495,$E$7)","v":4.28},{"$f":"INDEX(G495:BY495,$F$7)","v":4.74},29.62,29.68,27.32,31.86,25.6,27,4.28,3.6,4.74,72.3,0.95,1.91,0.94,1.86,1.57,1.97,2.0499999999999998,437,837.27,424.17,783.14,315,436,211,330.17,198.5,"…","…",78.48,84.33,79.760000000000005,196,166.75,139.5,"…",99.28,113.51,0.62,0.39,0.43,1.93,1.3,2.57,14.66,0.55000000000000004,0.42,0.18,2969.94,282.14,194.18,506.4,629.37,450,1.31,0.6,0.67,44,142,138,105.13,112.5,1506.31,28.79,1753.18,419.6,5456.8,8410.91,1117.9000000000001,285.73,559.73,5]
["2000M07","2000-07-01",true,"2000-07-01",{"$f":"INDEX(G496:BY496,$E$7)","v":3.96},{"$f":"INDEX(G496:BY496,$F$7)","v":4.8600000000000003},28.18,28.53,26.03,29.97,25.6,27,3.96,3.96,4.8600000000000003,70.209999999999994,0.97,1.93,0.9,2.0499999999999998,1.67,2.36,2.11,400,860,429.73,771.62,312,401,197,339.3,190,"…","…",78.680000000000007,75.27,73.72,189,165.6,142.80000000000001,"…",91.17,108.98,0.64,0.31,0.4,1.9,1.32,2.58,14.77,0.55000000000000004,0.42,0.21,2934.73,279.3,191.07,501.31,604.9,443.83,1.29,0.57999999999999996,0.65,44,140.30000000000001,140.25,121.7,112.5,1563.5,28.79,1799.36,452.1,5343.8,8164.41,1136.2,281.58999999999997,560.29,4.97]
["2000M08","2000-08-01",true,"2000-08-01",{"$f":"INDEX(G497:BY497,$E$7)","v":4.41},{"$f":"INDEX(G497:BY497,$F$7)","v":4.84},29.26,29.43,27.05,31.31,25.6,27,4.41,4.01,4.84,75.89,0.89,1.7,0.84,1.95,1.76,2,2.1,371,864.55,407.3,754.36,306,366,198,328.92,190.26,"…","…",75.13,75.58,76.81,186.5,164.25,143.75,"…",90.87,108.36,0.62,0.33,0.39,1.89,1.33,2.58,14.11,0.55000000000000004,0.42,0.23,2970.09,278.19,191.08,506.45,604.9,443.86,1.34,0.61,0.66,44,148.63,142.5,133.38,112.5,1527.63,28.79,1855.86,473.1,5304.8,8006.71,1169.8,274.47000000000003,577.61,4.8899999999999997]
["2000M09","2000-09-01",true,"2000-09-01",{"$f":"INDEX(G498:BY498,$E$7)","v":5.0599999999999996},{"$f":"INDEX(G498:BY498,$F$7)","v":4.9000000000000004},32.08,32.619999999999997,29.74,33.89,27.15,27,5.0599999999999996,4.03,4.9000000000000004,83.92,0.88,1.67,0.86,1.96,1.88,1.9,2.11,332,880,395.19,760.59,288,326,209,312.49,206.52,"…","…",73.209999999999994,80.430000000000007,82.7,179,161,143.66999999999999,"…",97.88,117.49,0.57999999999999996,0.42,0.36,1.81,1.36,2.48,13.56,0.52,0.43,0.22,2938.45,259.19,193.57,471.86,541.96,459.01,1.36,0.6,0.66,44,157.5,142.5,113.88,112.5,1601.21,28.79,1960.41,487.1,5474.3,8637.98,1224.4000000000001,273.68,591.9,4.8899999999999997]
["2000M10","2000-10-01",true,"2000-10-01",{"$f":"INDEX(G499:BY499,$E$7)","v":5.0199999999999996},{"$f":"INDEX(G499:BY499,$F$7)","v":5.04},31.4,30.93,30.22,33.049999999999997,27.15,28.18,5.0199999999999996,4.3099999999999996,5.04,84.86,0.88,1.69,0.8,1.89,1.91,1.8,1.97,340,871.82,379.2,754.58,255,318,203,314.02,205.32,"…","…",76.150000000000006,85.03,89.92,187.5,163.25,136.75,"…",104.33,128.18,0.56000000000000005,0.38,0.38,1.82,1.36,2.54,13.01,0.53,0.48,0.24,2970.72,254.12,189.44,462.63,538.46,452,1.34,0.61,0.66,44,155.9,141.25,111.1,112.5,1500.24,28.79,1898.59,486.1,5282.3,7678.07,1095.9000000000001,270,579.72,4.83]
["2000M11","2000-11-01",true,"2000-11-01",{"$f":"INDEX(G500:BY500,$E$7)","v":5.55},{"$f":"INDEX(G500:BY500,$F$7)","v":5.13},32.33,32.520000000000003,30.1,34.369999999999997,27.15,26.17,5.55,4.3899999999999997,5.13,91.74,0.88,1.58,0.72,1.82,1.87,1.58,2.0099999999999998,367,899.52,376.36,769.61,257,354,206,316.77999999999997,214.64,"…","…",82.46,89.17,96.12,185,158,127.75,"…",103.21,127.73,0.61,0.37,0.36,1.97,1.36,2.59,13.01,0.52,0.48,0.22,2948.7,254.56,188.11,469.95,517.48,449.99,1.41,0.6,0.63,44,153.5,129,99.38,112.5,1473.86,28.79,1795.11,468,5269.5,7339.77,1059,266.01,593.34,4.68]
["2000M12","2000-12-01",true,"2000-12-01",{"$f":"INDEX(G501:BY501,$E$7)","v":8.9499999999999993},{"$f":"INDEX(G501:BY501,$F$7)","v":5.05},25.2,25.13,22.09,28.4,30.75,34.700000000000003,8.9499999999999993,4.4400000000000004,5.05,133.21,0.89,1.46,0.67,1.8,1.87,1.59,1.92,329,880,438.08,806.79,265,317,217,320.57,235.15,"…","…",86.6,97.56,100.45,184.25,158.25,129.5,"…",104.95,128.09,0.71,0.45,0.31,1.93,1.36,2.69,13.01,0.53,0.47,0.22,2893.94,266.63,180.16,485.41,510.49,436.7,1.45,0.6,0.62,44,153.5,129,96,112.5,1565.41,28.79,1850.55,462.3,5233.7,7314.34,1059.8,271.45,609.5,4.6399999999999997]
["2001M01","2001-01-01",true,"2001-01-01",{"$f":"INDEX(G502:BY502,$E$7)","v":8.17},{"$f":"INDEX(G502:BY502,$F$7)","v":4.88},25.96,25.64,22.69,29.55,32.1,34.950000000000003,8.17,4.6500000000000004,4.88,124.62,1,1.45,0.71,1.85,1.85,1.81,1.87,319,907.27,485.75,815.71,254,304,210,304.81,223.35,"…","…",85.75,95.15,101.08,184.4,158.19999999999999,134.19999999999999,"…",110.37,132.84,0.81,0.53,0.35,1.93,1.36,2.78,13.78,0.53,0.47,0.23,2909.81,278.89,171.87,507.72,496.5,427,1.41,0.6,0.61,44,154.5,129,121,112.5,1615.65,30.03,1787.5,478.1,5170.5,6994.77,1033.0999999999999,265.49,620.47,4.66]
["2001M02","2001-02-01",true,"2001-02-01",{"$f":"INDEX(G503:BY503,$E$7)","v":5.63},{"$f":"INDEX(G503:BY503,$F$7)","v":4.8},27.24,27.41,24.74,29.57,32.1,34.35,5.63,4.59,4.8,93.44,0.89,1.48,0.7,1.7,1.79,1.61,1.72,285,983.33,460.29,811.08,240,269,200,303.77999999999997,202.2,"…","…",82.31,91.97,97.69,184.5,156.25,134.25,"…",106.74,128.11000000000001,0.92,0.69,0.41,1.92,1.36,2.86,14,0.53,0.47,0.22,2975.29,274,173.43,492.13,500,439.51,1.33,0.56999999999999995,0.6,44,159,129,105.25,112.5,1604.36,30.03,1765.65,501.8,5121.8,6524.13,1020.9,261.87,600.91999999999996,4.5599999999999996]
["2001M03","2001-03-01",true,"2001-03-01",{"$f":"INDEX(G504:BY504,$E$7)","v":5.16},{"$f":"INDEX(G504:BY504,$F$7)","v":4.87},25.02,24.4,23.43,27.24,32.6,35.5,5.16,4.57,4.87,87.68,1.1200000000000001,1.47,0.67,1.58,1.76,1.3,1.67,289,954.76,431.31,780.64,254,278,195,327.63,205.27,"…","…",83.07,90.25,95.6,175,146.25,125.5,"…",103.49,130.19999999999999,1.01,0.54,0.55000000000000004,1.98,1.37,2.94,13.89,0.53,0.48,0.2,3032.72,268.45999999999998,166.15,481.85,500,421.06,1.2,0.52,0.56999999999999995,44,159.13,129,98.88,112.5,1509.17,30.03,1738.77,498.4,5046.3999999999996,6133.52,1004.7,263.02999999999997,584.23,4.4000000000000004]
["2001M04","2001-04-01",true,"2001-04-01",{"$f":"INDEX(G505:BY505,$E$7)","v":5.17},{"$f":"INDEX(G505:BY505,$F$7)","v":4.7300000000000004},25.72,25.64,24.09,27.42,33.5,35.53,5.17,4.4800000000000004,4.7300000000000004,87.28,1.08,1.46,0.63,1.6,1.65,1.7,1.44,293,950,419.93,744.85,251,281,186,326.01,198.19,"…","…",84.72,87.99,94.3,163.75,139,120.75,"…",101.09,129.66999999999999,0.91,0.55000000000000004,0.63,1.98,1.37,3,14.77,0.56000000000000005,0.47,0.19,3032.72,265.14,162.52000000000001,469.1,500,411.86,1.1299999999999999,0.51,0.57999999999999996,44,151.30000000000001,129,95.3,112.5,1496.91,30.03,1664.16,477.5,4949.2,6329.87,969.4,260.48,594.86,4.37]
["2001M05","2001-05-01",true,"2001-05-01",{"$f":"INDEX(G506:BY506,$E$7)","v":4.21},{"$f":"INDEX(G506:BY506,$F$7)","v":4.66},27.55,28.45,25.58,28.61,33.799999999999997,34.75,4.21,4.3600000000000003,4.66,75.010000000000005,1.08,1.53,0.65,1.59,1.49,1.83,1.46,295,949,407.18,727.53,234,292,184,295.17,196.96,"…","…",89.73,84.09,94.84,164.33,141.66999999999999,123,"…",102.55,134.86000000000001,0.75,0.64,0.73,2.0099999999999998,1.39,2.92,15.21,0.52,0.47,0.21,3060.66,259.8,165.05,452.99,482.52,410.07,1.1000000000000001,0.51,0.61,44,142,125.5,85,112.5,1538.77,30.03,1682.21,466.7,4945,7060.83,938,272.36,610.70000000000005,4.43]
["2001M06","2001-06-01",true,"2001-06-01",{"$f":"INDEX(G507:BY507,$E$7)","v":3.71},{"$f":"INDEX(G507:BY507,$F$7)","v":4.6900000000000004},26.97,27.72,25.61,27.56,33.9,34.75,3.71,4.33,4.6900000000000004,68.81,0.97,1.41,0.64,1.61,1.44,1.96,1.43,317,930,415.87,727.53,255,312,188,286.89,206.88,"…","…",95.06,83.31,89.54,168,148.5,129.75,"…",97.42,127.23,0.84,0.61,0.83,2.0499999999999998,1.4,2.81,14.22,0.51,0.46,0.2,3050.33,253.62,164.75,455.21,475.52,409.32,1.05,0.51,0.62,44,133.13,122.5,87.5,112.5,1466.13,30.03,1608.45,444.1,4828.3,6641.19,894.9,270.23,579.72,4.37]
["2001M07","2001-07-01",true,"2001-07-01",{"$f":"INDEX(G508:BY508,$E$7)","v":3.1},{"$f":"INDEX(G508:BY508,$F$7)","v":4.66},24.8,24.54,23.43,26.44,34,34.35,3.1,3.75,4.66,58.63,0.97,1.29,0.6,1.68,1.44,2.08,1.54,358,930,443.35,723.02,330,352,208,421.36,209.09,"…","…",101.98,91.73,94.47,169.4,152.4,137.19999999999999,"…",107.98,123.79,0.63,0.7,0.96,2.12,1.42,2.76,15.98,0.52,0.46,0.19,3065.2,255.79,159.29,459.12,465.03,393.1,1,0.5,0.6,44,135,123.75,87.5,112.5,1416.39,30.03,1525.21,461.6,4350.8999999999996,5937.05,852.4,267.52999999999997,530.84,4.25]
["2001M08","2001-08-01",true,"2001-08-01",{"$f":"INDEX(G509:BY509,$E$7)","v":2.95},{"$f":"INDEX(G509:BY509,$F$7)","v":4.54},25.82,25.7,24.32,27.45,33.799999999999997,34.15,2.95,3.79,4.54,56.92,1.03,1.32,0.56999999999999995,1.58,1.52,1.75,1.48,363,847.5,492.13,738.07,362,350,212,427.49,202.57,"…","…",99.39,93.14,95.13,168.25,153,140.75,"…",105.91,121.92,0.7,0.68,0.78,2.21,1.45,2.77,14.22,0.53,0.47,0.18,3047.8,267.62,158.99,480.34,475.52,402.94,0.96,0.53,0.59,44,135,125,88.75,112.5,1377.08,30.03,1464.43,483,3895.7,5520.8,828.1,272.39,451.7,4.22]
["2001M09","2001-09-01",true,"2001-09-01",{"$f":"INDEX(G510:BY510,$E$7)","v":2.15},{"$f":"INDEX(G510:BY510,$F$7)","v":4.54},25.21,25.54,23.96,26.12,32.799999999999997,33.06,2.15,3.79,4.54,47.2,1.02,1.28,0.54,1.53,1.58,1.61,1.39,322,807,498.98,749.57,310,316,202,385.09,204.25,"…","…",99.61,90.08,94.63,173,161,148.33000000000001,"…",107.57,122.03,0.73,0.56999999999999995,0.57999999999999996,2.36,1.47,2.99,13.01,0.53,0.47,0.17,3049.57,270.79000000000002,156.31,486.04,489.51,411.85,0.91,0.49,0.57999999999999996,44,135,124.38,94.5,112.5,1344.56,30.03,1426.33,464.8,3694.5,5027,798.6,283.42,457.9,4.3499999999999996]
["2001M10","2001-10-01",true,"2001-10-01",{"$f":"INDEX(G511:BY511,$E$7)","v":2.4500000000000002},{"$f":"INDEX(G511:BY511,$F$7)","v":4.59},20.73,20.48,19.54,22.18,32.4,33.03,2.4500000000000002,3.52,4.59,49.59,1.08,1.24,0.51,1.45,1.61,1.37,1.38,307,713.91,491.98,761.6,277,281.64999999999998,187,373.03,203.7,"…","…",101.79,86.56,94.96,170.6,158.19999999999999,146.19999999999999,"…",115.01,123.34,0.69,0.48,0.42,2.27,1.45,3.01,11.9,0.53,0.47,0.15,2992.43,269.26,149.63999999999999,469.48,461.54,404.02,0.82,0.48,0.54,44,135.9,124.38,96.1,112.5,1282.5,30.03,1377.28,468.1,3750.7,4825.33,761.5,283.06,431.39,4.4000000000000004]
["2001M11","2001-11-01",true,"2001-11-01",{"$f":"INDEX(G512:BY512,$E$7)","v":2.36},{"$f":"INDEX(G512:BY512,$F$7)","v":4.38},18.690000000000001,18.940000000000001,17.53,19.59,29.4,31.5,2.36,3.46,4.38,48.07,1.23,1.3,0.52,1.49,1.67,1.41,1.4,330,714.29,503.93,759.59,323,318.77,189,390.69,207.77,"…","…",100.97,89.54,94.69,173.5,159.25,135,"…",116.36,125.27,0.65,0.5,0.47,2.2799999999999998,1.42,3.03,11.68,0.53,0.47,0.17,2965.41,264.05,142.5,453.62,461.54,400.63,0.84,0.47,0.51,44,140.5,130,96.5,112.5,1327.46,30.03,1427.73,486.5,4041.8,5078.41,772.9,276.16000000000003,429.89,4.12]
["2001M12","2001-12-01",true,"2001-12-01",{"$f":"INDEX(G513:BY513,$E$7)","v":2.41},{"$f":"INDEX(G513:BY513,$F$7)","v":4.2699999999999996},18.52,18.600000000000001,17.64,19.309999999999999,27.35,30.45,2.41,3.4,4.2699999999999996,48.32,1.34,1.25,0.54,1.51,1.61,1.49,1.43,339,710,533.19000000000005,771.62,359.5,309.19,189,396.87,195.38,"…","…",102.86,91.88,95.87,179.33,163,134.33000000000001,"…",118.2,122.44,0.7,0.51,0.43,2.16,1.39,3.08,11.46,0.53,0.47,0.17,2873.44,265.20999999999998,138.13,455.61,468.53,386.33,0.95,0.48,0.49,44,141.66999999999999,131,101.17,112.5,1344.63,30.03,1471.74,483.3,4018.5,5263.82,754.7,275.85000000000002,461.73,4.37]
["2002M01","2002-01-01",true,"2002-01-01",{"$f":"INDEX(G514:BY514,$E$7)","v":2.25},{"$f":"INDEX(G514:BY514,$F$7)","v":4.21},19.149999999999999,19.489999999999998,18.29,19.690000000000001,27.35,29.7,2.25,3.06,4.21,44.72,1.39,1.28,0.5,1.47,1.66,1.29,1.46,362,685.91,587.55999999999995,684.39,373.8,328.57,188,389.18,206.39,"…","…",99.27,91.98,95.42,191.75,173.5,142.5,"…",121.68,125.31,0.75,0.43,0.44,2.21,1.39,3.12,11.79,0.52,0.47,0.17,2840.58,262.52,133.28,450.38,468.53,369.35,0.96,0.54,0.56999999999999995,44,146,131,104.13,112.5,1368.59,29.31,1503.96,513.1,3861.9,6043.18,793.2,281.51,472.11,4.51]
["2002M02","2002-02-01",true,"2002-02-01",{"$f":"INDEX(G515:BY515,$E$7)","v":2.31},{"$f":"INDEX(G515:BY515,$F$7)","v":4.12},19.98,20.29,18.91,20.72,28.1,28.95,2.31,3.03,4.12,45.25,1.49,1.3,0.54,1.45,1.7,1.1599999999999999,1.51,376,651,621.95000000000005,617.29,352.98,356,187,364.92,197.15,423.45,578,99.01,90.82,92.87,195.33,172.33,143.75,"…",113.38,123.28,0.87,0.52,0.45,2.23,1.39,3.11,11.9,0.52,0.46,0.14000000000000001,2785.51,220.54,134.58000000000001,443.71,486.01,366.99,0.94,0.57999999999999996,0.62,44,150.25,138,99.63,112.5,1369.34,29.31,1561.9,480,3730.8,6029.25,771.3,295.5,471.15,4.42]
["2002M03","2002-03-01",true,"2002-03-01",{"$f":"INDEX(G516:BY516,$E$7)","v":3.03},{"$f":"INDEX(G516:BY516,$F$7)","v":3.99},23.64,23.69,22.85,24.38,27.8,28.35,3.03,2.97,3.99,53.62,1.59,1.42,0.64,1.42,1.7,1.03,1.54,366,640,623.36,598.91999999999996,359,353.24,191,359.21,189.95,415.85,557,98.95,89.61,91.66,189,171.5,151.25,"…",116.62,122.54,0.91,0.56999999999999995,0.59,2.35,1.38,3.1,11.9,0.52,0.45,0.15,2756.25,221.06,143.81,446.64,486.01,373.49,0.93,0.68,0.67,44,149.75,138,90.25,112.5,1405,29.31,1604.88,480.2,3842.8,6537.5,819.3,294.06,512.04999999999995,4.54]
["2002M04","2002-04-01",true,"2002-04-01",{"$f":"INDEX(G517:BY517,$E$7)","v":3.42},{"$f":"INDEX(G517:BY517,$F$7)","v":3.96},25.43,25.65,24.41,26.24,27.09,26.83,3.42,2.81,3.96,57.57,1.57,1.44,0.65,1.48,1.6,1.35,1.49,411,631,642.16999999999996,590.24,360.07,405,195,370.86,185.59,410.77,552,95.82,87.13,88.9,190.2,171.6,148.4,"…",112.99,123.72,0.86,0.54,0.57999999999999996,2.25,1.38,3.15,11.24,0.53,0.43,0.15,2733.82,223.56,143.94,451.74,503.5,373.84,0.91,0.64,0.67,44,147.80000000000001,132,84.7,112.5,1369.99,29.31,1590.33,472.4,4023.6,6958.21,808.2,302.68,539.20000000000005,4.58]
["2002M05","2002-05-01",true,"2002-05-01",{"$f":"INDEX(G518:BY518,$E$7)","v":3.49},{"$f":"INDEX(G518:BY518,$F$7)","v":4.01},25.67,25.39,24.59,27.04,26.88,25.75,3.49,2.83,4.01,58.55,1.6,1.35,0.62,1.46,1.48,1.52,1.39,420,618.17999999999995,676.43,599.55999999999995,384.91,418.3,197,399.89,187.17,414.82,574,97.55,90.27,89.84,197.5,177,148,"…",110.91,121.46,0.84,0.63,0.64,2.12,1.4,3.18,11.02,0.53,0.44,0.13,2766.3,225.66,153.43,472.22,503.5,391.35,0.88,0.68,0.7,44,143.88,136.1,85.5,112.5,1343.3,29.31,1595.68,451.9,4149.8,6761.36,769.5,314.49,533.85,4.7]
["2002M06","2002-06-01",true,"2002-06-01",{"$f":"INDEX(G519:BY519,$E$7)","v":3.22},{"$f":"INDEX(G519:BY519,$F$7)","v":4.0599999999999996},24.49,24.13,23.83,25.51,24.9,24.38,3.22,2.9,4.0599999999999996,55.64,1.66,1.29,0.63,1.54,1.43,1.74,1.45,446,700.56,674.16,645.95000000000005,426.13,439,200,456.81,187.35,451.04,595,104.11,94.09,88.74,202.67,182.33,149,"…",115.44,132.03,0.66,0.65,0.64,2.06,1.41,3.24,10.14,0.54,0.44,0.13,2775.45,236.97,163.55000000000001,496.64,524.48,404.54,0.96,0.83,0.84,44,149.5,128.88,92.75,112.5,1353.97,29.31,1647.53,440,4286.1000000000004,7119.86,767.1,321.18,554.70000000000005,4.9000000000000004]
["2002M07","2002-07-01",true,"2002-07-01",{"$f":"INDEX(G520:BY520,$E$7)","v":2.98},{"$f":"INDEX(G520:BY520,$F$7)","v":4.5599999999999996},25.75,25.77,24.57,26.92,23.15,22.73,2.98,2.95,4.5599999999999996,53.3,1.87,1.25,0.63,1.58,1.39,1.86,1.48,445,728.7,657.82,704.52,422.22,432.61,218,489.63,190.96,477.29,"…",114.23,98.69,100.81,199.6,181,152.4,"…",123.5,149.31,0.65,0.54,0.65,2.13,1.42,3.39,10.029999999999999,0.56999999999999995,0.46,0.14000000000000001,2770.95,242.61,178.82,515.86,541.96,431.96,1.03,0.81,0.83,44,160.5,127.38,94.2,112.5,1338.09,29.31,1589.46,446.1,4331.3,7142.72,794.9,313.29000000000002,526.20000000000005,4.92]
["2002M08","2002-08-01",true,"2002-08-01",{"$f":"INDEX(G521:BY521,$E$7)","v":3.09},{"$f":"INDEX(G521:BY521,$F$7)","v":4.3499999999999996},26.78,26.63,25.32,28.37,22.25,21.25,3.09,3.01,4.3499999999999996,54.78,1.96,1.2,0.61,1.52,1.5,1.56,1.5,443,730.95,649.12,758.59,446.09,433.36,227,502.75,189.82,521.14,610,120.99,108.93,113.78,190.33,175,148.33000000000001,"…",130.05000000000001,161.26,0.79,0.42,0.64,2.1,1.41,3.37,9.26,0.56000000000000005,0.46,0.14000000000000001,2722.29,236.83,181.94,508.42,559.44000000000005,432.75,1.0900000000000001,0.83,0.86,44,162.5,133.30000000000001,105,112.5,1291.5999999999999,29.31,1479.55,423.2,3834,6717.14,747.6,310.26,544.84,4.54]
["2002M09","2002-09-01",true,"2002-09-01",{"$f":"INDEX(G522:BY522,$E$7)","v":3.57},{"$f":"INDEX(G522:BY522,$F$7)","v":4.46},28.28,28.34,26.83,29.67,22.7,23.08,3.57,3.08,4.46,61.02,2.16,1.34,0.71,1.58,1.61,1.56,1.56,410,742.86,646.16,794.71,424.76,414.57,236,505.67,202.1,525.01,"…",119.75,114.14,117.01,186.6,172.2,148.80000000000001,"…",151.84,187.84,0.68,0.49,0.63,2.04,1.41,3.44,9.15,0.56999999999999995,0.47,0.15,2670.53,235.65,181.95,509.92,566.42999999999995,427.45,1.08,0.9,0.89,44,160.9,135.5,93,112.5,1301.25,29.31,1478.71,421.3,3957.4,6640.24,756.2,319.14,556.33000000000004,4.55]
["2002M10","2002-10-01",{"$f":"B523>$C$8","v":true},{"$f":"IF(C523,B523,NA())","v":"2002-10-01"},{"$f":"INDEX(G523:BY523,$E$7)","v":4.12},{"$f":"INDEX(G523:BY523,$F$7)","v":4.54},27.53,27.55,26.18,28.85,24.5,27.35,4.12,3.28,4.54,68.7,2.2000000000000002,1.45,0.73,1.58,1.61,1.57,1.55,434,778.46,637.64,816.19,427.24,423.09,229,528.57000000000005,201.83,539.30999999999995,"…",120.61,109.7,113.56,186.25,174,157.25,"…",156.82,190.32,0.68,0.54,0.61,1.9,1.39,3.47,9.48,0.56999999999999995,0.48,0.17,2687.8,237.33,179.88,505.12,566.42999999999995,415.78,1.0900000000000001,0.83,0.83,44,156.25,133.1,92.25,112.5,1310.58,29.31,1483.76,418.2,4241.5,6804.46,754.7,316.56,580.20000000000005,4.4000000000000004]
["2002M11","2002-11-01",true,"2002-11-01",{"$f":"INDEX(G524:BY524,$E$7)","v":4.04},{"$f":"INDEX(G524:BY524,$F$7)","v":4.5599999999999996},24.54,24.18,23.16,26.28,24.5,26.98,4.04,3.34,4.5599999999999996,68.03,1.81,1.54,0.84,1.52,1.54,1.52,1.52,457,826.67,626.9,870.83,465.02,456.48,243,582,205.71,593.04,"…",120.13,108.93,115.05,186.75,175.25,158.25,"…",160.02000000000001,177.38,0.65,0.4,0.48,1.91,1.36,3.51,9.48,0.57999999999999996,0.49,0.17,2706.18,243.72,183.47,515.88,552.45000000000005,424.07,1.1499999999999999,0.84,0.84,44,151.5,132,92.25,112.5,1372.2,29.31,1582.29,442.2,4230,7313.93,765.3,319.07,588.1,4.51]
["2002M12","2002-12-01",true,"2002-12-01",{"$f":"INDEX(G525:BY525,$E$7)","v":4.74},{"$f":"INDEX(G525:BY525,$F$7)","v":4.5599999999999996},27.89,28.52,25.7,29.44,24.5,26.94,4.74,3.36,4.5599999999999996,76.62,2.0299999999999998,1.41,0.84,1.48,1.53,1.43,1.47,482,945.88,622.73,952,488.52,489.95,241,591.03,204.43,616.49,"…",117.19,106.96,113.26,186.5,174,154.25,"…",146.24,162.47999999999999,0.75,0.63,0.43,2.0099999999999998,1.36,3.57,9.26,0.57999999999999996,0.49,0.18,2718.02,245.86,182.22,519.61,563,421.19,1.22,0.85,0.85,44,147.5,131.5,99.38,112.5,1375.07,29.31,1595.68,443.6,4236.8,7193.16,797.7,331.92,595.44000000000005,4.63]
["2003M01","2003-01-01",true,"2003-01-01",{"$f":"INDEX(G526:BY526,$E$7)","v":5.41},{"$f":"INDEX(G526:BY526,$F$7)","v":4.6900000000000004},30.75,31.25,28.05,32.950000000000003,24.9,27.46,5.41,3.61,4.6900000000000004,85.98,2.1800000000000002,1.45,0.91,1.52,1.59,1.45,1.51,494,960,639.75,970.03,486.11,491.65,244,540.72,206.2,623.72,612,113.7,106.14,110.78,200.75,185.25,152,"…",137.53,149.61000000000001,0.89,0.56000000000000005,0.55000000000000004,2.04,1.37,3.6,9.59,0.59,0.49,0.18,2655.74,260.18,187.78,536.29,552.45000000000005,421.39,1.25,0.9,0.91,44,149.75,128.6,112,112.5,1378.28,31.95,1647.66,444.66,4435.68,8026.02,781.41,356.86,627.91,4.8099999999999996]
["2003M02","2003-02-01",true,"2003-02-01",{"$f":"INDEX(G527:BY527,$E$7)","v":7.77},{"$f":"INDEX(G527:BY527,$F$7)","v":4.8},32.880000000000003,32.65,30.2,35.799999999999997,25.15,27,7.77,3.67,4.8,115.1,2.2799999999999998,1.46,0.9,1.47,1.49,1.5,1.43,477,977,629.46,1016.45,476.95,472.75,243,522.42999999999995,214.05,585.76,595,114.15,105.85,109.21,198.75,182,150.25,"…",140.77000000000001,150.84,0.99,0.46,0.51,1.99,1.39,3.58,10.14,0.59,0.49,0.2,2651.2,263.93,186.81,544.02,548.95000000000005,419.21,1.29,0.94,0.99,44,155.25,136,132.13,112.5,1422.16,31.95,1683.8,475.83,4570.75,8623,785.15,358.97,681.7,4.66]
["2003M03","2003-03-01",true,"2003-03-01",{"$f":"INDEX(G528:BY528,$E$7)","v":5.95},{"$f":"INDEX(G528:BY528,$F$7)","v":4.78},30.36,30.34,27.42,33.32,24.4,25.75,5.95,3.74,4.78,93.23,1.95,1.36,0.82,1.39,1.47,1.21,1.51,441,1022.38,620.42999999999995,1039.32,453.55,429.14,241,522.52,213.19,551.91999999999996,565,113.65,105.6,106.79,197,180.25,147,"…",129.36000000000001,141.81,1.01,0.49,0.63,2.02,1.41,3.52,10.14,0.57999999999999996,0.49,0.18,2660.52,264.7,184.18,545.6,559.44000000000005,421.81,1.35,0.95,1.06,44,177.2,143.75,138.9,112.5,1389.27,31.95,1658.98,456.67,4604.5200000000004,8378.81,790.95,340.55,674.33,4.53]
["2003M04","2003-04-01",true,"2003-04-01",{"$f":"INDEX(G529:BY529,$E$7)","v":5.29},{"$f":"INDEX(G529:BY529,$F$7)","v":4.78},25.56,25.02,23.43,28.22,23.45,23.83,5.29,4.03,4.78,86.63,1.92,1.43,0.82,1.44,1.43,1.39,1.5,421,1050,601.91999999999996,1064.23,443.02,395.23,251,540.9,217.55,557.22,578,114.59,105.46,106.81,195,178.6,141.4,"…",125.8,138.62,0.89,0.38,0.67,1.97,1.4,3.5,11.46,0.57999999999999996,0.48,0.17,2617.64,265.72000000000003,180,542.29,559.44000000000005,417.4,1.34,0.88,1,44,181.5,145,118.63,112.5,1332.01,31.95,1587.48,437.38,4565.75,7910.13,754.65,328.18,624.91,4.49]
["2003M05","2003-05-01",true,"2003-05-01",{"$f":"INDEX(G530:BY530,$E$7)","v":5.84},{"$f":"INDEX(G530:BY530,$F$7)","v":4.74},26.06,25.81,24.25,28.13,23.3,23.65,5.84,4.04,4.74,93.31,1.74,1.46,0.83,1.46,1.44,1.42,1.52,440,1050,630.09,1147.4100000000001,453.82,409.23,250,549.24,222.05,607.16999999999996,595,115.5,107.49,104.96,198,180.75,142.5,"…",129.15,141.96,0.89,0.3,0.68,1.88,1.42,3.74,11.9,0.59,0.48,0.16,2589.7399999999998,283.39999999999998,183.88,578.36,552.45000000000005,426.39,1.28,0.84,1,44,178.44,146,128.13,112.5,1398.49,31.95,1648.28,463.5,4736.75,8330.6299999999992,775.65,355.68,650.36,4.74]
["2003M06","2003-06-01",true,"2003-06-01",{"$f":"INDEX(G531:BY531,$E$7)","v":5.77},{"$f":"INDEX(G531:BY531,$F$7)","v":4.7699999999999996},27.92,27.55,25.5,30.71,24.1,26.75,5.77,4.05,4.7699999999999996,92.58,1.57,1.35,0.75,1.49,1.43,1.54,1.5,459,1037.6199999999999,657.21,1234.5899999999999,466.21,435.14,239,545.85,219,612.27,609,111.48,107.33,97.58,203.4,186.2,151.19999999999999,"…",126.28,131.35,0.69,0.31,0.72,1.87,1.45,4.03,12.02,0.61,0.48,0.15,2589.77,285.7,182.34,572.08000000000004,552.45000000000005,422.82,1.29,0.84,1.03,44,171.3,148.25,133.9,112.5,1409.85,31.95,1686.5,468.02,4694.76,8874.76,790.69,356.35,661.67,4.53]
["2003M07","2003-07-01",true,"2003-07-01",{"$f":"INDEX(G532:BY532,$E$7)","v":5.01},{"$f":"INDEX(G532:BY532,$F$7)","v":4.75},28.59,28.4,26.63,30.75,24.35,29.5,5.01,4.04,4.75,83.2,1.56,1.39,0.78,1.63,1.49,1.84,1.55,439,1023.18,643.65,1261.43,457.72,414.65,230,531.41,210.98,582.55999999999995,575,96.62,96.81,89.77,198.5,182.25,150.25,"…",128.94999999999999,131.62,0.63,0.3,0.75,1.91,1.49,3.94,12.02,0.59,0.47,0.15,2625.1,278.58999999999997,181.67,556.94000000000005,552.45000000000005,421.26,1.33,0.88,1,44,176.38,150.9,142.75,112.5,1436.09,31.95,1710,514.78,4739.3500000000004,8797.39,827.54,351.02,681.52,4.8]
["2003M08","2003-08-01",true,"2003-08-01",{"$f":"INDEX(G533:BY533,$E$7)","v":4.97},{"$f":"INDEX(G533:BY533,$F$7)","v":4.67},29.68,29.83,27.62,31.58,25.33,30.19,4.97,3.98,4.67,82.45,1.55,1.41,0.8,1.53,1.55,1.49,1.55,421,1020,622.78,1299.68,439.36,401.48,237,515.69000000000005,212.6,553.48,543,88.07,100.66,104.09,195,178.5,150,"…",144.16999999999999,148.72,0.49,0.28999999999999998,0.79,2.11,1.51,3.92,11.49,0.57999999999999996,0.47,0.15,2674.65,272.82,181.46,534.5,559.44000000000005,420.78,1.33,0.95,1.05,44,175.63,150,141.5,112.5,1456.31,31.95,1760.28,496.53,4822.5,9351.3799999999992,817.88,359.77,692.19,4.99]
["2003M09","2003-09-01",true,"2003-09-01",{"$f":"INDEX(G534:BY534,$E$7)","v":4.6100000000000003},{"$f":"INDEX(G534:BY534,$F$7)","v":4.7},26.88,27.1,25.27,28.28,26.7,34.14,4.6100000000000003,3.97,4.7,78.069999999999993,1.64,1.46,0.82,1.53,1.61,1.4,1.58,431,1014.55,627.48,1329.79,440.91,429.27,264,558.02,229.82,564.09,545,90.63,104.08,109.13,197.6,180,154.6,"…",138.36000000000001,145.62,0.72,0.31,0.78,2.27,1.53,3.98,10.62,0.59,0.47,0.13,2687.01,274.81,187.19,532.79,545.45000000000005,434.07,1.41,1.0900000000000001,1.1100000000000001,44,171.3,153.63,146.80000000000001,112.5,1415.57,31.95,1789.52,521.27,4911.59,9965.34,818.18,378.95,705.25,5.17]
["2003M10","2003-10-01",true,"2003-10-01",{"$f":"INDEX(G535:BY535,$E$7)","v":4.6399999999999997},{"$f":"INDEX(G535:BY535,$F$7)","v":4.62},29.01,29.59,27.13,30.32,27.5,36.69,4.6399999999999997,3.88,4.62,77.87,1.48,1.42,0.79,1.6,1.68,1.45,1.67,487,920,650.95000000000005,1359.2,515.07000000000005,500.7,310,608.26,277.04000000000002,615.82000000000005,615,95.7,105.39,108.27,195.75,181.5,157,"…",142.82,147.46,0.69,0.33,0.84,2.33,1.51,4.16,10.210000000000001,0.61,0.46,0.13,2685.64,292.29000000000002,196.77,549.51,545.45000000000005,456.29,1.6,1.29,1.3,44,166.38,164,150.63,112.5,1474.25,31.95,1920.54,587.33000000000004,5236.74,11047.17,897.96,378.92,732.48,5]
["2003M11","2003-11-01",true,"2003-11-01",{"$f":"INDEX(G536:BY536,$E$7)","v":4.53},{"$f":"INDEX(G536:BY536,$F$7)","v":4.72},29.12,28.77,27.5,31.09,29.91,39.19,4.53,3.9,4.72,76.72,1.51,1.37,0.75,1.56,1.67,1.4,1.62,515,931.5,675.99,1388.91,548,521.75,327,630.62,292.89999999999998,620.32000000000005,628,101.64,108.48,114.23,193.4,179.8,158.4,"…",160.94,160.55000000000001,0.75,0.41,0.66,2.59,1.51,4.22,10,0.61,0.46,0.13,2642.11,298.33,197.46,549.86,545.45000000000005,457.89,1.7,1.26,1.28,44,169.38,163,153.5,112.5,1508.34,31.95,2055.4299999999998,622.33000000000004,5362.75,12086.5,914.53,389.91,760.38,5.18]
["2003M12","2003-12-01",true,"2003-12-01",{"$f":"INDEX(G537:BY537,$E$7)","v":6.13},{"$f":"INDEX(G537:BY537,$F$7)","v":4.75},29.97,29.93,27.86,32.119999999999997,34,38.69,6.13,3.97,4.75,96.49,1.63,1.43,0.79,1.57,1.63,1.48,1.59,583,960,684.33,1402.33,539.72,583.48,332,637.36,276.3,648.66999999999996,660,101.15,111.16,116.8,198.25,185.5,163,197,158.77000000000001,165.57,0.84,0.37,0.57999999999999996,2.5499999999999998,1.52,4.42,9.74,0.64,0.45,0.14000000000000001,2674.11,313.36,196.44,577.32000000000005,538.46,463.24,1.62,1.24,1.26,44,187.5,162.88,159.38,112.5,1554.91,31.95,2201.29,692.07,6057.62,14162.5,977.76,406.95,807.87,5.63]
["2004M01","2004-01-01",true,"2004-01-01",{"$f":"INDEX(G538:BY538,$E$7)","v":6.09},{"$f":"INDEX(G538:BY538,$F$7)","v":4.75},31.37,31.18,28.68,34.24,37.75,41.25,6.09,3.87,4.75,95.63,1.63,1.6,0.88,1.54,1.64,1.35,1.63,584,992.38,682,1433,527.23,569.45000000000005,350,656.97,293.45,675.49,689,98.55,115.52,121.67,212.75,198,171,198.82,155.88999999999999,166.33,0.94,0.43,0.72,2.54,1.53,4.3899999999999997,10.199999999999999,0.67,0.45,0.13,2768.31,315.3,199.06,592.77,538.46,469.43,1.67,1.21,1.24,44,204.25,171.63,160.25,112.5,1606.49,37.9,2423.5700000000002,758.38,6485,15326.55,1017,413.79,849.93,6.3]
["2004M02","2004-02-01",true,"2004-02-01",{"$f":"INDEX(G539:BY539,$E$7)","v":5.38},{"$f":"INDEX(G539:BY539,$F$7)","v":4.8099999999999996},31.33,30.87,28.4,34.729999999999997,41.75,42.25,5.38,3.89,4.8099999999999996,87.08,1.57,1.68,0.82,1.56,1.66,1.38,1.65,642,1000,685,1433,564.13,614,368,682.08,298.85000000000002,704.51,731,95.57,123.54,126.19,213.25,200,181.75,204.07,157.49,161.38999999999999,0.97,0.5,0.83,2.39,1.58,4.7300000000000004,10.31,0.68,0.46,0.13,2779.65,325.61,199,594.32000000000005,552.45000000000005,469.27,1.63,1.25,1.28,44,211.5,177.13,134.5,112.5,1685.63,37.9,2759.53,888.48,6672.75,15145.13,1087.68,404.88,846.32,6.44]
["2004M03","2004-03-01",true,"2004-03-01",{"$f":"INDEX(G540:BY540,$E$7)","v":5.4},{"$f":"INDEX(G540:BY540,$F$7)","v":4.88},33.67,33.799999999999997,30.46,36.729999999999997,48.94,42.5,5.4,3.86,4.88,87.19,1.5,1.72,0.81,1.51,1.72,1.23,1.59,685,980.43,663,1356.32,583.52,678.7,413,689.43,329.09,687.6,712,103.03,127.85,130.16999999999999,237.8,225.6,207.4,225.8,156.51,166.28,1.06,0.51,0.93,2.34,1.61,4.63,10.52,0.67,0.47,0.14000000000000001,2773.99,315.72000000000003,195.2,539.48,552.45000000000005,460.31,1.59,1.27,1.33,44,205.3,177.5,130.5,112.5,1655.99,37.9,3008.72,886.48,7619.78,13715,1105.78,406.67,899.76,7.23]
["2004M04","2004-04-01",true,"2004-04-01",{"$f":"INDEX(G541:BY541,$E$7)","v":5.72},{"$f":"INDEX(G541:BY541,$F$7)","v":4.91},33.71,33.36,31.07,36.71,53.25,47.25,5.72,3.92,4.91,91.38,1.44,1.66,0.8,1.67,1.72,1.76,1.54,736,970,652,1322.77,575.04999999999995,737.05,358,672.46,332,644.98,696,112.53,133.5,128.6,240.75,229.25,215,240.71,157.24,166.58,0.88,0.53,0.86,2.4300000000000002,1.65,4.57,10.69,0.66,0.46,0.15,2765.33,308.72000000000003,197.96,527.37,552.45000000000005,466.82,1.53,1.27,1.37,44,199.38,177.5,128.38,112.5,1729.74,37.9,2948.73,753.68,8955.75,12848.13,1032.73,403.26,880.64,7.15]
["2004M05",{"$f":"EDATE(B541,1)","v":"2004-05-01"},true,"2004-05-01",{"$f":"INDEX(G542:BY542,$E$7)","v":6.34},{"$f":"INDEX(G542:BY542,$F$7)","v":4.91},37.56,37.92,34.47,40.29,56.44,52.56,6.34,3.95,4.91,99.04,1.42,1.7,0.81,1.67,1.72,1.77,1.52,716,982,643,1322.77,537.16999999999996,724.29,316,627.96,294.29000000000002,700.61,684,111.56,128.22,118.55,232,222,212.8,236.14,148.31,163.72999999999999,0.92,0.56000000000000005,0.87,2.68,1.69,4.49,10.6,0.65,0.46,0.14000000000000001,2769.73,319.41000000000003,188.43,563.94000000000005,587.41,444.36,1.54,1.24,1.35,44,191.1,177.5,135.9,112.5,1623.22,37.9,2733.5,808.9,9459.4699999999993,11118.29,1028.29,383.78,809.83,5.87]
["2004M06","2004-06-01",true,"2004-06-01",{"$f":"INDEX(G543:BY543,$E$7)","v":6.27},{"$f":"INDEX(G543:BY543,$F$7)","v":5.04},35.54,35.19,33.409999999999997,38.03,59.55,62.55,6.27,4.01,5.04,98.64,1.4,1.81,0.88,1.67,1.53,1.98,1.51,658,1017.27,645,1264.6500000000001,471.2,639.45000000000005,295,581.74,254.23,699.96,632,114.05,123.32,115.85,229,219.75,212.5,230.74,137.21,154.74,0.85,0.6,0.92,2.76,1.76,4.55,10.4,0.67,0.44,0.15,2768.78,323.17,198.62,570.47,590.91,456.76,1.42,1.2,1.37,44,190.63,177.5,158.25,112.5,1677.72,37.9,2686.71,870.32,9204.77,13533.52,1021.46,392.37,807.55,5.86]
["2004M07","2004-07-01",true,"2004-07-01",{"$f":"INDEX(G544:BY544,$E$7)","v":5.93},{"$f":"INDEX(G544:BY544,$F$7)","v":5.07},37.89,38.369999999999997,34.479999999999997,40.82,61.38,68.5,5.93,4.28,5.07,95.78,1.56,1.65,0.79,1.71,1.63,1.98,1.53,669,1039.0899999999999,638,1247.1099999999999,454.77,637.73,279,605.08000000000004,227.55,650.91999999999996,624,103.97,104.85,96.73,230.75,221,210,228.96,131.63,150.6,0.72,0.6,0.99,2.81,1.78,4.59,10.5,0.67,0.45,0.17,2732.03,326.55,200.45,588.70000000000005,594.41,457.19,1.26,1.1499999999999999,1.28,44,201.5,191.5,185,112.5,1709.27,37.9,2808.43,939.59,9044.32,15023.3,988.32,398.09,809.52,6.31]
["2004M08","2004-08-01",true,"2004-08-01",{"$f":"INDEX(G545:BY545,$E$7)","v":5.4},{"$f":"INDEX(G545:BY545,$F$7)","v":5.16},42.08,43.03,38.299999999999997,44.92,59.25,63.63,5.4,4.34,5.16,89.65,1.73,1.62,0.75,1.77,1.82,1.93,1.57,627,1001.36,624,1234.5899999999999,458.14,640.67999999999995,265,604.65,217.41,667.68,632,87.77,104.05,103.07,239,228.2,212.4,232.72,129.13,141.29,0.6,0.55000000000000004,0.94,2.92,1.77,4.53,9.7899999999999991,0.67,0.44,0.17,2723.65,331.8,198.65,584.39,594.41,453.08,1.19,1.1399999999999999,1.23,44,208.1,195,196.2,125.9,1692.19,37.9,2846.1,921.81,9021.91,13679.52,975.81,400.51,848.68,6.66]
["2004M09","2004-09-01",true,"2004-09-01",{"$f":"INDEX(G546:BY546,$E$7)","v":5.14},{"$f":"INDEX(G546:BY546,$F$7)","v":5.43},41.6,43.38,35.479999999999997,45.93,55.38,61,5.14,4.41,5.43,87.05,1.55,1.77,0.75,1.8,1.89,1.89,1.64,657,1000,625,1213.5899999999999,468.09,669.09,260,601.6,220.55,657.92,657,85.37,97.87,99.67,235.25,224.5,206.25,224.17,138.19,151.03,0.8,0.54,0.9,2.93,1.72,4.51,9.41,0.66,0.45,0.17,2675.17,339.29,199.27,610.86,594.41,454.51,1.24,1.1499999999999999,1.24,44,208.5,195,218.13,143.5,1723.6,37.9,2894.86,935.46,9019.5499999999993,13270.91,975.18,405.28,847.89,6.4]
["2004M10","2004-10-01",true,"2004-10-01",{"$f":"INDEX(G547:BY547,$E$7)","v":6.41},{"$f":"INDEX(G547:BY547,$F$7)","v":5.55},46.88,49.82,37.58,53.25,56.63,59.69,6.41,4.83,5.55,104.58,1.48,1.78,0.7,1.79,2,1.87,1.51,642,960,629,1212.54,451.26,657.05,249,583.49,214.86,668.92,701,87.89,93.79,93.78,244,230.25,201.25,222.15,141.44,150.15,0.77,0.5,0.92,2.79,1.68,4.58,9.41,0.66,0.47,0.19,2705.79,346.97,197.96,624.35,601.4,459.04,1.1599999999999999,1.21,1.27,44,211.75,195,242.13,146,1819.57,37.9,3012.24,932.76,9045.24,14404.29,1064.95,420.46,841.43,7.1]
["2004M11","2004-11-01",true,"2004-11-01",{"$f":"INDEX(G548:BY548,$E$7)","v":6.09},{"$f":"INDEX(G548:BY548,$F$7)","v":5.45},42.13,43.05,34.880000000000003,48.45,52.83,60.75,6.09,4.96,5.45,101.19,1.66,1.99,0.72,1.78,2.04,1.86,1.45,659,956.36,643,1225.57,454.61,664.91,260,561.19000000000005,214.36,684.68,727,95.53,93.75,92.35,259.2,244.8,211.6,233.07,140.82,156.57,1.0900000000000001,0.49,0.72,2.77,1.65,4.71,9.7899999999999991,0.68,0.45,0.18,2711.83,360.91,202.13,610.5,608.39,476.66,1.08,1.22,1.23,44,213.8,198.5,224.5,151.19999999999999,1813.9,37.9,3122.8,967.8,9070.4599999999991,14045.46,1095.6400000000001,439.38,854.41,7.49]
["2004M12","2004-12-01",true,"2004-12-01",{"$f":"INDEX(G549:BY549,$E$7)","v":6.58},{"$f":"INDEX(G549:BY549,$F$7)","v":5.57},39.04,39.64,34.26,43.23,52.25,54.29,6.58,5.01,5.57,107.51,1.66,2.2999999999999998,0.81,1.73,2.0099999999999998,1.67,1.51,654,958.82,654,1233.6300000000001,446.2,657,265,552.05999999999995,222,709.72,724,92.04,95.39,90.69,278.25,261.75,219.75,238.51,139.46,153.87,1.1000000000000001,0.5,0.69,2.71,1.62,4.8899999999999997,9.81,0.71,0.45,0.18,2708.32,362.21,190.35,629.65,608.39,510.42,1.07,1.19,1.18,44,211.13,202,185.25,152.5,1849.18,37.9,3145.45,974.91,8553.81,13768.81,1180.21,442.08,848.24,7.09]
["2005M01","2005-01-01",true,"2005-01-01",{"$f":"INDEX(G550:BY550,$E$7)","v":6.15},{"$f":"INDEX(G550:BY550,$F$7)","v":5.42},42.97,44.28,37.81,46.82,53.05,51.42,6.15,5.46,5.42,104.37,1.55,2.36,0.81,1.62,1.95,1.39,1.51,646,945.5,711.45,1234.5899999999999,418.86,641.19000000000005,261.5,519.98,231.81,683.88,699,90.71,96.25,89.98,287,268.60000000000002,226.2,255.32,142.47,153.59,1.1499999999999999,0.59,0.64,2.69,1.62,4.76,9.8000000000000007,0.69,0.45,0.19,2695.58,353.97,191.43,603.42999999999995,636.36,513.33000000000004,1.1299999999999999,1.19,1.18,44,208.6,202,184.6,152.5,1834.43,65,3170,953.15,7735.75,14505,1246.3800000000001,424.03,859.07,6.62]
["2005M02","2005-02-01",true,"2005-02-01",{"$f":"INDEX(G551:BY551,$E$7)","v":6.14},{"$f":"INDEX(G551:BY551,$F$7)","v":5.58},44.82,45.56,40.94,47.96,49.9,46.63,6.14,5.49,5.58,104.5,1.63,2.66,0.91,1.59,1.91,1.38,1.48,646,912,714.58,1234.5899999999999,422.63,649.4,261,495.73,236.9,647.24,695,87.38,94.14,92.29,290,270.5,231.75,265.64,141.62,151.16999999999999,1.31,0.89,0.74,2.7,1.63,4.79,9.6999999999999993,0.69,0.45,0.2,2734.03,351.44,191.02,598.57000000000005,636.36,514.87,1.1599999999999999,1.22,1.26,44,207.13,202,185.75,152.5,1882.85,65,3253.7,977.55,8088.75,15349.5,1326.18,423.35,864.32,7.03]
["2005M03","2005-03-01",true,"2005-03-01",{"$f":"INDEX(G552:BY552,$E$7)","v":6.97},{"$f":"INDEX(G552:BY552,$F$7)","v":5.59},50.94,53.08,45.58,54.17,50.93,45.3,6.97,5.52,5.59,114.64,1.76,2.98,1.0900000000000001,1.59,1.94,1.34,1.49,710,907.39,691.63,1234.5899999999999,458.13,722.61,290,543.69000000000005,254.65,663.64,714,94.17,99.88,96.43,292.75,272.5,230,262.92,152.16,150.99,1.39,0.79,1.1100000000000001,2.75,1.63,4.8,9.6999999999999993,0.7,0.45,0.2,2769.41,355.88,193.65,593.49,646.85,517.51,1.24,1.22,1.32,44,210.63,202,217.13,152.5,1979.85,65,3379.49,1004,8407.39,16190.65,1372.15,433.85,866.83,7.23]
["2005M04","2005-04-01",true,"2005-04-01",{"$f":"INDEX(G553:BY553,$E$7)","v":7.15},{"$f":"INDEX(G553:BY553,$F$7)","v":5.67},50.64,51.86,47.1,52.96,51.25,46.25,7.15,5.86,5.67,118.56,1.59,2.86,1.1200000000000001,1.73,1.89,1.83,1.47,679,900,680.16,1223.04,457.86,684.33,283,545.88,242.86,651.70000000000005,695,93.33,96.28,93.01,297.25,276.25,225.5,259.93,132.13999999999999,140.88,1.33,0.59,1.17,2.74,1.63,4.72,9.6199999999999992,0.69,0.47,0.19,2787.21,323.49,194.15,569.25,643.36,507.64,1.26,1.21,1.31,44,214.75,202,242.13,152.5,1894.29,65,3394.48,985.76,8143.81,16141.91,1300.1400000000001,429.23,864.86,7.12]
["2005M05","2005-05-01",true,"2005-05-01",{"$f":"INDEX(G554:BY554,$E$7)","v":6.47},{"$f":"INDEX(G554:BY554,$F$7)","v":5.74},47.83,48.67,45,49.81,51.31,45.88,6.47,5.89,5.74,110.45,1.51,2.83,1.24,1.61,1.76,1.65,1.41,647,888.57,670.77,1212.54,450,648.09,283,537.98,234.32,652.57000000000005,700,88.89,95.42,96.23,293.8,272.60000000000002,220.4,256.14999999999998,133.13,143.33000000000001,1.47,0.62,1.1000000000000001,2.77,1.64,4.54,9.48,0.68,0.48,0.19,2795.6,342.45,202.52,571.13,657.34,519.12,1.23,1.21,1.36,44,217.2,201.63,256,152.5,1743.7,65,3249.1,988.08,8125,16931.5,1243.6300000000001,421.87,866.23,7.02]
["2005M06","2005-06-01",true,"2005-06-01",{"$f":"INDEX(G555:BY555,$E$7)","v":7.19},{"$f":"INDEX(G555:BY555,$F$7)","v":5.68},53.89,54.31,50.98,56.39,51,49.13,7.19,5.91,5.68,119.21,1.54,2.67,1.32,1.64,1.65,1.89,1.39,638.75,870,672.86,1198.51,451.7,644,306,560.15,241.45,642.01,706,93.44,97.1,97.07,285,262.5,210.75,241.49,131.06,141.93,1.23,0.49,0.93,2.78,1.64,4.3899999999999997,9.59,0.67,0.48,0.2,2817.64,328.28,203.12,547.39,657.34,510.9,1.19,1.27,1.46,44,224.25,201.5,217.5,152.5,1731.3,65,3524.07,986.07,7618.86,16159.55,1275.73,430.66,880.09,7.31]
["2005M07","2005-07-01",true,"2005-07-01",{"$f":"INDEX(G556:BY556,$E$7)","v":7.63},{"$f":"INDEX(G556:BY556,$F$7)","v":6.03},56.37,57.58,52.85,58.67,50.9,51.31,7.63,6.42,6.03,127.21,1.49,2.42,1.28,1.69,1.64,1.98,1.45,606,848.57,665.55,1178.95,454.52,614.52,298,561.26,244.52,645.33000000000004,708,96.81,107.52,105.6,276.75,256.5,207.25,237.29,130.85,143.87,0.91,0.4,0.75,2.81,1.65,4.2300000000000004,9.91,0.64,0.48,0.21,2791.86,328.29,205.53,541.30999999999995,657.34,495.96,1.21,1.45,1.69,44,228.25,201.25,221.88,152.5,1778.79,65,3614.21,854.48,7169.29,14580.71,1194.43,424.48,873.67,7.01]
["2005M08","2005-08-01",true,"2005-08-01",{"$f":"INDEX(G557:BY557,$E$7)","v":9.6300000000000008},{"$f":"INDEX(G557:BY557,$F$7)","v":6.2},61.89,64.09,56.63,64.959999999999994,49.13,49.5,9.6300000000000008,6.56,6.2,152.32,1.48,2.39,1.1499999999999999,1.65,1.76,1.71,1.5,550,816.36,650.95000000000005,1165.0999999999999,448.48,555.22,274,550.08000000000004,238,654.16999999999996,682,98,101.67,100.09,282.8,261.39999999999998,212.8,255.65,131.77000000000001,149.36000000000001,1,0.4,0.76,2.76,1.65,4.33,9.6300000000000008,0.66,0.45,0.22,2746.68,334.96,211.94,553.14,664.34,510.29,1.19,1.44,1.6,44,231.5,201.38,208.5,152.5,1867.84,65,3797.75,887.02,7188.86,14892.73,1298.3900000000001,437.93,898.43,7.03]
["2005M09","2005-09-01",true,"2005-09-01",{"$f":"INDEX(G558:BY558,$E$7)","v":12.88},{"$f":"INDEX(G558:BY558,$F$7)","v":6.39},61.69,62.98,56.54,65.540000000000006,45.25,46.63,12.88,6.58,6.39,191.96,1.5,2.19,1.03,1.66,1.89,1.57,1.52,559,806.36,651.99,1168.45,453.64,576.14,263,545.16,233.77,687.82,683,97.89,96.35,97.37,285.25,264.25,215.5,257,128.24,159.71,1.1000000000000001,0.59,0.75,2.75,1.66,4.32,9.64,0.66,0.47,0.23,2760.73,330.92,216.8,545.30999999999995,671.33,513.25,1.21,1.59,1.7,44,240.75,201,210.38,152.5,1839.91,65,3857.84,933.07,6783.86,14228.18,1397.52,456.05,914.64,7.15]
["2005M10","2005-10-01",true,"2005-10-01",{"$f":"INDEX(G559:BY559,$E$7)","v":13.52},{"$f":"INDEX(G559:BY559,$F$7)","v":6.48},58.19,58.52,53.67,62.36,42.46,43.25,13.52,7.28,6.48,203.21,1.46,2.3199999999999998,1.05,1.69,1.96,1.57,1.54,587,862.38,656.17,1129.08,467.5,623.33000000000004,257,578.62,224.67,734.38,646,98.53,101.94,97.39,286.39999999999998,265.2,217.4,269.36,135.26,167.83,1.06,0.63,0.82,2.7,1.64,4.2,9.85,0.64,0.48,0.25,2770.56,324.41000000000003,211.27,534.63,671.33,496.44,1.28,1.63,1.7,44,246.38,201,215.5,152.5,1928.71,65,4059.76,1004.76,6422.86,12402.86,1488.38,469.9,931,7.67]
["2005M11","2005-11-01",true,"2005-11-01",{"$f":"INDEX(G560:BY560,$E$7)","v":10.43},{"$f":"INDEX(G560:BY560,$F$7)","v":6.61},55.04,55.54,51.31,58.28,38.06,38.08,10.43,7.46,6.61,166.61,1.44,2.38,1.1299999999999999,1.65,1.88,1.6,1.47,582,850,670.77,1036.17,466.7,620.23,255.75,558.92999999999995,222.05,727.47,598,98.76,95.37,92.57,277.75,257.25,209.5,272,132.35,161.12,1.0900000000000001,0.59,0.88,2.7,1.6,4.0999999999999996,9.75,0.63,0.48,0.25,2860.43,318.20999999999998,205.47,524.41999999999996,685.31,498.28,1.25,1.58,1.6,44,246.13,201,235,167.5,2050.59,65,4269.34,1018.41,6160,12115.68,1610.93,476.67,962.61,7.87]
["2005M12","2005-12-01",true,"2005-12-01",{"$f":"INDEX(G561:BY561,$E$7)","v":12.83},{"$f":"INDEX(G561:BY561,$F$7)","v":6.49},56.43,56.75,53.13,59.41,38.229999999999997,41,12.83,7.49,6.49,195.77,1.51,2.33,1.24,1.65,1.89,1.54,1.51,553,883.53,682.25,1036.17,456.75,590.79999999999995,264,537.66,236.14,711.64,602,103.01,102.14,96.56,280.5,257,206.75,"…",137.59,164.44,1.02,0.65,0.85,2.65,1.57,4.0999999999999996,9.81,0.64,0.48,0.28999999999999998,2946.09,320.12,210.52,527.57000000000005,685.31,505.74,1.25,1.63,1.68,44,245.88,201,213.88,167.5,2247.4499999999998,65,4576.78,1124.08,6713.5,13429.25,1821.83,510.1,976.59,8.6300000000000008]
["2006M01","2006-01-01",true,"2006-01-01",{"$f":"INDEX(G562:BY562,$E$7)","v":8.66},{"$f":"INDEX(G562:BY562,$F$7)","v":6.53},62.46,63.57,58.31,65.48,43.19,44.66,8.66,7.96,6.53,147.44,1.57,2.74,1.4,1.7,1.89,1.51,1.68,569,853.33,655.12,1029.1600000000001,459.05,606.02,257,535.83000000000004,231.14,728.91,591,103.6,102.65,100.64,291.25,266.25,211,263.86,144.16,167.16,0.95,0.69,0.85,2.62,1.54,4.0199999999999996,9.76,0.65,0.52,0.35,2917.21,323.76,221,586.95000000000005,713.29,519.70000000000005,1.29,1.76,1.88,44,244.3,201,202.3,167.5,2377.86,67.2,4734.33,1256.33,7051.43,14555.24,2090.31,549.86,1026.05,9.14]
["2006M02","2006-02-01",true,"2006-02-01",{"$f":"INDEX(G563:BY563,$E$7)","v":7.49},{"$f":"INDEX(G563:BY563,$F$7)","v":7.04},59.7,59.92,57.58,61.62,47.7,49.4,7.49,7.95,7.04,133.49,1.55,2.63,1.39,1.92,1.95,1.46,2.35,591,848,668.42,993.18,473.9,621.13,257,533.27,229.6,716.23,595,101.13,107.13,106.07,301.5,274.75,216.75,264.29000000000002,149.25,179.84,1,0.85,0.82,2.65,1.53,3.98,9.81,0.64,0.53,0.4,2895.37,316.37,222.54,578.99,713.29,530.17999999999995,1.32,1.93,2.06,44,238.13,201,213.88,167.5,2455.33,65.2,4982.3999999999996,1277.05,7826.25,14978.75,2219.38,555,1041.5,9.5299999999999994]
["2006M03","2006-03-01",true,"2006-03-01",{"$f":"INDEX(G564:BY564,$E$7)","v":6.9},{"$f":"INDEX(G564:BY564,$F$7)","v":6.88},60.93,62.25,57.65,62.89,49.75,54.5,6.9,7.99,6.88,126.42,1.55,2.5099999999999998,1.31,1.75,1.94,1.34,1.96,575,808.26,681.2,961.89,472.52,590,257,540.6,217.78,738.57,606,100.38,105.25,103.66,303.5,274.5,216.5,244.86,142.66,174.44,1,0.83,0.81,2.62,1.51,3.88,9.81,0.64,0.51,0.38,2828.38,306.51,225.16,582.94000000000005,713.29,537.03,1.27,1.91,2.0699999999999998,44,233.63,200.6,243.13,167.5,2429.13,66.7,5102.8500000000004,1192.0899999999999,7939.57,14897.39,2416.91,557.09,1041.0899999999999,10.38]
["2006M04","2006-04-01",true,"2006-04-01",{"$f":"INDEX(G565:BY565,$E$7)","v":7.09},{"$f":"INDEX(G565:BY565,$F$7)","v":6.93},67.97,70.44,64.06,69.41,52.88,54.88,7.09,8.24,6.93,130.01,1.55,2.54,1.33,1.9,1.89,1.85,1.96,578,753,683.03,936.96,475.9,573.75,258,540.44000000000005,209.6,773.72,659,102.12,107.72,109.35,302.25,271.5,218.5,244.25,140.82,180.35,0.97,0.73,0.8,2.6,1.49,3.93,9.91,0.65,0.52,0.39,2824.88,312.91000000000003,229.39,588.5,720.28,545.54999999999995,1.24,1.94,2.14,44,231.75,200.5,247.5,167.5,2621.11,67.3,6387.78,1170.42,8853.06,17942.22,3084.78,610.65,1098.75,12.61]
["2006M05","2006-05-01",true,"2006-05-01",{"$f":"INDEX(G566:BY566,$E$7)","v":6.2},{"$f":"INDEX(G566:BY566,$F$7)","v":6.92},68.680000000000007,70.19,64.91,70.930000000000007,52.6,50.4,6.2,8.2799999999999994,6.92,119.32,1.6,2.41,1.32,1.89,1.75,1.85,2.0699999999999998,583,780,722.93,936.96,483.72,558.26,266,588.29,212.83,828.42,679,107.48,110.65,113.76,308,276,219.4,256.23,150.91999999999999,193.17,1.05,0.93,0.8,2.62,1.5,4.2,10.34,0.68,0.52,0.37,2831.11,325.62,244.17,643.20000000000005,759.9,576.63,1.2,2.15,2.4500000000000002,44,232.9,200.5,229.5,167.5,2861.48,67.3,8045.86,1166.8599999999999,8837.3799999999992,21077.14,3565.69,675.39,1260.83,13.38]
["2006M06","2006-06-01",true,"2006-06-01",{"$f":"INDEX(G567:BY567,$E$7)","v":6.19},{"$f":"INDEX(G567:BY567,$F$7)","v":7.1},68.290000000000006,68.86,65.08,70.930000000000007,52.38,52.38,6.19,8.2899999999999991,7.1,119.43,1.61,2.27,1.33,1.98,1.74,2.0699999999999998,2.13,575,795.91,733.36,957.01,478.16,534.77,267,600.54999999999995,215.91,829.91,666,106.88,109.4,111.88,312.5,280.5,216.5,259.43,140.13999999999999,195.16,0.95,0.65,0.67,2.57,1.52,4.1900000000000004,10.49,0.67,0.51,0.34,2854.88,309.93,238.46,621.57000000000005,749.27,611.16999999999996,1.22,2.35,2.7,44,232.38,200.5,210,167.5,2477.34,69.3,7197.61,963.86,7896.36,20754.55,3225.68,596.15,1188.55,10.8]
["2006M07","2006-07-01",true,"2006-07-01",{"$f":"INDEX(G568:BY568,$E$7)","v":6.25},{"$f":"INDEX(G568:BY568,$F$7)","v":6.86},72.45,73.900000000000006,69.05,74.400000000000006,52.75,51.68,6.25,8.58,6.86,121.33,1.68,2.31,1.42,2,1.83,2.0299999999999998,2.15,583.25,851.43,759.44,990.51,499.21,555.71,271.75,630.01,215.38,820.58,647,112.1,113.99,119.99,315.39999999999998,286.60000000000002,218.6,257.43,143.85,202.43,0.75,0.56000000000000005,0.73,2.62,1.54,4.1399999999999997,10.45,0.63,0.49,0.35,2955.27,312.33999999999997,236.12,621.88,749.62,635.41999999999996,1.22,2.31,2.48,44,230.3,202,205.5,172.5,2512.71,70.5,7712.1,1052.3800000000001,8418.57,26586.19,3339.86,633.71,1228.83,11.23]
["2006M08","2006-08-01",true,"2006-08-01",{"$f":"INDEX(G569:BY569,$E$7)","v":7},{"$f":"INDEX(G569:BY569,$F$7)","v":7.23},71.81,73.61,68.78,73.040000000000006,50.94,53.59,7,8.7100000000000009,7.23,131.25,1.62,2.46,1.62,1.95,1.9,1.88,2.09,606,880,777.18,1041.92,534.26,566.85,262,632.17999999999995,222.65,809.12,666,114.53,116.59,114.44,312.67,284.33,220,263.63,148.36000000000001,189.91,0.76,0.54,0.83,2.66,1.55,4.12,9.65,0.64,0.47,0.3,3038.08,317.07,240.03,637.41999999999996,769.3,638.59,1.32,2.14,2.1800000000000002,44,228.25,202,210.5,192.5,2459.9299999999998,69.8,7695.66,1174.1400000000001,8502.0499999999993,30743.64,3347.3,632.59,1233.52,12.19]
["2006M09","2006-09-01",true,"2006-09-01",{"$f":"INDEX(G570:BY570,$E$7)","v":4.8600000000000003},{"$f":"INDEX(G570:BY570,$F$7)","v":7.65},62.12,62.77,59.77,63.82,47.1,48.75,4.8600000000000003,8.77,7.65,105.92,1.57,2.42,1.7,1.91,2,1.86,1.87,609,913.48,802.21,1079.22,511.24,543.57000000000005,258,602.35,232.05,785.73,669,115.44,121.75,119.55,309.2,282.8,224.4,267.70999999999998,166.89,195.98,0.8,0.54,0.88,2.68,1.56,4,9.1199999999999992,0.63,0.47,0.27,3119.58,314.99,246.47,639.5,766.66,640.98,1.3,1.81,1.81,44,225.13,202,215.13,192.5,2472.88,70,7602.36,1342.38,9039.2900000000009,30130.71,3403.02,598.19000000000005,1183.5999999999999,11.68]
["2006M10","2006-10-01",true,"2006-10-01",{"$f":"INDEX(G571:BY571,$E$7)","v":5.96},{"$f":"INDEX(G571:BY571,$F$7)","v":7.2},57.91,58.38,56.5,58.85,44.05,49.21,5.96,8.9700000000000006,7.2,119.93,1.53,2.44,1.66,1.85,1.98,1.84,1.74,626,937.39,859.59,1102.31,514.17999999999995,557.61,273,614.71,243.98,784.4,666,136.6,142.16999999999999,138.22999999999999,301,274.75,223.5,283.20999999999998,197.77,212.09,0.79,0.55000000000000004,1.04,2.69,1.54,3.98,8.68,0.63,0.45,0.26,3152.8,316.85000000000002,245.32,642.02,762.07,632.07000000000005,1.26,1.79,1.82,44,218.5,202,209.2,192.5,2654.59,71.7,7500.39,1531.14,9768.18,32702.959999999999,3822.96,585.78,1082.45,11.56]
["2006M11","2006-11-01",true,"2006-11-01",{"$f":"INDEX(G572:BY572,$E$7)","v":7.45},{"$f":"INDEX(G572:BY572,$F$7)","v":7.21},58.14,58.48,56.82,59.13,46,48.2,7.45,8.99,7.21,138.13999999999999,1.58,2.7,1.69,1.79,1.93,1.71,1.72,656,1044.52,848.83,1102.31,571.57000000000005,594.42999999999995,300,675.67,248.32,822.39,722,148.15,164.54,167.09,296.25,273.25,220.75,"…",192.94,209.68,0.86,0.6,0.93,2.77,1.52,3.95,8.6,0.64,0.44,0.26,3149.23,328.47,256.02,656.75,776.99,639.13,1.27,1.62,1.62,44,219.38,202,227.38,192.5,2702.8,73.5,7029.18,1624.52,10079.09,32113.86,4382.2299999999996,627.83000000000004,1183,12.93]
["2006M12","2006-12-01",true,"2006-12-01",{"$f":"INDEX(G573:BY573,$E$7)","v":6.58},{"$f":"INDEX(G573:BY573,$F$7)","v":7.35},60.99,62.31,58.67,62,49.75,50.69,6.58,8.92,7.35,127.27,1.71,2.83,1.69,1.83,2.12,1.65,1.71,731.67,1037.83,872.91,1102.31,625.88,640.71,297,698.12,249.1,854.31,730,150.97,160.38,170.61,305,280.25,228.25,"…",189.85,204.31,0.89,0.66,0.79,2.7,1.53,4.0599999999999996,8.64,0.66,0.43,0.26,3063.55,336.93,268.45999999999998,674.66,798.18,640.30999999999995,1.31,1.65,1.73,44,223.83,205.5,251.67,192.5,2813.63,73.5,6675.11,1725.5,11158.68,34570.26,4405.3999999999996,629.79,1121.19,13.28]
["2007M01","2007-01-01",true,"2007-01-01",{"$f":"INDEX(G574:BY574,$E$7)","v":6.58},{"$f":"INDEX(G574:BY574,$F$7)","v":7.11},53.52,54.3,52.01,54.24,51.29,50.14,6.58,8.59,7.11,125.61,1.7,2.75,1.74,1.79,2.09,1.57,1.7,731,1050,908.36,1071.6400000000001,637.59,649.13,306,697.33,263.87,823.02,719,152.13,164.77,175.05,313,286.60000000000002,243.8,"…",175.98,196.07,0.99,0.64,0.8,2.69,1.57,3.98,8.76,0.65,0.44,0.24,3095.78,358.74,262.27,721.83,796.35,622,1.3,1.94,2.08,44,249.2,207.5,265,192.5,2809.34,78.2,5669.66,1666.09,11361.82,36811.14,3786.68,631.16999999999996,1146.6500000000001,12.84]
["2007M02","2007-02-01",true,"2007-02-01",{"$f":"INDEX(G575:BY575,$E$7)","v":7.97},{"$f":"INDEX(G575:BY575,$F$7)","v":6.89},57.56,57.76,55.68,59.25,52.9,51.64,7.97,8.56,6.89,142.16999999999999,1.82,2.69,1.74,1.78,2.2799999999999998,1.41,1.65,763,1050,916.75,1016.33,645.20000000000005,676.75,325,715.04,283.45,790.39,709,151.03,177.35,180.64,315,291.75,257.5,303,176.46,199.98,1.07,0.65,0.84,2.71,1.63,3.94,8.82,0.65,0.46,0.23,3182.84,375.22,262.56,720.93,795.36,622.67999999999995,1.28,2.12,2.2799999999999998,44,317.63,215,299.38,192.5,2832.2,82.66,5676.45,1779.6,12933.25,41184.25,3309.5,664.75,1204.55,13.91]
["2007M03","2007-03-01",true,"2007-03-01",{"$f":"INDEX(G576:BY576,$E$7)","v":7.12},{"$f":"INDEX(G576:BY576,$F$7)","v":6.86},60.6,62.14,59.05,60.6,55.38,53.48,7.12,8.3699999999999992,6.86,130.94,1.92,2.58,1.7,1.77,2.42,1.27,1.63,769,1050,936.76,1055.21,660.93,701.14,322,719.03,279.08999999999997,771.51,713,157.06,170.51,169.96,318.67,299.33,262.33,304.93,168.54,199.1,1.06,0.65,0.81,2.69,1.68,3.9,9.0299999999999994,0.66,0.46,0.23,3298.14,380.05,269.66000000000003,717.4,791.45,643.78,1.29,2.0499999999999998,2.23,44,387,254.5,318.13,192.5,2761.73,88.55,6452.48,1914.05,13892.96,46324.77,3271.3,654.9,1218.77,13.18]
["2007M04","2007-04-01",true,"2007-04-01",{"$f":"INDEX(G577:BY577,$E$7)","v":7.59},{"$f":"INDEX(G577:BY577,$F$7)","v":7.09},65.06,67.400000000000006,63.84,63.94,56.12,51.36,7.59,8,7.09,134.97,1.98,2.5299999999999998,1.75,1.98,2.34,2.0099999999999998,1.59,827.5,1050,978.16,1078.17,743.45,797.26,319.75,753.7,264.76,808.43,755,157.12,152.75,149.52000000000001,316.5,296,258.5,302.25,175.27,198.31,1.1200000000000001,0.65,0.86,2.69,1.72,4,9.42,0.67,0.46,0.21,3361.26,387.91,266.04000000000002,733.13,808.81,635.15,1.26,2.17,2.3199999999999998,44,404.6,300,291,192.5,2814.79,91.26,7766.47,2000.95,14052.9,50266.84,3557.47,679.37,1275.81,13.72]
["2007M05","2007-05-01",true,"2007-05-01",{"$f":"INDEX(G578:BY578,$E$7)","v":7.61},{"$f":"INDEX(G578:BY578,$F$7)","v":7.22},65.16,67.48,64.540000000000006,63.45,56,50.25,7.61,7.98,7.22,135.28,2,2.5,1.85,1.94,2.2799999999999998,2,1.55,894,1080.56,1200.17,1169.4100000000001,816.09,866.85,334,788.7,268.26,844.71,831,161.69,160.22999999999999,150.01,317.60000000000002,295.8,255.4,300.36,180.78,195.72,1.04,0.69,0.89,2.7,1.75,3.99,9.68,0.67,0.46,0.21,3397.24,373.59,261.95,724.05,806.21,641.1,1.22,2.2200000000000002,2.37,44,392,338.13,293.13,192.5,2792.75,102.02,7681.42,2101.25,14140,52179.05,3831.26,667.31,1300.6500000000001,13.15]
["2007M06","2007-06-01",true,"2007-06-01",{"$f":"INDEX(G579:BY579,$E$7)","v":7.3},{"$f":"INDEX(G579:BY579,$F$7)","v":7.11},68.19,71.319999999999993,65.760000000000005,67.489999999999995,61.6,56.78,7.3,8.0299999999999994,7.11,131.69,2.02,2.63,2.04,2.0699999999999998,2.31,2.25,1.66,979,1107.18,1354.38,1268.18,833.19,968.33,361,835.55,278.14,867.68,916,184.45,165.25,154.79,323.25,300.5,257,302.49,205.03,223.04,0.98,0.78,0.94,2.68,1.78,3.99,9.93,0.67,0.47,0.2,3409.32,356.95,257.91000000000003,718.08,807.06,642.65,1.34,2.11,2.23,44,387.88,355,291.88,192.5,2676.93,103.21,7474.38,2425.1999999999998,14099.76,41718.57,3602.85,655.66,1286.24,13.14]
["2007M07","2007-07-01",true,"2007-07-01",{"$f":"INDEX(G580:BY580,$E$7)","v":6.22},{"$f":"INDEX(G580:BY580,$F$7)","v":7.26},73.599999999999994,77.2,69.459999999999994,74.14,67.31,58.06,6.22,8.1300000000000008,7.26,119.11,2.16,2.59,2.04,2.13,2.4900000000000002,2.27,1.64,929,1186.06,1382.65,1404.95,854.52,919.55,375.5,887.12,301.41000000000003,925.81,999,177.91,146.84,138.47,328.8,306.8,260.39999999999998,302.70999999999998,225.61,238.41,0.95,0.73,1.1399999999999999,2.67,1.79,4.09,10.19,0.68,0.47,0.22,3364.03,364.85,263.05,744.48,826.41,645.62,1.5,2.04,2.08,44,398.5,355,269.5,192.5,2732.44,106.09,7972.57,3082.76,14737.84,33425.68,3545.58,665.38,1303.02,12.91]
["2007M08","2007-08-01",true,"2007-08-01",{"$f":"INDEX(G581:BY581,$E$7)","v":6.2},{"$f":"INDEX(G581:BY581,$F$7)","v":7.7},70.13,70.8,67.209999999999994,72.38,69.349999999999994,60.18,6.2,8.34,7.7,120.1,1.91,2.72,1.93,2.0699999999999998,2.5499999999999998,2.0499999999999998,1.61,910,1303.3800000000001,1360.33,1472.3,830.65,904.02,385,921.79,316.74,958.29,1114,158.88,151.16999999999999,150.28,327.5,306.5,264.5,310,253.9,259.73,0.94,0.7,1.23,2.69,1.79,4.1100000000000003,10.07,0.68,0.48,0.22,3307.6,371.2,270.93,744.85,816.74,646.82000000000005,1.47,2.0699999999999998,2.11,44,401.63,377.5,260.63,192.5,2515.77,121.89,7513.5,3119.46,15174.32,27652.27,3252.52,665.41,1263.6099999999999,12.33]
["2007M09","2007-09-01",true,"2007-09-01",{"$f":"INDEX(G582:BY582,$E$7)","v":6.1},{"$f":"INDEX(G582:BY582,$F$7)","v":8.09},76.760000000000005,77.13,73.25,79.91,68.44,62.81,6.1,8.5399999999999991,8.09,120.11,1.93,2.82,2.0499999999999998,2.13,2.61,2.02,1.77,930,1417.25,1220.96,1523.39,851.63,926.63,426,977.48,363.75,1044.75,1279,184.66,159.44,163.31,325,306.25,272.25,315.25,322.98,326.54000000000002,1.1100000000000001,0.66,1.03,2.69,1.8,4.3,9.92,0.69,0.46,0.22,3302.92,378.67,274.95999999999998,779.39,819.62,647.74,1.5,2.11,2.16,57.75,399.63,392.5,305,197.5,2391.25,148.65,7648.98,3226.55,15023,29537.5,2881.4,712.65,1307.6500000000001,12.83]
["2007M10","2007-10-01",true,"2007-10-01",{"$f":"INDEX(G583:BY583,$E$7)","v":6.8},{"$f":"INDEX(G583:BY583,$F$7)","v":8.5500000000000007},81.97,82.86,77.14,85.9,74.81,73.12,6.8,9.16,8.5500000000000007,131.88999999999999,1.91,2.96,2.0099999999999998,2.25,2.9,2.1,1.75,1010,1395.07,1215.1199999999999,1633.34,926.2,999.67,450,1007.69,401.91,1146.97,1358,197.11,164.16,163.19,329.2,313.39999999999998,293.2,323,325.55,335.15,1.1000000000000001,0.66,0.97,2.67,1.76,4.3899999999999997,9.92,0.71,0.45,0.22,3280.16,387.7,271.68,801.24,812.95,648,1.52,2.2599999999999998,2.33,71.5,406,402.9,323.75,202.5,2442.37,168.11,8008.44,3719.72,16071.3,31055.439999999999,2975.33,754.6,1410.7,13.67]
["2007M11","2007-11-01",true,"2007-11-01",{"$f":"INDEX(G584:BY584,$E$7)","v":7.14},{"$f":"INDEX(G584:BY584,$F$7)","v":9.14},91.34,92.53,86.73,94.76,84.6,89.75,7.14,9.4700000000000006,9.14,137.88999999999999,1.97,2.89,2.04,2.21,2.91,2,1.71,1131,1605.07,1241.4000000000001,1829.84,998.57,1115,489,1141.52,408.59,1252.43,1401,187.61,171.25,170.1,342,327.75,311.25,320,307.64999999999998,321.81,1.05,0.65,1.05,2.72,1.71,4.43,10.119999999999999,0.73,0.44,0.22,3348.08,422.05,279.41000000000003,865.98,806.27,647.16,1.54,2.37,2.48,71.5,447,423.75,366.25,202.5,2506.89,195.09,6966.71,3328.18,16691.82,30610.23,2541.3200000000002,806.25,1448.73,14.7]
["2007M12","2007-12-01",true,"2007-12-01",{"$f":"INDEX(G585:BY585,$E$7)","v":7.15},{"$f":"INDEX(G585:BY585,$F$7)","v":9.18},89.52,91.45,85.75,91.36,91,94.25,7.15,9.49,9.18,138.16,2.11,3.03,2.0099999999999998,2.31,3.09,2.12,1.73,1153,1676.06,1282.8399999999999,1978.91,1002.22,1136.53,503.99,1187.73,433.28,1336.75,1469,198.93,180.25,187.01,360.67,347.33,331.67,"…",345.31,368.62,1.05,0.65,0.93,2.73,1.69,4.3099999999999996,10.3,0.72,0.45,0.24,3433.31,418.95,275.33999999999997,846.71,788.33,645.91,1.53,2.41,2.48,71.5,512.5,446.88,401.67,202.5,2381.69,190.12,6587.67,2596.0300000000002,16263.06,25991.94,2353.08,803.2,1492.9,14.3]
["2008M01","2008-01-01",true,"2008-01-01",{"$f":"INDEX(G586:BY586,$E$7)","v":8},{"$f":"INDEX(G586:BY586,$F$7)","v":9.94},90.69,91.92,87.17,92.98,91.75,100.62,8,10.7,9.94,154.75,2.2000000000000002,3.08,2.19,2.38,3.05,1.94,2.14,1285,1750,1229.94,1984.16,1122.1500000000001,1278.18,528.5,1280.2,447.9,1390.42,1709,205.49,206.66,212.67,375.6,364.4,358,"…",343.81,370.66,1.17,0.69,1.03,2.77,1.7,4.29,10.47,0.73,0.45,0.26,3438.78,483.85,287.08,954.92,812.62,640.92999999999995,1.61,2.5299999999999998,2.62,71.5,593.88,539.20000000000005,376.63,230.63,2445.52,193.37,7061.02,2608.14,16337.27,27689.55,2340.11,889.6,1583.3,15.91]
["2008M02","2008-02-01",{"$f":"B587>$C$8","v":true},{"$f":"IF(C587,B587,NA())","v":"2008-02-01"},{"$f":"INDEX(G587:BY587,$E$7)","v":8.5500000000000007},{"$f":"INDEX(G587:BY587,$F$7)","v":10.46},93.39,94.82,89.96,95.38,132,115,8.5500000000000007,10.84,10.46,162.44999999999999,2.5,3.47,2.5499999999999998,2.4,3.04,1.73,2.42,1382,1721.43,1255.48,1984.16,1268.6300000000001,1391.67,574.01,1414.17,458.05,1429.55,1839,216.39,220.07,218.5,464.75,"…",432.75,"…",388.75,425,1.45,0.79,1.05,2.89,1.74,4.5199999999999996,10.47,0.73,0.44,0.3,3387.51,545.69000000000005,288.39999999999998,1082.96,855.84,639.21,1.65,2.72,2.79,71.5,692.5,729.38,328.13,240,2776.93,186.12,7887.69,3079.88,17210,27955.48,2438.14,922.3,1999.67,17.57]
["2008M03","2008-03-01",true,"2008-03-01",{"$f":"INDEX(G588:BY588,$E$7)","v":9.4},{"$f":"INDEX(G588:BY588,$F$7)","v":10.96},101.84,103.28,96.78,105.47,118.25,111,9.4,11.04,10.96,174.07,2.73,3.3,2.69,2.2599999999999998,3.06,1.63,2.1,1471,1700,1271.44,2075.4899999999998,1377.22,1456.39,558.86,1488.74,465.95,1510.12,1863,228.63,234.36,224.93,594,"…",537.6,"…",419.61,439.72,1.64,1.03,1.23,3.01,1.79,4.79,10.47,0.77,0.46,0.28999999999999998,3348.3,562.84,304.85000000000002,1068.72,912.45,640.94000000000005,1.77,2.7,2.79,71.5,862.2,875.63,371,240,3005.29,197.12,8439.2900000000009,3008.58,19803.95,31225.26,2511.4699999999998,968.43,2025.19,19.32]
["2008M04","2008-04-01",true,"2008-04-01",{"$f":"INDEX(G589:BY589,$E$7)","v":10.130000000000001},{"$f":"INDEX(G589:BY589,$F$7)","v":11.42},108.76,110.19,103.47,112.62,123,108.75,10.130000000000001,12.19,11.42,188.73,2.61,3.1,2.4500000000000002,2.4900000000000002,2.92,2.35,2.2000000000000002,1443,1700,1288.71,2126.46,1320.11,1425.91,549.11,1422.23,516.14,1471.49,1838,237.77,246.44,240.28,907,"…",762.67,"…",323.43,362.23,1.44,0.97,1.23,3.16,1.81,4.8899999999999997,10.47,0.78,0.45,0.28000000000000003,3410.54,558.94000000000005,291.76,1020.85,940.97,646.55999999999995,1.66,2.7,2.84,160.38,953.5,1029,462.5,393,2959.27,195.95,8684.93,2822.75,21658.639999999999,28763.18,2263.8000000000002,909.71,1988.41,17.5]
["2008M05","2008-05-01",true,"2008-05-01",{"$f":"INDEX(G590:BY590,$E$7)","v":11.23},{"$f":"INDEX(G590:BY590,$F$7)","v":11.63},122.63,123.94,118.95,125.01,133.19999999999999,120.7,11.23,12.38,11.63,203.11,2.68,3.13,2.4,2.48,2.94,2.37,2.14,1502,1700,1265.54,2253.2199999999998,1326.45,1432.5,566.12,1437.87,504.35,1524.95,1962,238.41,243.46,238.24,901.8,"…",727.4,"…",255.1,328.76,1.25,0.92,1.32,3.51,1.84,4.95,10.47,0.77,0.46,0.27,3485.76,552.27,282.97000000000003,1048.3699999999999,933.58,648.17999999999995,1.63,2.96,3.05,190,997.5,1037,633.75,546,2902.9,192.95,8382.75,2234.63,24062.25,25735,2182.1,888.66,2052.4499999999998,17.059999999999999]
["2008M06","2008-06-01",true,"2008-06-01",{"$f":"INDEX(G591:BY591,$E$7)","v":12.68},{"$f":"INDEX(G591:BY591,$F$7)","v":12.07},131.52000000000001,133.05000000000001,127.59,133.93,159.75,142.38,12.68,12.63,12.07,222.15,3,3.22,2.4500000000000002,2.67,3.1,2.6,2.31,1551,1700,1233.45,2332.6999999999998,1293.21,1396.67,634.85,1535.16,534.37,1591.88,2045,241.01,287.11,262.19,757,"…",591,780,254.74,348.55,1.1000000000000001,0.87,1.41,3.66,1.89,4.95,10.73,0.77,0.48,0.27,3565.33,552.13,272.29000000000002,1087.54,932.89,647.29999999999995,1.7,3.17,3.22,190,1004.1,1043.1300000000001,642,546,2957.86,183.93,8260.6,1863.05,22229.29,22549.05,1894.48,889.49,2039.24,16.97]
["2008M07","2008-07-01",true,"2008-07-01",{"$f":"INDEX(G592:BY592,$E$7)","v":11.15},{"$f":"INDEX(G592:BY592,$F$7)","v":12.35},132.83000000000001,133.87,131.22,133.38,180,167.75,11.15,14.37,12.35,212.07,2.97,3.25,2.54,2.76,3.12,2.74,2.41,1436,1700,1148.55,2425.08,1213.48,1253.48,637.25,1506.98,521.57000000000005,1549.44,1692,248.15,265.33999999999997,218.82,731.75,700,546.5,698,245.45,328.18,1.1000000000000001,0.72,1.43,3.93,1.95,5.01,11.19,0.78,0.52,0.31,3654.88,559.62,275.76,1056.6400000000001,932.77,647.87,1.7,3.2,3.2,240,1075.75,1112.5,733.75,546,3071.24,180.5,8414.0400000000009,1944.91,23139.35,20160.22,1852.37,939.77,1904.43,18.03]
["2008M08","2008-08-01",true,"2008-08-01",{"$f":"INDEX(G593:BY593,$E$7)","v":8.25},{"$f":"INDEX(G593:BY593,$F$7)","v":13.25},114.57,113.85,113.21,116.64,158.4,156.9,8.25,14.64,13.25,178.76,2.82,3.23,2.48,2.74,3,2.63,2.6,1193,1620,1104.21,2427.1799999999998,963.57,1064.29,557.28,1329.64,441.67,1352.83,1319,212.25,235.03,209.34,693.5,657.5,468.75,607.5,255.37,329.34,1.1599999999999999,0.8,1.1299999999999999,3.84,1.95,4.76,11.23,0.74,0.51,0.32,3704.49,554.09,272.95,957.04,879.39,649.25,1.72,2.91,2.93,290,1065,1131.5,785,546,2764.38,178.74,7634.7,1923.58,20026.25,18927.75,1723.28,839.03,1485.55,14.64]
["2008M09","2008-09-01",true,"2008-09-01",{"$f":"INDEX(G594:BY594,$E$7)","v":7.69},{"$f":"INDEX(G594:BY594,$F$7)","v":14.39},99.66,99.06,95.97,103.94,150,147.75,7.69,14.85,14.39,173.78,2.7,3.16,2.3199999999999998,2.67,2.98,2.4500000000000002,2.57,1110,1616.36,1122.6099999999999,2313.85,826.02,994.09,525.48,1201.02,413.14,1238.29,1176,189.46,233.85,216.01,683.8,651,420.4,561.79,223.77,295.55,1.1100000000000001,0.8,0.92,3.56,1.95,4.54,10.6,0.71,0.51,0.3,3748.63,531.66999999999996,284.47000000000003,909.77,888.76,648.82000000000005,1.62,2.81,2.83,278,980,1079.25,744.5,546,2525.8200000000002,139.63999999999999,6990.86,1868.36,18368.86,17794.55,1735.48,829.93,1223.18,12.37]
["2008M10","2008-10-01",true,"2008-10-01",{"$f":"INDEX(G595:BY595,$E$7)","v":6.73},{"$f":"INDEX(G595:BY595,$F$7)","v":15.01},72.69,72.84,68.62,76.61,108,109.7,6.73,15.93,15.01,167.67,2.27,2.72,1.96,2.2999999999999998,2.37,2.3199999999999998,2.23,856,1489.13,1154.02,2119.44,635.75,750.65,399.87,942.53,350.96,1040.68,950,143.37,183.06,163.63,609.25,487.5,348.25,478.57,185.92,237.38,0.94,0.81,0.91,3.11,1.93,4.3099999999999996,10.36,0.53,0.47,0.26,3804.36,492.92,304.45,822.21,861.7,643.85,1.37,1.86,1.92,450,910,965,575,546,2121.41,88.67,4925.7,1480.11,14401.74,12139.78,1302.1099999999999,806.62,912.57,10.44]
["2008M11","2008-11-01",true,"2008-11-01",{"$f":"INDEX(G596:BY596,$E$7)","v":6.67},{"$f":"INDEX(G596:BY596,$F$7)","v":15.06},53.97,53.24,51.38,57.29,92.25,89.38,6.67,15.81,15.06,166.41,2.0499999999999998,2.69,2,1.97,1.98,2.19,1.73,719,1265,1187.5899999999999,1933.45,581.25,514.5,371.76,825.64,333.7,974.82,835,130.09,163.77000000000001,150.75,552,440.25,307,431.07,182.98,226.85,0.88,0.9,0.85,2.73,1.92,4.05,9.9600000000000009,0.5,0.43,0.27,3740.82,451.99,315.97000000000003,756.66,872.33,646.49,1.21,1.62,1.65,450,710,606,287.5,546,1852.43,64.95,3717,1291.0999999999999,13643.5,10701.5,1152.5999999999999,760.86,840.3,9.8699999999999992]
["2008M12","2008-12-01",true,"2008-12-01",{"$f":"INDEX(G597:BY597,$E$7)","v":5.79},{"$f":"INDEX(G597:BY597,$F$7)","v":13.78},41.34,41.58,41,41.44,78.650000000000006,77.25,5.79,15.5,13.78,153.38999999999999,2.39,2.62,1.82,1.93,1.92,2.09,1.77,740,1250,1180.83,1761.69,587.24,540.24,359.35,745.55,317.86,838.02,759,115.18,158.26,138.6,531.79999999999995,422,287,413,179.31,220.14,1.01,0.83,0.76,2.66,1.92,3.93,9.7100000000000009,0.53,0.44,0.26,3775.49,476.62,326.62,733.65,845.8,646.07000000000005,1.22,1.18,1.2,450,495,405,240,546,1490.43,69.98,3071.98,962.88,11240,9686.43,1100.57,816.09,839.7,10.29]
["2009M01","2009-01-01",true,"2009-01-01",{"$f":"INDEX(G598:BY598,$E$7)","v":5.24},{"$f":"INDEX(G598:BY598,$F$7)","v":12.71},43.86,44.86,44.97,41.74,79.400000000000006,76.400000000000006,5.24,13.89,12.71,138.29,2.63,2.83,1.82,2.19,2.46,1.91,2.19,734,1195.45,1192.2,1619.87,658.55,556,400.92,789.89,382.67,831.74,817,121.39,172.83,153.26,580,464,318.60000000000002,386.79,195.11,239.11,1.03,0.82,0.78,2.64,1.92,3.81,9.74,0.52,0.44,0.28000000000000003,3828.99,470.23,329.65,697.55,818.45,574.70000000000005,1.27,1.41,1.49,450,308.88,350,273.75,546,1413.12,72.510000000000005,3220.69,1132.74,11372.86,11306.91,1187.4100000000001,858.69,947.41,11.27]
["2009M02","2009-02-01",true,"2009-02-01",{"$f":"INDEX(G599:BY599,$E$7)","v":4.5199999999999996},{"$f":"INDEX(G599:BY599,$F$7)","v":10.52},41.84,43.24,43.14,39.15,75.38,69.06,4.5199999999999996,11.04,10.52,114.49,2.65,2.85,1.77,2.14,2.54,1.75,2.12,673,1110,1192.07,1543.24,655.66,565.25,374.45,747.64,396,802.4,805,112.53,163.38,144.13,590.75,472.75,319.5,418.09,183.35,224.69,1.07,0.94,0.77,2.54,1.91,3.8,9.92,0.5,0.43,0.28999999999999998,4097.5,421.9,322.45,690.2,806.65,572.96,1.22,1.3,1.46,450,313.75,320,281.25,580.13,1330.2,75.59,3314.73,1100.53,11039.25,10408.75,1112.08,943,1033.25,13.41]
["2009M03","2009-03-01",true,"2009-03-01",{"$f":"INDEX(G600:BY600,$E$7)","v":3.95},{"$f":"INDEX(G600:BY600,$F$7)","v":9.48},46.65,46.84,45.58,47.52,61,58.56,3.95,10.9,9.48,106.21,2.5099999999999998,2.83,1.68,2.2200000000000002,2.85,1.67,2.14,625,1100,1253.7,1535.22,660.48,586.25,372.75,730.71,366.91,776.9,757,114.85,164.56,138.59,588.25,471.5,332,"…",183.72,230.98,1.33,0.91,0.85,2.61,1.89,3.75,10.029999999999999,0.52,0.44,0.3,4203.6000000000004,388.23,288.57,679.86,815.86,570.79,1.1399999999999999,1.28,1.43,450,317.8,295,268.5,682.5,1335.84,64.069999999999993,3749.75,1238.9100000000001,10675.91,9696.36,1216.75,924.27,1081.77,13.12]
["2009M04","2009-04-01",true,"2009-04-01",{"$f":"INDEX(G601:BY601,$E$7)","v":3.5},{"$f":"INDEX(G601:BY601,$F$7)","v":8.1199999999999992},50.28,50.85,50.18,49.81,63.56,62.88,3.5,8.51,8.1199999999999992,88.46,2.56,2.97,1.67,2.5099999999999998,2.87,2.44,2.21,747,1100,1274.23,1433,799.7,713.5,387.55,809.08,395.57,830.19,843,111.29,168.5,154.13999999999999,549.66999999999996,446,335.67,430,182.62,233.47,1.29,0.89,0.9,2.64,1.88,4.04,10.029999999999999,0.52,0.47,0.3,4191.18,382.51,283.13,684.28,815.68,567.72,1.25,1.48,1.62,315,300.63,278,245.63,682.5,1420.85,59.78,4406.55,1383.1,11743.5,11166,1378.85,890.2,1165.45,12.48]
["2009M05","2009-05-01",true,"2009-05-01",{"$f":"INDEX(G602:BY602,$E$7)","v":3.81},{"$f":"INDEX(G602:BY602,$F$7)","v":7.5},58.15,57.94,57.4,59.13,64.5,58.03,3.81,8.09,7.5,89.81,2.48,3.33,1.67,2.69,2.96,2.89,2.2200000000000002,842.5,1100,1258.71,1406.55,872.61,826.84,425.72,889.62,447.37,947.07,941,128.69999999999999,179.91,160.08000000000001,533,454,322.39999999999998,405.18,202.46,261.48,1.29,0.83,0.89,2.72,1.92,4.28,9.8800000000000008,0.54,0.48,0.35,4226.7299999999996,395.36,291.06,717.62,855.42,565.91,1.37,1.56,1.69,270,267.88,245,236.25,682.5,1460.45,62.69,4568.63,1440.16,13793.42,12634.74,1483.79,928.65,1128.67,13.98]
["2009M06","2009-06-01",true,"2009-06-01",{"$f":"INDEX(G603:BY603,$E$7)","v":3.8},{"$f":"INDEX(G603:BY603,$F$7)","v":7.18},69.150000000000006,68.62,69.209999999999994,69.62,71.38,60.2,3.8,7.95,7.18,88.86,2.7,3.3,1.63,2.78,3.14,2.8,2.41,747,1100,1263.68,1338.81,788.57,732.62,442.09,892.92,460.14,917.18,907,148.59,179.52,153.04,574.5,476,320.75,404.29,201.72,256.64,1.28,0.85,0.82,2.74,1.94,4.54,9.5500000000000007,0.55000000000000004,0.49,0.36,4245.09,406.46,279.25,761.61,817.9,563.63,1.35,1.53,1.67,198,256.10000000000002,220,239.7,682.5,1573.73,71.66,5013.96,1674.46,14985.68,14960.46,1557.27,945.67,1217.8599999999999,14.65]
["2009M07","2009-07-01",true,"2009-07-01",{"$f":"INDEX(G604:BY604,$E$7)","v":3.39},{"$f":"INDEX(G604:BY604,$F$7)","v":7.55},64.67,64.91,64.97,64.12,73.8,61.1,3.39,6.67,7.55,77.989999999999995,2.79,3.11,1.58,2.96,3.46,2.74,2.67,685,1100,1278.56,1322.77,698.48,663.91,430.61,846.3,440.22,851.56,804,140.31,151.57,133.80000000000001,572,463.5,320.25,410.23,175.63,224.85,1.1499999999999999,0.83,0.72,2.79,1.95,4.54,9.0500000000000007,0.56000000000000005,0.51,0.41,4238.8599999999997,408.55,281.42,776.02,760.28,561.92999999999995,1.43,1.6,1.75,90,263.25,224,243.75,615.63,1667.96,83.95,5215.54,1678.61,14038.91,15984.57,1578.61,934.23,1162.26,13.36]
["2009M08","2009-08-01",true,"2009-08-01",{"$f":"INDEX(G605:BY605,$E$7)","v":3.15},{"$f":"INDEX(G605:BY605,$F$7)","v":7.76},71.63,72.5,71.319999999999993,71.06,72.5,64.25,3.15,6.92,7.76,76.38,2.96,3.3,1.6,2.99,3.46,2.71,2.81,747,1119.05,1217.04,1310.18,746.05,726.19,497.53,903.15,453.19,884.24,820,122.25,151.96,142.37,526.25,432.75,305.5,395.72,161.66999999999999,210.37,1.08,0.83,0.84,2.8,1.91,4.5599999999999996,8.34,0.56000000000000005,0.56999999999999995,0.49,4272.5600000000004,413.77,276.62,785.61,769.67,562.01,1.42,1.84,2.06,90,276.39999999999998,225,251.5,530,1933.75,97.67,6165.3,1900.1,14869.75,19641.75,1821.68,949.38,1244.57,14.36]
["2009M09",{"$f":"EDATE(B605,1)","v":"2009-09-01"},true,"2009-09-01",{"$f":"INDEX(G606:BY606,$E$7)","v":2.96},{"$f":"INDEX(G606:BY606,$F$7)","v":8.42},68.349999999999994,67.69,67.91,69.44,67.64,61.13,2.96,7.13,8.42,75.56,3.14,3.27,1.63,3.16,3.76,2.74,2.97,701,1150,1161.6400000000001,1232.58,703.85,700.68,425.01,858.18,440.95,855.36,809,103.47,150.38999999999999,141.83000000000001,518.75,428,303.25,392.86,158.37,191.09,1.1299999999999999,0.82,1.03,2.81,1.87,4.5,7.81,0.54,0.64,0.51,4300.3500000000004,422.3,280.83999999999997,775.5,784.27,560.70000000000005,1.41,2.0699999999999998,2.17,90,280.63,225,232.25,425,1834.11,80.709999999999994,6196.43,2204.5500000000002,14869.09,17473.18,1884.02,996.59,1288.7,16.39]
["2009M10","2009-10-01",true,"2009-10-01",{"$f":"INDEX(G607:BY607,$E$7)","v":4.0199999999999996},{"$f":"INDEX(G607:BY607,$F$7)","v":9.1},74.08,73.19,73.28,75.77,71.069999999999993,64.349999999999994,4.0199999999999996,7.6,9.1,91.15,3.37,3.41,1.62,3.03,3.52,2.94,2.61,706,1150,1079.3800000000001,1155.42,724.66,727.05,430.08,897,429.5,894.11,846,130.65,167.31,159.05000000000001,493,412.8,298.39999999999998,414.11,175.63,198.85,1.08,0.81,1.1499999999999999,2.75,1.83,4.46,7.62,0.49,0.68,0.5,4329.45,444.48,276.62,790.04,805.1,559.32000000000005,1.47,2.2599999999999998,2.35,90,271.63,246.5,234.88,425,1878.57,86.79,6287.98,2240.77,15008.86,18525.23,2071.59,1043.1600000000001,1332.77,17.239999999999998]
["2009M11","2009-11-01",true,"2009-11-01",{"$f":"INDEX(G608:BY608,$E$7)","v":3.69},{"$f":"INDEX(G608:BY608,$F$7)","v":9.1300000000000008},77.55,77.040000000000006,77.63,78,78.8,66.44,3.69,7.81,9.1300000000000008,88.13,3.38,3.36,1.53,3.06,3.35,2.91,2.91,729,1150,1028.92,1151.6500000000001,763.33,754.52,447.41,932.38,439.57,933.77,921,155.25,171.64,166.01,542.75,460.25,337,491.61,204.66,211.04,1.03,0.83,1.1499999999999999,2.83,1.81,4.57,7.5,0.5,0.7,0.49,4427.3999999999996,451.15,271.97000000000003,821.01,821.06,558.61,1.58,2.4900000000000002,2.54,90,273.2,228.5,243.5,425,1949.29,99.26,6675.6,2308.7600000000002,14942.38,16991.189999999999,2193.38,1127.04,1400.62,17.82]
["2009M12","2009-12-01",true,"2009-12-01",{"$f":"INDEX(G609:BY609,$E$7)","v":5.37},{"$f":"INDEX(G609:BY609,$F$7)","v":9.76},74.88,74.67,75.489999999999995,74.489999999999995,83.1,73.8,5.37,8.01,9.76,109.84,3.5,3.49,1.54,2.97,3.27,2.68,2.98,768,1185.69,1093.1199999999999,1181.8699999999999,821.81,835.45,449.35,939.91,430.82,938.29,986,150.59,164.56,166.35,591,515.25,403,529.91,206.5,206.25,0.99,0.8,1.01,2.88,1.81,4.4800000000000004,7.55,0.49,0.73,0.52,4460.68,452.72,264.83,807.71,795.96,557.22,1.68,2.79,2.8,90,331.5,232,262,425,2180.1,105.07,6981.71,2328.52,15546.91,17066.43,2375.9499999999998,1134.72,1437.48,17.64]
["2010M01","2010-01-01",true,"2010-01-01",{"$f":"INDEX(G610:BY610,$E$7)","v":5.81},{"$f":"INDEX(G610:BY610,$F$7)","v":10.02},77.12,76.37,76.64,78.36,97,86.94,5.81,8.8000000000000007,10.02,119.14,3.53,3.5,1.54,2.9,3.41,2.44,2.85,784,1202.54,1075.52,1275.53,830.88,879.5,435.88,920.55,423.05,914.09,968,146.54,167.31,161.79,568.79999999999995,510.6,420.2,485.28,198.78,201.19,0.94,0.79,1.0900000000000001,3.02,1.83,4.49,7.72,0.48,0.87,0.57999999999999996,4465.53,442.44,258.22000000000003,804.14,792.44,557.22,1.71,3.04,3.09,90,383,296.25,266.5,389.38,2235.15,125.72,7386.25,2368.38,17714.75,18439.25,2434.4499999999998,1117.96,1557.9,17.75]
["2010M02","2010-02-01",true,"2010-02-01",{"$f":"INDEX(G611:BY611,$E$7)","v":5.34},{"$f":"INDEX(G611:BY611,$F$7)","v":10.52},74.760000000000005,74.31,73.56,76.41,94.19,83.36,5.34,8.8000000000000007,10.52,113.76,3.28,3.48,1.5,2.85,3.32,2.29,2.94,798,1200,1034.0999999999999,1287.5,830,894,411.86,909.19,404.85,900.93,948,137.38,161.80000000000001,154.06,535,474.67,405,421.79,191.8,194,0.98,0.72,0.98,3.21,1.84,4.51,7.98,0.46,0.89,0.56000000000000005,4389.29,424.27,252.76,804.92,781,557.22,1.76,3.08,3.13,90,413.63,300,297.5,374.38,2048.9299999999998,127.49,6848.18,2123.6799999999998,16361.75,18976,2156.9,1095.4100000000001,1520.35,15.87]
["2010M03","2010-03-01",true,"2010-03-01",{"$f":"INDEX(G612:BY612,$E$7)","v":4.29},{"$f":"INDEX(G612:BY612,$F$7)","v":10.42},79.3,79.27,77.37,81.25,94.38,82.96,4.29,8.93,10.42,101.64,3.09,3.63,1.48,2.62,3.32,1.74,2.8,921,1200,1061.33,1317.02,862.83,996.96,409.36,911.07,371.38,910.08,949,146.97999999999999,159.05000000000001,154.69999999999999,502.2,445.6,377,392.57,189.96,191.08,1.1200000000000001,0.84,0.95,3.4,1.85,4.43,8.2200000000000006,0.45,0.77,0.41,4206.93,427.57,249.84,803.26,790.1,557.22,1.89,3.18,3.34,90,424.5,354.38,278.7,340,2205.63,139.69,7462.83,2172.09,17549.349999999999,22461.3,2275.0700000000002,1113.3399999999999,1599.43,17.11]
["2010M04","2010-04-01",true,"2010-04-01",{"$f":"INDEX(G613:BY613,$E$7)","v":4.01},{"$f":"INDEX(G613:BY613,$F$7)","v":10.98},84.18,84.98,83.09,84.48,100.15,88.7,4.01,7.52,10.98,91.83,3.22,3.73,1.58,2.77,3.27,2.4500000000000002,2.6,940,1200,1072.3699999999999,1361.62,862.71,1021.05,402.6,902.83,376.95,909.13,924,151.71,157.08000000000001,149.41,466,408.67,343,371.17,187.76,192.87,1.05,0.83,0.99,3.66,1.88,4.5599999999999996,8.49,0.45,0.68,0.36,4179.79,429.65,246.04,818.07,820.21,564.66,1.94,3.28,3.95,90,417.5,372.5,253.75,340,2316.73,172.47,7745.08,2264.85,18683.5,26030.75,2366.6799999999998,1148.69,1710.5,18.059999999999999]
["2010M05","2010-05-01",true,"2010-05-01",{"$f":"INDEX(G614:BY614,$E$7)","v":4.16},{"$f":"INDEX(G614:BY614,$F$7)","v":11.39},75.62,76.25,76.87,73.73,100.13,90.94,4.16,7.27,11.39,92.75,3.18,3.82,1.56,2.8,3.22,2.85,2.33,932,1200,1108.04,1366.87,855.31,1031.05,402.87,859.49,371,862.49,910,143.04,163.38,147.35,451.33,396.67,329,368.82,190.33,181.61,1,0.8,1.05,3.58,1.91,4.84,10.029999999999999,0.42,0.68,0.34,4244.58,403.49,253.66,772.9,836.47,566.79,1.99,2.89,3.67,90,410,352.75,234,334.5,2040.53,161.35,6837.68,1882.68,17566.05,22008.16,1968.37,1205.43,1624.86,18.43]
["2010M06","2010-06-01",true,"2010-06-01",{"$f":"INDEX(G615:BY615,$E$7)","v":4.79},{"$f":"INDEX(G615:BY615,$F$7)","v":10.48},74.73,74.84,73.98,75.349999999999994,98.19,92.81,4.79,7.74,10.48,102.12,3.23,4.21,1.7,2.72,3,2.92,2.2400000000000002,993,1200,1136.71,1366.87,825.68,1050,401.33,860.28,351.18,876.07,889,145.93,152.75,130.97999999999999,440,392,329.5,358.22,182.62,157.66999999999999,1.04,0.96,1.2,3.33,1.92,5.2,12.39,0.41,0.72,0.35,4337.8100000000004,390.78,260.83999999999997,770.4,841.09,567.5,2.0499999999999998,2.9,3.57,90,392.5,346.8,226.25,312.5,1931.39,143.63,6499.3,1703.96,17319.77,19388.64,1742.84,1232.92,1553.23,18.45]
["2010M07","2010-07-01",true,"2010-07-01",{"$f":"INDEX(G616:BY616,$E$7)","v":4.63},{"$f":"INDEX(G616:BY616,$F$7)","v":11.32},74.58,74.739999999999995,72.650000000000006,76.349999999999994,95.98,90.61,4.63,8.0399999999999991,11.32,102.07,3.23,4.4800000000000004,1.88,2.86,3.04,3.23,2.3199999999999998,1031,1200,1139.5899999999999,1366.87,844.43,1063.8599999999999,427.53,910.82,369.32,946.76,937,156.36000000000001,163.76,132.4,441.8,395.6,349.8,357.86,222.28,195.82,0.96,0.99,1.3,3.27,1.94,5.39,12.69,0.43,0.73,0.38,4381.8500000000004,421.37,274.91000000000003,794.51,871.18,569.66999999999996,1.86,2.93,3.27,98.75,418.13,360,259.38,312.5,1988.27,126.36,6735.25,1836.98,18191.36,19517.5,1843.89,1192.97,1525.59,17.96]
["2010M08","2010-08-01",true,"2010-08-01",{"$f":"INDEX(G617:BY617,$E$7)","v":4.3099999999999996},{"$f":"INDEX(G617:BY617,$F$7)","v":11.3},75.83,76.69,74.180000000000007,76.599999999999994,89.78,87.9,4.3099999999999996,8.4499999999999993,11.3,100.1,3.07,4.66,1.82,2.99,3.27,3.2,2.5099999999999998,1170,1231.82,1155.8699999999999,1383.9,943.73,1171.1400000000001,449.84,997.62,398.91,1012.94,1074,161.22999999999999,175.58,143.4,452.75,412,369,422.86,261.61,246.25,0.86,0.9,1.1399999999999999,3.41,1.94,6.85,11.97,0.43,0.77,0.41,4350.09,425.61,294.67,813.67,892.18,571.82000000000005,1.99,3.14,3.32,125,459.9,380.75,263.5,312.5,2118.14,145.34,7283.95,2075.2399999999998,20754.759999999998,21413.33,2044.57,1215.81,1540.59,18.39]
["2010M09","2010-09-01",true,"2010-09-01",{"$f":"INDEX(G618:BY618,$E$7)","v":3.9},{"$f":"INDEX(G618:BY618,$F$7)","v":11.03},76.12,77.790000000000006,75.27,75.290000000000006,94.9,85.82,3.9,8.2799999999999994,11.03,94.24,2.88,4.91,1.79,3,3.35,3.18,2.46,1275,1250,1182.1400000000001,1426.71,948.88,1259.6600000000001,468.26,1035.26,409.73,1032.57,1114,168.12,205.89,184.9,476.5,448,412,457.68,276.31,271.67,0.97,0.88,1.05,3.39,1.93,7.24,11.73,0.44,0.84,0.5,4358.3500000000004,432.02,310.91000000000003,827.12,875.96,575.35,2.31,3.36,3.53,125,506,428,308.75,312.5,2162.34,140.63,7709.3,2184.23,22701.14,22643.41,2151.41,1270.98,1591.75,20.55]
["2010M10","2010-10-01",true,"2010-10-01",{"$f":"INDEX(G619:BY619,$E$7)","v":3.43},{"$f":"INDEX(G619:BY619,$F$7)","v":11.13},81.72,82.92,80.34,81.900000000000006,97.45,90.99,3.43,8.2899999999999991,11.13,88.62,2.93,4.8,1.88,3.03,3.37,3.25,2.4900000000000002,1412,1280.95,1197.99,1471.32,1025.83,1420.95,495.79,1146.75,417.77,1149.51,1284,174.62,235.81,201.04,486,457,428.25,477.68,267.49,270.23,1,0.92,1.0900000000000001,3.37,1.91,7.65,11.76,0.45,0.84,0.54,4357.49,458.88,316.36,867.42,880.17,578.23,2.79,3.85,3.92,125,557.25,455,332.5,312.5,2346.5700000000002,148.47999999999999,8292.41,2379.67,26342.62,23807.38,2372.14,1342.02,1688.69,23.39]
["2010M11","2010-11-01",true,"2010-11-01",{"$f":"INDEX(G620:BY620,$E$7)","v":3.73},{"$f":"INDEX(G620:BY620,$F$7)","v":10.84},84.53,85.67,83.7,84.24,107.16,103.2,3.73,8.59,10.84,93.44,2.91,5.15,2.0299999999999998,3.03,3.4,3.17,2.52,1512,1350,1202.67,1543.24,1131.3599999999999,1631.14,514.15,1231.69,436.82,1242.32,1441,179.09,238.18,203.25,514.5,477.5,427.75,508.03,278.52,274.08,1.03,0.91,0.82,3.5,1.88,8.06,12.2,0.45,0.86,0.57999999999999996,4372.18,450.17,313.32,843.82,901.45,581,3.41,4.24,4.3099999999999996,125,554.1,463.75,365.4,322.5,2333.0700000000002,156.1,8469.89,2376.73,25519.09,22909.32,2291.6799999999998,1369.89,1692.77,26.54]
["2010M12","2010-12-01",true,"2010-12-01",{"$f":"INDEX(G621:BY621,$E$7)","v":4.24},{"$f":"INDEX(G621:BY621,$F$7)","v":10.75},90.01,91.8,89.07,89.15,118.29,115.24,4.24,8.74,10.75,100.29,3.06,5.47,2.0699999999999998,3.04,3.5,2.94,2.69,1715,1372.58,1301.18,1644.45,1234.6400000000001,1829.55,545.75,1324.72,449.19,1382.99,1454,189.64,250.38,221.57,532,479.8,413.4,528.29,308.64999999999998,306.52,1.06,0.9,0.72,3.88,1.88,8.23,12.46,0.43,0.85,0.62,4354.8100000000004,436.49,306.54000000000002,832.09,896.99,582.38,3.7,4.6900000000000004,4.75,125,540.63,472.5,380.63,322.5,2350.67,163.1,9147.26,2412.9299999999998,26163.33,24111.19,2280.9299999999998,1390.55,1711.39,29.32]
["2011M01","2011-01-01",true,"2011-01-01",{"$f":"INDEX(G622:BY622,$E$7)","v":4.49},{"$f":"INDEX(G622:BY622,$F$7)","v":11.45},92.69,96.29,92.37,89.41,132.47999999999999,122.62,4.49,9.61,11.45,108.01,3.16,5.82,2.23,3.02,3.56,2.61,2.89,2038,1426.76,1324.83,1653.47,1303.57,2139.0500000000002,567.62,1365.73,462.26,1440.75,1492,195.2,264.95,246.32,516.79999999999995,467.6,405,493.86,320.39999999999998,326.56,1.2,0.89,0.73,4.1900000000000004,1.87,8.27,12.52,0.44,0.85,0.65,4370.78,441.28,315.32,827.83,907.78,584.49,3.94,5.33,5.52,125,547.4,475,378.5,322.5,2439.5300000000002,179.18,9555.7000000000007,2601.65,27465.25,25646.25,2371.5500000000002,1360.46,1785.43,28.51]
["2011M02","2011-02-01",true,"2011-02-01",{"$f":"INDEX(G623:BY623,$E$7)","v":4.07},{"$f":"INDEX(G623:BY623,$F$7)","v":12.02},97.91,103.96,100.25,89.53,128.36000000000001,117.74,4.07,9.36,12.02,102.12,3.47,6.35,2.41,2.88,3.56,2.2999999999999998,2.79,2256,1426.76,1282.27,1653.47,1327.21,2307.63,566.04999999999995,1359.86,468.74,1403.14,1704.74,196.46,292.89999999999998,253.15,524,473,420.5,478.57,338.78,348.12,1.31,1,0.88,4.08,1.88,8.4,12.57,0.45,0.87,0.65,4317.07,450.84,328.63,831.5,927.81,588.69000000000005,4.7,5.58,6.26,140,413.63,490,297.5,374.38,2508.1799999999998,187.18,9867.6,2586.6799999999998,31526,28252.25,2465.13,1374.68,1825.9,30.78]
["2011M03","2011-03-01",true,"2011-03-01",{"$f":"INDEX(G624:BY624,$E$7)","v":3.97},{"$f":"INDEX(G624:BY624,$F$7)","v":12.5},108.65,114.44,108.58,102.92,126.13,121,3.97,9.3699999999999992,12.5,101.24,3.39,6.44,2.6,2.76,3.57,1.96,2.74,1925,1486.35,1317.74,1637.17,1241.74,1975.22,552.75,1306.53,437.96,1411.8,1636.96,202.57,290.54000000000002,266.14,492.75,455.5,408.25,464,303.14,316.75,1.25,1,0.85,4.1900000000000004,1.9,8.9700000000000006,12.65,0.46,0.88,0.57999999999999996,4537.68,462.6,334.76,840.07,929.22,592.22,5.0599999999999996,4.84,5.42,145,424.5,494,278.7,340,2555.5,169.36,9503.36,2624.02,30590.93,26710.35,2341.48,1423.26,1770.17,35.81]
["2011M04","2011-04-01",true,"2011-04-01",{"$f":"INDEX(G625:BY625,$E$7)","v":4.24},{"$f":"INDEX(G625:BY625,$F$7)","v":12.99},116.24,123.07,115.7,109.96,122.5,124.03,4.24,10.36,12.99,109.57,3.13,6.62,2.59,3.02,3.37,3.03,2.67,2089,1598.33,1476.94,1631.42,1219.6099999999999,1906.32,556.58000000000004,1310.45,412.37,1447.42,1634.05,208.92,319.27,289.61,484.25,448.25,409,484.29,314.89,336.12,1.29,1.03,0.88,4.33,1.9,10.17,12.79,0.47,0.84,0.54,4606.99,477.55,343.5,883.41,946.21,596.33000000000004,4.78,4.97,5.85,145,417.5,535.63,253.75,340,2678.11,179.33,9492.7900000000009,2701.17,32363.31,26408.33,2362.2199999999998,1480.89,1797.9,42.7]
["2011M05","2011-05-01",true,"2011-05-01",{"$f":"INDEX(G626:BY626,$E$7)","v":4.3099999999999996},{"$f":"INDEX(G626:BY626,$F$7)","v":13.61},108.07,114.46,108.46,101.28,119.12,120.46,4.3099999999999996,10.3,13.61,110.51,3.07,6.42,2.69,2.95,3.1,3.14,2.62,2097,1710.3,1435.17,1632.47,1230.1199999999999,1985.48,556.79999999999995,1296.03,404.36,1406.76,1644.09,209.37,307.86,261.32,481.4,448.4,421.2,479.65,308.64999999999998,355.28,1.27,1.01,0.84,4.16,1.91,10.28,12.64,0.47,0.78,0.48,4431.1499999999996,487.24,385.25,862.51,958.13,605.63,3.65,4.5199999999999996,5.12,147,410,547.5,234,334.5,2596.4499999999998,177.05,8959.9,2428.3200000000002,28676.45,24236.73,2167.35,1512.58,1786.55,37.340000000000003]
["2011M06","2011-06-01",true,"2011-06-01",{"$f":"INDEX(G627:BY627,$E$7)","v":4.55},{"$f":"INDEX(G627:BY627,$F$7)","v":14.52},105.85,113.76,107.52,96.25,120.09,119.01,4.55,10.26,14.52,113.85,3.02,6.06,2.6,3.02,3.12,3.23,2.71,1803,1736.49,1376.84,1700.57,1192.3800000000001,1761.75,556.22,1319.38,402.45,1401.82,1699.32,210.06,310.61,260.43,513.75,473.75,427.5,475.28,282.19,326.43,1.19,0.98,0.92,3.94,1.92,10.09,12.7,0.47,0.78,0.56000000000000005,4389.71,504.01,417.56,870.63,973.16,607.75,3.18,4.5199999999999996,4.93,155,575.88,549.5,478.75,355,2557.7600000000002,170.88,9066.85,2524.9899999999998,25519.68,22420.93,2234.4699999999998,1529.36,1768.5,35.799999999999997]
["2011M07","2011-07-01",true,"2011-07-01",{"$f":"INDEX(G628:BY628,$E$7)","v":4.41},{"$f":"INDEX(G628:BY628,$F$7)","v":16.22},107.92,116.46,109.98,97.31,120.75,116.27,4.41,10.99,16.22,116.83,3.17,5.91,2.4900000000000002,3.1,3.1,3.41,2.8,1662,1867.42,1351.62,1945.58,1183.45,1372.62,556.5,1337.36,410.41,1392.95,1672.38,215.53,300.77,271.17,538.25,506.75,449.25,519.47,266.39,303.88,1.08,0.96,0.97,3.94,1.93,9.84,12.77,0.47,0.84,0.62,4458.57,521.63,430.49,832.59,969.42,612.71,2.69,4.5599999999999996,4.7300000000000004,161.88,597.63,555,483.75,442.5,2525.4299999999998,172.98,9650.4599999999991,2681.02,27398.1,23847.95,2397.75,1572.75,1759.76,37.92]
["2011M08","2011-08-01",true,"2011-08-01",{"$f":"INDEX(G629:BY629,$E$7)","v":4.05},{"$f":"INDEX(G629:BY629,$F$7)","v":16.55},100.49,110.08,105.06,86.32,120.13,118.27,4.05,10.81,16.55,111.83,3.06,5.96,2.4700000000000002,3.02,3.16,3.11,2.8,1454,2054.35,1283.8499999999999,2076.1799999999998,1205.48,1377.83,552.96,1328.39,409.21,1350.5,1671.3,206.09,310.22000000000003,302.52999999999997,566,533.75,465.25,553.42999999999995,277.62,327.07,1.02,0.95,0.95,3.93,1.94,9.56,11.79,0.47,0.88,0.61,4569.3599999999997,523.28,450.03,839.51,973.6,619.17999999999995,2.52,4.62,4.68,182.5,597.4,560,475.5,442.5,2379.35,177.5,9000.76,2397.2800000000002,24042.43,21845.09,2200.17,1759.01,1804.7,40.33]
["2011M09","2011-09-01",true,"2011-09-01",{"$f":"INDEX(G630:BY630,$E$7)","v":3.9},{"$f":"INDEX(G630:BY630,$F$7)","v":16.27},100.82,110.88,106,85.58,123.09,115.62,3.9,10.85,16.27,109.98,2.87,6.06,2.34,2.89,3.14,2.86,2.67,1305,2131.1,1657.72,2113.4299999999998,1137.25,1264.32,531.95000000000005,1307.8499999999999,404.09,1309.99,1591.59,209.57,295.26,288.81,598.75,555.5,514,561.42999999999995,267.49,315.92,0.99,0.95,1.19,3.83,1.96,9.59,11.24,0.45,0.89,0.59,4595.3,500.43,453.63,797.22,952.68,631.09,2.58,4.5199999999999996,4.55,182.5,587.88,560,508.75,442.5,2293.46,177.23,8300.14,2287.67,22526.6,20377.59,2075.2199999999998,1772.14,1748.11,38.15]
["2011M10","2011-10-01",true,"2011-10-01",{"$f":"INDEX(G631:BY631,$E$7)","v":3.57},{"$f":"INDEX(G631:BY631,$F$7)","v":16.48},99.85,109.47,103.67,86.41,119.39,110.88,3.57,11.42,16.48,108.78,2.68,5.46,2.16,2.9,3.23,2.78,2.69,1208,2167.2199999999998,1684.88,2116.44,1044.75,1082.6199999999999,491.42,1223.0999999999999,381,1270.51,1483.81,208.85,274.79000000000002,263.67,599.4,560.20000000000005,489,580.54,253.53,289.01,0.99,0.95,1.03,3.92,1.96,9.59,11.13,0.45,0.83,0.56000000000000005,4582.76,500.98,435.86,798.47,954.18,619.89,2.44,4.08,4.0599999999999996,188.75,571.4,592.5,493.5,435,2180.65,150.43,7394.19,1960.38,21868.639999999999,19039.05,1871.42,1666.43,1535.19,31.97]
["2011M11","2011-11-01",true,"2011-11-01",{"$f":"INDEX(G632:BY632,$E$7)","v":3.24},{"$f":"INDEX(G632:BY632,$F$7)","v":16.78},105.41,110.5,108.59,97.12,113.78,105.47,3.24,11.32,16.78,104.56,2.5299999999999998,5.4,2.14,2.79,3.16,2.5499999999999998,2.66,1479,2472.44,1597.19,2116.44,1113.3800000000001,1294.32,478.35,1213.96,359.59,1273.54,1502.5,211.46,274.39,265.44,615.25,584.25,549.75,568.75,253.16,281.01,0.97,0.96,0.68,4.2,1.97,9.68,11.17,0.44,0.84,0.53,4522.58,481.14,403.26,771.39,892.75,617.47,2.31,3.33,3.37,195,563.5,570,481.25,435,2079.98,135.54,7581.02,1994.22,21291.7,17873,1935.32,1739,1596.98,33.08]
["2011M12","2011-12-01",true,"2011-12-01",{"$f":"INDEX(G633:BY633,$E$7)","v":3.16},{"$f":"INDEX(G633:BY633,$F$7)","v":16.48},104.23,107.91,106.22,98.56,111.56,104.19,3.16,11.53,16.48,104.4,2.2000000000000002,5.22,2.17,2.7,3.11,2.36,2.61,1445,2528.4299999999998,1515.66,2116.44,1121.5,1376.58,483.03,1203.28,351.62,1244.6600000000001,1439.77,212.27,258.64999999999998,256.39999999999998,585.75,565.5,544,504.43,244.71,269.02999999999997,0.94,0.94,0.76,4.22,1.98,9.9700000000000006,11.35,0.43,0.8,0.51,4438.68,466.73,387.86,753.88,888.44,615.03,2.1,3.35,3.38,195,488.75,530,423.13,450,2022.25,136.38999999999999,7565.48,2022.35,19375.009999999998,18266.759999999998,1904.73,1639.97,1454.59,30.3]
["2012M01","2012-01-01",true,"2012-01-01",{"$f":"INDEX(G634:BY634,$E$7)","v":2.68},{"$f":"INDEX(G634:BY634,$F$7)","v":16.71},107.07,111.16,109.78,100.29,116.46,106.26,2.68,11.45,16.71,98.29,2.31,5.23,2.13,2.66,3.06,2.2799999999999998,2.63,1451,2528.4299999999998,1616.04,2116.44,1123.5,1362.05,503.18,1216.28,385.86,1252.78,1451.82,210.56,272.83999999999997,265.66000000000003,542,534,516.25,451.43,253.9,274.89,0.96,0.95,0.73,4.26,1.99,9.91,11.35,0.42,0.76,0.52,4414.58,458.31,387.75,750.76,877,615.03,2.23,3.5,3.63,195,451.4,435,368,495,2144.1999999999998,140.26,8040.47,2096.16,21438.63,19854.77,1981.86,1654.05,1499.32,30.65]
["2012M02","2012-02-01",true,"2012-02-01",{"$f":"INDEX(G635:BY635,$E$7)","v":2.52},{"$f":"INDEX(G635:BY635,$F$7)","v":16.03},112.69,119.7,116.15,102.21,117.02,105.3,2.52,11.12,16.03,94.32,2.36,4.9400000000000004,2.25,2.57,2.97,2.09,2.64,1411,2528.4299999999998,1760.57,2116.44,1146.25,1365.48,522.96,1249.1199999999999,406.19,1287.68,1485,213.4,279.45999999999998,269.18,537.5,529,518.25,430.43,263.08,277.77,1.24,1.07,0.78,4.3099999999999996,2.0099999999999998,9.5399999999999991,11.42,0.43,0.74,0.53,4417.53,466.62,374.98,757.29,885.07,612.29999999999995,2.2200000000000002,3.78,4,190,435.5,445,375,495,2207.92,140.4,8441.49,2121.2600000000002,24293.31,20393.669999999998,2057.79,1744.82,1657.76,34.14]
["2012M03","2012-03-01",true,"2012-03-01",{"$f":"INDEX(G636:BY636,$E$7)","v":2.17},{"$f":"INDEX(G636:BY636,$F$7)","v":16.34},117.79,124.93,122.28,106.15,107.46,103.43,2.17,11.97,16.34,94.28,2.36,4.4400000000000004,2.2799999999999998,2.42,2.75,1.79,2.73,1338,2528.4299999999998,1766.55,2138.48,1195.3399999999999,1366.43,547.46,1285.3800000000001,440.73,1289.1199999999999,1500.68,222.79,280.69,274.02999999999997,548,544.4,526.75,428.75,259.77999999999997,283.88,1.22,1.1399999999999999,0.8,4.3499999999999996,2.0499999999999998,9.5399999999999991,11.56,0.43,0.76,0.53,4379.01,465.78,357.05,758.55,886.54,610.96,2.19,3.78,3.93,160,442.88,441.25,393.13,495,2184.16,144.66,8470.7800000000007,2056.69,22985.43,18660.810000000001,2035.92,1675.95,1655.41,32.950000000000003]
["2012M04","2012-04-01",true,"2012-04-01",{"$f":"INDEX(G637:BY637,$E$7)","v":1.95},{"$f":"INDEX(G637:BY637,$F$7)","v":16.850000000000001},113.67,120.46,117.25,103.28,103.59,101.33,1.95,11.42,16.850000000000001,89.35,2.27,4.22,2.2400000000000002,2.79,3.2,2.39,2.78,1348,2528.4299999999998,1734.07,2274.96,1233.6099999999999,1394.72,583.83000000000004,1308.8900000000001,482.37,1303.5899999999999,1551.9,237.17,274,254.85,547.75,550.66999999999996,533.25,440.72,254.63,266.32,1.26,1.03,0.82,4.29,2.06,9.5399999999999991,11.77,0.43,0.7,0.5,4354.08,464.02,353.7,766.97,896.38,611.58000000000004,2.2000000000000002,3.66,3.84,185,478,441.25,494.38,477.5,2049.67,147.63999999999999,8289.48,2071.0700000000002,22200.62,17939.79,2002.14,1649.2,1585.81,31.53]
["2012M05","2012-05-01",true,"2012-05-01",{"$f":"INDEX(G638:BY638,$E$7)","v":2.44},{"$f":"INDEX(G638:BY638,$F$7)","v":17.12},104.09,110.52,107.05,94.68,95.83,93.77,2.44,11.64,17.12,96.53,2.31,4.07,2.36,3,3.02,3.18,2.8,1155,2400,1607.08,2408.0500000000002,1125,1236.75,577.48,1220.55,502.8,1234.8800000000001,1522.17,239.46,269.27999999999997,259.35000000000002,600.5,553.25,561.75,433.29,251.33,264.36,1.21,0.95,0.76,4.22,2.0699999999999998,9.52,11.79,0.42,0.67,0.46,4355.2299999999996,451.47,367.03,763.36,892.16,611.58000000000004,1.95,3.38,3.73,195,490.5,485,513.13,477.5,2007.63,136.61000000000001,7955.64,2012.82,20405.240000000002,17068.189999999999,1936,1589.04,1470.7,28.72]
["2012M06","2012-06-01",true,"2012-06-01",{"$f":"INDEX(G639:BY639,$E$7)","v":2.46},{"$f":"INDEX(G639:BY639,$F$7)","v":17.2},90.73,95.59,94.24,82.36,87.19,85.31,2.46,11.49,17.2,96.09,2.2599999999999998,3.72,2.33,2.97,2.91,3.12,2.88,1058,2400,1558.48,2425.08,1027.74,1089.05,578.01,1181.93,514.95000000000005,1183.3699999999999,1430.48,236.76,267.31,263.93,600,578,541.20000000000005,411.96,249.49,276.19,1.05,0.95,0.95,4.12,2.08,9.1999999999999993,11.79,0.41,0.63,0.45,4282.97,442.3,362.31,751.69,862.84,606.67999999999995,1.81,2.86,3.2,193.13,501.63,485,456.88,477.5,1890.18,134.66,7423.02,1854.15,19271.07,16549.14,1858.7,1598.76,1443.86,27.98]
["2012M07","2012-07-01",true,"2012-07-01",{"$f":"INDEX(G640:BY640,$E$7)","v":2.95},{"$f":"INDEX(G640:BY640,$F$7)","v":18.11},96.75,103.14,99.22,87.9,88.24,87.33,2.95,11.13,18.11,100.95,2.35,4.2,2.36,3.03,2.99,3.11,2.99,1070,2400,1502.97,2450.2800000000002,1052.8399999999999,1063.18,670.19,1239.49,608.67999999999995,1214.67,1472.27,253.38,333.05,268.58999999999997,573.75,555,518.75,409.29,322.98,345.69,0.85,0.96,1.02,4.03,2.09,8.75,11.79,0.4,0.63,0.5,4191.42,430.25,357.19,747.41,857.92,606.67999999999995,1.85,2.89,3.08,188.5,436.88,485,307.5,279.5,1876.25,127.94,7584.26,1881.48,18546.09,16128.41,1847.75,1594.29,1425.82,27.43]
["2012M08","2012-08-01",true,"2012-08-01",{"$f":"INDEX(G641:BY641,$E$7)","v":2.84},{"$f":"INDEX(G641:BY641,$F$7)","v":17.739999999999998},105.27,113.34,108.37,94.11,91,89.11,2.84,11.18,17.739999999999998,99.63,2.5099999999999998,3.85,2.35,3.12,3.07,3.2,3.08,1001,2400,1431.13,2469.1799999999998,1022.38,1007.61,684.02,1250.27,651.35,1230.73,1525.43,265.69,331.99,273.33999999999997,567.75,545,509,436.43,333.73,349.4,0.98,0.95,0.97,4.0999999999999996,2.09,7.95,11.76,0.41,0.63,0.46,4207.93,431.03,354.71,749.6,856.66,606.67999999999995,1.86,2.6,2.79,182.5,504.5,485,382.5,477.5,1845.38,107.5,7515.53,1900.62,18772.62,15735.21,1818.16,1630.31,1453.26,28.8]
["2012M09","2012-09-01",true,"2012-09-01",{"$f":"INDEX(G642:BY642,$E$7)","v":2.84},{"$f":"INDEX(G642:BY642,$F$7)","v":16.829999999999998},106.28,113.38,110.96,94.51,88.96,85.82,2.84,11.08,16.829999999999998,98.58,2.62,3.95,2.31,3.1,3.19,3.09,3.04,967,2400,1354.36,2469.1799999999998,1001.38,980,677.32,1280.95,647.17999999999995,1268.69,1572.25,256.24,320.85000000000002,278.16000000000003,563.25,543.75,512,455.18,343.55,353.42,1.1100000000000001,0.96,1,4.0599999999999996,2.11,7.14,11.37,0.42,0.57999999999999996,0.44,4191.47,447.36,353.34,768.45,878.2,608.08000000000004,1.86,2.76,3.04,182.5,527.38,485,384.38,477.5,2064.12,99.47,8087.74,2177.67,20771.259999999998,17287.96,2009.85,1744.81,1623.65,33.61]
["2012M10","2012-10-01",true,"2012-10-01",{"$f":"INDEX(G643:BY643,$E$7)","v":3.32},{"$f":"INDEX(G643:BY643,$F$7)","v":15.3},103.41,111.97,108.73,89.52,81.849999999999994,82.8,3.32,11.58,15.3,105.7,2.46,3.82,2.2999999999999998,3.01,3.16,2.99,2.88,898,2400,1359.81,2469.1799999999998,886,863.04,625.76,1177.95,595.41,1214.2,1302.6099999999999,252.91,321.24,283.07,558.25,532.5,520.25,453.74,340.25,358.2,1.1200000000000001,0.96,0.98,4.07,2.11,7.11,10.93,0.42,0.53,0.45,4223.95,450.7,350.23,766.48,873.36,610.15,1.81,2.95,3.2,182.5,533.5,474,349,477.5,1974.3,113.95,8062.03,2141.9699999999998,21233.7,17168.740000000002,1903.96,1746.58,1635.83,33.19]
["2012M11","2012-11-01",true,"2012-11-01",{"$f":"INDEX(G644:BY644,$E$7)","v":3.54},{"$f":"INDEX(G644:BY644,$F$7)","v":15},101.17,109.71,107.13,86.68,85.89,85.74,3.54,11.83,15,109.37,2.48,3.53,2.15,3.02,3.12,2.89,3.04,848,2400,1339.11,2469.1799999999998,863.18,806.7,584.59,1137.78,567.61,1184.6099999999999,1285.23,252.07,321.64,289.02999999999997,559.25,530,523,448.32,346.49,360.82,1.07,0.93,0.85,4.29,2.13,7.16,10.96,0.42,0.5,0.43,4268.78,449.35,353.03,761.32,870.05,611.51,1.78,2.8,2.97,182.5,487.88,447.5,383.5,477.5,1948.83,120.35,7711.23,2181.9699999999998,20713.07,16335.36,1912.4,1721.64,1576.36,32.770000000000003]
["2012M12","2012-12-01",true,"2012-12-01",{"$f":"INDEX(G645:BY645,$E$7)","v":3.34},{"$f":"INDEX(G645:BY645,$F$7)","v":15.41},101.19,109.68,105.69,88.22,92.88,88.84,3.34,11.79,15.41,107.04,2.41,3.37,2.13,3.08,3.31,2.86,3.08,785,2400,1303.0899999999999,2502.25,843.55,753.53,591.29,1158.6400000000001,577.22,1188.18,1271.9000000000001,242.94,308.64999999999998,283.95999999999998,557.79999999999995,530,520.4,413.75,325.18,347.96,1.1200000000000001,0.94,0.76,4.37,2.15,7.22,11.07,0.43,0.49,0.43,4341.3100000000004,459.45,354.8,769.97,879.94,612.86,1.84,2.9,3.11,182.5,472.83,435,375.83,477.5,2086.7600000000002,128.51,7966.49,2279.8000000000002,22880.89,17448.5,2040.43,1684.76,1582.25,31.87]
["2013M01","2013-01-01",true,"2013-01-01",{"$f":"INDEX(G646:BY646,$E$7)","v":3.33},{"$f":"INDEX(G646:BY646,$F$7)","v":15.89},105.1,112.97,107.58,94.74,92.77,86.13,3.33,11.87,15.89,107.61,2.2799999999999998,3.47,2.2000000000000002,3,3.34,2.62,3.05,828.64,2400,1926.47,2270.7600000000002,884.52,801.36,595.29999999999995,1192.3499999999999,526.20000000000005,1210.92,1298.48,233.32,303.13,291.01,564.20000000000005,540,530,401.25,309.01,335.47,1.1000000000000001,0.93,0.75,4.3600000000000003,2.2200000000000002,7.02,11.24,0.43,0.48,0.42,4416.93,465.57,334.12,761.8,870.59,612.86,1.89,3.04,3.3,182.5,462.25,428,380,395,2037.75,150.49,8047.36,2333.6799999999998,24545.9,17472.5,2032.2,1671.85,1638.89,31.06]
["2013M02","2013-02-01",true,"2013-02-01",{"$f":"INDEX(G647:BY647,$E$7)","v":3.33},{"$f":"INDEX(G647:BY647,$F$7)","v":16.47},107.64,116.52,111.09,95.3,94.94,85.13,3.33,11.77,16.47,107.54,2.2000000000000002,3.3,2.29,2.93,3.33,2.5299999999999998,2.91,853.25,1635,1901.12,1821.71,919.58,836,610.73,1173.48,518.9,1216.99,1285.75,237,302.74,288.14,563,538.75,535,401.65,297.99,318.94,1.1100000000000001,0.92,0.82,4.3499999999999996,2.19,7,11.57,0.44,0.46,0.4,4390.59,466.86,319.69,737.55,842.88,586.38,1.98,3.04,3.19,182.5,464.5,419,415.63,395,2053.6,154.63999999999999,8060.93,2365.79,24211.74,17690.099999999999,2128.69,1627.57,1674.55,30.33]
["2013M03","2013-03-01",true,"2013-03-01",{"$f":"INDEX(G648:BY648,$E$7)","v":3.81},{"$f":"INDEX(G648:BY648,$F$7)","v":16.27},102.52,109.24,105.42,92.91,90.98,82.77,3.81,11.87,16.27,113.68,2.15,3.3,2.34,2.9,3.48,2.5499999999999998,2.66,818.75,1500,1801.47,1763.7,891.5,832.75,584.70000000000005,1117.43,513.95000000000005,1161.6600000000001,1249.76,239.75,309.04000000000002,296.74,559,535,532.5,401.61,285.87,309.75,1.08,0.94,0.91,4.29,2.31,7,11.9,0.42,0.46,0.41,4377.3599999999997,436.19,313.77999999999997,722.69,822,575.54999999999995,2.08,2.8,2.98,160,467.63,415,395.63,395,1909.57,139.87,7645.58,2169.42,23296.52,16724.93,1926.07,1593.09,1582.95,28.79]
["2013M04","2013-04-01",true,"2013-04-01",{"$f":"INDEX(G649:BY649,$E$7)","v":4.17},{"$f":"INDEX(G649:BY649,$F$7)","v":16.2},98.85,102.88,101.66,92.02,87.76,82.02,4.17,12.88,16.2,122.81,2.29,3.3,2.2400000000000002,2.89,3.39,2.91,2.37,791.43,1500,1850.72,1763.7,874.17,830.71,563.88,1094.52,495.55,1131.82,1221.1400000000001,229.65,279.91000000000003,269.18,557,535.6,530.6,390.76,278.14999999999998,308.27999999999997,1.1000000000000001,0.9,0.98,4.2699999999999996,2.29,7,12.37,0.43,0.45,0.39,4366.8999999999996,455.89,304.52999999999997,733.56,834.37,558.58000000000004,2.0299999999999998,2.5,2.87,111.5,461.13,409,365.63,395,1861.67,137.38999999999999,7234.28,2027.39,21662.25,15672.95,1856,1487.86,1493.07,25.36]
["2013M05","2013-05-01",true,"2013-05-01",{"$f":"INDEX(G650:BY650,$E$7)","v":4.04},{"$f":"INDEX(G650:BY650,$F$7)","v":16.22},99.37,103.03,100.31,94.76,87.71,81.790000000000006,4.04,12.29,16.22,118.48,2.34,3.24,2.19,2.95,3.29,3.18,2.39,822.5,1500,1823.4,1780.73,879.47,827.5,498.01,1073.2,514.78,1116.6600000000001,1227.73,231.49,295.54000000000002,273.58999999999997,543.5,508.75,510.75,386.85,279.25,319.67,1.05,0.91,1.06,4.0999999999999996,2.38,6.99,12.8,0.42,0.43,0.39,4342.72,454.24,294.77999999999997,732.53,833.2,540.69000000000005,2.04,2.5099999999999998,3.04,157.5,421.25,410,358.13,395,1832.02,124.01,7249.41,2032.98,20775.830000000002,14947.96,1831.55,1414.03,1475.17,23.04]
["2013M06","2013-06-01",{"$f":"B651>$C$8","v":true},{"$f":"IF(C651,B651,NA())","v":"2013-06-01"},{"$f":"INDEX(G651:BY651,$E$7)","v":3.83},{"$f":"INDEX(G651:BY651,$F$7)","v":16.61},99.74,103.11,100.33,95.79,82.75,77.290000000000006,3.83,11.92,16.61,114.37,2.2799999999999998,3.05,2,2.84,3.17,3.03,2.31,890.63,1500,1785.85,1807.79,876.88,853.5,524.66,1037.75,545.20000000000005,1147.3399999999999,1245.25,229.65,298.41000000000003,236.78,524.25,483.75,492,385.93,268.23,313.42,1.06,0.91,1.1599999999999999,3.93,2.4,6.83,13.71,0.43,0.42,0.38,4493.38,462.03,306.01,742.56,844.6,561.29999999999995,2.0499999999999998,2.33,2.81,125.63,424.13,410,329.38,395,1814.54,114.82,7000.24,2099.69,20267.400000000001,14280.28,1839.01,1343.35,1430.23,21.11]
["2013M07","2013-07-01",true,"2013-07-01",{"$f":"INDEX(G652:BY652,$E$7)","v":3.62},{"$f":"INDEX(G652:BY652,$F$7)","v":16.170000000000002},105.26,107.72,103.36,104.7,77.260000000000005,72.64,3.62,11.6,16.170000000000002,110.09,2.31,3.05,2.1,2.83,3.17,3.04,2.2799999999999998,860.43,1433.48,1719.92,1816.31,827.09,835.54,511.3,990.31,569.26,1008.78,1210.8699999999999,214.03,279.51,220.02,509,454,461.8,387.74,260.88,304.61,1,0.92,1.1200000000000001,3.94,2.2200000000000002,6.5,14.61,0.43,0.42,0.37,4635.3599999999997,458.32,298.76,727.7,827.7,548,2.04,2.2400000000000002,2.56,115,409.63,410,312.5,395,1769.61,127.19,6906.64,2047.73,19563.830000000002,13750.32,1837.62,1285.52,1401.48,19.71]
["2013M08","2013-08-01",true,"2013-08-01",{"$f":"INDEX(G653:BY653,$E$7)","v":3.43},{"$f":"INDEX(G653:BY653,$F$7)","v":15.6},108.16,110.96,106.96,106.55,76.959999999999994,72.91,3.43,11.64,15.6,107.5,2.48,2.98,2.0699999999999998,2.78,3.36,2.71,2.2799999999999998,892.61,1343.1,1714.4,1807.79,819.29,868.64,511.71,994.65,539.39,993.85,1111.67,185.1,238.74,220.62,478.75,425,428.25,399.44,252.43,305.33999999999997,0.98,0.94,1.19,3.95,2.04,6.5,15.65,0.43,0.45,0.38,4675.55,466.17,304.39,742.95,845.05,558.30999999999995,2.04,2.38,2.57,115,400.38,360,310.63,395,1817.62,137.06,7192.92,2174.1799999999998,21644.43,14314.93,1898.82,1351.74,1496.09,21.89]
["2013M09","2013-09-01",true,"2013-09-01",{"$f":"INDEX(G654:BY654,$E$7)","v":3.62},{"$f":"INDEX(G654:BY654,$F$7)","v":14.96},108.76,111.62,108.4,106.25,77.61,73.099999999999994,3.62,11.25,14.96,107.52,2.62,2.92,1.94,2.75,3.59,2.5499999999999998,2.12,985.24,1325,1668.63,1797.87,826.25,909.76,560.17999999999995,1019.72,576.80999999999995,983.52,1005.71,159.83000000000001,207.41,216.93,444,428,431.48,362,259.8,307.51,0.97,0.94,1.1200000000000001,3.99,1.98,6.37,16.079999999999998,0.44,0.46,0.38,4709.97,467.66,300.12,760.61,865.13,550.48,1.99,2.42,2.64,97.5,374.8,344,301,395,1761.3,134.19,7159.27,2084.92,22735.07,13801.39,1846.88,1348.6,1456.86,22.56]
["2013M10","2013-10-01",true,"2013-10-01",{"$f":"INDEX(G655:BY655,$E$7)","v":3.67},{"$f":"INDEX(G655:BY655,$F$7)","v":15.3},105.43,109.48,106.3,100.5,79.41,80.650000000000006,3.67,11.37,15.3,109.03,2.73,2.84,1.85,2.8,3.77,2.62,2,985.65,1335.87,1650.81,1764.66,859.66,912.17,540.85,990.96,584.87,1010.85,1008.48,155.69999999999999,201.73,205.25,439,423,420.43,376.32,287.72000000000003,325.69,0.96,0.93,1,4.04,1.96,6.81,16.46,0.45,0.48,0.41,4770.04,477.37,304.31,771,876.96,558.17999999999995,1.97,2.3199999999999998,2.5299999999999998,84.38,370,324,296.88,395,1814.58,132.57,7203.02,2115.4299999999998,23101.59,14117.65,1884.84,1316.58,1413.48,21.92]
["2013M11","2013-11-01",true,"2013-11-01",{"$f":"INDEX(G656:BY656,$E$7)","v":3.62},{"$f":"INDEX(G656:BY656,$F$7)","v":15.4},102.63,108.08,105.85,93.95,82.25,83.82,3.62,11.42,15.4,108.65,2.76,2.69,1.76,2.78,3.72,2.52,2.09,1274.5,1357.14,1614.74,1754.88,904.05,1108.0999999999999,551.32000000000005,989.83,567.19000000000005,1021.7,1004.05,158.91999999999999,199.13,195.23,438,405,414.3,395.88,274.43,306.75,0.88,0.92,0.77,4.1399999999999997,2.0299999999999998,7.32,16.82,0.44,0.46,0.39,5051.8900000000003,472.42,297.36,772.14,878.25,545.42999999999995,1.87,2.2999999999999998,2.4900000000000002,87.5,334.38,320,305,395,1747.96,136.32,7070.65,2089.56,22826.880000000001,13684.01,1866.42,1275.8599999999999,1420.1,20.76]
["2013M12","2013-12-01",true,"2013-12-01",{"$f":"INDEX(G657:BY657,$E$7)","v":4.24},{"$f":"INDEX(G657:BY657,$F$7)","v":16.38},105.48,110.67,107.92,97.85,84.34,84.62,4.24,11.55,16.38,117.45,2.82,2.78,1.94,2.9,3.81,2.5499999999999998,2.33,1270,1342,1552.25,1697.56,886.25,1147,564.03,990.52,569.45000000000005,1007.11,996,161.66999999999999,197.39,205.9,451,398.67,400.76,419.41,267.05,291.56,0.97,0.92,0.74,4.18,2.0699999999999998,7.77,16.87,0.45,0.44,0.36,4835.1499999999996,479.62,287.35000000000002,784.96,892.83,527.05999999999995,1.93,2.31,2.56,96.88,341.63,320,305,395,1739.81,135.79,7214.9,2136.73,22762.13,13924.55,1974.98,1221.51,1355.67,19.670000000000002]
["2014M01","2014-01-01",true,"2014-01-01",{"$f":"INDEX(G658:BY658,$E$7)","v":4.7},{"$f":"INDEX(G658:BY658,$F$7)","v":16.670000000000002},102.1,107.42,104.01,94.86,81.61,82.9,4.7,11.59,16.670000000000002,123.48,2.82,2.93,1.93,2.87,3.9,2.16,2.56,1269.0899999999999,1298.6400000000001,1536.47,1560.64,862.63,1158.6400000000001,565.5,942.1,539.52,948.01,951.82,167.64,198.06,210.21,450,377,405,402,246.55,275.58,0.99,0.93,0.75,4.18,2.11,8.19,16.93,0.44,0.45,0.34,4924.33,476.78,286.60000000000002,789.31,897.78,525.67999999999995,2.0099999999999998,2.14,2.34,97.5,403.38,333,330,395,1727.41,128.12,7291.47,2143.17,22063.86,14101.25,2036.93,1244.27,1420.95,19.88]
["2014M02","2014-02-01",true,"2014-02-01",{"$f":"INDEX(G659:BY659,$E$7)","v":5.97},{"$f":"INDEX(G659:BY659,$F$7)","v":16.760000000000002},104.83,108.81,104.94,100.73,76.290000000000006,77.599999999999994,5.97,11.3,16.760000000000002,137.61000000000001,2.99,3.83,2.11,2.58,3.65,1.85,2.2200000000000002,1364,1250,1557.26,1409.8,904.34,1292,490.73,970.96,570.75,971.77,953,169.94,209.32,221.12,459,382,449.85,393.16,258.67,292.11,1.05,0.95,0.77,4.28,2.02,8.1999999999999993,16.98,0.45,0.48,0.37,5051.8900000000003,478.14,291.83999999999997,793.19,902.19,535.29,2.0699999999999998,1.9,2.17,97.5,450.13,367,353.13,307.63,1695.17,121.37,7149.21,2108.0300000000002,22820.67,14203.55,2034.53,1299.58,1409.53,20.85]
["2014M03","2014-03-01",true,"2014-03-01",{"$f":"INDEX(G660:BY660,$E$7)","v":4.88},{"$f":"INDEX(G660:BY660,$F$7)","v":16.55},104.04,107.4,104.15,100.57,73.34,74.599999999999994,4.88,10.88,16.55,122.17,3.04,4.72,2.3199999999999998,2.5,3.59,1.8,2.09,1389.05,1235.71,1651.2,1366.87,953.81,1376.9,530.80999999999995,996.67,601.52,1009.95,984.76,177.75,222.33,234.35,422,366,425.1,378.57,286.92,323.70999999999998,1.1200000000000001,0.96,0.81,4.47,2.2599999999999998,8.0500000000000007,17.09,0.45,0.49,0.39,5083.59,483.81,290.92,796.3,905.74,533.62,2.14,1.93,2.29,106.6,486.5,384,327.5,278.5,1705.37,111.83,6650.04,2053.08,23024.31,15678.1,2007.9,1336.08,1451.62,20.72]
["2014M04","2014-04-01",true,"2014-04-01",{"$f":"INDEX(G661:BY661,$E$7)","v":4.63},{"$f":"INDEX(G661:BY661,$F$7)","v":16.79},104.87,107.79,104.73,102.08,72.819999999999993,75.06,4.63,10.73,16.79,118.66,3.05,4.93,2.33,2.67,3.55,2.38,2.09,1356.13,1197,1629.2,1366.87,926.63,1291.75,516.17999999999995,1001.69,584.36,1011.42,952.25,181.42,222.36,232.37,395,352,399.29,370.91,277.08999999999997,324.81,1.23,0.93,0.85,4.3499999999999996,2.38,8.2799999999999994,17.66,0.45,0.54,0.39,5089.1000000000004,483.53,290.33,802.25,912.49,532.53,2.08,1.78,2.15,111.5,409,383,260,299,1810.67,114.58,6673.56,2087.09,23405.200000000001,17373.599999999999,2027.21,1298.45,1430.33,19.739999999999998]
["2014M05","2014-05-01",true,"2014-05-01",{"$f":"INDEX(G662:BY662,$E$7)","v":4.5599999999999996},{"$f":"INDEX(G662:BY662,$F$7)","v":16.32},105.71,109.68,105.6,101.86,73.69,75.78,4.5599999999999996,10.199999999999999,16.32,114.95,3.03,4.72,2.27,2.87,3.67,2.98,1.96,1413.25,1180,1632.73,1366.87,898.42,1255.25,519.41999999999996,961.81,568,954.94,951.5,181.88,217.3,220.68,388,346,391.55,390.48,277.20999999999998,334.73,1.1200000000000001,0.91,0.84,4.38,2.56,8.24,17.97,0.45,0.54,0.4,5117.5600000000004,480.9,292.5,807.13,918.05,536.5,2.04,1.69,2.02,112.63,413.56,385,265,300.88,1751.05,100.56,6891.13,2097.3200000000002,23271.25,19401.080000000002,2058.9699999999998,1288.74,1456.27,19.34]
["2014M06","2014-06-01",true,"2014-06-01",{"$f":"INDEX(G663:BY663,$E$7)","v":4.57},{"$f":"INDEX(G663:BY663,$F$7)","v":16.13},108.37,111.87,108.01,105.24,71.48,74.09,4.57,9.77,16.13,112.86,3.17,4.3600000000000003,2.1800000000000002,2.85,3.58,3.06,1.91,1393.25,1180,1720.67,1366.87,861.88,1233.75,511.14,925.82,543.86,948.33,942.38,160.29,202.39,204.7,397,356,402.57,404.5,236.65,306.44,1.07,0.93,0.83,4.54,2.5499999999999998,7.9,18.149999999999999,0.44,0.56999999999999995,0.4,4996.08,475.69,291.72000000000003,810.01,921.32,535.08000000000004,2,1.71,2.04,111.4,421.38,389,288.75,301.5,1838.95,92.74,6821.14,2106.94,22762,18628.810000000001,2128.1,1279.0999999999999,1452.76,19.89]
["2014M07","2014-07-01",true,"2014-07-01",{"$f":"INDEX(G664:BY664,$E$7)","v":4.01},{"$f":"INDEX(G664:BY664,$F$7)","v":15.21},105.23,106.98,105.76,102.94,68.75,71.44,4.01,9.27,15.21,103.07,3.2,4.34,2.2400000000000002,2.96,3.51,3.29,2.1,1255.22,1181.74,1734.13,1373.38,853.69,1106.3,471.74,897.43,503.35,892.08,908.04,138.71,182.73,193.01,422,375,435.39,420.87,218.31,280.35000000000002,1.02,0.93,0.79,5.17,2.4500000000000002,7.75,18.98,0.44,0.55000000000000004,0.4,4991.26,474.01,292.7,818.15,930.59,536.87,1.85,1.7,2,111,440.63,390,305,279.5,1948.3,96.05,7113.38,2193.2399999999998,22424.01,19117.650000000001,2310.62,1310.5899999999999,1492.18,20.92]
["2014M08","2014-08-01",true,"2014-08-01",{"$f":"INDEX(G665:BY665,$E$7)","v":3.88},{"$f":"INDEX(G665:BY665,$F$7)","v":15.74},100.05,101.92,101.85,96.38,68.94,71.19,3.88,9.14,15.74,101.28,3.27,4.7,2.21,2.79,3.49,2.86,2.0299999999999998,1187.6199999999999,1200,1729.32,1388.91,778.69,938.81,458.57,861.77,502.12,851.75,853.75,118.5,176.42,191.36,445,414,460.57,442.62,220.36,263.45,0.99,0.96,0.77,5.79,2.27,7.72,19.25,0.43,0.56999999999999995,0.38,4919.97,466.1,289.17,800.33,910.31,530.41,1.63,1.67,1.86,111,446.5,391,311.25,279.5,2030.49,92.61,7001.84,2236.84,22231.05,18600.2,2326.9899999999998,1295.1300000000001,1446.33,19.739999999999998]
["2014M09","2014-09-01",true,"2014-09-01",{"$f":"INDEX(G666:BY666,$E$7)","v":3.92},{"$f":"INDEX(G666:BY666,$F$7)","v":15.16},95.85,97.34,96.99,93.22,65.94,67.86,3.92,9.24,15.16,101.76,3.21,4.6399999999999997,2.2200000000000002,2.64,3.37,2.65,1.89,1193.4100000000001,1213.6400000000001,1678.85,1388.91,760.75,904.55,430.17,839.82,459.73,836.46,834.09,105.64,163.06,180.56,432,411,449.91,442.05,202.83,243.61,0.97,0.92,0.77,6.17,2.36,7.72,18.350000000000001,0.42,0.56000000000000005,0.35,4923.7700000000004,451.82,277.55,781.59,889,509.09,1.62,1.53,1.67,111.38,438.1,398,317.5,279.5,1990.43,82.38,6872.22,2117.2399999999998,21090.52,18034.8,2294.59,1236.55,1359.48,18.37]
["2014M10","2014-10-01",true,"2014-10-01",{"$f":"INDEX(G667:BY667,$E$7)","v":3.77},{"$f":"INDEX(G667:BY667,$F$7)","v":15.89},86.08,87.27,86.57,84.4,63.71,65.739999999999995,3.77,9.77,15.89,103.02,3.1,4.97,2.31,2.65,3.42,2.61,1.91,1148.7,1338.7,1696.44,1388.91,764.4,936.09,425.81,833.03,453.13,859.11,888.26,112.07,163.12,195.22,428,409,437.57,436.96,220.14,245.45,1.01,0.9,0.73,5.95,2.36,7.74,17.5,0.41,0.57999999999999996,0.37,4943.2299999999996,443.49,275.64999999999998,769.95,875.76,505.6,1.55,1.51,1.63,116,418.75,398,317.5,279.5,1946.19,81.06,6737.48,2034.26,19830.41,15812.37,2276.83,1222.49,1259.76,17.16]
["2014M11","2014-11-01",true,"2014-11-01",{"$f":"INDEX(G668:BY668,$E$7)","v":4.0999999999999996},{"$f":"INDEX(G668:BY668,$F$7)","v":15.59},76.989999999999995,78.44,76.73,75.81,62.55,65.66,4.0999999999999996,8.9,15.59,102.66,2.91,4.62,2.27,2.65,3.33,2.71,1.9,1191.6300000000001,1397,1806.34,1388.91,764.75,970,449.9,825.98,473.6,841.33,922.75,113.91,178.74,213.85,418,400,423.8,422,236.03,258.68,1,0.9,0.72,5.84,2.31,7.87,17.309999999999999,0.41,0.53,0.36,4922.28,436.59,256.13,756.01,859.9,469.8,1.49,1.54,1.64,119.5,408.75,385,317.5,279.5,2055.5500000000002,73.73,6712.85,2030.18,20033.47,15807.05,2253.2199999999998,1175.33,1208.32,15.97]
["2014M12","2014-12-01",true,"2014-12-01",{"$f":"INDEX(G669:BY669,$E$7)","v":3.43},{"$f":"INDEX(G669:BY669,$F$7)","v":15.62},60.7,62.33,60.52,59.26,62.44,66.14,3.43,9.83,15.62,99,2.95,4.34,2.2000000000000002,2.62,3.37,2.62,1.88,1212.1400000000001,1427.38,1795.13,1372.88,719.64,972.26,448.32,814.55,469.67,814.81,900.95,123.09,178.73,227.3,418,398,421.18,382.39,261.77999999999997,269.7,0.95,0.91,0.77,5.46,2.2200000000000002,8.2100000000000009,17.38,0.4,0.55000000000000004,0.34,4926.2299999999996,431.17,249.39,749.2,852.16,457.45,1.51,1.47,1.61,119.5,418.38,381,308.13,279.5,1909.46,68.39,6446.45,1938.11,19829.71,15962.05,2175.7600000000002,1200.6199999999999,1215.32,16.3]
["2015M01",{"$f":"EDATE(B669,1)","v":"2015-01-01"},true,"2015-01-01",{"$f":"INDEX(G670:BY670,$E$7)","v":2.97},{"$f":"INDEX(G670:BY670,$F$7)","v":16.190000000000001},47.11,48.07,45.98,47.27,61.44,59.29,2.97,9.25,16.190000000000001,91.06,2.92,4.1900000000000004,2.16,2.61,3.24,2.2799999999999998,2.3199999999999998,1145.71,1392.86,1712.65,1350.33,719.64,1010.48,433.21,796.58,442.64,777.72,870.71,128.13999999999999,174.71,215.06,420,400,418.55,374.42,231.47,248.39,0.89,0.91,0.76,5.3,2.2200000000000002,7.93,17.420000000000002,0.38,0.56000000000000005,0.34,4922.8599999999997,407.61,251.48,726.83,826.71,461.27,1.48,1.42,1.66,119.5,440.25,381.5,305,279.5,1814.72,68.23,5830.54,1843.13,19454.12,14849.19,2113.0500000000002,1250.75,1242.45,17.239999999999998]
["2015M02","2015-02-01",true,"2015-02-01",{"$f":"INDEX(G671:BY671,$E$7)","v":2.85},{"$f":"INDEX(G671:BY671,$F$7)","v":14.2},54.79,57.93,55.83,50.61,69.05,63.48,2.85,8.27,14.2,83.52,2.96,3.94,2.17,2.4500000000000002,3.11,1.84,2.42,1160.5,1350,1677.34,1344.82,723.04,1052.3699999999999,423.55,762.61,418.25,762.51,825,125.39,173.7,217.71,420,400,417,353.5,219.85,237,0.94,1,0.7,4.88,2.0299999999999998,7.71,17.48,0.37,0.54,0.32,4910.97,397.5,250.89,734.3,835.21,460.18,1.54,1.43,1.82,121.25,444.13,382.5,305,279.5,1817.82,62.75,5729.27,1795.66,18233.91,14573.84,2097.7600000000002,1227.08,1197.1600000000001,16.79]
["2015M03","2015-03-01",true,"2015-03-01",{"$f":"INDEX(G672:BY672,$E$7)","v":2.8},{"$f":"INDEX(G672:BY672,$F$7)","v":13.04},52.83,55.79,54.91,47.78,64.760000000000005,59.92,2.8,8.27,13.04,82.16,2.88,3.54,2.0299999999999998,2.41,3.08,1.42,2.72,1090.68,1350,1570.53,1344.82,698.86,1020.8,409.79,749.93,412.36,751.16,804.55,126.31,174.23,227.74,410,392,411,360.74,218.8,230.75,0.93,1.04,0.63,4.72,2.15,7.58,17.45,0.35,0.53,0.28999999999999998,4961.57,379.19,247.32,717.91,816.57,453.64,1.53,1.43,1.74,123,428.8,383,295.5,283.39999999999998,1773.86,58.05,5939.67,1792.47,17421.91,13755.5,2028.73,1178.6300000000001,1138.6400000000001,16.239999999999998]
["2015M04","2015-04-01",true,"2015-04-01",{"$f":"INDEX(G673:BY673,$E$7)","v":2.58},{"$f":"INDEX(G673:BY673,$F$7)","v":10.94},57.54,59.39,58.8,54.44,56.24,58.95,2.58,6.77,10.94,70.94,2.87,3.62,2.0299999999999998,2.63,3.01,2.13,2.77,1077.5,1339.5,1569.57,1344.82,682.75,979.75,394.73,747.74,398.09,747.72,833.5,129.06,172.05,224.21,399,384,400.26,354.02,209.7,223.4,0.91,1.03,0.61,4.82,2.31,7.77,16.93,0.35,0.54,0.28999999999999998,4986.71,377.76,249.06,715.85,814.23,456.83,1.58,1.41,1.7,114.13,409,380,260,299,1819.19,52.28,6042.09,2005.36,15900.88,12830.92,2212.7199999999998,1198.93,1151.29,16.34]
["2015M05","2015-05-01",true,"2015-05-01",{"$f":"INDEX(G674:BY674,$E$7)","v":2.84},{"$f":"INDEX(G674:BY674,$F$7)","v":9.34},62.51,64.56,63.69,59.27,61.19,61.63,2.84,6.68,9.34,72.569999999999993,3.1,3.49,1.93,2.89,2.97,2.6,3.09,1131.94,1270,1619.84,1344.82,697.35,962.06,388.2,785.13,386.12,769.95,916.05,126.77,166.29,217.38,381,368,386.53,351,200.77,215.32,0.94,0.94,0.61,4.5,2.35,7.48,15.86,0.36,0.54,0.28999999999999998,5018.01,390.78,246.5,740.67,842.46,452.14,1.61,1.55,1.84,110.5,413.56,380,265,300.88,1804.04,60.3,6294.78,1991.78,15803.59,13511.34,2281.8000000000002,1198.6300000000001,1140.4000000000001,16.829999999999998]
["2015M06","2015-06-01",true,"2015-06-01",{"$f":"INDEX(G675:BY675,$E$7)","v":2.77},{"$f":"INDEX(G675:BY675,$F$7)","v":9.19},61.31,62.34,61.78,59.8,58.96,60.71,2.77,6.67,9.19,71.55,3.24,3.52,1.99,3,3.01,2.71,3.27,1123.6400000000001,1250,1547.16,1365.86,705.91,914.43,391.48,788.21,387,841.79,927.95,118.96,166.72,221.12,376,365,375.95,349,204.99,209.81,0.9,0.92,0.63,4.4400000000000004,2.2799999999999998,7.28,13.79,0.37,0.55000000000000004,0.27,4947.2299999999996,392.46,240.59,745.32,847.75,441.29,1.6,1.58,1.82,118.9,421.38,380,288.75,301.5,1687.73,62.63,5833.01,1829.5,15064.94,12825.23,2082.09,1181.5,1088.82,16.079999999999998]
["2015M07","2015-07-01",true,"2015-07-01",{"$f":"INDEX(G676:BY676,$E$7)","v":2.83},{"$f":"INDEX(G676:BY676,$F$7)","v":9.5},54.34,55.87,56.25,50.9,59.9,57.9,2.83,6.69,9.5,72.62,3.33,3.41,1.92,3.1,3.04,2.86,3.39,1103.04,1269.1300000000001,1440.43,1388.91,680,869.13,405.87,752.32,407.09,809.98,917.39,124.01,179.6,222.89,392,376,389.86,345.78,207.38,197.31,0.89,0.94,0.64,4.6500000000000004,2.0699999999999998,7.28,12.26,0.36,0.54,0.28000000000000003,4878.08,385.14,241.27,745.61,848.07,442.54,1.6,1.45,1.64,121,431.5,380,283.75,301.5,1639.5,52.39,5456.75,1763.04,15071.53,11413.1,2000.68,1128.31,1009.27,15.05]
["2015M08","2015-08-01",true,"2015-08-01",{"$f":"INDEX(G677:BY677,$E$7)","v":2.76},{"$f":"INDEX(G677:BY677,$F$7)","v":9.82},45.69,46.99,47.22,42.86,59.14,55.02,2.76,6.35,9.82,70.37,3.15,3.46,1.89,2.96,2.91,2.8,3.17,1032.3800000000001,1233.5,1466.01,1392.06,601.38,735.48,378.78,728.33,385.86,753.56,894.75,110.69,162.59,183.53,373,362,377.5,340.13,187.87,179.68,0.9,0.96,0.68,4.7699999999999996,1.82,7.28,10.39,0.36,0.54,0.25,4925.58,389.8,241.7,747.29,849.98,443.33,1.58,1.31,1.45,121,434.63,378.8,274.63,301.5,1548.13,56.19,5127.3,1703.6,15163.77,10386,1807.64,1117.93,984.1,14.94]
["2015M09","2015-09-01",true,"2015-09-01",{"$f":"INDEX(G678:BY678,$E$7)","v":2.65},{"$f":"INDEX(G678:BY678,$F$7)","v":10.31},46.28,47.24,46.15,45.45,57.65,51.38,2.65,6.28,10.31,68.959999999999994,3.28,3.22,1.8,2.78,2.65,2.59,3.1,1051.5899999999999,1280,1471.88,1399.94,599.5,799.66,367.49,720.4,374.45,771.69,896.82,109.77,165.62,173.61,357,347,360,326.43,193.97,172.7,0.91,0.95,0.63,4.58,1.69,7.28,8.77,0.37,0.53,0.26,4887.3599999999997,393.02,247.78,735.64,836.74,454.48,1.52,1.24,1.35,124,428,379,279.38,301.5,1589.6,56.95,5217.25,1684.25,15453.34,9937.5499999999993,1720.23,1124.77,964.38,14.75]
["2015M10","2015-10-01",true,"2015-10-01",{"$f":"INDEX(G679:BY679,$E$7)","v":2.3199999999999998},{"$f":"INDEX(G679:BY679,$F$7)","v":10.11},46.96,48.12,46.55,46.2,54.26,50.11,2.3199999999999998,6.03,10.11,63.61,3.2,3.38,1.82,2.86,2.81,2.54,3.24,1104.0899999999999,1280,1520.37,1399.94,636.66999999999996,857.73,375.95,743.3,372.68,809.13,961.59,118.04,171.39,177.47,373,362,369.27,342.4,206.34,172.71,0.93,0.93,0.66,4.24,1.61,7.28,8.7100000000000009,0.37,0.55000000000000004,0.31,4858.43,393.3,248.08,734.83,835.81,455.04,1.52,1.24,1.33,123.5,423.75,380,250.63,301.5,1516.49,53.12,5216.09,1720.11,15794.61,10316.83,1724.34,1159.25,976.91,15.81]
["2015M11","2015-11-01",true,"2015-11-01",{"$f":"INDEX(G680:BY680,$E$7)","v":2.08},{"$f":"INDEX(G680:BY680,$F$7)","v":9.52},43.11,44.42,42.22,42.7,52.47,53.34,2.08,5.5,9.52,57.83,3.36,3.26,1.8,2.82,2.92,2.4900000000000002,3.06,1071.07,1307.83,1517.92,1413.16,608.21,788.75,368,727.34,350.57,799.62,915.24,119.42,166.16,169.09,368,359,366.24,353.61,203.41,177.1,0.85,0.93,0.77,4.03,1.62,7.52,9.6300000000000008,0.35,0.56999999999999995,0.32,4813.09,375.87,242.9,728.5,828.62,445.54,1.53,1.1599999999999999,1.24,123.5,383.88,366.4,263.63,301.5,1467.89,46.86,4799.8999999999996,1618.35,14745.29,9244.33,1583.31,1086.44,885.2,14.45]
["2015M12","2015-12-01",true,"2015-12-01",{"$f":"INDEX(G681:BY681,$E$7)","v":1.92},{"$f":"INDEX(G681:BY681,$F$7)","v":9.08},36.57,37.72,34.770000000000003,37.229999999999997,52.21,48.77,1.92,5.09,9.08,53.71,3.35,3.28,1.75,2.81,2.95,2.4500000000000002,3.03,1150,1335.65,1536.52,1446.03,607.38,849.55,368.42,765.7,338.35,820.94,898.18,119.42,163.95,169.76,363,356,360.24,371,191.98,189.23,0.86,0.93,0.77,3.8,1.74,7.61,9.89,0.36,0.56999999999999995,0.32,4789.6499999999996,380.56,244.62,718.15,816.85,448.69,1.55,1.1599999999999999,1.27,123.5,340.63,360,264,301.5,1497.2,40.5,4638.83,1706.58,14691.69,8707.7900000000009,1527.79,1075.74,859.82,14.13]
["2016M01","2016-01-01",true,"2016-01-01",{"$f":"INDEX(G682:BY682,$E$7)","v":2.27},{"$f":"INDEX(G682:BY682,$F$7)","v":8.4},29.78,30.8,27,31.54,49.02,49.09,2.27,4.4000000000000004,8.4,54.22,2.95,3.2,1.65,2.5499999999999998,2.85,2.08,2.72,1152,1307.83,1498.6,1359.9,611.63,895.63,373.08,736.03,336.48,781.35,885.35,118.5,161.03,164.91,369,361,366.19,364.91,191.73,193.27,0.86,1.04,0.69,3.63,1.85,7.61,10.47,0.35,0.56999999999999995,0.31,4730.96,380.21,251.76,690.7,785.62,461.78,1.52,1.08,1.23,122.6,327.13,334,233.88,301.5,1481.1,41.88,4471.79,1646.2,13808.08,8507.2900000000009,1520.36,1097.9100000000001,855.25,14.11]
["2016M02","2016-02-01",true,"2016-02-01",{"$f":"INDEX(G683:BY683,$E$7)","v":1.96},{"$f":"INDEX(G683:BY683,$F$7)","v":8.56},31.03,33.200000000000003,29.5,30.39,50.27,50.33,1.96,3.97,8.56,48.43,2.92,3.26,1.63,2.35,2.83,1.75,2.48,1218.93,1280,1511.99,1317.26,679.17,986.9,373.75,767.24,323.29000000000002,779.88,898.19,114.82,159.68,164.91,384,374,377.38,360.13,188.43,187.03,0.93,1.05,0.69,3.86,1.77,7.59,10.8,0.36,0.56000000000000005,0.28999999999999998,4670.33,388.43,259.33999999999997,685.86,780.11,475.7,1.47,1.1000000000000001,1.27,114.5,326,286.25,191.88,301.5,1531.26,46.83,4598.62,1765.75,15610.14,8298.5,1709.85,1199.5,919.35,15.17]
["2016M03","2016-03-01",true,"2016-03-01",{"$f":"INDEX(G684:BY684,$E$7)","v":1.7},{"$f":"INDEX(G684:BY684,$F$7)","v":7.74},37.340000000000003,39.07,35.18,37.770000000000003,52.21,52.57,1.7,3.91,7.74,44.49,3.07,3.47,1.67,2.31,2.87,1.77,2.2999999999999998,1440.48,1280,1443.58,1300.73,715.95,1210.5999999999999,380.97,765.61,319.13,766.26,859.19,112.99,159.13999999999999,160.5,384,375,374.9,360.2,189.69,191.07,0.94,1.01,0.68,4.03,1.85,7.39,10.67,0.36,0.57999999999999996,0.34,4569.68,388.89,263.62,681.4,775.04,483.53,1.44,1.28,1.46,114.5,338.13,291.25,201.75,301.5,1531.01,56.2,4953.8,1802.19,16897.599999999999,8717.25,1801.69,1245.1400000000001,967.73,15.47]
["2016M04","2016-04-01",true,"2016-04-01",{"$f":"INDEX(G685:BY685,$E$7)","v":1.9},{"$f":"INDEX(G685:BY685,$F$7)","v":6.82},40.75,42.25,39.04,40.96,50.69,52.35,1.9,3.97,6.82,46.63,3.08,3.4,1.77,2.54,2.99,2.5099999999999998,2.11,1580.95,1294.47,1474.33,1314.38,775,1299.05,395.14,794.13,346.19,808.51,875.95,112.53,164.41,162.26,395,386,383.53,371,192.76,187.39,0.94,0.99,0.71,3.96,1.93,7.39,10.53,0.37,0.62,0.34,4625,396.73,271.7,685.76,780,498.36,1.53,1.49,1.71,114.13,330.5,295,196.25,301.5,1571.23,60.92,4872.74,1732.27,17032.71,8878.86,1855.37,1242.26,994.19,16.36]
["2016M05","2016-05-01",true,"2016-05-01",{"$f":"INDEX(G686:BY686,$E$7)","v":1.92},{"$f":"INDEX(G686:BY686,$F$7)","v":6.27},45.94,47.13,43.95,46.73,51.31,54.24,1.92,4.33,6.27,48.17,3.1,3.42,1.85,2.57,3.08,2.4300000000000002,2.21,1439.5,1200,1500.81,1322.77,753.42,1218.25,422.55,795.64,421.64,805.59,881,112.07,168.96,158.51,433,415,414.38,377.31,189.85,171.96,0.93,0.99,0.76,4.04,2.06,7.39,10.47,0.37,0.6,0.38,4680.3599999999997,395.82,273.27,696.35,792.05,501.24,1.55,1.36,1.63,110.5,313.5,295,198.38,301.5,1550.63,55.13,4694.54,1707.8,16706.95,8660.35,1869.03,1260.95,1035.8599999999999,16.95]
["2016M06","2016-06-01",true,"2016-06-01",{"$f":"INDEX(G687:BY687,$E$7)","v":2.57},{"$f":"INDEX(G687:BY687,$F$7)","v":6.4},47.69,48.48,45.83,48.75,52.85,58.59,2.57,4.76,6.4,58.11,3.12,3.65,1.89,2.65,2.96,2.58,2.41,1547.95,1195,1517.12,1365.86,718.18,1337.27,457.4,799.91,467.73,793.48,860.23,108.39,179.87,166.67,441,422,426.79,372.46,187.01,173.06,0.94,0.99,0.88,4.1100000000000003,2.15,7.34,10.47,0.37,0.61,0.43,4809.95,393.16,282.26,681.12,774.72,517.73,1.63,1.26,1.49,110.5,306.63,285,142.63,301.5,1593.51,51.98,4641.97,1712.77,16966.689999999999,8928.35,2026.19,1276.4000000000001,984.14,17.29]
["2016M07","2016-07-01",true,"2016-07-01",{"$f":"INDEX(G688:BY688,$E$7)","v":2.79},{"$f":"INDEX(G688:BY688,$F$7)","v":6.76},44.13,45.07,42.62,44.69,61.24,62.39,2.79,4.67,6.76,60.66,3.05,3.79,2,2.77,3.18,2.7,2.4300000000000002,1515,1327.78,1493.28,1415.37,678.16,1290,431.08,796.67,439.9,767.83,832.86,107.02,161.76,145.16999999999999,442,424,417.89,361.57,166.51,151.75,0.93,1.01,0.97,4.26,1.96,7.15,10.47,0.36,0.62,0.43,4856.58,387.35,285.98,630.41999999999996,717.06,524.54999999999995,1.79,1.28,1.59,110.5,305.2,281,181,282.5,1629.05,57.26,4864.8999999999996,1834.79,17826.23,10262.86,2183.25,1336.66,1087.5,19.989999999999998]
["2016M08","2016-08-01",true,"2016-08-01",{"$f":"INDEX(G689:BY689,$E$7)","v":2.79},{"$f":"INDEX(G689:BY689,$F$7)","v":7.14},44.88,46.14,43.74,44.75,67.39,66.34,2.79,4.05,7.14,57.97,3.03,3.69,2.02,2.78,3.46,2.56,2.31,1575,1565.63,1539.99,1433,771.02,1423.7,412.17,824.42,398.7,817.52,830.35,95.53,150.15,152.66999999999999,415,403,393.78,347.46,159.28,149.18,0.9,1.04,0.96,4.24,1.74,6.83,10.84,0.37,0.63,0.44,4889.71,392.32,294.02999999999997,628.46,714.82,539.30999999999995,1.77,1.3,1.55,109.75,318.06,281.25,186.25,206.5,1639.28,60.89,4751.67,1835.52,18427.02,10335.99,2279.14,1340.17,1121.6500000000001,19.59]
["2016M09","2016-09-01",true,"2016-09-01",{"$f":"INDEX(G690:BY690,$E$7)","v":2.97},{"$f":"INDEX(G690:BY690,$F$7)","v":7.54},45.04,46.19,43.74,45.2,72.72,68.33,2.97,4.25,7.54,61.38,2.88,3.89,2.14,2.79,3.6,2.44,2.33,1557.39,1550,1536.8,1433,797.85,1443.86,403.53,837.21,368.05,849.65,865.73,89.56,148.43,145.38999999999999,384,378,365.27,342.73,157.56,150.65,0.91,1,1.05,4.12,1.7,6.91,11.88,0.37,0.62,0.47,4957.0200000000004,392.42,292.14999999999998,630.04,716.62,535.87,1.72,1.36,1.57,109,320,287,187.3,206.5,1592.36,57.79,4722.2,1947.64,19499.52,10191.780000000001,2292.31,1326.61,1046.71,19.36]
["2016M10","2016-10-01",true,"2016-10-01",{"$f":"INDEX(G691:BY691,$E$7)","v":2.95},{"$f":"INDEX(G691:BY691,$F$7)","v":7.65},49.29,49.73,48.26,49.89,94.2,83.79,2.95,5.34,7.65,66.37,2.71,3.95,2.29,2.89,3.88,2.39,2.39,1473.57,1550,1487.98,1433,749.75,1331.19,401.87,861.26,361.88,914.14,873,91.86,152.26,148.69999999999999,369,365,349.9,336.39,164.37,151.75,0.9,0.97,1.06,4.04,1.59,7.28,12.29,0.36,0.63,0.49,4906.03,386.02,286.86,591.61,672.91,526.16,1.73,1.48,1.66,109,310,285,187.5,206.5,1665.9,59.09,4731.26,2024.49,20099.759999999998,10259.74,2311.5,1266.55,959.14,17.66]
["2016M11","2016-11-01",true,"2016-11-01",{"$f":"INDEX(G692:BY692,$E$7)","v":2.5},{"$f":"INDEX(G692:BY692,$F$7)","v":7.59},45.26,46.44,43.77,45.57,103.43,89.15,2.5,5.69,7.59,62.58,2.48,4.0599999999999996,2.29,3.03,4.01,2.41,2.68,1553.41,1563.64,1459.81,1433,766.93,1512.95,397.76,885.11,357,918.26,873,91.86,151.80000000000001,144.29,365,357,339.59,338,167.28,150.65,0.86,0.96,1.1399999999999999,4.3,1.76,7.36,12.49,0.35,0.63,0.45,4878.28,378.32,275.14,595.49,677.33,504.67,1.74,1.66,1.87,103,298,285,205,206.5,1737.11,73.099999999999994,5450.93,2180.58,21126.09,11128.91,2566.1999999999998,1238.3499999999999,955.14,17.41]
["2016M12","2016-12-01",true,"2016-12-01",{"$f":"INDEX(G693:BY693,$E$7)","v":3.58},{"$f":"INDEX(G693:BY693,$F$7)","v":7.59},52.62,54.07,51.78,52.01,88.15,80.19,3.58,5.42,7.59,74.42,2.2999999999999998,3.57,2.25,2.98,3.91,2.36,2.67,1727.14,1600,1423.35,1439.3,811.38,1666.43,416.07,916.7,355.95,930.43,873,91.86,152.44999999999999,153.11000000000001,373,364,354.42,341,161.16999999999999,141.83000000000001,0.83,0.96,1.08,4.1399999999999997,1.86,7.5,13.2,0.34,0.64,0.41,4912.0600000000004,369.25,256.42,598.08000000000004,680.27,470.33,1.75,1.93,2.23,97.5,296.63,277.5,217.75,206.5,1727.74,80.02,5660.35,2209.84,21204.35,10972.27,2664.81,1157.3599999999999,918.38,16.43]
["2017M01","2017-01-01",true,"2017-01-01",{"$f":"INDEX(G694:BY694,$E$7)","v":3.26},{"$f":"INDEX(G694:BY694,$F$7)","v":8.0399999999999991},53.59,54.89,53.37,52.51,83.73,86.49,3.26,6.14,8.0399999999999991,74.260000000000005,2.19,3.72,2.39,3.04,3.95,2.14,3.05,1818.64,1643.64,1397.52,1427.78,825,1737.27,412,876.85,371.05,890.82,873,91.86,159.99,156.19999999999999,377,369,355.91,336.55,173.61,153.22,0.83,1,0.94,4.07,1.94,7.52,13.41,0.35,0.65,0.45,4904.88,371.6,258.60000000000002,590.65,671.82,474.33,1.82,2.16,2.56,96.88,308,270,233.75,206.5,1791.24,80.41,5754.56,2242.62,20691.79,9971.4599999999991,2714.8,1192.0999999999999,971.15,16.899999999999999]
["2017M02","2017-02-01",true,"2017-02-01",{"$f":"INDEX(G695:BY695,$E$7)","v":2.82},{"$f":"INDEX(G695:BY695,$F$7)","v":8.41},54.35,55.49,54.17,53.4,79.98,83.6,2.82,6.05,8.41,68.75,2.0299999999999998,3.67,2.35,2.96,3.97,1.85,3.06,1688.25,1653.5,1350.87,1359.9,808.61,1566.5,394.53,839.6,373.6,874.38,873,91.86,162.86000000000001,157.08000000000001,367,361,348.75,335.34,181,155.06,0.83,1.05,0.9,4.2300000000000004,1.94,7.37,13.64,0.35,0.67,0.45,4870.49,372.44,263.45,598.27,680.49,483.23,1.88,2.23,2.71,95,326,278.75,191.88,301.5,1860.75,89.44,5940.91,2311.5,19446.47,10643.3,2845.55,1234.2,1007.63,17.93]
["2017M03","2017-03-01",true,"2017-03-01",{"$f":"INDEX(G696:BY696,$E$7)","v":2.89},{"$f":"INDEX(G696:BY696,$F$7)","v":8.25},50.9,51.97,51.16,49.58,80.900000000000006,79.11,2.89,5,8.25,64.42,2.06,3.53,2.35,2.87,4.01,1.69,2.92,1542.39,1641.3,1305.67,1398.98,778.7,1229.57,383.68,814.94,360.7,847.32,835.17,93.7,158.96,151.13,370,364,358.43,343.56,176.54,154.32,0.85,1.07,0.92,4.3499999999999996,2.13,7.4,13.78,0.35,0.66,0.4,4864.71,374.05,263.48,591.23,672.48,483.27,1.91,1.97,2.35,97.5,325.63,288,223.5,206.5,1901.47,87.65,5824.63,2280.92,19875.2,10204.66,2776.88,1231.42,962.87,17.63]
["2017M04","2017-04-01",true,"2017-04-01",{"$f":"INDEX(G697:BY697,$E$7)","v":3.08},{"$f":"INDEX(G697:BY697,$F$7)","v":8.76},52.16,52.98,52.45,51.06,83.65,78.89,3.08,5.01,8.76,67.180000000000007,1.96,3.43,2.2799999999999998,3.03,4.05,2.1800000000000002,2.87,1589.72,1600,1297.58,1421.4,752.06,1085.56,387.44,794.04,345.7,839.33,797.67,94.16,156.44,149.80000000000001,380,369,358.53,344.65,172.19,166.08,0.87,1.06,0.85,4.41,2.16,8.44,13.78,0.35,0.63,0.36,4708.62,374.96,270.33999999999997,605.27,688.44,495.87,1.92,1.65,2.21,95.63,313.13,285,207.88,206.5,1921.22,70.22,5683.9,2220.61,19910.32,9609.2800000000007,2614.92,1266.8800000000001,960.84,18.03]
["2017M05","2017-05-01",true,"2017-05-01",{"$f":"INDEX(G698:BY698,$E$7)","v":3.12},{"$f":"INDEX(G698:BY698,$F$7)","v":9.1},49.89,50.87,50.31,48.5,74.42,74.41,3.12,5.0599999999999996,9.1,68.16,1.98,3.31,2.17,3.2,4.0199999999999996,2.63,2.94,1719.29,1593.04,1330.3,1453.05,762.75,1098.57,389.72,825.06,344.35,842.05,795,94.16,158.59,159.94999999999999,421,399,394.95,345,174.97,180.41,0.91,1.0900000000000001,0.76,4.5999999999999996,2.33,8.57,14.29,0.36,0.63,0.35,4582.0600000000004,386.75,265.27999999999997,619.4,704.52,486.59,1.95,1.53,2.1,92.5,309.25,275,178.75,206.5,1913.02,62.43,5599.56,2125.11,20200.330000000002,9155.1200000000008,2590.21,1246.04,930.27,16.75]
["2017M06","2017-06-01",true,"2017-06-01",{"$f":"INDEX(G699:BY699,$E$7)","v":2.94},{"$f":"INDEX(G699:BY699,$F$7)","v":8.8800000000000008},46.17,46.89,46.44,45.17,81.09,79.2,2.94,4.8899999999999997,8.8800000000000008,64.959999999999994,2,3.16,2.25,3.24,3.95,2.63,3.14,1869.76,1592.27,1332.77,1463.07,735.14,1030.83,378.59,832.95,330.32,847.47,794.36,94.16,157.93,165.02,458,430,440.86,357.18,183.36,189.6,0.93,1.1000000000000001,0.72,4.68,2.4300000000000002,9.19,14.86,0.37,0.61,0.31,4517.45,392.95,268.39,613.16999999999996,697.44,492.29,1.87,1.44,1.72,92.5,310.3,275,191,206.5,1885.29,57.48,5719.76,2132.9299999999998,19658.84,8931.76,2573.4,1260.26,930.73,16.93]
["2017M07","2017-07-01",true,"2017-07-01",{"$f":"INDEX(G700:BY700,$E$7)","v":2.96},{"$f":"INDEX(G700:BY700,$F$7)","v":8.86},47.66,48.69,47.63,46.65,87.49,81.69,2.96,5,8.86,65.75,1.99,3.3,2.31,3.23,3.86,2.83,2.99,1644.05,1485.71,1355.22,1496.94,720.48,1033.57,410.23,835.6,340.86,905.99,793,94.16,157.51,163.69,417,399,397.43,385.87,201.77,202.46,0.94,1.1000000000000001,0.7,4.67,2.35,9.3699999999999992,14.73,0.38,0.59,0.32,4515.01,402.75,264.62,622.32000000000005,707.85,485.38,1.85,1.52,1.75,92.5,313.75,275.75,181,207.25,1902.96,67.739999999999995,5985.12,2269.86,20223.48,9491.39,2787.19,1236.8399999999999,918.9,16.149999999999999]
["2017M08","2017-08-01",true,"2017-08-01",{"$f":"INDEX(G701:BY701,$E$7)","v":2.88},{"$f":"INDEX(G701:BY701,$F$7)","v":8.92},49.94,51.37,50.43,48.03,98.58,87.84,2.88,5.48,8.92,67,1.99,3.3,2.2999999999999998,3.26,4.13,2.77,2.9,1845,1432.61,1386.11,1510.17,717.95,1174.3499999999999,392.87,861.72,330.17,875.36,815.74,96.45,148.5,169.87,393,381,376.14,390.37,172.68,171.23,0.94,1.1000000000000001,0.72,4.47,2.19,8.89,12.84,0.39,0.55000000000000004,0.32,4432.1899999999996,413.25,270.95999999999998,621.22,706.59,497,1.75,1.55,1.84,88.75,320.75,280.5,192.63,215.5,2030.01,76.069999999999993,6485.63,2348.4699999999998,20521,10889.98,2980.73,1283.04,972.7,16.95]
["2017M09","2017-09-01",true,"2017-09-01",{"$f":"INDEX(G702:BY702,$E$7)","v":2.96},{"$f":"INDEX(G702:BY702,$F$7)","v":8.64},52.95,55.16,53.86,49.83,97.82,92.26,2.96,5.96,8.64,70.17,2,3.23,2.19,3.28,4.2699999999999996,2.62,2.96,1600.95,1382.14,1406.1,1504.65,754.25,1336.05,393.95,889.44,342.07,872.87,822.24,96.45,147.29,169.76,402,388,384.81,382,176.9,178.57,0.93,1.1000000000000001,0.79,4.3,2.11,8.5500000000000007,12.13,0.39,0.59,0.32,4395.3599999999997,417.2,268.93,637.66,725.29,493.27,1.78,1.61,1.86,85,325.89999999999998,283.2,219,215.5,2096.4899999999998,71.53,6577.17,2374.39,20796.62,11215.79,3116.86,1314.07,964.1,17.43]
["2017M10","2017-10-01",true,"2017-10-01",{"$f":"INDEX(G703:BY703,$E$7)","v":2.86},{"$f":"INDEX(G703:BY703,$F$7)","v":8.31},54.92,57.62,55.58,51.56,97.11,91.43,2.86,6.18,8.31,69.77,2.1,3.1,2.17,3.29,4.1900000000000004,2.64,3.06,1484.77,1325,1379.14,1481.11,746.79,1418.86,396.52,880.6,353.27,897.25,804.82,96.45,148.62,170.97,394,379,375.68,376.19,177.01,175.63,0.92,1.08,0.82,4.25,1.98,8.24,11.95,0.38,0.6,0.32,4513.1400000000003,411.57,263.62,632.53,719.45,483.53,1.73,1.46,1.64,80,322.38,283.5,252.5,215.5,2131.4899999999998,61.66,6807.6,2498.2199999999998,20376.09,11335.77,3264.6,1279.51,921,16.940000000000001]
["2017M11","2017-11-01",true,"2017-11-01",{"$f":"INDEX(G704:BY704,$E$7)","v":2.99},{"$f":"INDEX(G704:BY704,$F$7)","v":8.4499999999999993},59.93,62.57,60.58,56.65,96.64,91.39,2.99,6.69,8.4499999999999993,73.88,2.13,3.11,2.0099999999999998,3.23,4.1100000000000003,2.61,2.98,1554.32,1259.55,1385.62,1502.29,728.86,1444.77,393.85,886.77,350.91,962.98,809.86,108.39,148.69999999999999,167.66,402,386,378.82,379.01,175.66,179.68,0.93,1.08,0.86,4.33,1.96,7.55,12.17,0.38,0.6,0.33,4594.4799999999996,410.87,263.85000000000002,633.44000000000005,720.49,483.96,1.77,1.43,1.57,80,344,295,280,215.5,2097.44,64.239999999999995,6826.55,2461.4299999999998,19557.52,11972,3229.31,1281.9000000000001,934.05,16.98]
["2017M12","2017-12-01",true,"2017-12-01",{"$f":"INDEX(G705:BY705,$E$7)","v":2.76},{"$f":"INDEX(G705:BY705,$F$7)","v":8.65},61.19,64.209999999999994,61.41,57.94,100.81,95.48,2.76,7.14,8.65,73.290000000000006,1.92,3.03,1.93,3.13,4.1100000000000003,2.5,2.79,1450.66,1231.43,1476.7,1510.17,679.17,1305.6600000000001,387.15,867.19,359.9,901.97,800.76,119.88,148.97999999999999,175.16,406,391,388.5,383.24,172.49,184.09,0.91,1.1000000000000001,0.77,4.28,1.97,7.94,12.24,0.39,0.59,0.32,4629.9799999999996,414.33,263.62,642.21,730.46,483.53,1.88,1.46,1.65,80,357.25,308.75,214.63,215.5,2080.4699999999998,72.25,6833.89,2509.92,19476.37,11495.11,3195.95,1264.45,907.2,16.170000000000002]
["2018M01","2018-01-01",true,"2018-01-01",{"$f":"INDEX(G706:BY706,$E$7)","v":3.86},{"$f":"INDEX(G706:BY706,$F$7)","v":9.34},66.23,68.989999999999995,66.02,63.67,106.45,97.48,3.86,6.66,9.34,84.82,1.95,3.06,1.95,3.1,4.16,2.19,2.96,1393.86,1180.22,1596.54,1433,703.45,1265,389.53,870.5,375.74,848.38,799.04,121.71,155.84,178.46,442,422,410.83,380.94,178.34,192.17,0.98,1.1299999999999999,0.76,4.3,2.0699999999999998,7.72,12.36,0.4,0.59,0.31,4649.4399999999996,426.69,268.3,661.09,751.94,492.12,2.0099999999999998,1.5,1.72,80,360.38,320,219.63,215.5,2209.73,76.34,7065.85,2584.09,20696.91,12864.88,3441.52,1331.3,990.12,17.13]
["2018M02","2018-02-01",true,"2018-02-01",{"$f":"INDEX(G707:BY707,$E$7)","v":2.67},{"$f":"INDEX(G707:BY707,$F$7)","v":9.83},63.46,65.42,62.79,62.17,105.95,92.68,2.67,6.72,9.83,71.03,2.12,3,1.97,3,4.0999999999999996,1.91,2.99,1244.25,1160,1605.89,1433,709.44,1145.3800000000001,416.28,843.56,421.13,827.48,806,129.06,163.36000000000001,187.39,425,411,407.8,395.43,190.56,192.17,1.07,1.27,0.78,4.3499999999999996,1.98,7.87,12.73,0.4,0.56999999999999995,0.3,4628.17,432.53,275.8,670.09,762.18,505.88,1.95,1.46,1.72,82.5,370,320,232.5,215.5,2181.79,77.459999999999994,7006.52,2581.06,21651.55,13595.88,3532.9,1330.73,987.26,16.579999999999998]
["2018M03","2018-03-01",true,"2018-03-01",{"$f":"INDEX(G708:BY708,$E$7)","v":2.7},{"$f":"INDEX(G708:BY708,$F$7)","v":10.11},64.17,66.45,63.29,62.76,96.66,89.5,2.7,6.7,10.11,71.459999999999994,2.5,2.98,1.94,2.84,3.95,1.75,2.81,1118.6300000000001,1227.05,1604.08,1435.63,706.19,1016.19,430.11,836.68,445.36,800.24,800.91,130.9,172,181.22,430,418,403.5,409.92,198.86,192.17,1.1100000000000001,1.1599999999999999,0.74,4.4400000000000004,2.2000000000000002,8.0500000000000007,12.79,0.4,0.55000000000000004,0.28000000000000003,4741.49,431.69,280.72000000000003,669.38,761.37,514.9,2.0299999999999998,1.44,1.76,84.7,378,324,232.5,215.5,2069.2399999999998,70.349999999999994,6799.18,2390,21211.94,13392.5,3269.18,1324.66,954.57,16.47]
["2018M04","2018-04-01",true,"2018-04-01",{"$f":"INDEX(G709:BY709,$E$7)","v":2.78},{"$f":"INDEX(G709:BY709,$F$7)","v":10.09},68.790000000000006,71.63,68.430000000000007,66.319999999999993,93.69,92.32,2.78,6.93,10.09,73.52,2.62,2.96,1.95,2.95,3.88,2.2799999999999998,2.69,1131.18,1379.76,1577.89,1444.03,701.18,1006.71,439.07,831.85,461.62,793.31,799.33,130.9,175.6,178.57,451,436,430.24,413.43,198.79,213.85,1.1100000000000001,1.1599999999999999,0.76,4.38,2.36,8.3800000000000008,12.83,0.4,0.55000000000000004,0.27,4842.1000000000004,429.73,276.7,674.36,767.03,507.53,2.0299999999999998,1.39,1.73,88,384.75,325,230.63,215.5,2254.69,65.75,6851.51,2352.41,21291.1,13938.1,3188.05,1334.76,924.05,16.649999999999999]
["2018M05","2018-05-01",true,"2018-05-01",{"$f":"INDEX(G710:BY710,$E$7)","v":2.8},{"$f":"INDEX(G710:BY710,$F$7)","v":10.25},73.430000000000007,76.650000000000006,73.66,69.98,105.29,101.89,2.8,7.49,10.25,76.510000000000005,2.66,2.99,1.96,3.02,3.76,2.69,2.62,1027.75,1450,1513.28,1444.03,687.15,935.25,430.32,793.25,459.17,811.49,801.32,130.9,179.09,178.57,451,436,431.76,419,209.95,213.85,0.96,1.1499999999999999,0.88,4.32,2.65,8.19,12.9,0.39,0.54,0.27,4906.8599999999997,413.88,271.38,645.79999999999995,734.55,497.77,2.08,1.44,1.7,88,384.38,326,221.88,215.5,2299.67,66.099999999999994,6825.27,2360.9299999999998,20858.830000000002,14366.49,3059.87,1303.45,904.73,16.489999999999998]
["2018M06","2018-06-01",true,"2018-06-01",{"$f":"INDEX(G711:BY711,$E$7)","v":2.95},{"$f":"INDEX(G711:BY711,$F$7)","v":10.44},71.98,75.19,73.22,67.52,114.33,103.88,2.95,7.45,10.44,78.34,2.41,2.95,1.9,2.87,3.39,2.69,2.52,931.19,1503.33,1494.49,1461.87,656.5,865.71,394.44,788.57,421.33,838.02,775,130.9,165.07,161.93,427,415,408.6,443.1,206,219.36,0.92,1.1599999999999999,0.84,4.24,2.72,7.83,12.54,0.38,0.56999999999999995,0.28000000000000003,4932.79,408.8,270.58999999999997,636.79,724.31,496.32,2.15,1.38,1.56,86.8,391.6,335.2,224,215.5,2237.62,65.040000000000006,6965.86,2436.29,20660.52,15105.65,3088.57,1281.57,884.9,16.54]
["2018M07","2018-07-01",true,"2018-07-01",{"$f":"INDEX(G712:BY712,$E$7)","v":2.83},{"$f":"INDEX(G712:BY712,$F$7)","v":10.44},72.67,74.44,72.72,70.84,119.57,106.02,2.83,7.6,10.44,77.5,2.36,2.88,1.86,2.89,3.41,2.76,2.4900000000000002,916.25,1450.91,1496.33,1477.1,616.14,877.16,377.17,780.45,406.64,848.61,780.05,130.9,156.46,147.49,398,390,382.73,440.65,206.93,218.26,0.88,1.1399999999999999,0.89,4.1900000000000004,2.5299999999999998,7.83,12.24,0.38,0.56000000000000005,0.26,4927.6000000000004,408.84,267.02,631.04,717.77,489.78,2.12,1.31,1.47,86.88,400.75,344.25,252.5,215.5,2082.2399999999998,64.56,6250.75,2207.02,19729.8,13793.86,2656.13,1237.71,832,15.72]
["2018M08","2018-08-01",true,"2018-08-01",{"$f":"INDEX(G713:BY713,$E$7)","v":2.96},{"$f":"INDEX(G713:BY713,$F$7)","v":10.88},71.08,73.13,72.13,67.989999999999995,117.34,98.48,2.96,8.08,10.88,81.709999999999994,2.17,2.76,1.78,2.77,3.34,2.59,2.4,915.22,1405.45,1475.4,1477.1,614.75,900.22,376.77,761.82,388.04,853.67,763.23,127.68,162.37,165.57,405,393,393.5,401.56,217.44,236.63,0.84,1.1100000000000001,0.84,4.1100000000000003,2.2200000000000002,7.83,12.02,0.38,0.56000000000000005,0.24,4983.92,404.11,268.10000000000002,617,701.8,491.76,2.08,1.34,1.47,87.5,409,357.6,260,215.5,2051.5100000000002,67.150000000000006,6051.05,2053.5300000000002,19228.77,13411.35,2512,1201.71,804.91,14.99]
["2018M09","2018-09-01",true,"2018-09-01",{"$f":"INDEX(G714:BY714,$E$7)","v":2.98},{"$f":"INDEX(G714:BY714,$F$7)","v":11.3},75.36,78.86,77.02,70.209999999999994,114.16,102.14,2.98,9.52,11.3,89.17,2.19,2.67,1.69,2.67,3.25,2.35,2.41,897.13,1380,1492.69,1442.29,605.15,865.63,356.87,754.05,377.15,821.47,733.95,119.42,154.80000000000001,163.58000000000001,405,393,395.35,384.65,202.05,212.38,0.89,1.1100000000000001,0.8,4.01,2.0299999999999998,7.83,11.53,0.38,0.56000000000000005,0.25,4973.96,408.07,265.85000000000002,625.49,711.44,487.63,1.99,1.33,1.44,87.5,421.63,376.25,267.5,215.5,2026.46,68.44,6050.76,2022.91,18967.13,12510.35,2434.6799999999998,1198.3900000000001,804.79,14.27]
["2018M10","2018-10-01",{"$f":"B715>$C$8","v":true},{"$f":"IF(C715,B715,NA())","v":"2018-10-01"},{"$f":"INDEX(G715:BY715,$E$7)","v":3.28},{"$f":"INDEX(G715:BY715,$F$7)","v":11.66},76.73,80.47,78.959999999999994,70.75,108.73,100.34,3.28,8.7899999999999991,11.66,89.57,2.13,3.03,1.88,2.74,3.48,2.31,2.42,830.25,1265.22,1485.36,1431.7,589.79999999999995,794.49,367.96,751.58,379.31,850.29,718.04,119.42,160.26,158.94999999999999,409,397,390.39,389.8,209.1,213.48,0.91,1.1200000000000001,0.75,3.86,2.0299999999999998,7.83,11.46,0.38,0.56000000000000005,0.28999999999999998,4940.2299999999996,402.05,263.85000000000002,623.52,709.21,483.96,1.91,1.32,1.43,91.25,420.75,385,270,215.5,2029.86,73.41,6219.59,1987.55,19121.48,12314.91,2673.67,1215.3900000000001,829.87,14.6]
["2018M11","2018-11-01",true,"2018-11-01",{"$f":"INDEX(G716:BY716,$E$7)","v":4.13},{"$f":"INDEX(G716:BY716,$F$7)","v":11.7},62.32,65.17,65.11,56.67,100.73,91.58,4.13,8.27,11.7,97.36,2.19,3.02,1.84,2.7,3.36,2.39,2.36,759.26,1223.8599999999999,1479.22,1438.26,539.1,707.62,374.04,729.22,366.2,840.39,706.09,119.42,160.69,157.52000000000001,401,391,378.81,395.73,210.85,203.56,0.86,1.1200000000000001,0.73,3.95,2.0299999999999998,7.46,11.66,0.37,0.55000000000000004,0.28000000000000003,4941.38,397.67,262.70999999999998,617.87,702.78,481.87,1.91,1.23,1.35,92.5,410.2,379.2,305.60000000000002,215.5,1938.51,73.260000000000005,6195.92,1937.11,19064.86,11239.72,2595.69,1220.6500000000001,846.19,14.35]
["2018M12","2018-12-01",true,"2018-12-01",{"$f":"INDEX(G717:BY717,$E$7)","v":3.98},{"$f":"INDEX(G717:BY717,$F$7)","v":12},53.96,56.46,56.47,48.95,101.37,95.41,3.98,7.98,12,94.41,2.21,2.8,1.71,2.62,3.18,2.39,2.2999999999999998,796.27,1212.6300000000001,1480.06,1434.58,535.02,738.36,380.53,727.88,361.02,827.02,703,119.42,167.44,163.80000000000001,404,395,379.33,399.52,217.81,211.28,0.84,1.1299999999999999,0.72,4.1900000000000004,2.09,7.44,11.79,0.37,0.56000000000000005,0.28000000000000003,4923.5600000000004,398.55,265.43,607.47,690.95,486.85,1.9,1.26,1.44,99.17,389.67,368.33,276.67,215.5,1920.38,69.16,6075.32,1972.32,19259.580000000002,10835.08,2616.29,1250.4000000000001,791.16,14.77]
["2019M01","2019-01-01",true,"2019-01-01",{"$f":"INDEX(G718:BY718,$E$7)","v":3.08},{"$f":"INDEX(G718:BY718,$F$7)","v":12.01},56.58,59.27,58.96,51.52,98.56,91.29,3.08,7.26,12.01,80.06,2.2599999999999998,2.83,1.72,2.54,3.23,2.12,2.2599999999999998,773.07,1235.22,1486.35,1379.77,584.58000000000004,765,381.96,747.79,362.01,859.73,688.13,119.42,166.74,162.91999999999999,410,402,387.35,396.31,220.16,209.81,0.85,1.1399999999999999,0.64,4.24,2.15,7.99,11.79,0.37,0.56000000000000005,0.28000000000000003,4806.1099999999997,399.74,273.25,617.24,702.07,501.2,1.82,1.36,1.59,102.5,382.13,355,260,215.5,1853.72,76.16,5939.1,1997.14,20457.75,11523.09,2569.6999999999998,1291.75,806.77,15.62]
["2019M02","2019-02-01",true,"2019-02-01",{"$f":"INDEX(G719:BY719,$E$7)","v":2.72},{"$f":"INDEX(G719:BY719,$F$7)","v":11.81},61.13,64.13,64.319999999999993,54.95,95.42,84.16,2.72,6.01,11.81,69.55,2.2599999999999998,2.83,1.73,2.38,3.27,1.72,2.16,710.43,1367.5,1472.28,1370.06,602.97,694.67,380.33,772.82,353.34,829.7,700,119.42,169.52,170.42,408,401,386.25,367.95,217.25,218.99,0.87,1.1599999999999999,0.63,4.28,2.09,8.02,11.79,0.37,0.56999999999999995,0.28999999999999998,4782.91,397.32,269.70999999999998,623.14,708.77,494.7,1.79,1.4,1.65,102.5,357.38,343.75,250.63,215.5,1862.99,88.22,6300.49,2062.79,21263.95,12685.23,2707.19,1320.07,818.15,15.82]
["2019M03","2019-03-01",true,"2019-03-01",{"$f":"INDEX(G720:BY720,$E$7)","v":2.94},{"$f":"INDEX(G720:BY720,$F$7)","v":11.29},63.79,66.41,66.8,58.15,93.12,78.81,2.94,5.18,11.29,67.91,2.2000000000000002,2.73,1.7,2.38,3.38,1.63,2.13,678.56,1383.33,1476.02,1370.38,573.02,654.72,369.53,750.33,344.63,808.68,711.71,119.42,166.22,169.31,406,399,382.43,342.62,200.39,205.76,0.94,1.18,0.65,4.4800000000000004,2.0699999999999998,8.01,11.79,0.37,0.57999999999999996,0.28000000000000003,4732.59,395.75,267.74,631.38,718.15,491.1,1.85,1.47,1.72,98.5,335.03,321,247.5,245.5,1871.21,86.47,6439.46,2046.46,21393.4,13026.27,2850.6,1300.9000000000001,842.81,15.3]
["2019M04","2019-04-01",true,"2019-04-01",{"$f":"INDEX(G721:BY721,$E$7)","v":2.65},{"$f":"INDEX(G721:BY721,$F$7)","v":10.27},68.58,71.2,70.66,63.87,86.77,72.489999999999995,2.65,4.92,10.27,62.49,2.33,2.67,1.62,2.65,3.34,2.35,2.2599999999999998,668.63,1318.5,1505.38,1377.61,588.45000000000005,636.23,359.84,733.77,341.53,805.96,713,136.41,161.49,165.46,413,404,391.3,341.11,197.33,199.52,0.93,1.1599999999999999,0.56999999999999995,4.7,2.09,8.0500000000000007,11.79,0.37,0.59,0.28000000000000003,4673.1400000000003,393.44,266.66000000000003,624.77,710.63,489.12,1.92,1.5,1.72,97.5,323.75,310,247.5,265.5,1845.42,93.7,6438.36,1938.99,20604.3,12772.79,2932.65,1285.9100000000001,887.29,15.06]
["2019M05","2019-05-01",true,"2019-05-01",{"$f":"INDEX(G722:BY722,$E$7)","v":2.63},{"$f":"INDEX(G722:BY722,$F$7)","v":10.15},66.83,70.53,69.13,60.84,82.32,68.930000000000007,2.63,4.34,10.15,59.42,2.3199999999999998,2.66,1.57,2.73,3.09,2.71,2.39,661.17,1312.86,1511.52,1392.89,564.4,573.36,339.81,742.53,339.18,815.84,721.57,149.27000000000001,171.08,165.46,409,401,386.76,350.94,200.32,199.52,0.92,1.1200000000000001,0.52,4.5999999999999996,2.09,8.0500000000000007,11.79,0.37,0.57999999999999996,0.27,4650.8500000000004,391.48,270.58999999999997,615.52,700.11,496.32,1.77,1.5,1.77,97.5,313.39999999999998,305,247.5,265.5,1781.26,100.15,6017.9,1815.19,19523.900000000001,12016.31,2742.81,1283.7,833.55,14.66]
["2019M06","2019-06-01",true,"2019-06-01",{"$f":"INDEX(G723:BY723,$E$7)","v":2.4},{"$f":"INDEX(G723:BY723,$F$7)","v":10.039999999999999},59.76,63.3,61.3,54.68,72.489999999999995,62.94,2.4,3.59,10.039999999999999,52.96,2.41,2.86,1.63,2.56,2.78,2.75,2.16,635.6,1315,1522.28,1391.97,552.19000000000005,542.24,358.95,742.89,362.6,840.01,725,149.27000000000001,195.08,157.74,420,411,394.2,358.82,222.41,206.13,0.89,1.1299999999999999,0.54,4.63,2.0699999999999998,8.0500000000000007,11.97,0.37,0.57999999999999996,0.28000000000000003,4607.04,395.22,275.39,607.52,691.01,505.14,1.71,1.5,1.93,97.5,314.88,293.75,247.5,265.5,1755.95,108.94,5882.23,1899.7,19193.2,11943.94,2601.2199999999998,1359.04,808.2,15.04]
["2019M07","2019-07-01",true,"2019-07-01",{"$f":"INDEX(G724:BY724,$E$7)","v":2.36},{"$f":"INDEX(G724:BY724,$F$7)","v":10.130000000000001},61.48,64,62.91,57.52,72.08,65.790000000000006,2.36,3.62,10.130000000000001,52.73,2.42,2.99,1.63,2.58,2.84,2.9,2,657.31,1260,1496.12,1437.71,543.88,555.03,369.58,748.17,348.73,845.27,753.83,149.27000000000001,189.42,159.5,416,409,391.7,360.16,203.96,196.21,0.86,1.1299999999999999,0.54,4.63,1.99,8.0500000000000007,12.95,0.37,0.56999999999999995,0.28000000000000003,4542.63,392.7,275.11,597.74,679.89,504.62,1.67,1.41,1.67,80,307.5,283.75,263.5,265.5,1796.99,120.24,5941.2,1975.64,17977.849999999999,13546.3,2446.5100000000002,1412.89,843.95,15.79]
["2019M08","2019-08-01",true,"2019-08-01",{"$f":"INDEX(G725:BY725,$E$7)","v":2.2200000000000002},{"$f":"INDEX(G725:BY725,$F$7)","v":10.86},57.67,59.25,58.92,54.84,65.55,60.43,2.2200000000000002,3.68,10.86,51.85,2.19,2.78,1.56,2.63,3.06,2.71,2.11,719.28,1252.3800000000001,1436.95,1457.89,586.12,619.33000000000004,360.93,793.21,337.36,877.48,776,135.03,163.59,147.93,430,421,407.52,362.39,197.52,181.15,0.83,1.1200000000000001,0.53,4.5999999999999996,1.9,8.0500000000000007,13.06,0.36,0.56999999999999995,0.27,4523.13,389.41,280.19,581.98,661.96,513.92999999999995,1.56,1.31,1.5,78,292.89999999999998,275,262.5,265.5,1740.68,93.07,5709.44,2044.55,16608.990000000002,15748.64,2273.0100000000002,1500.41,859.14,17.22]
["2019M09","2019-09-01",true,"2019-09-01",{"$f":"INDEX(G726:BY726,$E$7)","v":2.58},{"$f":"INDEX(G726:BY726,$F$7)","v":10.14},60.04,62.33,60.84,56.95,65.95,61.37,2.58,4.21,10.14,58.19,2.31,2.84,1.56,2.54,2.88,2.5299999999999998,2.2200000000000002,724.03,1321.43,1385.38,1458.25,580.29999999999995,613.15,366.07,779.25,333.13,903.07,776,114.82,157.26,149.69,427,421,401.71,350.85,201.91,189.6,0.85,1.1499999999999999,0.53,4.6500000000000004,1.85,8.1,13.23,0.36,0.56999999999999995,0.26,4544.5,385.28,277.06,591.61,672.91,508.19,1.57,1.34,1.5,77.5,285.75,270,237.75,265.5,1753.51,93.08,5759.25,2071.85,16830.62,17656.88,2331.56,1510.58,944.7,18.16]
["2019M10","2019-10-01",true,"2019-10-01",{"$f":"INDEX(G727:BY727,$E$7)","v":2.33},{"$f":"INDEX(G727:BY727,$F$7)","v":9.98},57.27,59.37,58.47,53.98,69.2,67.44,2.33,5.0599999999999996,9.98,59.12,2.44,2.8,1.51,2.58,2.94,2.46,2.34,719.52,1358.7,1360.05,1458.53,591.35,593.74,381.65,770.8,341.76,908.67,776,114.82,167.15,163.80000000000001,424,418,397.04,325.79000000000002,212.85,199.52,0.86,1.1299999999999999,0.52,4.8600000000000003,1.85,8.27,13.4,0.36,0.56999999999999995,0.28000000000000003,4447.3900000000003,386.86,275.33999999999997,605.36,688.55,505.04,1.63,1.3,1.43,77.5,277.38,270,237,265.5,1725.96,88.53,5757.3,2184.09,16603.39,17046.22,2451.65,1494.81,897.26,17.649999999999999]
["2019M11","2019-11-01",true,"2019-11-01",{"$f":"INDEX(G728:BY728,$E$7)","v":2.65},{"$f":"INDEX(G728:BY728,$F$7)","v":10.039999999999999},60.4,62.74,61.41,57.06,66.989999999999995,73.62,2.65,5.15,10.039999999999999,63.47,2.52,3.11,1.62,2.61,3.19,2.36,2.2999999999999998,848.92,1400,1360.93,1388.47,685.41,767.44,375.51,770.2,347.32,891.17,776,114.82,166.33,161.93,421,415,394.76,328.24,223.54,203.19,0.85,1.1299999999999999,0.53,5.94,1.85,8.27,13.68,0.36,0.6,0.28000000000000003,4320.9799999999996,386.89,273.39999999999998,617.53,702.4,501.47,1.65,1.39,1.54,74,248,264,224.5,265.5,1774.79,84.98,5859.95,2021.15,16335.48,15171.81,2425.48,1470.79,901.8,17.170000000000002]
["2019M12","2019-12-01",true,"2019-12-01",{"$f":"INDEX(G729:BY729,$E$7)","v":2.2400000000000002},{"$f":"INDEX(G729:BY729,$F$7)","v":10.06},63.35,65.849999999999994,64.41,59.8,66.180000000000007,76.03,2.2400000000000002,4.62,10.06,56.01,2.44,3.46,1.61,2.57,3.21,2.2799999999999998,2.21,1031.29,1528.75,1362.61,1404.96,763.73,969.77,383.2,833.52,352.68,900.66,776,114.82,166.96,163.91,432,423,400.9,337.43,237.68,210.91,0.86,1.1399999999999999,0.52,5.56,1.98,8.35,13.95,0.36,0.56999999999999995,0.3,4321.03,388.92,272.8,627.92999999999995,714.22,500.37,1.67,1.46,1.66,72.5,238.16,243.33,217.5,265.5,1771.38,92.65,6077.06,1900.54,17141.05,13829.42,2272.54,1479.13,924.25,17.14]
["2020M01","2020-01-01",true,"2020-01-01",{"$f":"INDEX(G730:BY730,$E$7)","v":2.0299999999999998},{"$f":"INDEX(G730:BY730,$F$7)","v":9.89},61.63,63.6,63.76,57.52,69.66,82.09,2.0299999999999998,3.63,9.89,48.63,2.6,3.13,1.56,2.5099999999999998,3.27,1.97,2.29,1003.72,1671.59,1374.37,1371.35,810.07,970.53,387.23,875.64,355.53,945.39,806.91,114.82,171.79,166.23,451,440,426,348.68,247.99,224.5,0.87,1.17,0.51,5.04,2.0699999999999998,6.62,14,0.36,0.56999999999999995,0.31,4424.3100000000004,388.68,272.39999999999998,626.49,712.59,499.64,1.74,1.47,1.68,72.5,264.89999999999998,239,215.4,268.7,1773.09,95.76,6031.21,1923.93,17029.18,13506.86,2354.31,1560.67,987.36,17.97]
["2020M02","2020-02-01",true,"2020-02-01",{"$f":"INDEX(G731:BY731,$E$7)","v":1.92},{"$f":"INDEX(G731:BY731,$F$7)","v":9.89},53.35,55,54.51,50.53,67.64,79.989999999999995,1.92,2.91,9.89,43.79,2.72,2.99,1.5,2.36,3.35,1.6,2.13,844.12,1718.75,1364.56,1393.46,728.81,801.84,375.63,800.41,354.14,902.34,823,114.82,168.71,164.13,450,442,426.45,357.42,238.98,215.32,0.9,1.18,0.52,4.72,1.88,6.13,14,0.36,0.59,0.33,4443.29,381.82,270.56,621.08000000000004,706.43,496.28,1.69,1.34,1.61,72.5,279.38,245,214.38,243.38,1688.1,87.68,5687.75,1872.54,16480.3,12715.55,2113.2399999999998,1597.1,961.1,17.88]
["2020M03","2020-03-01",true,"2020-03-01",{"$f":"INDEX(G732:BY732,$E$7)","v":1.79},{"$f":"INDEX(G732:BY732,$F$7)","v":10.210000000000001},32.200000000000003,32.979999999999997,33.75,29.88,66.739999999999995,67.89,1.79,2.72,10.210000000000001,41.61,2.34,3.27,1.49,2.13,3.08,1.33,1.99,837.72,1868.18,1400.08,1412.91,636.25,691.04,372.61,747.8,377.25,796.67,730,114.82,162.41999999999999,164.35,494,477,469.64,372.58,228.12,209.07,0.91,1.2,0.55000000000000004,4.47,1.78,6.32,14,0.36,0.6,0.26,4402.47,387.24,276.93,593.66999999999996,675.26,507.96,1.49,1.21,1.5,71.88,276.22000000000003,245,231.13,235,1610.89,88.99,5182.63,1734.44,15290.91,11846.23,1903.63,1591.93,759,14.88]
["2020M04","2020-04-01",true,"2020-04-01",{"$f":"INDEX(G733:BY733,$E$7)","v":1.74},{"$f":"INDEX(G733:BY733,$F$7)","v":10.01},21.04,23.34,23.27,16.52,58.55,56.58,1.74,2.12,10.01,37.97,2.27,3.41,1.41,2.36,3.66,1.3,2.11,834.51,2050,1390.91,1527.27,608.88,720.69,361.26,679.98,363.83,758.96,732.1,114.82,146.91,166.67,564,536,543.70000000000005,407.14,221.69,218.99,0.9,1.28,0.57999999999999996,4.45,1.27,6.28,13.89,0.35,0.56999999999999995,0.23,4345.34,380.38,276.24,594.96,676.73,506.68,1.4,1.1100000000000001,1.33,70.75,282,245,235,220.38,1459.93,84.73,5057.97,1657.55,14952.8,11804.01,1903.37,1683.17,753.86,15.07]
["2020M05",{"$f":"EDATE(B733,1)","v":"2020-05-01"},true,"2020-05-01",{"$f":"INDEX(G734:BY734,$E$7)","v":1.75},{"$f":"INDEX(G734:BY734,$F$7)","v":10.08},30.38,31.02,31.56,28.56,52.49,57.42,1.75,1.58,10.08,35.6,2.3199999999999998,3.3,1.42,2.5099999999999998,3.76,1.79,1.97,832.33,2050,1394.65,1588.02,576.55999999999995,684.95,359.17,684.78,339.1,799.83,738.26,80.38,143.91,175.93,510,494,492.89,438.42,209.93,205.76,0.91,1.3,0.65,5.08,1.52,6.04,12.55,0.36,0.56999999999999995,0.24,4392.72,381.57,277.73,589.45000000000005,670.46,509.42,1.45,1.1200000000000001,1.35,72.900000000000006,263,243,201.9,222.2,1466.37,93.65,5239.83,1626.34,15401.92,12179.61,1975.32,1715.91,790.22,16.260000000000002]
["2020M06","2020-06-01",true,"2020-06-01",{"$f":"INDEX(G735:BY735,$E$7)","v":1.61},{"$f":"INDEX(G735:BY735,$F$7)","v":8.9700000000000006},39.46,39.93,40.14,38.299999999999997,52.21,56.81,1.61,1.75,8.9700000000000006,33.99,2.23,3.12,1.42,2.84,3.3,3.35,1.86,916.38,2050,1451.36,1712.82,656.49,724.62,369.58,755.71,345.17,850.98,788.36,80.38,147.99,170.86,520,501,493.64,449.46,200.5,198.42,0.9,1.3,0.65,5.0999999999999996,1.57,5.77,12.13,0.37,0.56999999999999995,0.27,4401.82,393.93,276.67,599.95000000000005,682.39,507.48,1.49,1.17,1.4,75,273,240,202,226.25,1568.57,103.3,5754.6,1744.84,16837.84,12727.15,2025.71,1732.22,820.77,17.71]
["2020M07","2020-07-01",true,"2020-07-01",{"$f":"INDEX(G736:BY736,$E$7)","v":1.74},{"$f":"INDEX(G736:BY736,$F$7)","v":7.79},42.07,42.81,42.64,40.75,51.56,56.6,1.74,1.8,7.79,34.909999999999997,2.1,3.24,1.49,3.04,3.32,3.99,1.81,888.31,1984.78,1486.92,1876.87,694.16,683.93,381.07,821.11,355.24,890.21,833.17,80.38,152.55000000000001,174.94,480,467,459.7,444.19,212.74,222.13,0.86,1.27,0.66,4.7,1.52,5.61,12.52,0.37,0.59,0.27,4383.67,401.14,278.85000000000002,606.85,690.24,511.48,1.51,1.2,1.48,75,305.10000000000002,262.2,214.4,237.5,1643.81,108.52,6372.46,1817.93,17469.919999999998,13402.3,2177.1999999999998,1846.51,864.64,20.65]
["2020M08","2020-08-01",true,"2020-08-01",{"$f":"INDEX(G737:BY737,$E$7)","v":2.2999999999999998},{"$f":"INDEX(G737:BY737,$F$7)","v":6.34},43.44,44.26,43.71,42.36,50.14,57.38,2.2999999999999998,2.86,6.34,45.85,2.35,3.6,1.6,3.15,3.37,4.07,2,981.3,1929.76,1479.92,1876.96,760.3,739.17,384.55,866.94,374.95,921.55,877.14,80.38,149.34,189.49,505,486,480.85,448.91,208.94,223,0.9,1.25,0.62,4.63,1.5,6.15,12.57,0.39,0.6,0.28999999999999998,4353.37,413.98,280.77,629.13,715.59,515,1.54,1.32,1.7,76.88,341.88,276.25,249.5,240.38,1737.26,121.07,6498.94,1935.73,17650.03,14537.75,2410.0500000000002,1968.63,940.33,27]
["2020M09","2020-09-01",true,"2020-09-01",{"$f":"INDEX(G738:BY738,$E$7)","v":1.92},{"$f":"INDEX(G738:BY738,$F$7)","v":5.88},40.6,41.09,41.1,39.6,54.6,57.47,1.92,3.95,5.88,46.07,2.46,3.67,1.6,3.08,3.35,3.86,2.0299999999999998,1034.18,1663.64,1470.95,1880.71,796.22,767.84,423.41,905.86,408.43,938.14,982.38,"...",166.08,"...",507,488,483,462.66,219.68,247.68,0.91,1.24,0.61,4.5999999999999996,1.47,6.31,11.86,0.39,0.59,0.28000000000000003,4220.37,412.79,282.02,621.89,707.36,517.29,1.56,1.37,1.86,79.38,358.38,282.5,250.5,247.75,1743.77,123.75,6704.9,1872.91,17951.259999999998,14857.49,2442.46,1921.92,907.62,25.74]
["2020M10","2020-10-01",true,"2020-10-01",{"$f":"INDEX(G739:BY739,$E$7)","v":2.25},{"$f":"INDEX(G739:BY739,$F$7)","v":6.18},39.9,40.47,39.700000000000003,39.53,58.4,61.04,2.25,4.8899999999999997,6.18,54.72,2.29,3.35,1.51,3,3.51,3.5,1.98,1118.3599999999999,1532.73,1438.22,1877.59,819.27,805.91,454.25,914.77,465.55,927.71,981.4,"...",186.75,"...",471,463,454.5,459.17,245.2,272.36,0.9,1.1299999999999999,0.61,4.42,1.5,6.7,11.35,0.38,0.61,0.3,4245.3999999999996,411.95,282.99,621.65,707.08,519.05999999999995,1.65,1.53,2.19,80,357.1,290,245,255,1806.1,119.78,6713.81,1776.27,18176.59,15239.36,2440.65,1900.27,876.27,24.23]
["2020M11","2020-11-01",true,"2020-11-01",{"$f":"INDEX(G740:BY740,$E$7)","v":2.59},{"$f":"INDEX(G740:BY740,$F$7)","v":6.86},42.3,43.23,42.58,41.1,64.400000000000006,69.430000000000007,2.59,4.84,6.86,59.06,2.36,3.32,1.6,2.78,3.47,2.88,1.99,1368.95,1607.14,1442.77,1878.61,917.81,1073.48,499.98,973.88,495.98,1047.78,1109.1099999999999,"...",190.38,"...",489,480,468.48,469.5,247.95,273,0.89,1.1299999999999999,0.65,4.4000000000000004,1.7,7.29,11.53,0.39,0.65,0.31,4222.2299999999996,414.26,285.20999999999998,632.96,719.95,523.14,1.71,1.56,2.2999999999999998,82.5,359.63,292.5,245,250,1935.28,124.36,7068.91,1915.62,18522.48,15807.73,2671.6,1866.3,911.55,24.08]
["2020M12","2020-12-01",true,"2020-12-01",{"$f":"INDEX(G741:BY741,$E$7)","v":2.54},{"$f":"INDEX(G741:BY741,$F$7)","v":7.66},48.73,49.87,49.26,47.05,83.03,85.18,2.54,5.86,7.66,63.86,2.41,3.48,1.59,2.65,3.41,2.6,1.94,1464.96,1937.5,1497.69,1977.17,1016.37,1224.8699999999999,510.94,1026.2,494.98,1097.6300000000001,1170.02,"...",198.77,"...",520,508,496.55,477.39,251.15,268.55,0.92,1.1499999999999999,0.64,4.4000000000000004,1.81,7.09,11.68,0.4,0.63,0.31,4200.3999999999996,425.85,286.86,643.92999999999995,732.43,526.16,1.79,1.57,2.33,83.33,388.5,320,245,246.33,2014.67,155.43,7772.24,2020.47,19731.96,16823.04,2779.85,1858.42,1028,24.97]
["2021M01","2021-01-01",true,"2021-01-01",{"$f":"INDEX(G742:BY742,$E$7)","v":2.67},{"$f":"INDEX(G742:BY742,$F$7)","v":9},53.6,54.55,54.16,52.1,86.83,86.85,2.67,7.27,9,73.02,2.39,3.54,1.56,2.68,3.39,2.62,2.0299999999999998,1463.07,1892.86,1495.98,1988.94,990.27,1368.31,576.37,1098.67,562.38,1141.24,1276.1199999999999,"...",234.47,"...",545,528,517.75,490.98,276.45,289.3,0.94,1.24,0.63,4.46,1.81,7.28,11.75,0.4,0.63,0.34,4157.3999999999996,426.13,287,653.76,743.6,526.41999999999996,1.92,1.59,2.2999999999999998,85,421.3,337.6,265,255.5,2003.98,169.63,7972.15,2014.73,21920.240000000002,17863.18,2705.34,1866.98,1090.95,25.88]
["2021M02","2021-02-01",true,"2021-02-01",{"$f":"INDEX(G743:BY743,$E$7)","v":5.07},{"$f":"INDEX(G743:BY743,$F$7)","v":9.8800000000000008},60.46,61.96,60.37,59.06,86.74,82.76,5.07,6.16,9.8800000000000008,97.48,2.41,3.67,1.62,2.56,3.32,2.33,2.02,1444.5,1875,1479.18,1993.21,1019.86,1359.5,578.26,1123.5,548.44000000000005,1272.1300000000001,1362.57,"...",245.24,"...",557,542,531,500.48,276.63,289.39999999999998,0.95,1.22,0.57999999999999996,4.66,1.81,7.45,11.93,0.4,0.66,0.36,4185.43,423.4,282.52999999999997,664.01,755.26,518.22,2.0499999999999998,1.68,2.35,88.13,528.88,453.75,335,290.63,2078.59,163.80000000000001,8470.94,2080.11,26315.75,18584.38,2744.5,1808.17,1206.7,27.29]
["2021M03","2021-03-01",true,"2021-03-01",{"$f":"INDEX(G744:BY744,$E$7)","v":2.56},{"$f":"INDEX(G744:BY744,$F$7)","v":7.9},63.83,65.19,63.95,62.35,94.92,90.66,2.56,6.13,7.9,65.62,2.46,3.68,1.63,2.4300000000000002,3.27,2.02,2,1540.65,1623.04,1476.34,2006.04,1030.48,1478.59,585.71,1284.81,483.9,1321.88,1611.11,"...",245.17,"...",525,515,504.13,498.38,272.58,273.13,0.95,1.23,0.6,4.72,1.89,7.99,12.28,0.39,0.67,0.34,4202.17,416.61,273.85000000000002,664.25,755.53,502.3,2.02,1.74,2.37,96.25,534.13,458,352.88,320.88,2190.48,168.18,8988.25,1948,27061,16406.66,2791.94,1718.23,1181,25.65]
["2021M04","2021-04-01",true,"2021-04-01",{"$f":"INDEX(G745:BY745,$E$7)","v":2.61},{"$f":"INDEX(G745:BY745,$F$7)","v":8.2799999999999994},62.95,64.77,62.37,61.71,92.22,89.13,2.61,7.15,8.2799999999999994,71.28,2.37,3.72,1.64,2.67,3.21,2.88,1.92,1659.64,1426.82,1487.25,2020.64,1078.05,1487.14,597.13,1386.35,464.2,1312.33,1572.8,"...",268.23,"...",495,484,477.38,488.17,281.38,280.95,0.96,1.23,0.59,5.17,2.2599999999999998,8.3699999999999992,12.49,0.39,0.69,0.36,4218.78,418.53,272.89999999999998,663.24,754.39,500.55,2,1.64,2.15,95,543.4,478,328.1,345.5,2319.39,179.83,9324.82,2011.92,28328.42,16521.25,2829.01,1760.04,1208.81,25.69]
["2021M05","2021-05-01",true,"2021-05-01",{"$f":"INDEX(G746:BY746,$E$7)","v":2.89},{"$f":"INDEX(G746:BY746,$F$7)","v":8.92},66.400000000000006,68.040000000000006,65.98,65.180000000000007,107.04,99.31,2.89,8.91,8.92,83.47,2.41,4.1100000000000003,1.76,2.71,3.08,3.14,1.92,1715.24,1450,1514.29,2072.04,1136.46,1530.5,646.79999999999995,1574.67,482.38,1531.38,1584.59,"...",305.31,"...",493,483,462.75,477.7,270.98,297.25,0.97,1.23,0.61,5.48,2.37,8.8000000000000007,12.65,0.4,0.71,0.38,4168.01,425.18,272.75,674.6,767.31,500.28,2,1.69,2.29,102.5,574.63,527.5,331.63,378.13,2433.5300000000002,207.72,10161.969999999999,2181.81,32246.21,17577.060000000001,2965.73,1850.26,1214,27.5]
["2021M06","2021-06-01",true,"2021-06-01",{"$f":"INDEX(G747:BY747,$E$7)","v":3.23},{"$f":"INDEX(G747:BY747,$F$7)","v":9.6199999999999992},71.8,73.069999999999993,70.959999999999994,71.38,129.97,112.92,3.23,10.3,9.6199999999999992,94.73,2.37,4.24,1.87,2.7,2.93,3.34,1.82,1670.68,1450,1502.27,2078.83,1004.42,1400.45,614.67999999999995,1518.16,467.15,1527.59,1296.75,"...",292.56,"...",466,455,438.59,474,263.48,285.55,0.95,1.23,0.64,5.68,2.38,8.86,13.4,0.39,0.73,0.38,4138.97,421.75,270.39,672.3,764.69,495.96,2.08,1.64,2.12,125,604.75,550,393.25,462.5,2446.65,214.43,9631.5,2191.0300000000002,32502.55,17979.57,2951.85,1834.57,1124,27]
["2021M07","2021-07-01",true,"2021-07-01",{"$f":"INDEX(G748:BY748,$E$7)","v":3.8},{"$f":"INDEX(G748:BY748,$F$7)","v":10.36},73.28,74.39,73,72.459999999999994,151.97,122.33,3.8,12.51,10.36,112.68,2.33,4.5,2.08,2.65,2.99,3.2,1.76,1584.09,1456.82,1504.13,2092.19,1062.99,1274.0899999999999,600.44000000000005,1468.34,470.02,1410.08,1282.01,"...",278.43,"...",414,407,397,436.17,254.67,294.27,0.85,1.23,0.69,5.59,2.38,8.99,15.86,0.39,0.8,0.39,4078.12,413.77,269.95,661.47,752.37,495.15,2.15,1.63,1.87,125,613,555,441.5,633,2497.64,214.14,9450.82,2337.5100000000002,34020.18,18818.509999999998,2947.52,1807.84,1086.48,25.68]
["2021M08","2021-08-01",true,"2021-08-01",{"$f":"INDEX(G749:BY749,$E$7)","v":4.05},{"$f":"INDEX(G749:BY749,$F$7)","v":10.8},68.87,70.02,68.849999999999994,67.73,169.58,137.91999999999999,4.05,15.43,10.8,129.82,2.48,4.7699999999999996,2.1,2.72,2.99,3,2.16,1493.64,1443.18,1504.12,2102.29,1141.82,1341.14,585.79999999999995,1433.94,470.26,1519.19,1355.69,"...",256.61,"...",403,392,381,384.46,276.18,324.52,0.89,1.23,0.72,5.61,2.38,9.0500000000000007,15.76,0.38,0.76,0.43,3973.24,412.02,271.02999999999997,661.23,752.1,497.13,2.23,1.71,1.9,136.88,603.13,555,446.88,695,2602.9899999999998,162.16,9370.14,2414.4699999999998,35024,19141.3,2987.95,1785.28,1008.73,23.99]
["2021M09","2021-09-01",true,"2021-09-01",{"$f":"INDEX(G750:BY750,$E$7)","v":5.1100000000000003},{"$f":"INDEX(G750:BY750,$F$7)","v":11.44},72.8,74.599999999999994,72.239999999999995,71.56,185.69,146.05000000000001,5.1100000000000003,22.84,11.44,178.4,2.56,4.97,2.31,2.73,2.98,2.98,2.2200000000000002,1485,1476.14,1483.27,2109.02,1181.3800000000001,1427.27,557.54999999999995,1398.75,467.83,1629.14,1309.52,"...",235.62,"...",400,391,381.27,387.3,263.60000000000002,337.55,0.91,1.18,0.74,5.77,1.83,9.08,14.67,0.38,0.79,0.43,4089.23,412.02,270.24,658.21,748.67,495.69,2.29,1.63,1.79,147.5,643.75,573.75,418.75,736.25,2834.56,124.52,9324.7099999999991,2248.3000000000002,34887.300000000003,19376.88,3036.02,1775.14,973.19,23.19]
["2021M10","2021-10-01",true,"2021-10-01",{"$f":"INDEX(G751:BY751,$E$7)","v":5.48},{"$f":"INDEX(G751:BY751,$F$7)","v":12.38},82.06,83.65,81.22,81.319999999999993,224.51,199.65,5.48,31.05,12.38,222.53,2.57,5.31,2.3199999999999998,2.78,3.05,2.88,2.42,1922.86,1539.29,1461.66,2133.67,1310.25,1818.33,551.95000000000005,1483.52,450.85,1795.17,1420.53,"...",239.65,"...",401,395,382.71,404.46,"...",354.67,0.93,1.1499999999999999,0.66,5.53,1.76,9.3000000000000007,14.47,0.38,0.82,0.42,4241.75,406.04,263.17,656.25,746.43,482.72,2.59,1.73,1.87,147.5,672.9,618,695,782,2934.39,122.91,9829.2199999999993,2344.83,37722.92,19362.39,3359.91,1776.85,1017.1,23.41]
["2021M11","2021-11-01",true,"2021-11-01",{"$f":"INDEX(G752:BY752,$E$7)","v":5.0199999999999996},{"$f":"INDEX(G752:BY752,$F$7)","v":15.25},79.92,80.77,79.8,79.180000000000007,157.47999999999999,128,5.0199999999999996,27.62,15.25,202.59,2.39,5.71,2.41,2.83,3.11,2.91,2.48,1960.68,1552.27,1439.66,2150.21,1340.65,2050.23,551.04,1442.96,442.63,1825.34,1415.62,"...",248.72,"...",400,394,378.55,411.41,334.5,379.45,0.9,1.1399999999999999,0.66,5.69,1.55,9.3699999999999992,14.49,0.37,0.82,0.43,4221.6499999999996,399.56,261.16000000000003,644.89,733.52,479.04,2.79,1.74,1.93,153.13,726.69,665,900.5,806.88,2636.45,96.24,9728.9,2329.98,39158.69,19932.86,3311.27,1821.76,1038.05,24.18]
["2021M12","2021-12-01",true,"2021-12-01",{"$f":"INDEX(G753:BY753,$E$7)","v":3.73},{"$f":"INDEX(G753:BY753,$F$7)","v":15.32},72.87,74.31,72.760000000000005,71.53,169.65,142.5,3.73,38.03,15.32,236.49,2.38,5.91,2.48,2.82,3.19,2.67,2.62,1695.71,1475,1422.52,2154.06,1270.29,1861.43,554.14,1411.21,461.66,1742.5,1361.83,"...",264.54000000000002,"...",400,393,380.95,402.66,327.82,376.81,0.89,1.1599999999999999,0.71,5.75,1.47,9.44,14.62,0.37,0.81,0.42,4182.1499999999996,395.61,261.23,637.9,725.56,479.16,2.65,1.72,1.92,176.67,745,686.67,890,807.5,2695.53,116.96,9551.18,2301.69,39422.519999999997,20015.55,3399.21,1790.43,944.59,22.53]
["2022M01","2022-01-01",true,"2022-01-01",{"$f":"INDEX(G754:BY754,$E$7)","v":4.33},{"$f":"INDEX(G754:BY754,$F$7)","v":14.69},83.92,85.53,83.11,83.12,196.95,168.5,4.33,28.26,14.69,196.91,2.4700000000000002,5.98,2.4300000000000002,2.86,3.51,2.4,2.68,2016.14,1479.55,1428.56,2489.88,1344.79,2195.79,606.22,1469.56,526.49,1865.36,1411.73,"...",276.62,"...",427,419,403.15,395.94,325.16000000000003,374.24,0.91,1.1599999999999999,0.79,5.81,1.36,9.11,14.78,0.37,0.78,0.4,4184.6000000000004,396.2,259.05,649.67999999999995,738.97,475.16,2.91,1.78,1.97,173.13,699.38,674.38,846.38,785.63,3005.98,132.53,9782.34,2331.85,41791.699999999997,22355.4,3599.14,1816.02,994.15,23.16]
["2022M02","2022-02-01",true,"2022-02-01",{"$f":"INDEX(G755:BY755,$E$7)","v":4.66},{"$f":"INDEX(G755:BY755,$F$7)","v":17},93.54,95.76,93.13,91.74,219.78,196.4,4.66,27.23,17,197.52,2.5499999999999998,6.17,2.41,2.79,3.61,2.0699999999999998,2.73,2147.89,1496.25,1445.25,2473.1,1522.36,2442.63,661.63,1595.74,569.46,1744.2,1499.12,"...",292.62,"...",427,422,405.95,384.21,339.35,390.5,0.96,1.24,0.73,5.99,1.45,8.9499999999999993,14.88,0.37,0.78,0.39,4219.55,397.01,258.47000000000003,648.82000000000005,737.98,474.09,3.05,1.79,2.11,172.5,747.13,680,744.17,791.88,3245.79,142.84,9943.17,2296.86,43983.35,24015.55,3620.04,1856.3,1049.4000000000001,23.54]
["2022M03","2022-03-01",true,"2022-03-01",{"$f":"INDEX(G756:BY756,$E$7)","v":4.88},{"$f":"INDEX(G756:BY756,$F$7)","v":15.11},112.4,115.59,113.11,108.49,314.04000000000002,294.42,4.88,42.39,15.11,271.08,2.46,5.7,2.29,2.61,3.35,1.96,2.54,2230.2199999999998,1491.3,1514.62,2153.15,1776.96,2441.48,720.6,1956.88,601.42999999999995,2162.3000000000002,2361.13,"...",335.53,"...",422,419,407.13,391.67,446.66,486.3,0.97,1.39,0.77,6.07,1.76,9.1300000000000008,14.96,0.36,0.8,0.42,4258,385.67,250.95,631.24,717.98,460.3,3.11,1.75,2.12,178.75,938.13,792.5,872.5,977.5,3498.37,152.07,10230.89,2344.84,43949.67,33924.18,3962.21,1947.83,1043.26,25.31]
["2022M04","2022-04-01",true,"2022-04-01",{"$f":"INDEX(G757:BY757,$E$7)","v":6.53},{"$f":"INDEX(G757:BY757,$F$7)","v":16.29},103.41,105.78,102.68,101.78,310.85000000000002,302,6.53,32.200000000000003,16.29,243.44,2.46,5.85,2.29,3.24,4.09,3.11,2.5299999999999998,2094.61,1443.75,1643.39,2145.25,1682.74,2064.31,720.79,1947.51,579.45000000000005,2266.17,2275.7600000000002,"...",348.17,"...",431,429,409.06,402.38,427.31,495.28,0.96,1.46,0.91,5.97,1.87,9,14.99,0.35,0.81,0.43,4263.34,378.84,235.71,620.5,705.78,432.35,3.42,1.7,2.09,249.5,954,856,925,1202,3244.41,151.25,10161.379999999999,2380.41,42991.11,33132.74,4360.43,1936.86,965,24.55]
["2022M05","2022-05-01",true,"2022-05-01",{"$f":"INDEX(G758:BY758,$E$7)","v":8.14},{"$f":"INDEX(G758:BY758,$F$7)","v":16.68},110.1,112.37,108.32,109.6,371.86,280,8.14,29.17,16.68,248.79,2.37,5.74,2.27,2.99,3.71,2.87,2.38,1813.33,1482.95,1634.21,2146.29,1716.92,1811.19,724.09,1962.88,529.83000000000004,2218.4499999999998,2079.3000000000002,"...",344.84,"...",464,458,442.86,406.45,438.38,522.29,0.96,1.46,0.92,5.94,1.9,8.7100000000000009,15.13,0.35,0.8,0.43,4277.07,370.27,231.13,596.78,678.8,423.95,3.61,1.62,2.06,255,842.5,827.5,707.5,1170,2830.32,131.21,9377.15,2142.48,35769.39,28062.55,3751.48,1848.5,958.38,21.91]
["2022M06","2022-06-01",true,"2022-06-01",{"$f":"INDEX(G759:BY759,$E$7)","v":7.67},{"$f":"INDEX(G759:BY759,$F$7)","v":15.53},116.8,120.08,115.73,114.59,374.08,291.36,7.67,33.56,15.53,263.24,2.3199999999999998,6.03,2.29,2.96,3.51,3.27,2.11,1700.5,1607.14,1608.06,2146.19,1501.1,1554.5,737.06,1751.76,528.14,2000.53,1884.59,"...",335.71,"...",444,441,427.55,411.92,379.89,459.59,0.95,1.44,0.94,5.81,1.85,8.4600000000000009,14.86,0.35,0.79,0.42,4206.0600000000004,370.09,222.3,590.65,671.82,407.75,3.4,1.64,2.0299999999999998,287.5,783.75,730.13,690,1101.8800000000001,2563.44,130.74,9024.4599999999991,2066.38,31559.31,25658.63,3629.73,1836.57,956.59,21.56]
["2022M07","2022-07-01",true,"2022-07-01",{"$f":"INDEX(G760:BY760,$E$7)","v":7.26},{"$f":"INDEX(G760:BY760,$F$7)","v":18.88},105.08,108.92,106.48,99.85,402.2,269.08999999999997,7.26,51.33,18.88,344.93,2.2400000000000002,5.64,2.21,3.31,4.01,3.55,2.37,1540.53,1621.09,1581.28,2146.19,1056.6400000000001,1301.05,678.2,1533.4,535.54,1737.34,1556.87,"...",322.97000000000003,"...",418,412,405.67,411.09,316.69,382.5,0.89,1.53,0.84,5.73,1.72,8.4600000000000009,14.04,0.33,0.77,0.4,4268.3900000000003,356.48,217.76,574.6,653.55999999999995,399.42,2.89,1.56,1.78,320,784,736,601,1013,2408.42,108.57,7544.81,1985.2,25395.77,21481.89,3105.36,1732.74,869.25,19.079999999999998]
["2022M08","2022-08-01",true,"2022-08-01",{"$f":"INDEX(G761:BY761,$E$7)","v":8.7899999999999991},{"$f":"INDEX(G761:BY761,$F$7)","v":21.21},95.97,98.6,97.75,91.57,406.97,274.62,8.7899999999999991,70.040000000000006,21.21,454.04,2.3199999999999998,5.92,2.42,3.37,4.21,3.54,2.36,1384.57,1625,1623.3,2146.11,1025.95,1173.04,671.11,1598.78,535.41999999999996,1638.85,1496.22,"...",289.83999999999997,"...",431,421,412.55,395.8,"...",382.86,0.88,1.67,0.93,5.57,1.84,8.5299999999999994,12.63,0.33,0.78,0.39,4356.6000000000004,354.52,220.19,574.46,653.4,403.88,2.74,1.46,1.61,320,749.38,703.75,591.25,888.75,2430.79,108.85,7981.84,2072.7199999999998,24647.48,22057.39,3587.57,1764.56,908.65,19.72]
["2022M09","2022-09-01",true,"2022-09-01",{"$f":"INDEX(G762:BY762,$E$7)","v":7.76},{"$f":"INDEX(G762:BY762,$F$7)","v":23.73},88.22,90.16,90.63,83.87,430.81,234.98,7.76,59.1,23.73,391.32,2.2999999999999998,5.9,2.46,3.33,4.49,3.15,2.36,1248.0999999999999,1641.67,1623.2,2146.13,909.32,1249.29,664.45,1548.32,536.54999999999995,1402.02,1304.75,"...",312.66000000000003,"...",439,428,423.36,392.24,"...",419.14,0.9,1.62,0.93,5.44,1.75,8.49,11.51,0.32,0.77,0.39,4146.96,346.85,208.21,542.98,617.59,381.91,2.59,1.32,1.48,320,752,708,678,731,2224.7600000000002,99.81,7746.01,1870.1,21124.04,22773.97,3124.97,1680.78,881.24,18.940000000000001]
["2022M10","2022-10-01",true,"2022-10-01",{"$f":"INDEX(G763:BY763,$E$7)","v":5.62},{"$f":"INDEX(G763:BY763,$F$7)","v":21.84},90.33,93.13,90.59,87.26,389.79,191.22,5.62,39.020000000000003,21.84,268.55,2.31,5.29,2.27,3.15,4.1500000000000004,2.83,2.46,1108.0999999999999,1619.05,1621.79,2146.1,888.99,1038.81,626,1575.9,542.15,1408.01,1359.15,"...",343.56,"...",431,420,411.62,409.08,"...",437.95,0.95,1.57,1.07,5.33,1.63,7.7,11.46,0.32,0.76,0.39,4325.16,343.98,202.13,540.63,614.91999999999996,370.76,2.2000000000000002,1.29,1.5,317.5,725,675,636.25,622.5,2255.54,92.56,7651.08,1999.86,19391.169999999998,22032.89,2967.21,1664.45,914.67,19.43]
["2022M11","2022-11-01",true,"2022-11-01",{"$f":"INDEX(G764:BY764,$E$7)","v":5.28},{"$f":"INDEX(G764:BY764,$F$7)","v":19.59},87.38,91.07,86.28,84.78,342.16,169.1,5.28,35.72,19.59,247.18,2.41,4.72,2.04,3.05,3.8,2.85,2.4900000000000002,1173.25,1639.29,1677.21,2146.14,945.74,1061.58,648.91999999999996,1651.6,518.67999999999995,1377.58,1347.28,"...",320.92,"...",440,430,417.5,421.21,"...",422.68,0.97,1.65,1.0900000000000001,5.07,1.54,6.54,11.46,0.33,0.79,0.41,4333.33,356.9,209.22,562.42999999999995,639.72,383.76,2.23,1.27,1.43,300,665.63,625,588.75,563.13,2350.7199999999998,93.34,8049.86,2099.9899999999998,21249.5,25562.7,2938.92,1725.07,989.05,21.02]
["2022M12","2022-12-01",true,"2022-12-01",{"$f":"INDEX(G765:BY765,$E$7)","v":5.5},{"$f":"INDEX(G765:BY765,$F$7)","v":20.58},78.069999999999993,80.900000000000006,76.78,76.52,379.23,215,5.5,36.04,20.58,252.12,2.5099999999999998,4.63,2.0499999999999998,2.95,4.04,2.42,2.39,1158.4100000000001,1670.45,1745.96,2146.1,940.39,1067.05,645.66999999999996,1409.24,571.15,1259.95,1233.8,"...",302.25,"...",467,457,446.39,432.35,"...",386.33,1.01,1.68,1.1000000000000001,4.71,1.55,6.1,11.46,0.35,0.81,0.42,4399.33,370.55,220.75,583.41999999999996,663.59,404.9,2.2200000000000002,1.35,1.54,300,625,584.38,519.38,513.75,2401.69,111.84,8375.4,2216.48,24172.37,28946.81,3129.48,1797.55,1010.95,23.33]
["2023M01","2023-01-01",true,"2023-01-01",{"$f":"INDEX(G766:BY766,$E$7)","v":3.27},{"$f":"INDEX(G766:BY766,$F$7)","v":20.190000000000001},80.41,83.09,80.03,78.11,317.99,172,3.27,20.18,20.190000000000001,149.38,2.62,4.5599999999999996,2.12,2.77,4.04,1.94,2.33,1078.5,1681.25,1779.84,1970.67,941.97,1060,626.59,1351.77,605.12,1223.58,1218.3399999999999,"...",302.77999999999997,"...",517,507,484.64,440.66,"...",380.36,1.07,1.68,1.0900000000000001,4.6500000000000004,1.54,6.11,11.46,0.35,0.8,0.42,4475.62,377.13,228.23,585.24,665.66,418.62,2.21,1.41,1.63,300,631,569.38,443.75,508.75,2501.8200000000002,122.23,9037.9500000000007,2201.2600000000002,28154.14,28194.61,3309.81,1897.71,1053.25,23.65]
["2023M02","2023-02-01",true,"2023-02-01",{"$f":"INDEX(G767:BY767,$E$7)","v":2.38},{"$f":"INDEX(G767:BY767,$F$7)","v":18.420000000000002},80.25,82.71,81.209999999999994,76.84,207.48,144.66999999999999,2.38,16.54,18.420000000000002,120.04,2.65,5.0599999999999996,2.29,2.7,3.96,1.86,2.29,1086.67,1750,1762.2,2042.62,949.98,1036.67,651.12,1243.01,605.27,1188.57,1158.5999999999999,"...",298.18,"...",492,482,468.95,448.28,311.88,394.75,1.1000000000000001,1.66,1.3,4.6500000000000004,1.53,6.62,11.06,0.35,0.81,0.45,4492.34,375.13,224.02,579.54,659.18,410.91,2.19,1.4,1.62,322.5,612.5,547.5,357.5,496.88,2416.1799999999998,127.6,8936.59,2093.06,26862.9,26727.95,3133.84,1854.54,958.85,21.92]
["2023M03","2023-03-01",true,"2023-03-01",{"$f":"INDEX(G768:BY768,$E$7)","v":2.2999999999999998},{"$f":"INDEX(G768:BY768,$F$7)","v":16.03},76.47,78.53,77.52,73.37,187.23,136.84,2.2999999999999998,13.81,16.03,104.51,2.75,4.9000000000000004,2.35,2.69,3.82,1.85,2.4,1114.75,1750,1720.35,2100.41,972.06,1051.75,628.38,1113.19,580.70000000000005,1053.74,1075.05,"...",282.49,"...",476,468,460.91,444.64,284.68,369.86,1.1100000000000001,1.6,1.29,4.84,1.52,6.99,11,0.35,0.84,0.45,4525.66,374.68,222.6,581.45000000000005,661.36,408.29,2.1,1.36,1.58,345,606,537.5,313.5,453,2296.42,128.37,8856.31,2115.1799999999998,23999.96,23288.61,2967.46,1912.73,970.61,21.98]
["2023M04","2023-04-01",true,"2023-04-01",{"$f":"INDEX(G769:BY769,$E$7)","v":2.16},{"$f":"INDEX(G769:BY769,$F$7)","v":14.37},82.46,84.11,83.83,79.44,194.28,133.75,2.16,13.52,14.37,100.25,2.88,5.0599999999999996,2.5499999999999998,2.96,3.9,2.63,2.35,1073.95,1737.5,1755.34,2088.2600000000002,1005.24,1016.84,614.92999999999995,1029.97,546.73,1026.1400000000001,1034.83,"...",291.11,"...",501,490,482.88,455.1,277.16000000000003,378.18,1.1399999999999999,1.65,1.46,5.3,1.57,7.22,10.91,0.36,0.91,0.53,4586.58,383.81,223.11,596.4,678.36,409.24,2.1,1.36,1.54,345,637,550,313.38,407.5,2343.23,117.39,8809.42,2149.4299999999998,25793.75,23894.560000000001,2767.56,1999.77,1050.74,25.01]
["2023M05","2023-05-01",true,"2023-05-01",{"$f":"INDEX(G770:BY770,$E$7)","v":2.15},{"$f":"INDEX(G770:BY770,$F$7)","v":13.43},74.12,75.7,75.08,71.59,160.47999999999999,103,2.15,10.11,13.43,83.22,2.96,4.8499999999999996,2.7,2.71,3.43,2.4700000000000002,2.23,1047.69,1773.08,1787.31,2016.88,934.06,992.5,595,988.32,519.19000000000005,967.27,961.79,"...",268.14,"...",510,495,492.68,470.53,260.51,367.74,1.1100000000000001,1.61,1.41,5.31,1.54,7.06,10.91,0.36,0.94,0.56000000000000005,4786.75,380.52,217.21,598.16999999999996,680.38,398.4,2.0699999999999998,1.35,1.56,345,510,485.63,329.25,372.5,2268.6,105.15,8217.4699999999993,2083.6,25533.8,21970.39,2475.6999999999998,1992.13,1062.73,24.27]
["2023M06","2023-06-01",true,"2023-06-01",{"$f":"INDEX(G771:BY771,$E$7)","v":2.1800000000000002},{"$f":"INDEX(G771:BY771,$F$7)","v":12.68},73.260000000000005,74.89,74.67,70.23,139.41999999999999,98.58,2.1800000000000002,10.35,12.68,84.31,3.17,4.57,2.91,2.69,3.23,2.76,2.09,1012.73,1850,1810.35,1971.27,816.97,927.95,591.89,1007.12,491.56,990.58,910.95,"...",266.87,"...",514,496,495.75,508.24,257,345.5,1.1000000000000001,1.59,1.4,5.01,1.47,6.27,10.36,0.35,0.91,0.54,5064.74,379.37,210.73,604.88,688.01,386.53,2.04,1.32,1.53,344.5,454.55,390,287.5,328,2184.75,113.45,8396.52,2122.89,27216.68,21233.279999999999,2375.4499999999998,1942.9,970.64,23.42]
["2023M07","2023-07-01",true,"2023-07-01",{"$f":"INDEX(G772:BY772,$E$7)","v":2.5499999999999998},{"$f":"INDEX(G772:BY772,$F$7)","v":12.99},78.98,80.099999999999994,80.459999999999994,76.39,140.63,96.75,2.5499999999999998,9.5500000000000007,12.99,85.19,3.39,4.2699999999999996,2.81,2.4700000000000002,2.48,2.86,2.06,1047.3800000000001,1960.48,1879.02,2159.21,878.5,998.1,633.85,1135.74,517.23,1107.99,1038.8,"...",242.38,"...",547,524,533.45000000000005,502.76,249.85,345.5,1.1200000000000001,1.55,1.51,4.78,1.37,5.43,9.8000000000000007,0.36,0.85,0.52,5098.18,387.07,211.05,617.29,702.12,387.11,2.0499999999999998,1.3,1.49,342.5,458.75,392.25,334.63,341.25,2159.73,114.43,8476.68,2109.12,28743.14,21091.26,2404.65,1951.02,950.42,24.26]
["2023M08","2023-08-01",true,"2023-08-01",{"$f":"INDEX(G773:BY773,$E$7)","v":2.58},{"$f":"INDEX(G773:BY773,$F$7)","v":12.54},84.72,86.16,86.61,81.400000000000006,152.61000000000001,97.6,2.58,11.19,12.54,93.09,3.46,4.12,2.75,2.83,3.58,2.68,2.25,1099.0899999999999,2000,1882.62,2173.94,860.82,998.41,583.92999999999995,1126.53,514.55999999999995,1066.77,989.42,"...",207.61,"...",635,600,626,541.15,230.81,315.82,1.07,1.56,1.66,4.7300000000000004,1.42,5.67,9.0500000000000007,0.36,0.89,0.53,5295.79,381.89,205.61,608.72,692.37,377.13,2.11,1.29,1.47,346.25,528.75,450.63,385.63,353.13,2136.5700000000002,110.2,8349.1299999999992,2153.84,26074.87,20438.650000000001,2406.7199999999998,1918.7,925,23.44]
["2023M09","2023-09-01",true,"2023-09-01",{"$f":"INDEX(G774:BY774,$E$7)","v":2.64},{"$f":"INDEX(G774:BY774,$F$7)","v":12.21},92.22,94,93.08,89.58,162.47,99.85,2.64,11.55,12.21,95.23,3.61,4.05,2.73,2.85,3.64,2.65,2.25,1071.67,2050,1851.82,2106.2199999999998,829.6,957.64,619.04,1111.6300000000001,509.31,1047.44,894.81,"...",223.81,"...",620,587,609.9,594.37,230.55,314.68,1.04,1.56,1.77,4.9000000000000004,1.54,5.98,8.7100000000000009,0.35,0.94,0.57999999999999996,5437.42,374.01,201.54,594.25,675.91,369.68,2.16,1.42,1.55,347.5,527.9,461.5,380,352,2184.67,120.98,8276.7099999999991,2252.1,25573.93,19644.64,2495.5,1915.95,920.9,23.1]
["2023M10","2023-10-01",true,"2023-10-01",{"$f":"INDEX(G775:BY775,$E$7)","v":2.99},{"$f":"INDEX(G775:BY775,$F$7)","v":12.62},89.08,91.06,90.62,85.57,142.12,128.4,2.99,14.57,12.62,114.1,3.63,4.05,2.62,2.76,3.49,2.62,2.16,1046.43,2050,1832.74,1954.4,804.26,912.38,529.57000000000005,1133.8699999999999,511.73,1060.31,910.17,"...",230.7,"...",590,563,574.71,616.15,236.65,298.10000000000002,1.05,1.57,2.0299999999999998,4.9800000000000004,1.58,5.56,8.6,0.34,0.98,0.56999999999999995,5488.18,369.67,199,582.84,662.94,365.01,2.11,1.45,1.61,347.5,534.75,468.13,411.38,341.88,2192.21,118.97,7937.18,2133.7199999999998,24536.07,18281.23,2448.56,1916.25,891.9,22.38]
["2023M11","2023-11-01",true,"2023-11-01",{"$f":"INDEX(G776:BY776,$E$7)","v":2.71},{"$f":"INDEX(G776:BY776,$F$7)","v":12.72},81.349999999999994,83.18,83.45,77.430000000000007,126.82,109,2.71,14.49,12.72,110.37,4.03,4.3499999999999996,2.7,2.74,3.43,2.62,2.1800000000000002,1114.55,2050,1869.68,1891.89,830.47,967.5,553.04999999999995,1118.3900000000001,571.61,1039.32,943.6,"...",211.26,"...",598,573,574.59,629.41,241.03,283.55,1.08,1.55,2.06,4.88,1.67,5.25,"…",0.35,0.99,0.56999999999999995,5475.27,378.14,198.71,594.82000000000005,676.56,364.47,1.99,1.48,1.67,"…",535.63,462.63,385.5,331.88,2202.2600000000002,131.07,8189.59,2188.46,24167.86,17027.36,2543.61,1984.11,905.75,23.49]
["2023M12","2023-12-01",true,"2023-12-01",{"$f":"INDEX(G777:BY777,$E$7)","v":2.5299999999999998},{"$f":"INDEX(G777:BY777,$F$7)","v":14.44},75.72,77.86,77.22,72.08,141.82,108.83,2.5299999999999998,11.51,14.44,95.17,4.21,4.6500000000000004,2.99,2.71,3.67,2.2799999999999998,2.19,1108.81,2050,1847.44,1940.09,813.51,966.19,547.42999999999995,1062.48,524.08000000000004,1009.98,944.03,"...",206.55,"...",644,610,629.59,632.9,255.03,291.12,1.08,1.57,1.9,4.79,1.63,5.31,"…",0.36,0.88,0.48,5461.78,382.03,206.71,606.61,689.97,379.15,2,1.46,1.66,152.5,563.75,447.5,354,311.88,2182.4299999999998,137.05000000000001,8399.94,2026.91,24600.26,16460.84,2502.39,2026.18,935.47,23.88]
["2024M01","2024-01-01",true,"2024-01-01",{"$f":"INDEX(G778:BY778,$E$7)","v":3.18},{"$f":"INDEX(G778:BY778,$F$7)","v":14.34},77.67,80.23,78.86,73.930000000000007,124.9,106.75,3.18,9.56,14.34,93.79,4.4000000000000004,4.47,3.26,2.66,4.01,1.76,2.2000000000000002,1130.57,2056,1787.36,1896.09,844.9,977.5,547.38,971.46,493.64,972.06,943.36,"...",198.62,"...",660,620,648.86,625.51,247.86,283.91000000000003,1.0900000000000001,1.61,1.67,5,1.57,5.29,"…",0.36,0.88,0.48,5533.84,381.71,203.71,608.62,692.26,373.65,2.0299999999999998,1.53,1.8,152.5,596.25,450.63,335.38,296.25,2192.8200000000002,135.82,8338.8799999999992,2086.12,25099.84,16103.83,2515.42,2034.04,925.86,22.92]
["2024M02","2024-02-01",{"$f":"B779>$C$8","v":true},{"$f":"IF(C779,B779,NA())","v":"2024-02-01"},{"$f":"INDEX(G779:BY779,$E$7)","v":1.72},{"$f":"INDEX(G779:BY779,$F$7)","v":13.64},80.55,83.76,81.180000000000007,76.7,124.22,105.19,1.72,8.15,13.64,68.88,5.56,4.5999999999999996,3.38,2.71,4.2699999999999996,1.62,2.23,1171.58,2025,1731.46,1809.43,856.93,1034.17,519.75,911.9,457.08,962.71,925.08,"...",189.13,"...",624,594,619.9,614.26,246.16,278.5,1.07,1.57,1.95,5.38,1.52,5.2,"…",0.35,0.92,0.5,5534.96,377.72,199.13,605.22,688.39,365.25,2.2000000000000002,1.56,2.02,152.5,583.80999999999995,454.38,351.25,289.38,2179.46,124.39,8304.9500000000007,2079.83,26104.1,16338.46,2360.09,2023.24,894.29,22.66]
["2024M03","2024-03-01",true,"2024-03-01",{"$f":"INDEX(G780:BY780,$E$7)","v":1.5},{"$f":"INDEX(G780:BY780,$F$7)","v":13.19},83.55,85.45,84.7,80.489999999999995,131.49,104.84,1.5,8.5500000000000007,13.19,67.81,7.09,4.6100000000000003,3.66,2.69,4.33,1.57,2.15,1287.8599999999999,1950,1725.23,1821.63,942.92,1176.9000000000001,487.49,964.95,441.29,1029.01,950.93,"...",190.57,"...",613,584,607.72,585.42999999999995,228.49,274.83,1.08,1.64,1.92,5.73,1.53,5.19,"…",0.35,0.88,0.48,5608.24,380.42,198.79,609,692.7,364.62,2.2000000000000002,1.65,2.39,152.5,617.5,449,330,300.5,2226.16,109.79,8689.1299999999992,2056.1999999999998,27450.46,17438.830000000002,2461.04,2158.0100000000002,908.75,24.52]
["2024M04","2024-04-01",true,"2024-04-01",{"$f":"INDEX(G781:BY781,$E$7)","v":1.6},{"$f":"INDEX(G781:BY781,$F$7)","v":11.88},88.01,90.05,89.39,84.59,134.97,104.89,1.6,9.09,11.88,70.63,9.74,5.27,4.2300000000000004,3.03,4.12,2.66,2.31,1425.23,1850,1701.83,1820.32,935.69,1290.23,477.3,958.56,428.86,1058.58,971.27,"...",191.65,"...",592,564,577.95000000000005,571.5,227.81,272.3,1.07,1.63,1.95,6.05,1.44,5.18,"…",0.35,0.87,0.45,5674.49,375.59,193.69,600.23,682.72,355.27,1.99,1.63,2.2799999999999998,152.5,545,442.5,320,305,2506.1,112.75,9464.43,2129.46,31774.5,18163.95,2732.74,2331.4499999999998,940.18,27.49]
["2024M05","2024-05-01",true,"2024-05-01",{"$f":"INDEX(G782:BY782,$E$7)","v":2.13},{"$f":"INDEX(G782:BY782,$F$7)","v":12.16},81.45,82,83.53,78.81,142.01,105.63,2.13,10.119999999999999,12.16,82.25,7.54,5.08,4.04,3.2,4.28,3.13,2.17,1401.74,1800,1718.56,1837.96,859.15,1196.0899999999999,490.22,988,478.8,1104.1099999999999,1005.73,"...",197.79,"...",628,593,606.47,567.97,253.16,289.42,1.08,1.42,2.2400000000000002,5.88,1.51,5.17,"…",0.35,0.83,0.42,5629.87,378.25,190.88,605.22,688.39,350.12,1.91,1.69,2.15,152.5,522,434.9,284.8,307,2564.54,118.88,10139.33,2220.81,32977.51,19586.98,2959.13,2351.13,1014.68,29.36]
["2024M06","2024-06-01",true,"2024-06-01",{"$f":"INDEX(G783:BY783,$E$7)","v":2.5099999999999998},{"$f":"INDEX(G783:BY783,$F$7)","v":12.13},81.209999999999994,82.56,82.17,78.89,135.1,105.3,2.5099999999999998,10.87,12.13,90.4,8.27,5.48,4.5,3.22,4.16,3.36,2.14,1397.89,1812.5,1730,1809.62,873.67,1155.53,479.72,1010.68,480.7,1099.1199999999999,1043.05,"...",192.51,"...",632,595,613.29999999999995,561.63,230.61,265.55,1.06,1.0900000000000001,2.2599999999999998,5.85,1.4,5.0199999999999996,"…",0.35,0.83,0.43,5754.61,376.6,188.66,609.1,692.8,346.04,1.83,1.75,2.2599999999999998,152.5,543,473.75,336.25,310,2497.61,107.45,9648.17,2147.1,32032.7,17498.009999999998,2809.19,2326.44,985.08,29.58]
["2024M07","2024-07-01",true,"2024-07-01",{"$f":"INDEX(G784:BY784,$E$7)","v":2.08},{"$f":"INDEX(G784:BY784,$F$7)","v":12.49},83.26,85.3,83.94,80.540000000000006,137.55000000000001,105.31,2.08,10.35,12.49,82.85,7.09,5.67,4.7300000000000004,3.3,4.0999999999999996,3.59,2.2000000000000002,1474.35,1840,1739.14,1850.74,896.09,1365,469.63,1079.02,472.46,1118.33,1068.51,"...",177.43,"...",590,557,570.87,552.42999999999995,218.84,260.26,1.08,1.03,2.2999999999999998,6.19,1.33,5.1100000000000003,"…",0.35,0.83,0.43,6015.53,379.58,188.59,616.14,700.82,345.91,1.79,1.65,2.06,152.5,539.4,505.75,342.5,300.63,2349.13,106.85,9385.31,2106.94,31860.47,16334.88,2777.27,2398.1999999999998,978.8,29.77]
["2024M08","2024-08-01",true,"2024-08-01",{"$f":"INDEX(G785:BY785,$E$7)","v":1.99},{"$f":"INDEX(G785:BY785,$F$7)","v":13.32},78.12,80.86,77.95,75.55,145.76,106.21,1.99,12.37,13.32,92.02,6.88,5.76,4.7300000000000004,3.22,4.0199999999999996,3.46,2.2000000000000002,1618.64,1687.5,1733.37,1757.94,932.63,1480,400.13,1031.3800000000001,436.03,1080.0899999999999,1048.56,"...",170.32,"...",589,560,566.70000000000005,535.25,205.77,250.85,1.07,1.01,2.41,6.34,1.38,5.24,"…",0.36,0.79,0.41,5998.6,385.39,203.54,619.64,704.79,373.34,1.76,1.74,2.39,152.5,546,507.2,342.5,294,2343.67,99.91,8971.9599999999991,1994.63,31491.65,16292.12,2714.08,2470.15,945.36,28.53]
["2024M09","2024-09-01",true,"2024-09-01",{"$f":"INDEX(G786:BY786,$E$7)","v":2.25},{"$f":"INDEX(G786:BY786,$F$7)","v":12.97},72.42,74.290000000000006,73.430000000000007,69.55,139.19999999999999,106.07,2.25,11.78,12.97,92.14,6.52,6.12,5.33,3.27,4.09,3.61,2.1,1735.75,1525,1684.97,1770.68,982.83,1515,391.31,1043.81,435.74,1082.78,1068,"...",184.97,"...",580,556,564.25,540.46,219.21,269.69,1.07,1.03,2.5499999999999998,6.3,1.45,5.49,"…",0.36,0.8,0.45,6078.93,388.75,207.89,633.20000000000005,720.22,381.32,1.82,1.91,2.65,152.5,554.75,504.38,337.5,286.88,2449.92,92.83,9237.48,2000.31,31471.69,16076.74,2837.02,2570.5500000000002,966.7,30.13]
["2024M10","2024-10-01",true,"2024-10-01",{"$f":"INDEX(G787:BY787,$E$7)","v":2.21},{"$f":"INDEX(G787:BY787,$F$7)","v":12.54},73.97,75.66,74.650000000000006,71.599999999999994,146.63,106.81,2.21,12.92,12.54,96.73,6.66,6.1,4.8899999999999997,3.15,4.0599999999999996,3.31,2.0699999999999998,1728.38,1575,1638.57,1750.37,1077.25,1636.19,442.1,1094.8900000000001,421.63,1142.1400000000001,1205.71,"...",190.34,"...",515,499,504.81,529.84,233.34,272.85000000000002,1.05,1.03,2.6,6.06,1.48,5.6,"…",0.36,0.84,0.46,6166.26,381.71,198.99,625.73,711.72,364.98,1.84,2.0099999999999998,2.63,152.5,573.44000000000005,503.75,374.75,278.13,2595.58,101.39,9533.99,2034,32012.43,16765.8,3105.77,2690.08,998.91,32.42]
["2024M11","2024-11-01",true,"2024-11-01",{"$f":"INDEX(G788:BY788,$E$7)","v":2.1},{"$f":"INDEX(G788:BY788,$F$7)","v":12.82},72.290000000000006,74.400000000000006,72.790000000000006,69.69,142.12,106.82,2.1,13.93,12.82,100.45,7.89,6.72,4.9800000000000004,3.09,3.96,3.07,2.2400000000000002,1878.67,1700,1600.6,1733.86,1168.5899999999999,2015.31,435.64,1145.17,384.88,1242.92,1267,"...",201.33,"...",511,487,489.6,509.69,229.02,253.75,1.04,0.91,2.57,6.18,1.52,5.83,"…",0.35,0.84,0.45,6338.63,371.98,193.82,610.58000000000004,694.49,355.5,1.8,1.93,2.29,152.5,574.5,491,352.3,281,2582.19,100.5,9075.73,1987.53,29654.89,15723.06,3004.2,2651.13,965.53,31.09]
["2024M12","2024-12-01",true,"2024-12-01",{"$f":"INDEX(G789:BY789,$E$7)","v":3.02},{"$f":"INDEX(G789:BY789,$F$7)","v":12.64},72.31,73.83,73.31,69.790000000000006,129.81,105.47,3.02,13.86,12.64,111.15,10.32,7.57,5.22,2.96,4.1100000000000003,2.56,2.19,1973.24,1700,1597.92,1687.54,1189.73,2098.85,409.27,1063.6300000000001,376.39,1180.82,1222.5,"...",202.6,"...",527,500,501.94,495.67,230.28,252.17,1.04,0.83,2.7,6.23,1.42,5.84,"…",0.34,0.81,0.44,6458.25,366.49,193.31,605.94000000000005,689.21,354.58,1.76,1.99,2.38,152.5,568.33000000000004,477.5,352,292.5,2541.02,102.21,8916.32,1990.43,28864.99,15444.89,3034.16,2648.01,937.88,30.76]
["2025M01","2025-01-01",true,"2025-01-01",{"$f":"INDEX(G790:BY790,$E$7)","v":4.0999999999999996},{"$f":"INDEX(G790:BY790,$F$7)","v":13.19},78.16,79.209999999999994,80.14,75.14,118.6,103.28,4.0999999999999996,14.66,13.19,128.43,10.75,7.81,5.41,2.78,4.08,2,2.2400000000000002,1978.4,1687.5,1580.81,1660.81,1070.31,1961.53,410.83,1047.6199999999999,368,1149.1300000000001,1207,"...",214.44,"...",478,459,464.17,447.27,230.58,254.09,1.02,1.1100000000000001,2.57,6.46,1.54,5.83,"…",0.34,0.8,0.4,6519.4,362.36,190.21,591.85,673.18,348.89,1.72,1.93,2.37,152.5,582.70000000000005,478,380.5,302,2573.4,99.58,8991.41,1921.36,29612.36,15394.14,2818.96,2709.69,949.23,30.41]
["2025M02","2025-02-01",true,"2025-02-01",{"$f":"INDEX(G791:BY791,$E$7)","v":4.22},{"$f":"INDEX(G791:BY791,$F$7)","v":12.78},73.819999999999993,75.16,74.97,71.33,106.93,100.41,4.22,15.34,12.78,132.86000000000001,9.86,9.0500000000000007,5.81,2.69,4,1.8,2.25,1990,1650,1592.38,1664.06,1067.27,1947.46,412.15,1068.51,358.13,1159.0999999999999,1220,"...",220.88,"...",437,424,419.06,401.7,243.51,264.61,1.03,1.25,1.91,6.62,1.63,5.65,"…",0.34,0.82,0.42,6735.77,364.46,196.09,600.57000000000005,683.1,359.67,1.72,2.0099999999999998,2.41,152.5,603.75,480.63,436.5,318.75,2657.6,105.08,9330.6,1956.55,31832.959999999999,15288.09,2800.14,2894.73,978.25,32.15]
["2025M03","2025-03-01",true,"2025-03-01",{"$f":"INDEX(G792:BY792,$E$7)","v":4.13},{"$f":"INDEX(G792:BY792,$F$7)","v":12.55},70.7,72.569999999999993,71.709999999999994,67.819999999999993,103.97,97.99,4.13,13.24,12.55,121.55,8.08,8.92,5.69,2.69,4.07,1.77,2.2200000000000002,2356,1550,1644.69,1675.59,1067.5999999999999,2063.59,401.11,1011.43,368.75,1193.0899999999999,1232.5,"...",207.41,"...",425,410,404.11,378.42,227.54,255.37,1.08,1.18,1.44,6.77,1.63,5.61,"…",0.35,0.82,0.42,6812.98,378.32,199.65,618.63,703.65,366.21,1.71,1.98,2.36,152.5,615.13,478.5,394.5,336.25,2658.29,100.1,9739.68,2033.21,34047.870000000003,16065.69,2889.29,2983.25,980.05,33.19]
["2025M04","2025-04-01",true,"2025-04-01",{"$f":"INDEX(G793:BY793,$E$7)","v":3.4},{"$f":"INDEX(G793:BY793,$F$7)","v":12.68},65.91,67.75,66.89,63.08,98.61,95.56,3.4,11.59,12.68,104.98,8.15,8.64,5.43,2.91,3.96,2.65,2.11,2483,1375,1681.15,1679.03,994.37,2090.39,407.6,1119.53,369.38,1256.48,1225,"...",215,"...",415,401,396.89,377.75,219.58,249.58,1.1200000000000001,1.1000000000000001,1.41,6.71,1.74,5.89,"…",0.37,0.83,0.4,6870.88,393.09,206.64,630.17999999999995,716.78,379.02,1.73,1.71,2.13,152.5,635,496,386.88,351.88,2371.6,97.24,9176.7999999999993,1903.46,32565.05,15113.29,2621.55,3217.64,958.81,32.229999999999997]
["2025M05","2025-05-01",true,"2025-05-01",{"$f":"INDEX(G794:BY794,$E$7)","v":3.12},{"$f":"INDEX(G794:BY794,$F$7)","v":12.32},62.75,64.209999999999994,63.01,61.03,104.41,94.33,3.12,11.66,12.32,101.62,8.99,8.77,5.24,3.02,3.89,3.25,1.91,2766.8,1312.5,1663.54,1686.86,907.58,2002.84,414.11,1163.05,358,1241.1400000000001,1208,"...",203.87,"...",431,416,405.45,379.25,221.27,237,1.1399999999999999,1.0900000000000001,1.38,6.62,1.78,6.08,"…",0.37,0.81,0.39,6924.04,394.91,205.72,640.39,728.39,377.34,1.72,1.7,2.19,152.5,669.2,541.5,392,362.5,2448.79,96.97,9532.98,1957.75,31981.17,15345.79,2644.37,3309.49,979.5,32.76]
["2025M06","2025-06-01",true,"2025-06-01",{"$f":"INDEX(G795:BY795,$E$7)","v":3.02},{"$f":"INDEX(G795:BY795,$F$7)","v":12.17},69.150000000000006,71.45,68.5,67.489999999999995,109.03,93.78,3.02,12.37,12.17,103.74,8.4,8.01,4.33,2.99,3.74,3.22,2,2698.75,1300,1688.19,1697.45,935.39,1859.78,415.66,1177.97,353.13,1252.26,1196.25,"...",196.07,"...",419,408,393.35,377.16,217.31,240.05,1.1599999999999999,0.92,1.36,6.67,1.78,6.4,"…",0.38,0.78,0.37,6986.51,403.13,205.95,649.4,738.64,377.76,1.73,1.61,2.16,152.5,715.38,641.25,420.5,363.13,2525.96,92.33,9835.07,1973.86,32544.03,15003.11,2654.65,3352.66,1251.48,36.01]
["2025M07","2025-07-01",true,"2025-07-01",{"$f":"INDEX(G796:BY796,$E$7)","v":3.19},{"$f":"INDEX(G796:BY796,$F$7)","v":11.91},69.19,70.95,69.23,67.39,112.9,93.64,3.19,11.62,11.91,102.08,7.37,7.18,3.69,3.02,3.8,3.22,2.0499999999999998,2841,1250,1722.4,1727.31,976.38,2096.88,410.13,1306.5999999999999,335,1202.3699999999999,1213.75,"...",191.99,"...",392,382,376.05,370.63,210.59,234.96,1.1499999999999999,1.01,1.52,6.72,1.78,6.33,"…",0.38,0.8,0.37,7025.3,408.91,202.67,647.29,736.24,371.74,1.74,1.68,2.23,152.5,736,655,496,362.5,2606.37,97.26,9770.58,1993.17,33610.26,15034.02,2762.56,3340.15,1390.99,37.700000000000003]
["2025M08","2025-08-01",true,"2025-08-01",{"$f":"INDEX(G797:BY797,$E$7)","v":2.91},{"$f":"INDEX(G797:BY797,$F$7)","v":11.79},66.72,68.2,67.87,64.08,112.15,93.29,2.91,11.15,11.79,96.33,7.6,8.08,4.3899999999999997,3.04,3.98,3,2.14,2742.2,1250,1743.02,1664.67,1026.1199999999999,2264,407,1244.55,354.38,1212.5999999999999,1273.75,"...",185.49,"...",375,363,357.85,378.8,200.35,231.14,1.1200000000000001,1.02,1.28,6.86,1.67,6.24,"…",0.38,0.81,0.37,7054.14,407.19,201.56,644.12,732.64,369.7,1.73,1.71,2.15,152.5,795.1,662.9,507.7,356.5,2597.34,99.74,9669.56,1946.67,33833.760000000002,14949.25,2789.15,3368.03,1342.53,38.19]
["2025M09",{"$f":"EDATE(B797,1)","v":"2025-09-01"},true,"2025-09-01",{"$f":"INDEX(G798:BY798,$E$7)","v":2.97},{"$f":"INDEX(G798:BY798,$F$7)","v":11.47},66.459999999999994,67.95,67.75,63.67,106.32,92.27,2.97,11.12,11.47,96.72,7.03,8.83,4.66,2.94,4.01,2.72,2.08,2596.75,1235,1768.92,1609.75,1036.74,2414.17,403.96,1159.27,357.5,1267.98,1312.09,"...",197.38,"...",374,367,355.19,371.5,206.96,233.76,1.1499999999999999,1.02,1.29,6.9,1.74,6.24,"…",0.38,0.79,0.35,6949.32,410.66,201.3,647.1,736.02,369.23,1.72,1.74,2.11,152.5,780.63,664.38,461.13,352.5,2653.32,103.28,9983.7900000000009,1954.98,34483.910000000003,15105.64,2932.96,3667.68,1434.91,42.82]
["2025M10","2025-10-01",true,"2025-10-01",{"$f":"INDEX(G799:BY799,$E$7)","v":3.2},{"$f":"INDEX(G799:BY799,$F$7)","v":11.1},63.04,64.650000000000006,64.3,60.17,107.5,91.58,3.2,10.89,11.1,98.11,5.95,8.9,4.74,3.01,3.94,2.86,2.23,2547.1999999999998,1200,1768.92,1628.32,1038.0899999999999,2273.04,403.75,1132.1500000000001,356,1264.23,1363,"...",198.13,"...",356,351,335.91,365.6,209.33,230.78,1.1299999999999999,1.1299999999999999,1.05,7.09,1.72,6.33,"…",0.38,0.77,0.34,6929.76,407.33,196.65,639.76,727.68,360.69,1.68,1.71,2,152.5,754,658.5,394.4,352,2793.09,103.53,10739.91,1967.54,36011.919999999998,15092.12,3152,4058.33,1615.55,49.44]
["2025M11","2025-11-01",true,"2025-11-01",{"$f":"INDEX(G800:BY800,$E$7)","v":3.79},{"$f":"INDEX(G800:BY800,$F$7)","v":11.15},62.34,63.61,63.83,59.57,112.6,91.55,3.79,10.42,11.15,103.13,5.61,9.0500000000000007,4.74,2.99,3.96,2.7,2.27,2439.5,1200,1794.06,1678.18,983.4,2153.35,445.83,1128.3699999999999,411.25,1259.25,1360,"...",202.02,"...",368,362,338.5,359.8,225.19,245.85,1.1100000000000001,1.1599999999999999,0.86,7.51,1.77,6.45,"…",0.38,0.74,0.32,6838.56,404.43,191.82,628.89,715.31,351.84,1.66,1.71,2.0299999999999998,152.5,708.25,636.25,409.25,353.75,2819.06,102.48,10812.03,1998.48,36963.22,14670.77,3176.84,4087.19,1564.79,50.43]
["2025M12","2025-12-01",true,"2025-12-01",{"$f":"INDEX(G801:BY801,$E$7)","v":4.25},{"$f":"INDEX(G801:BY801,$F$7)","v":11.32},60.88,62.72,61.98,57.94,107.67,90.88,4.25,9.48,11.32,104.38,5.78,8.4,4.2,2.88,3.95,2.42,2.2599999999999998,2323,1200,1825.24,1621,980.12,1992.98,440,1115.67,398.75,1258.25,1352,"...",205.7,"...",424,414,389.44,351.91,223.17,242.8,1.1000000000000001,1.1599999999999999,0.92,7.38,1.78,6.37,"…",0.38,0.73,0.32,6923.98,409.96,190.94,641.49,729.65,350.24,1.63,1.74,2.06,152.5,627.5,538.5,392.5,358.33,2875.53,104.59,11785.25,1939.79,41219.519999999997,14883.99,3167.87,4309.2299999999996,1893.43,62.34]
["2026M01","2026-01-01",true,"2026-01-01",{"$f":"INDEX(G802:BY802,$E$7)","v":7.58},{"$f":"INDEX(G802:BY802,$F$7)","v":11.49},63.65,66.77,63.91,60.28,109.78,90.56,7.58,11.76,11.49,155.76,4.97,8.02,4.24,2.73,3.79,2.12,2.2599999999999998,2197.02,1206.25,1820.21,1722.6,1004.66,2125.46,424.5,1153.54,386,1223.32,1441,"...",204.49,"...",408,402,382.86,351.2,217.65,249.9,1.1200000000000001,1.2,1.1100000000000001,7.97,1.75,6.57,"…",0.38,0.74,0.32,6955.13,410.83,189.99,647.86,736.89,348.49,1.64,1.84,2.14,152.5,619.20000000000005,529.20000000000005,415.4,366,3141.89,105.53,13012,1994.54,49538.44,17768.5,3212.68,4752.75,2433.83,92.06]
["2026M02","2026-02-01",true,"2026-02-01",{"$f":"INDEX(G803:BY803,$E$7)","v":3.61},{"$f":"INDEX(G803:BY803,$F$7)","v":11.32},68.010000000000005,71.11,68.36,64.569999999999993,118.37,91.21,3.61,11.24,11.32,104.99,3.59,7.08,3.96,2.7,3.76,2.0099999999999998,2.34,2259.13,1237.5,1840.32,1799.75,1039.47,2295.12,459.38,1281.96,390.63,1275.21,1445,"...",209.59,"...",409,404,385.11,349.14,232.35,257.55,1.1399999999999999,1.21,0.94,8.1199999999999992,1.79,6.52,"…",0.39,0.7,0.31,6782.93,413.91,191.88,651.12,740.6,351.95,1.63,1.93,2.2599999999999998,152.5,626.5,536.25,472,372.5,3065.19,98.84,12951.35,1917.43,48694.34,17173.099999999999,3323.71,5019.97,2137.33,81.95]
["2026M03","2026-03-01",true,"2026-03-01",{"$f":"INDEX(G804:BY804,$E$7)","v":3.06},{"$f":"INDEX(G804:BY804,$F$7)","v":11.42},95.58,103.69,91.88,91.16,138.6,93.84,3.06,17.91,11.42,130.01,3.24,7.37,3.9,2.69,3.68,2.08,2.3199999999999998,2349,1250,1836.55,1682.22,1108.6099999999999,2574.02,472.5,1493.09,403.75,1303.9000000000001,1465,"...",212.69,"...",381,379,365.32,345.78,247.4,276,1.1100000000000001,1.21,0.97,8.2100000000000009,1.66,6.54,"…",0.38,0.74,0.33,6769.91,404.46,187.61,639.09,726.92,344.12,1.7,1.95,2.39,152.5,658.25,558.13,725.63,380.63,3372.95,104.45,12528.71,1878.19,47323.68,17076.29,3182.26,4855.54,2046.01,77.88]
["2026M04","2026-04-01",true,"2026-04-01",{"$f":"INDEX(G805:BY805,$E$7)","v":2.77},{"$f":"INDEX(G805:BY805,$F$7)","v":15.65},103.91,120.42,92.69,98.63,130.91999999999999,94.78,2.77,15.41,15.65,117.44,3.4,7.3,3.63,2.83,3.8,2.37,2.3199999999999998,2331.5,1250,1946.18,1906.33,1146.2,2606.4899999999998,462.5,1643.42,416,1344.7,1485,"...",214,"...",403,399,385.23,352.85,246.48,282,1.1200000000000001,1.1499999999999999,0.95,8.2100000000000009,1.75,7.11,"…",0.38,0.77,0.32,"…",409.19,187.02,644.03,732.53,343.04,1.9,2.06,2.5099999999999998,152.5,725.25,658.13,856.88,401.25,3599.85,106.05,12950.96,1929.85,48805.89,17961.599999999999,3363.81,4721.42,2027.66,75.86]
["2026M05","2026-05-01",true,"2026-05-01",{"$f":"INDEX(G806:BY806,$E$7)","v":2.93},{"$f":"INDEX(G806:BY806,$F$7)","v":15.77},100.43,107.54,94.67,99.09,136.86000000000001,95.56,2.93,16.170000000000002,15.77,123.16,4.16,6.95,3.67,3.02,3.68,3.19,2.1800000000000002,2244,1250,2044.75,1836.75,1139.94,2416.34,474.17,1775.26,420.83,1472.53,1505,"...",216.17,"...",440,435,420.19,376.33,259.54000000000002,303,1.1399999999999999,1.1200000000000001,0.92,7.95,1.86,7.28,"…",0.38,0.79,0.34,"…",408.77,188.28,646.41999999999996,735.26,345.34,2.0299999999999998,2.21,2.69,152.5,769.5,713.5,770.5,405,3666.1,108.64,13543.19,1991.48,53562.79,18805.77,3482.3,4587.21,1998.39,78.010000000000005]

{"sheet":"Misc Forms","index":22,"n_rows":71,"n_cols":22,"rows_kept":71,"cut":false,"hidden":false,"merged":[]}
["          ",null,null,null,null,null,null,null,null,null,null,null,null,null,{"$f":"TRANSPOSE('Monthly Prices'!G8:BY8)","v":"Crude oil, average"}]
[null,null,null,null,null,null,null,null,null,null,null,null,null,null,"Crude oil, Brent"]
[null,null,null,null,null,null,{"$f":"TRANSPOSE(InputC!J3:AZ3)","v":"Legacy Data Centers - High Cost"},null,null,null,null,null,null,null,"Crude oil, Dubai",null,null,null,null,null,null,{"$f":"'InputC-Electricity Drill Down'!C97","v":"MM Token per kW per Month - Prompt 1 - High token Case"}]
[null,null,null,null,null,null,"Legacy Data Centers - Low Cost",null,null,null,null,null,null,null,"Crude oil, WTI",null,null,null,null,null,null,{"$f":"'InputC-Electricity Drill Down'!C98","v":"MM Token per kW per Month - Prompt 2 - Low token Case 1"}]
[null,null,null,null,null,null,"Legacy Data Centers - Computer Room Air Conditioning",null,null,null,null,null,null,null,"Coal, Australian",null,null,null,null,null,null,{"$f":"'InputC-Electricity Drill Down'!C99","v":"MM Token per kW per Month - Prompt 2 - Low token Case 2"}]
[null,null,null,null,null,null,"Legacy Data Centers - Hot/Cold Aisle Containment",null,null,null,null,null,null,null,"Coal, South African **",null,null,null,null,null,null,{"$f":"'InputC-Electricity Drill Down'!C100","v":"MM Token per kW per Month - Prompt 3 -  Medium Token Case"}]
[null,null,null,null,null,null,"Legacy Data Centers - Chilled Water Central Loops",null,null,null,null,null,null,null,"Natural gas, US"]
[null,null,null,null,null,null,"Early AI Date Centers - High Cost",null,null,null,null,null,null,null,"Natural gas, Europe"]
[null,null,null,null,null,null,"Early AI Date Centers - Low Cost",null,null,null,null,null,null,null,"Liquefied natural gas, Japan"]
[null,null,null,null,null,null,"Early AI Date Centers - Single Phase Direct to Liquid Cooling",null,null,null,null,null,null,null,"Natural gas index",null,null,null,null,null,null,1]
[null,null,null,null,null,null,"Early AI Date Centers - Coolant Distribution Units",null,null,null,null,null,null,null,"Cocoa"]
[null,null,null,null,null,null,"Early AI Date Centers - Hybrid Air-Liquid Infrastructure",null,null,null,null,null,null,null,"Coffee, Arabica"]
[null,null,null,null,null,null,"Modern AI Factories - High Cost",null,null,null,null,null,null,null,"Coffee, Robusta"]
[null,null,null,null,null,null,"Modern AI Factories - Low Cost",null,null,null,null,null,null,null,"Tea, avg 3 auctions",null,null,null,null,null,null,{"$f":"IF($F$1,V15,V16)","v":"Legacy Data Center IRR"}]
[null,null,null,null,null,null,"Modern AI Factories - Single Phase Direct-to-Chip Liquid Cooling",null,null,null,null,null,null,null,"Tea, Colombo",null,null,null,null,null,null,"Legacy TCO - USD/MM Token"]
[null,null,null,null,null,null,"Modern AI Factories - Coolant Distribution Units (CDUs)",null,null,null,null,null,null,null,"Tea, Kolkata",null,null,null,null,null,null,"Legacy Data Center IRR"]
[null,null,null,null,null,null,"Modern AI Factories - Hybrid Air-Liquid Infrastructure",null,null,null,null,null,null,null,"Tea, Mombasa",null,null,null,null,null,null,"Legacy Data Center Price per kW-month"]
[null,null,null,null,null,null,"Next-Gen Superclusters - High Cost",null,null,null,null,null,null,null,"Coconut oil",null,null,null,null,null,null,"Legacy Data Center Price per GPU"]
[null,null,null,null,null,null,"Next-Gen Superclusters - Low Cost",null,null,null,null,null,null,null,"Groundnuts"]
[null,null,null,null,null,null,"Next-Gen Superclusters - Chiller-Less Dry Cooling",null,null,null,null,null,null,null,"Fish meal"]
[null,null,null,null,null,null,"Next-Gen Superclusters - High -Impedance Dielectric Coolants",null,null,null,null,null,null,null,"Groundnut oil **"]
[null,null,null,null,null,null,"Next-Gen Superclusters - AI-Driven Grid Balance Cooling",null,null,null,null,null,null,null,"Palm oil"]
[null,null,null,null,null,null,"Specialized Inference Farms - High Cost",null,null,null,null,null,null,null,"Palm kernel oil",null,null,null,null,null,null,3]
[null,null,null,null,null,null,"Specialized Inference Farms - Low Cost",null,null,null,null,null,null,null,"Soybeans"]
[null,null,null,null,null,null,"Specialized Inference Farms - Chassis-Level Immersion Cooling",null,null,null,null,null,null,null,"Soybean oil"]
[null,null,null,null,null,null,"Specialized Inference Farms - Open-Tank-Phase Immersion",null,null,null,null,null,null,null,"Soybean meal"]
[null,null,null,null,null,null,"Specialized Inference Farms - Liquid-to-Air (L2A) Sidecars",null,null,null,null,null,null,null,"Rapeseed oil"]
[null,null,null,null,null,null,"NVIDIA Hopper (H200) - High Cost",null,null,null,null,null,null,null,"Sunflower oil"]
[null,null,null,null,null,null,"NVIDIA Hopper (H200) - Low Cost",null,null,null,null,null,null,null,"Barley"]
[null,null,null,null,null,null,"NVIDIA Hopper (H200) - Hyrid Air",null,null,null,null,null,null,null,"Maize"]
[null,null,null,null,null,null,"NVIDIA Hopper (H200) - Fluid-Assisted",null,null,null,null,null,null,null,"Sorghum"]
[null,null,null,null,null,null,"NVIDIA Hopper (H200) - Single Phase Direct-to-Chip Liquid Cooling",null,null,null,null,null,null,null,"Rice, Thai 5% "]
[null,null,null,null,null,null,"NVIDIA Hopper (H200) - Double Phase Direct-to-Chip Liquid Cooling",null,null,null,null,null,null,null,"Rice, Thai 25% "]
[null,null,null,null,null,null,"NVIDIA Blackwell (GB300 / B300) - High  Cost",null,null,null,null,null,null,null,"Rice, Thai A.1"]
[null,null,null,null,null,null,"NVIDIA Blackwell (GB300 / B300) - Low Cost",null,null,null,null,null,null,null,"Rice, Viet Namese 5%"]
[null,null,null,null,null,null,"NVIDIA Blackwell (GB300 / B300) - 90% Direct-to-Chip Liquid",null,null,null,null,null,null,null,"Wheat, US SRW"]
[null,null,null,null,null,null,"NVIDIA Blackwell (GB300 / B300) - Single Phase Direct-to-Chip Liquid Cooling",null,null,null,null,null,null,null,"Wheat, US HRW"]
[null,null,null,null,null,null,"NVIDIA Blackwell (GB300 / B300) - Double Phase Direct-to-Chip Liquid Cooling",null,null,null,null,null,null,null,"Banana, Europe"]
[null,null,null,null,null,null,"NVIDIA Vera Rubin NVL72 - High Cost",null,null,null,null,null,null,null,"Banana, US"]
[null,null,null,null,null,null,"NVIDIA Vera Rubin NVL72 - Low Cost",null,null,null,null,null,null,null,"Orange"]
[null,null,null,null,null,null,"NVIDIA Vera Rubin NVL72 - 45 C Warm-Water Closed-Loop Liquid",null,null,null,null,null,null,null,"Beef **"]
[null,null,null,null,null,null,"NVIDIA Vera Rubin NVL72 - Single Phase Direct-to-Chip Liquid Cooling",null,null,null,null,null,null,null,"Chicken **"]
[null,null,null,null,null,null,"NVIDIA Vera Rubin NVL72 - Double Phase Direct-to-Chip Liquid Cooling",null,null,null,null,null,null,null,"Lamb **"]
[null,null,null,null,null,null,"NVIDA Vera Alternative  Scenario (Full Description Copied from ___)",null,null,null,null,null,null,null,"Shrimps, Mexican"]
[null,null,null,null,null,null,"NVIDA Blackwell Alternative  Scenario (Full Description Copied from ___)",null,null,null,null,null,null,null,"Sugar, EU"]
[null,null,null,null,null,null,null,null,null,null,null,null,null,null,"Sugar, US"]
[null,null,null,null,null,null,null,null,null,null,null,null,null,null,"Sugar, world"]
[null,null,null,null,null,null,null,null,null,null,null,null,null,null,"Tobacco, US import u.v."]
[null,null,null,null,null,null,null,null,null,null,null,null,null,null,"Logs, Cameroon"]
[null,null,null,null,null,null,null,null,null,null,null,null,null,null,"Logs, Malaysian"]
[null,null,null,null,null,null,null,null,null,null,null,null,null,null,"Sawnwood, Cameroon"]
[null,null,null,null,null,null,null,null,null,null,null,null,null,null,"Sawnwood, Malaysian"]
[null,null,null,null,null,null,null,null,null,null,null,null,null,null,"Plywood"]
[null,null,null,null,null,null,null,null,null,null,null,null,null,null,"Cotton, A Index"]
[null,null,null,null,null,null,null,null,null,null,null,null,null,null,"Rubber, TSR20 **"]
[null,null,null,null,null,null,null,null,null,null,null,null,null,null,"Rubber, RSS3"]
[null,null,null,null,null,null,null,null,null,null,null,null,null,null,"Phosphate rock"]
[null,null,null,null,null,null,null,null,null,null,null,null,null,null,"DAP"]
[null,null,null,null,null,null,null,null,null,null,null,null,null,null,"TSP"]
[null,null,null,null,null,null,null,null,null,null,null,null,null,null,"Urea "]
[null,null,null,null,null,null,null,null,null,null,null,null,null,null,"Potassium chloride **"]
[null,null,null,null,null,null,null,null,null,null,null,null,null,null,"Aluminum"]
[null,null,null,null,null,null,null,null,null,null,null,null,null,null,"Iron ore, cfr spot"]
[null,null,null,null,null,null,null,null,null,null,null,null,null,null,"Copper"]
[null,null,null,null,null,null,null,null,null,null,null,null,null,null,"Lead"]
[null,null,null,null,null,null,null,null,null,null,null,null,null,null,"Tin"]
[null,null,null,null,null,null,null,null,null,null,null,null,null,null,"Nickel"]
[null,null,null,null,null,null,null,null,null,null,null,null,null,null,"Zinc"]
[null,null,null,null,null,null,null,null,null,null,null,null,null,null,"Gold"]
[null,null,null,null,null,null,null,null,null,null,null,null,null,null,"Platinum"]
[null,null,null,null,null,null,null,null,null,null,null,null,null,null,"Silver"]

{"sheet":"Sheet1","index":23,"n_rows":42,"n_cols":14,"rows_kept":42,"cut":false,"hidden":false,"merged":[]}
["Category","Infrastructure Variant","Capacity (MM tokens / month / kW)","Assumed Cost ($/kW/mo)","Estimated Cost per MM Tokens","Target PUE","Supported GPUs per kW","Monthly GPU Amortization Cost per kW ($)","Total Active GPUs (per MW)","Monthly DC Facility Cost ($)","Monthly GPU Depreciation ($)","Total Monthly Run Rate (1 MW TCO)","Facility Price (USD / kW / month)","Commercial GPU Price per kW / Month ($)"]
["Legacy Data Centers","High Cost",3.51,180,{"$f":"D2/C2","v":51.282051282051285},2.1,0.68,283.33,680,180000,283330,463330,180,396.66]
["Legacy Data Centers","Low Cost",6.73,80,11.88707280832095,1.45,0.99,412.5,990,80000,412500,492500,80,577.5]
["Legacy Data Centers","Computer Room Air Conditioning",4.0999999999999996,160,39.024390243902445,1.8,0.79,329.17,790,160000,329170,489170,160,460.84]
["Legacy Data Centers","Hot/Cold Aisle Containment",4.91,140,28.513238289205702,1.6,0.89,370.83,890,140000,370830,510830,140,519.16]
["Legacy Data Centers","Chilled Water Central Loops",5.73,130,22.687609075043628,1.5,0.95,395.83,950,130000,395830,525830,130,554.16]
["Early AI Data Centers","High Cost",8.42,185,21.971496437054633,1.55,0.92,920,920,185000,920000,1105000,185,1288]
["Early AI Data Centers","Low Cost",16.149999999999999,85,5.2631578947368425,1.3,1.1000000000000001,1100,1100,85000,1100000,1185000,85,1540]
["Early AI Data Centers","Single Phase Direct to Liquid Cooling",20.2,120,5.9405940594059405,1.2,1.19,1190,1190,120000,1190000,1310000,120,1666]
["Early AI Data Centers","Coolant Distribution Units",18.52,125,6.7494600431965441,1.25,1.1399999999999999,1140,1140,125000,1140000,1265000,125,1596]
["Early AI Data Centers","Hybrid Air-Liquid Infrastructure",14.73,135,9.1649694501018324,1.35,1.06,1060,1060,135000,1060000,1195000,135,1484]
["Modern AI Factories","High Cost",18.72,190,10.149572649572651,1.4,1.02,1020,1020,190000,1020000,1210000,190,1428]
["Modern AI Factories","Low Cost",35.880000000000003,85,2.3690078037904123,1.18,1.21,1210,1210,85000,1210000,1295000,85,1694]
["Modern AI Factories","Single Phase Direct-to-Chip Liquid Cooling",44.88,115,2.5623885918003562,1.1499999999999999,1.24,1240,1240,115000,1240000,1355000,115,1736]
["Modern AI Factories","Coolant Distribution Units (CDUs)",41.14,120,2.9168692270296548,1.1599999999999999,1.23,1230,1230,120000,1230000,1350000,120,1722]
["Modern AI Factories","Hybrid Air-Liquid Infrastructure",32.729999999999997,130,3.971891231286282,1.25,1.1399999999999999,1140,1140,130000,1140000,1270000,130,1596]
["Next-Gen Superclusters","High Cost",46.8,200,4.2735042735042734,1.25,0.67,837.5,670,200000,837500,1037500,200,1172.5]
["Next-Gen Superclusters","Low Cost",89.7,90,1.0033444816053512,1.1000000000000001,0.76,950,760,90000,950000,1040000,90,1330]
["Next-Gen Superclusters","Chiller-Less Dry Cooling",98.67,100,1.0134792743488394,1.08,0.77,962.5,770,100000,962500,1062500,100,1347.5]
["Next-Gen Superclusters","High-Impedance Dielectric Coolants",112.13,110,0.98100419156336405,1.06,0.79,987.5,790,110000,987500,1097500,110,1382.5]
["Next-Gen Superclusters","AI-Driven Grid Balance Cooling",119.6,105,0.87792642140468236,1.05,0.79,987.5,790,105000,987500,1092500,105,1382.5]
["Specialized Inference Farms","High Cost",65.52,190,2.8998778998779002,1.2,0.83,576.39,830,190000,576390,766390,190,806.95]
["Specialized Inference Farms","Low Cost",125.58,85,0.67685937251154649,1.05,0.95,659.72,950,85000,659720,744720,85,923.61]
["Specialized Inference Farms","Chassis-Level Immersion Cooling",156.97999999999999,105,0.66887501592559562,1.03,0.97,673.61,970,105000,673610,778610,105,943.05]
["Specialized Inference Farms","Open-Tank-Phase Immersion",178.43,110,0.61648825870089108,1.02,0.98,680.56,980,110000,680560,790560,110,952.78]
["Specialized Inference Farms","Liquid-to-Air (L2A) Sidecars",131.04,115,0.8775946275946277,1.07,0.93,645.83000000000004,930,115000,645830,760830,115,904.16]
["NVIDIA Hopper (H200)","High Cost",31.2,190,6.0897435897435903,1.45,0.99,990,990,190000,990000,1180000,190,1386]
["NVIDIA Hopper (H200)","Low Cost",59.8,85,1.4214046822742477,1.2,1.19,1190,1190,85000,1190000,1275000,85,1666]
["NVIDIA Hopper (H200)","Hybrid Air",40.299999999999997,135,3.3498759305210921,1.35,1.06,1060,1060,135000,1060000,1195000,135,1484]
["NVIDIA Hopper (H200)","Fluid-Assisted",54.6,125,2.2893772893772892,1.25,1.1399999999999999,1140,1140,125000,1140000,1265000,125,1596]
["NVIDIA Hopper (H200)","Single Phase Direct-to-Chip Liquid Cooling",74.8,115,1.5374331550802141,1.1499999999999999,1.24,1240,1240,115000,1240000,1355000,115,1736]
["NVIDIA Hopper (H200)","Double Phase Direct-to-Chip Liquid Cooling",89.7,120,1.3377926421404682,1.1200000000000001,1.28,1280,1280,120000,1280000,1400000,120,1792]
["NVIDIA Blackwell (GB300 / B300)","High Cost",109.2,200,1.8315018315018314,1.35,0.62,775,620,200000,775000,975000,200,1085]
["NVIDIA Blackwell (GB300 / B300)","Low Cost",209.3,90,0.43000477783086477,1.1200000000000001,0.74,925,740,90000,925000,1015000,90,1295]
["NVIDIA Blackwell (GB300 / B300)","90% Direct-to-Chip Liquid",245.7,110,0.4477004477004477,1.1000000000000001,0.76,950,760,110000,950000,1060000,110,1330]
["NVIDIA Blackwell (GB300 / B300)","Single Phase Direct-to-Chip Liquid Cooling",261.8,115,0.43926661573720394,1.08,0.77,962.5,770,115000,962500,1077500,115,1347.5]
["NVIDIA Blackwell (GB300 / B300)","Double Phase Direct-to-Chip Liquid Cooling",313.95,120,0.38222646918299091,1.05,0.79,987.5,790,120000,987500,1107500,120,1382.5]
["NVIDIA Vera Rubin NVL72","High Cost",327.60000000000002,210,0.64102564102564097,1.3,0.43,716.38,430,210000,716380,926380,210,1002.93]
["NVIDIA Vera Rubin NVL72","Low Cost",627.9,95,0.15129797738493392,1.1000000000000001,0.51,849.66,510,95000,849660,944660,95,1189.52]
["NVIDIA Vera Rubin NVL72","45 C Warm-Water Closed-Loop Liquid",700.7,105,0.14985014985014983,1.06,0.52,866.32,520,105000,866320,971320,105,1212.8499999999999]
["NVIDIA Vera Rubin NVL72","Single Phase Direct-to-Chip Liquid Cooling",785.4,115,0.14642220524573465,1.05,0.53,882.98,530,115000,882980,997980,115,1236.17]
["NVIDIA Vera Rubin NVL72","Double Phase Direct-to-Chip Liquid Cooling",941.85,120,0.12740882306099696,1.03,0.54,899.64,540,120000,899640,1019640,120,1259.5]